{"text_format":"1","workbook":"xlsx","n_sheets":6,"sheets":["はじめ","フロー","使用方法","情報","マクロ ","score"],"not_rendered":{"charts":0,"images":91,"macros":1,"external_links":0,"defined_names":0,"comments":1,"pivot_tables":0},"unopened":[],"bounds":{"document_bytes":16777216,"sheet_cells":100000,"rows_first":2000,"rows_last":500,"rows_between":2000,"halvings":0,"cell_chars":16384,"cell_head_chars":4096},"cells_cut":0,"cells_raw":0,"read":"whole","date_system":"1900"}

{"sheet":"はじめ","index":0,"n_rows":0,"n_cols":0,"rows_kept":0,"cut":false,"hidden":false,"merged":[]}

{"sheet":"フロー","index":1,"n_rows":0,"n_cols":0,"rows_kept":0,"cut":false,"hidden":false,"merged":[]}

{"sheet":"使用方法","index":2,"n_rows":0,"n_cols":0,"rows_kept":0,"cut":false,"hidden":false,"merged":[]}

{"sheet":"情報","index":3,"n_rows":242,"n_cols":45,"rows_kept":242,"cut":false,"hidden":false,"merged":[[2,30,2,31],[40,2,40,3],[2,26,2,27],[25,6,25,7],[25,10,25,11],[25,14,25,15],[25,18,25,19],[25,22,25,23],[31,22,31,23],[2,2,2,3],[2,6,2,7],[2,10,2,11],[2,14,2,15],[2,18,2,19],[2,22,2,23]]}
[]
[]
[null,null,"チーム用",null,null,null,"1塁ベース用",null,null,null,"2，3塁ベース用",null,null,null,"本塁ベース用",null,null,null,"塁間用",null,null,null,"先発ポジション用",null,null,null,"スコア表示用",null,null,null,"打撃成績用",null,null,"回戦No",null,null,null,null,null,null,null,null,null,null,"PS"]
[null,null,"コード","チーム名","*",null,"記号","内　　容",null,null,"記号","内　　容",null,null,"記号","内　　容",null,null,"記号","内　　容",null,null,"記号","内　　容",null,null,"記号","内　　容",null,null,"記号","内　　容",null,"回戦"]
[null,null,"A",null,"A",null,"O","凡打",null,null,"①","一番",null,null,"①","一番",null,null,1,"投手",null,null,"投","投手",null,null,"*","プレイ",null,null,"1go","投ゴロ",null,"1回戦",null,null,null,null,null,null,null,null,null,null,"右"]
[null,null,"B",null,"B",null,"H","安打",null,null,"②","二番",null,null,"②","二番",null,null,2,"捕手",null,null,"捕","捕手",null,null,null,"無",null,null,"2go","補ゴロ",null,"2回戦",null,null,null,null,null,null,null,null,null,null,"左"]
[null,null,"C",null,"C",null,"G","犠打",null,null,"③","三番",null,null,"③","三番",null,null,3,"一塁",null,null,"一","一塁",null,null,null,null,null,null,"3go","一ゴロ",null,"3回戦",null,null,null,null,null,null,null,null,null,null,"両"]
[null,null,"D",null,"D",null,"K","見逃し三振",null,null,"④","四番",null,null,"④","四番",null,null,4,"二塁",null,null,"二","二塁",null,null,null,null,null,null,"4go","二ゴロ",null,"4回戦"]
[null,null,"E",null,"E",null,"K'","空振り三振",null,null,"⑤","五番",null,null,"⑤","五番",null,null,5,"三塁",null,null,"三","三塁",null,null,null,null,null,null,"5go","三ゴロ",null,"5回戦"]
[null,null,"F",null,"F",null,"B","四球",null,null,"⑥","六番",null,null,"⑥","六番",null,null,6,"遊撃手",null,null,"遊","遊撃",null,null,null,null,null,null,"6go","遊ゴロ",null,"6回戦"]
[null,null,"G",null,"G",null,"B'","死球",null,null,"⑦","七番",null,null,"⑦","七番",null,null,7,"レフト",null,null,"左","左翼",null,null,null,null,null,null,"1ao","投飛",null,"7回戦"]
[null,null,"H",null,"H",null,"E","失策出塁",null,null,"⑧","八番",null,null,"⑧","八番",null,null,8,"センター",null,null,"中","中翼",null,null,null,null,null,null,"2ao","補飛",null,"8回戦"]
[null,null,"I",null,"I",null,"W","併殺打",null,null,"⑨","九番",null,null,"⑨","九番",null,null,9,"ライト",null,null,"右","右翼",null,null,null,null,null,null,"3ao","一飛",null,"9回戦"]
[null,null,"J",null,"J",null,"KE","振り逃げ",null,null,"H2","二塁打",null,null,"S","盗塁",null,null,"A","フライ",null,null,"DH",null,null,null,null,null,null,null,"4ao","二飛",null,"10回戦"]
[null,null,"K",null,"K",null,"GF","犠牲飛球",null,null,"H3","三塁打",null,null,"S'","盗塁死",null,null,null,null,null,null,null,null,null,null,null,null,null,null,"5ao","三飛",null,"11回戦"]
[null,null,"L",null,"L",null,"DO","守備妨害",null,null,"S","盗塁",null,null,"S'","盗塁成功",null,null,null,null,null,null,"PH","代打",null,null,null,null,null,null,"6ao","遊飛",null,"12回戦"]
[null,null,"M",null,"M",null,"BD","打撃妨害",null,null,"S'","盗塁死",null,null,"OR","オーバーラン",null,null,null,null,null,null,"PR","代走",null,null,null,null,null,null,"7ao","左飛",null,"13回戦"]
[null,null,"N",null,"N",null,"H4","本塁打",null,null,"OR","オーバーラン",null,null,"CO","牽制アウト",null,null,null,null,null,null,"投2","中継2番手",null,null,null,null,null,null,"8ao","中飛",null,"決勝戦"]
[null,null,"O",null,"O",null,null,null,null,null,"CO","牽制アウト",null,null,"E'","敵失進塁",null,null,null,null,null,null,"投3","中継3番手",null,null,null,null,null,null,"9ao","右飛"]
[null,null,"P",null,"P",null,null,null,null,null,"E'","敵失進塁",null,null,"DO","守備妨害",null,null,null,null,null,null,null,null,null,null,null,null,null,null,"1gh","投内野安打"]
[null,null,"Q",null,"Q",null,null,null,null,null,"DO","守備妨害",null,null,"H4","本塁打",null,null,null,null,null,null,null,null,null,null,null,null,null,null,"2gh","補内野安打"]
[null,null,"R",null,"R",null,null,null,null,null,null,null,null,null,null,null,null,null,null,null,null,null,null,null,null,null,"点表",null,null,null,"3gh","一内野安打"]
[null,null,"S",null,"S",null,null,null,null,null,null,null,null,null,null,null,null,null,null,null,null,null,null,null,null,null,"✔",null,null,null,"4gh","二内野安打"]
[null,null,"T",null,"T",null,null,null,null,null,null,null,null,null,null,null,null,null,null,null,null,null,null,null,null,null,null,null,null,null,"5gh","三内野安打"]
[null,null,"U",null,"U",null,null,null,null,null,null,null,null,null,null,null,null,null,null,null,null,null,null,null,null,null,null,null,null,null,"6gh","遊内野安打"]
[null,null,"V",null,"V",null,"イニング結果用",null,null,null,"打点",null,null,null,"投球判定用",null,null,null,"投手順番用",null,null,null,"得点圏関連用",null,null,null,"球状",null,null,null,"7gh","ゴロ左安"]
[null,null,"W",null,"W",null,"記号","内　　容",null,null,"記号","内　　容",null,null,"記号","内　　容",null,null,"記号","内　　容",null,null,"記号","内　　容",null,null,"G",null,null,null,"7ah","飛左安"]
[null,null,"X",null,"X",null,"Ⅰ","1アウト",null,null,"◎","打点",null,null,"・●","ボール",null,null,"先","先発",null,null,"RZ","得点圏打席",null,null,"A",null,null,null,"8gh","ゴロ中安"]
[null,null,"Y",null,"Y",null,"Ⅱ","2アウト",null,null,null,null,null,null,"・〇","ストライク",null,null,2,"2番手",null,null,null,null,null,null,null,null,null,null,"8ah","飛中安"]
[null,null,"Z",null,"Z",null,"Ⅲ","3アウト",null,null,null,null,null,null,"・△","ファール",null,null,3,"3番手",null,null,"ZH","得点圏ヒット",null,null,null,null,null,null,"9gh","ゴロ右安"]
[null,null,"AA",null,"AA",null,"○","得点",null,null,null,null,null,null,"・□","空振り",null,null,4,"4番手",null,null,null,null,null,null,null,null,null,null,"9ah","飛右安"]
[null,null,"AB",null,"AB",null,"L","残塁",null,null,null,null,null,null,"・◎","ヒッティング",null,null,5,"5番手",null,null,"投手評価用",null,null,null,null,null,null,null,"7ah2","左2"]
[null,null,"AC",null,"AC",null,null,null,null,null,null,null,null,null,null,null,null,null,6,"6番手",null,null,"記号","内　　容",null,null,"PS",null,null,null,"8ah2","中2"]
[null,null,"AD",null,"AE",null,null,null,null,null,null,null,null,null,null,null,null,null,7,"７番手",null,null,"勝","勝利投手",null,null,"RR",null,null,null,"9ah2","右2"]
[null,null,"AE",null,"AE",null,null,null,null,null,null,null,null,null,null,null,null,null,null,null,null,null,"負","負投手",null,null,"RL",null,null,null,"7ah3","左3"]
[null,null,"AF",null,"AF",null,null,null,null,null,null,null,null,null,null,null,null,null,null,null,null,null,"分","引き分け",null,null,"LL",null,null,null,"8ah3","中3"]
[null,null,"AG",null,"AG",null,null,null,null,null,null,null,null,null,null,null,null,null,null,null,null,null,"H","ホールド",null,null,"LR",null,null,null,"9ah3","右3"]
[null,null,"AH",null,null,null,null,null,null,null,null,null,null,null,null,null,null,null,null,null,null,null,"S","セーブ",null,null,null,null,null,null,"7ah4","左本"]
[null,null,null,null,null,null,null,null,null,null,null,null,null,null,null,null,null,null,null,null,null,null,null,null,null,null,null,null,null,null,"8ah4","中本"]
[null,null,null,null,null,null,null,null,null,null,null,null,null,null,null,null,null,null,null,null,null,null,null,null,null,null,null,null,null,null,"9ah4","右本"]
[null,null,"球場用",null,null,"A",null,{"$f":"VLOOKUP(F41,$C$5:$D$38,2,FALSE)","v":0},null,"B",null,{"$f":"VLOOKUP(J41,$C$5:$D$38,2,FALSE)","v":0},null,"C",null,{"$f":"VLOOKUP(N41,$C$5:$D$38,2,FALSE)","v":0},null,"D",null,{"$f":"VLOOKUP(R41,$C$5:$D$38,2,FALSE)","v":0},null,"E",null,{"$f":"VLOOKUP(V41,$C$5:$D$38,2,FALSE)","v":0},null,"F",null,{"$f":"VLOOKUP(Z41,$C$5:$D$38,2,FALSE)","v":0},null,null,"K","見三振"]
[null,null,"コード","球場名",null,null,"背番","選手名","PS",null,"背番","選手名","PS",null,"背番","選手名","PS",null,"背番","選手名","PS",null,"背番","選手名","PS",null,"背番","選手名","PS",null,"K'","空三振"]
[null,null,null,null,null,null,null,null,null,{"$f":"G43","v":0},null,null,null,{"$f":"K43","v":0},null,null,null,{"$f":"O43","v":0},null,null,null,{"$f":"S43","v":0},null,null,null,null,null,null,null,null,"B","四球"]
[null,null,null,null,null,null,null,null,null,{"$f":"G44","v":0},null,null,null,{"$f":"K44","v":0},null,null,null,{"$f":"O44","v":0},null,null,null,0,null,null,null,null,null,null,null,null,"B'","死球"]
[null,null,null,null,null,null,null,null,null,0,null,null,null,0,null,null,null,0,null,null,null,0,null,null,null,null,null,null,null,null,"E","エラー出塁"]
[null,null,null,null,null,null,null,null,null,0,null,null,null,0,null,null,null,0,null,null,null,0,null,null,null,null,null,null,null,null,"e","エラー進塁"]
[null,null,null,null,null,null,null,null,null,0,null,null,null,0,null,null,null,0,null,null,null,0,null,null,null,null,null,null,null,null,"K'E","三振逃"]
[null,null,null,null,null,null,null,null,null,0,null,null,null,0,null,null,null,0,null,null,null,0,null,null,null,null,null,null,null,null,"W","併殺"]
[null,null,null,null,null,null,null,null,null,0,null,null,null,0,null,null,null,0,null,null,null,0,null,null,null,null,null,null,null,null,"1G","投犠"]
[null,null,null,null,null,null,null,null,null,0,null,null,null,0,null,null,null,0,null,null,null,0,null,null,null,null,null,null,null,null,"2G","補犠"]
[null,null,null,null,null,null,null,null,null,0,null,null,null,0,null,null,null,0,null,null,null,0,null,null,null,null,null,null,null,null,"3G","一犠"]
[null,null,null,null,null,null,null,null,null,0,null,null,null,0,null,null,null,0,null,null,null,0,null,null,null,null,null,null,null,null,"4G","二犠"]
[null,null,null,null,null,null,null,null,null,0,null,null,null,0,null,null,null,0,null,null,null,0,null,null,null,null,null,null,null,null,"5G","三犠"]
[null,null,null,null,null,null,null,null,null,0,null,null,null,0,null,null,null,0,null,null,null,0,null,null,null,null,null,null,null,null,"6G","遊犠"]
[null,null,null,null,null,null,null,null,null,0,null,null,null,0,null,null,null,0,null,null,null,0,null,null,null,null,null,null,null,null,"SB","セイフティーバンド"]
[null,null,null,null,null,null,null,null,null,0,null,null,null,0,null,null,null,0,null,null,null,0,null,null,null,null,null,null,null,null,"7gf","左犠飛"]
[null,null,null,null,null,null,null,null,null,0,null,null,null,0,null,null,null,0,null,null,null,0,null,null,null,null,null,null,null,null,"8gf","中犠飛"]
[null,null,null,null,null,null,null,null,null,0,null,null,null,0,null,null,null,0,null,null,null,0,null,null,null,null,null,null,null,null,"9gf","右犠飛"]
[null,null,null,null,null,null,null,null,null,0,null,null,null,0,null,null,null,0,null,null,null,0]
[null,null,null,null,null,null,null,null,null,0,null,null,null,0,null,null,null,0,null,null,null,0]
[null,null,null,null,null,null,null,null,null,0,null,null,null,0,null,null,null,0,null,null,null,0]
[null,null,null,null,null,null,null,null,null,0,null,null,null,0,null,null,null,0,null,null,null,0]
[null,null,null,null,null,null,null,null,null,0,null,null,null,0,null,null,null,0,null,null,null,0]
[null,null,null,null,null,null,null,null,null,0,null,null,null,0,null,null,null,0,null,null,null,0]
[null,null,null,null,null,null,null,null,null,0,null,null,null,0,null,null,null,0,null,null,null,0]
[null,null,null,null,null,null,null,null,null,0,null,null,null,0,null,null,null,0,null,null,null,0]
[null,null,null,null,null,null,null,null,null,0,null,null,null,0,null,null,null,0,null,null,null,0]
[null,null,null,null,null,null,null,null,null,0,null,null,null,0,null,null,null,0,null,null,null,0]
[null,null,null,null,null,null,null,null,null,0,null,null,null,0,null,null,null,0,null,null,null,0]
[null,null,null,null,null,null,null,null,null,0,null,null,null,0,null,null,null,0,null,null,null,0]
[null,null,null,null,null,null,null,null,null,0,null,null,null,0,null,null,null,0]
[null,null,null,null,null,null,null,null,null,0,null,null,null,0]
[null,null,null,null,null,null,null,null,null,0,null,null,null,0]
[null,null,null,null,null,null,null,null,null,0,null,null,null,0]
[null,null,null,null,null,null,null,null,null,0,null,null,null,0]
[null,null,null,null,null,null,null,null,null,0,null,null,null,0]
[null,null,null,null,null,null,null,null,null,0,null,null,null,0]
[null,null,null,null,null,null,null,null,null,0,null,null,null,0]
[null,null,null,null,null,null,null,null,null,0,null,null,null,0]
[]
[null,null,null,null,null,"G",null,{"$f":"VLOOKUP(F81,$C$5:$D$38,2,FALSE)","v":0},null,"H",null,{"$f":"VLOOKUP(J81,$C$5:$D$38,2,FALSE)","v":0},null,"I",null,{"$f":"VLOOKUP(N81,$C$5:$D$38,2,FALSE)","v":0},null,"J",null,{"$f":"VLOOKUP(R81,$C$5:$D$38,2,FALSE)","v":0},null,"K",null,{"$f":"VLOOKUP(V81,$C$5:$D$38,2,FALSE)","v":0},null,"L",null,{"$f":"VLOOKUP(Z81,$C$5:$D$38,2,FALSE)","v":0}]
[null,null,null,null,null,null,"背番","選手名","PS",null,"背番","選手名","PS",null,"背番","選手名","PS",null,"背番","選手名","PS",null,"背番","選手名","PS",null,"背番","選手名","PS"]
[]
[]
[]
[]
[]
[]
[]
[]
[]
[]
[]
[]
[]
[]
[]
[]
[]
[]
[]
[]
[]
[]
[]
[]
[]
[]
[]
[]
[]
[]
[]
[]
[]
[]
[]
[]
[]
[]
[null,null,null,null,null,"M",null,null,null,"N",null,null,null,"O",null,null,null,"P",null,null,null,"Q",null,null,null,"R"]
[null,null,null,null,null,null,"背番","選手名","PS",null,"背番","選手名","PS",null,"背番","選手名","PS",null,"背番","選手名","PS",null,"背番","選手名","PS",null,"背番","選手名","PS"]
[]
[]
[]
[]
[]
[]
[]
[]
[]
[]
[]
[]
[]
[]
[]
[]
[]
[]
[]
[]
[]
[]
[]
[]
[]
[]
[]
[]
[]
[]
[]
[]
[]
[]
[]
[]
[]
[]
[null,null,null,null,null,"S",null,{"$f":"VLOOKUP(F161,$C$5:$D$38,2,FALSE)","v":0},null,"T",null,{"$f":"VLOOKUP(J161,$C$5:$D$38,2,FALSE)","v":0},null,"U",null,{"$f":"VLOOKUP(N161,$C$5:$D$38,2,FALSE)","v":0},null,"V",null,{"$f":"VLOOKUP(R161,$C$5:$D$38,2,FALSE)","v":0},null,"W",null,{"$f":"VLOOKUP(V161,$C$5:$D$38,2,FALSE)","v":0},null,"X",null,{"$f":"VLOOKUP(Z161,$C$5:$D$38,2,FALSE)","v":0}]
[null,null,null,null,null,null,"背番","選手名","PS",null,"背番","選手名","PS",null,"背番","選手名","PS",null,"背番","選手名","PS",null,"背番","選手名","PS",null,"背番","選手名","PS"]
[]
[]
[]
[]
[]
[]
[]
[]
[]
[]
[]
[]
[]
[]
[]
[]
[]
[]
[]
[]
[]
[]
[]
[]
[]
[]
[]
[]
[]
[]
[]
[]
[]
[]
[]
[]
[]
[]
[null,null,null,null,null,"Y",null,{"$f":"VLOOKUP(F201,$C$5:$D$38,2,FALSE)","v":0},null,"Z",null,{"$f":"VLOOKUP(J201,$C$5:$D$38,2,FALSE)","v":0},null,"AA",null,{"$f":"VLOOKUP(N201,$C$5:$D$38,2,FALSE)","v":0},null,"AB",null,{"$f":"VLOOKUP(R201,$C$5:$D$38,2,FALSE)","v":0},null,"AC",null,{"$f":"VLOOKUP(V201,$C$5:$D$38,2,FALSE)","v":0},null,"AD",null,{"$f":"VLOOKUP(Z201,$C$5:$D$38,2,FALSE)","v":0}]
[null,null,null,null,null,null,"背番","選手名","PS",null,"背番","選手名","PS",null,"背番","選手名","PS",null,"背番","選手名","PS",null,"背番","選手名","PS",null,"背番","選手名","PS"]
[]
[]
[]
[]
[]
[]
[]
[]
[]
[]
[]
[]
[]
[]
[]
[]
[]
[]
[]
[]
[]
[]
[]
[]
[]
[]
[]
[]
[]
[]
[]
[]
[]
[]
[]
[]
[]
[]
[null,null,null,null,null,"AE",null,{"$f":"VLOOKUP(F241,$C$5:$D$38,2,FALSE)","v":0}]
[null,null,null,null,null,null,"背番","選手名","PS"]

{"sheet":"マクロ ","index":4,"n_rows":42,"n_cols":5,"rows_kept":42,"cut":false,"hidden":false,"merged":[[9,1,9,2],[9,3,9,4]]}
[]
[]
[]
[]
[]
[]
[]
[]
[]
[null,"先攻チーム",null,"後攻チーム"]
[null,"ボタン","チーム名","ボタン","チーム名"]
[null,null,"日本",null,"日本"]
[null,null,"アメリカ",null,"アメリカ"]
[null,null,{"$f":"IF(情報!D7=\"\",\"\",情報!D7)","v":""},null,{"$f":"IF(情報!D7=\"\",\"\",情報!D7)","v":""}]
[null,null,{"$f":"IF(情報!D8=\"\",\"\",情報!D8)","v":""},null,{"$f":"IF(情報!D8=\"\",\"\",情報!D8)","v":""}]
[null,null,{"$f":"IF(情報!D9=\"\",\"\",情報!D9)","v":""},null,{"$f":"IF(情報!D9=\"\",\"\",情報!D9)","v":""}]
[null,null,{"$f":"IF(情報!D10=\"\",\"\",情報!D10)","v":""},null,{"$f":"IF(情報!D10=\"\",\"\",情報!D10)","v":""}]
[null,null,{"$f":"IF(情報!D11=\"\",\"\",情報!D11)","v":""},null,{"$f":"IF(情報!D11=\"\",\"\",情報!D11)","v":""}]
[null,null,{"$f":"IF(情報!D12=\"\",\"\",情報!D12)","v":""},null,{"$f":"IF(情報!D12=\"\",\"\",情報!D12)","v":""}]
[null,null,{"$f":"IF(情報!D13=\"\",\"\",情報!D13)","v":""},null,{"$f":"IF(情報!D13=\"\",\"\",情報!D13)","v":""}]
[null,null,{"$f":"IF(情報!D14=\"\",\"\",情報!D14)","v":""},null,{"$f":"IF(情報!D14=\"\",\"\",情報!D14)","v":""}]
[null,null,{"$f":"IF(情報!D15=\"\",\"\",情報!D15)","v":""},null,{"$f":"IF(情報!D15=\"\",\"\",情報!D15)","v":""}]
[null,null,{"$f":"IF(情報!D16=\"\",\"\",情報!D16)","v":""},null,{"$f":"IF(情報!D16=\"\",\"\",情報!D16)","v":""}]
[null,null,{"$f":"IF(情報!D17=\"\",\"\",情報!D17)","v":""},null,{"$f":"IF(情報!D17=\"\",\"\",情報!D17)","v":""}]
[null,null,{"$f":"IF(情報!D18=\"\",\"\",情報!D18)","v":""},null,{"$f":"IF(情報!D18=\"\",\"\",情報!D18)","v":""}]
[null,null,{"$f":"IF(情報!D19=\"\",\"\",情報!D19)","v":""},null,{"$f":"IF(情報!D19=\"\",\"\",情報!D19)","v":""}]
[null,null,{"$f":"IF(情報!D20=\"\",\"\",情報!D20)","v":""},null,{"$f":"IF(情報!D20=\"\",\"\",情報!D20)","v":""}]
[null,null,{"$f":"IF(情報!D21=\"\",\"\",情報!D21)","v":""},null,{"$f":"IF(情報!D21=\"\",\"\",情報!D21)","v":""}]
[null,null,{"$f":"IF(情報!D22=\"\",\"\",情報!D22)","v":""},null,{"$f":"IF(情報!D22=\"\",\"\",情報!D22)","v":""}]
[null,null,{"$f":"IF(情報!D23=\"\",\"\",情報!D23)","v":""},null,{"$f":"IF(情報!D23=\"\",\"\",情報!D23)","v":""}]
[null,null,{"$f":"IF(情報!D24=\"\",\"\",情報!D24)","v":""},null,{"$f":"IF(情報!D24=\"\",\"\",情報!D24)","v":""}]
[null,null,{"$f":"IF(情報!D25=\"\",\"\",情報!D25)","v":""},null,{"$f":"IF(情報!D25=\"\",\"\",情報!D25)","v":""}]
[null,null,{"$f":"IF(情報!D26=\"\",\"\",情報!D26)","v":""},null,{"$f":"IF(情報!D26=\"\",\"\",情報!D26)","v":""}]
[null,null,{"$f":"IF(情報!D27=\"\",\"\",情報!D27)","v":""},null,{"$f":"IF(情報!D27=\"\",\"\",情報!D27)","v":""}]
[null,null,{"$f":"IF(情報!D28=\"\",\"\",情報!D28)","v":""},null,{"$f":"IF(情報!D28=\"\",\"\",情報!D28)","v":""}]
[null,null,{"$f":"IF(情報!D29=\"\",\"\",情報!D29)","v":""},null,{"$f":"IF(情報!D29=\"\",\"\",情報!D29)","v":""}]
[null,null,{"$f":"IF(情報!D30=\"\",\"\",情報!D30)","v":""},null,{"$f":"IF(情報!D30=\"\",\"\",情報!D30)","v":""}]
[null,null,{"$f":"IF(情報!D31=\"\",\"\",情報!D31)","v":""},null,{"$f":"IF(情報!D31=\"\",\"\",情報!D31)","v":""}]
[null,null,{"$f":"IF(情報!D32=\"\",\"\",情報!D32)","v":""},null,{"$f":"IF(情報!D32=\"\",\"\",情報!D32)","v":""}]
[null,null,{"$f":"IF(情報!D33=\"\",\"\",情報!D33)","v":""},null,{"$f":"IF(情報!D33=\"\",\"\",情報!D33)","v":""}]
[null,null,{"$f":"IF(情報!D34=\"\",\"\",情報!D34)","v":""},null,{"$f":"IF(情報!D34=\"\",\"\",情報!D34)","v":""}]
[null,null,{"$f":"IF(情報!D35=\"\",\"\",情報!D35)","v":""},null,{"$f":"IF(情報!D35=\"\",\"\",情報!D35)","v":""}]

{"sheet":"score","index":5,"n_rows":123,"n_cols":236,"rows_kept":123,"cut":false,"hidden":false,"merged":[[106,12,110,12],[106,94,106,98],[107,94,107,98],[108,94,108,98],[61,9,61,12],[61,13,61,17],[1,9,1,13],[66,9,66,13],[64,9,64,12],[109,94,109,98],[110,94,110,98],[103,94,103,98],[104,94,104,98],[105,94,105,98],[87,94,87,98],[88,12,92,12],[88,94,88,98],[89,94,89,98],[68,94,68,98],[68,43,68,47],[68,48,68,52],[68,53,68,57],[67,10,68,10],[61,18,61,22],[105,144,106,144],[105,145,106,145],[68,18,68,22],[62,9,62,12],[62,13,62,17],[62,18,62,22],[63,18,63,22],[102,125,102,128],[91,119,92,119],[91,120,92,120],[91,121,92,121],[91,117,92,117],[91,118,92,118],[91,111,92,111],[91,112,92,112],[91,113,92,113],[91,114,92,115],[91,122,92,122],[91,123,92,123],[105,109,106,109],[105,110,106,110],[105,111,106,111],[91,126,92,126],[67,11,68,11],[67,12,68,12],[68,13,68,17],[62,43,62,47],[62,48,62,52],[62,53,62,57],[63,43,63,47],[63,48,63,52],[62,23,62,27],[62,28,62,32],[62,33,62,37],[68,23,68,27],[61,23,61,27],[61,28,61,32],[61,33,61,37],[61,38,61,42],[61,43,61,47],[61,48,61,52],[63,23,63,27],[63,28,63,32],[63,33,63,37],[63,38,63,42],[62,38,62,42],[1,1,1,5],[2,1,3,1],[2,2,3,2],[2,3,3,3],[2,4,3,4],[2,5,3,5],[2,6,3,6],[63,9,63,12],[63,13,63,17],[59,1,59,2],[59,10,59,17],[15,2,15,5],[16,2,17,2],[16,3,17,3],[16,4,17,4],[16,5,17,5],[5,12,9,12],[17,12,21,12],[11,12,15,12],[2,8,3,8],[2,9,3,9],[2,10,3,10],[2,11,3,11],[2,12,3,12],[117,94,117,98],[118,12,122,12],[118,94,118,98],[119,94,119,98],[120,94,120,98],[121,94,121,98],[122,94,122,98],[111,94,111,98],[112,12,116,12],[112,94,112,98],[113,94,113,98],[114,94,114,98],[115,94,115,98],[116,94,116,98],[66,1,66,5],[90,3,90,5],[90,94,90,98],[91,2,92,2],[91,3,92,3],[91,4,92,4],[91,5,92,5],[91,94,91,98],[67,1,68,1],[67,2,68,2],[67,3,68,3],[67,4,68,4],[67,5,68,5],[67,6,68,6],[67,8,68,8],[67,9,68,9],[70,12,74,12],[80,2,80,5],[81,2,82,2],[81,3,82,3],[81,4,82,4],[81,5,82,5],[82,12,86,12],[76,12,80,12],[105,113,106,113],[102,109,102,111],[105,114,106,114],[69,107,77,107],[75,94,75,98],[78,107,86,107],[99,94,99,98],[93,94,93,98],[98,114,98,115],[70,94,70,98],[71,94,71,98],[72,94,72,98],[73,94,73,98],[74,94,74,98],[69,106,77,106],[78,106,86,106],[69,94,69,98],[80,94,80,98],[81,94,81,98],[82,94,82,98],[83,94,83,98],[76,94,76,98],[77,94,77,98],[78,94,78,98],[89,176,89,178],[89,170,89,172],[89,173,89,175],[99,114,99,115],[100,12,104,12],[100,94,100,98],[100,114,100,115],[101,94,101,98],[102,94,102,98],[102,114,102,115],[94,12,98,12],[94,94,94,98],[94,114,94,115],[95,94,95,98],[95,114,95,115],[96,94,96,98],[96,114,96,115],[97,94,97,98],[97,114,97,115],[98,94,98,98],[92,94,92,98],[91,124,92,124],[91,125,92,125],[91,116,92,116],[79,94,79,98],[84,94,84,98],[85,94,85,98],[86,94,86,98],[68,28,68,32],[68,33,68,37],[68,38,68,42],[68,58,68,62],[68,63,68,67],[68,68,68,72],[63,63,63,67],[63,68,63,72],[63,53,63,57],[67,176,67,178],[61,63,61,67],[61,68,61,72],[61,73,61,77],[61,58,61,62],[67,173,67,175],[67,170,67,172],[61,53,61,57],[63,73,63,77],[62,58,62,62],[62,63,62,67],[62,68,62,72],[62,73,62,77],[63,58,63,62],[59,22,59,29],[59,31,59,34],[59,35,59,37],[52,94,52,98],[53,12,57,12],[53,94,53,98],[54,94,54,98],[55,94,55,98],[56,94,56,98],[57,94,57,98],[59,39,59,42],[59,58,59,60],[59,43,59,45],[59,19,59,21],[40,94,40,98],[40,109,41,109],[40,110,41,110],[40,111,41,111],[40,112,41,112],[40,113,41,113],[46,94,46,98],[47,12,51,12],[47,94,47,98],[48,94,48,98],[49,94,49,98],[50,94,50,98],[51,94,51,98],[41,12,45,12],[41,94,41,98],[42,94,42,98],[43,94,43,98],[44,94,44,98],[45,94,45,98],[34,94,34,98],[35,12,39,12],[35,94,35,98],[36,94,36,98],[37,94,37,98],[37,114,37,115],[29,12,33,12],[29,94,29,98],[30,94,30,98],[31,94,31,98],[32,94,32,98],[33,94,33,98],[38,94,38,98],[39,94,39,98],[26,123,27,123],[26,124,27,124],[26,125,27,125],[27,94,27,98],[26,126,27,126],[26,127,27,127],[26,116,27,116],[26,117,27,117],[26,118,27,118],[26,119,27,119],[26,120,27,120],[26,121,27,121],[26,2,27,2],[26,3,27,3],[26,4,27,4],[26,5,27,5],[26,94,26,98],[26,109,27,109],[26,110,27,110],[23,12,27,12],[26,122,27,122],[24,176,24,178],[5,94,5,98],[6,94,6,98],[7,94,7,98],[8,94,8,98],[9,94,9,98],[4,106,12,106],[13,106,21,106],[25,3,25,5],[25,94,25,98],[15,94,15,98],[16,94,16,98],[17,94,17,98],[18,94,18,98],[11,94,11,98],[12,94,12,98],[13,94,13,98],[4,94,4,98],[10,94,10,98],[2,176,2,178],[3,13,3,17],[3,18,3,22],[3,23,3,27],[3,28,3,32],[3,33,3,37],[3,38,3,42],[3,58,3,62],[3,63,3,67],[3,68,3,72],[3,94,3,98],[3,43,3,47],[3,48,3,52],[3,53,3,57],[2,173,2,175],[2,170,2,172],[88,168,88,169],[116,109,116,111],[51,109,51,111],[26,108,27,108],[40,108,41,108],[91,108,92,108],[105,108,106,108],[93,114,93,115],[37,125,37,128],[37,129,37,130],[40,114,41,114],[40,143,41,143],[40,166,40,167],[41,166,41,167],[105,143,106,143],[103,124,103,125],[40,144,41,144],[40,145,41,145],[91,109,92,109],[91,110,92,110],[102,129,102,130],[26,111,27,111],[26,112,27,112],[105,112,106,112],[2,228,3,228],[2,229,3,229],[61,230,61,234],[62,230,62,234],[63,230,63,234],[67,228,68,228],[67,229,68,229],[13,198,13,199],[22,94,22,98],[13,107,21,107],[14,94,14,98],[19,94,19,98],[20,94,20,98],[21,94,21,98],[4,107,12,107],[28,94,28,98],[23,94,23,98],[24,94,24,98],[26,114,27,114],[26,115,27,115],[24,170,24,172],[24,173,24,175],[26,113,27,113],[23,168,23,169]]}
[]
[null,"先発オーダー",null,null,null,null,"代",null,null,"先攻チーム→",null,null,null,null,null,null,null,null,null,null,null,{"$f":"IFERROR(VLOOKUP(O2,情報!D5:E39,2,FALSE),\"\")","v":""},"←チーム番号",null,null,null,null,null,null,null,null,null,null,null,null,null,null,null,null,null,null,null,null,null,null,null,null,null,null,null,null,null,null,null,null,null,null,null,null,null,null,null,null,null,null,null,null,null,null,null,null,null,null,null,null,null,null,null,null,null,null,null,null,null,null,null,null,null,null,null,null,null,null,null,null,null,null,null,null,null,null,null,null,null,null,null,null,null,null,null,null,null,null,null,null,null,null,null,null,null,null,null,null,null,null,null,null,null,null,null,null,null,null,null,null,null,null,null,null,null,null,null,null,null,null,null,"投手PS別打撃結果表",null,null,null,null,null,null,null,null,null,null,null,null,null,null,null,null,null,null,null,null,null,null,null,null,null,null,null,null,null,null,null,null,null,null,null,null,null,null,null,null,null,null,null,null,null,null,null,null,null,null,null,null,null,null,null,null,null,null,null,null,null,null,null,null,null,null,null,null,null,null,null,null,null,null,null,null,null,null,null,null,null,"打者打撃内訳"]
[null,"打　順","守備位置","選手名","PS","背番号","背番号",null,"守備位置","選手名","投手順","背番号","打順",null,null,null,null,null,null,null,null,null,null,null,null,null,null,null,null,null,null,null,null,null,null,null,null,null,null,null,null,null,null,null,null,null,null,null,null,null,null,null,null,null,null,null,null,null,null,null,null,null,null,null,null,null,null,null,null,null,null,null,null,null,null,null,"O","H","H2","H3","H4","◎","○","K*","B","B'","G","GF","S","S'","W","E","・*",null,null,null,null,null,null,null,null,"打球方向",null,null,null,null,null,null,null,null,"本試合打撃成績一覧",null,null,null,null,null,null,null,null,null,null,null,null,null,null,null,null,null,null,null,null,null,null,"得点圏時打撃",null,null,null,null,"得点圏時打撃一覧",null,null,null,null,null,null,null,null,null,null,"O","H","H2","H3","H4","◎","○","K","B","B'","G","GF","S","S'","W","E","・*",null,null,"打球方向集計表",null,"右",null,null,"中",null,null,"左",null,null,null,null,null,null,null,"↓本試合投手成績表",null,null,null,null,null,null,null,null,null,null,null,null,null,null,null,null,null,"↓本試合投手成績表",null,null,null,null,null,null,null,null,null,null,null,null,null,null,"↓試合結果表",null,null,null,null,null,null,null,null,null,null,"選手名","背番号","・*","*●*","*〇*","*△*","*□*","*◎*"]
[null,null,null,null,null,null,null,null,null,null,null,null,null,1,null,null,null,null,{"$f":"N4+1","v":2},null,null,null,null,{"$f":"S4+1","v":3},null,null,null,null,{"$f":"X4+1","v":4},null,null,null,null,{"$f":"AC4+1","v":5},null,null,null,null,{"$f":"AH4+1","v":6},null,null,null,null,{"$f":"AM4+1","v":7},null,null,null,null,{"$f":"AR4+1","v":8},null,null,null,null,{"$f":"AW4+1","v":9},null,null,null,null,{"$f":"BB4+1","v":10},null,null,null,null,{"$f":"BG4+1","v":11},null,null,null,null,{"$f":"BL4+1","v":12},null,null,null,null,"PS","打席","打数","凡打","安打","二打","三打","本打","打点","得点","三振","四球","死球","犠打","犠飛","盗塁","盗死","併殺","敵失","投数","投分","打撃内容",null,null,null,null,"球状","PS","打背","球向","守背","投分",null,null,null,"T番","選手名","背番","打席","打数","凡打","安打","二打","三打","本打","打点","得点","三振","四球","死球","犠打","犠飛","盗塁","盗死","併殺","敵失","投数",null,null,"背番","選手名","打数","安打",null,"PS","選手名","背番","打数","安打",null,"T番","選手名","背番","PS","打席","打数","凡打","安打","二打","三打","本打","打点","得点","三振","四球","死球","犠打","犠飛","盗塁","盗死","併殺","敵失","投数",null,"T番","選手名","背番","一","二","右","捕","投","中","三","遊","左",null,null,null,null,"番号","選手名","背番","投順","O数","投回","被本","被安","四死","伐振","与盗","与点","自点","投数","試数","勝負","対戦相手",null,"番号","チーム名","O数","投回","被本","被安","四死","伐振","与盗","与点","自点","投数","試数","勝負","対戦相手",null,"回戦","試合日","球場名","先攻チーム","得点","与点","勝敗","対戦チーム",null,null,null,null,null,"投数","B","S","F","空振","打撃"]
[null,"①",null,null,{"$f":"IF(D5=\"\",\"\",VLOOKUP(D5,$D$29:$F$58,2,FALSE))","v":""},{"$f":"IF(D5=\"\",\"\",VLOOKUP(D5,$D$29:$F$58,3,FALSE))","v":""},null,null,null,null,null,null,"打者背番号を入力➡",null,{"$f":"N5","v":0},{"$f":"O5","v":0},0,0,null,{"$f":"S5","v":0},{"$f":"S5","v":0},{"$f":"S5","v":0},{"$f":"S5","v":0},null,{"$f":"X5","v":0},{"$f":"X5","v":0},{"$f":"X5","v":0},{"$f":"X5","v":0},null,{"$f":"AC5","v":0},{"$f":"AC5","v":0},{"$f":"AC5","v":0},{"$f":"AC5","v":0},null,{"$f":"AH5","v":0},{"$f":"AH5","v":0},{"$f":"AH5","v":0},{"$f":"AH5","v":0},null,{"$f":"AM5","v":0},{"$f":"AM5","v":0},{"$f":"AM5","v":0},{"$f":"AM5","v":0},null,{"$f":"AR5","v":0},{"$f":"AR5","v":0},{"$f":"AR5","v":0},{"$f":"AR5","v":0},null,{"$f":"AW5","v":0},{"$f":"AW5","v":0},{"$f":"AW5","v":0},{"$f":"AW5","v":0},null,{"$f":"BB5","v":0},{"$f":"BB5","v":0},{"$f":"BB5","v":0},{"$f":"BB5","v":0},null,{"$f":"BG5","v":0},{"$f":"BG5","v":0},{"$f":"BG5","v":0},{"$f":"BG5","v":0},null,{"$f":"BL5","v":0},{"$f":"BL5","v":0},{"$f":"BL5","v":0},{"$f":"BL5","v":0},null,{"$f":"BQ5","v":0},{"$f":"BQ5","v":0},{"$f":"BQ5","v":0},{"$f":"BQ5","v":0},null,null,null,null,null,null,null,null,null,null,null,null,null,null,null,null,null,null,null,null,null,null,null,null,null,null,null,null,null,null,null,null,null,"先　　発",null,{"$f":"IF(DF5=\"\",\"\",$V$2)","v":""},{"$f":"IFERROR(VLOOKUP(DG5,$C$29:$D$58,2,FALSE),\"\")","v":""},{"$f":"IF(F5=\"\",\"\",F5)","v":""},{"$f":"IF(DF5=\"\",\"\",SUMIFS($BW$6:$BW$58,$J$6:$J$58,DF5))","v":""},{"$f":"IF(DF5=\"\",\"\",SUMIFS($BX$6:$BX$58,$J$6:$J$58,DF5))","v":""},{"$f":"IF(DF5=\"\",\"\",SUMIFS($BY$6:$BY$58,$J$6:$J$58,DF5))","v":""},{"$f":"IF(DF5=\"\",\"\",SUMIFS($BZ$6:$BZ$58,$J$6:$J$58,DF5))","v":""},{"$f":"IF(DF5=\"\",\"\",SUMIFS($CA$6:$CA$58,$J$6:$J$58,DF5))","v":""},{"$f":"IF(DF5=\"\",\"\",SUMIFS($CB$6:$CB$58,$J$6:$J$58,DF5))","v":""},{"$f":"IF(DF5=\"\",\"\",SUMIFS($CC$6:$CC$58,$J$6:$J$58,DF5))","v":""},{"$f":"IF(DF5=\"\",\"\",SUMIFS($CD$6:$CD$58,$J$6:$J$58,DF5))","v":""},{"$f":"IF(DF5=\"\",\"\",SUMIFS($CE$6:$CE$58,$J$6:$J$58,DF5))","v":""},{"$f":"IF(DF5=\"\",\"\",SUMIFS($CF$6:$CF$58,$J$6:$J$58,DF5))","v":""},{"$f":"IF(DF5=\"\",\"\",SUMIFS($CG$6:$CG$58,$J$6:$J$58,DF5))","v":""},{"$f":"IF(DF5=\"\",\"\",SUMIFS($CH$6:$CH$58,$J$6:$J$58,DF5))","v":""},{"$f":"IF(DF5=\"\",\"\",SUMIFS($CI$6:$CI$58,$J$6:$J$58,DF5))","v":""},{"$f":"IF(DF5=\"\",\"\",SUMIFS($CJ$6:$CJ$58,$J$6:$J$58,DF5))","v":""},{"$f":"IF(DF5=\"\",\"\",SUMIFS($CK$6:$CK$58,$J$6:$J$58,DF5))","v":""},{"$f":"IF(DF5=\"\",\"\",SUMIFS($CL$6:$CL$58,$J$6:$J$58,DF5))","v":""},{"$f":"IF(DF5=\"\",\"\",SUMIFS($CM$6:$CM$58,$J$6:$J$58,DF5))","v":""},{"$f":"IF(DF5=\"\",\"\",SUMIFS($CN$6:$CN$58,$J$6:$J$58,DF5))","v":""},{"$f":"IF(DY5=\"\",\"\",SUMIFS($CO$6:$CO$58,$J$6:$J$58,DF5))","v":""},null,null,null,null,null,null,null,"右",{"$f":"IF(DF5=\"\",\"\",DF5)","v":""},{"$f":"IF(DF5=\"\",\"\",DG5)","v":""},{"$f":"IF(EI5=\"\",\"\",SUMIFS($EE$6:$EE$58,$EB$6:$EB$58,EH5,$ED$6:$ED$58,EI5))","v":""},{"$f":"IF(EI5=\"\",\"\",SUMIFS($EF$6:$EF$58,$EB$6:$EB$58,EH5,$ED$6:$ED$58,EI5))","v":""},null,{"$f":"IF(EO5=\"\",\"\",$V$2)","v":""},{"$f":"IFERROR(VLOOKUP(EP5,$C$29:$D$58,2,FALSE),\"\")","v":""},{"$f":"IF(F5=\"\",\"\",F5)","v":""},"右",{"$f":"IF(EO5=\"\",\"\",SUMIFS($BW$6:$BW$58,$J$6:$J$58,EO5,$BV$6:$BV$58,EQ5))","v":""},{"$f":"IF(EO5=\"\",\"\",SUMIFS($BX$6:$BX$58,$J$6:$J$58,EO5,$BV$6:$BV$58,EQ5))","v":""},{"$f":"IF(EO5=\"\",\"\",SUMIFS($BY$6:$BY$58,$J$6:$J$58,EO5,$BV$6:$BV$58,EQ5))","v":""},{"$f":"IF(EO5=\"\",\"\",SUMIFS($BZ$6:$BZ$58,$J$6:$J$58,EO5,$BV$6:$BV$58,EQ5))","v":""},{"$f":"IF(EO5=\"\",\"\",SUMIFS($CA$6:$CA$58,$J$6:$J$58,EO5,$BV$6:$BV$58,EQ5))","v":""},{"$f":"IF(EO5=\"\",\"\",SUMIFS($CB$6:$CB$58,$J$6:$J$58,EO5,$BV$6:$BV$58,EQ5))","v":""},{"$f":"IF(EO5=\"\",\"\",SUMIFS($CC$6:$CC$58,$J$6:$J$58,EO5,$BV$6:$BV$58,EQ5))","v":""},{"$f":"IF(EO5=\"\",\"\",SUMIFS($CD$6:$CD$58,$J$6:$J$58,EO5,$BV$6:$BV$58,EQ5))","v":""},{"$f":"IF(EO5=\"\",\"\",SUMIFS($CE$6:$CE$58,$J$6:$J$58,EO5,$BV$6:$BV$58,EQ5))","v":""},{"$f":"IF(EO5=\"\",\"\",SUMIFS($CF$6:$CF$58,$J$6:$J$58,EO5,$BV$6:$BV$58,EQ5))","v":""},{"$f":"IF(EO5=\"\",\"\",SUMIFS($CG$6:$CG$58,$J$6:$J$58,EO5,$BV$6:$BV$58,EQ5))","v":""},{"$f":"IF(EO5=\"\",\"\",SUMIFS($CH$6:$CH$58,$J$6:$J$58,EO5,$BV$6:$BV$58,EQ5))","v":""},{"$f":"IF(EO5=\"\",\"\",SUMIFS($CI$6:$CI$58,$J$6:$J$58,EO5,$BV$6:$BV$58,EQ5))","v":""},{"$f":"IF(EO5=\"\",\"\",SUMIFS($CJ$6:$CJ$58,$J$6:$J$58,EO5,$BV$6:$BV$58,EQ5))","v":""},{"$f":"IF(EO5=\"\",\"\",SUMIFS($CK$6:$CK$58,$J$6:$J$58,EO5,$BV$6:$BV$58,EQ5))","v":""},{"$f":"IF(EO5=\"\",\"\",SUMIFS($CL$6:$CL$58,$J$6:$J$58,EO5,$BV$6:$BV$58,EQ5))","v":""},{"$f":"IF(EO5=\"\",\"\",SUMIFS($CM$6:$CM$58,$J$6:$J$58,EO5,$BV$6:$BV$58,EQ5))","v":""},{"$f":"IF(EO5=\"\",\"\",SUMIFS($CN$6:$CN$58,$J$6:$J$58,EO5,$BV$6:$BV$58,EQ5))","v":""},{"$f":"IF(EO5=\"\",\"\",SUMIFS($CO$6:$CO$58,$J$6:$J$58,EO5,$BV$6:$BV$58,EQ5))","v":""},null,{"$f":"IF(FM5=\"\",\"\",$V$2)","v":""},{"$f":"IF(DF5=\"\",\"\",DF5)","v":""},{"$f":"IF(DG5=\"\",\"\",DG5)","v":""},{"$f":"IF(FN5=\"\",\"\",COUNTIFS($CX$6:$CX$58,FN5,$CY$6:$CY$58,$FO$4))","v":""},{"$f":"IF(FN5=\"\",\"\",COUNTIFS($CX$6:$CX$58,FN5,$CY$6:$CY$58,$FP$4))","v":""},{"$f":"IF(FN5=\"\",\"\",COUNTIFS($CX$6:$CX$58,FN5,$CY$6:$CY$58,$FQ$4))","v":""},{"$f":"IF(FN5=\"\",\"\",COUNTIFS($CX$6:$CX$58,FN5,$CY$6:$CY$58,$FR$4))","v":""},{"$f":"IF(FN5=\"\",\"\",COUNTIFS($CX$6:$CX$58,FN5,$CY$6:$CY$58,$FS$4))","v":""},{"$f":"IF(FN5=\"\",\"\",COUNTIFS($CX$6:$CX$58,FN5,$CY$6:$CY$58,$FT$4))","v":""},{"$f":"IF(FN5=\"\",\"\",COUNTIFS($CX$6:$CX$58,FN5,$CY$6:$CY$58,$FU$4))","v":""},{"$f":"IF(FN5=\"\",\"\",COUNTIFS($CX$6:$CX$58,FN5,$CY$6:$CY$58,$FV$4))","v":""},{"$f":"IF(FN5=\"\",\"\",COUNTIFS($CX$6:$CX$58,FN5,$CY$6:$CY$58,$FW$4))","v":""},null,null,null,null,{"$f":"V2","v":""},{"$f":"IF(D19=\"\",\"\",D19)","v":""},{"$f":"IF(F19=\"\",\"\",F19)","v":""},{"$f":"IF($GB$5=\"\",\"\",C19)","v":""},{"$f":"IF(GC5=\"\",\"\",SUMIF($K$71:$K$123,GE5,$BY$71:$BY$123)+SUMIF($K$71:$K$123,GE5,$CF$71:$CF$123)+SUMIF($K$71:$K$123,GE5,$CI$71:$CI$123)+SUMIF($K$71:$K$123,GE5,$CL$71:$CL$123)+(SUMIF($K$71:$K$123,GE5,$CM$71:$CM$123))*2)","v":""},{"$f":"IF(GC5=\"\",\"\",GF5/3)","v":""},{"$f":"IF(GC5=\"\",\"\",SUMIF($K$71:$K$123,GE5,$CC$71:$CC$123))","v":""},{"$f":"IF(GC5=\"\",\"\",SUMIF($K$71:$K$123,GE5,$BZ$71:$BZ$123)+SUMIF($K$71:$K$123,GE5,$CA$71:$CA$123)+SUMIF($K$71:$K$123,GE5,$CB$71:$CB$123)+SUMIF($K$71:$K$123,GE5,$CC$71:$CC$123))","v":""},{"$f":"IF(GC5=\"\",\"\",SUMIF($K$71:$K$123,GE5,$CG$71:$CG$123)+SUMIF($K$71:$K$123,GE5,$CH$71:$CH$123))","v":""},{"$f":"IF(GC5=\"\",\"\",SUMIF($K$71:$K$123,GE5,$CF$71:$CF$123))","v":""},{"$f":"IF(GC5=\"\",\"\",SUMIF($K$71:$K$123,GE5,$CK$71:$CK$123))","v":""},{"$f":"IF(GC5=\"\",\"\",SUMIF($K$71:$K$123,GE5,$CE$71:$CE$123))","v":""},null,{"$f":"IF(GC5=\"\",\"\",SUMIF($K$71:$K$123,GE5,$CO$71:$CO$123))","v":""},null,null,{"$f":"IF(GC5=\"\",\"\",$O$67)","v":""},null,{"$f":"IF(V2=\"\",\"\",V2)","v":""},{"$f":"IF(O2=\"\",\"\",O2)","v":""},{"$f":"IF(GU5=\"\",\"\",SUM(GF5:GF10))","v":""},{"$f":"IF(GU5=\"\",\"\",SUM(GG5:GG10))","v":""},{"$f":"IF(GU5=\"\",\"\",SUM(GH5:GH10))","v":""},{"$f":"IF(GU5=\"\",\"\",SUM(GI5:GI10))","v":""},{"$f":"IF(GU5=\"\",\"\",SUM(GJ5:GJ10))","v":""},{"$f":"IF(GU5=\"\",\"\",SUM(GK5:GK10))","v":""},{"$f":"IF(GU5=\"\",\"\",SUM(GL5:GL10))","v":""},{"$f":"IF(GU5=\"\",\"\",SUM(GM5:GM10))","v":""},null,{"$f":"IF(GU5=\"\",\"\",SUM(GO5:GO10))","v":""},{"$f":"IF(GU5=\"\",\"\",1)","v":""},"負",{"$f":"IF(GU5=\"\",\"\",O67)","v":""},null,{"$f":"IF($D$60=\"\",\"\",$D$60)","v":""},{"$f":"IF($K$60=\"\",\"\",$K$60)","v":""},{"$f":"IF($W$60=\"\",\"\",$W$60)","v":""},{"$f":"IF($O$2=\"\",\"\",$O$2)","v":""},{"$f":"IF(DP24=\"\",\"\",DP24)","v":""},{"$f":"IF(DP89=\"\",\"\",DP89)","v":""},{"$f":"IF(HM5=\"\",\"\",IF(HN5>HO5,\"勝\",IF(HN5<HQ5,\"負\",\"分\")))","v":""},{"$f":"IF($O$67=\"\",\"\",$O$67)","v":""}]
[null,"②",null,null,{"$f":"IF(D6=\"\",\"\",VLOOKUP(D6,$D$29:$F$58,2,FALSE))","v":""},{"$f":"IF(D6=\"\",\"\",VLOOKUP(D6,$D$29:$F$58,3,FALSE))","v":""},null,null,{"$f":"IF(C5=\"\",\"\",C5)","v":""},{"$f":"IF(D5=\"\",\"\",D5)","v":""},{"$f":"IF(J6=\"\",\"\",\"先\")","v":""},{"$f":"IF(J6=\"\",\"\",F5)","v":""},"①",null,null,null,null,null,null,null,null,null,null,null,null,null,null,null,null,null,null,null,null,null,null,null,null,null,null,null,null,null,null,null,null,null,null,null,null,null,null,null,null,null,null,null,null,null,null,null,null,null,null,null,null,null,null,null,null,null,null,null,null,{"$f":"IF(K6=\"\",\"\",VLOOKUP(K6,$C$84:$E$90,3,FALSE))","v":""},{"$f":"IF(L6=\"\",\"\",(BX6+CG6+CH6+CI6))","v":""},{"$f":"IF(L6=\"\",\"\",(BY6+BZ6+CA6+CB6+CC6+CF6+CJ6+CM6+CN6))","v":""},{"$f":"IF(L6=\"\",\"\",COUNTIFS($N$5:$BU$5,L6,$N$10:$BU$10,$BY$3))","v":""},{"$f":"IF(L6=\"\",\"\",COUNTIFS($N$5:$BU$5,L6,$N$10:$BU$10,$BZ$3))","v":""},{"$f":"IF(L6=\"\",\"\",COUNTIFS($N$5:$BU$5,L6,$N$8:$BU$8,$CA$3))","v":""},{"$f":"IF(L6=\"\",\"\",COUNTIFS($N$5:$BU$5,L6,$N$8:$BU$8,$CB$3))","v":""},{"$f":"IF(L6=\"\",\"\",COUNTIFS($N$5:$BU$5,L6,$N$10:$BU$10,$CC$3))","v":""},{"$f":"IF(L6=\"\",\"\",COUNTIFS($N$5:$BU$5,L6,$N$8:$BU$8,$CD$3)+COUNTIFS($N$5:$BU$5,L6,$N$9:$BU$9,$CD$3)+COUNTIFS($N$5:$BU$5,L6,$N$10:$BU$10,$CD$3))","v":""},{"$f":"IF(L6=\"\",\"\",COUNTIFS($N$5:$BU$5,L6,$N$9:$BU$9,$CE$3))","v":""},{"$f":"IF(L6=\"\",\"\",COUNTIFS($N$5:$BU$5,L6,$N$10:$BU$10,$CF$3))","v":""},{"$f":"IF(L6=\"\",\"\",COUNTIFS($N$5:$BU$5,L6,$N$10:$BU$10,$CG$3))","v":""},{"$f":"IF(L6=\"\",\"\",COUNTIFS($N$5:$BU$5,L6,$N$10:$BU$10,$CH$3))","v":""},{"$f":"IF(L6=\"\",\"\",COUNTIFS($N$5:$BU$5,L6,$N$10:$BU$10,$CI$3))","v":""},{"$f":"IF(L6=\"\",\"\",COUNTIFS($N$5:$BU$5,L6,$N$10:$BU$10,$CJ$3))","v":""},{"$f":"IF(L6=\"\",\"\",COUNTIFS($N$5:$BU$5,L6,$N$8:$BU$8,$CK$3)+COUNTIFS($N$5:$BU$5,L6,$N$10:$BU$10,$CK$3))","v":""},{"$f":"IF(L6=\"\",\"\",COUNTIFS($N$5:$BU$5,L6,$N$8:$BU$8,$CL$3)+COUNTIFS($N$5:$BU$5,L6,$N$10:$BU$10,$CL$3))","v":""},{"$f":"IF(L6=\"\",\"\",COUNTIFS($N$5:$BU$5,L6,$N$10:$BU$10,$CM$3))","v":""},{"$f":"IF(L6=\"\",\"\",COUNTIFS($N$5:$BU$5,L6,$N$10:$BU$10,$CN$3))","v":""},{"$f":"IF(L6=\"\",\"\",COUNTIFS($N$5:$BU$5,L6,$N$6:$BU$6,$CO$3)+COUNTIFS($N$5:$BU$5,L6,$N$7:$BU$7,$CO$3))","v":""},null,null,null,null,null,null,null,{"$f":"IF(DA6=\"\",\"\",VLOOKUP(DA6,$C$84:$E$90,3,FALSE))","v":""},null,null,{"$f":"IF(CY6=\"\",\"\",VLOOKUP(CY6,$C$70:$F$78,4,FALSE))","v":""},null,null,null,null,{"$f":"IF(DF6=\"\",\"\",$V$2)","v":""},{"$f":"IFERROR(VLOOKUP(DG6,$C$29:$D$58,2,FALSE),\"\")","v":""},{"$f":"IF(F6=\"\",\"\",F6)","v":""},{"$f":"IF(DF6=\"\",\"\",SUMIFS($BW$6:$BW$58,$J$6:$J$58,DF6))","v":""},{"$f":"IF(DF6=\"\",\"\",SUMIFS($BX$6:$BX$58,$J$6:$J$58,DF6))","v":""},{"$f":"IF(DF6=\"\",\"\",SUMIFS($BY$6:$BY$58,$J$6:$J$58,DF6))","v":""},{"$f":"IF(DF6=\"\",\"\",SUMIFS($BZ$6:$BZ$58,$J$6:$J$58,DF6))","v":""},{"$f":"IF(DF6=\"\",\"\",SUMIFS($CA$6:$CA$58,$J$6:$J$58,DF6))","v":""},{"$f":"IF(DF6=\"\",\"\",SUMIFS($CB$6:$CB$58,$J$6:$J$58,DF6))","v":""},{"$f":"IF(DF6=\"\",\"\",SUMIFS($CC$6:$CC$58,$J$6:$J$58,DF6))","v":""},{"$f":"IF(DF6=\"\",\"\",SUMIFS($CD$6:$CD$58,$J$6:$J$58,DF6))","v":""},{"$f":"IF(DF6=\"\",\"\",SUMIFS($CE$6:$CE$58,$J$6:$J$58,DF6))","v":""},{"$f":"IF(DF6=\"\",\"\",SUMIFS($CF$6:$CF$58,$J$6:$J$58,DF6))","v":""},{"$f":"IF(DF6=\"\",\"\",SUMIFS($CG$6:$CG$58,$J$6:$J$58,DF6))","v":""},{"$f":"IF(DF6=\"\",\"\",SUMIFS($CH$6:$CH$58,$J$6:$J$58,DF6))","v":""},{"$f":"IF(DF6=\"\",\"\",SUMIFS($CI$6:$CI$58,$J$6:$J$58,DF6))","v":""},{"$f":"IF(DF6=\"\",\"\",SUMIFS($CJ$6:$CJ$58,$J$6:$J$58,DF6))","v":""},{"$f":"IF(DF6=\"\",\"\",SUMIFS($CK$6:$CK$58,$J$6:$J$58,DF6))","v":""},{"$f":"IF(DF6=\"\",\"\",SUMIFS($CL$6:$CL$58,$J$6:$J$58,DF6))","v":""},{"$f":"IF(DF6=\"\",\"\",SUMIFS($CM$6:$CM$58,$J$6:$J$58,DF6))","v":""},{"$f":"IF(DF6=\"\",\"\",SUMIFS($CN$6:$CN$58,$J$6:$J$58,DF6))","v":""},{"$f":"IF(DY6=\"\",\"\",SUMIFS($CO$6:$CO$58,$J$6:$J$58,DF6))","v":""},null,{"$f":"IF($E$84=\"\",\"\",$E$84)","v":""},{"$f":"IF(L6=\"\",\"\",L6)","v":""},{"$f":"IF(EC6=\"\",\"\",VLOOKUP(EC6,$C$29:$D$58,2,FALSE))","v":""},{"$f":"IF(EC6=\"\",\"\",COUNTIFS(N5:BU5,EC6,N10:BU10,\"RZ\"))","v":""},{"$f":"IF(ED6=\"\",\"\",COUNTIFS($N$5:$BU$5,EC6,$N$9:$BU$9,\"ZH\"))","v":""},null,"左",{"$f":"IF(DF5=\"\",\"\",DF5)","v":""},{"$f":"EJ5","v":""},{"$f":"IF(EI6=\"\",\"\",SUMIFS($EE$6:$EE$58,$EB$6:$EB$58,EH6,$ED$6:$ED$58,EI6))","v":""},{"$f":"IF(EI6=\"\",\"\",SUMIFS($EF$6:$EF$58,$EB$6:$EB$58,EH6,$ED$6:$ED$58,EI6))","v":""},null,{"$f":"IF(EO6=\"\",\"\",$V$2)","v":""},{"$f":"IFERROR(VLOOKUP(EP6,$C$29:$D$58,2,FALSE),\"\")","v":""},{"$f":"IF(F5=\"\",\"\",F5)","v":""},"左",{"$f":"IF(EO6=\"\",\"\",SUMIFS($BW$6:$BW$58,$J$6:$J$58,EO6,$BV$6:$BV$58,EQ6))","v":""},{"$f":"IF(EO6=\"\",\"\",SUMIFS($BX$6:$BX$58,$J$6:$J$58,EO6,$BV$6:$BV$58,EQ6))","v":""},{"$f":"IF(EO6=\"\",\"\",SUMIFS($BY$6:$BY$58,$J$6:$J$58,EO6,$BV$6:$BV$58,EQ6))","v":""},{"$f":"IF(EO6=\"\",\"\",SUMIFS($BZ$6:$BZ$58,$J$6:$J$58,EO6,$BV$6:$BV$58,EQ6))","v":""},{"$f":"IF(EO6=\"\",\"\",SUMIFS($CA$6:$CA$58,$J$6:$J$58,EO6,$BV$6:$BV$58,EQ6))","v":""},{"$f":"IF(EO6=\"\",\"\",SUMIFS($CB$6:$CB$58,$J$6:$J$58,EO6,$BV$6:$BV$58,EQ6))","v":""},{"$f":"IF(EO6=\"\",\"\",SUMIFS($CC$6:$CC$58,$J$6:$J$58,EO6,$BV$6:$BV$58,EQ6))","v":""},{"$f":"IF(EO6=\"\",\"\",SUMIFS($CD$6:$CD$58,$J$6:$J$58,EO6,$BV$6:$BV$58,EQ6))","v":""},{"$f":"IF(EO6=\"\",\"\",SUMIFS($CE$6:$CE$58,$J$6:$J$58,EO6,$BV$6:$BV$58,EQ6))","v":""},{"$f":"IF(EO6=\"\",\"\",SUMIFS($CF$6:$CF$58,$J$6:$J$58,EO6,$BV$6:$BV$58,EQ6))","v":""},{"$f":"IF(EO6=\"\",\"\",SUMIFS($CG$6:$CG$58,$J$6:$J$58,EO6,$BV$6:$BV$58,EQ6))","v":""},{"$f":"IF(EO6=\"\",\"\",SUMIFS($CH$6:$CH$58,$J$6:$J$58,EO6,$BV$6:$BV$58,EQ6))","v":""},{"$f":"IF(EO6=\"\",\"\",SUMIFS($CI$6:$CI$58,$J$6:$J$58,EO6,$BV$6:$BV$58,EQ6))","v":""},{"$f":"IF(EO6=\"\",\"\",SUMIFS($CJ$6:$CJ$58,$J$6:$J$58,EO6,$BV$6:$BV$58,EQ6))","v":""},{"$f":"IF(EO6=\"\",\"\",SUMIFS($CK$6:$CK$58,$J$6:$J$58,EO6,$BV$6:$BV$58,EQ6))","v":""},{"$f":"IF(EO6=\"\",\"\",SUMIFS($CL$6:$CL$58,$J$6:$J$58,EO6,$BV$6:$BV$58,EQ6))","v":""},{"$f":"IF(EO6=\"\",\"\",SUMIFS($CM$6:$CM$58,$J$6:$J$58,EO6,$BV$6:$BV$58,EQ6))","v":""},{"$f":"IF(EO6=\"\",\"\",SUMIFS($CN$6:$CN$58,$J$6:$J$58,EO6,$BV$6:$BV$58,EQ6))","v":""},{"$f":"IF(EO6=\"\",\"\",SUMIFS($CO$6:$CO$58,$J$6:$J$58,EO6,$BV$6:$BV$58,EQ6))","v":""},null,{"$f":"IF(FM6=\"\",\"\",$V$2)","v":""},{"$f":"IF(DF6=\"\",\"\",DF6)","v":""},"",{"$f":"IF(FN6=\"\",\"\",COUNTIFS($CX$6:$CX$58,FN6,$CY$6:$CY$58,$FO$4))","v":""},{"$f":"IF(FN6=\"\",\"\",COUNTIFS($CX$6:$CX$58,FN6,$CY$6:$CY$58,$FP$4))","v":""},{"$f":"IF(FN6=\"\",\"\",COUNTIFS($CX$6:$CX$58,FN6,$CY$6:$CY$58,$FQ$4))","v":""},{"$f":"IF(FN6=\"\",\"\",COUNTIFS($CX$6:$CX$58,FN6,$CY$6:$CY$58,$FR$4))","v":""},{"$f":"IF(FN6=\"\",\"\",COUNTIFS($CX$6:$CX$58,FN6,$CY$6:$CY$58,$FS$4))","v":""},{"$f":"IF(FN6=\"\",\"\",COUNTIFS($CX$6:$CX$58,FN6,$CY$6:$CY$58,$FT$4))","v":""},{"$f":"IF(FN6=\"\",\"\",COUNTIFS($CX$6:$CX$58,FN6,$CY$6:$CY$58,$FU$4))","v":""},{"$f":"IF(FN6=\"\",\"\",COUNTIFS($CX$6:$CX$58,FN6,$CY$6:$CY$58,$FV$4))","v":""},{"$f":"IF(FN6=\"\",\"\",COUNTIFS($CX$6:$CX$58,FN6,$CY$6:$CY$58,$FW$4))","v":""},null,null,null,null,null,{"$f":"IF(D20=\"\",\"\",D20)","v":""},{"$f":"IF(F20=\"\",\"\",F20)","v":""},{"$f":"IF($GB$5=\"\",\"\",C20)","v":""},{"$f":"IF(GC6=\"\",\"\",SUMIF($K$71:$K$123,GE6,$BY$71:$BY$123)+SUMIF($K$71:$K$123,GE6,$CF$71:$CF$123)+SUMIF($K$71:$K$123,GE6,$CI$71:$CI$123)+SUMIF($K$71:$K$123,GE6,$CL$71:$CL$123)+(SUMIF($K$71:$K$123,GE6,$CM$71:$CM$123))*2)","v":""},{"$f":"IF(GC6=\"\",\"\",GF6/3)","v":""},{"$f":"IF(GC6=\"\",\"\",SUMIF($K$71:$K$123,GE6,$CC$71:$CC$123))","v":""},{"$f":"IF(GC6=\"\",\"\",SUMIF($K$71:$K$123,GE6,$BZ$71:$BZ$123)+SUMIF($K$71:$K$123,GE6,$CA$71:$CA$123)+SUMIF($K$71:$K$123,GE6,$CB$71:$CB$123)+SUMIF($K$71:$K$123,GE6,$CC$71:$CC$123))","v":""},{"$f":"IF(GC6=\"\",\"\",SUMIF($K$71:$K$123,GE6,$CG$71:$CG$123)+SUMIF($K$71:$K$123,GE6,$CH$71:$CH$123))","v":""},{"$f":"IF(GC6=\"\",\"\",SUMIF($K$71:$K$123,GE6,$CF$71:$CF$123))","v":""},{"$f":"IF(GC6=\"\",\"\",SUMIF($K$71:$K$123,GE6,$CK$71:$CK$123))","v":""},{"$f":"IF(GC6=\"\",\"\",SUMIF($K$71:$K$123,GE6,$CE$71:$CE$123))","v":""},null,{"$f":"IF(GC6=\"\",\"\",SUMIF($K$71:$K$123,GE6,$CO$71:$CO$123))","v":""},null,null,{"$f":"IF(GC6=\"\",\"\",$O$67)","v":""},null,null,null,null,null,null,null,null,null,null,null,null,null,null,null,null,null,null,null,null,null,null,null,null,null,null,null,null,{"$f":"IF(J6=\"\",\"\",J6)","v":""},{"$f":"IF(L6=\"\",\"\",L6)","v":""},{"$f":"IF(HU6=\"\",\"\",COUNTIFS($N$5:$BU$5,HV6,$N$6:BU$6,HW$3)+COUNTIFS($N$5:$BU$5,HV6,$N$7:$BU$7,$HW$3))","v":""},{"$f":"IF(HU6=\"\",\"\",COUNTIFS($N$5:$BU$5,HV6,$N$6:$BU$6,$HX$3)+COUNTIFS($N$5:$BU$5,HV6,$N$7:$BU$7,$HX$3))","v":""},{"$f":"IF(HU6=\"\",\"\",COUNTIFS($N$5:$BU$5,HV6,$N$6:$BU$6,$HY$3)+COUNTIFS($N$5:$BU$5,HV6,$N$7:$BU$7,$HY$3))","v":""},{"$f":"IF(HU6=\"\",\"\",COUNTIFS($N$5:$BU$5,HV6,$N$6:$BU$6,$HZ$3)+COUNTIFS($N$5:$BU$5,HV6,$N$7:$BU$7,$HZ$3))","v":""},{"$f":"IF(HU6=\"\",\"\",COUNTIFS($N$5:$BU$5,HV6,$N$6:$BU$6,$IA$3)+COUNTIFS($N$5:$BU$5,HV6,$N$7:$BU$7,$IA$3))","v":""},{"$f":"IF(HU6=\"\",\"\",COUNTIFS($N$5:$BU$5,HV6,$N$6:$BU$6,$IB$3)+COUNTIFS($N$5:$BU$5,HV6,$N$7:$BU$7,$IB$3))","v":""}]
[null,"③",null,null,"","",null,null,null,null,null,null,null,null,null,null,null,null,null,null,null,null,null,null,null,null,null,null,null,null,null,null,null,null,null,null,null,null,null,null,null,null,null,null,null,null,null,null,null,null,null,null,null,null,null,null,null,null,null,null,null,null,null,null,null,null,null,null,null,null,null,null,null,{"$f":"IF(K7=\"\",\"\",VLOOKUP(K7,$C$84:$E$90,3,FALSE))","v":""},{"$f":"IF(L7=\"\",\"\",(BX7+CG7+CH7+CI7))","v":""},{"$f":"IF(L7=\"\",\"\",(BY7+BZ7+CA7+CB7+CC7+CF7+CJ7+CM7+CN7))","v":""},{"$f":"IF(L7=\"\",\"\",COUNTIFS($N$5:$BU$5,L7,$N$10:$BU$10,$BY$3))","v":""},{"$f":"IF(L7=\"\",\"\",COUNTIFS($N$5:$BU$5,L7,$N$10:$BU$10,$BZ$3))","v":""},{"$f":"IF(L7=\"\",\"\",COUNTIFS($N$5:$BU$5,L7,$N$8:$BU$8,$CA$3))","v":""},{"$f":"IF(L7=\"\",\"\",COUNTIFS($N$5:$BU$5,L7,$N$8:$BU$8,$CB$3))","v":""},{"$f":"IF(L7=\"\",\"\",COUNTIFS($N$5:$BU$5,L7,$N$10:$BU$10,$CC$3))","v":""},{"$f":"IF(L7=\"\",\"\",COUNTIFS($N$5:$BU$5,L7,$N$8:$BU$8,$CD$3)+COUNTIFS($N$5:$BU$5,L7,$N$9:$BU$9,$CD$3)+COUNTIFS($N$5:$BU$5,L7,$N$10:$BU$10,$CD$3))","v":""},{"$f":"IF(L7=\"\",\"\",COUNTIFS($N$5:$BU$5,L7,$N$9:$BU$9,$CE$3))","v":""},{"$f":"IF(L7=\"\",\"\",COUNTIFS($N$5:$BU$5,L7,$N$10:$BU$10,$CF$3))","v":""},{"$f":"IF(L7=\"\",\"\",COUNTIFS($N$5:$BU$5,L7,$N$10:$BU$10,$CG$3))","v":""},{"$f":"IF(L7=\"\",\"\",COUNTIFS($N$5:$BU$5,L7,$N$10:$BU$10,$CH$3))","v":""},{"$f":"IF(L7=\"\",\"\",COUNTIFS($N$5:$BU$5,L7,$N$10:$BU$10,$CI$3))","v":""},{"$f":"IF(L7=\"\",\"\",COUNTIFS($N$5:$BU$5,L7,$N$10:$BU$10,$CJ$3))","v":""},{"$f":"IF(L7=\"\",\"\",COUNTIFS($N$5:$BU$5,L7,$N$8:$BU$8,$CK$3)+COUNTIFS($N$5:$BU$5,L7,$N$10:$BU$10,$CK$3))","v":""},{"$f":"IF(L7=\"\",\"\",COUNTIFS($N$5:$BU$5,L7,$N$8:$BU$8,$CL$3)+COUNTIFS($N$5:$BU$5,L7,$N$10:$BU$10,$CL$3))","v":""},{"$f":"IF(L7=\"\",\"\",COUNTIFS($N$5:$BU$5,L7,$N$10:$BU$10,$CM$3))","v":""},{"$f":"IF(L7=\"\",\"\",COUNTIFS($N$5:$BU$5,L7,$N$10:$BU$10,$CN$3))","v":""},{"$f":"IF(L7=\"\",\"\",COUNTIFS($N$5:$BU$5,L7,$N$6:$BU$6,$CO$3)+COUNTIFS($N$5:$BU$5,L7,$N$7:$BU$7,$CO$3))","v":""},null,null,null,null,null,null,null,{"$f":"IF(DA7=\"\",\"\",VLOOKUP(DA7,$C$84:$E$90,3,FALSE))","v":""},null,null,{"$f":"IF(CY7=\"\",\"\",VLOOKUP(CY7,$C$70:$F$78,4,FALSE))","v":""},null,null,null,null,"","","","","","","","","","","","","","","","","","","","","","",null,{"$f":"IF($E$85=\"\",\"\",$E$85)","v":""},{"$f":"IF(L7=\"\",\"\",L7)","v":""},null,{"$f":"IF(EC7=\"\",\"\",COUNTIFS($N$5:$BU$5,EC7,$N$10:$BU$10,\"RZ\"))","v":""},{"$f":"IF(ED7=\"\",\"\",COUNTIFS($N$5:$BU$5,EC7,$N$9:$BU$9,\"ZH\"))","v":""},null,"右",{"$f":"IF(DF6=\"\",\"\",DF6)","v":""},{"$f":"IF(DG6=\"\",\"\",DG6)","v":""},"","",null,"","",{"$f":"IF(F6=\"\",\"\",F6)","v":""},"右","","","","","","","","","","","","","","","","","","","",null,"","","","","","","","","","","","",null,null,null,null,null,"","","","","","","","","","","",null,"",null,null,"",null,null,null,null,null,null,null,null,null,null,null,null,null,null,null,null,null,null,null,null,null,null,null,null,null,null,null,null,{"$f":"IF(J7=\"\",\"\",J7)","v":""},{"$f":"IF(L7=\"\",\"\",L7)","v":""},{"$f":"IF(HU7=\"\",\"\",COUNTIFS($N$5:$BU$5,HV7,$N$6:BU$6,HW$3)+COUNTIFS($N$5:$BU$5,HV7,$N$7:$BU$7,$HW$3))","v":""},{"$f":"IF(HU7=\"\",\"\",COUNTIFS($N$5:$BU$5,HV7,$N$6:$BU$6,$HX$3)+COUNTIFS($N$5:$BU$5,HV7,$N$7:$BU$7,$HX$3))","v":""},{"$f":"IF(HU7=\"\",\"\",COUNTIFS($N$5:$BU$5,HV7,$N$6:$BU$6,$HY$3)+COUNTIFS($N$5:$BU$5,HV7,$N$7:$BU$7,$HY$3))","v":""},{"$f":"IF(HU7=\"\",\"\",COUNTIFS($N$5:$BU$5,HV7,$N$6:$BU$6,$HZ$3)+COUNTIFS($N$5:$BU$5,HV7,$N$7:$BU$7,$HZ$3))","v":""},{"$f":"IF(HU7=\"\",\"\",COUNTIFS($N$5:$BU$5,HV7,$N$6:$BU$6,$IA$3)+COUNTIFS($N$5:$BU$5,HV7,$N$7:$BU$7,$IA$3))","v":""},{"$f":"IF(HU7=\"\",\"\",COUNTIFS($N$5:$BU$5,HV7,$N$6:$BU$6,$IB$3)+COUNTIFS($N$5:$BU$5,HV7,$N$7:$BU$7,$IB$3))","v":""}]
[null,"④",null,null,"","",null,null,null,null,null,null,null,null,null,null,null,null,null,null,null,null,null,null,null,null,null,null,null,null,null,null,null,null,null,null,null,null,null,null,null,null,null,null,null,null,null,null,null,null,null,null,null,null,null,null,null,null,null,null,null,null,null,null,null,null,null,null,null,null,null,null,null,"",{"$f":"IF(L8=\"\",\"\",(BX8+CG8+CH8+CI8))","v":""},"",{"$f":"IF(L8=\"\",\"\",COUNTIFS($N$5:$BU$5,L8,$N$10:$BU$10,$BY$3))","v":""},{"$f":"IF(L8=\"\",\"\",COUNTIFS($N$5:$BU$5,L8,$N$10:$BU$10,$BZ$3))","v":""},{"$f":"IF(L8=\"\",\"\",COUNTIFS($N$5:$BU$5,L8,$N$8:$BU$8,$CA$3))","v":""},{"$f":"IF(L8=\"\",\"\",COUNTIFS($N$5:$BU$5,L8,$N$8:$BU$8,$CB$3))","v":""},{"$f":"IF(L8=\"\",\"\",COUNTIFS($N$5:$BU$5,L8,$N$10:$BU$10,$CC$3))","v":""},{"$f":"IF(L8=\"\",\"\",COUNTIFS($N$5:$BU$5,L8,$N$8:$BU$8,$CD$3)+COUNTIFS($N$5:$BU$5,L8,$N$9:$BU$9,$CD$3)+COUNTIFS($N$5:$BU$5,L8,$N$10:$BU$10,$CD$3))","v":""},{"$f":"IF(L8=\"\",\"\",COUNTIFS($N$5:$BU$5,L8,$N$9:$BU$9,$CE$3))","v":""},{"$f":"IF(L8=\"\",\"\",COUNTIFS($N$5:$BU$5,L8,$N$10:$BU$10,$CF$3))","v":""},{"$f":"IF(L8=\"\",\"\",COUNTIFS($N$5:$BU$5,L8,$N$10:$BU$10,$CG$3))","v":""},{"$f":"IF(L8=\"\",\"\",COUNTIFS($N$5:$BU$5,L8,$N$10:$BU$10,$CH$3))","v":""},{"$f":"IF(L8=\"\",\"\",COUNTIFS($N$5:$BU$5,L8,$N$10:$BU$10,$CI$3))","v":""},{"$f":"IF(L8=\"\",\"\",COUNTIFS($N$5:$BU$5,L8,$N$10:$BU$10,$CJ$3))","v":""},{"$f":"IF(L8=\"\",\"\",COUNTIFS($N$5:$BU$5,L8,$N$8:$BU$8,$CK$3)+COUNTIFS($N$5:$BU$5,L8,$N$10:$BU$10,$CK$3))","v":""},{"$f":"IF(L8=\"\",\"\",COUNTIFS($N$5:$BU$5,L8,$N$8:$BU$8,$CL$3)+COUNTIFS($N$5:$BU$5,L8,$N$10:$BU$10,$CL$3))","v":""},{"$f":"IF(L8=\"\",\"\",COUNTIFS($N$5:$BU$5,L8,$N$10:$BU$10,$CM$3))","v":""},{"$f":"IF(L8=\"\",\"\",COUNTIFS($N$5:$BU$5,L8,$N$10:$BU$10,$CN$3))","v":""},{"$f":"IF(L8=\"\",\"\",COUNTIFS($N$5:$BU$5,L8,$N$6:$BU$6,$CO$3)+COUNTIFS($N$5:$BU$5,L8,$N$7:$BU$7,$CO$3))","v":""},null,null,null,null,null,null,null,"",null,null,{"$f":"IF(CY8=\"\",\"\",VLOOKUP(CY8,$C$70:$F$78,4,FALSE))","v":""},null,null,null,null,"","","","","","","","","","","","","","","","","","","","","","",null,{"$f":"IF($E$86=\"\",\"\",$E$86)","v":""},"",null,{"$f":"IF(EC8=\"\",\"\",COUNTIFS($N$5:$BU$5,EC8,$N$10:$BU$10,\"RZ\"))","v":""},{"$f":"IF(ED8=\"\",\"\",COUNTIFS($N$5:$BU$5,EC8,$N$9:$BU$9,\"ZH\"))","v":""},null,"左",{"$f":"IF(DF6=\"\",\"\",DF6)","v":""},{"$f":"EJ7","v":""},"","",null,"","",{"$f":"IF(F6=\"\",\"\",F6)","v":""},"左","","","","","","","","","","","","","","","","","","","",null,"","","","","","","","","","","","",null,null,null,null,null,"","","","","","","","","","","",null,"",null,null,"",null,null,null,null,null,null,null,null,null,null,null,null,null,null,null,null,null,null,null,null,null,null,null,null,null,null,null,null,"","",{"$f":"IF(HU8=\"\",\"\",COUNTIFS($N$5:$BU$5,HV8,$N$6:BU$6,HW$3)+COUNTIFS($N$5:$BU$5,HV8,$N$7:$BU$7,$HW$3))","v":""},"","","","",""]
[null,"⑤",null,null,"","",null,null,null,null,null,null,null,null,null,null,null,null,null,null,null,null,null,null,null,null,null,null,null,null,null,null,null,null,null,null,null,null,null,null,null,null,null,null,null,null,null,null,null,null,null,null,null,null,null,null,null,null,null,null,null,null,null,null,null,null,null,null,null,null,null,null,null,"",{"$f":"IF(L9=\"\",\"\",(BX9+CG9+CH9+CI9))","v":""},"",{"$f":"IF(L9=\"\",\"\",COUNTIFS($N$5:$BU$5,L9,$N$10:$BU$10,$BY$3))","v":""},{"$f":"IF(L9=\"\",\"\",COUNTIFS($N$5:$BU$5,L9,$N$10:$BU$10,$BZ$3))","v":""},{"$f":"IF(L9=\"\",\"\",COUNTIFS($N$5:$BU$5,L9,$N$8:$BU$8,$CA$3))","v":""},{"$f":"IF(L9=\"\",\"\",COUNTIFS($N$5:$BU$5,L9,$N$8:$BU$8,$CB$3))","v":""},{"$f":"IF(L9=\"\",\"\",COUNTIFS($N$5:$BU$5,L9,$N$10:$BU$10,$CC$3))","v":""},{"$f":"IF(L9=\"\",\"\",COUNTIFS($N$5:$BU$5,L9,$N$8:$BU$8,$CD$3)+COUNTIFS($N$5:$BU$5,L9,$N$9:$BU$9,$CD$3)+COUNTIFS($N$5:$BU$5,L9,$N$10:$BU$10,$CD$3))","v":""},{"$f":"IF(L9=\"\",\"\",COUNTIFS($N$5:$BU$5,L9,$N$9:$BU$9,$CE$3))","v":""},{"$f":"IF(L9=\"\",\"\",COUNTIFS($N$5:$BU$5,L9,$N$10:$BU$10,$CF$3))","v":""},{"$f":"IF(L9=\"\",\"\",COUNTIFS($N$5:$BU$5,L9,$N$10:$BU$10,$CG$3))","v":""},{"$f":"IF(L9=\"\",\"\",COUNTIFS($N$5:$BU$5,L9,$N$10:$BU$10,$CH$3))","v":""},{"$f":"IF(L9=\"\",\"\",COUNTIFS($N$5:$BU$5,L9,$N$10:$BU$10,$CI$3))","v":""},{"$f":"IF(L9=\"\",\"\",COUNTIFS($N$5:$BU$5,L9,$N$10:$BU$10,$CJ$3))","v":""},{"$f":"IF(L9=\"\",\"\",COUNTIFS($N$5:$BU$5,L9,$N$8:$BU$8,$CK$3)+COUNTIFS($N$5:$BU$5,L9,$N$10:$BU$10,$CK$3))","v":""},{"$f":"IF(L9=\"\",\"\",COUNTIFS($N$5:$BU$5,L9,$N$8:$BU$8,$CL$3)+COUNTIFS($N$5:$BU$5,L9,$N$10:$BU$10,$CL$3))","v":""},{"$f":"IF(L9=\"\",\"\",COUNTIFS($N$5:$BU$5,L9,$N$10:$BU$10,$CM$3))","v":""},{"$f":"IF(L9=\"\",\"\",COUNTIFS($N$5:$BU$5,L9,$N$10:$BU$10,$CN$3))","v":""},{"$f":"IF(L9=\"\",\"\",COUNTIFS($N$5:$BU$5,L9,$N$6:$BU$6,$CO$3)+COUNTIFS($N$5:$BU$5,L9,$N$7:$BU$7,$CO$3))","v":""},null,null,null,null,null,null,null,"",null,null,{"$f":"IF(CY9=\"\",\"\",VLOOKUP(CY9,$C$70:$F$78,4,FALSE))","v":""},null,null,null,null,"","","","","","","","","","","","","","","","","","","","","","",null,{"$f":"IF($E$87=\"\",\"\",$E$87)","v":""},"",null,{"$f":"IF(EC9=\"\",\"\",COUNTIFS($N$5:$BU$5,EC9,$N$10:$BU$10,\"RZ\"))","v":""},{"$f":"IF(ED9=\"\",\"\",COUNTIFS($N$5:$BU$5,EC9,$N$9:$BU$9,\"ZH\"))","v":""},null,"右",{"$f":"IF(DF7=\"\",\"\",DF7)","v":""},{"$f":"IF(DG7=\"\",\"\",DG7)","v":""},"","",null,"","",{"$f":"IF(F7=\"\",\"\",F7)","v":""},"右","","","","","","","","","","","","","","","","","","","",null,"","","","","","","","","","","","",null,null,null,null,null,"","","","","","","","","","","",null,"",null,null,"",null,null,null,null,null,null,null,null,null,null,null,null,null,null,null,null,null,null,null,null,null,null,null,null,null,null,null,null,"","",{"$f":"IF(HU9=\"\",\"\",COUNTIFS($N$5:$BU$5,HV9,$N$6:BU$6,HW$3)+COUNTIFS($N$5:$BU$5,HV9,$N$7:$BU$7,$HW$3))","v":""},"","","","",""]
[null,"⑥",null,null,"","",null,null,null,null,null,null,null,null,null,null,null,null,null,null,null,null,null,null,null,null,null,null,null,null,null,null,null,null,null,null,null,null,null,null,null,null,null,null,null,null,null,null,null,null,null,null,null,null,null,null,null,null,null,null,null,null,null,null,null,null,null,null,null,null,null,null,null,"",{"$f":"IF(L10=\"\",\"\",(BX10+CG10+CH10+CI10))","v":""},"",{"$f":"IF(L10=\"\",\"\",COUNTIFS($N$5:$BU$5,L10,$N$10:$BU$10,$BY$3))","v":""},{"$f":"IF(L10=\"\",\"\",COUNTIFS($N$5:$BU$5,L10,$N$10:$BU$10,$BZ$3))","v":""},{"$f":"IF(L10=\"\",\"\",COUNTIFS($N$5:$BU$5,L10,$N$8:$BU$8,$CA$3))","v":""},{"$f":"IF(L10=\"\",\"\",COUNTIFS($N$5:$BU$5,L10,$N$8:$BU$8,$CB$3))","v":""},{"$f":"IF(L10=\"\",\"\",COUNTIFS($N$5:$BU$5,L10,$N$10:$BU$10,$CC$3))","v":""},{"$f":"IF(L10=\"\",\"\",COUNTIFS($N$5:$BU$5,L10,$N$8:$BU$8,$CD$3)+COUNTIFS($N$5:$BU$5,L10,$N$9:$BU$9,$CD$3)+COUNTIFS($N$5:$BU$5,L10,$N$10:$BU$10,$CD$3))","v":""},{"$f":"IF(L10=\"\",\"\",COUNTIFS($N$5:$BU$5,L10,$N$9:$BU$9,$CE$3))","v":""},{"$f":"IF(L10=\"\",\"\",COUNTIFS($N$5:$BU$5,L10,$N$10:$BU$10,$CF$3))","v":""},{"$f":"IF(L10=\"\",\"\",COUNTIFS($N$5:$BU$5,L10,$N$10:$BU$10,$CG$3))","v":""},{"$f":"IF(L10=\"\",\"\",COUNTIFS($N$5:$BU$5,L10,$N$10:$BU$10,$CH$3))","v":""},{"$f":"IF(L10=\"\",\"\",COUNTIFS($N$5:$BU$5,L10,$N$10:$BU$10,$CI$3))","v":""},{"$f":"IF(L10=\"\",\"\",COUNTIFS($N$5:$BU$5,L10,$N$10:$BU$10,$CJ$3))","v":""},{"$f":"IF(L10=\"\",\"\",COUNTIFS($N$5:$BU$5,L10,$N$8:$BU$8,$CK$3)+COUNTIFS($N$5:$BU$5,L10,$N$10:$BU$10,$CK$3))","v":""},{"$f":"IF(L10=\"\",\"\",COUNTIFS($N$5:$BU$5,L10,$N$8:$BU$8,$CL$3)+COUNTIFS($N$5:$BU$5,L10,$N$10:$BU$10,$CL$3))","v":""},{"$f":"IF(L10=\"\",\"\",COUNTIFS($N$5:$BU$5,L10,$N$10:$BU$10,$CM$3))","v":""},{"$f":"IF(L10=\"\",\"\",COUNTIFS($N$5:$BU$5,L10,$N$10:$BU$10,$CN$3))","v":""},{"$f":"IF(L10=\"\",\"\",COUNTIFS($N$5:$BU$5,L10,$N$6:$BU$6,$CO$3)+COUNTIFS($N$5:$BU$5,L10,$N$7:$BU$7,$CO$3))","v":""},null,null,null,null,null,null,null,"",null,null,{"$f":"IF(CY10=\"\",\"\",VLOOKUP(CY10,$C$70:$F$78,4,FALSE))","v":""},null,null,null,null,"","","","","","","","","","","","","","","","","","","","","","",null,{"$f":"IF($E$88=\"\",\"\",$E$88)","v":""},"",{"$f":"IF(EC10=\"\",\"\",VLOOKUP(EC10,$C$29:$D$58,2,FALSE))","v":""},{"$f":"IF(EC10=\"\",\"\",COUNTIFS($N$5:$BU$5,EC10,$N$10:$BU$10,\"RZ\"))","v":""},{"$f":"IF(ED10=\"\",\"\",COUNTIFS($N$5:$BU$5,EC10,$N$9:$BU$9,\"ZH\"))","v":""},null,"左",{"$f":"IF(DF7=\"\",\"\",DF7)","v":""},{"$f":"EJ9","v":""},"","",null,"","",{"$f":"IF(F7=\"\",\"\",F7)","v":""},"左","","","","","","","","","","","","","","","","","","","",null,"","","","","","","","","","","","",null,null,null,null,null,"","","",{"$f":"IF(GC10=\"\",\"\",SUMIF($K$71:$K$123,GE10,$BY$71:$BY$123)+SUMIF($K$71:$K$123,GE10,$CF$71:$CF$123)+SUMIF($K$71:$K$123,GE10,$CI$71:$CI$123)+SUMIF($K$71:$K$123,GE10,$CL$71:$CL$123)+(SUMIF($K$71:$K$123,GE10,$CM$71:$CM$123))*2)","v":""},"","","","","","","",null,"",null,null,"",null,null,null,null,null,null,null,null,null,null,null,null,null,null,null,null,null,null,null,null,null,null,null,null,null,null,null,null,"","",{"$f":"IF(HU10=\"\",\"\",COUNTIFS($N$5:$BU$5,HV10,$N$6:BU$6,HW$3)+COUNTIFS($N$5:$BU$5,HV10,$N$7:$BU$7,$HW$3))","v":""},"","","","",""]
[null,"⑦",null,null,"","",null,null,null,null,null,null,"打者背番号を入力➡",null,{"$f":"N11","v":0},{"$f":"N11","v":0},{"$f":"N11","v":0},{"$f":"N11","v":0},null,{"$f":"S11","v":0},{"$f":"S11","v":0},{"$f":"S11","v":0},{"$f":"S11","v":0},null,{"$f":"X11","v":0},{"$f":"X11","v":0},{"$f":"X11","v":0},{"$f":"X11","v":0},null,{"$f":"AC11","v":0},{"$f":"AC11","v":0},{"$f":"AC11","v":0},{"$f":"AC11","v":0},null,{"$f":"AH11","v":0},{"$f":"AH11","v":0},{"$f":"AH11","v":0},{"$f":"AH11","v":0},null,{"$f":"AM11","v":0},{"$f":"AM11","v":0},{"$f":"AM11","v":0},{"$f":"AM11","v":0},null,{"$f":"AR11","v":0},{"$f":"AR11","v":0},{"$f":"AR11","v":0},{"$f":"AR11","v":0},null,{"$f":"AW11","v":0},{"$f":"AW11","v":0},{"$f":"AW11","v":0},{"$f":"AW11","v":0},null,{"$f":"BB11","v":0},{"$f":"BB11","v":0},{"$f":"BB11","v":0},{"$f":"BB11","v":0},null,{"$f":"BG11","v":0},{"$f":"BG11","v":0},{"$f":"BG11","v":0},{"$f":"BG11","v":0},null,{"$f":"BL11","v":0},{"$f":"BL11","v":0},{"$f":"BL11","v":0},{"$f":"BL11","v":0},null,{"$f":"BQ11","v":0},{"$f":"BQ11","v":0},{"$f":"BQ11","v":0},{"$f":"BQ11","v":0},null,null,null,null,null,null,null,null,null,null,null,null,null,null,null,null,null,null,null,null,null,null,null,null,null,null,null,null,null,null,null,null,null,null,null,"","","","",{"$f":"IF(DF11=\"\",\"\",SUMIFS($BX$6:$BX$58,$J$6:$J$58,DF11))","v":""},"","","","","","","","","","","","","","","","","",null,null,null,null,null,null,null,"右",{"$f":"IF(DF8=\"\",\"\",DF8)","v":""},{"$f":"IF(DG8=\"\",\"\",DG8)","v":""},"","",null,"","",{"$f":"IF(F8=\"\",\"\",F8)","v":""},"右","","","","","","","","","","","","","","","","","","","",null,"","","","","","","","","","","","",null,null,null,null,null,{"$f":"IF(D25=\"\",\"\",D25)","v":""},{"$f":"IF(F25=\"\",\"\",F25)","v":""},{"$f":"IF($GB$5=\"\",\"\",C25)","v":""},{"$f":"IF(GC11=\"\",\"\",SUMIF($K$71:$K$123,GE11,$BY$71:$BY$123)+SUMIF($K$71:$K$123,GE11,$CF$71:$CF$123)+SUMIF($K$71:$K$123,GE11,$CI$71:$CI$123)+SUMIF($K$71:$K$123,GE11,$CL$71:$CL$123)+(SUMIF($K$71:$K$123,GE11,$CM$71:$CM$123))*2)","v":""},{"$f":"IF(GC11=\"\",\"\",GF11/3)","v":""},{"$f":"IF(GC11=\"\",\"\",SUMIF($K$71:$K$123,GE11,$CC$71:$CC$123))","v":""},{"$f":"IF(GC11=\"\",\"\",SUMIF($K$71:$K$123,GE11,$BZ$71:$BZ$123)+SUMIF($K$71:$K$123,GE11,$CA$71:$CA$123)+SUMIF($K$71:$K$123,GE11,$CB$71:$CB$123)+SUMIF($K$71:$K$123,GE11,$CC$71:$CC$123))","v":""},{"$f":"IF(GC11=\"\",\"\",SUMIF($K$71:$K$123,GE11,$CG$71:$CG$123)+SUMIF($K$71:$K$123,GE11,$CH$71:$CH$123))","v":""},{"$f":"IF(GC11=\"\",\"\",SUMIF($K$71:$K$123,GE11,$CF$71:$CF$123))","v":""},{"$f":"IF(GC11=\"\",\"\",SUMIF($K$71:$K$123,GE11,$CK$71:$CK$123))","v":""},{"$f":"IF(GC11=\"\",\"\",SUMIF($K$71:$K$123,GE11,$CE$71:$CE$123))","v":""},null,{"$f":"IF(GC11=\"\",\"\",SUMIF($K$71:$K$123,GE11,$CO$71:$CO$123))","v":""},null,null,{"$f":"IF(GC11=\"\",\"\",$O$67)","v":""}]
[null,"⑧",null,null,"","",null,null,{"$f":"IF(C6=\"\",\"\",C6)","v":""},{"$f":"IF(D6=\"\",\"\",D6)","v":""},{"$f":"IF(J12=\"\",\"\",\"先\")","v":""},{"$f":"IF(J12=\"\",\"\",F6)","v":""},"②",null,null,null,null,null,null,null,null,null,null,null,null,null,null,null,null,null,null,null,null,null,null,null,null,null,null,null,null,null,null,null,null,null,null,null,null,null,null,null,null,null,null,null,null,null,null,null,null,null,null,null,null,null,null,null,null,null,null,null,null,{"$f":"IF(K12=\"\",\"\",VLOOKUP(K12,$C$84:$E$90,3,FALSE))","v":""},{"$f":"IF(L12=\"\",\"\",(BX12+CG12+CH12+CI12))","v":""},{"$f":"IF(L12=\"\",\"\",(BY12+BZ12+CA12+CB12+CC12+CF12+CJ12+CM12+CN12))","v":""},{"$f":"IF(L12=\"\",\"\",COUNTIFS($N$11:$BU$11,L12,$N$16:$BU$16,$BY$3))","v":""},{"$f":"IF(L12=\"\",\"\",COUNTIFS($N$11:$BU$11,L12,$N$16:$BU$16,$BZ$3))","v":""},{"$f":"IF(L12=\"\",\"\",COUNTIFS($N$11:$BU$11,L12,$N$14:$BU$14,$CA$3))","v":""},{"$f":"IF(L12=\"\",\"\",COUNTIFS($N$11:$BU$11,L12,$N$14:$BU$14,$CB$3))","v":""},{"$f":"IF(L12=\"\",\"\",COUNTIFS($N$11:$BU$11,L12,$N$16:$BU$16,$CC$3))","v":""},{"$f":"IF(L12=\"\",\"\",COUNTIFS($N$11:$BU$11,L12,$N$16:$BU$16,$CD$3)+COUNTIFS($N$11:$BU$11,L12,$N$15:$BU$15,$CD$3)+COUNTIFS($N$11:$BU$11,L12,$N$14:$BU$14,$CD$3))","v":""},{"$f":"IF(L12=\"\",\"\",COUNTIFS($N$11:$BU$11,L12,$N$15:$BU$15,$CE$3))","v":""},{"$f":"IF(L12=\"\",\"\",COUNTIFS($N$11:$BU$11,L12,$N$16:$BU$16,$CF$3))","v":""},{"$f":"IF(L12=\"\",\"\",COUNTIFS($N$11:$BU$11,L12,$N$16:$BU$16,$CG$3))","v":""},{"$f":"IF(L12=\"\",\"\",COUNTIFS($N$11:$BU$11,L12,$N$16:$BU$16,$CH$3))","v":""},{"$f":"IF(L12=\"\",\"\",COUNTIFS($N$11:$BU$11,L12,$N$16:$BU$16,$CI$3))","v":""},{"$f":"IF(L12=\"\",\"\",COUNTIFS($N$11:$BU$11,L12,$N$16:$BU$16,$CJ$3))","v":""},{"$f":"IF(L12=\"\",\"\",COUNTIFS($N$11:$BU$11,L12,$N$16:$BU$16,$CK$3)+COUNTIFS($N$11:$BU$11,L12,$N$14:$BU$14,$CK$3))","v":""},{"$f":"IF(L12=\"\",\"\",COUNTIFS($N$11:$BU$11,L12,$N$16:$BU$16,$CL$3)+COUNTIFS($N$11:$BU$11,L12,$N$14:$BU$14,$CL$3))","v":""},{"$f":"IF(L12=\"\",\"\",COUNTIFS($N$11:$BU$11,L12,$N$16:$BU$16,$CM$3))","v":""},{"$f":"IF(L12=\"\",\"\",COUNTIFS($N$11:$BU$11,L12,$N$16:$BU$16,$CN$3))","v":""},{"$f":"IF(L12=\"\",\"\",COUNTIFS($N$11:$BU$11,L12,$N$12:$BU$12,$CO$3)+COUNTIFS($N$11:$BU$11,L12,$N$13:$BU$13,$CO$3))","v":""},null,null,null,null,null,null,null,{"$f":"IF(DA12=\"\",\"\",VLOOKUP(DA12,$C$84:$E$90,3,FALSE))","v":""},null,null,{"$f":"IF(CY12=\"\",\"\",VLOOKUP(CY12,$C$70:$F$78,4,FALSE))","v":""},null,null,null,null,"","","","","","","","","","","","","","","","","","","","","","",null,{"$f":"IF($E$84=\"\",\"\",$E$84)","v":""},"",{"$f":"IF(EC12=\"\",\"\",VLOOKUP(EC12,$C$29:$D$58,2,FALSE))","v":""},{"$f":"IF(EC12=\"\",\"\",COUNTIFS($N$11:$BU$11,EC12,$N$16:$BU$16,\"RZ\"))","v":""},{"$f":"IF(ED12=\"\",\"\",COUNTIFS($N$11:$BU$11,EC12,$N$15:$BU$15,\"ZH\"))","v":""},null,"左",{"$f":"IF(DF8=\"\",\"\",DF8)","v":""},{"$f":"EJ11","v":""},"","",null,"","",{"$f":"IF(F8=\"\",\"\",F8)","v":""},"左","","","","","","","","","","","","","","","","","","","",null,"","","","","","","","","","","","",null,null,null,null,null,null,null,null,null,null,null,null,null,null,null,null,null,null,null,null,null,null,null,null,null,null,null,null,null,null,null,null,null,null,null,null,null,null,null,null,null,null,null,null,null,null,null,null,null,"",{"$f":"IF(L12=\"\",\"\",L12)","v":""},{"$f":"IF(HU12=\"\",\"\",COUNTIFS($N$11:$BU$11,HV12,$N$12:$BU$12,HW3)+COUNTIFS($N$11:$BU$11,HV12,$N$13:$BU$13,HW3))","v":""},{"$f":"IF(HU12=\"\",\"\",COUNTIFS($N$11:$BU$11,HV12,$N$12:$BU$12,$HX$3)+COUNTIFS($N$11:$BU$11,HV12,$N$13:$BU$13,$HX$3))","v":""},{"$f":"IF(HU12=\"\",\"\",COUNTIFS($N$11:$BU$11,HV12,$N$12:$BU$12,$HY$3)+COUNTIFS($N$11:$BU$11,HV12,$N$13:$BU$13,$HY$3))","v":""},{"$f":"IF(HU12=\"\",\"\",COUNTIFS($N$11:$BU$11,HV12,$N$12:$BU$12,$HZ$3)+COUNTIFS($N$11:$BU$11,HV12,$N$13:$BU$13,$HZ$3))","v":""},{"$f":"IF(HU12=\"\",\"\",COUNTIFS($N$11:$BU$11,HV12,$N$12:$BU$12,$IA$3)+COUNTIFS($N$11:$BU$11,HV12,$N$13:$BU$13,$IA$3))","v":""},{"$f":"IF(HU12=\"\",\"\",COUNTIFS($N$11:$BU$11,HV12,$N$12:$BU$12,$IB$3)+COUNTIFS($N$11:$BU$11,HV12,$N$13:$BU$13,$IB$3))","v":""}]
[null,"⑨",null,null,"","",null,null,null,null,null,null,null,null,null,null,null,null,null,null,null,null,null,null,null,null,null,null,null,null,null,null,null,null,null,null,null,null,null,null,null,null,null,null,null,null,null,null,null,null,null,null,null,null,null,null,null,null,null,null,null,null,null,null,null,null,null,null,null,null,null,null,null,{"$f":"IF(K13=\"\",\"\",VLOOKUP(K13,$C$84:$E$90,3,FALSE))","v":""},{"$f":"IF(L13=\"\",\"\",(BX13+CG13+CH13+CI13))","v":""},"",{"$f":"IF(L13=\"\",\"\",COUNTIFS($N$11:$BU$11,L13,$N$16:$BU$16,$BY$3))","v":""},{"$f":"IF(L13=\"\",\"\",COUNTIFS($N$11:$BU$11,L13,$N$16:$BU$16,$BZ$3))","v":""},{"$f":"IF(L13=\"\",\"\",COUNTIFS($N$11:$BU$11,L13,$N$14:$BU$14,$CA$3))","v":""},{"$f":"IF(L13=\"\",\"\",COUNTIFS($N$11:$BU$11,L13,$N$14:$BU$14,$CB$3))","v":""},{"$f":"IF(L13=\"\",\"\",COUNTIFS($N$11:$BU$11,L13,$N$16:$BU$16,$CC$3))","v":""},{"$f":"IF(L13=\"\",\"\",COUNTIFS($N$11:$BU$11,L13,$N$16:$BU$16,$CD$3)+COUNTIFS($N$11:$BU$11,L13,$N$15:$BU$15,$CD$3)+COUNTIFS($N$11:$BU$11,L13,$N$14:$BU$14,$CD$3))","v":""},{"$f":"IF(L13=\"\",\"\",COUNTIFS($N$11:$BU$11,L13,$N$15:$BU$15,$CE$3))","v":""},{"$f":"IF(L13=\"\",\"\",COUNTIFS($N$11:$BU$11,L13,$N$16:$BU$16,$CF$3))","v":""},{"$f":"IF(L13=\"\",\"\",COUNTIFS($N$11:$BU$11,L13,$N$16:$BU$16,$CG$3))","v":""},{"$f":"IF(L13=\"\",\"\",COUNTIFS($N$11:$BU$11,L13,$N$16:$BU$16,$CH$3))","v":""},{"$f":"IF(L13=\"\",\"\",COUNTIFS($N$11:$BU$11,L13,$N$16:$BU$16,$CI$3))","v":""},{"$f":"IF(L13=\"\",\"\",COUNTIFS($N$11:$BU$11,L13,$N$16:$BU$16,$CJ$3))","v":""},{"$f":"IF(L13=\"\",\"\",COUNTIFS($N$11:$BU$11,L13,$N$16:$BU$16,$CK$3)+COUNTIFS($N$11:$BU$11,L13,$N$14:$BU$14,$CK$3))","v":""},{"$f":"IF(L13=\"\",\"\",COUNTIFS($N$11:$BU$11,L13,$N$16:$BU$16,$CL$3)+COUNTIFS($N$11:$BU$11,L13,$N$14:$BU$14,$CL$3))","v":""},{"$f":"IF(L13=\"\",\"\",COUNTIFS($N$11:$BU$11,L13,$N$16:$BU$16,$CM$3))","v":""},{"$f":"IF(L13=\"\",\"\",COUNTIFS($N$11:$BU$11,L13,$N$16:$BU$16,$CN$3))","v":""},{"$f":"IF(L13=\"\",\"\",COUNTIFS($N$11:$BU$11,L13,$N$12:$BU$12,$CO$3)+COUNTIFS($N$11:$BU$11,L13,$N$13:$BU$13,$CO$3))","v":""},null,null,null,null,null,null,null,{"$f":"IF(DA13=\"\",\"\",VLOOKUP(DA13,$C$84:$E$90,3,FALSE))","v":""},null,null,{"$f":"IF(CY13=\"\",\"\",VLOOKUP(CY13,$C$70:$F$78,4,FALSE))","v":""},null,null,null,null,"","","","","","","","","","","","","","","","","","","","","","",null,{"$f":"IF($E$85=\"\",\"\",$E$85)","v":""},"",null,{"$f":"IF(EC13=\"\",\"\",COUNTIFS($N$11:$BU$11,EC13,$N$16:$BU$16,\"RZ\"))","v":""},{"$f":"IF(ED13=\"\",\"\",COUNTIFS($N$11:$BU$11,EC13,$N$15:$BU$15,\"ZH\"))","v":""},null,"右",{"$f":"IF(DF9=\"\",\"\",DF9)","v":""},{"$f":"IF(DG9=\"\",\"\",DG9)","v":""},"","",null,"","",{"$f":"IF(F9=\"\",\"\",F9)","v":""},"右","","","","","","","","","","","","","","","","","","","",null,"","","","","","","","","","","","",null,null,null,null,null,null,null,null,null,null,null,null,null,null,null,null,null,null,null,null,null,null,null,null,null,null,null,null,null,null,null,null,null,null,null,null,null,null,null,null,null,null,null,null,null,null,null,null,null,"","",{"$f":"IF(HU13=\"\",\"\",COUNTIFS($N$11:$BU$11,HV13,$N$12:$BU$12,HW4)+COUNTIFS($N$11:$BU$11,HV13,$N$13:$BU$13,HW4))","v":""},{"$f":"IF(HU13=\"\",\"\",COUNTIFS($N$11:$BU$11,HV13,$N$12:$BU$12,$HX$3)+COUNTIFS($N$11:$BU$11,HV13,$N$13:$BU$13,$HX$3))","v":""},{"$f":"IF(HU13=\"\",\"\",COUNTIFS($N$11:$BU$11,HV13,$N$12:$BU$12,$HY$3)+COUNTIFS($N$11:$BU$11,HV13,$N$13:$BU$13,$HY$3))","v":""},{"$f":"IF(HU13=\"\",\"\",COUNTIFS($N$11:$BU$11,HV13,$N$12:$BU$12,$HZ$3)+COUNTIFS($N$11:$BU$11,HV13,$N$13:$BU$13,$HZ$3))","v":""},{"$f":"IF(HU13=\"\",\"\",COUNTIFS($N$11:$BU$11,HV13,$N$12:$BU$12,$IA$3)+COUNTIFS($N$11:$BU$11,HV13,$N$13:$BU$13,$IA$3))","v":""},{"$f":"IF(HU13=\"\",\"\",COUNTIFS($N$11:$BU$11,HV13,$N$12:$BU$12,$IB$3)+COUNTIFS($N$11:$BU$11,HV13,$N$13:$BU$13,$IB$3))","v":""}]
[null,null,null,null,"","",null,null,null,null,null,null,null,null,null,null,null,null,null,null,null,null,null,null,null,null,null,null,null,null,null,null,null,null,null,null,null,null,null,null,null,null,null,null,null,null,null,null,null,null,null,null,null,null,null,null,null,null,null,null,null,null,null,null,null,null,null,null,null,null,null,null,null,"",{"$f":"IF(L14=\"\",\"\",(BX14+CG14+CH14+CI14))","v":""},"",{"$f":"IF(L14=\"\",\"\",COUNTIFS($N$11:$BU$11,L14,$N$16:$BU$16,$BY$3))","v":""},{"$f":"IF(L14=\"\",\"\",COUNTIFS($N$11:$BU$11,L14,$N$16:$BU$16,$BZ$3))","v":""},{"$f":"IF(L14=\"\",\"\",COUNTIFS($N$11:$BU$11,L14,$N$14:$BU$14,$CA$3))","v":""},{"$f":"IF(L14=\"\",\"\",COUNTIFS($N$11:$BU$11,L14,$N$14:$BU$14,$CB$3))","v":""},{"$f":"IF(L14=\"\",\"\",COUNTIFS($N$11:$BU$11,L14,$N$16:$BU$16,$CC$3))","v":""},{"$f":"IF(L14=\"\",\"\",COUNTIFS($N$11:$BU$11,L14,$N$16:$BU$16,$CD$3)+COUNTIFS($N$11:$BU$11,L14,$N$15:$BU$15,$CD$3)+COUNTIFS($N$11:$BU$11,L14,$N$14:$BU$14,$CD$3))","v":""},{"$f":"IF(L14=\"\",\"\",COUNTIFS($N$11:$BU$11,L14,$N$15:$BU$15,$CE$3))","v":""},{"$f":"IF(L14=\"\",\"\",COUNTIFS($N$11:$BU$11,L14,$N$16:$BU$16,$CF$3))","v":""},{"$f":"IF(L14=\"\",\"\",COUNTIFS($N$11:$BU$11,L14,$N$16:$BU$16,$CG$3))","v":""},{"$f":"IF(L14=\"\",\"\",COUNTIFS($N$11:$BU$11,L14,$N$16:$BU$16,$CH$3))","v":""},{"$f":"IF(L14=\"\",\"\",COUNTIFS($N$11:$BU$11,L14,$N$16:$BU$16,$CI$3))","v":""},{"$f":"IF(L14=\"\",\"\",COUNTIFS($N$11:$BU$11,L14,$N$16:$BU$16,$CJ$3))","v":""},{"$f":"IF(L14=\"\",\"\",COUNTIFS($N$11:$BU$11,L14,$N$16:$BU$16,$CK$3)+COUNTIFS($N$11:$BU$11,L14,$N$14:$BU$14,$CK$3))","v":""},{"$f":"IF(L14=\"\",\"\",COUNTIFS($N$11:$BU$11,L14,$N$16:$BU$16,$CL$3)+COUNTIFS($N$11:$BU$11,L14,$N$14:$BU$14,$CL$3))","v":""},{"$f":"IF(L14=\"\",\"\",COUNTIFS($N$11:$BU$11,L14,$N$16:$BU$16,$CM$3))","v":""},{"$f":"IF(L14=\"\",\"\",COUNTIFS($N$11:$BU$11,L14,$N$16:$BU$16,$CN$3))","v":""},{"$f":"IF(L14=\"\",\"\",COUNTIFS($N$11:$BU$11,L14,$N$12:$BU$12,$CO$3)+COUNTIFS($N$11:$BU$11,L14,$N$13:$BU$13,$CO$3))","v":""},null,null,null,null,null,null,null,"",null,null,{"$f":"IF(CY14=\"\",\"\",VLOOKUP(CY14,$C$70:$F$78,4,FALSE))","v":""},null,null,"交　　代",null,"","",{"$f":"IF(G5=\"\",\"\",G5)","v":""},{"$f":"IF(DF14=\"\",\"\",SUMIFS($BW$6:$BW$58,$J$6:$J$58,DF14))","v":""},"","","","","","","","","","","","","","","","","","",null,{"$f":"IF($E$86=\"\",\"\",$E$86)","v":""},"",null,{"$f":"IF(EC14=\"\",\"\",COUNTIFS($N$11:$BU$11,EC14,$N$16:$BU$16,\"RZ\"))","v":""},{"$f":"IF(ED14=\"\",\"\",COUNTIFS($N$11:$BU$11,EC14,$N$15:$BU$15,\"ZH\"))","v":""},null,"左",{"$f":"IF(DF9=\"\",\"\",DF9)","v":""},{"$f":"EJ13","v":""},"","",null,"","",{"$f":"IF(F9=\"\",\"\",F9)","v":""},"左","","","","","","","","","","","","","","","","","","","",null,"","","","","","","","","","","","",null,null,null,null,null,null,null,null,null,null,null,null,null,null,null,null,null,null,null,null,null,null,null,null,null,null,null,null,null,null,null,null,null,null,null,null,null,null,null,null,null,null,null,null,null,null,null,null,null,"","","","","","","",""]
[null,null,null,null,null,null,null,null,null,null,null,null,null,null,null,null,null,null,null,null,null,null,null,null,null,null,null,null,null,null,null,null,null,null,null,null,null,null,null,null,null,null,null,null,null,null,null,null,null,null,null,null,null,null,null,null,null,null,null,null,null,null,null,null,null,null,null,null,null,null,null,null,null,"",{"$f":"IF(L15=\"\",\"\",(BX15+CG15+CH15+CI15))","v":""},"",{"$f":"IF(L15=\"\",\"\",COUNTIFS($N$11:$BU$11,L15,$N$16:$BU$16,$BY$3))","v":""},{"$f":"IF(L15=\"\",\"\",COUNTIFS($N$11:$BU$11,L15,$N$16:$BU$16,$BZ$3))","v":""},{"$f":"IF(L15=\"\",\"\",COUNTIFS($N$11:$BU$11,L15,$N$14:$BU$14,$CA$3))","v":""},{"$f":"IF(L15=\"\",\"\",COUNTIFS($N$11:$BU$11,L15,$N$14:$BU$14,$CB$3))","v":""},{"$f":"IF(L15=\"\",\"\",COUNTIFS($N$11:$BU$11,L15,$N$16:$BU$16,$CC$3))","v":""},{"$f":"IF(L15=\"\",\"\",COUNTIFS($N$11:$BU$11,L15,$N$16:$BU$16,$CD$3)+COUNTIFS($N$11:$BU$11,L15,$N$15:$BU$15,$CD$3)+COUNTIFS($N$11:$BU$11,L15,$N$14:$BU$14,$CD$3))","v":""},{"$f":"IF(L15=\"\",\"\",COUNTIFS($N$11:$BU$11,L15,$N$15:$BU$15,$CE$3))","v":""},{"$f":"IF(L15=\"\",\"\",COUNTIFS($N$11:$BU$11,L15,$N$16:$BU$16,$CF$3))","v":""},{"$f":"IF(L15=\"\",\"\",COUNTIFS($N$11:$BU$11,L15,$N$16:$BU$16,$CG$3))","v":""},{"$f":"IF(L15=\"\",\"\",COUNTIFS($N$11:$BU$11,L15,$N$16:$BU$16,$CH$3))","v":""},{"$f":"IF(L15=\"\",\"\",COUNTIFS($N$11:$BU$11,L15,$N$16:$BU$16,$CI$3))","v":""},{"$f":"IF(L15=\"\",\"\",COUNTIFS($N$11:$BU$11,L15,$N$16:$BU$16,$CJ$3))","v":""},{"$f":"IF(L15=\"\",\"\",COUNTIFS($N$11:$BU$11,L15,$N$16:$BU$16,$CK$3)+COUNTIFS($N$11:$BU$11,L15,$N$14:$BU$14,$CK$3))","v":""},{"$f":"IF(L15=\"\",\"\",COUNTIFS($N$11:$BU$11,L15,$N$16:$BU$16,$CL$3)+COUNTIFS($N$11:$BU$11,L15,$N$14:$BU$14,$CL$3))","v":""},{"$f":"IF(L15=\"\",\"\",COUNTIFS($N$11:$BU$11,L15,$N$16:$BU$16,$CM$3))","v":""},{"$f":"IF(L15=\"\",\"\",COUNTIFS($N$11:$BU$11,L15,$N$16:$BU$16,$CN$3))","v":""},{"$f":"IF(L15=\"\",\"\",COUNTIFS($N$11:$BU$11,L15,$N$12:$BU$12,$CO$3)+COUNTIFS($N$11:$BU$11,L15,$N$13:$BU$13,$CO$3))","v":""},null,null,null,null,null,null,null,"",null,null,{"$f":"IF(CY15=\"\",\"\",VLOOKUP(CY15,$C$70:$F$78,4,FALSE))","v":""},null,null,null,null,"","",{"$f":"IF(G6=\"\",\"\",G6)","v":""},"","","","","","","","","","","","","","","","","","","",null,{"$f":"IF($E$87=\"\",\"\",$E$87)","v":""},"",null,{"$f":"IF(EC15=\"\",\"\",COUNTIFS($N$11:$BU$11,EC15,$N$16:$BU$16,\"RZ\"))","v":""},{"$f":"IF(ED15=\"\",\"\",COUNTIFS($N$11:$BU$11,EC15,$N$15:$BU$15,\"ZH\"))","v":""},null,"右",{"$f":"IF(DF10=\"\",\"\",DF10)","v":""},{"$f":"IF(DG10=\"\",\"\",DG10)","v":""},"","",null,"","",{"$f":"IF(F10=\"\",\"\",F10)","v":""},"右","","","","","","","","","","","","","","","","","","","",null,"","","","","","","","","","","","",null,null,null,null,null,null,null,null,null,null,null,null,null,null,null,null,null,null,null,null,null,null,null,null,null,null,null,null,null,null,null,null,null,null,null,null,null,null,null,null,null,null,null,null,null,null,null,null,null,"","","","","","","",""]
[null,null,"投手欄",null,null,null,null,null,null,null,null,null,null,null,null,null,null,null,null,null,null,null,null,null,null,null,null,null,null,null,null,null,null,null,null,null,null,null,null,null,null,null,null,null,null,null,null,null,null,null,null,null,null,null,null,null,null,null,null,null,null,null,null,null,null,null,null,null,null,null,null,null,null,"",{"$f":"IF(L16=\"\",\"\",(BX16+CG16+CH16+CI16))","v":""},"",{"$f":"IF(L16=\"\",\"\",COUNTIFS($N$11:$BU$11,L16,$N$16:$BU$16,$BY$3))","v":""},{"$f":"IF(L16=\"\",\"\",COUNTIFS($N$11:$BU$11,L16,$N$16:$BU$16,$BZ$3))","v":""},{"$f":"IF(L16=\"\",\"\",COUNTIFS($N$11:$BU$11,L16,$N$14:$BU$14,$CA$3))","v":""},{"$f":"IF(L16=\"\",\"\",COUNTIFS($N$11:$BU$11,L16,$N$14:$BU$14,$CB$3))","v":""},{"$f":"IF(L16=\"\",\"\",COUNTIFS($N$11:$BU$11,L16,$N$16:$BU$16,$CC$3))","v":""},{"$f":"IF(L16=\"\",\"\",COUNTIFS($N$11:$BU$11,L16,$N$16:$BU$16,$CD$3)+COUNTIFS($N$11:$BU$11,L16,$N$15:$BU$15,$CD$3)+COUNTIFS($N$11:$BU$11,L16,$N$14:$BU$14,$CD$3))","v":""},{"$f":"IF(L16=\"\",\"\",COUNTIFS($N$11:$BU$11,L16,$N$15:$BU$15,$CE$3))","v":""},{"$f":"IF(L16=\"\",\"\",COUNTIFS($N$11:$BU$11,L16,$N$16:$BU$16,$CF$3))","v":""},{"$f":"IF(L16=\"\",\"\",COUNTIFS($N$11:$BU$11,L16,$N$16:$BU$16,$CG$3))","v":""},{"$f":"IF(L16=\"\",\"\",COUNTIFS($N$11:$BU$11,L16,$N$16:$BU$16,$CH$3))","v":""},{"$f":"IF(L16=\"\",\"\",COUNTIFS($N$11:$BU$11,L16,$N$16:$BU$16,$CI$3))","v":""},{"$f":"IF(L16=\"\",\"\",COUNTIFS($N$11:$BU$11,L16,$N$16:$BU$16,$CJ$3))","v":""},{"$f":"IF(L16=\"\",\"\",COUNTIFS($N$11:$BU$11,L16,$N$16:$BU$16,$CK$3)+COUNTIFS($N$11:$BU$11,L16,$N$14:$BU$14,$CK$3))","v":""},{"$f":"IF(L16=\"\",\"\",COUNTIFS($N$11:$BU$11,L16,$N$16:$BU$16,$CL$3)+COUNTIFS($N$11:$BU$11,L16,$N$14:$BU$14,$CL$3))","v":""},{"$f":"IF(L16=\"\",\"\",COUNTIFS($N$11:$BU$11,L16,$N$16:$BU$16,$CM$3))","v":""},{"$f":"IF(L16=\"\",\"\",COUNTIFS($N$11:$BU$11,L16,$N$16:$BU$16,$CN$3))","v":""},{"$f":"IF(L16=\"\",\"\",COUNTIFS($N$11:$BU$11,L16,$N$12:$BU$12,$CO$3)+COUNTIFS($N$11:$BU$11,L16,$N$13:$BU$13,$CO$3))","v":""},null,null,null,null,null,null,null,"",null,null,{"$f":"IF(CY16=\"\",\"\",VLOOKUP(CY16,$C$70:$F$78,4,FALSE))","v":""},null,null,null,null,"","","","","","","","","","","","","","","","","","","","","","",null,{"$f":"IF($E$88=\"\",\"\",$E$88)","v":""},"",null,{"$f":"IF(EC16=\"\",\"\",COUNTIFS($N$11:$BU$11,EC16,$N$16:$BU$16,\"RZ\"))","v":""},{"$f":"IF(ED16=\"\",\"\",COUNTIFS($N$11:$BU$11,EC16,$N$15:$BU$15,\"ZH\"))","v":""},null,"左",{"$f":"IF(DF10=\"\",\"\",DF10)","v":""},{"$f":"EJ15","v":""},"","",null,"","",{"$f":"IF(F10=\"\",\"\",F10)","v":""},"左","","","","","","","","","","","","","","","","","","","",null,"","","","","","","","","","","","",null,null,null,null,null,null,null,null,null,null,null,null,null,null,null,null,null,null,null,null,null,null,null,null,null,null,null,null,null,null,null,null,null,null,null,null,null,null,null,null,null,null,null,null,null,null,null,null,null,"","","","","","","",""]
[null,null,"順番","選手名","PS","背番",null,null,null,null,null,null,"打者背番号を入力➡",null,{"$f":"N17","v":0},{"$f":"N17","v":0},{"$f":"N17","v":0},{"$f":"N17","v":0},null,{"$f":"S17","v":0},{"$f":"S17","v":0},{"$f":"S17","v":0},{"$f":"S17","v":0},null,{"$f":"X17","v":0},{"$f":"X17","v":0},{"$f":"X17","v":0},{"$f":"X17","v":0},null,{"$f":"AC17","v":0},{"$f":"AC17","v":0},{"$f":"AC17","v":0},{"$f":"AC17","v":0},null,{"$f":"AH17","v":0},{"$f":"AH17","v":0},{"$f":"AH17","v":0},{"$f":"AH17","v":0},null,{"$f":"AM17","v":0},{"$f":"AM17","v":0},{"$f":"AM17","v":0},{"$f":"AM17","v":0},null,{"$f":"AR17","v":0},{"$f":"AR17","v":0},{"$f":"AR17","v":0},{"$f":"AR17","v":0},null,{"$f":"AW17","v":0},{"$f":"AW17","v":0},{"$f":"AW17","v":0},{"$f":"AW17","v":0},null,{"$f":"BB17","v":0},{"$f":"BB17","v":0},{"$f":"BB17","v":0},{"$f":"BB17","v":0},null,{"$f":"BG17","v":0},{"$f":"BG17","v":0},{"$f":"BG17","v":0},{"$f":"BG17","v":0},null,{"$f":"BL17","v":0},{"$f":"BL17","v":0},{"$f":"BL17","v":0},{"$f":"BL17","v":0},null,{"$f":"BQ17","v":0},{"$f":"BQ17","v":0},{"$f":"BQ17","v":0},{"$f":"BQ17","v":0},null,null,null,null,null,null,null,null,null,null,null,null,null,null,null,null,null,null,null,null,null,null,null,null,null,null,null,null,null,null,null,null,null,null,null,"","","","","","","","","","","","","","","","","","","","","","",null,null,null,null,null,null,null,"右",{"$f":"IF(DF11=\"\",\"\",DF11)","v":""},{"$f":"IF(DG11=\"\",\"\",DG11)","v":""},"","",null,"","",{"$f":"IF(F11=\"\",\"\",F11)","v":""},"右","","","","","","","","","","","","","","","","","","","",null,"","","","","","","","","","","",""]
[null,null,null,null,null,null,null,null,{"$f":"IF(C7=\"\",\"\",C7)","v":""},{"$f":"IF(D7=\"\",\"\",D7)","v":""},{"$f":"IF(J18=\"\",\"\",\"先\")","v":""},{"$f":"IF(J18=\"\",\"\",F7)","v":""},"③",null,null,null,null,null,null,null,null,null,null,null,null,null,null,null,null,null,null,null,null,null,null,null,null,null,null,null,null,null,null,null,null,null,null,null,null,null,null,null,null,null,null,null,null,null,null,null,null,null,null,null,null,null,null,null,null,null,null,null,null,{"$f":"IF(K18=\"\",\"\",VLOOKUP(K18,$C$84:$E$90,3,FALSE))","v":""},{"$f":"IF(L18=\"\",\"\",(BX18+CG18+CH18+CI18))","v":""},{"$f":"IF(L18=\"\",\"\",(BY18+BZ18+CA18+CB18+CC18+CF18+CJ18+CM18+CN18))","v":""},{"$f":"IF(L18=\"\",\"\",COUNTIFS($N$17:$BU$17,L18,$N$22:$BU$22,$BY$3))","v":""},{"$f":"IF(L18=\"\",\"\",COUNTIFS($N$17:$BU$17,L18,$N$22:$BU$22,$BZ$3))","v":""},{"$f":"IF(L18=\"\",\"\",COUNTIFS($N$17:$BU$17,L18,$N$20:$BU$20,$CA$3))","v":""},{"$f":"IF(L18=\"\",\"\",COUNTIFS($N$17:$BU$17,L18,$N$20:$BU$20,$CB$3))","v":""},{"$f":"IF(L18=\"\",\"\",COUNTIFS($N$17:$BU$17,L18,$N$22:$BU$22,$CC$3))","v":""},{"$f":"IF(L18=\"\",\"\",COUNTIFS($N$17:$BU$17,L18,$N$22:$BU$22,$CD$3)+COUNTIFS($N$17:$BU$17,L18,$N$21:$BU$21,$CD$3)+COUNTIFS($N$17:$BU$17,L18,$N$20:$BU$20,$CD$3))","v":""},{"$f":"IF(L18=\"\",\"\",COUNTIFS($N$17:$BU$17,L18,$N$21:$BU$21,$CE$3))","v":""},{"$f":"IF(L18=\"\",\"\",COUNTIFS($N$17:$BU$17,L18,$N$22:$BU$22,$CF$3))","v":""},{"$f":"IF(L18=\"\",\"\",COUNTIFS($N$17:$BU$17,L18,$N$22:$BU$22,$CG$3))","v":""},{"$f":"IF(L18=\"\",\"\",COUNTIFS($N$17:$BU$17,L18,$N$22:$BU$22,$CH$3))","v":""},{"$f":"IF(L18=\"\",\"\",COUNTIFS($N$17:$BU$17,L18,$N$22:$BU$22,$CI$3))","v":""},{"$f":"IF(L18=\"\",\"\",COUNTIFS($N$17:$BU$17,L18,$N$22:$BU$22,$CJ$3))","v":""},{"$f":"IF(L18=\"\",\"\",COUNTIFS($N$17:$BU$17,L18,$N$22:$BU$22,$CK$3)+COUNTIFS($N$17:$BU$17,L18,$N$20:$BU$20,$CK$3))","v":""},{"$f":"IF(L18=\"\",\"\",COUNTIFS($N$17:$BU$17,L18,$N$22:$BU$22,$CL$3)+COUNTIFS($N$17:$BU$17,L18,$N$20:$BU$20,$CL$3))","v":""},{"$f":"IF(L18=\"\",\"\",COUNTIFS($N$17:$BU$17,L18,$N$22:$BU$22,$CM$3))","v":""},{"$f":"IF(L18=\"\",\"\",COUNTIFS($N$17:$BU$17,L18,$N$22:$BU$22,$CN$3))","v":""},{"$f":"IF(L18=\"\",\"\",COUNTIFS($N$17:$BU$17,L18,$N$18:$BU$18,$CO$3)+COUNTIFS($N$17:$BU$17,L18,$N$19:$BU$19,$CO$3))","v":""},null,null,null,null,null,null,null,{"$f":"IF(DA18=\"\",\"\",VLOOKUP(DA18,$C$84:$E$90,3,FALSE))","v":""},null,null,{"$f":"IF(CY18=\"\",\"\",VLOOKUP(CY18,$C$70:$F$78,4,FALSE))","v":""},null,null,null,null,"","","","","","","","","","","","","","","",{"$f":"IF(DF18=\"\",\"\",SUMIFS($CI$6:$CI$58,$J$6:$J$58,DF18))","v":""},"","","","","","",null,{"$f":"IF($E$84=\"\",\"\",$E$84)","v":""},"",{"$f":"IF(EC18=\"\",\"\",VLOOKUP(EC18,$C$29:$D$58,2,FALSE))","v":""},{"$f":"IF(EC18=\"\",\"\",COUNTIFS($N$17:$BU$17,EC18,$N$22:$BU$22,\"RZ\"))","v":""},{"$f":"IF(ED18=\"\",\"\",COUNTIFS($N$17:$BU$17,EC18,$N$21:$BU$21,\"ZH\"))","v":""},null,"左",{"$f":"IF(DF11=\"\",\"\",DF11)","v":""},{"$f":"EJ17","v":""},"","",null,"","",{"$f":"IF(F11=\"\",\"\",F11)","v":""},"左","","","","","","","","","","","","","","","","","","","",null,"","","","","","","","","","","","",null,null,null,null,null,null,null,null,null,null,null,null,null,null,null,null,null,null,null,null,null,null,null,null,null,null,null,null,null,null,null,null,null,null,null,null,null,null,null,null,null,null,null,null,null,null,null,null,null,"",{"$f":"IF(L18=\"\",\"\",L18)","v":""},{"$f":"IF(HU18=\"\",\"\",COUNTIFS($N$17:$BU$17,HV18,$N$18:$BU$18,$HW$3)+COUNTIFS($N$17:$BU$17,HV18,$N$19:$BU$19,$HW$3))","v":""},{"$f":"IF(HU18=\"\",\"\",COUNTIFS($N$17:$BU$17,HV18,$N$18:$BU$18,$HX$3)+COUNTIFS($N$17:$BU$17,HV18,$N$19:$BU$19,$HX$3))","v":""},{"$f":"IF(HU18=\"\",\"\",COUNTIFS($N$17:$BU$17,HV18,$N$18:$BU$18,$HY$3)+COUNTIFS($N$17:$BU$17,HV18,$N$19:$BU$19,$HY$3))","v":""},{"$f":"IF(HU18=\"\",\"\",COUNTIFS($N$17:$BU$17,HV18,$N$18:$BU$18,$HZ$3)+COUNTIFS($N$17:$BU$17,HV18,$N$19:$BU$19,$HZ$3))","v":""},{"$f":"IF(HU18=\"\",\"\",COUNTIFS($N$17:$BU$17,HV18,$N$18:$BU$18,$IA$3)+COUNTIFS($N$17:$BU$17,HV18,$N$19:$BU$19,$IA$3))","v":""},{"$f":"IF(HU18=\"\",\"\",COUNTIFS($N$17:$BU$17,HV18,$N$18:$BU$18,$IB$3)+COUNTIFS($N$17:$BU$17,HV18,$N$19:$BU$19,$IB$3))","v":""}]
[null,null,"先",null,{"$f":"IF(D19=\"\",\"\",VLOOKUP(D19,$D$29:$F$58,2,FALSE))","v":""},{"$f":"IF(D19=\"\",\"\",VLOOKUP(D19,$D$29:$F$58,3,FALSE))","v":""},null,null,null,null,null,null,null,null,null,null,null,null,null,null,null,null,null,null,null,null,null,null,null,null,null,null,null,null,null,null,null,null,null,null,null,null,null,null,null,null,null,null,null,null,null,null,null,null,null,null,null,null,null,null,null,null,null,null,null,null,null,null,null,null,null,null,null,{"$f":"IF(K19=\"\",\"\",VLOOKUP(K19,$C$84:$E$90,3,FALSE))","v":""},{"$f":"IF(L19=\"\",\"\",(BX19+CG19+CH19+CI19))","v":""},"",{"$f":"IF(L19=\"\",\"\",COUNTIFS($N$17:$BU$17,L19,$N$22:$BU$22,$BY$3))","v":""},{"$f":"IF(L19=\"\",\"\",COUNTIFS($N$17:$BU$17,L19,$N$22:$BU$22,$BZ$3))","v":""},{"$f":"IF(L19=\"\",\"\",COUNTIFS($N$17:$BU$17,L19,$N$20:$BU$20,$CA$3))","v":""},{"$f":"IF(L19=\"\",\"\",COUNTIFS($N$17:$BU$17,L19,$N$20:$BU$20,$CB$3))","v":""},{"$f":"IF(L19=\"\",\"\",COUNTIFS($N$17:$BU$17,L19,$N$22:$BU$22,$CC$3))","v":""},{"$f":"IF(L19=\"\",\"\",COUNTIFS($N$17:$BU$17,L19,$N$22:$BU$22,$CD$3)+COUNTIFS($N$17:$BU$17,L19,$N$21:$BU$21,$CD$3)+COUNTIFS($N$17:$BU$17,L19,$N$20:$BU$20,$CD$3))","v":""},{"$f":"IF(L19=\"\",\"\",COUNTIFS($N$17:$BU$17,L19,$N$21:$BU$21,$CE$3))","v":""},{"$f":"IF(L19=\"\",\"\",COUNTIFS($N$17:$BU$17,L19,$N$22:$BU$22,$CF$3))","v":""},{"$f":"IF(L19=\"\",\"\",COUNTIFS($N$17:$BU$17,L19,$N$22:$BU$22,$CG$3))","v":""},{"$f":"IF(L19=\"\",\"\",COUNTIFS($N$17:$BU$17,L19,$N$22:$BU$22,$CH$3))","v":""},{"$f":"IF(L19=\"\",\"\",COUNTIFS($N$17:$BU$17,L19,$N$22:$BU$22,$CI$3))","v":""},{"$f":"IF(L19=\"\",\"\",COUNTIFS($N$17:$BU$17,L19,$N$22:$BU$22,$CJ$3))","v":""},{"$f":"IF(L19=\"\",\"\",COUNTIFS($N$17:$BU$17,L19,$N$22:$BU$22,$CK$3)+COUNTIFS($N$17:$BU$17,L19,$N$20:$BU$20,$CK$3))","v":""},{"$f":"IF(L19=\"\",\"\",COUNTIFS($N$17:$BU$17,L19,$N$22:$BU$22,$CL$3)+COUNTIFS($N$17:$BU$17,L19,$N$20:$BU$20,$CL$3))","v":""},{"$f":"IF(L19=\"\",\"\",COUNTIFS($N$17:$BU$17,L19,$N$22:$BU$22,$CM$3))","v":""},{"$f":"IF(L19=\"\",\"\",COUNTIFS($N$17:$BU$17,L19,$N$22:$BU$22,$CN$3))","v":""},{"$f":"IF(L19=\"\",\"\",COUNTIFS($N$17:$BU$17,L19,$N$18:$BU$18,$CO$3)+COUNTIFS($N$17:$BU$17,L19,$N$19:$BU$19,$CO$3))","v":""},null,null,null,null,null,null,null,{"$f":"IF(DA19=\"\",\"\",VLOOKUP(DA19,$C$84:$E$90,3,FALSE))","v":""},null,null,{"$f":"IF(CY19=\"\",\"\",VLOOKUP(CY19,$C$70:$F$78,4,FALSE))","v":""},null,null,null,null,"","","","","","","","","","","","","","","","","","","","","","",null,{"$f":"IF($E$85=\"\",\"\",$E$85)","v":""},"",null,{"$f":"IF(EC19=\"\",\"\",COUNTIFS($N$17:$BU$17,EC19,$N$22:$BU$22,\"RZ\"))","v":""},{"$f":"IF(ED19=\"\",\"\",COUNTIFS($N$17:$BU$17,EC19,$N$21:$BU$21,\"ZH\"))","v":""},null,"右",{"$f":"IF(DF12=\"\",\"\",DF12)","v":""},{"$f":"IF(DG12=\"\",\"\",DG12)","v":""},"","",null,"","",{"$f":"IF(F12=\"\",\"\",F12)","v":""},"右","","","","","","","","","","","","","","","","","","","",null,"","","","","","","","","","","","",null,null,null,null,null,null,null,null,null,null,null,null,null,null,null,null,null,null,null,null,null,null,null,null,null,null,null,null,null,null,null,null,null,null,null,null,null,null,null,null,null,null,null,null,null,null,null,null,null,"","",{"$f":"IF(HU19=\"\",\"\",COUNTIFS($N$17:$BU$17,HV19,$N$18:$BU$18,$HW$3)+COUNTIFS($N$17:$BU$17,HV19,$N$19:$BU$19,$HW$3))","v":""},{"$f":"IF(HU19=\"\",\"\",COUNTIFS($N$17:$BU$17,HV19,$N$18:$BU$18,$HX$3)+COUNTIFS($N$17:$BU$17,HV19,$N$19:$BU$19,$HX$3))","v":""},{"$f":"IF(HU19=\"\",\"\",COUNTIFS($N$17:$BU$17,HV19,$N$18:$BU$18,$HY$3)+COUNTIFS($N$17:$BU$17,HV19,$N$19:$BU$19,$HY$3))","v":""},{"$f":"IF(HU19=\"\",\"\",COUNTIFS($N$17:$BU$17,HV19,$N$18:$BU$18,$HZ$3)+COUNTIFS($N$17:$BU$17,HV19,$N$19:$BU$19,$HZ$3))","v":""},{"$f":"IF(HU19=\"\",\"\",COUNTIFS($N$17:$BU$17,HV19,$N$18:$BU$18,$IA$3)+COUNTIFS($N$17:$BU$17,HV19,$N$19:$BU$19,$IA$3))","v":""},{"$f":"IF(HU19=\"\",\"\",COUNTIFS($N$17:$BU$17,HV19,$N$18:$BU$18,$IB$3)+COUNTIFS($N$17:$BU$17,HV19,$N$19:$BU$19,$IB$3))","v":""}]
[null,null,2,null,"","",null,null,null,null,null,null,null,null,null,null,null,null,null,null,null,null,null,null,null,null,null,null,null,null,null,null,null,null,null,null,null,null,null,null,null,null,null,null,null,null,null,null,null,null,null,null,null,null,null,null,null,null,null,null,null,null,null,null,null,null,null,null,null,null,null,null,null,"",{"$f":"IF(L20=\"\",\"\",(BX20+CG20+CH20+CI20))","v":""},"",{"$f":"IF(L20=\"\",\"\",COUNTIFS($N$17:$BU$17,L20,$N$22:$BU$22,$BY$3))","v":""},{"$f":"IF(L20=\"\",\"\",COUNTIFS($N$17:$BU$17,L20,$N$22:$BU$22,$BZ$3))","v":""},{"$f":"IF(L20=\"\",\"\",COUNTIFS($N$17:$BU$17,L20,$N$20:$BU$20,$CA$3))","v":""},{"$f":"IF(L20=\"\",\"\",COUNTIFS($N$17:$BU$17,L20,$N$20:$BU$20,$CB$3))","v":""},{"$f":"IF(L20=\"\",\"\",COUNTIFS($N$17:$BU$17,L20,$N$22:$BU$22,$CC$3))","v":""},{"$f":"IF(L20=\"\",\"\",COUNTIFS($N$17:$BU$17,L20,$N$22:$BU$22,$CD$3)+COUNTIFS($N$17:$BU$17,L20,$N$21:$BU$21,$CD$3)+COUNTIFS($N$17:$BU$17,L20,$N$20:$BU$20,$CD$3))","v":""},{"$f":"IF(L20=\"\",\"\",COUNTIFS($N$17:$BU$17,L20,$N$21:$BU$21,$CE$3))","v":""},{"$f":"IF(L20=\"\",\"\",COUNTIFS($N$17:$BU$17,L20,$N$22:$BU$22,$CF$3))","v":""},{"$f":"IF(L20=\"\",\"\",COUNTIFS($N$17:$BU$17,L20,$N$22:$BU$22,$CG$3))","v":""},{"$f":"IF(L20=\"\",\"\",COUNTIFS($N$17:$BU$17,L20,$N$22:$BU$22,$CH$3))","v":""},{"$f":"IF(L20=\"\",\"\",COUNTIFS($N$17:$BU$17,L20,$N$22:$BU$22,$CI$3))","v":""},{"$f":"IF(L20=\"\",\"\",COUNTIFS($N$17:$BU$17,L20,$N$22:$BU$22,$CJ$3))","v":""},{"$f":"IF(L20=\"\",\"\",COUNTIFS($N$17:$BU$17,L20,$N$22:$BU$22,$CK$3)+COUNTIFS($N$17:$BU$17,L20,$N$20:$BU$20,$CK$3))","v":""},{"$f":"IF(L20=\"\",\"\",COUNTIFS($N$17:$BU$17,L20,$N$22:$BU$22,$CL$3)+COUNTIFS($N$17:$BU$17,L20,$N$20:$BU$20,$CL$3))","v":""},{"$f":"IF(L20=\"\",\"\",COUNTIFS($N$17:$BU$17,L20,$N$22:$BU$22,$CM$3))","v":""},{"$f":"IF(L20=\"\",\"\",COUNTIFS($N$17:$BU$17,L20,$N$22:$BU$22,$CN$3))","v":""},{"$f":"IF(L20=\"\",\"\",COUNTIFS($N$17:$BU$17,L20,$N$18:$BU$18,$CO$3)+COUNTIFS($N$17:$BU$17,L20,$N$19:$BU$19,$CO$3))","v":""},null,null,null,null,null,null,null,"",null,null,{"$f":"IF(CY20=\"\",\"\",VLOOKUP(CY20,$C$70:$F$78,4,FALSE))","v":""},null,null,null,null,"","","","","","","","","","","","","","","","","","","","","","",null,{"$f":"IF($E$86=\"\",\"\",$E$86)","v":""},"",null,{"$f":"IF(EC20=\"\",\"\",COUNTIFS($N$17:$BU$17,EC20,$N$22:$BU$22,\"RZ\"))","v":""},{"$f":"IF(ED20=\"\",\"\",COUNTIFS($N$17:$BU$17,EC20,$N$21:$BU$21,\"ZH\"))","v":""},null,"左",{"$f":"IF(DF12=\"\",\"\",DF12)","v":""},{"$f":"EJ19","v":""},"","",null,"","",{"$f":"IF(F12=\"\",\"\",F12)","v":""},"左","","","","","","","","","","","","","","","","","","","",null,"","","","","","","","","","","","",null,null,null,null,null,null,null,null,null,null,null,null,null,null,null,null,null,null,null,null,null,null,null,null,null,null,null,null,null,null,null,null,null,null,null,null,null,null,null,null,null,null,null,null,null,null,null,null,null,"","","","","","","",""]
[null,null,3,null,"","",null,null,null,null,null,null,null,null,null,null,null,null,null,null,null,null,null,null,null,null,null,null,null,null,null,null,null,null,null,null,null,null,null,null,null,null,null,null,null,null,null,null,null,null,null,null,null,null,null,null,null,null,null,null,null,null,null,null,null,null,null,null,null,null,null,null,null,"",{"$f":"IF(L21=\"\",\"\",(BX21+CG21+CH21+CI21))","v":""},"",{"$f":"IF(L21=\"\",\"\",COUNTIFS($N$17:$BU$17,L21,$N$22:$BU$22,$BY$3))","v":""},{"$f":"IF(L21=\"\",\"\",COUNTIFS($N$17:$BU$17,L21,$N$22:$BU$22,$BZ$3))","v":""},{"$f":"IF(L21=\"\",\"\",COUNTIFS($N$17:$BU$17,L21,$N$20:$BU$20,$CA$3))","v":""},{"$f":"IF(L21=\"\",\"\",COUNTIFS($N$17:$BU$17,L21,$N$20:$BU$20,$CB$3))","v":""},{"$f":"IF(L21=\"\",\"\",COUNTIFS($N$17:$BU$17,L21,$N$22:$BU$22,$CC$3))","v":""},{"$f":"IF(L21=\"\",\"\",COUNTIFS($N$17:$BU$17,L21,$N$22:$BU$22,$CD$3)+COUNTIFS($N$17:$BU$17,L21,$N$21:$BU$21,$CD$3)+COUNTIFS($N$17:$BU$17,L21,$N$20:$BU$20,$CD$3))","v":""},{"$f":"IF(L21=\"\",\"\",COUNTIFS($N$17:$BU$17,L21,$N$21:$BU$21,$CE$3))","v":""},{"$f":"IF(L21=\"\",\"\",COUNTIFS($N$17:$BU$17,L21,$N$22:$BU$22,$CF$3))","v":""},{"$f":"IF(L21=\"\",\"\",COUNTIFS($N$17:$BU$17,L21,$N$22:$BU$22,$CG$3))","v":""},{"$f":"IF(L21=\"\",\"\",COUNTIFS($N$17:$BU$17,L21,$N$22:$BU$22,$CH$3))","v":""},{"$f":"IF(L21=\"\",\"\",COUNTIFS($N$17:$BU$17,L21,$N$22:$BU$22,$CI$3))","v":""},{"$f":"IF(L21=\"\",\"\",COUNTIFS($N$17:$BU$17,L21,$N$22:$BU$22,$CJ$3))","v":""},{"$f":"IF(L21=\"\",\"\",COUNTIFS($N$17:$BU$17,L21,$N$22:$BU$22,$CK$3)+COUNTIFS($N$17:$BU$17,L21,$N$20:$BU$20,$CK$3))","v":""},{"$f":"IF(L21=\"\",\"\",COUNTIFS($N$17:$BU$17,L21,$N$22:$BU$22,$CL$3)+COUNTIFS($N$17:$BU$17,L21,$N$20:$BU$20,$CL$3))","v":""},{"$f":"IF(L21=\"\",\"\",COUNTIFS($N$17:$BU$17,L21,$N$22:$BU$22,$CM$3))","v":""},{"$f":"IF(L21=\"\",\"\",COUNTIFS($N$17:$BU$17,L21,$N$22:$BU$22,$CN$3))","v":""},{"$f":"IF(L21=\"\",\"\",COUNTIFS($N$17:$BU$17,L21,$N$18:$BU$18,$CO$3)+COUNTIFS($N$17:$BU$17,L21,$N$19:$BU$19,$CO$3))","v":""},null,null,null,null,null,null,null,"",null,null,{"$f":"IF(CY21=\"\",\"\",VLOOKUP(CY21,$C$70:$F$78,4,FALSE))","v":""},null,null,null,null,"","","","","","","","","","","","","","","","","","","","","","",null,{"$f":"IF($E$87=\"\",\"\",$E$87)","v":""},"",null,{"$f":"IF(EC21=\"\",\"\",COUNTIFS($N$17:$BU$17,EC21,$N$22:$BU$22,\"RZ\"))","v":""},{"$f":"IF(ED21=\"\",\"\",COUNTIFS($N$17:$BU$17,EC21,$N$21:$BU$21,\"ZH\"))","v":""},null,"右",{"$f":"IF(DF13=\"\",\"\",DF13)","v":""},{"$f":"IF(DG13=\"\",\"\",DG13)","v":""},"","",null,"","",{"$f":"IF(F13=\"\",\"\",F13)","v":""},"右","","","","","","","","","","","","","","","","","","","",null,"","","","","","","","","","","","",null,null,null,null,null,null,null,null,null,null,null,null,null,null,null,null,null,null,null,null,null,null,null,null,null,null,null,null,null,null,null,null,null,null,null,null,null,null,null,null,null,null,null,null,null,null,null,null,null,"","","","","","","",""]
[null,null,4,null,"","",null,null,null,{"$f":"IF(L22=\"\",\"\",VLOOKUP(L22,$C$29:$D$58,2,FALSE))","v":""},null,null,null,null,null,null,null,null,null,null,null,null,null,null,null,null,null,null,null,null,null,null,null,null,null,null,null,null,null,null,null,null,null,null,null,null,null,null,null,null,null,null,null,null,null,null,null,null,null,null,null,null,null,null,null,null,null,null,null,null,null,null,null,"",{"$f":"IF(L22=\"\",\"\",(BX22+CG22+CH22+CI22))","v":""},"",{"$f":"IF(L22=\"\",\"\",COUNTIFS($N$17:$BU$17,L22,$N$22:$BU$22,$BY$3))","v":""},{"$f":"IF(L22=\"\",\"\",COUNTIFS($N$17:$BU$17,L22,$N$22:$BU$22,$BZ$3))","v":""},{"$f":"IF(L22=\"\",\"\",COUNTIFS($N$17:$BU$17,L22,$N$20:$BU$20,$CA$3))","v":""},{"$f":"IF(L22=\"\",\"\",COUNTIFS($N$17:$BU$17,L22,$N$20:$BU$20,$CB$3))","v":""},{"$f":"IF(L22=\"\",\"\",COUNTIFS($N$17:$BU$17,L22,$N$22:$BU$22,$CC$3))","v":""},{"$f":"IF(L22=\"\",\"\",COUNTIFS($N$17:$BU$17,L22,$N$22:$BU$22,$CD$3)+COUNTIFS($N$17:$BU$17,L22,$N$21:$BU$21,$CD$3)+COUNTIFS($N$17:$BU$17,L22,$N$20:$BU$20,$CD$3))","v":""},{"$f":"IF(L22=\"\",\"\",COUNTIFS($N$17:$BU$17,L22,$N$21:$BU$21,$CE$3))","v":""},{"$f":"IF(L22=\"\",\"\",COUNTIFS($N$17:$BU$17,L22,$N$22:$BU$22,$CF$3))","v":""},{"$f":"IF(L22=\"\",\"\",COUNTIFS($N$17:$BU$17,L22,$N$22:$BU$22,$CG$3))","v":""},{"$f":"IF(L22=\"\",\"\",COUNTIFS($N$17:$BU$17,L22,$N$22:$BU$22,$CH$3))","v":""},{"$f":"IF(L22=\"\",\"\",COUNTIFS($N$17:$BU$17,L22,$N$22:$BU$22,$CI$3))","v":""},{"$f":"IF(L22=\"\",\"\",COUNTIFS($N$17:$BU$17,L22,$N$22:$BU$22,$CJ$3))","v":""},{"$f":"IF(L22=\"\",\"\",COUNTIFS($N$17:$BU$17,L22,$N$22:$BU$22,$CK$3)+COUNTIFS($N$17:$BU$17,L22,$N$20:$BU$20,$CK$3))","v":""},{"$f":"IF(L22=\"\",\"\",COUNTIFS($N$17:$BU$17,L22,$N$22:$BU$22,$CL$3)+COUNTIFS($N$17:$BU$17,L22,$N$20:$BU$20,$CL$3))","v":""},{"$f":"IF(L22=\"\",\"\",COUNTIFS($N$17:$BU$17,L22,$N$22:$BU$22,$CM$3))","v":""},{"$f":"IF(L22=\"\",\"\",COUNTIFS($N$17:$BU$17,L22,$N$22:$BU$22,$CN$3))","v":""},{"$f":"IF(L22=\"\",\"\",COUNTIFS($N$17:$BU$17,L22,$N$18:$BU$18,$CO$3)+COUNTIFS($N$17:$BU$17,L22,$N$19:$BU$19,$CO$3))","v":""},null,null,null,null,null,null,null,"",null,null,{"$f":"IF(CY22=\"\",\"\",VLOOKUP(CY22,$C$70:$F$78,4,FALSE))","v":""},null,null,null,null,"","","",{"$f":"IF(DF22=\"\",\"\",SUMIFS($BW$6:$BW$58,$J$6:$J$58,DF22))","v":""},"","","","","","","","","","","","","",{"$f":"IF(DF22=\"\",\"\",SUMIFS($CK$6:$CK$58,$J$6:$J$58,DF22))","v":""},"","","","",null,{"$f":"IF($E$88=\"\",\"\",$E$88)","v":""},"","",{"$f":"IF(EC22=\"\",\"\",COUNTIFS($N$17:$BU$17,EC22,$N$22:$BU$22,\"RZ\"))","v":""},{"$f":"IF(ED22=\"\",\"\",COUNTIFS($N$17:$BU$17,EC22,$N$21:$BU$21,\"ZH\"))","v":""},null,"左",{"$f":"IF(DF13=\"\",\"\",DF13)","v":""},{"$f":"EJ21","v":""},"","",null,"","",{"$f":"IF(F13=\"\",\"\",F13)","v":""},"左","","","","","","","","","","","","","","","","","","","",null,"","","","","","","","","","","","",null,null,null,null,null,null,null,null,null,null,null,null,null,null,null,null,null,null,null,null,null,null,null,null,null,null,null,null,null,null,null,null,null,null,null,null,null,null,null,null,null,null,null,null,null,null,null,null,null,"","","","","","","",""]
[null,null,5,null,"","",null,null,null,null,null,null,"打者背番号を入力➡",null,{"$f":"N23","v":0},{"$f":"N23","v":0},{"$f":"N23","v":0},{"$f":"N23","v":0},null,{"$f":"S23","v":0},{"$f":"S23","v":0},{"$f":"S23","v":0},{"$f":"S23","v":0},null,{"$f":"X23","v":0},{"$f":"X23","v":0},{"$f":"X23","v":0},{"$f":"X23","v":0},null,{"$f":"AC23","v":0},{"$f":"AC23","v":0},{"$f":"AC23","v":0},{"$f":"AC23","v":0},null,{"$f":"AH23","v":0},{"$f":"AH23","v":0},{"$f":"AH23","v":0},{"$f":"AH23","v":0},null,{"$f":"AM23","v":0},{"$f":"AM23","v":0},{"$f":"AM23","v":0},{"$f":"AM23","v":0},null,{"$f":"AR23","v":0},{"$f":"AR23","v":0},{"$f":"AR23","v":0},{"$f":"AR23","v":0},null,{"$f":"AW23","v":0},{"$f":"AW23","v":0},{"$f":"AW23","v":0},{"$f":"AW23","v":0},null,{"$f":"BB23","v":0},{"$f":"BB23","v":0},{"$f":"BB23","v":0},{"$f":"BB23","v":0},null,{"$f":"BG23","v":0},{"$f":"BG23","v":0},{"$f":"BG23","v":0},{"$f":"BG23","v":0},null,{"$f":"BL23","v":0},{"$f":"BL23","v":0},{"$f":"BL23","v":0},{"$f":"BL23","v":0},null,{"$f":"BQ23","v":0},{"$f":"BQ23","v":0},{"$f":"BQ23","v":0},{"$f":"BQ23","v":0},null,null,null,null,null,null,null,null,null,null,null,null,null,null,null,null,null,null,null,null,null,null,null,null,null,null,null,null,null,null,null,null,null,null,null,null,null,null,null,null,null,null,null,null,null,null,null,null,null,null,null,null,null,null,null,null,null,null,null,null,null,null,null,null,"右",{"$f":"IF(DF14=\"\",\"\",DF14)","v":""},{"$f":"IF(DG14=\"\",\"\",DG14)","v":""},"","",null,"","",{"$f":"IF(G5=\"\",\"\",G5)","v":""},"右","","","","","","","","","","","","","","","","","","",""]
[null,null,6,null,"","",null,null,{"$f":"IF(C8=\"\",\"\",C8)","v":""},{"$f":"IF(D8=\"\",\"\",D8)","v":""},{"$f":"IF(J24=\"\",\"\",\"先\")","v":""},{"$f":"IF(J24=\"\",\"\",F8)","v":""},"④",null,null,null,null,null,null,null,null,null,null,null,null,null,null,null,null,null,null,null,null,null,null,null,null,null,null,null,null,null,null,null,null,null,null,null,null,null,null,null,null,null,null,null,null,null,null,null,null,null,null,null,null,null,null,null,null,null,null,null,null,{"$f":"IF(K24=\"\",\"\",VLOOKUP(K24,$C$84:$E$90,3,FALSE))","v":""},{"$f":"IF(L24=\"\",\"\",(BX24+CG24+CH24+CI24))","v":""},{"$f":"IF(L24=\"\",\"\",(BY24+BZ24+CA24+CB24+CC24+CF24+CJ24+CM24+CN24))","v":""},{"$f":"IF(L24=\"\",\"\",COUNTIFS($N$23:$BU$23,L24,$N$28:$BU$28,$BY$3))","v":""},{"$f":"IF(L24=\"\",\"\",COUNTIFS($N$23:$BU$23,L24,$N$28:$BU$28,$BZ$3))","v":""},{"$f":"IF(L24=\"\",\"\",COUNTIFS($N$23:$BU$23,L24,$N$26:$BU$26,$CA$3))","v":""},{"$f":"IF(L24=\"\",\"\",COUNTIFS($N$23:$BU$23,L24,$N$26:$BU$26,$CB$3))","v":""},{"$f":"IF(L24=\"\",\"\",COUNTIFS($N$23:$BU$23,L24,$N$28:$BU$28,$CC$3))","v":""},{"$f":"IF(L24=\"\",\"\",COUNTIFS($N$23:$BU$23,L24,$N$28:$BU$28,$CD$3)+COUNTIFS($N$23:$BU$23,L24,$N$27:$BU$27,$CD$3)+COUNTIFS($N$23:$BU$23,L24,$N$26:$BU$26,$CD$3))","v":""},{"$f":"IF(L24=\"\",\"\",COUNTIFS($N$23:$BU$23,L24,$N$27:$BU$27,$CE$3))","v":""},{"$f":"IF(L24=\"\",\"\",COUNTIFS($N$23:$BU$23,L24,$N$28:$BU$28,$CF$3))","v":""},{"$f":"IF(L24=\"\",\"\",COUNTIFS($N$23:$BU$23,L24,$N$28:$BU$28,$CG$3))","v":""},{"$f":"IF(L24=\"\",\"\",COUNTIFS($N$23:$BU$23,L24,$N$28:$BU$28,$CH$3))","v":""},{"$f":"IF(L24=\"\",\"\",COUNTIFS($N$23:$BU$23,L24,$N$28:$BU$28,$CI$3))","v":""},{"$f":"IF(L24=\"\",\"\",COUNTIFS($N$23:$BU$23,L24,$N$28:$BU$28,$CJ$3))","v":""},{"$f":"IF(L24=\"\",\"\",COUNTIFS($N$23:$BU$23,L24,$N$28:$BU$28,$CK$3)+COUNTIFS($N$23:$BU$23,L24,$N$26:$BU$26,$CK$3))","v":""},{"$f":"IF(L24=\"\",\"\",COUNTIFS($N$23:$BU$23,L24,$N$28:$BU$28,$CL$3)+COUNTIFS($N$23:$BU$23,L24,$N$26:$BU$26,$CL$3))","v":""},{"$f":"IF(L24=\"\",\"\",COUNTIFS($N$23:$BU$23,$L$24,$N$28:$BU$28,$CM$3))","v":""},{"$f":"IF(L24=\"\",\"\",COUNTIFS($N$23:$BU$23,L24,$N$28:$BU$28,$CN$3))","v":""},{"$f":"IF(L24=\"\",\"\",COUNTIFS($N$23:$BU$23,L24,$N$24:$BU$24,$CO$3)+COUNTIFS($N$23:$BU$23,L24,$N$25:$BU$25,$CO$3))","v":""},null,null,null,null,null,null,null,{"$f":"IF(DA24=\"\",\"\",VLOOKUP(DA24,$C$84:$E$90,3,FALSE))","v":""},null,null,{"$f":"IF(CY24=\"\",\"\",VLOOKUP(CY24,$C$70:$F$78,4,FALSE))","v":""},null,null,null,null,{"$f":"IF(V2=\"\",\"\",V2)","v":""},{"$f":"IF(O2=\"\",\"\",O2)","v":""},null,{"$f":"IF($DF$24=\"\",\"\",SUM(DH5:DH22))","v":""},{"$f":"IF($DF$24=\"\",\"\",SUM(DI5:DI22))","v":""},"","","","","","","","","","","","","","","",{"$f":"IF($DF$24=\"\",\"\",SUM(DY70:DY87))","v":""},"",{"$f":"IF(V67=\"\",\"\",V67)","v":""},{"$f":"IF($E$84=\"\",\"\",$E$84)","v":""},"",{"$f":"IF(EC24=\"\",\"\",VLOOKUP(EC24,$C$29:$D$58,2,FALSE))","v":""},{"$f":"IF(EC24=\"\",\"\",COUNTIFS($N$23:$BU$23,EC24,$N$28:$BU$28,\"RZ\"))","v":""},{"$f":"IF(ED24=\"\",\"\",COUNTIFS($N$23:$BU$23,EC24,$N$27:$BU$27,\"ZH\"))","v":""},null,"左",{"$f":"IF(DF14=\"\",\"\",DF14)","v":""},"","","",null,"","",{"$f":"IF(G5=\"\",\"\",G5)","v":""},"左","","","","","","","","","","","","","","","","","","","",null,{"$f":"IF(FM5=\"\",\"\",$V$2)","v":""},"T計",null,{"$f":"IF($FN$5=\"\",\"\",SUM(FO5:FO22))","v":""},{"$f":"IF($FN$5=\"\",\"\",SUM(FP5:FP22))","v":""},"","","","","","","",null,null,null,null,null,null,null,null,null,null,null,null,null,null,null,null,null,null,null,null,null,null,null,null,null,null,null,null,null,null,null,null,null,null,null,null,null,null,null,null,null,null,null,null,null,null,null,null,null,"",{"$f":"IF(L24=\"\",\"\",L24)","v":""},{"$f":"IF(HU24=\"\",\"\",COUNTIFS($N$23:$BU$23,HV24,$N$24:$BU$24,$HW$3)+COUNTIFS($N$23:$BU$23,HV24,$N$25:$BU$25,$HW$3))","v":""},{"$f":"IF(HU24=\"\",\"\",COUNTIFS($N$23:$BU$23,HV24,$N$24:$BU$24,$HX$3)+COUNTIFS($N$23:$BU$23,HV24,$N$25:$BU$25,$HX$3))","v":""},{"$f":"IF(HU24=\"\",\"\",COUNTIFS($N$23:$BU$23,HV24,$N$24:$BU$24,$HY$3)+COUNTIFS($N$23:$BU$23,HV24,$N$25:$BU$25,$HY$3))","v":""},{"$f":"IF(HU24=\"\",\"\",COUNTIFS($N$23:$BU$23,HV24,$N$24:$BU$24,$HZ$3)+COUNTIFS($N$23:$BU$23,HV24,$N$25:$BU$25,$HZ$3))","v":""},{"$f":"IF(HU24=\"\",\"\",COUNTIFS($N$23:$BU$23,HV24,$N$24:$BU$24,$IA$3)+COUNTIFS($N$23:$BU$23,HV24,$N$25:$BU$25,$IA$3))","v":""},{"$f":"IF(HU24=\"\",\"\",COUNTIFS($N$23:$BU$23,HV24,$N$24:$BU$24,$IB$3)+COUNTIFS($N$23:$BU$23,HV24,$N$25:$BU$25,$IB$3))","v":""}]
[null,null,7,null,"","",null,null,null,null,null,null,null,null,null,null,null,null,null,null,null,null,null,null,null,null,null,null,null,null,null,null,null,null,null,null,null,null,null,null,null,null,null,null,null,null,null,null,null,null,null,null,null,null,null,null,null,null,null,null,null,null,null,null,null,null,null,null,null,null,null,null,null,{"$f":"IF(K25=\"\",\"\",VLOOKUP(K25,$C$84:$E$90,3,FALSE))","v":""},{"$f":"IF(L25=\"\",\"\",(BX25+CG25+CH25+CI25))","v":""},"",{"$f":"IF(L25=\"\",\"\",COUNTIFS($N$23:$BU$23,L25,$N$28:$BU$28,$BY$3))","v":""},{"$f":"IF(L25=\"\",\"\",COUNTIFS($N$23:$BU$23,L25,$N$28:$BU$28,$BZ$3))","v":""},{"$f":"IF(L25=\"\",\"\",COUNTIFS($N$23:$BU$23,L25,$N$26:$BU$26,$CA$3))","v":""},{"$f":"IF(L25=\"\",\"\",COUNTIFS($N$23:$BU$23,L25,$N$26:$BU$26,$CB$3))","v":""},{"$f":"IF(L25=\"\",\"\",COUNTIFS($N$23:$BU$23,L25,$N$28:$BU$28,$CC$3))","v":""},{"$f":"IF(L25=\"\",\"\",COUNTIFS($N$23:$BU$23,L25,$N$28:$BU$28,$CD$3)+COUNTIFS($N$23:$BU$23,L25,$N$27:$BU$27,$CD$3)+COUNTIFS($N$23:$BU$23,L25,$N$26:$BU$26,$CD$3))","v":""},{"$f":"IF(L25=\"\",\"\",COUNTIFS($N$23:$BU$23,L25,$N$27:$BU$27,$CE$3))","v":""},{"$f":"IF(L25=\"\",\"\",COUNTIFS($N$23:$BU$23,L25,$N$28:$BU$28,$CF$3))","v":""},{"$f":"IF(L25=\"\",\"\",COUNTIFS($N$23:$BU$23,L25,$N$28:$BU$28,$CG$3))","v":""},{"$f":"IF(L25=\"\",\"\",COUNTIFS($N$23:$BU$23,L25,$N$28:$BU$28,$CH$3))","v":""},{"$f":"IF(L25=\"\",\"\",COUNTIFS($N$23:$BU$23,L25,$N$28:$BU$28,$CI$3))","v":""},{"$f":"IF(L25=\"\",\"\",COUNTIFS($N$23:$BU$23,L25,$N$28:$BU$28,$CJ$3))","v":""},{"$f":"IF(L25=\"\",\"\",COUNTIFS($N$23:$BU$23,L25,$N$28:$BU$28,$CK$3)+COUNTIFS($N$23:$BU$23,L25,$N$26:$BU$26,$CK$3))","v":""},{"$f":"IF(L25=\"\",\"\",COUNTIFS($N$23:$BU$23,L25,$N$28:$BU$28,$CL$3)+COUNTIFS($N$23:$BU$23,L25,$N$26:$BU$26,$CL$3))","v":""},{"$f":"IF(L25=\"\",\"\",COUNTIFS($N$23:$BU$23,$L$24,$N$28:$BU$28,$CM$3))","v":""},{"$f":"IF(L25=\"\",\"\",COUNTIFS($N$23:$BU$23,L25,$N$28:$BU$28,$CN$3))","v":""},{"$f":"IF(L25=\"\",\"\",COUNTIFS($N$23:$BU$23,L25,$N$24:$BU$24,$CO$3)+COUNTIFS($N$23:$BU$23,L25,$N$25:$BU$25,$CO$3))","v":""},null,null,null,null,null,null,null,{"$f":"IF(DA25=\"\",\"\",VLOOKUP(DA25,$C$84:$E$90,3,FALSE))","v":""},null,null,{"$f":"IF(CY25=\"\",\"\",VLOOKUP(CY25,$C$70:$F$78,4,FALSE))","v":""},null,null,null,null,null,null,null,null,null,null,null,null,null,null,null,null,null,null,null,null,null,null,null,null,null,null,null,{"$f":"IF($E$85=\"\",\"\",$E$85)","v":""},"",null,{"$f":"IF(EC25=\"\",\"\",COUNTIFS($N$23:$BU$23,EC25,$N$28:$BU$28,\"RZ\"))","v":""},{"$f":"IF(ED25=\"\",\"\",COUNTIFS($N$23:$BU$23,EC25,$N$27:$BU$27,\"ZH\"))","v":""},null,"右",{"$f":"IF(DF15=\"\",\"\",DF15)","v":""},{"$f":"IF(DG15=\"\",\"\",DG15)","v":""},"","",null,"","",{"$f":"IF(G6=\"\",\"\",G6)","v":""},"右","","","","","","","","","","","","","","","","","","","",null,null,null,null,{"$f":"SUM(FO24:FQ24)","v":0},null,null,{"$f":"SUM(FR24:FT24)","v":0},null,null,{"$f":"SUM(FU24:FW24)","v":0},null,null,null,null,null,null,null,null,null,null,null,null,null,null,null,null,null,null,null,null,null,null,null,null,null,null,null,null,null,null,null,null,null,null,null,null,null,null,null,null,null,null,null,null,null,null,null,null,null,null,null,"","",{"$f":"IF(HU25=\"\",\"\",COUNTIFS($N$23:$BU$23,HV25,$N$24:$BU$24,$HW$3)+COUNTIFS($N$23:$BU$23,HV25,$N$25:$BU$25,$HW$3))","v":""},{"$f":"IF(HU25=\"\",\"\",COUNTIFS($N$23:$BU$23,HV25,$N$24:$BU$24,$HX$3)+COUNTIFS($N$23:$BU$23,HV25,$N$25:$BU$25,$HX$3))","v":""},{"$f":"IF(HU25=\"\",\"\",COUNTIFS($N$23:$BU$23,HV25,$N$24:$BU$24,$HY$3)+COUNTIFS($N$23:$BU$23,HV25,$N$25:$BU$25,$HY$3))","v":""},{"$f":"IF(HU25=\"\",\"\",COUNTIFS($N$23:$BU$23,HV25,$N$24:$BU$24,$HZ$3)+COUNTIFS($N$23:$BU$23,HV25,$N$25:$BU$25,$HZ$3))","v":""},{"$f":"IF(HU25=\"\",\"\",COUNTIFS($N$23:$BU$23,HV25,$N$24:$BU$24,$IA$3)+COUNTIFS($N$23:$BU$23,HV25,$N$25:$BU$25,$IA$3))","v":""},{"$f":"IF(HU25=\"\",\"\",COUNTIFS($N$23:$BU$23,HV25,$N$24:$BU$24,$IB$3)+COUNTIFS($N$23:$BU$23,HV25,$N$25:$BU$25,$IB$3))","v":""}]
[null,null,null,"チーム登録選手",null,null,null,null,null,null,null,null,null,null,null,null,null,null,null,null,null,null,null,null,null,null,null,null,null,null,null,null,null,null,null,null,null,null,null,null,null,null,null,null,null,null,null,null,null,null,null,null,null,null,null,null,null,null,null,null,null,null,null,null,null,null,null,null,null,null,null,null,null,"",{"$f":"IF(L26=\"\",\"\",(BX26+CG26+CH26+CI26))","v":""},"",{"$f":"IF(L26=\"\",\"\",COUNTIFS($N$23:$BU$23,L26,$N$28:$BU$28,$BY$3))","v":""},{"$f":"IF(L26=\"\",\"\",COUNTIFS($N$23:$BU$23,L26,$N$28:$BU$28,$BZ$3))","v":""},{"$f":"IF(L26=\"\",\"\",COUNTIFS($N$23:$BU$23,L26,$N$26:$BU$26,$CA$3))","v":""},{"$f":"IF(L26=\"\",\"\",COUNTIFS($N$23:$BU$23,L26,$N$26:$BU$26,$CB$3))","v":""},{"$f":"IF(L26=\"\",\"\",COUNTIFS($N$23:$BU$23,L26,$N$28:$BU$28,$CC$3))","v":""},{"$f":"IF(L26=\"\",\"\",COUNTIFS($N$23:$BU$23,L26,$N$28:$BU$28,$CD$3)+COUNTIFS($N$23:$BU$23,L26,$N$27:$BU$27,$CD$3)+COUNTIFS($N$23:$BU$23,L26,$N$26:$BU$26,$CD$3))","v":""},{"$f":"IF(L26=\"\",\"\",COUNTIFS($N$23:$BU$23,L26,$N$27:$BU$27,$CE$3))","v":""},{"$f":"IF(L26=\"\",\"\",COUNTIFS($N$23:$BU$23,L26,$N$28:$BU$28,$CF$3))","v":""},{"$f":"IF(L26=\"\",\"\",COUNTIFS($N$23:$BU$23,L26,$N$28:$BU$28,$CG$3))","v":""},{"$f":"IF(L26=\"\",\"\",COUNTIFS($N$23:$BU$23,L26,$N$28:$BU$28,$CH$3))","v":""},{"$f":"IF(L26=\"\",\"\",COUNTIFS($N$23:$BU$23,L26,$N$28:$BU$28,$CI$3))","v":""},{"$f":"IF(L26=\"\",\"\",COUNTIFS($N$23:$BU$23,L26,$N$28:$BU$28,$CJ$3))","v":""},{"$f":"IF(L26=\"\",\"\",COUNTIFS($N$23:$BU$23,L26,$N$28:$BU$28,$CK$3)+COUNTIFS($N$23:$BU$23,L26,$N$26:$BU$26,$CK$3))","v":""},{"$f":"IF(L26=\"\",\"\",COUNTIFS($N$23:$BU$23,L26,$N$28:$BU$28,$CL$3)+COUNTIFS($N$23:$BU$23,L26,$N$26:$BU$26,$CL$3))","v":""},{"$f":"IF(L26=\"\",\"\",COUNTIFS($N$23:$BU$23,$L$24,$N$28:$BU$28,$CM$3))","v":""},{"$f":"IF(L26=\"\",\"\",COUNTIFS($N$23:$BU$23,L26,$N$28:$BU$28,$CN$3))","v":""},{"$f":"IF(L26=\"\",\"\",COUNTIFS($N$23:$BU$23,L26,$N$24:$BU$24,$CO$3)+COUNTIFS($N$23:$BU$23,L26,$N$25:$BU$25,$CO$3))","v":""},null,null,null,null,null,null,null,"",null,null,{"$f":"IF(CY26=\"\",\"\",VLOOKUP(CY26,$C$70:$F$78,4,FALSE))","v":""},null,null,null,null,null,null,null,null,null,null,null,null,null,null,null,null,null,null,null,null,null,null,null,null,null,null,null,{"$f":"IF($E$86=\"\",\"\",$E$86)","v":""},"",null,{"$f":"IF(EC26=\"\",\"\",COUNTIFS($N$23:$BU$23,EC26,$N$28:$BU$28,\"RZ\"))","v":""},{"$f":"IF(ED26=\"\",\"\",COUNTIFS($N$23:$BU$23,EC26,$N$27:$BU$27,\"ZH\"))","v":""},null,"左",{"$f":"IF(DF15=\"\",\"\",DF15)","v":""},"","","",null,"","",{"$f":"IF(G6=\"\",\"\",G6)","v":""},"左","","","","","","","","","","","","","","","","","","","",null,null,null,null,null,null,null,null,null,null,null,null,null,null,null,null,null,null,null,null,null,null,null,null,null,null,null,null,null,null,null,null,null,null,null,null,null,null,null,null,null,null,null,null,null,null,null,null,null,null,null,null,null,null,null,null,null,null,null,null,null,null,"","","","","","","",""]
[null,null,"*","選手名","PS","背番",null,null,null,null,null,null,null,null,null,null,null,null,null,null,null,null,null,null,null,null,null,null,null,null,null,null,null,null,null,null,null,null,null,null,null,null,null,null,null,null,null,null,null,null,null,null,null,null,null,null,null,null,null,null,null,null,null,null,null,null,null,null,null,null,null,null,null,"",{"$f":"IF(L27=\"\",\"\",(BX27+CG27+CH27+CI27))","v":""},"",{"$f":"IF(L27=\"\",\"\",COUNTIFS($N$23:$BU$23,L27,$N$28:$BU$28,$BY$3))","v":""},{"$f":"IF(L27=\"\",\"\",COUNTIFS($N$23:$BU$23,L27,$N$28:$BU$28,$BZ$3))","v":""},{"$f":"IF(L27=\"\",\"\",COUNTIFS($N$23:$BU$23,L27,$N$26:$BU$26,$CA$3))","v":""},{"$f":"IF(L27=\"\",\"\",COUNTIFS($N$23:$BU$23,L27,$N$26:$BU$26,$CB$3))","v":""},{"$f":"IF(L27=\"\",\"\",COUNTIFS($N$23:$BU$23,L27,$N$28:$BU$28,$CC$3))","v":""},{"$f":"IF(L27=\"\",\"\",COUNTIFS($N$23:$BU$23,L27,$N$28:$BU$28,$CD$3)+COUNTIFS($N$23:$BU$23,L27,$N$27:$BU$27,$CD$3)+COUNTIFS($N$23:$BU$23,L27,$N$26:$BU$26,$CD$3))","v":""},{"$f":"IF(L27=\"\",\"\",COUNTIFS($N$23:$BU$23,L27,$N$27:$BU$27,$CE$3))","v":""},{"$f":"IF(L27=\"\",\"\",COUNTIFS($N$23:$BU$23,L27,$N$28:$BU$28,$CF$3))","v":""},{"$f":"IF(L27=\"\",\"\",COUNTIFS($N$23:$BU$23,L27,$N$28:$BU$28,$CG$3))","v":""},{"$f":"IF(L27=\"\",\"\",COUNTIFS($N$23:$BU$23,L27,$N$28:$BU$28,$CH$3))","v":""},{"$f":"IF(L27=\"\",\"\",COUNTIFS($N$23:$BU$23,L27,$N$28:$BU$28,$CI$3))","v":""},{"$f":"IF(L27=\"\",\"\",COUNTIFS($N$23:$BU$23,L27,$N$28:$BU$28,$CJ$3))","v":""},{"$f":"IF(L27=\"\",\"\",COUNTIFS($N$23:$BU$23,L27,$N$28:$BU$28,$CK$3)+COUNTIFS($N$23:$BU$23,L27,$N$26:$BU$26,$CK$3))","v":""},{"$f":"IF(L27=\"\",\"\",COUNTIFS($N$23:$BU$23,L27,$N$28:$BU$28,$CL$3)+COUNTIFS($N$23:$BU$23,L27,$N$26:$BU$26,$CL$3))","v":""},{"$f":"IF(L27=\"\",\"\",COUNTIFS($N$23:$BU$23,$L$24,$N$28:$BU$28,$CM$3))","v":""},{"$f":"IF(L27=\"\",\"\",COUNTIFS($N$23:$BU$23,L27,$N$28:$BU$28,$CN$3))","v":""},{"$f":"IF(L27=\"\",\"\",COUNTIFS($N$23:$BU$23,L27,$N$24:$BU$24,$CO$3)+COUNTIFS($N$23:$BU$23,L27,$N$25:$BU$25,$CO$3))","v":""},null,null,null,null,null,null,null,"",null,null,{"$f":"IF(CY27=\"\",\"\",VLOOKUP(CY27,$C$70:$F$78,4,FALSE))","v":""},null,null,null,null,null,null,null,null,null,null,null,null,null,null,null,null,null,null,null,null,null,null,null,null,null,null,null,{"$f":"IF($E$87=\"\",\"\",$E$87)","v":""},"",null,{"$f":"IF(EC27=\"\",\"\",COUNTIFS($N$23:$BU$23,EC27,$N$28:$BU$28,\"RZ\"))","v":""},{"$f":"IF(ED27=\"\",\"\",COUNTIFS($N$23:$BU$23,EC27,$N$27:$BU$27,\"ZH\"))","v":""},null,"右",{"$f":"IF(DF16=\"\",\"\",DF16)","v":""},{"$f":"IF(DG16=\"\",\"\",DG16)","v":""},"","",null,"","",{"$f":"IF(G7=\"\",\"\",G7)","v":""},"右","","","","","","","","","","","","","","","","","","","",null,null,null,null,null,null,null,null,null,null,null,null,null,null,null,null,null,null,null,null,null,null,null,null,null,null,null,null,null,null,null,null,null,null,null,null,null,null,null,null,null,null,null,null,null,null,null,null,null,null,null,null,null,null,null,null,null,null,null,null,null,null,"","","","","","","",""]
[null,null,null,null,null,null,null,null,null,{"$f":"IF(L28=\"\",\"\",VLOOKUP(L28,$C$29:$D$58,2,FALSE))","v":""},null,null,null,null,null,null,null,null,null,null,null,null,null,null,null,null,null,null,null,null,null,null,null,null,null,null,null,null,null,null,null,null,null,null,null,null,null,null,null,null,null,null,null,null,null,null,null,null,null,null,null,null,null,null,null,null,null,null,null,null,null,null,null,"",{"$f":"IF(L28=\"\",\"\",(BX28+CG28+CH28+CI28))","v":""},"",{"$f":"IF(L28=\"\",\"\",COUNTIFS($N$23:$BU$23,L28,$N$28:$BU$28,$BY$3))","v":""},{"$f":"IF(L28=\"\",\"\",COUNTIFS($N$23:$BU$23,L28,$N$28:$BU$28,$BZ$3))","v":""},{"$f":"IF(L28=\"\",\"\",COUNTIFS($N$23:$BU$23,L28,$N$26:$BU$26,$CA$3))","v":""},{"$f":"IF(L28=\"\",\"\",COUNTIFS($N$23:$BU$23,L28,$N$26:$BU$26,$CB$3))","v":""},{"$f":"IF(L28=\"\",\"\",COUNTIFS($N$23:$BU$23,L28,$N$28:$BU$28,$CC$3))","v":""},{"$f":"IF(L28=\"\",\"\",COUNTIFS($N$23:$BU$23,L28,$N$28:$BU$28,$CD$3)+COUNTIFS($N$23:$BU$23,L28,$N$27:$BU$27,$CD$3)+COUNTIFS($N$23:$BU$23,L28,$N$26:$BU$26,$CD$3))","v":""},{"$f":"IF(L28=\"\",\"\",COUNTIFS($N$23:$BU$23,L28,$N$27:$BU$27,$CE$3))","v":""},{"$f":"IF(L28=\"\",\"\",COUNTIFS($N$23:$BU$23,L28,$N$28:$BU$28,$CF$3))","v":""},{"$f":"IF(L28=\"\",\"\",COUNTIFS($N$23:$BU$23,L28,$N$28:$BU$28,$CG$3))","v":""},{"$f":"IF(L28=\"\",\"\",COUNTIFS($N$23:$BU$23,L28,$N$28:$BU$28,$CH$3))","v":""},{"$f":"IF(L28=\"\",\"\",COUNTIFS($N$23:$BU$23,L28,$N$28:$BU$28,$CI$3))","v":""},{"$f":"IF(L28=\"\",\"\",COUNTIFS($N$23:$BU$23,L28,$N$28:$BU$28,$CJ$3))","v":""},{"$f":"IF(L28=\"\",\"\",COUNTIFS($N$23:$BU$23,L28,$N$28:$BU$28,$CK$3)+COUNTIFS($N$23:$BU$23,L28,$N$26:$BU$26,$CK$3))","v":""},{"$f":"IF(L28=\"\",\"\",COUNTIFS($N$23:$BU$23,L28,$N$28:$BU$28,$CL$3)+COUNTIFS($N$23:$BU$23,L28,$N$26:$BU$26,$CL$3))","v":""},{"$f":"IF(L28=\"\",\"\",COUNTIFS($N$23:$BU$23,$L$24,$N$28:$BU$28,$CM$3))","v":""},{"$f":"IF(L28=\"\",\"\",COUNTIFS($N$23:$BU$23,L28,$N$28:$BU$28,$CN$3))","v":""},{"$f":"IF(L28=\"\",\"\",COUNTIFS($N$23:$BU$23,L28,$N$24:$BU$24,$CO$3)+COUNTIFS($N$23:$BU$23,L28,$N$25:$BU$25,$CO$3))","v":""},null,null,null,null,null,null,null,"",null,null,{"$f":"IF(CY28=\"\",\"\",VLOOKUP(CY28,$C$70:$F$78,4,FALSE))","v":""},null,null,null,null,null,null,null,null,null,null,null,null,null,null,null,null,null,null,null,null,null,null,null,null,null,null,null,{"$f":"IF($E$88=\"\",\"\",$E$88)","v":""},"","",{"$f":"IF(EC28=\"\",\"\",COUNTIFS($N$23:$BU$23,EC28,$N$28:$BU$28,\"RZ\"))","v":""},{"$f":"IF(ED28=\"\",\"\",COUNTIFS($N$23:$BU$23,EC28,$N$27:$BU$27,\"ZH\"))","v":""},null,"左",{"$f":"IF(DF16=\"\",\"\",DF16)","v":""},"","","",null,"","",{"$f":"IF(G7=\"\",\"\",G7)","v":""},"左","","","","","","","","","","","","","","","","","","","",null,null,null,null,null,null,null,null,null,null,null,null,null,null,null,null,null,null,null,null,null,null,null,null,null,null,null,null,null,null,null,null,null,null,null,null,null,null,null,null,null,null,null,null,null,null,null,null,null,null,null,null,null,null,null,null,null,null,null,null,null,null,"","","","","","","",""]
[null,null,{"$f":"F29","v":0},null,null,null,null,null,null,null,null,null,"打者背番号を入力➡",null,{"$f":"N29","v":0},{"$f":"N29","v":0},{"$f":"N29","v":0},{"$f":"N29","v":0},null,{"$f":"S29","v":0},{"$f":"S29","v":0},{"$f":"S29","v":0},{"$f":"S29","v":0},null,{"$f":"X29","v":0},{"$f":"X29","v":0},{"$f":"X29","v":0},{"$f":"X29","v":0},null,{"$f":"AC29","v":0},{"$f":"AC29","v":0},{"$f":"AC29","v":0},{"$f":"AC29","v":0},null,{"$f":"AH29","v":0},{"$f":"AH29","v":0},{"$f":"AH29","v":0},{"$f":"AH29","v":0},null,{"$f":"AM29","v":0},{"$f":"AM29","v":0},{"$f":"AM29","v":0},{"$f":"AM29","v":0},null,{"$f":"AR29","v":0},{"$f":"AR29","v":0},{"$f":"AR29","v":0},{"$f":"AR29","v":0},null,{"$f":"AW29","v":0},{"$f":"AW29","v":0},{"$f":"AW29","v":0},{"$f":"AW29","v":0},null,{"$f":"BB29","v":0},{"$f":"BB29","v":0},{"$f":"BB29","v":0},{"$f":"BB29","v":0},null,{"$f":"BG29","v":0},{"$f":"BG29","v":0},{"$f":"BG29","v":0},{"$f":"BG29","v":0},null,{"$f":"BL29","v":0},{"$f":"BL29","v":0},{"$f":"BL29","v":0},{"$f":"BL29","v":0},null,{"$f":"BQ29","v":0},{"$f":"BQ29","v":0},{"$f":"BQ29","v":0},{"$f":"BQ29","v":0},null,null,null,null,null,null,null,null,null,null,null,null,null,null,null,null,null,null,null,null,null,null,null,null,null,null,null,null,null,null,null,null,null,null,null,null,null,null,null,null,null,null,null,null,null,null,null,null,null,null,null,null,null,null,null,null,null,null,null,null,null,null,null,null,"右",{"$f":"IF(DF17=\"\",\"\",DF17)","v":""},{"$f":"IF(DG17=\"\",\"\",DG17)","v":""},"","",null,"","",{"$f":"IF(G8=\"\",\"\",G8)","v":""},"右","","","","","","","","","","","","","","","","","","",""]
[null,null,{"$f":"F30","v":0},null,null,null,null,null,{"$f":"IF(C9=\"\",\"\",C9)","v":""},{"$f":"IF(D9=\"\",\"\",D9)","v":""},{"$f":"IF(J30=\"\",\"\",\"先\")","v":""},{"$f":"IF(J30=\"\",\"\",F9)","v":""},"⑤",null,null,null,null,null,null,null,null,null,null,null,null,null,null,null,null,null,null,null,null,null,null,null,null,null,null,null,null,null,null,null,null,null,null,null,null,null,null,null,null,null,null,null,null,null,null,null,null,null,null,null,null,null,null,null,null,null,null,null,null,{"$f":"IF(K30=\"\",\"\",VLOOKUP(K30,$C$84:$E$89,3,FALSE))","v":""},{"$f":"IF(L30=\"\",\"\",(BX30+CG30+CH30+CI30))","v":""},{"$f":"IF(L30=\"\",\"\",(BY30+BZ30+CA30+CB30+CC30+CF30+CJ30+CM30+CN30))","v":""},{"$f":"IF(L30=\"\",\"\",COUNTIFS($N$29:$BU$29,L30,$N$34:$BU$34,$BY$3))","v":""},{"$f":"IF(L30=\"\",\"\",COUNTIFS($N$29:$BU$29,L30,$N$34:$BU$34,$BZ$3))","v":""},{"$f":"IF(L30=\"\",\"\",COUNTIFS($N$29:$BU$29,L30,$N$32:$BU$32,$CA$3))","v":""},{"$f":"IF(L30=\"\",\"\",COUNTIFS($N$29:$BU$29,L30,$N$32:$BU$32,$CB$3))","v":""},{"$f":"IF(L30=\"\",\"\",COUNTIFS($N$29:$BU$29,L30,$N$34:$BU$34,$CC$3))","v":""},{"$f":"IF(L30=\"\",\"\",COUNTIFS($N$29:$BU$29,L30,$N$34:$BU$34,$CD$3)+COUNTIFS($N$29:$BU$29,L30,$N$33:$BU$33,$CD$3)+COUNTIFS($N$29:$BU$29,L30,$N$32:$BU$32,$CD$3))","v":""},{"$f":"IF(L30=\"\",\"\",COUNTIFS($N$29:$BU$29,L30,$N$33:$BU$33,$CE$3))","v":""},{"$f":"IF(L30=\"\",\"\",COUNTIFS($N$29:$BU$29,L30,$N$34:$BU$34,$CF$3))","v":""},{"$f":"IF(L30=\"\",\"\",COUNTIFS($N$29:$BU$29,L30,$N$34:$BU$34,$CG$3))","v":""},{"$f":"IF(L30=\"\",\"\",COUNTIFS($N$29:$BU$29,L30,$N$34:$BU$34,$CH$3))","v":""},{"$f":"IF(L30=\"\",\"\",COUNTIFS($N$29:$BU$29,L30,$N$34:$BU$34,$CI$3))","v":""},{"$f":"IF(L30=\"\",\"\",COUNTIFS($N$29:$BU$29,L30,$N$34:$BU$34,$CJ$3))","v":""},{"$f":"IF(L30=\"\",\"\",COUNTIFS($N$29:$BU$29,L30,$N$34:$BU$34,$CK$3)+COUNTIFS($N$29:$BU$29,L30,$N$32:$BU$32,$CK$3))","v":""},{"$f":"IF(L30=\"\",\"\",COUNTIFS($N$29:$BU$29,L30,$N$34:$BU$34,$CL$3)+COUNTIFS($N$29:$BU$29,L30,$N$32:$BU$32,$CL$3))","v":""},{"$f":"IF(L30=\"\",\"\",COUNTIFS($N$29:$BU$29,L30,$N$34:$BU$34,$CM$3))","v":""},{"$f":"IF(L30=\"\",\"\",COUNTIFS($N$29:$BU$29,L30,$N$34:$BU$34,$CN$3))","v":""},{"$f":"IF(L30=\"\",\"\",COUNTIFS($N$29:$BU$29,L30,$N$30:$BU$30,$CO$3)+COUNTIFS($N$29:$BU$29,L30,$N$31:$BU$31,$CO$3))","v":""},null,null,null,null,null,null,null,{"$f":"IF(DA30=\"\",\"\",VLOOKUP(DA30,$C$84:$E$90,3,FALSE))","v":""},null,null,{"$f":"IF(CY30=\"\",\"\",VLOOKUP(CY30,$C$70:$F$78,4,FALSE))","v":""},null,null,null,null,null,null,null,null,null,null,null,null,null,null,null,null,null,null,null,null,null,null,null,null,null,null,null,{"$f":"IF($E$84=\"\",\"\",$E$84)","v":""},"",{"$f":"IF(EC30=\"\",\"\",VLOOKUP(EC30,$C$29:$D$58,2,FALSE))","v":""},{"$f":"IF(EC30=\"\",\"\",COUNTIFS($N$29:$BU$29,EC30,$N$34:$BU$34,\"RZ\"))","v":""},{"$f":"IF(ED30=\"\",\"\",COUNTIFS($N$29:$BU$29,EC30,$N$33:$BU$33,\"ZH\"))","v":""},null,"左",{"$f":"IF(DF17=\"\",\"\",DF17)","v":""},"","","",null,"","",{"$f":"IF(G8=\"\",\"\",G8)","v":""},"左","","","","","","","","","","","","","","","","","","","",null,null,null,null,null,null,null,null,null,null,null,null,null,null,null,null,null,null,null,null,null,null,null,null,null,null,null,null,null,null,null,null,null,null,null,null,null,null,null,null,null,null,null,null,null,null,null,null,null,null,null,null,null,null,null,null,null,null,null,null,null,null,"",{"$f":"IF(L30=\"\",\"\",L30)","v":""},{"$f":"IF(HU30=\"\",\"\",COUNTIFS($N$29:$BU$29,HV30,$N$30:$BU$30,$HW$3)+COUNTIFS($N$29:$BU$29,HV30,$N$31:$BU$31,$HW$3))","v":""},{"$f":"IF(HU30=\"\",\"\",COUNTIFS($N$29:$BU$29,HV30,$N$30:$BU$30,$HX$3)+COUNTIFS($N$29:$BU$29,HV30,$N$31:$BU$31,$HX$3))","v":""},{"$f":"IF(HU30=\"\",\"\",COUNTIFS($N$29:$BU$29,HV30,$N$30:$BU$30,$HY$3)+COUNTIFS($N$29:$BU$29,HV30,$N$31:$BU$31,$HY$3))","v":""},{"$f":"IF(HU30=\"\",\"\",COUNTIFS($N$29:$BU$29,HV30,$N$30:$BU$30,$HZ$3)+COUNTIFS($N$29:$BU$29,HV30,$N$31:$BU$31,$HZ$3))","v":""},{"$f":"IF(HU30=\"\",\"\",COUNTIFS($N$29:$BU$29,HV30,$N$30:$BU$30,$IA$3)+COUNTIFS($N$29:$BU$29,HV30,$N$31:BU$31,IA$3))","v":""},{"$f":"IF(HU30=\"\",\"\",COUNTIFS($N$29:$BU$29,HV30,$N$30:$BU$30,$IB$3)+COUNTIFS($N$29:$BU$29,HV30,$N$31:$BU$31,$IB$3))","v":""}]
[null,null,0,null,null,null,null,null,null,null,null,null,null,null,null,null,null,null,null,null,null,null,null,null,null,null,null,null,null,null,null,null,null,null,null,null,null,null,null,null,null,null,null,null,null,null,null,null,null,null,null,null,null,null,null,null,null,null,null,null,null,null,null,null,null,null,null,null,null,null,null,null,null,{"$f":"IF(K31=\"\",\"\",VLOOKUP(K31,$C$84:$E$89,3,FALSE))","v":""},{"$f":"IF(L31=\"\",\"\",(BX31+CG31+CH31+CI31))","v":""},"",{"$f":"IF(L31=\"\",\"\",COUNTIFS($N$29:$BU$29,L31,$N$34:$BU$34,$BY$3))","v":""},{"$f":"IF(L31=\"\",\"\",COUNTIFS($N$29:$BU$29,L31,$N$34:$BU$34,$BZ$3))","v":""},{"$f":"IF(L31=\"\",\"\",COUNTIFS($N$29:$BU$29,L31,$N$32:$BU$32,$CA$3))","v":""},{"$f":"IF(L31=\"\",\"\",COUNTIFS($N$29:$BU$29,L31,$N$32:$BU$32,$CB$3))","v":""},{"$f":"IF(L31=\"\",\"\",COUNTIFS($N$29:$BU$29,L31,$N$34:$BU$34,$CC$3))","v":""},{"$f":"IF(L31=\"\",\"\",COUNTIFS($N$29:$BU$29,L31,$N$34:$BU$34,$CD$3)+COUNTIFS($N$29:$BU$29,L31,$N$33:$BU$33,$CD$3)+COUNTIFS($N$29:$BU$29,L31,$N$32:$BU$32,$CD$3))","v":""},{"$f":"IF(L31=\"\",\"\",COUNTIFS($N$29:$BU$29,L31,$N$33:$BU$33,$CE$3))","v":""},{"$f":"IF(L31=\"\",\"\",COUNTIFS($N$29:$BU$29,L31,$N$34:$BU$34,$CF$3))","v":""},{"$f":"IF(L31=\"\",\"\",COUNTIFS($N$29:$BU$29,L31,$N$34:$BU$34,$CG$3))","v":""},{"$f":"IF(L31=\"\",\"\",COUNTIFS($N$29:$BU$29,L31,$N$34:$BU$34,$CH$3))","v":""},{"$f":"IF(L31=\"\",\"\",COUNTIFS($N$29:$BU$29,L31,$N$34:$BU$34,$CI$3))","v":""},{"$f":"IF(L31=\"\",\"\",COUNTIFS($N$29:$BU$29,L31,$N$34:$BU$34,$CJ$3))","v":""},{"$f":"IF(L31=\"\",\"\",COUNTIFS($N$29:$BU$29,L31,$N$34:$BU$34,$CK$3)+COUNTIFS($N$29:$BU$29,L31,$N$32:$BU$32,$CK$3))","v":""},{"$f":"IF(L31=\"\",\"\",COUNTIFS($N$29:$BU$29,L31,$N$34:$BU$34,$CL$3)+COUNTIFS($N$29:$BU$29,L31,$N$32:$BU$32,$CL$3))","v":""},{"$f":"IF(L31=\"\",\"\",COUNTIFS($N$29:$BU$29,L31,$N$34:$BU$34,$CM$3))","v":""},{"$f":"IF(L31=\"\",\"\",COUNTIFS($N$29:$BU$29,L31,$N$34:$BU$34,$CN$3))","v":""},{"$f":"IF(L31=\"\",\"\",COUNTIFS($N$29:$BU$29,L31,$N$30:$BU$30,$CO$3)+COUNTIFS($N$29:$BU$29,L31,$N$31:$BU$31,$CO$3))","v":""},null,null,null,null,null,null,null,{"$f":"IF(DA31=\"\",\"\",VLOOKUP(DA31,$C$84:$E$90,3,FALSE))","v":""},null,null,{"$f":"IF(CY31=\"\",\"\",VLOOKUP(CY31,$C$70:$F$78,4,FALSE))","v":""},null,null,null,null,null,null,null,null,null,null,null,null,null,null,null,null,null,null,null,null,null,null,null,null,null,null,null,{"$f":"IF($E$85=\"\",\"\",$E$85)","v":""},"",null,{"$f":"IF(EC31=\"\",\"\",COUNTIFS($N$29:$BU$29,EC31,$N$34:$BU$34,\"RZ\"))","v":""},{"$f":"IF(ED31=\"\",\"\",COUNTIFS($N$29:$BU$29,EC31,$N$33:$BU$33,\"ZH\"))","v":""},null,"右",{"$f":"IF(DF18=\"\",\"\",DF18)","v":""},{"$f":"IF(DG18=\"\",\"\",DG18)","v":""},"","",null,"","",{"$f":"IF(G9=\"\",\"\",G9)","v":""},"右","","","","","","","","","","","","","","","","","","","",null,null,null,null,null,null,null,null,null,null,null,null,null,null,null,null,null,null,null,null,null,null,null,null,null,null,null,null,null,null,null,null,null,null,null,null,null,null,null,null,null,null,null,null,null,null,null,null,null,null,null,null,null,null,null,null,null,null,null,null,null,null,"","",{"$f":"IF(HU31=\"\",\"\",COUNTIFS($N$29:$BU$29,HV31,$N$30:$BU$30,$HW$3)+COUNTIFS($N$29:$BU$29,HV31,$N$31:$BU$31,$HW$3))","v":""},{"$f":"IF(HU31=\"\",\"\",COUNTIFS($N$29:$BU$29,HV31,$N$30:$BU$30,$HX$3)+COUNTIFS($N$29:$BU$29,HV31,$N$31:$BU$31,$HX$3))","v":""},{"$f":"IF(HU31=\"\",\"\",COUNTIFS($N$29:$BU$29,HV31,$N$30:$BU$30,$HY$3)+COUNTIFS($N$29:$BU$29,HV31,$N$31:$BU$31,$HY$3))","v":""},{"$f":"IF(HU31=\"\",\"\",COUNTIFS($N$29:$BU$29,HV31,$N$30:$BU$30,$HZ$3)+COUNTIFS($N$29:$BU$29,HV31,$N$31:$BU$31,$HZ$3))","v":""},{"$f":"IF(HU31=\"\",\"\",COUNTIFS($N$29:$BU$29,HV31,$N$30:$BU$30,$IA$3)+COUNTIFS($N$29:$BU$29,HV31,$N$31:BU$31,IA$3))","v":""},{"$f":"IF(HU31=\"\",\"\",COUNTIFS($N$29:$BU$29,HV31,$N$30:$BU$30,$IB$3)+COUNTIFS($N$29:$BU$29,HV31,$N$31:$BU$31,$IB$3))","v":""}]
[null,null,0,null,null,null,null,null,null,null,null,null,null,null,null,null,null,null,null,null,null,null,null,null,null,null,null,null,null,null,null,null,null,null,null,null,null,null,null,null,null,null,null,null,null,null,null,null,null,null,null,null,null,null,null,null,null,null,null,null,null,null,null,null,null,null,null,null,null,null,null,null,null,{"$f":"IF(K32=\"\",\"\",VLOOKUP(K32,$C$84:$E$89,3,FALSE))","v":""},{"$f":"IF(L32=\"\",\"\",(BX32+CG32+CH32+CI32))","v":""},"",{"$f":"IF(L32=\"\",\"\",COUNTIFS($N$29:$BU$29,L32,$N$34:$BU$34,$BY$3))","v":""},{"$f":"IF(L32=\"\",\"\",COUNTIFS($N$29:$BU$29,L32,$N$34:$BU$34,$BZ$3))","v":""},{"$f":"IF(L32=\"\",\"\",COUNTIFS($N$29:$BU$29,L32,$N$32:$BU$32,$CA$3))","v":""},{"$f":"IF(L32=\"\",\"\",COUNTIFS($N$29:$BU$29,L32,$N$32:$BU$32,$CB$3))","v":""},{"$f":"IF(L32=\"\",\"\",COUNTIFS($N$29:$BU$29,L32,$N$34:$BU$34,$CC$3))","v":""},{"$f":"IF(L32=\"\",\"\",COUNTIFS($N$29:$BU$29,L32,$N$34:$BU$34,$CD$3)+COUNTIFS($N$29:$BU$29,L32,$N$33:$BU$33,$CD$3)+COUNTIFS($N$29:$BU$29,L32,$N$32:$BU$32,$CD$3))","v":""},{"$f":"IF(L32=\"\",\"\",COUNTIFS($N$29:$BU$29,L32,$N$33:$BU$33,$CE$3))","v":""},{"$f":"IF(L32=\"\",\"\",COUNTIFS($N$29:$BU$29,L32,$N$34:$BU$34,$CF$3))","v":""},{"$f":"IF(L32=\"\",\"\",COUNTIFS($N$29:$BU$29,L32,$N$34:$BU$34,$CG$3))","v":""},{"$f":"IF(L32=\"\",\"\",COUNTIFS($N$29:$BU$29,L32,$N$34:$BU$34,$CH$3))","v":""},{"$f":"IF(L32=\"\",\"\",COUNTIFS($N$29:$BU$29,L32,$N$34:$BU$34,$CI$3))","v":""},{"$f":"IF(L32=\"\",\"\",COUNTIFS($N$29:$BU$29,L32,$N$34:$BU$34,$CJ$3))","v":""},{"$f":"IF(L32=\"\",\"\",COUNTIFS($N$29:$BU$29,L32,$N$34:$BU$34,$CK$3)+COUNTIFS($N$29:$BU$29,L32,$N$32:$BU$32,$CK$3))","v":""},{"$f":"IF(L32=\"\",\"\",COUNTIFS($N$29:$BU$29,L32,$N$34:$BU$34,$CL$3)+COUNTIFS($N$29:$BU$29,L32,$N$32:$BU$32,$CL$3))","v":""},{"$f":"IF(L32=\"\",\"\",COUNTIFS($N$29:$BU$29,L32,$N$34:$BU$34,$CM$3))","v":""},{"$f":"IF(L32=\"\",\"\",COUNTIFS($N$29:$BU$29,L32,$N$34:$BU$34,$CN$3))","v":""},{"$f":"IF(L32=\"\",\"\",COUNTIFS($N$29:$BU$29,L32,$N$30:$BU$30,$CO$3)+COUNTIFS($N$29:$BU$29,L32,$N$31:$BU$31,$CO$3))","v":""},null,null,null,null,null,null,null,"",null,null,{"$f":"IF(CY32=\"\",\"\",VLOOKUP(CY32,$C$70:$F$78,4,FALSE))","v":""},null,null,null,null,null,null,null,null,null,null,null,null,null,null,null,null,null,null,null,null,null,null,null,null,null,null,null,{"$f":"IF($E$86=\"\",\"\",$E$86)","v":""},"",null,{"$f":"IF(EC32=\"\",\"\",COUNTIFS($N$29:$BU$29,EC32,$N$34:$BU$34,\"RZ\"))","v":""},{"$f":"IF(ED32=\"\",\"\",COUNTIFS($N$29:$BU$29,EC32,$N$33:$BU$33,\"ZH\"))","v":""},null,"左",{"$f":"IF(DF18=\"\",\"\",DF18)","v":""},"","","",null,"","",{"$f":"IF(G9=\"\",\"\",G9)","v":""},"左","","","","","","","","","","","","","","","","","","","",null,null,null,null,null,null,null,null,null,null,null,null,null,null,null,null,null,null,null,null,null,null,null,null,null,null,null,null,null,null,null,null,null,null,null,null,null,null,null,null,null,null,null,null,null,null,null,null,null,null,null,null,null,null,null,null,null,null,null,null,null,null,"","","","","","",{"$f":"IF(HU32=\"\",\"\",COUNTIFS($N$29:$BU$29,HV32,$N$30:$BU$30,$IA$3)+COUNTIFS($N$29:$BU$29,HV32,$N$31:BU$31,IA$3))","v":""},""]
[null,null,0,null,null,null,null,null,null,null,null,null,null,null,null,null,null,null,null,null,null,null,null,null,null,null,null,null,null,null,null,null,null,null,null,null,null,null,null,null,null,null,null,null,null,null,null,null,null,null,null,null,null,null,null,null,null,null,null,null,null,null,null,null,null,null,null,null,null,null,null,null,null,{"$f":"IF(K33=\"\",\"\",VLOOKUP(K33,$C$84:$E$89,3,FALSE))","v":""},{"$f":"IF(L33=\"\",\"\",(BX33+CG33+CH33+CI33))","v":""},"",{"$f":"IF(L33=\"\",\"\",COUNTIFS($N$29:$BU$29,L33,$N$34:$BU$34,$BY$3))","v":""},{"$f":"IF(L33=\"\",\"\",COUNTIFS($N$29:$BU$29,L33,$N$34:$BU$34,$BZ$3))","v":""},{"$f":"IF(L33=\"\",\"\",COUNTIFS($N$29:$BU$29,L33,$N$32:$BU$32,$CA$3))","v":""},{"$f":"IF(L33=\"\",\"\",COUNTIFS($N$29:$BU$29,L33,$N$32:$BU$32,$CB$3))","v":""},{"$f":"IF(L33=\"\",\"\",COUNTIFS($N$29:$BU$29,L33,$N$34:$BU$34,$CC$3))","v":""},{"$f":"IF(L33=\"\",\"\",COUNTIFS($N$29:$BU$29,L33,$N$34:$BU$34,$CD$3)+COUNTIFS($N$29:$BU$29,L33,$N$33:$BU$33,$CD$3)+COUNTIFS($N$29:$BU$29,L33,$N$32:$BU$32,$CD$3))","v":""},{"$f":"IF(L33=\"\",\"\",COUNTIFS($N$29:$BU$29,L33,$N$33:$BU$33,$CE$3))","v":""},{"$f":"IF(L33=\"\",\"\",COUNTIFS($N$29:$BU$29,L33,$N$34:$BU$34,$CF$3))","v":""},{"$f":"IF(L33=\"\",\"\",COUNTIFS($N$29:$BU$29,L33,$N$34:$BU$34,$CG$3))","v":""},{"$f":"IF(L33=\"\",\"\",COUNTIFS($N$29:$BU$29,L33,$N$34:$BU$34,$CH$3))","v":""},{"$f":"IF(L33=\"\",\"\",COUNTIFS($N$29:$BU$29,L33,$N$34:$BU$34,$CI$3))","v":""},{"$f":"IF(L33=\"\",\"\",COUNTIFS($N$29:$BU$29,L33,$N$34:$BU$34,$CJ$3))","v":""},{"$f":"IF(L33=\"\",\"\",COUNTIFS($N$29:$BU$29,L33,$N$34:$BU$34,$CK$3)+COUNTIFS($N$29:$BU$29,L33,$N$32:$BU$32,$CK$3))","v":""},{"$f":"IF(L33=\"\",\"\",COUNTIFS($N$29:$BU$29,L33,$N$34:$BU$34,$CL$3)+COUNTIFS($N$29:$BU$29,L33,$N$32:$BU$32,$CL$3))","v":""},{"$f":"IF(L33=\"\",\"\",COUNTIFS($N$29:$BU$29,L33,$N$34:$BU$34,$CM$3))","v":""},{"$f":"IF(L33=\"\",\"\",COUNTIFS($N$29:$BU$29,L33,$N$34:$BU$34,$CN$3))","v":""},{"$f":"IF(L33=\"\",\"\",COUNTIFS($N$29:$BU$29,L33,$N$30:$BU$30,$CO$3)+COUNTIFS($N$29:$BU$29,L33,$N$31:$BU$31,$CO$3))","v":""},null,null,null,null,null,null,null,"",null,null,{"$f":"IF(CY33=\"\",\"\",VLOOKUP(CY33,$C$70:$F$78,4,FALSE))","v":""},null,null,null,null,null,null,null,null,null,null,null,null,null,null,null,null,null,null,null,null,null,null,null,null,null,null,null,{"$f":"IF($E$87=\"\",\"\",$E$87)","v":""},"",null,{"$f":"IF(EC33=\"\",\"\",COUNTIFS($N$29:$BU$29,EC33,$N$34:$BU$34,\"RZ\"))","v":""},{"$f":"IF(ED33=\"\",\"\",COUNTIFS($N$29:$BU$29,EC33,$N$33:$BU$33,\"ZH\"))","v":""},null,"右",{"$f":"IF(DF19=\"\",\"\",DF19)","v":""},{"$f":"IF(DG19=\"\",\"\",DG19)","v":""},"","",null,"","",{"$f":"IF(G10=\"\",\"\",G10)","v":""},"右","","","","","","","","","","","","","","","","","","","",null,null,null,null,null,null,null,null,null,null,null,null,null,null,null,null,null,null,null,null,null,null,null,null,null,null,null,null,null,null,null,null,null,null,null,null,null,null,null,null,null,null,null,null,null,null,null,null,null,null,null,null,null,null,null,null,null,null,null,null,null,null,"","","","","","",{"$f":"IF(HU33=\"\",\"\",COUNTIFS($N$29:$BU$29,HV33,$N$30:$BU$30,$IA$3)+COUNTIFS($N$29:$BU$29,HV33,$N$31:BU$31,IA$3))","v":""},""]
[null,null,0,null,null,null,null,null,null,{"$f":"IF(L34=\"\",\"\",VLOOKUP(L34,$C$29:$D$58,2,FALSE))","v":""},null,null,null,null,null,null,null,null,null,null,null,null,null,null,null,null,null,null,null,null,null,null,null,null,null,null,null,null,null,null,null,null,null,null,null,null,null,null,null,null,null,null,null,null,null,null,null,null,null,null,null,null,null,null,null,null,null,null,null,null,null,null,null,{"$f":"IF(K34=\"\",\"\",VLOOKUP(K34,$C$84:$E$89,3,FALSE))","v":""},{"$f":"IF(L34=\"\",\"\",(BX34+CG34+CH34+CI34))","v":""},"",{"$f":"IF(L34=\"\",\"\",COUNTIFS($N$29:$BU$29,L34,$N$34:$BU$34,$BY$3))","v":""},{"$f":"IF(L34=\"\",\"\",COUNTIFS($N$29:$BU$29,L34,$N$34:$BU$34,$BZ$3))","v":""},{"$f":"IF(L34=\"\",\"\",COUNTIFS($N$29:$BU$29,L34,$N$32:$BU$32,$CA$3))","v":""},{"$f":"IF(L34=\"\",\"\",COUNTIFS($N$29:$BU$29,L34,$N$32:$BU$32,$CB$3))","v":""},{"$f":"IF(L34=\"\",\"\",COUNTIFS($N$29:$BU$29,L34,$N$34:$BU$34,$CC$3))","v":""},{"$f":"IF(L34=\"\",\"\",COUNTIFS($N$29:$BU$29,L34,$N$34:$BU$34,$CD$3)+COUNTIFS($N$29:$BU$29,L34,$N$33:$BU$33,$CD$3)+COUNTIFS($N$29:$BU$29,L34,$N$32:$BU$32,$CD$3))","v":""},{"$f":"IF(L34=\"\",\"\",COUNTIFS($N$29:$BU$29,L34,$N$33:$BU$33,$CE$3))","v":""},{"$f":"IF(L34=\"\",\"\",COUNTIFS($N$29:$BU$29,L34,$N$34:$BU$34,$CF$3))","v":""},{"$f":"IF(L34=\"\",\"\",COUNTIFS($N$29:$BU$29,L34,$N$34:$BU$34,$CG$3))","v":""},{"$f":"IF(L34=\"\",\"\",COUNTIFS($N$29:$BU$29,L34,$N$34:$BU$34,$CH$3))","v":""},{"$f":"IF(L34=\"\",\"\",COUNTIFS($N$29:$BU$29,L34,$N$34:$BU$34,$CI$3))","v":""},{"$f":"IF(L34=\"\",\"\",COUNTIFS($N$29:$BU$29,L34,$N$34:$BU$34,$CJ$3))","v":""},{"$f":"IF(L34=\"\",\"\",COUNTIFS($N$29:$BU$29,L34,$N$34:$BU$34,$CK$3)+COUNTIFS($N$29:$BU$29,L34,$N$32:$BU$32,$CK$3))","v":""},{"$f":"IF(L34=\"\",\"\",COUNTIFS($N$29:$BU$29,L34,$N$34:$BU$34,$CL$3)+COUNTIFS($N$29:$BU$29,L34,$N$32:$BU$32,$CL$3))","v":""},{"$f":"IF(L34=\"\",\"\",COUNTIFS($N$29:$BU$29,L34,$N$34:$BU$34,$CM$3))","v":""},{"$f":"IF(L34=\"\",\"\",COUNTIFS($N$29:$BU$29,L34,$N$34:$BU$34,$CN$3))","v":""},{"$f":"IF(L34=\"\",\"\",COUNTIFS($N$29:$BU$29,L34,$N$30:$BU$30,$CO$3)+COUNTIFS($N$29:$BU$29,L34,$N$31:$BU$31,$CO$3))","v":""},null,null,null,null,null,null,null,"",null,null,{"$f":"IF(CY34=\"\",\"\",VLOOKUP(CY34,$C$70:$F$78,4,FALSE))","v":""},null,null,null,null,null,null,null,null,null,null,null,null,null,null,null,null,null,null,null,null,null,null,null,null,null,null,null,{"$f":"IF($E$88=\"\",\"\",$E$88)","v":""},"","",{"$f":"IF(EC34=\"\",\"\",COUNTIFS($N$29:$BU$29,EC34,$N$34:$BU$34,\"RZ\"))","v":""},{"$f":"IF(ED34=\"\",\"\",COUNTIFS($N$29:$BU$29,EC34,$N$33:$BU$33,\"ZH\"))","v":""},null,"左",{"$f":"IF(DF19=\"\",\"\",DF19)","v":""},"","","",null,"","",{"$f":"IF(G10=\"\",\"\",G10)","v":""},"左","","","","","","","","","","","","","","","","","","","",null,null,null,null,null,null,null,null,null,null,null,null,null,null,null,null,null,null,null,null,null,null,null,null,null,null,null,null,null,null,null,null,null,null,null,null,null,null,null,null,null,null,null,null,null,null,null,null,null,null,null,null,null,null,null,null,null,null,null,null,null,null,"","","","","","",{"$f":"IF(HU34=\"\",\"\",COUNTIFS($N$29:$BU$29,HV34,$N$30:$BU$30,$IA$3)+COUNTIFS($N$29:$BU$29,HV34,$N$31:BU$31,IA$3))","v":""},""]
[null,null,0,null,null,null,null,null,null,null,null,null,"打者背番号を入力➡",null,{"$f":"N35","v":0},{"$f":"N35","v":0},{"$f":"N35","v":0},{"$f":"N35","v":0},null,{"$f":"S35","v":0},{"$f":"S35","v":0},{"$f":"S35","v":0},{"$f":"S35","v":0},null,{"$f":"X35","v":0},{"$f":"X35","v":0},{"$f":"X35","v":0},{"$f":"X35","v":0},null,{"$f":"AC35","v":0},{"$f":"AC35","v":0},{"$f":"AC35","v":0},{"$f":"AC35","v":0},null,{"$f":"AH35","v":0},{"$f":"AH35","v":0},{"$f":"AH35","v":0},{"$f":"AH35","v":0},null,{"$f":"AM35","v":0},{"$f":"AM35","v":0},{"$f":"AM35","v":0},{"$f":"AM35","v":0},null,{"$f":"AR35","v":0},{"$f":"AR35","v":0},{"$f":"AR35","v":0},{"$f":"AR35","v":0},null,{"$f":"AW35","v":0},{"$f":"AW35","v":0},{"$f":"AW35","v":0},{"$f":"AW35","v":0},null,{"$f":"BB35","v":0},{"$f":"BB35","v":0},{"$f":"BB35","v":0},{"$f":"BB35","v":0},null,{"$f":"BG35","v":0},{"$f":"BG35","v":0},{"$f":"BG35","v":0},{"$f":"BG35","v":0},null,{"$f":"BL35","v":0},{"$f":"BL35","v":0},{"$f":"BL35","v":0},{"$f":"BL35","v":0},null,{"$f":"BQ35","v":0},{"$f":"BQ35","v":0},{"$f":"BQ35","v":0},{"$f":"BQ35","v":0},null,null,null,null,null,null,null,null,null,null,null,null,null,null,null,null,null,null,null,null,null,null,null,null,null,null,null,null,null,null,null,null,null,null,null,null,null,null,null,null,null,null,null,null,null,null,null,null,null,null,null,null,null,null,null,null,null,null,null,null,null,null,null,null,"右",{"$f":"IF(DF20=\"\",\"\",DF20)","v":""},{"$f":"IF(DG20=\"\",\"\",DG20)","v":""},"","",null,"","",{"$f":"IF(G11=\"\",\"\",G11)","v":""},"右","","","","","","","","","","","","","","","","","","",""]
[null,null,0,null,null,null,null,null,{"$f":"IF(C10=\"\",\"\",C10)","v":""},{"$f":"IF(D10=\"\",\"\",D10)","v":""},{"$f":"IF(J36=\"\",\"\",\"先\")","v":""},{"$f":"IF(J36=\"\",\"\",F10)","v":""},"⑥",null,null,null,null,null,null,null,null,null,null,null,null,null,null,null,null,null,null,null,null,null,null,null,null,null,null,null,null,null,null,null,null,null,null,null,null,null,null,null,null,null,null,null,null,null,null,null,null,null,null,null,null,null,null,null,null,null,null,null,null,{"$f":"IF(K36=\"\",\"\",VLOOKUP(K36,$C$84:$E$90,3,FALSE))","v":""},{"$f":"IF(L36=\"\",\"\",(BX36+CG36+CH36+CI36))","v":""},{"$f":"IF(L36=\"\",\"\",(BY36+BZ36+CA36+CB36+CC36+CF36+CJ36+CM36+CN36))","v":""},{"$f":"IF(L36=\"\",\"\",COUNTIFS($N$35:$BU$35,L36,$N$40:$BU$40,$BY$3))","v":""},{"$f":"IF(L36=\"\",\"\",COUNTIFS($N$35:$BU$35,L36,$N$40:$BU$40,$BZ$3))","v":""},{"$f":"IF(L36=\"\",\"\",COUNTIFS($N$35:$BU$35,L36,$N$38:$BU$38,$CA$3))","v":""},{"$f":"IF(L36=\"\",\"\",COUNTIFS($N$35:$BU$35,L36,$N$38:$BU$38,$CB$3))","v":""},{"$f":"IF(L36=\"\",\"\",COUNTIFS($N$35:$BU$35,L36,$N$40:$BU$40,$CC$3))","v":""},{"$f":"IF(L36=\"\",\"\",COUNTIFS($N$35:$BU$35,L36,$N$40:$BU$40,$CD$3)+COUNTIFS($N$35:$BU$35,L36,$N$39:$BU$39,$CD$3)+COUNTIFS($N$35:$BU$35,L36,$N$38:$BU$38,$CD$3))","v":""},{"$f":"IF(L36=\"\",\"\",COUNTIFS($N$35:$BU$35,L36,$N$39:$BU$39,$CE$3))","v":""},{"$f":"IF(L36=\"\",\"\",COUNTIFS($N$35:$BU$35,L36,$N$40:$BU$40,$CF$3))","v":""},{"$f":"IF(L36=\"\",\"\",COUNTIFS($N$35:$BU$35,L36,$N$40:$BU$40,$CG$3))","v":""},{"$f":"IF(L36=\"\",\"\",COUNTIFS($N$35:$BU$35,L36,$N$40:$BU$40,$CH$3))","v":""},{"$f":"IF(L36=\"\",\"\",COUNTIFS($N$35:$BU$35,L36,$N$40:$BU$40,$CI$3))","v":""},{"$f":"IF(L36=\"\",\"\",COUNTIFS($N$35:$BU$35,L36,$N$40:$BU$40,$CJ$3))","v":""},{"$f":"IF(L36=\"\",\"\",COUNTIFS($N$35:$BU$35,L36,$N$40:$BU$40,$CK$3)+COUNTIFS($N$35:$BU$35,L36,$N$38:$BU$38,$CK$3))","v":""},{"$f":"IF(L36=\"\",\"\",COUNTIFS($N$35:$BU$35,L36,$N$40:$BU$40,$CL$3)+COUNTIFS($N$35:$BU$35,L36,$N$38:$BU$38,$CL$3))","v":""},{"$f":"IF(L36=\"\",\"\",COUNTIFS($N$35:$BU$35,L36,$N$40:$BU$40,$CM$3))","v":""},{"$f":"IF(L36=\"\",\"\",COUNTIFS($N$35:$BU$35,L36,$N$40:$BU$40,$CN$3))","v":""},{"$f":"IF(L36=\"\",\"\",COUNTIFS($N$35:$BU$35,L36,$N$36:$BU$36,$CO$3)+COUNTIFS($N$35:$BU$35,L36,$N$37:$BU$37,$CO$3))","v":""},null,null,null,null,null,null,null,{"$f":"IF(DA36=\"\",\"\",VLOOKUP(DA36,$C$84:$E$90,3,FALSE))","v":""},null,null,{"$f":"IF(CY36=\"\",\"\",VLOOKUP(CY36,$C$70:$F$78,4,FALSE))","v":""},null,null,null,null,null,null,null,null,null,null,null,null,null,null,null,null,null,null,null,null,null,null,null,null,null,null,null,{"$f":"IF($E$84=\"\",\"\",$E$84)","v":""},"",{"$f":"IF(EC36=\"\",\"\",VLOOKUP(EC36,$C$29:$D$58,2,FALSE))","v":""},{"$f":"IF(EC36=\"\",\"\",COUNTIFS($N$35:$BU$35,EC36,$N$40:$BU$40,\"RZ\"))","v":""},{"$f":"IF(ED36=\"\",\"\",COUNTIFS($N$35:$BU$35,EC36,$N$39:$BU$39,\"ZH\"))","v":""},null,"左",{"$f":"IF(DF20=\"\",\"\",DF20)","v":""},"","","",null,"","",{"$f":"IF(G11=\"\",\"\",G11)","v":""},"左","","","","","","","","","","","","","","","","","","","",null,null,null,null,null,null,null,null,null,null,null,null,null,null,null,null,null,null,null,null,null,null,null,null,null,null,null,null,null,null,null,null,null,null,null,null,null,null,null,null,null,null,null,null,null,null,null,null,null,null,null,null,null,null,null,null,null,null,null,null,null,null,"",{"$f":"IF(L36=\"\",\"\",L36)","v":""},{"$f":"IF(HU36=\"\",\"\",COUNTIFS($N$35:$BU35,HV36,$N$36:$BU$36,$HW$3)+COUNTIFS($N$35:$BU$35,HV36,$N$37:$BU$37,$HW$3))","v":""},{"$f":"IF(HU36=\"\",\"\",COUNTIFS($N$35:$BU$35,HV36,$N$36:$BU$36,$HX$3)+COUNTIFS($N$35:$BU$35,HV36,$N$37:$BU$37,$HX$3))","v":""},{"$f":"IF(HU36=\"\",\"\",COUNTIFS($N$35:$BU$35,HV36,$N$36:$BU$36,$HY$3)+COUNTIFS($N$35:$BU$35,HV36,$N$37:$BU$37,$HY$3))","v":""},{"$f":"IF(HU36=\"\",\"\",COUNTIFS($N$35:$BU$35,HV36,$N$36:$BU$36,$HZ$3)+COUNTIFS($N$35:$BU$35,HV36,$N$37:$BU$37,$HZ$3))","v":""},{"$f":"IF(HU36=\"\",\"\",COUNTIFS($N$35:$BU$35,HV36,$N$36:$BU$36,$IA$3)+COUNTIFS($N$35:$BU$35,HV36,$N$37:$BU$37,$IA$3))","v":""},{"$f":"IF(HU36=\"\",\"\",COUNTIFS($N$35:$BU$35,HV36,$N$36:$BU$36,$IB$3)+COUNTIFS($N$35:$BU$35,HV36,$N$37:$BU$37,$IB$3))","v":""}]
[null,null,0,null,null,null,null,null,null,null,null,null,null,null,null,null,null,null,null,null,null,null,null,null,null,null,null,null,null,null,null,null,null,null,null,null,null,null,null,null,null,null,null,null,null,null,null,null,null,null,null,null,null,null,null,null,null,null,null,null,null,null,null,null,null,null,null,null,null,null,null,null,null,{"$f":"IF(K37=\"\",\"\",VLOOKUP(K37,$C$84:$E$90,3,FALSE))","v":""},{"$f":"IF(L37=\"\",\"\",(BX37+CG37+CH37+CI37))","v":""},"",{"$f":"IF(L37=\"\",\"\",COUNTIFS($N$35:$BU$35,L37,$N$40:$BU$40,$BY$3))","v":""},{"$f":"IF(L37=\"\",\"\",COUNTIFS($N$35:$BU$35,L37,$N$40:$BU$40,$BZ$3))","v":""},{"$f":"IF(L37=\"\",\"\",COUNTIFS($N$35:$BU$35,L37,$N$38:$BU$38,$CA$3))","v":""},{"$f":"IF(L37=\"\",\"\",COUNTIFS($N$35:$BU$35,L37,$N$38:$BU$38,$CB$3))","v":""},{"$f":"IF(L37=\"\",\"\",COUNTIFS($N$35:$BU$35,L37,$N$40:$BU$40,$CC$3))","v":""},{"$f":"IF(L37=\"\",\"\",COUNTIFS($N$35:$BU$35,L37,$N$40:$BU$40,$CD$3)+COUNTIFS($N$35:$BU$35,L37,$N$39:$BU$39,$CD$3)+COUNTIFS($N$35:$BU$35,L37,$N$38:$BU$38,$CD$3))","v":""},{"$f":"IF(L37=\"\",\"\",COUNTIFS($N$35:$BU$35,L37,$N$39:$BU$39,$CE$3))","v":""},{"$f":"IF(L37=\"\",\"\",COUNTIFS($N$35:$BU$35,L37,$N$40:$BU$40,$CF$3))","v":""},{"$f":"IF(L37=\"\",\"\",COUNTIFS($N$35:$BU$35,L37,$N$40:$BU$40,$CG$3))","v":""},{"$f":"IF(L37=\"\",\"\",COUNTIFS($N$35:$BU$35,L37,$N$40:$BU$40,$CH$3))","v":""},{"$f":"IF(L37=\"\",\"\",COUNTIFS($N$35:$BU$35,L37,$N$40:$BU$40,$CI$3))","v":""},{"$f":"IF(L37=\"\",\"\",COUNTIFS($N$35:$BU$35,L37,$N$40:$BU$40,$CJ$3))","v":""},{"$f":"IF(L37=\"\",\"\",COUNTIFS($N$35:$BU$35,L37,$N$40:$BU$40,$CK$3)+COUNTIFS($N$35:$BU$35,L37,$N$38:$BU$38,$CK$3))","v":""},{"$f":"IF(L37=\"\",\"\",COUNTIFS($N$35:$BU$35,L37,$N$40:$BU$40,$CL$3)+COUNTIFS($N$35:$BU$35,L37,$N$38:$BU$38,$CL$3))","v":""},{"$f":"IF(L37=\"\",\"\",COUNTIFS($N$35:$BU$35,L37,$N$40:$BU$40,$CM$3))","v":""},{"$f":"IF(L37=\"\",\"\",COUNTIFS($N$35:$BU$35,L37,$N$40:$BU$40,$CN$3))","v":""},{"$f":"IF(L37=\"\",\"\",COUNTIFS($N$35:$BU$35,L37,$N$36:$BU$36,$CO$3)+COUNTIFS($N$35:$BU$35,L37,$N$37:$BU$37,$CO$3))","v":""},null,null,null,null,null,null,null,{"$f":"IF(DA37=\"\",\"\",VLOOKUP(DA37,$C$84:$E$90,3,FALSE))","v":""},null,null,{"$f":"IF(CY37=\"\",\"\",VLOOKUP(CY37,$C$70:$F$78,4,FALSE))","v":""},null,null,null,null,null,null,null,null,null,null,null,null,null,null,null,null,null,null,null,null,null,null,null,null,null,null,null,{"$f":"IF($E$85=\"\",\"\",$E$85)","v":""},"",null,{"$f":"IF(EC37=\"\",\"\",COUNTIFS($N$35:$BU$35,EC37,$N$40:$BU$40,\"RZ\"))","v":""},{"$f":"IF(ED37=\"\",\"\",COUNTIFS($N$35:$BU$35,EC37,$N$39:$BU$39,\"ZH\"))","v":""},null,null,null,null,null,null,null,"","",{"$f":"IF(G12=\"\",\"\",G12)","v":""},"右","","","","","","","","","","","","","","","","","","","",null,null,null,null,null,null,null,null,null,null,null,null,null,null,null,null,null,null,null,null,null,null,null,null,null,null,null,null,null,null,null,null,null,null,null,null,null,null,null,null,null,null,null,null,null,null,null,null,null,null,null,null,null,null,null,null,null,null,null,null,null,null,"","",{"$f":"IF(HU37=\"\",\"\",COUNTIFS($N$35:$BU36,HV37,$N$36:$BU$36,$HW$3)+COUNTIFS($N$35:$BU$35,HV37,$N$37:$BU$37,$HW$3))","v":""},{"$f":"IF(HU37=\"\",\"\",COUNTIFS($N$35:$BU$35,HV37,$N$36:$BU$36,$HX$3)+COUNTIFS($N$35:$BU$35,HV37,$N$37:$BU$37,$HX$3))","v":""},{"$f":"IF(HU37=\"\",\"\",COUNTIFS($N$35:$BU$35,HV37,$N$36:$BU$36,$HY$3)+COUNTIFS($N$35:$BU$35,HV37,$N$37:$BU$37,$HY$3))","v":""},{"$f":"IF(HU37=\"\",\"\",COUNTIFS($N$35:$BU$35,HV37,$N$36:$BU$36,$HZ$3)+COUNTIFS($N$35:$BU$35,HV37,$N$37:$BU$37,$HZ$3))","v":""},{"$f":"IF(HU37=\"\",\"\",COUNTIFS($N$35:$BU$35,HV37,$N$36:$BU$36,$IA$3)+COUNTIFS($N$35:$BU$35,HV37,$N$37:$BU$37,$IA$3))","v":""},{"$f":"IF(HU37=\"\",\"\",COUNTIFS($N$35:$BU$35,HV37,$N$36:$BU$36,$IB$3)+COUNTIFS($N$35:$BU$35,HV37,$N$37:$BU$37,$IB$3))","v":""}]
[null,null,0,null,null,null,null,null,null,null,null,null,null,null,null,null,null,null,null,null,null,null,null,null,null,null,null,null,null,null,null,null,null,null,null,null,null,null,null,null,null,null,null,null,null,null,null,null,null,null,null,null,null,null,null,null,null,null,null,null,null,null,null,null,null,null,null,null,null,null,null,null,null,"",{"$f":"IF(L38=\"\",\"\",(BX38+CG38+CH38+CI38))","v":""},"",{"$f":"IF(L38=\"\",\"\",COUNTIFS($N$35:$BU$35,L38,$N$40:$BU$40,$BY$3))","v":""},{"$f":"IF(L38=\"\",\"\",COUNTIFS($N$35:$BU$35,L38,$N$40:$BU$40,$BZ$3))","v":""},{"$f":"IF(L38=\"\",\"\",COUNTIFS($N$35:$BU$35,L38,$N$38:$BU$38,$CA$3))","v":""},{"$f":"IF(L38=\"\",\"\",COUNTIFS($N$35:$BU$35,L38,$N$38:$BU$38,$CB$3))","v":""},{"$f":"IF(L38=\"\",\"\",COUNTIFS($N$35:$BU$35,L38,$N$40:$BU$40,$CC$3))","v":""},{"$f":"IF(L38=\"\",\"\",COUNTIFS($N$35:$BU$35,L38,$N$40:$BU$40,$CD$3)+COUNTIFS($N$35:$BU$35,L38,$N$39:$BU$39,$CD$3)+COUNTIFS($N$35:$BU$35,L38,$N$38:$BU$38,$CD$3))","v":""},{"$f":"IF(L38=\"\",\"\",COUNTIFS($N$35:$BU$35,L38,$N$39:$BU$39,$CE$3))","v":""},{"$f":"IF(L38=\"\",\"\",COUNTIFS($N$35:$BU$35,L38,$N$40:$BU$40,$CF$3))","v":""},{"$f":"IF(L38=\"\",\"\",COUNTIFS($N$35:$BU$35,L38,$N$40:$BU$40,$CG$3))","v":""},{"$f":"IF(L38=\"\",\"\",COUNTIFS($N$35:$BU$35,L38,$N$40:$BU$40,$CH$3))","v":""},{"$f":"IF(L38=\"\",\"\",COUNTIFS($N$35:$BU$35,L38,$N$40:$BU$40,$CI$3))","v":""},{"$f":"IF(L38=\"\",\"\",COUNTIFS($N$35:$BU$35,L38,$N$40:$BU$40,$CJ$3))","v":""},{"$f":"IF(L38=\"\",\"\",COUNTIFS($N$35:$BU$35,L38,$N$40:$BU$40,$CK$3)+COUNTIFS($N$35:$BU$35,L38,$N$38:$BU$38,$CK$3))","v":""},{"$f":"IF(L38=\"\",\"\",COUNTIFS($N$35:$BU$35,L38,$N$40:$BU$40,$CL$3)+COUNTIFS($N$35:$BU$35,L38,$N$38:$BU$38,$CL$3))","v":""},{"$f":"IF(L38=\"\",\"\",COUNTIFS($N$35:$BU$35,L38,$N$40:$BU$40,$CM$3))","v":""},{"$f":"IF(L38=\"\",\"\",COUNTIFS($N$35:$BU$35,L38,$N$40:$BU$40,$CN$3))","v":""},{"$f":"IF(L38=\"\",\"\",COUNTIFS($N$35:$BU$35,L38,$N$36:$BU$36,$CO$3)+COUNTIFS($N$35:$BU$35,L38,$N$37:$BU$37,$CO$3))","v":""},null,null,null,null,null,null,null,"",null,null,{"$f":"IF(CY38=\"\",\"\",VLOOKUP(CY38,$C$70:$F$78,4,FALSE))","v":""},null,null,null,null,null,null,null,null,null,null,null,null,null,null,null,null,null,null,null,null,null,null,null,null,null,null,null,{"$f":"IF($E$86=\"\",\"\",$E$86)","v":""},"",null,{"$f":"IF(EC38=\"\",\"\",COUNTIFS($N$35:$BU$35,EC38,$N$40:$BU$40,\"RZ\"))","v":""},{"$f":"IF(ED38=\"\",\"\",COUNTIFS($N$35:$BU$35,EC38,$N$39:$BU$39,\"ZH\"))","v":""},null,null,null,null,null,null,null,"","",{"$f":"IF(G12=\"\",\"\",G12)","v":""},"左","","","","","","","","","","","","","","","","","","","",null,null,null,null,null,null,null,null,null,null,null,null,null,null,null,null,null,null,null,null,null,null,null,null,null,null,null,null,null,null,null,null,null,null,null,null,null,null,null,null,null,null,null,null,null,null,null,null,null,null,null,null,null,null,null,null,null,null,null,null,null,null,"","",{"$f":"IF(HU38=\"\",\"\",COUNTIFS($N$35:$BU37,HV38,$N$36:$BU$36,$HW$3)+COUNTIFS($N$35:$BU$35,HV38,$N$37:$BU$37,$HW$3))","v":""},"","","","",""]
[null,null,0,null,null,null,null,null,null,null,null,null,null,null,null,null,null,null,null,null,null,null,null,null,null,null,null,null,null,null,null,null,null,null,null,null,null,null,null,null,null,null,null,null,null,null,null,null,null,null,null,null,null,null,null,null,null,null,null,null,null,null,null,null,null,null,null,null,null,null,null,null,null,"",{"$f":"IF(L39=\"\",\"\",(BX39+CG39+CH39+CI39))","v":""},"",{"$f":"IF(L39=\"\",\"\",COUNTIFS($N$35:$BU$35,L39,$N$40:$BU$40,$BY$3))","v":""},{"$f":"IF(L39=\"\",\"\",COUNTIFS($N$35:$BU$35,L39,$N$40:$BU$40,$BZ$3))","v":""},{"$f":"IF(L39=\"\",\"\",COUNTIFS($N$35:$BU$35,L39,$N$38:$BU$38,$CA$3))","v":""},{"$f":"IF(L39=\"\",\"\",COUNTIFS($N$35:$BU$35,L39,$N$38:$BU$38,$CB$3))","v":""},{"$f":"IF(L39=\"\",\"\",COUNTIFS($N$35:$BU$35,L39,$N$40:$BU$40,$CC$3))","v":""},{"$f":"IF(L39=\"\",\"\",COUNTIFS($N$35:$BU$35,L39,$N$40:$BU$40,$CD$3)+COUNTIFS($N$35:$BU$35,L39,$N$39:$BU$39,$CD$3)+COUNTIFS($N$35:$BU$35,L39,$N$38:$BU$38,$CD$3))","v":""},{"$f":"IF(L39=\"\",\"\",COUNTIFS($N$35:$BU$35,L39,$N$39:$BU$39,$CE$3))","v":""},{"$f":"IF(L39=\"\",\"\",COUNTIFS($N$35:$BU$35,L39,$N$40:$BU$40,$CF$3))","v":""},{"$f":"IF(L39=\"\",\"\",COUNTIFS($N$35:$BU$35,L39,$N$40:$BU$40,$CG$3))","v":""},{"$f":"IF(L39=\"\",\"\",COUNTIFS($N$35:$BU$35,L39,$N$40:$BU$40,$CH$3))","v":""},{"$f":"IF(L39=\"\",\"\",COUNTIFS($N$35:$BU$35,L39,$N$40:$BU$40,$CI$3))","v":""},{"$f":"IF(L39=\"\",\"\",COUNTIFS($N$35:$BU$35,L39,$N$40:$BU$40,$CJ$3))","v":""},{"$f":"IF(L39=\"\",\"\",COUNTIFS($N$35:$BU$35,L39,$N$40:$BU$40,$CK$3)+COUNTIFS($N$35:$BU$35,L39,$N$38:$BU$38,$CK$3))","v":""},{"$f":"IF(L39=\"\",\"\",COUNTIFS($N$35:$BU$35,L39,$N$40:$BU$40,$CL$3)+COUNTIFS($N$35:$BU$35,L39,$N$38:$BU$38,$CL$3))","v":""},{"$f":"IF(L39=\"\",\"\",COUNTIFS($N$35:$BU$35,L39,$N$40:$BU$40,$CM$3))","v":""},{"$f":"IF(L39=\"\",\"\",COUNTIFS($N$35:$BU$35,L39,$N$40:$BU$40,$CN$3))","v":""},{"$f":"IF(L39=\"\",\"\",COUNTIFS($N$35:$BU$35,L39,$N$36:$BU$36,$CO$3)+COUNTIFS($N$35:$BU$35,L39,$N$37:$BU$37,$CO$3))","v":""},null,null,null,null,null,null,null,"",null,null,{"$f":"IF(CY39=\"\",\"\",VLOOKUP(CY39,$C$70:$F$78,4,FALSE))","v":""},null,null,null,null,null,null,null,null,null,null,null,null,null,null,null,null,null,null,null,null,null,null,null,null,null,null,null,{"$f":"IF($E$87=\"\",\"\",$E$87)","v":""},"",null,{"$f":"IF(EC39=\"\",\"\",COUNTIFS($N$35:$BU$35,EC39,$N$40:$BU$40,\"RZ\"))","v":""},{"$f":"IF(ED39=\"\",\"\",COUNTIFS($N$35:$BU$35,EC39,$N$39:$BU$39,\"ZH\"))","v":""},null,null,null,null,null,null,null,"","",{"$f":"IF(G13=\"\",\"\",G13)","v":""},"右","","","","","","","","","","","","","","","","","","","",null,null,null,null,null,null,null,null,null,null,null,null,null,null,null,null,null,null,null,null,null,null,null,null,null,null,null,null,null,null,null,null,null,null,null,null,null,null,null,null,null,null,null,null,null,null,null,null,null,null,null,null,null,null,null,null,null,null,null,null,null,null,"","",{"$f":"IF(HU39=\"\",\"\",COUNTIFS($N$35:$BU38,HV39,$N$36:$BU$36,$HW$3)+COUNTIFS($N$35:$BU$35,HV39,$N$37:$BU$37,$HW$3))","v":""},"","","","",""]
[null,null,0,null,null,null,null,null,null,{"$f":"IF(L40=\"\",\"\",VLOOKUP(L40,$C$29:$D$58,2,FALSE))","v":""},null,null,null,null,null,null,null,null,null,null,null,null,null,null,null,null,null,null,null,null,null,null,null,null,null,null,null,null,null,null,null,null,null,null,null,null,null,null,null,null,null,null,null,null,null,null,null,null,null,null,null,null,null,null,null,null,null,null,null,null,null,null,null,"",{"$f":"IF(L40=\"\",\"\",(BX40+CG40+CH40+CI40))","v":""},"",{"$f":"IF(L40=\"\",\"\",COUNTIFS($N$35:$BU$35,L40,$N$40:$BU$40,$BY$3))","v":""},{"$f":"IF(L40=\"\",\"\",COUNTIFS($N$35:$BU$35,L40,$N$40:$BU$40,$BZ$3))","v":""},{"$f":"IF(L40=\"\",\"\",COUNTIFS($N$35:$BU$35,L40,$N$38:$BU$38,$CA$3))","v":""},{"$f":"IF(L40=\"\",\"\",COUNTIFS($N$35:$BU$35,L40,$N$38:$BU$38,$CB$3))","v":""},{"$f":"IF(L40=\"\",\"\",COUNTIFS($N$35:$BU$35,L40,$N$40:$BU$40,$CC$3))","v":""},{"$f":"IF(L40=\"\",\"\",COUNTIFS($N$35:$BU$35,L40,$N$40:$BU$40,$CD$3)+COUNTIFS($N$35:$BU$35,L40,$N$39:$BU$39,$CD$3)+COUNTIFS($N$35:$BU$35,L40,$N$38:$BU$38,$CD$3))","v":""},{"$f":"IF(L40=\"\",\"\",COUNTIFS($N$35:$BU$35,L40,$N$39:$BU$39,$CE$3))","v":""},{"$f":"IF(L40=\"\",\"\",COUNTIFS($N$35:$BU$35,L40,$N$40:$BU$40,$CF$3))","v":""},{"$f":"IF(L40=\"\",\"\",COUNTIFS($N$35:$BU$35,L40,$N$40:$BU$40,$CG$3))","v":""},{"$f":"IF(L40=\"\",\"\",COUNTIFS($N$35:$BU$35,L40,$N$40:$BU$40,$CH$3))","v":""},{"$f":"IF(L40=\"\",\"\",COUNTIFS($N$35:$BU$35,L40,$N$40:$BU$40,$CI$3))","v":""},{"$f":"IF(L40=\"\",\"\",COUNTIFS($N$35:$BU$35,L40,$N$40:$BU$40,$CJ$3))","v":""},{"$f":"IF(L40=\"\",\"\",COUNTIFS($N$35:$BU$35,L40,$N$40:$BU$40,$CK$3)+COUNTIFS($N$35:$BU$35,L40,$N$38:$BU$38,$CK$3))","v":""},{"$f":"IF(L40=\"\",\"\",COUNTIFS($N$35:$BU$35,L40,$N$40:$BU$40,$CL$3)+COUNTIFS($N$35:$BU$35,L40,$N$38:$BU$38,$CL$3))","v":""},{"$f":"IF(L40=\"\",\"\",COUNTIFS($N$35:$BU$35,L40,$N$40:$BU$40,$CM$3))","v":""},{"$f":"IF(L40=\"\",\"\",COUNTIFS($N$35:$BU$35,L40,$N$40:$BU$40,$CN$3))","v":""},{"$f":"IF(L40=\"\",\"\",COUNTIFS($N$35:$BU$35,L40,$N$36:$BU$36,$CO$3)+COUNTIFS($N$35:$BU$35,L40,$N$37:$BU$37,$CO$3))","v":""},null,null,null,null,null,null,null,"",null,null,{"$f":"IF(CY40=\"\",\"\",VLOOKUP(CY40,$C$70:$F$78,4,FALSE))","v":""},null,null,null,null,null,"投手別打球振り分け",null,null,null,null,null,null,null,null,null,null,null,null,null,null,null,null,null,null,null,null,null,{"$f":"IF($E$88=\"\",\"\",$E$88)","v":""},"","",{"$f":"IF(EC40=\"\",\"\",COUNTIFS($N$35:$BU$35,EC40,$N$40:$BU$40,\"RZ\"))","v":""},{"$f":"IF(ED40=\"\",\"\",COUNTIFS($N$35:$BU$35,EC40,$N$39:$BU$39,\"ZH\"))","v":""},null,null,null,null,null,null,null,"","",{"$f":"IF(G13=\"\",\"\",G13)","v":""},"左","","","","","","","","","","","","","","","","","","","",null,null,null,null,null,null,null,null,null,null,null,null,null,null,null,null,null,null,null,null,null,null,null,null,null,null,null,null,null,null,null,null,null,null,null,null,null,null,null,null,null,null,null,null,null,null,null,null,null,null,null,null,null,null,null,null,null,null,null,null,null,null,"","",{"$f":"IF(HU40=\"\",\"\",COUNTIFS($N$35:$BU39,HV40,$N$36:$BU$36,$HW$3)+COUNTIFS($N$35:$BU$35,HV40,$N$37:$BU$37,$HW$3))","v":""},"","","","",""]
[null,null,0,null,null,null,null,null,null,null,null,null,"打者背番号を入力➡",null,{"$f":"N41","v":0},{"$f":"N41","v":0},{"$f":"N41","v":0},{"$f":"N41","v":0},null,{"$f":"S41","v":0},{"$f":"S41","v":0},{"$f":"S41","v":0},{"$f":"S41","v":0},null,{"$f":"X41","v":0},{"$f":"X41","v":0},{"$f":"X41","v":0},{"$f":"X41","v":0},null,{"$f":"AC41","v":0},{"$f":"AC41","v":0},{"$f":"AC41","v":0},{"$f":"AC41","v":0},null,{"$f":"AH41","v":0},{"$f":"AH41","v":0},{"$f":"AH41","v":0},{"$f":"AH41","v":0},null,{"$f":"AM41","v":0},{"$f":"AM41","v":0},{"$f":"AM41","v":0},{"$f":"AM41","v":0},null,{"$f":"AR41","v":0},{"$f":"AR41","v":0},{"$f":"AR41","v":0},{"$f":"AR41","v":0},null,{"$f":"AW41","v":0},{"$f":"AW41","v":0},{"$f":"AW41","v":0},{"$f":"AW41","v":0},null,{"$f":"BB41","v":0},{"$f":"BB41","v":0},{"$f":"BB41","v":0},{"$f":"BB41","v":0},null,{"$f":"BG41","v":0},{"$f":"BG41","v":0},{"$f":"BG41","v":0},{"$f":"BG41","v":0},null,{"$f":"BL41","v":0},{"$f":"BL41","v":0},{"$f":"BL41","v":0},{"$f":"BL41","v":0},null,{"$f":"BQ41","v":0},{"$f":"BQ41","v":0},{"$f":"BQ41","v":0},{"$f":"BQ41","v":0},null,null,null,null,null,null,null,null,null,null,null,null,null,null,null,null,null,null,null,null,null,null,null,null,null,null,null,null,null,null,null,null,null,null,null,"T番","選手名","背番","投順","ゴロ","フライ","計",null,null,null,null,null,null,null,null,null,null,null,null,null,null,null,null,null,null,null,null,null,null,null,null,null,null,null,null,null,{"$f":"IF(O2=\"\",\"\",O2)","v":""},"計","右",{"$f":"IF($EO$41=\"\",\"\",SUMIF($EQ$5:$EQ$40,$EQ$41,ER5:ER40))","v":""},{"$f":"IF($EO$41=\"\",\"\",SUMIF($EQ$5:$EQ$40,$EQ$41,ES5:ES40))","v":""},"","","","","","","","","","","","","","","","","","←←",null,{"$f":"FJ41","v":""}]
[null,null,0,null,null,null,null,null,{"$f":"IF(C11=\"\",\"\",C11)","v":""},{"$f":"IF(D11=\"\",\"\",D11)","v":""},{"$f":"IF(J42=\"\",\"\",\"先\")","v":""},{"$f":"IF(J42=\"\",\"\",F11)","v":""},"⑦",null,null,null,null,null,null,null,null,null,null,null,null,null,null,null,null,null,null,null,null,null,null,null,null,null,null,null,null,null,null,null,null,null,null,null,null,null,null,null,null,null,null,null,null,null,null,null,null,null,null,null,null,null,null,null,null,null,null,null,null,{"$f":"IF(K42=\"\",\"\",VLOOKUP(K42,$C$84:$E$90,3,FALSE))","v":""},{"$f":"IF(L42=\"\",\"\",(BX42+CG42+CH42+CI42))","v":""},{"$f":"IF(L42=\"\",\"\",(BY42+BZ42+CA42+CB42+CC42+CF42+CJ42+CM42+CN42))","v":""},{"$f":"IF(L42=\"\",\"\",COUNTIFS($N$41:$BU$41,L42,$N$46:$BU$46,$BY$3))","v":""},{"$f":"IF(L42=\"\",\"\",COUNTIFS($N$41:$BU$41,L42,$N$46:$BU$46,$BZ$3))","v":""},{"$f":"IF(L42=\"\",\"\",COUNTIFS($N$41:$BU$41,L42,$N$44:$BU$44,$CA$3))","v":""},{"$f":"IF(L42=\"\",\"\",COUNTIFS($N$41:$BU$41,L42,$N$44:$BU$44,$CB$3))","v":""},{"$f":"IF(L42=\"\",\"\",COUNTIFS($N$41:$BU$41,L42,$N$46:$BU$46,$CC$3))","v":""},{"$f":"IF(L42=\"\",\"\",COUNTIFS($N$41:$BU$41,L42,$N$46:$BU$46,$CD$3)+COUNTIFS($N$41:$BU$41,L42,$N$45:$BU$45,$CD$3)+COUNTIFS($N$41:$BU$41,L42,$N$44:$BU$44,$CD$3))","v":""},{"$f":"IF(L42=\"\",\"\",COUNTIFS($N$41:$BU$41,L42,$N$45:$BU$45,$CE$3))","v":""},{"$f":"IF(L42=\"\",\"\",COUNTIFS($N$41:$BU$41,L42,$N$46:$BU$46,$CF$3))","v":""},{"$f":"IF(L42=\"\",\"\",COUNTIFS($N$41:$BU$41,L42,$N$46:$BU$46,$CG$3))","v":""},{"$f":"IF(L42=\"\",\"\",COUNTIFS($N$41:$BU$41,L42,$N$46:$BU$46,$CH$3))","v":""},{"$f":"IF(L42=\"\",\"\",COUNTIFS($N$41:$BU$41,L42,$N$46:$BU$46,$CI$3))","v":""},{"$f":"IF(L42=\"\",\"\",COUNTIFS($N$41:$BU$41,L42,$N$46:$BU$46,$CJ$3))","v":""},{"$f":"IF(L42=\"\",\"\",COUNTIFS($N$41:$BU$41,L42,$N$46:$BU$46,$CK$3)+COUNTIFS($N$41:$BU$41,L42,$N$44:$BU$44,$CK$3))","v":""},{"$f":"IF(L42=\"\",\"\",COUNTIFS($N$41:$BU$41,L42,$N$46:$BU$46,$CL$3)+COUNTIFS($N$41:$BU$41,L42,$N$44:$BU$44,$CL$3))","v":""},{"$f":"IF(L42=\"\",\"\",COUNTIFS($N$41:$BU$41,L42,$N$46:$BU$46,$CM$3))","v":""},{"$f":"IF(L42=\"\",\"\",COUNTIFS($N$41:$BU$41,L42,$N$46:$BU$46,$CN$3))","v":""},{"$f":"IF(L42=\"\",\"\",COUNTIFS($N$41:$BU$41,L42,$N$42:$BU$42,$CO$3)+COUNTIFS($N$41:$BU$41,L42,$N$43:$BU$43,$CO$3))","v":""},null,null,null,null,null,null,null,{"$f":"IF(DA42=\"\",\"\",VLOOKUP(DA42,$C$84:$E$90,3,FALSE))","v":""},null,null,{"$f":"IF(CY42=\"\",\"\",VLOOKUP(CY42,$C$70:$F$78,4,FALSE))","v":""},null,null,null,null,null,null,null,null,null,null,null,null,null,null,null,null,null,null,null,null,null,null,null,null,null,null,null,{"$f":"IF($E$84=\"\",\"\",$E$84)","v":""},"",{"$f":"IF(EC42=\"\",\"\",VLOOKUP(EC42,$C$29:$D$58,2,FALSE))","v":""},{"$f":"IF(EC42=\"\",\"\",COUNTIFS($N$41:$BU$41,EC42,$N$46:$BU$46,\"RZ\"))","v":""},{"$f":"IF(ED42=\"\",\"\",COUNTIFS($N$41:$BU$41,EC42,$N$45:$BU$45,\"ZH\"))","v":""},null,null,null,null,null,null,null,null,null,null,"左",{"$f":"IF($EO$41=\"\",\"\",SUMIF($EQ$5:$EQ$40,$EQ$42,ER5:ER40))","v":""},{"$f":"IF($EO$41=\"\",\"\",SUMIF($EQ$5:$EQ$40,$EQ$42,ES5:ES40))","v":""},"","","","","","","","","","","","","","","","","","←←",null,{"$f":"FJ42","v":""},null,null,null,null,null,null,null,null,null,null,null,null,null,null,null,null,null,null,null,null,null,null,null,null,null,null,null,null,null,null,null,null,null,null,null,null,null,null,null,null,null,null,null,null,null,null,null,null,null,null,null,null,null,null,null,null,null,null,null,"",{"$f":"IF(L42=\"\",\"\",L42)","v":""},{"$f":"IF(HU42=\"\",\"\",COUNTIFS($N$41:$BU$41,HV42,$N$42:$BU$42,$HW$3)+COUNTIFS($N$41:$BU$41,HV42,$N$43:$BU$43,$HW$3))","v":""},{"$f":"IF(HU42=\"\",\"\",COUNTIFS($N$41:$BU$41,HV42,$N$42:$BU$42,$HX$3)+COUNTIFS($N$41:$BU$41,HV42,$N$43:$BU$43,$HX$3))","v":""},{"$f":"IF(HU42=\"\",\"\",COUNTIFS($N$41:$BU$41,HV42,$N$42:$BU$42,$HY$3)+COUNTIFS($N$41:$BU$41,HV42,$N$43:$BU$43,$HY$3))","v":""},{"$f":"IF(HU42=\"\",\"\",COUNTIFS($N$41:$BU$41,HV42,$N$42:$BU$42,$HZ$3)+COUNTIFS($N$41:$BU$41,HV42,$N$43:$BU$43,$HZ$3))","v":""},{"$f":"IF(HU42=\"\",\"\",COUNTIFS($N$41:$BU$41,HV42,N42:$BU$42,$IA$3)+COUNTIFS($N$41:$BU$41,HV42,$N$43:$BU$43,$IA$3))","v":""},{"$f":"IF(HU42=\"\",\"\",COUNTIFS($N$41:$BU$41,HV42,$N$42:$BU$42,$IB$3)+COUNTIFS($N$41:$BU$41,HV42,$N$43:$BU$43,$IB$3))","v":""}]
[null,null,0,null,null,null,null,null,null,null,null,null,null,null,null,null,null,null,null,null,null,null,null,null,null,null,null,null,null,null,null,null,null,null,null,null,null,null,null,null,null,null,null,null,null,null,null,null,null,null,null,null,null,null,null,null,null,null,null,null,null,null,null,null,null,null,null,null,null,null,null,null,null,{"$f":"IF(K43=\"\",\"\",VLOOKUP(K43,$C$84:$E$90,3,FALSE))","v":""},{"$f":"IF(L43=\"\",\"\",(BX43+CG43+CH43+CI43))","v":""},"",{"$f":"IF(L43=\"\",\"\",COUNTIFS($N$41:$BU$41,L43,$N$46:$BU$46,$BY$3))","v":""},{"$f":"IF(L43=\"\",\"\",COUNTIFS($N$41:$BU$41,L43,$N$46:$BU$46,$BZ$3))","v":""},{"$f":"IF(L43=\"\",\"\",COUNTIFS($N$41:$BU$41,L43,$N$44:$BU$44,$CA$3))","v":""},{"$f":"IF(L43=\"\",\"\",COUNTIFS($N$41:$BU$41,L43,$N$44:$BU$44,$CB$3))","v":""},{"$f":"IF(L43=\"\",\"\",COUNTIFS($N$41:$BU$41,L43,$N$46:$BU$46,$CC$3))","v":""},{"$f":"IF(L43=\"\",\"\",COUNTIFS($N$41:$BU$41,L43,$N$46:$BU$46,$CD$3)+COUNTIFS($N$41:$BU$41,L43,$N$45:$BU$45,$CD$3)+COUNTIFS($N$41:$BU$41,L43,$N$44:$BU$44,$CD$3))","v":""},{"$f":"IF(L43=\"\",\"\",COUNTIFS($N$41:$BU$41,L43,$N$45:$BU$45,$CE$3))","v":""},{"$f":"IF(L43=\"\",\"\",COUNTIFS($N$41:$BU$41,L43,$N$46:$BU$46,$CF$3))","v":""},{"$f":"IF(L43=\"\",\"\",COUNTIFS($N$41:$BU$41,L43,$N$46:$BU$46,$CG$3))","v":""},{"$f":"IF(L43=\"\",\"\",COUNTIFS($N$41:$BU$41,L43,$N$46:$BU$46,$CH$3))","v":""},{"$f":"IF(L43=\"\",\"\",COUNTIFS($N$41:$BU$41,L43,$N$46:$BU$46,$CI$3))","v":""},{"$f":"IF(L43=\"\",\"\",COUNTIFS($N$41:$BU$41,L43,$N$46:$BU$46,$CJ$3))","v":""},{"$f":"IF(L43=\"\",\"\",COUNTIFS($N$41:$BU$41,L43,$N$46:$BU$46,$CK$3)+COUNTIFS($N$41:$BU$41,L43,$N$44:$BU$44,$CK$3))","v":""},{"$f":"IF(L43=\"\",\"\",COUNTIFS($N$41:$BU$41,L43,$N$46:$BU$46,$CL$3)+COUNTIFS($N$41:$BU$41,L43,$N$44:$BU$44,$CL$3))","v":""},{"$f":"IF(L43=\"\",\"\",COUNTIFS($N$41:$BU$41,L43,$N$46:$BU$46,$CM$3))","v":""},{"$f":"IF(L43=\"\",\"\",COUNTIFS($N$41:$BU$41,L43,$N$46:$BU$46,$CN$3))","v":""},{"$f":"IF(L43=\"\",\"\",COUNTIFS($N$41:$BU$41,L43,$N$42:$BU$42,$CO$3)+COUNTIFS($N$41:$BU$41,L43,$N$43:$BU$43,$CO$3))","v":""},null,null,null,null,null,null,null,{"$f":"IF(DA43=\"\",\"\",VLOOKUP(DA43,$C$84:$E$90,3,FALSE))","v":""},null,null,{"$f":"IF(CY43=\"\",\"\",VLOOKUP(CY43,$C$70:$F$78,4,FALSE))","v":""},null,null,null,null,null,null,null,null,null,null,null,null,null,null,null,null,null,null,null,null,null,null,null,null,null,null,null,{"$f":"IF($E$85=\"\",\"\",$E$85)","v":""},"",null,{"$f":"IF(EC43=\"\",\"\",COUNTIFS($N$41:$BU$41,EC43,$N$46:$BU$46,\"RZ\"))","v":""},{"$f":"IF(ED43=\"\",\"\",COUNTIFS($N$41:$BU$41,EC43,$N$45:$BU$45,\"ZH\"))","v":""},null,null,null,null,null,null,null,null,null,null,null,null,null,null,null,null,null,null,null,null,null,null,null,null,null,null,null,null,null,null,null,null,null,null,null,null,null,null,null,null,null,null,null,null,null,null,null,null,null,null,null,null,null,null,null,null,null,null,null,null,null,null,null,null,null,null,null,null,null,null,null,null,null,null,null,null,null,null,null,null,null,null,null,null,null,null,null,null,null,null,null,null,"","",{"$f":"IF(HU43=\"\",\"\",COUNTIFS($N$41:$BU$41,HV43,$N$42:$BU$42,$HW$3)+COUNTIFS($N$41:$BU$41,HV43,$N$43:$BU$43,$HW$3))","v":""},{"$f":"IF(HU43=\"\",\"\",COUNTIFS($N$41:$BU$41,HV43,$N$42:$BU$42,$HX$3)+COUNTIFS($N$41:$BU$41,HV43,$N$43:$BU$43,$HX$3))","v":""},{"$f":"IF(HU43=\"\",\"\",COUNTIFS($N$41:$BU$41,HV43,$N$42:$BU$42,$HY$3)+COUNTIFS($N$41:$BU$41,HV43,$N$43:$BU$43,$HY$3))","v":""},{"$f":"IF(HU43=\"\",\"\",COUNTIFS($N$41:$BU$41,HV43,$N$42:$BU$42,$HZ$3)+COUNTIFS($N$41:$BU$41,HV43,$N$43:$BU$43,$HZ$3))","v":""},{"$f":"IF(HU43=\"\",\"\",COUNTIFS($N$41:$BU$41,HV43,N$42:$BU43,$IA$3)+COUNTIFS($N$41:$BU$41,HV43,$N$43:$BU$43,$IA$3))","v":""},{"$f":"IF(HU43=\"\",\"\",COUNTIFS($N$41:$BU$41,HV43,$N$42:$BU$42,$IB$3)+COUNTIFS($N$41:$BU$41,HV43,$N$43:$BU$43,$IB$3))","v":""}]
[null,null,0,null,null,null,null,null,null,null,null,null,null,null,null,null,null,null,null,null,null,null,null,null,null,null,null,null,null,null,null,null,null,null,null,null,null,null,null,null,null,null,null,null,null,null,null,null,null,null,null,null,null,null,null,null,null,null,null,null,null,null,null,null,null,null,null,null,null,null,null,null,null,"",{"$f":"IF(L44=\"\",\"\",(BX44+CG44+CH44+CI44))","v":""},"",{"$f":"IF(L44=\"\",\"\",COUNTIFS($N$41:$BU$41,L44,$N$46:$BU$46,$BY$3))","v":""},{"$f":"IF(L44=\"\",\"\",COUNTIFS($N$41:$BU$41,L44,$N$46:$BU$46,$BZ$3))","v":""},{"$f":"IF(L44=\"\",\"\",COUNTIFS($N$41:$BU$41,L44,$N$44:$BU$44,$CA$3))","v":""},{"$f":"IF(L44=\"\",\"\",COUNTIFS($N$41:$BU$41,L44,$N$44:$BU$44,$CB$3))","v":""},{"$f":"IF(L44=\"\",\"\",COUNTIFS($N$41:$BU$41,L44,$N$46:$BU$46,$CC$3))","v":""},{"$f":"IF(L44=\"\",\"\",COUNTIFS($N$41:$BU$41,L44,$N$46:$BU$46,$CD$3)+COUNTIFS($N$41:$BU$41,L44,$N$45:$BU$45,$CD$3)+COUNTIFS($N$41:$BU$41,L44,$N$44:$BU$44,$CD$3))","v":""},{"$f":"IF(L44=\"\",\"\",COUNTIFS($N$41:$BU$41,L44,$N$45:$BU$45,$CE$3))","v":""},{"$f":"IF(L44=\"\",\"\",COUNTIFS($N$41:$BU$41,L44,$N$46:$BU$46,$CF$3))","v":""},{"$f":"IF(L44=\"\",\"\",COUNTIFS($N$41:$BU$41,L44,$N$46:$BU$46,$CG$3))","v":""},{"$f":"IF(L44=\"\",\"\",COUNTIFS($N$41:$BU$41,L44,$N$46:$BU$46,$CH$3))","v":""},{"$f":"IF(L44=\"\",\"\",COUNTIFS($N$41:$BU$41,L44,$N$46:$BU$46,$CI$3))","v":""},{"$f":"IF(L44=\"\",\"\",COUNTIFS($N$41:$BU$41,L44,$N$46:$BU$46,$CJ$3))","v":""},{"$f":"IF(L44=\"\",\"\",COUNTIFS($N$41:$BU$41,L44,$N$46:$BU$46,$CK$3)+COUNTIFS($N$41:$BU$41,L44,$N$44:$BU$44,$CK$3))","v":""},{"$f":"IF(L44=\"\",\"\",COUNTIFS($N$41:$BU$41,L44,$N$46:$BU$46,$CL$3)+COUNTIFS($N$41:$BU$41,L44,$N$44:$BU$44,$CL$3))","v":""},{"$f":"IF(L44=\"\",\"\",COUNTIFS($N$41:$BU$41,L44,$N$46:$BU$46,$CM$3))","v":""},{"$f":"IF(L44=\"\",\"\",COUNTIFS($N$41:$BU$41,L44,$N$46:$BU$46,$CN$3))","v":""},{"$f":"IF(L44=\"\",\"\",COUNTIFS($N$41:$BU$41,L44,$N$42:$BU$42,$CO$3)+COUNTIFS($N$41:$BU$41,L44,$N$43:$BU$43,$CO$3))","v":""},null,null,null,null,null,null,null,"",null,null,{"$f":"IF(CY44=\"\",\"\",VLOOKUP(CY44,$C$70:$F$78,4,FALSE))","v":""},null,null,null,null,{"$f":"IF(DF44=\"\",\"\",$V$2)","v":""},{"$f":"IF(D19=\"\",\"\",D19)","v":""},{"$f":"IF(F19=\"\",\"\",F19)","v":""},{"$f":"IF(D19=\"\",\"\",C19)","v":""},{"$f":"IF(DF44=\"\",\"\",COUNTIFS($CP$71:$CP$123,DH44,$CV$71:$CV$123,\"G\"))","v":""},{"$f":"IF(DF44=\"\",\"\",COUNTIFS($CP$71:$CP$123,DH44,$CV$71:$CV$123,\"A\"))","v":""},{"$f":"IF(DF44=\"\",\"\",(DI44+DJ44))","v":""},null,null,null,null,null,null,null,null,null,null,null,null,null,null,null,null,{"$f":"IF($E$86=\"\",\"\",$E$86)","v":""},"",null,{"$f":"IF(EC44=\"\",\"\",COUNTIFS($N$41:$BU$41,EC44,$N$46:$BU$46,\"RZ\"))","v":""},{"$f":"IF(ED44=\"\",\"\",COUNTIFS($N$41:$BU$41,EC44,$N$45:$BU$45,\"ZH\"))","v":""},null,null,null,null,null,null,null,null,null,null,null,null,null,null,null,null,null,null,null,null,null,null,null,null,null,null,null,null,null,null,null,null,null,null,null,null,null,null,null,null,null,null,null,null,null,null,null,null,null,null,null,null,null,null,null,null,null,null,null,null,null,null,null,null,null,null,null,null,null,null,null,null,null,null,null,null,null,null,null,null,null,null,null,null,null,null,null,null,null,null,null,null,"","","","","","",{"$f":"IF(HU44=\"\",\"\",COUNTIFS($N$41:$BU$41,HV44,N$42:$BU44,$IA$3)+COUNTIFS($N$41:$BU$41,HV44,$N$43:$BU$43,$IA$3))","v":""},""]
[null,null,0,null,null,null,null,null,null,null,null,null,null,null,null,null,null,null,null,null,null,null,null,null,null,null,null,null,null,null,null,null,null,null,null,null,null,null,null,null,null,null,null,null,null,null,null,null,null,null,null,null,null,null,null,null,null,null,null,null,null,null,null,null,null,null,null,null,null,null,null,null,null,"",{"$f":"IF(L45=\"\",\"\",(BX45+CG45+CH45+CI45))","v":""},"",{"$f":"IF(L45=\"\",\"\",COUNTIFS($N$41:$BU$41,L45,$N$46:$BU$46,$BY$3))","v":""},{"$f":"IF(L45=\"\",\"\",COUNTIFS($N$41:$BU$41,L45,$N$46:$BU$46,$BZ$3))","v":""},{"$f":"IF(L45=\"\",\"\",COUNTIFS($N$41:$BU$41,L45,$N$44:$BU$44,$CA$3))","v":""},{"$f":"IF(L45=\"\",\"\",COUNTIFS($N$41:$BU$41,L45,$N$44:$BU$44,$CB$3))","v":""},{"$f":"IF(L45=\"\",\"\",COUNTIFS($N$41:$BU$41,L45,$N$46:$BU$46,$CC$3))","v":""},{"$f":"IF(L45=\"\",\"\",COUNTIFS($N$41:$BU$41,L45,$N$46:$BU$46,$CD$3)+COUNTIFS($N$41:$BU$41,L45,$N$45:$BU$45,$CD$3)+COUNTIFS($N$41:$BU$41,L45,$N$44:$BU$44,$CD$3))","v":""},{"$f":"IF(L45=\"\",\"\",COUNTIFS($N$41:$BU$41,L45,$N$45:$BU$45,$CE$3))","v":""},{"$f":"IF(L45=\"\",\"\",COUNTIFS($N$41:$BU$41,L45,$N$46:$BU$46,$CF$3))","v":""},{"$f":"IF(L45=\"\",\"\",COUNTIFS($N$41:$BU$41,L45,$N$46:$BU$46,$CG$3))","v":""},{"$f":"IF(L45=\"\",\"\",COUNTIFS($N$41:$BU$41,L45,$N$46:$BU$46,$CH$3))","v":""},{"$f":"IF(L45=\"\",\"\",COUNTIFS($N$41:$BU$41,L45,$N$46:$BU$46,$CI$3))","v":""},{"$f":"IF(L45=\"\",\"\",COUNTIFS($N$41:$BU$41,L45,$N$46:$BU$46,$CJ$3))","v":""},{"$f":"IF(L45=\"\",\"\",COUNTIFS($N$41:$BU$41,L45,$N$46:$BU$46,$CK$3)+COUNTIFS($N$41:$BU$41,L45,$N$44:$BU$44,$CK$3))","v":""},{"$f":"IF(L45=\"\",\"\",COUNTIFS($N$41:$BU$41,L45,$N$46:$BU$46,$CL$3)+COUNTIFS($N$41:$BU$41,L45,$N$44:$BU$44,$CL$3))","v":""},{"$f":"IF(L45=\"\",\"\",COUNTIFS($N$41:$BU$41,L45,$N$46:$BU$46,$CM$3))","v":""},{"$f":"IF(L45=\"\",\"\",COUNTIFS($N$41:$BU$41,L45,$N$46:$BU$46,$CN$3))","v":""},{"$f":"IF(L45=\"\",\"\",COUNTIFS($N$41:$BU$41,L45,$N$42:$BU$42,$CO$3)+COUNTIFS($N$41:$BU$41,L45,$N$43:$BU$43,$CO$3))","v":""},null,null,null,null,null,null,null,"",null,null,{"$f":"IF(CY45=\"\",\"\",VLOOKUP(CY45,$C$70:$F$78,4,FALSE))","v":""},null,null,null,null,"",{"$f":"IF(D20=\"\",\"\",D20)","v":""},{"$f":"IF(F20=\"\",\"\",F20)","v":""},{"$f":"IF(D20=\"\",\"\",C20)","v":""},{"$f":"IF(DF45=\"\",\"\",COUNTIFS($CP$71:$CP$123,DH45,$CV$71:$CV$123,\"G\"))","v":""},{"$f":"IF(DF45=\"\",\"\",COUNTIFS($CP$71:$CP$123,DH45,$CV$71:$CV$123,\"A\"))","v":""},{"$f":"IF(DF45=\"\",\"\",(DI45+DJ45))","v":""},null,null,null,null,null,null,null,null,null,null,null,null,null,null,null,null,{"$f":"IF($E$87=\"\",\"\",$E$87)","v":""},"",null,{"$f":"IF(EC45=\"\",\"\",COUNTIFS($N$41:$BU$41,EC45,$N$46:$BU$46,\"RZ\"))","v":""},{"$f":"IF(ED45=\"\",\"\",COUNTIFS($N$41:$BU$41,EC45,$N$45:$BU$45,\"ZH\"))","v":""},null,null,null,null,null,null,null,null,null,null,null,null,null,null,null,null,null,null,null,null,null,null,null,null,null,null,null,null,null,null,null,null,null,null,null,null,null,null,null,null,null,null,null,null,null,null,null,null,null,null,null,null,null,null,null,null,null,null,null,null,null,null,null,null,null,null,null,null,null,null,null,null,null,null,null,null,null,null,null,null,null,null,null,null,null,null,null,null,null,null,null,null,"","","","","","",{"$f":"IF(HU45=\"\",\"\",COUNTIFS($N$41:$BU$41,HV45,N$42:$BU45,$IA$3)+COUNTIFS($N$41:$BU$41,HV45,$N$43:$BU$43,$IA$3))","v":""},""]
[null,null,0,null,null,null,null,null,null,{"$f":"IF(L46=\"\",\"\",VLOOKUP(L46,$C$29:$D$58,2,FALSE))","v":""},null,null,null,null,null,null,null,null,null,null,null,null,null,null,null,null,null,null,null,null,null,null,null,null,null,null,null,null,null,null,null,null,null,null,null,null,null,null,null,null,null,null,null,null,null,null,null,null,null,null,null,null,null,null,null,null,null,null,null,null,null,null,null,"",{"$f":"IF(L46=\"\",\"\",(BX46+CG46+CH46+CI46))","v":""},"",{"$f":"IF(L46=\"\",\"\",COUNTIFS($N$41:$BU$41,L46,$N$46:$BU$46,$BY$3))","v":""},{"$f":"IF(L46=\"\",\"\",COUNTIFS($N$41:$BU$41,L46,$N$46:$BU$46,$BZ$3))","v":""},{"$f":"IF(L46=\"\",\"\",COUNTIFS($N$41:$BU$41,L46,$N$44:$BU$44,$CA$3))","v":""},{"$f":"IF(L46=\"\",\"\",COUNTIFS($N$41:$BU$41,L46,$N$44:$BU$44,$CB$3))","v":""},{"$f":"IF(L46=\"\",\"\",COUNTIFS($N$41:$BU$41,L46,$N$46:$BU$46,$CC$3))","v":""},{"$f":"IF(L46=\"\",\"\",COUNTIFS($N$41:$BU$41,L46,$N$46:$BU$46,$CD$3)+COUNTIFS($N$41:$BU$41,L46,$N$45:$BU$45,$CD$3)+COUNTIFS($N$41:$BU$41,L46,$N$44:$BU$44,$CD$3))","v":""},{"$f":"IF(L46=\"\",\"\",COUNTIFS($N$41:$BU$41,L46,$N$45:$BU$45,$CE$3))","v":""},{"$f":"IF(L46=\"\",\"\",COUNTIFS($N$41:$BU$41,L46,$N$46:$BU$46,$CF$3))","v":""},{"$f":"IF(L46=\"\",\"\",COUNTIFS($N$41:$BU$41,L46,$N$46:$BU$46,$CG$3))","v":""},{"$f":"IF(L46=\"\",\"\",COUNTIFS($N$41:$BU$41,L46,$N$46:$BU$46,$CH$3))","v":""},{"$f":"IF(L46=\"\",\"\",COUNTIFS($N$41:$BU$41,L46,$N$46:$BU$46,$CI$3))","v":""},{"$f":"IF(L46=\"\",\"\",COUNTIFS($N$41:$BU$41,L46,$N$46:$BU$46,$CJ$3))","v":""},{"$f":"IF(L46=\"\",\"\",COUNTIFS($N$41:$BU$41,L46,$N$46:$BU$46,$CK$3)+COUNTIFS($N$41:$BU$41,L46,$N$44:$BU$44,$CK$3))","v":""},{"$f":"IF(L46=\"\",\"\",COUNTIFS($N$41:$BU$41,L46,$N$46:$BU$46,$CL$3)+COUNTIFS($N$41:$BU$41,L46,$N$44:$BU$44,$CL$3))","v":""},{"$f":"IF(L46=\"\",\"\",COUNTIFS($N$41:$BU$41,L46,$N$46:$BU$46,$CM$3))","v":""},{"$f":"IF(L46=\"\",\"\",COUNTIFS($N$41:$BU$41,L46,$N$46:$BU$46,$CN$3))","v":""},{"$f":"IF(L46=\"\",\"\",COUNTIFS($N$41:$BU$41,L46,$N$42:$BU$42,$CO$3)+COUNTIFS($N$41:$BU$41,L46,$N$43:$BU$43,$CO$3))","v":""},null,null,null,null,null,null,null,"",null,null,{"$f":"IF(CY46=\"\",\"\",VLOOKUP(CY46,$C$70:$F$78,4,FALSE))","v":""},null,null,null,null,"","","","","","","",null,null,null,null,null,null,null,null,null,null,null,null,null,null,null,null,{"$f":"IF($E$88=\"\",\"\",$E$88)","v":""},"","",{"$f":"IF(EC46=\"\",\"\",COUNTIFS($N$41:$BU$41,EC46,$N$46:$BU$46,\"RZ\"))","v":""},{"$f":"IF(ED46=\"\",\"\",COUNTIFS($N$41:$BU$41,EC46,$N$45:$BU$45,\"ZH\"))","v":""},null,null,null,null,null,null,null,null,null,null,null,null,null,null,null,null,null,null,null,null,null,null,null,null,null,null,null,null,null,null,null,null,null,null,null,null,null,null,null,null,null,null,null,null,null,null,null,null,null,null,null,null,null,null,null,null,null,null,null,null,null,null,null,null,null,null,null,null,null,null,null,null,null,null,null,null,null,null,null,null,null,null,null,null,null,null,null,null,null,null,null,null,"","","","","","",{"$f":"IF(HU46=\"\",\"\",COUNTIFS($N$41:$BU$41,HV46,N$42:$BU46,$IA$3)+COUNTIFS($N$41:$BU$41,HV46,$N$43:$BU$43,$IA$3))","v":""},""]
[null,null,0,null,null,null,null,null,null,null,null,null,"打者背番号を入力➡",null,{"$f":"N47","v":0},{"$f":"N47","v":0},{"$f":"N47","v":0},{"$f":"N47","v":0},null,{"$f":"S47","v":0},{"$f":"S47","v":0},{"$f":"S47","v":0},{"$f":"S47","v":0},null,{"$f":"X47","v":0},{"$f":"X47","v":0},{"$f":"X47","v":0},{"$f":"X47","v":0},null,{"$f":"AC47","v":0},{"$f":"AC47","v":0},{"$f":"AC47","v":0},{"$f":"AC47","v":0},null,{"$f":"AH47","v":0},{"$f":"AH47","v":0},{"$f":"AH47","v":0},{"$f":"AH47","v":0},null,{"$f":"AM47","v":0},{"$f":"AM47","v":0},{"$f":"AM47","v":0},{"$f":"AM47","v":0},null,{"$f":"AR47","v":0},{"$f":"AR47","v":0},{"$f":"AR47","v":0},{"$f":"AR47","v":0},null,{"$f":"AW47","v":0},{"$f":"AW47","v":0},{"$f":"AW47","v":0},{"$f":"AW47","v":0},null,{"$f":"BB47","v":0},{"$f":"BB47","v":0},{"$f":"BB47","v":0},{"$f":"BB47","v":0},null,{"$f":"BG47","v":0},{"$f":"BG47","v":0},{"$f":"BG47","v":0},{"$f":"BG47","v":0},null,{"$f":"BL47","v":0},{"$f":"BL47","v":0},{"$f":"BL47","v":0},{"$f":"BL47","v":0},null,{"$f":"BQ47","v":0},{"$f":"BQ47","v":0},{"$f":"BQ47","v":0},{"$f":"BQ47","v":0},null,null,null,null,null,null,null,null,null,null,null,null,null,null,null,null,null,null,null,null,null,null,null,null,null,null,null,null,null,null,null,null,null,null,null,"","","","","","",""]
[null,null,0,null,null,null,null,null,{"$f":"IF(C12=\"\",\"\",C12)","v":""},{"$f":"IF(D12=\"\",\"\",D12)","v":""},{"$f":"IF(J48=\"\",\"\",\"先\")","v":""},{"$f":"IF(J48=\"\",\"\",F12)","v":""},"⑧",null,null,null,null,null,null,null,null,null,null,null,null,null,null,null,null,null,null,null,null,null,null,null,null,null,null,null,null,null,null,null,null,null,null,null,null,null,null,null,null,null,null,null,null,null,null,null,null,null,null,null,null,null,null,null,null,null,null,null,null,{"$f":"IF(K48=\"\",\"\",VLOOKUP(K48,$C$84:$E$90,3,FALSE))","v":""},{"$f":"IF(L48=\"\",\"\",(BX48+CG48+CH48+CI48))","v":""},{"$f":"IF(L48=\"\",\"\",(BY48+BZ48+CA48+CB48+CC48+CF48+CJ48+CM48+CN48))","v":""},{"$f":"IF(L48=\"\",\"\",COUNTIFS($N$47:$BU$47,L48,$N$52:$BU$52,$BY$3))","v":""},{"$f":"IF(L48=\"\",\"\",COUNTIFS($N$47:$BU$47,L48,$N$52:$BU$52,$BZ$3))","v":""},{"$f":"IF(L48=\"\",\"\",COUNTIFS($N$47:$BU$47,L48,$N$50:$BU$50,$CA$3))","v":""},{"$f":"IF(L48=\"\",\"\",COUNTIFS($N$47:$BU$47,L48,$N$50:$BU$50,$CB$3))","v":""},{"$f":"IF(L48=\"\",\"\",COUNTIFS($N$47:$BU$47,L48,$N$52:$BU$52,$CC$3))","v":""},{"$f":"IF(L48=\"\",\"\",COUNTIFS($N$47:$BU$47,L48,$N$52:$BU$52,$CD$3)+COUNTIFS($N$47:$BU$47,L48,$N$51:$BU$51,$CD$3)+COUNTIFS($N$47:$BU$47,L48,$N$50:$BU$50,$CD$3))","v":""},{"$f":"IF(L48=\"\",\"\",COUNTIFS($N$47:$BU$47,L48,$N$51:$BU$51,$CE$3))","v":""},{"$f":"IF(L48=\"\",\"\",COUNTIFS($N$47:$BU$47,L48,$N$52:$BU$52,$CF$3))","v":""},{"$f":"IF(L48=\"\",\"\",COUNTIFS($N$47:$BU$47,L48,$N$52:$BU$52,$CG$3))","v":""},{"$f":"IF(L48=\"\",\"\",COUNTIFS($N$47:$BU$47,L48,$N$52:$BU$52,$CH$3))","v":""},{"$f":"IF(L48=\"\",\"\",COUNTIFS($N$47:$BU$47,L48,$N$52:$BU$52,$CI$3))","v":""},{"$f":"IF(L48=\"\",\"\",COUNTIFS($N$47:$BU$47,L48,$N$52:$BU$52,$CJ$3))","v":""},{"$f":"IF(L48=\"\",\"\",COUNTIFS($N$47:$BU$47,L48,$N$52:$BU$52,$CK$3)+COUNTIFS($N$47:$BU$47,L48,$N$50:$BU$50,$CK$3))","v":""},{"$f":"IF(L48=\"\",\"\",COUNTIFS($N$47:$BU$47,L48,$N$52:$BU$52,$CL$3)+COUNTIFS($N$47:$BU$47,L48,$N$50:$BU$50,$CL$3))","v":""},{"$f":"IF(L48=\"\",\"\",COUNTIFS($N$47:$BU$47,L48,$N$52:$BU$52,$CM$3))","v":""},{"$f":"IF(L48=\"\",\"\",COUNTIFS($N$47:$BU$47,L48,$N$52:$BU$52,$CN$3))","v":""},{"$f":"IF(L48=\"\",\"\",COUNTIFS($N$47:$BU$47,L48,$N$48:$BU$48,$CO$3)+COUNTIFS($N$47:$BU$47,L48,$N$49:$BU$49,$CO$3))","v":""},null,null,null,null,null,null,null,{"$f":"IF(DA48=\"\",\"\",VLOOKUP(DA48,$C$84:$E$90,3,FALSE))","v":""},null,null,{"$f":"IF(CY48=\"\",\"\",VLOOKUP(CY48,$C$70:$F$78,4,FALSE))","v":""},null,null,null,null,"","","","","","","",null,null,null,null,null,null,null,null,null,null,null,null,null,null,null,null,{"$f":"IF($E$84=\"\",\"\",$E$84)","v":""},"",{"$f":"IF(EC48=\"\",\"\",VLOOKUP(EC48,$C$29:$D$58,2,FALSE))","v":""},{"$f":"IF(EC48=\"\",\"\",COUNTIFS($N$47:$BU$47,EC48,$N$52:$BU$52,\"RZ\"))","v":""},{"$f":"IF(ED48=\"\",\"\",COUNTIFS($N$47:$BU$47,EC48,$N$51:$BU$51,\"ZH\"))","v":""},null,null,null,null,null,null,null,null,null,null,null,null,null,null,null,null,null,null,null,null,null,null,null,null,null,null,null,null,null,null,null,null,null,null,null,null,null,null,null,null,null,null,null,null,null,null,null,null,null,null,null,null,null,null,null,null,null,null,null,null,null,null,null,null,null,null,null,null,null,null,null,null,null,null,null,null,null,null,null,null,null,null,null,null,null,null,null,null,null,null,null,null,"",{"$f":"IF(L48=\"\",\"\",L48)","v":""},{"$f":"IF(HU48=\"\",\"\",COUNTIFS($N$47:$BU$47,HV48,$N$48:$BU$48,$HW$3)+COUNTIFS($N$47:$BU$47,HV48,$N$49:$BU$49,$HW$3))","v":""},{"$f":"IF(HU48=\"\",\"\",COUNTIFS($N$47:$BU$47,HV48,$N$48:$BU$48,$HX$3)+COUNTIFS($N$47:$BU$47,HV48,$N$49:$BU$49,$HX$3))","v":""},{"$f":"IF(HU48=\"\",\"\",COUNTIFS($N$47:$BU$47,HV48,$N$48:$BU$48,$HY$3)+COUNTIFS($N$47:$BU$47,HV48,$N$49:$BU$49,$HY$3))","v":""},{"$f":"IF(HU48=\"\",\"\",COUNTIFS($N$47:$BU$47,HV48,$N$48:$BU$48,$HZ$3)+COUNTIFS($N$47:$BU$47,HV48,$N$49:$BU$49,$HZ$3))","v":""},{"$f":"IF(HU48=\"\",\"\",COUNTIFS($N$47:$BU$47,HV48,$N$48:$BU$48,$IA$3)+COUNTIFS($N$47:$BU$47,HV48,$N$49:$BU$49,$IA$3))","v":""},{"$f":"IF(HU48=\"\",\"\",COUNTIFS($N$47:$BU$47,HV48,$N$48:$BU$48,$IB$3)+COUNTIFS($N$47:$BU$47,HV48,$N$49:$BU$49,$IB$3))","v":""}]
[null,null,0,null,null,null,null,null,null,null,null,null,null,null,null,null,null,null,null,null,null,null,null,null,null,null,null,null,null,null,null,null,null,null,null,null,null,null,null,null,null,null,null,null,null,null,null,null,null,null,null,null,null,null,null,null,null,null,null,null,null,null,null,null,null,null,null,null,null,null,null,null,null,{"$f":"IF(K49=\"\",\"\",VLOOKUP(K49,$C$84:$E$90,3,FALSE))","v":""},{"$f":"IF(L49=\"\",\"\",(BX49+CG49+CH49+CI49))","v":""},"",{"$f":"IF(L49=\"\",\"\",COUNTIFS($N$47:$BU$47,L49,$N$52:$BU$52,$BY$3))","v":""},{"$f":"IF(L49=\"\",\"\",COUNTIFS($N$47:$BU$47,L49,$N$52:$BU$52,$BZ$3))","v":""},{"$f":"IF(L49=\"\",\"\",COUNTIFS($N$47:$BU$47,L49,$N$50:$BU$50,$CA$3))","v":""},{"$f":"IF(L49=\"\",\"\",COUNTIFS($N$47:$BU$47,L49,$N$50:$BU$50,$CB$3))","v":""},{"$f":"IF(L49=\"\",\"\",COUNTIFS($N$47:$BU$47,L49,$N$52:$BU$52,$CC$3))","v":""},{"$f":"IF(L49=\"\",\"\",COUNTIFS($N$47:$BU$47,L49,$N$52:$BU$52,$CD$3)+COUNTIFS($N$47:$BU$47,L49,$N$51:$BU$51,$CD$3)+COUNTIFS($N$47:$BU$47,L49,$N$50:$BU$50,$CD$3))","v":""},{"$f":"IF(L49=\"\",\"\",COUNTIFS($N$47:$BU$47,L49,$N$51:$BU$51,$CE$3))","v":""},{"$f":"IF(L49=\"\",\"\",COUNTIFS($N$47:$BU$47,L49,$N$52:$BU$52,$CF$3))","v":""},{"$f":"IF(L49=\"\",\"\",COUNTIFS($N$47:$BU$47,L49,$N$52:$BU$52,$CG$3))","v":""},{"$f":"IF(L49=\"\",\"\",COUNTIFS($N$47:$BU$47,L49,$N$52:$BU$52,$CH$3))","v":""},{"$f":"IF(L49=\"\",\"\",COUNTIFS($N$47:$BU$47,L49,$N$52:$BU$52,$CI$3))","v":""},{"$f":"IF(L49=\"\",\"\",COUNTIFS($N$47:$BU$47,L49,$N$52:$BU$52,$CJ$3))","v":""},{"$f":"IF(L49=\"\",\"\",COUNTIFS($N$47:$BU$47,L49,$N$52:$BU$52,$CK$3)+COUNTIFS($N$47:$BU$47,L49,$N$50:$BU$50,$CK$3))","v":""},{"$f":"IF(L49=\"\",\"\",COUNTIFS($N$47:$BU$47,L49,$N$52:$BU$52,$CL$3)+COUNTIFS($N$47:$BU$47,L49,$N$50:$BU$50,$CL$3))","v":""},{"$f":"IF(L49=\"\",\"\",COUNTIFS($N$47:$BU$47,L49,$N$52:$BU$52,$CM$3))","v":""},{"$f":"IF(L49=\"\",\"\",COUNTIFS($N$47:$BU$47,L49,$N$52:$BU$52,$CN$3))","v":""},{"$f":"IF(L49=\"\",\"\",COUNTIFS($N$47:$BU$47,L49,$N$48:$BU$48,$CO$3)+COUNTIFS($N$47:$BU$47,L49,$N$49:$BU$49,$CO$3))","v":""},null,null,null,null,null,null,null,{"$f":"IF(DA49=\"\",\"\",VLOOKUP(DA49,$C$84:$E$90,3,FALSE))","v":""},null,null,{"$f":"IF(CY49=\"\",\"\",VLOOKUP(CY49,$C$70:$F$78,4,FALSE))","v":""},null,null,null,null,"","","","","","","",null,null,null,null,null,null,null,null,null,null,null,null,null,null,null,null,{"$f":"IF($E$85=\"\",\"\",$E$85)","v":""},"",null,{"$f":"IF(EC49=\"\",\"\",COUNTIFS($N$47:$BU$47,EC49,$N$52:$BU$52,\"RZ\"))","v":""},{"$f":"IF(ED49=\"\",\"\",COUNTIFS($N$47:$BU$47,EC49,$N$51:$BU$51,\"ZH\"))","v":""},null,null,null,null,null,null,null,null,null,null,null,null,null,null,null,null,null,null,null,null,null,null,null,null,null,null,null,null,null,null,null,null,null,null,null,null,null,null,null,null,null,null,null,null,null,null,null,null,null,null,null,null,null,null,null,null,null,null,null,null,null,null,null,null,null,null,null,null,null,null,null,null,null,null,null,null,null,null,null,null,null,null,null,null,null,null,null,null,null,null,null,null,"","",{"$f":"IF(HU49=\"\",\"\",COUNTIFS($N$47:$BU$47,HV49,$N$48:$BU$48,$HW$3)+COUNTIFS($N$47:$BU$47,HV49,$N$49:$BU$49,$HW$3))","v":""},{"$f":"IF(HU49=\"\",\"\",COUNTIFS($N$47:$BU$47,HV49,$N$48:$BU$48,$HX$3)+COUNTIFS($N$47:$BU$47,HV49,$N$49:$BU$49,$HX$3))","v":""},{"$f":"IF(HU49=\"\",\"\",COUNTIFS($N$47:$BU$47,HV49,$N$48:$BU$48,$HY$3)+COUNTIFS($N$47:$BU$47,HV49,$N$49:$BU$49,$HY$3))","v":""},{"$f":"IF(HU49=\"\",\"\",COUNTIFS($N$47:$BU$47,HV49,$N$48:$BU$48,$HZ$3)+COUNTIFS($N$47:$BU$47,HV49,$N$49:$BU$49,$HZ$3))","v":""},{"$f":"IF(HU49=\"\",\"\",COUNTIFS($N$47:$BU$47,HV49,$N$48:$BU$48,$IA$3)+COUNTIFS($N$47:$BU$47,HV49,$N$49:$BU$49,$IA$3))","v":""},{"$f":"IF(HU49=\"\",\"\",COUNTIFS($N$47:$BU$47,HV49,$N$48:$BU$48,$IB$3)+COUNTIFS($N$47:$BU$47,HV49,$N$49:$BU$49,$IB$3))","v":""}]
[null,null,0,null,null,null,null,null,null,null,null,null,null,null,null,null,null,null,null,null,null,null,null,null,null,null,null,null,null,null,null,null,null,null,null,null,null,null,null,null,null,null,null,null,null,null,null,null,null,null,null,null,null,null,null,null,null,null,null,null,null,null,null,null,null,null,null,null,null,null,null,null,null,"",{"$f":"IF(L50=\"\",\"\",(BX50+CG50+CH50+CI50))","v":""},"",{"$f":"IF(L50=\"\",\"\",COUNTIFS($N$47:$BU$47,L50,$N$52:$BU$52,$BY$3))","v":""},{"$f":"IF(L50=\"\",\"\",COUNTIFS($N$47:$BU$47,L50,$N$52:$BU$52,$BZ$3))","v":""},{"$f":"IF(L50=\"\",\"\",COUNTIFS($N$47:$BU$47,L50,$N$50:$BU$50,$CA$3))","v":""},{"$f":"IF(L50=\"\",\"\",COUNTIFS($N$47:$BU$47,L50,$N$50:$BU$50,$CB$3))","v":""},{"$f":"IF(L50=\"\",\"\",COUNTIFS($N$47:$BU$47,L50,$N$52:$BU$52,$CC$3))","v":""},{"$f":"IF(L50=\"\",\"\",COUNTIFS($N$47:$BU$47,L50,$N$52:$BU$52,$CD$3)+COUNTIFS($N$47:$BU$47,L50,$N$51:$BU$51,$CD$3)+COUNTIFS($N$47:$BU$47,L50,$N$50:$BU$50,$CD$3))","v":""},{"$f":"IF(L50=\"\",\"\",COUNTIFS($N$47:$BU$47,L50,$N$51:$BU$51,$CE$3))","v":""},{"$f":"IF(L50=\"\",\"\",COUNTIFS($N$47:$BU$47,L50,$N$52:$BU$52,$CF$3))","v":""},{"$f":"IF(L50=\"\",\"\",COUNTIFS($N$47:$BU$47,L50,$N$52:$BU$52,$CG$3))","v":""},{"$f":"IF(L50=\"\",\"\",COUNTIFS($N$47:$BU$47,L50,$N$52:$BU$52,$CH$3))","v":""},{"$f":"IF(L50=\"\",\"\",COUNTIFS($N$47:$BU$47,L50,$N$52:$BU$52,$CI$3))","v":""},{"$f":"IF(L50=\"\",\"\",COUNTIFS($N$47:$BU$47,L50,$N$52:$BU$52,$CJ$3))","v":""},{"$f":"IF(L50=\"\",\"\",COUNTIFS($N$47:$BU$47,L50,$N$52:$BU$52,$CK$3)+COUNTIFS($N$47:$BU$47,L50,$N$50:$BU$50,$CK$3))","v":""},{"$f":"IF(L50=\"\",\"\",COUNTIFS($N$47:$BU$47,L50,$N$52:$BU$52,$CL$3)+COUNTIFS($N$47:$BU$47,L50,$N$50:$BU$50,$CL$3))","v":""},{"$f":"IF(L50=\"\",\"\",COUNTIFS($N$47:$BU$47,L50,$N$52:$BU$52,$CM$3))","v":""},{"$f":"IF(L50=\"\",\"\",COUNTIFS($N$47:$BU$47,L50,$N$52:$BU$52,$CN$3))","v":""},{"$f":"IF(L50=\"\",\"\",COUNTIFS($N$47:$BU$47,L50,$N$48:$BU$48,$CO$3)+COUNTIFS($N$47:$BU$47,L50,$N$49:$BU$49,$CO$3))","v":""},null,null,null,null,null,null,null,"",null,null,{"$f":"IF(CY50=\"\",\"\",VLOOKUP(CY50,$C$70:$F$78,4,FALSE))","v":""},null,null,null,null,"","","","","","","",null,null,null,null,null,null,null,null,null,null,null,null,null,null,null,null,{"$f":"IF($E$86=\"\",\"\",$E$86)","v":""},"",null,{"$f":"IF(EC50=\"\",\"\",COUNTIFS($N$47:$BU$47,EC50,$N$52:$BU$52,\"RZ\"))","v":""},{"$f":"IF(ED50=\"\",\"\",COUNTIFS($N$47:$BU$47,EC50,$N$51:$BU$51,\"ZH\"))","v":""},null,null,null,null,null,null,null,null,null,null,null,null,null,null,null,null,null,null,null,null,null,null,null,null,null,null,null,null,null,null,null,null,null,null,null,null,null,null,null,null,null,null,null,null,null,null,null,null,null,null,null,null,null,null,null,null,null,null,null,null,null,null,null,null,null,null,null,null,null,null,null,null,null,null,null,null,null,null,null,null,null,null,null,null,null,null,null,null,null,null,null,null,"","","","","","","",""]
[null,null,0,null,null,null,null,null,null,null,null,null,null,null,null,null,null,null,null,null,null,null,null,null,null,null,null,null,null,null,null,null,null,null,null,null,null,null,null,null,null,null,null,null,null,null,null,null,null,null,null,null,null,null,null,null,null,null,null,null,null,null,null,null,null,null,null,null,null,null,null,null,null,"",{"$f":"IF(L51=\"\",\"\",(BX51+CG51+CH51+CI51))","v":""},"",{"$f":"IF(L51=\"\",\"\",COUNTIFS($N$47:$BU$47,L51,$N$52:$BU$52,$BY$3))","v":""},{"$f":"IF(L51=\"\",\"\",COUNTIFS($N$47:$BU$47,L51,$N$52:$BU$52,$BZ$3))","v":""},{"$f":"IF(L51=\"\",\"\",COUNTIFS($N$47:$BU$47,L51,$N$50:$BU$50,$CA$3))","v":""},{"$f":"IF(L51=\"\",\"\",COUNTIFS($N$47:$BU$47,L51,$N$50:$BU$50,$CB$3))","v":""},{"$f":"IF(L51=\"\",\"\",COUNTIFS($N$47:$BU$47,L51,$N$52:$BU$52,$CC$3))","v":""},{"$f":"IF(L51=\"\",\"\",COUNTIFS($N$47:$BU$47,L51,$N$52:$BU$52,$CD$3)+COUNTIFS($N$47:$BU$47,L51,$N$51:$BU$51,$CD$3)+COUNTIFS($N$47:$BU$47,L51,$N$50:$BU$50,$CD$3))","v":""},{"$f":"IF(L51=\"\",\"\",COUNTIFS($N$47:$BU$47,L51,$N$51:$BU$51,$CE$3))","v":""},{"$f":"IF(L51=\"\",\"\",COUNTIFS($N$47:$BU$47,L51,$N$52:$BU$52,$CF$3))","v":""},{"$f":"IF(L51=\"\",\"\",COUNTIFS($N$47:$BU$47,L51,$N$52:$BU$52,$CG$3))","v":""},{"$f":"IF(L51=\"\",\"\",COUNTIFS($N$47:$BU$47,L51,$N$52:$BU$52,$CH$3))","v":""},{"$f":"IF(L51=\"\",\"\",COUNTIFS($N$47:$BU$47,L51,$N$52:$BU$52,$CI$3))","v":""},{"$f":"IF(L51=\"\",\"\",COUNTIFS($N$47:$BU$47,L51,$N$52:$BU$52,$CJ$3))","v":""},{"$f":"IF(L51=\"\",\"\",COUNTIFS($N$47:$BU$47,L51,$N$52:$BU$52,$CK$3)+COUNTIFS($N$47:$BU$47,L51,$N$50:$BU$50,$CK$3))","v":""},{"$f":"IF(L51=\"\",\"\",COUNTIFS($N$47:$BU$47,L51,$N$52:$BU$52,$CL$3)+COUNTIFS($N$47:$BU$47,L51,$N$50:$BU$50,$CL$3))","v":""},{"$f":"IF(L51=\"\",\"\",COUNTIFS($N$47:$BU$47,L51,$N$52:$BU$52,$CM$3))","v":""},{"$f":"IF(L51=\"\",\"\",COUNTIFS($N$47:$BU$47,L51,$N$52:$BU$52,$CN$3))","v":""},{"$f":"IF(L51=\"\",\"\",COUNTIFS($N$47:$BU$47,L51,$N$48:$BU$48,$CO$3)+COUNTIFS($N$47:$BU$47,L51,$N$49:$BU$49,$CO$3))","v":""},null,null,null,null,null,null,null,"",null,null,{"$f":"IF(CY51=\"\",\"\",VLOOKUP(CY51,$C$70:$F$78,4,FALSE))","v":""},null,null,null,null,null,null,null,null,null,null,null,null,null,null,null,null,null,null,null,null,null,null,null,null,null,null,null,{"$f":"IF($E$87=\"\",\"\",$E$87)","v":""},"",null,{"$f":"IF(EC51=\"\",\"\",COUNTIFS($N$47:$BU$47,EC51,$N$52:$BU$52,\"RZ\"))","v":""},{"$f":"IF(ED51=\"\",\"\",COUNTIFS($N$47:$BU$47,EC51,$N$51:$BU$51,\"ZH\"))","v":""},null,null,null,null,null,null,null,null,null,null,null,null,null,null,null,null,null,null,null,null,null,null,null,null,null,null,null,null,null,null,null,null,null,null,null,null,null,null,null,null,null,null,null,null,null,null,null,null,null,null,null,null,null,null,null,null,null,null,null,null,null,null,null,null,null,null,null,null,null,null,null,null,null,null,null,null,null,null,null,null,null,null,null,null,null,null,null,null,null,null,null,null,"","","","","","","",""]
[null,null,0,null,null,null,null,null,null,{"$f":"IF(L52=\"\",\"\",VLOOKUP(L52,$C$29:$D$58,2,FALSE))","v":""},null,null,null,null,null,null,null,null,null,null,null,null,null,null,null,null,null,null,null,null,null,null,null,null,null,null,null,null,null,null,null,null,null,null,null,null,null,null,null,null,null,null,null,null,null,null,null,null,null,null,null,null,null,null,null,null,null,null,null,null,null,null,null,"",{"$f":"IF(L52=\"\",\"\",(BX52+CG52+CH52+CI52))","v":""},"",{"$f":"IF(L52=\"\",\"\",COUNTIFS($N$47:$BU$47,L52,$N$52:$BU$52,$BY$3))","v":""},{"$f":"IF(L52=\"\",\"\",COUNTIFS($N$47:$BU$47,L52,$N$52:$BU$52,$BZ$3))","v":""},{"$f":"IF(L52=\"\",\"\",COUNTIFS($N$47:$BU$47,L52,$N$50:$BU$50,$CA$3))","v":""},{"$f":"IF(L52=\"\",\"\",COUNTIFS($N$47:$BU$47,L52,$N$50:$BU$50,$CB$3))","v":""},{"$f":"IF(L52=\"\",\"\",COUNTIFS($N$47:$BU$47,L52,$N$52:$BU$52,$CC$3))","v":""},{"$f":"IF(L52=\"\",\"\",COUNTIFS($N$47:$BU$47,L52,$N$52:$BU$52,$CD$3)+COUNTIFS($N$47:$BU$47,L52,$N$51:$BU$51,$CD$3)+COUNTIFS($N$47:$BU$47,L52,$N$50:$BU$50,$CD$3))","v":""},{"$f":"IF(L52=\"\",\"\",COUNTIFS($N$47:$BU$47,L52,$N$51:$BU$51,$CE$3))","v":""},{"$f":"IF(L52=\"\",\"\",COUNTIFS($N$47:$BU$47,L52,$N$52:$BU$52,$CF$3))","v":""},{"$f":"IF(L52=\"\",\"\",COUNTIFS($N$47:$BU$47,L52,$N$52:$BU$52,$CG$3))","v":""},{"$f":"IF(L52=\"\",\"\",COUNTIFS($N$47:$BU$47,L52,$N$52:$BU$52,$CH$3))","v":""},{"$f":"IF(L52=\"\",\"\",COUNTIFS($N$47:$BU$47,L52,$N$52:$BU$52,$CI$3))","v":""},{"$f":"IF(L52=\"\",\"\",COUNTIFS($N$47:$BU$47,L52,$N$52:$BU$52,$CJ$3))","v":""},{"$f":"IF(L52=\"\",\"\",COUNTIFS($N$47:$BU$47,L52,$N$52:$BU$52,$CK$3)+COUNTIFS($N$47:$BU$47,L52,$N$50:$BU$50,$CK$3))","v":""},{"$f":"IF(L52=\"\",\"\",COUNTIFS($N$47:$BU$47,L52,$N$52:$BU$52,$CL$3)+COUNTIFS($N$47:$BU$47,L52,$N$50:$BU$50,$CL$3))","v":""},{"$f":"IF(L52=\"\",\"\",COUNTIFS($N$47:$BU$47,L52,$N$52:$BU$52,$CM$3))","v":""},{"$f":"IF(L52=\"\",\"\",COUNTIFS($N$47:$BU$47,L52,$N$52:$BU$52,$CN$3))","v":""},{"$f":"IF(L52=\"\",\"\",COUNTIFS($N$47:$BU$47,L52,$N$48:$BU$48,$CO$3)+COUNTIFS($N$47:$BU$47,L52,$N$49:$BU$49,$CO$3))","v":""},null,null,null,null,null,null,null,"",null,null,{"$f":"IF(CY52=\"\",\"\",VLOOKUP(CY52,$C$70:$F$78,4,FALSE))","v":""},null,null,null,null,null,"T  計",null,null,{"$f":"IF($DG$44=\"\",\"\",SUM(DI44:DI50))","v":""},{"$f":"IF($DG$44=\"\",\"\",SUM(DJ44:DJ50))","v":""},null,null,null,null,null,null,null,null,null,null,null,null,null,null,null,null,null,{"$f":"IF($E$88=\"\",\"\",$E$88)","v":""},"","",{"$f":"IF(EC52=\"\",\"\",COUNTIFS($N$47:$BU$47,EC52,$N$52:$BU$52,\"RZ\"))","v":""},{"$f":"IF(ED52=\"\",\"\",COUNTIFS($N$47:$BU$47,EC52,$N$51:$BU$51,\"ZH\"))","v":""},null,null,null,null,null,null,null,null,null,null,null,null,null,null,null,null,null,null,null,null,null,null,null,null,null,null,null,null,null,null,null,null,null,null,null,null,null,null,null,null,null,null,null,null,null,null,null,null,null,null,null,null,null,null,null,null,null,null,null,null,null,null,null,null,null,null,null,null,null,null,null,null,null,null,null,null,null,null,null,null,null,null,null,null,null,null,null,null,null,null,null,null,"","","","","","","",""]
[null,null,0,null,null,null,null,null,null,null,null,null,"打者背番号を入力➡",null,{"$f":"N53","v":0},{"$f":"N53","v":0},{"$f":"N53","v":0},{"$f":"N53","v":0},null,{"$f":"S53","v":0},{"$f":"S53","v":0},{"$f":"S53","v":0},{"$f":"S53","v":0},null,{"$f":"X53","v":0},{"$f":"X53","v":0},{"$f":"X53","v":0},{"$f":"X53","v":0},null,{"$f":"AC53","v":0},{"$f":"AC53","v":0},{"$f":"AC53","v":0},{"$f":"AC53","v":0},null,{"$f":"AH53","v":0},{"$f":"AH53","v":0},{"$f":"AH53","v":0},{"$f":"AH53","v":0},null,{"$f":"AM53","v":0},{"$f":"AM53","v":0},{"$f":"AM53","v":0},{"$f":"AM53","v":0},null,{"$f":"AR53","v":0},{"$f":"AR53","v":0},{"$f":"AR53","v":0},{"$f":"AR53","v":0},null,{"$f":"AW53","v":0},{"$f":"AW53","v":0},{"$f":"AW53","v":0},{"$f":"AW53","v":0},null,{"$f":"BB53","v":0},{"$f":"BB53","v":0},{"$f":"BB53","v":0},{"$f":"BB53","v":0},null,{"$f":"BG53","v":0},{"$f":"BG53","v":0},{"$f":"BG53","v":0},{"$f":"BG53","v":0},null,{"$f":"BL53","v":0},{"$f":"BL53","v":0},{"$f":"BL53","v":0},{"$f":"BL53","v":0},null,{"$f":"BQ53","v":0},{"$f":"BQ53","v":0},{"$f":"BQ53","v":0},{"$f":"BQ53","v":0}]
[null,null,0,null,null,null,null,null,{"$f":"IF(C13=\"\",\"\",C13)","v":""},{"$f":"IF(D13=\"\",\"\",D13)","v":""},{"$f":"IF(J54=\"\",\"\",\"先\")","v":""},{"$f":"IF(J54=\"\",\"\",F13)","v":""},"⑨",null,null,null,null,null,null,null,null,null,null,null,null,null,null,null,null,null,null,null,null,null,null,null,null,null,null,null,null,null,null,null,null,null,null,null,null,null,null,null,null,null,null,null,null,null,null,null,null,null,null,null,null,null,null,null,null,null,null,null,null,{"$f":"IF(K54=\"\",\"\",VLOOKUP(K54,$C$84:$E$90,3,FALSE))","v":""},{"$f":"IF(L54=\"\",\"\",(BX54+CG54+CH54+CI54))","v":""},{"$f":"IF(L54=\"\",\"\",(BY54+BZ54+CA54+CB54+CC54+CF54+CJ54+CM54+CN54))","v":""},{"$f":"IF(L54=\"\",\"\",COUNTIFS($N$53:$BU$53,L54,$N$58:$BU$58,$BY$3))","v":""},{"$f":"IF(L54=\"\",\"\",COUNTIFS($N$53:$BU$53,L54,$N$58:$BU$58,$BZ$3))","v":""},{"$f":"IF(L54=\"\",\"\",COUNTIFS($N$53:$BU$53,L54,$N$56:$BU$56,$CA$3))","v":""},{"$f":"IF(L54=\"\",\"\",COUNTIFS($N$53:$BU$53,L54,$N$56:$BU$56,$CB$3))","v":""},{"$f":"IF(L54=\"\",\"\",COUNTIFS($N$53:$BU$53,L54,$N$58:$BU$58,$CC$3))","v":""},{"$f":"IF(L54=\"\",\"\",COUNTIFS($N$53:$BU$53,L54,$N$58:$BU$58,$CD$3)+COUNTIFS($N$53:$BU$53,L54,$N$57:$BU$57,$CD$3)+COUNTIFS($N$53:$BU$53,L54,$N$56:$BU$56,$CD$3))","v":""},{"$f":"IF(L54=\"\",\"\",COUNTIFS($N$53:$BU$53,L54,$N$57:$BU$57,$CE$3))","v":""},{"$f":"IF(L54=\"\",\"\",COUNTIFS($N$53:$BU$53,L54,$N$58:$BU$58,$CF$3))","v":""},{"$f":"IF(L54=\"\",\"\",COUNTIFS($N$53:$BU$53,L54,$N$58:$BU$58,$CG$3))","v":""},{"$f":"IF(L54=\"\",\"\",COUNTIFS($N$53:$BU$53,L54,$N$58:$BU$58,$CH$3))","v":""},{"$f":"IF(L54=\"\",\"\",COUNTIFS($N$53:$BU$53,L54,$N$58:$BU$58,$CI$3))","v":""},{"$f":"IF(L54=\"\",\"\",COUNTIFS($N$53:$BU$53,L54,$N$58:$BU$58,$CJ$3))","v":""},{"$f":"IF(L54=\"\",\"\",COUNTIFS($N$53:$BU$53,L54,$N$58:$BU$58,$CK$3)+COUNTIFS($N$53:$BU$53,L54,$N$56:$BU$56,$CK$3))","v":""},{"$f":"IF(L54=\"\",\"\",COUNTIFS($N$53:$BU$53,L54,$N$58:$BU$58,$CL$3)+COUNTIFS($N$53:$BU$53,L54,$N$56:$BU$56,$CL$3))","v":""},{"$f":"IF(L54=\"\",\"\",COUNTIFS($N$53:$BU$53,L54,$N$58:$BU$58,$CM$3))","v":""},{"$f":"IF(L54=\"\",\"\",COUNTIFS($N$53:$BU$53,L54,$N$58:$BU$58,$CN$3))","v":""},{"$f":"IF(L54=\"\",\"\",COUNTIFS($N$53:$BU$53,L54,$N$54:$BU$54,$CO$3)+COUNTIFS($N$53:$BU$53,L54,$N$55:$BU$55,$CO$3))","v":""},null,null,null,null,null,null,null,{"$f":"IF(DA54=\"\",\"\",VLOOKUP(DA54,$C$84:$E$90,3,FALSE))","v":""},null,null,{"$f":"IF(CY54=\"\",\"\",VLOOKUP(CY54,$C$70:$F$78,4,FALSE))","v":""},null,null,null,null,null,null,null,null,null,null,null,null,null,null,null,null,null,null,null,null,null,null,null,null,null,null,null,{"$f":"IF($E$84=\"\",\"\",$E$84)","v":""},"",{"$f":"IF(EC54=\"\",\"\",VLOOKUP(EC54,$C$29:$D$58,2,FALSE))","v":""},{"$f":"IF(EC54=\"\",\"\",COUNTIFS($N$53:$BU$53,EC54,$N$58:$BU$58,\"RZ\"))","v":""},{"$f":"IF(ED54=\"\",\"\",COUNTIFS($N$53:$BU$53,EC54,$N$57:$BU$57,\"ZH\"))","v":""},null,null,null,null,null,null,null,null,null,null,null,null,null,null,null,null,null,null,null,null,null,null,null,null,null,null,null,null,null,null,null,null,null,null,null,null,null,null,null,null,null,null,null,null,null,null,null,null,null,null,null,null,null,null,null,null,null,null,null,null,null,null,null,null,null,null,null,null,null,null,null,null,null,null,null,null,null,null,null,null,null,null,null,null,null,null,null,null,null,null,null,null,"",{"$f":"IF(L54=\"\",\"\",L54)","v":""},{"$f":"IF(HU54=\"\",\"\",COUNTIFS($N$53:$BU$53,HV54,$N$54:$BU$54,$HW$3)+COUNTIFS($N$53:$BU$53,HV54,$N$55:$BU$55,$HW$3))","v":""},{"$f":"IF(HU54=\"\",\"\",COUNTIFS($N$53:$BU$53,HV54,$N$54:$BU$54,$HX$3)+COUNTIFS($N$53:$BU$53,HV54,$N$55:$BU$55,$HX$3))","v":""},{"$f":"IF(HU54=\"\",\"\",COUNTIFS($N$53:$BU$53,HV54,$N$54:$BU$54,$HY$3)+COUNTIFS($N$53:$BU$53,HV54,$N$55:$BU$55,$HY$3))","v":""},{"$f":"IF(HU54=\"\",\"\",COUNTIFS($N$53:$BU$53,HV54,$N$54:$BU$54,$HZ$3)+COUNTIFS($N$53:$BU$53,HV54,$N$55:$BU$55,$HZ$3))","v":""},{"$f":"IF(HU54=\"\",\"\",COUNTIFS($N$53:$BU$53,HV54,$N$54:$BU$54,$IA$3)+COUNTIFS($N$53:$BU$53,HV54,$N$55:$BU$55,$IA$3))","v":""},{"$f":"IF(HU54=\"\",\"\",COUNTIFS($N$53:$BU$53,HV54,$N$54:$BU$54,$IB$3)+COUNTIFS($N$53:$BU$53,HV54,$N$55:$BU$55,$IB$3))","v":""}]
[null,null,0,null,null,null,null,null,null,null,null,null,null,null,null,null,null,null,null,null,null,null,null,null,null,null,null,null,null,null,null,null,null,null,null,null,null,null,null,null,null,null,null,null,null,null,null,null,null,null,null,null,null,null,null,null,null,null,null,null,null,null,null,null,null,null,null,null,null,null,null,null,null,{"$f":"IF(K55=\"\",\"\",VLOOKUP(K55,$C$84:$E$90,3,FALSE))","v":""},{"$f":"IF(L55=\"\",\"\",(BX55+CG55+CH55+CI55))","v":""},"",{"$f":"IF(L55=\"\",\"\",COUNTIFS($N$53:$BU$53,L55,$N$58:$BU$58,$BY$3))","v":""},{"$f":"IF(L55=\"\",\"\",COUNTIFS($N$53:$BU$53,L55,$N$58:$BU$58,$BZ$3))","v":""},{"$f":"IF(L55=\"\",\"\",COUNTIFS($N$53:$BU$53,L55,$N$56:$BU$56,$CA$3))","v":""},{"$f":"IF(L55=\"\",\"\",COUNTIFS($N$53:$BU$53,L55,$N$56:$BU$56,$CB$3))","v":""},{"$f":"IF(L55=\"\",\"\",COUNTIFS($N$53:$BU$53,L55,$N$58:$BU$58,$CC$3))","v":""},{"$f":"IF(L55=\"\",\"\",COUNTIFS($N$53:$BU$53,L55,$N$58:$BU$58,$CD$3)+COUNTIFS($N$53:$BU$53,L55,$N$57:$BU$57,$CD$3)+COUNTIFS($N$53:$BU$53,L55,$N$56:$BU$56,$CD$3))","v":""},{"$f":"IF(L55=\"\",\"\",COUNTIFS($N$53:$BU$53,L55,$N$57:$BU$57,$CE$3))","v":""},{"$f":"IF(L55=\"\",\"\",COUNTIFS($N$53:$BU$53,L55,$N$58:$BU$58,$CF$3))","v":""},{"$f":"IF(L55=\"\",\"\",COUNTIFS($N$53:$BU$53,L55,$N$58:$BU$58,$CG$3))","v":""},{"$f":"IF(L55=\"\",\"\",COUNTIFS($N$53:$BU$53,L55,$N$58:$BU$58,$CH$3))","v":""},{"$f":"IF(L55=\"\",\"\",COUNTIFS($N$53:$BU$53,L55,$N$58:$BU$58,$CI$3))","v":""},{"$f":"IF(L55=\"\",\"\",COUNTIFS($N$53:$BU$53,L55,$N$58:$BU$58,$CJ$3))","v":""},{"$f":"IF(L55=\"\",\"\",COUNTIFS($N$53:$BU$53,L55,$N$58:$BU$58,$CK$3)+COUNTIFS($N$53:$BU$53,L55,$N$56:$BU$56,$CK$3))","v":""},{"$f":"IF(L55=\"\",\"\",COUNTIFS($N$53:$BU$53,L55,$N$58:$BU$58,$CL$3)+COUNTIFS($N$53:$BU$53,L55,$N$56:$BU$56,$CL$3))","v":""},{"$f":"IF(L55=\"\",\"\",COUNTIFS($N$53:$BU$53,L55,$N$58:$BU$58,$CM$3))","v":""},{"$f":"IF(L55=\"\",\"\",COUNTIFS($N$53:$BU$53,L55,$N$58:$BU$58,$CN$3))","v":""},{"$f":"IF(L55=\"\",\"\",COUNTIFS($N$53:$BU$53,L55,$N$54:$BU$54,$CO$3)+COUNTIFS($N$53:$BU$53,L55,$N$55:$BU$55,$CO$3))","v":""},null,null,null,null,null,null,null,{"$f":"IF(DA55=\"\",\"\",VLOOKUP(DA55,$C$84:$E$90,3,FALSE))","v":""},null,null,{"$f":"IF(CY55=\"\",\"\",VLOOKUP(CY55,$C$70:$F$78,4,FALSE))","v":""},null,null,null,null,null,null,null,null,null,null,null,null,null,null,null,null,null,null,null,null,null,null,null,null,null,null,null,{"$f":"IF($E$85=\"\",\"\",$E$85)","v":""},"",null,{"$f":"IF(EC55=\"\",\"\",COUNTIFS($N$53:$BU$53,EC55,$N$58:$BU$58,\"RZ\"))","v":""},{"$f":"IF(ED55=\"\",\"\",COUNTIFS($N$53:$BU$53,EC55,$N$57:$BU$57,\"ZH\"))","v":""},null,null,null,null,null,null,null,null,null,null,null,null,null,null,null,null,null,null,null,null,null,null,null,null,null,null,null,null,null,null,null,null,null,null,null,null,null,null,null,null,null,null,null,null,null,null,null,null,null,null,null,null,null,null,null,null,null,null,null,null,null,null,null,null,null,null,null,null,null,null,null,null,null,null,null,null,null,null,null,null,null,null,null,null,null,null,null,null,null,null,null,null,"","",{"$f":"IF(HU55=\"\",\"\",COUNTIFS($N$53:$BU$53,HV55,$N$54:$BU$54,$HW$3)+COUNTIFS($N$53:$BU$53,HV55,$N$55:$BU$55,$HW$3))","v":""},{"$f":"IF(HU55=\"\",\"\",COUNTIFS($N$53:$BU$53,HV55,$N$54:$BU$54,$HX$3)+COUNTIFS($N$53:$BU$53,HV55,$N$55:$BU$55,$HX$3))","v":""},{"$f":"IF(HU55=\"\",\"\",COUNTIFS($N$53:$BU$53,HV55,$N$54:$BU$54,$HY$3)+COUNTIFS($N$53:$BU$53,HV55,$N$55:$BU$55,$HY$3))","v":""},{"$f":"IF(HU55=\"\",\"\",COUNTIFS($N$53:$BU$53,HV55,$N$54:$BU$54,$HZ$3)+COUNTIFS($N$53:$BU$53,HV55,$N$55:$BU$55,$HZ$3))","v":""},{"$f":"IF(HU55=\"\",\"\",COUNTIFS($N$53:$BU$53,HV55,$N$54:$BU$54,$IA$3)+COUNTIFS($N$53:$BU$53,HV55,$N$55:$BU$55,$IA$3))","v":""},{"$f":"IF(HU55=\"\",\"\",COUNTIFS($N$53:$BU$53,HV55,$N$54:$BU$54,$IB$3)+COUNTIFS($N$53:$BU$53,HV55,$N$55:$BU$55,$IB$3))","v":""}]
[null,null,0,null,null,null,null,null,null,null,null,null,null,null,null,null,null,null,null,null,null,null,null,null,null,null,null,null,null,null,null,null,null,null,null,null,null,null,null,null,null,null,null,null,null,null,null,null,null,null,null,null,null,null,null,null,null,null,null,null,null,null,null,null,null,null,null,null,null,null,null,null,null,"",{"$f":"IF(L56=\"\",\"\",(BX56+CG56+CH56+CI56))","v":""},"",{"$f":"IF(L56=\"\",\"\",COUNTIFS($N$53:$BU$53,L56,$N$58:$BU$58,$BY$3))","v":""},{"$f":"IF(L56=\"\",\"\",COUNTIFS($N$53:$BU$53,L56,$N$58:$BU$58,$BZ$3))","v":""},{"$f":"IF(L56=\"\",\"\",COUNTIFS($N$53:$BU$53,L56,$N$56:$BU$56,$CA$3))","v":""},{"$f":"IF(L56=\"\",\"\",COUNTIFS($N$53:$BU$53,L56,$N$56:$BU$56,$CB$3))","v":""},{"$f":"IF(L56=\"\",\"\",COUNTIFS($N$53:$BU$53,L56,$N$58:$BU$58,$CC$3))","v":""},{"$f":"IF(L56=\"\",\"\",COUNTIFS($N$53:$BU$53,L56,$N$58:$BU$58,$CD$3)+COUNTIFS($N$53:$BU$53,L56,$N$57:$BU$57,$CD$3)+COUNTIFS($N$53:$BU$53,L56,$N$56:$BU$56,$CD$3))","v":""},{"$f":"IF(L56=\"\",\"\",COUNTIFS($N$53:$BU$53,L56,$N$57:$BU$57,$CE$3))","v":""},{"$f":"IF(L56=\"\",\"\",COUNTIFS($N$53:$BU$53,L56,$N$58:$BU$58,$CF$3))","v":""},{"$f":"IF(L56=\"\",\"\",COUNTIFS($N$53:$BU$53,L56,$N$58:$BU$58,$CG$3))","v":""},{"$f":"IF(L56=\"\",\"\",COUNTIFS($N$53:$BU$53,L56,$N$58:$BU$58,$CH$3))","v":""},{"$f":"IF(L56=\"\",\"\",COUNTIFS($N$53:$BU$53,L56,$N$58:$BU$58,$CI$3))","v":""},{"$f":"IF(L56=\"\",\"\",COUNTIFS($N$53:$BU$53,L56,$N$58:$BU$58,$CJ$3))","v":""},{"$f":"IF(L56=\"\",\"\",COUNTIFS($N$53:$BU$53,L56,$N$58:$BU$58,$CK$3)+COUNTIFS($N$53:$BU$53,L56,$N$56:$BU$56,$CK$3))","v":""},{"$f":"IF(L56=\"\",\"\",COUNTIFS($N$53:$BU$53,L56,$N$58:$BU$58,$CL$3)+COUNTIFS($N$53:$BU$53,L56,$N$56:$BU$56,$CL$3))","v":""},{"$f":"IF(L56=\"\",\"\",COUNTIFS($N$53:$BU$53,L56,$N$58:$BU$58,$CM$3))","v":""},{"$f":"IF(L56=\"\",\"\",COUNTIFS($N$53:$BU$53,L56,$N$58:$BU$58,$CN$3))","v":""},{"$f":"IF(L56=\"\",\"\",COUNTIFS($N$53:$BU$53,L56,$N$54:$BU$54,$CO$3)+COUNTIFS($N$53:$BU$53,L56,$N$55:$BU$55,$CO$3))","v":""},null,null,null,null,null,null,null,"",null,null,{"$f":"IF(CY56=\"\",\"\",VLOOKUP(CY56,$C$70:$F$78,4,FALSE))","v":""},null,null,null,null,null,null,null,null,null,null,null,null,null,null,null,null,null,null,null,null,null,null,null,null,null,null,null,{"$f":"IF($E$86=\"\",\"\",$E$86)","v":""},"",null,{"$f":"IF(EC56=\"\",\"\",COUNTIFS($N$53:$BU$53,EC56,$N$58:$BU$58,\"RZ\"))","v":""},{"$f":"IF(ED56=\"\",\"\",COUNTIFS($N$53:$BU$53,EC56,$N$57:$BU$57,\"ZH\"))","v":""},null,null,null,null,null,null,null,null,null,null,null,null,null,null,null,null,null,null,null,null,null,null,null,null,null,null,null,null,null,null,null,null,null,null,null,null,null,null,null,null,null,null,null,null,null,null,null,null,null,null,null,null,null,null,null,null,null,null,null,null,null,null,null,null,null,null,null,null,null,null,null,null,null,null,null,null,null,null,null,null,null,null,null,null,null,null,null,null,null,null,null,null,"","","","","","","",""]
[null,null,0,null,null,null,null,null,null,null,null,null,null,null,null,null,null,null,null,null,null,null,null,null,null,null,null,null,null,null,null,null,null,null,null,null,null,null,null,null,null,null,null,null,null,null,null,null,null,null,null,null,null,null,null,null,null,null,null,null,null,null,null,null,null,null,null,null,null,null,null,null,null,"",{"$f":"IF(L57=\"\",\"\",(BX57+CG57+CH57+CI57))","v":""},"",{"$f":"IF(L57=\"\",\"\",COUNTIFS($N$53:$BU$53,L57,$N$58:$BU$58,$BY$3))","v":""},{"$f":"IF(L57=\"\",\"\",COUNTIFS($N$53:$BU$53,L57,$N$58:$BU$58,$BZ$3))","v":""},{"$f":"IF(L57=\"\",\"\",COUNTIFS($N$53:$BU$53,L57,$N$56:$BU$56,$CA$3))","v":""},{"$f":"IF(L57=\"\",\"\",COUNTIFS($N$53:$BU$53,L57,$N$56:$BU$56,$CB$3))","v":""},{"$f":"IF(L57=\"\",\"\",COUNTIFS($N$53:$BU$53,L57,$N$58:$BU$58,$CC$3))","v":""},{"$f":"IF(L57=\"\",\"\",COUNTIFS($N$53:$BU$53,L57,$N$58:$BU$58,$CD$3)+COUNTIFS($N$53:$BU$53,L57,$N$57:$BU$57,$CD$3)+COUNTIFS($N$53:$BU$53,L57,$N$56:$BU$56,$CD$3))","v":""},{"$f":"IF(L57=\"\",\"\",COUNTIFS($N$53:$BU$53,L57,$N$57:$BU$57,$CE$3))","v":""},{"$f":"IF(L57=\"\",\"\",COUNTIFS($N$53:$BU$53,L57,$N$58:$BU$58,$CF$3))","v":""},{"$f":"IF(L57=\"\",\"\",COUNTIFS($N$53:$BU$53,L57,$N$58:$BU$58,$CG$3))","v":""},{"$f":"IF(L57=\"\",\"\",COUNTIFS($N$53:$BU$53,L57,$N$58:$BU$58,$CH$3))","v":""},{"$f":"IF(L57=\"\",\"\",COUNTIFS($N$53:$BU$53,L57,$N$58:$BU$58,$CI$3))","v":""},{"$f":"IF(L57=\"\",\"\",COUNTIFS($N$53:$BU$53,L57,$N$58:$BU$58,$CJ$3))","v":""},{"$f":"IF(L57=\"\",\"\",COUNTIFS($N$53:$BU$53,L57,$N$58:$BU$58,$CK$3)+COUNTIFS($N$53:$BU$53,L57,$N$56:$BU$56,$CK$3))","v":""},{"$f":"IF(L57=\"\",\"\",COUNTIFS($N$53:$BU$53,L57,$N$58:$BU$58,$CL$3)+COUNTIFS($N$53:$BU$53,L57,$N$56:$BU$56,$CL$3))","v":""},{"$f":"IF(L57=\"\",\"\",COUNTIFS($N$53:$BU$53,L57,$N$58:$BU$58,$CM$3))","v":""},{"$f":"IF(L57=\"\",\"\",COUNTIFS($N$53:$BU$53,L57,$N$58:$BU$58,$CN$3))","v":""},{"$f":"IF(L57=\"\",\"\",COUNTIFS($N$53:$BU$53,L57,$N$54:$BU$54,$CO$3)+COUNTIFS($N$53:$BU$53,L57,$N$55:$BU$55,$CO$3))","v":""},null,null,null,null,null,null,null,"",null,null,{"$f":"IF(CY57=\"\",\"\",VLOOKUP(CY57,$C$70:$F$78,4,FALSE))","v":""},null,null,null,null,null,null,null,null,null,null,null,null,null,null,null,null,null,null,null,null,null,null,null,null,null,null,null,{"$f":"IF($E$87=\"\",\"\",$E$87)","v":""},"",null,{"$f":"IF(EC57=\"\",\"\",COUNTIFS($N$53:$BU$53,EC57,$N$58:$BU$58,\"RZ\"))","v":""},{"$f":"IF(ED57=\"\",\"\",COUNTIFS($N$53:$BU$53,EC57,$N$57:$BU$57,\"ZH\"))","v":""},null,null,null,null,null,null,null,null,null,null,null,null,null,null,null,null,null,null,null,null,null,null,null,null,null,null,null,null,null,null,null,null,null,null,null,null,null,null,null,null,null,null,null,null,null,null,null,null,null,null,null,null,null,null,null,null,null,null,null,null,null,null,null,null,null,null,null,null,null,null,null,null,null,null,null,null,null,null,null,null,null,null,null,null,null,null,null,null,null,null,null,null,"","","","","","","",""]
[null,null,0,null,null,null,null,null,null,{"$f":"IF(L58=\"\",\"\",VLOOKUP(L58,$C$29:$D$58,2,FALSE))","v":""},null,null,null,null,null,null,null,null,null,null,null,null,null,null,null,null,null,null,null,null,null,null,null,null,null,null,null,null,null,null,null,null,null,null,null,null,null,null,null,null,null,null,null,null,null,null,null,null,null,null,null,null,null,null,null,null,null,null,null,null,null,null,null,"",{"$f":"IF(L58=\"\",\"\",(BX58+CG58+CH58+CI58))","v":""},"",{"$f":"IF(L58=\"\",\"\",COUNTIFS($N$53:$BU$53,L58,$N$58:$BU$58,$BY$3))","v":""},{"$f":"IF(L58=\"\",\"\",COUNTIFS($N$53:$BU$53,L58,$N$58:$BU$58,$BZ$3))","v":""},{"$f":"IF(L58=\"\",\"\",COUNTIFS($N$53:$BU$53,L58,$N$56:$BU$56,$CA$3))","v":""},{"$f":"IF(L58=\"\",\"\",COUNTIFS($N$53:$BU$53,L58,$N$56:$BU$56,$CB$3))","v":""},{"$f":"IF(L58=\"\",\"\",COUNTIFS($N$53:$BU$53,L58,$N$58:$BU$58,$CC$3))","v":""},{"$f":"IF(L58=\"\",\"\",COUNTIFS($N$53:$BU$53,L58,$N$58:$BU$58,$CD$3)+COUNTIFS($N$53:$BU$53,L58,$N$57:$BU$57,$CD$3)+COUNTIFS($N$53:$BU$53,L58,$N$56:$BU$56,$CD$3))","v":""},{"$f":"IF(L58=\"\",\"\",COUNTIFS($N$53:$BU$53,L58,$N$57:$BU$57,$CE$3))","v":""},{"$f":"IF(L58=\"\",\"\",COUNTIFS($N$53:$BU$53,L58,$N$58:$BU$58,$CF$3))","v":""},{"$f":"IF(L58=\"\",\"\",COUNTIFS($N$53:$BU$53,L58,$N$58:$BU$58,$CG$3))","v":""},{"$f":"IF(L58=\"\",\"\",COUNTIFS($N$53:$BU$53,L58,$N$58:$BU$58,$CH$3))","v":""},{"$f":"IF(L58=\"\",\"\",COUNTIFS($N$53:$BU$53,L58,$N$58:$BU$58,$CI$3))","v":""},{"$f":"IF(L58=\"\",\"\",COUNTIFS($N$53:$BU$53,L58,$N$58:$BU$58,$CJ$3))","v":""},{"$f":"IF(L58=\"\",\"\",COUNTIFS($N$53:$BU$53,L58,$N$58:$BU$58,$CK$3)+COUNTIFS($N$53:$BU$53,L58,$N$56:$BU$56,$CK$3))","v":""},{"$f":"IF(L58=\"\",\"\",COUNTIFS($N$53:$BU$53,L58,$N$58:$BU$58,$CL$3)+COUNTIFS($N$53:$BU$53,L58,$N$56:$BU$56,$CL$3))","v":""},{"$f":"IF(L58=\"\",\"\",COUNTIFS($N$53:$BU$53,L58,$N$58:$BU$58,$CM$3))","v":""},{"$f":"IF(L58=\"\",\"\",COUNTIFS($N$53:$BU$53,L58,$N$58:$BU$58,$CN$3))","v":""},{"$f":"IF(L58=\"\",\"\",COUNTIFS($N$53:$BU$53,L58,$N$54:$BU$54,$CO$3)+COUNTIFS($N$53:$BU$53,L58,$N$55:$BU$55,$CO$3))","v":""},null,null,null,null,null,null,null,"",null,null,{"$f":"IF(CY58=\"\",\"\",VLOOKUP(CY58,$C$70:$F$78,4,FALSE))","v":""},null,null,null,null,null,null,null,null,null,null,null,null,null,null,null,null,null,null,null,null,null,null,null,null,null,null,null,{"$f":"IF($E$88=\"\",\"\",$E$88)","v":""},"","",{"$f":"IF(EC58=\"\",\"\",COUNTIFS($N$53:$BU$53,EC58,$N$58:$BU$58,\"RZ\"))","v":""},{"$f":"IF(ED58=\"\",\"\",COUNTIFS($N$53:$BU$53,EC58,$N$57:$BU$57,\"ZH\"))","v":""},null,null,null,null,null,null,null,null,null,null,null,null,null,null,null,null,null,null,null,null,null,null,null,null,null,null,null,null,null,null,null,null,null,null,null,null,null,null,null,null,null,null,null,null,null,null,null,null,null,null,null,null,null,null,null,null,null,null,null,null,null,null,null,null,null,null,null,null,null,null,null,null,null,null,null,null,null,null,null,null,null,null,null,null,null,null,null,null,null,null,null,null,"","","","","","","",""]
[]
[null,"回戦→",null,null,null,null,null,null,null,"試合日→",null,null,null,null,null,null,null,null,null,"球場→",null,null,null,null,null,null,null,null,null,null,null,"開始時刻→",null,null,null,null,null,null,"～","終了時刻→"]
[]
[null,null,null,"↓シーズンNo",null,null,null,null,null,"チーム名",null,null,null,1,null,null,null,null,2,null,null,null,null,3,null,null,null,null,4,null,null,null,null,5,null,null,null,null,6,null,null,null,null,7,null,null,null,null,8,null,null,null,null,9,null,null,null,null,10,null,null,null,null,11,null,null,null,null,12,null,null,null,null,"計"]
[null,null,null,null,null,null,null,null,null,{"$f":"IF(O2=\"\",\"\",O2)","v":""},null,null,null,{"$f":"IF(N65=\"\",\"\",IF(N62=N4,COUNTIF(P6:P58,$CE$3))+IF(N62=S4,COUNTIF(U6:U58,$CE$3))+IF(N62=X4,COUNTIF(Z6:Z58,$CE$3))+IF(N62=AC4,COUNTIF(AE6:AE58,$CE$3)))","v":""},null,null,null,null,{"$f":"IF(S65=\"\",\"\",IF(S62=S4,COUNTIF(U6:U58,$CE$3))+IF(S62=X4,COUNTIF(Z6:Z58,$CE$3))+IF(S62=AC4,COUNTIF(AE6:AE58,$CE$3))+IF(S62=AH4,COUNTIF(AJ6:AJ58,$CE$3)))","v":""},null,null,null,null,{"$f":"IF(X65=\"\",\"\",IF(X62=X4,COUNTIF(Z6:Z58,$CE$3))+IF(X62=AC4,COUNTIF(AE6:AE58,$CE$3))+IF(X62=AH4,COUNTIF(AJ6:AJ58,$CE$3))+IF(X62=AM4,COUNTIF(AO6:AO58,$CE$3)))","v":""},null,null,null,null,{"$f":"IF(AC65=\"\",\"\",IF(AC62=AC4,COUNTIF(AE6:AE58,$CE$3))+IF(AC62=AH4,COUNTIF(AJ6:AJ58,$CE$3))+IF(AC62=AM4,COUNTIF(AO6:AO58,$CE$3))+IF(AC62=BG4,COUNTIF(AT6:AT58,$CE$3)))","v":""},null,null,null,null,{"$f":"IF(AH65=\"\",\"\",IF(AH62=AH4,COUNTIF(AJ6:AJ58,$CE$3))+IF(AH62=AM4,COUNTIF(AO6:AO58,$CE$3))+IF(AH62=BG4,COUNTIF(AT6:AT58,$CE$3))+IF(AH62=BL4,COUNTIF(AY6:AY58,$CE$3)))","v":""},null,null,null,null,{"$f":"IF(AM65=\"\",\"\",IF(AM62=AM4,COUNTIF(AO6:AO58,$CE$3))+IF(AM62=BG4,COUNTIF(AT6:AT58,$CE$3))+IF(AM62=BL4,COUNTIF(AY6:AY58,$CE$3))+IF(AM62=BQ4,COUNTIF(BD6:BD58,$CE$3)))","v":""},null,null,null,null,{"$f":"IF(AR65=\"\",\"\",IF(AR62=AR4,COUNTIF(AT6:AT58,$CE$3))+IF(AR62=BL4,COUNTIF(AY6:AY58,$CE$3))+IF(AR62=BQ4,COUNTIF(BD6:BD58,$CE$3))+IF(AR62=BV4,COUNTIF(BI6:BI58,$CE$3)))","v":""},null,null,null,null,{"$f":"IF(AW65=\"\",\"\",IF(AW62=AW4,COUNTIF(AY6:AY58,$CE$3))+IF(AW62=BQ4,COUNTIF(BD6:BD58,$CE$3))+IF(AW62=BV4,COUNTIF(BI6:BI58,$CE$3))+IF(AW62=CA4,COUNTIF(BN6:BN58,$CE$3)))","v":""},null,null,null,null,{"$f":"IF(BB65=\"\",\"\",IF(BB62=BB4,COUNTIF(BD6:BD58,$CE$3))+IF(BB62=BV4,COUNTIF(BI6:BI58,$CE$3))+IF(BB62=CA4,COUNTIF(BN6:BN58,$CE$3))+IF(BB62=CF4,COUNTIF(BS6:BS58,$CE$3)))","v":""},null,null,null,null,{"$f":"IF(BG65=\"\",\"\",IF(BG62=BG4,COUNTIF(BI6:BI58,$CE$3))+IF(BG62=CA4,COUNTIF(BN6:BN58,$CE$3))+IF(BG62=CF4,COUNTIF(BS6:BS58,$CE$3)))","v":""},null,null,null,null,{"$f":"IF(BL65=\"\",\"\",IF(BL62=BL4,COUNTIF(BN6:BN58,$CE$3))+IF(BL62=CF4,COUNTIF(BS6:BS58,$CE$3)))","v":""},null,null,null,null,{"$f":"IF(BQ65=\"\",\"\",IF(BQ62=BQ4,COUNTIF(BS6:BS58,$CK$3)))","v":""},null,null,null,null,{"$f":"IF(J63=\"\",\"\",SUM(N63:BU63))","v":""}]
[null,null,null,null,null,null,null,null,null,{"$f":"IF(O67=\"\",\"\",O67)","v":""},null,null,null,{"$f":"IF(N65=\"\",\"\",IF(N62=N69,COUNTIF(P71:P123,$CE$68))+IF(N62=S69,COUNTIF(U71:U123,$CE$68))+IF(N62=X69,COUNTIF(Z71:Z123,$CE$68))+IF(N62=AC69,COUNTIF(AE71:AE123,$CE$68)))","v":""},null,null,null,null,{"$f":"IF(S65=\"\",\"\",IF(S62=S69,COUNTIF(U71:U123,$CE$68))+IF(S62=X69,COUNTIF(Z71:Z123,$CE$68))+IF(S62=AC69,COUNTIF(AE71:AE123,$CE$68))+IF(S62=AH69,COUNTIF(AJ71:AJ123,$CE$68)))","v":""},null,null,null,null,{"$f":"IF(X65=\"\",\"\",IF(X62=X69,COUNTIF(Z71:Z123,$CE$68))+IF(X62=AC69,COUNTIF(AE71:AE123,$CE$68))+IF(X62=AH69,COUNTIF(AJ71:AJ123,$CE$68))+IF(X62=AM69,COUNTIF(AO71:AO123,$CE$68)))","v":""},null,null,null,null,{"$f":"IF(AC65=\"\",\"\",IF(AC62=AC69,COUNTIF(AE71:AE123,$CE$68))+IF(AC62=AH69,COUNTIF(AJ71:AJ123,$CE$68))+IF(AC62=AM69,COUNTIF(AO71:AO123,$CE$68))+IF(AC62=AR69,COUNTIF(AT71:AT123,$CE$68)))","v":""},null,null,null,null,{"$f":"IF(AH65=\"\",\"\",IF(AH62=AH69,COUNTIF(AJ71:AJ123,$CE$68))+IF(AH62=AM69,COUNTIF(AO71:AO123,$CE$68))+IF(AH62=AR69,COUNTIF(AT71:AT123,$CE$68))+IF(AH62=AW69,COUNTIF(AY71:AY123,$CE$68)))","v":""},null,null,null,null,{"$f":"IF(AM65=\"\",\"\",IF(AM62=AM69,COUNTIF(AO71:AO123,$CE$68))+IF(AM62=AR69,COUNTIF(AT71:AT123,$CE$68))+IF(AM62=AW69,COUNTIF(AY71:AY123,$CE$68))+IF(AM62=BB69,COUNTIF(BD71:BD123,$CE$68)))","v":""},null,null,null,null,{"$f":"IF(AR65=\"\",\"\",IF(AR62=AR69,COUNTIF(AT71:AT123,$CE$68))+IF(AR62=AW69,COUNTIF(AY71:AY123,$CE$68))+IF(AR62=BB69,COUNTIF(BD71:BD123,$CE$68))+IF(AR62=BG69,COUNTIF(BI71:BI123,$CE$68)))","v":""},null,null,null,null,{"$f":"IF(AW65=\"\",\"\",IF(AW62=AW69,COUNTIF(AY71:AY123,$CE$68))+IF(AW62=BB69,COUNTIF(BD71:BD123,$CE$68))+IF(AW62=BG69,COUNTIF(BI71:BI123,$CE$68))+IF(AW62=BL69,COUNTIF(BN71:BN123,$CE$68)))","v":""},null,null,null,null,{"$f":"IF(BB65=\"\",\"\",IF(BB62=BB69,COUNTIF(BD71:BD123,$CE$68))+IF(BB62=BG69,COUNTIF(BI71:BI123,$CE$68))+IF(BB62=BL69,COUNTIF(BN71:BN123,$CE$68))+IF(BB62=BQ69,COUNTIF(BS71:BS123,$CE$68)))","v":""},null,null,null,null,{"$f":"IF(BG65=\"\",\"\",IF(BG62=BG69,COUNTIF(BI71:BI123,$CE$68))+IF(BG62=BL69,COUNTIF(BN71:BN123,$CE$68))+IF(BG62=BQ69,COUNTIF(BS71:BS123,$CE$68)))","v":""},null,null,null,null,{"$f":"IF(BL65=\"\",\"\",IF(BL62=BL69,COUNTIF(BN71:BN123,$CE$68))+IF(BL62=BQ69,COUNTIF(BS71:BS123,$CE$68)))","v":""},null,null,null,null,{"$f":"IF(BQ65=\"\",\"\",IF(BQ62=BQ69,COUNTIF(BS71:BS123,$CE$68)))","v":""},null,null,null,null,{"$f":"IF(J64=\"\",\"\",SUM(N64:BU64))","v":""}]
[null,null,null,null,null,null,null,null,null,"得点表示用リスト→"]
[]
[null,"先発オーダー",null,null,null,null,"代",null,null,"後攻チーム→",null,null,null,null,null,null,null,null,null,null,null,{"$f":"IFERROR(VLOOKUP(O67,情報!D5:E39,2,FALSE),\"\")","v":""},"←チーム番号",null,null,null,null,null,null,null,null,null,null,null,null,null,null,null,null,null,null,null,null,null,null,null,null,null,null,null,null,null,null,null,null,null,null,null,null,null,null,null,null,null,null,null,null,null,null,null,null,null,null,null,null,null,null,null,null,null,null,null,null,null,null,null,null,null,null,null,null,null,null,null,null,null,null,null,null,null,null,null,null,null,null,null,null,null,null,null,null,null,null,null,null,null,null,null,null,null,null,null,null,null,null,null,null,null,null,null,null,null,null,null,null,null,null,null,null,null,null,null,null,null,null,null,"投手PS別打撃結果表",null,null,null,null,null,null,null,null,null,null,null,null,null,null,null,null,null,null,null,null,null,null,null,null,null,null,null,null,null,null,null,null,null,null,null,null,null,null,null,null,null,null,null,null,null,null,null,null,null,null,null,null,null,null,null,null,null,null,null,null,null,null,null,null,null,null,null,null,null,null,null,null,null,null,null,null,null,null,null,null,null,"打者打撃内訳"]
[null,"打　順","守備位置","選手名","PS","背番号","背番号",null,"守備位置","選手名","投手順","背番号","打順",null,null,null,null,null,null,null,null,null,null,null,null,null,null,null,null,null,null,null,null,null,null,null,null,null,null,null,null,null,null,null,null,null,null,null,null,null,null,null,null,null,null,null,null,null,null,null,null,null,null,null,null,null,null,null,null,null,null,null,null,null,null,null,"O","H","H2","H3","H4","◎","○","K*","B","B'","G","GF","S","S'","W","E","・*",null,null,null,null,null,null,null,null,"打球方向",null,null,null,null,null,null,null,null,"本試合打撃成績一覧",null,null,null,null,null,null,null,null,null,null,null,null,null,null,null,null,null,null,null,null,null,null,"得点圏時打撃",null,null,null,null,"得点圏時打撃一覧",null,null,null,null,null,null,null,null,null,null,"O","H","H2","H3","H4","◎","○","K","B","B'","G","GF","S","S'","W","E","・*",null,null,"打球方向集計表",null,"右",null,null,"中",null,null,"左",null,null,null,null,null,null,null,null,null,null,null,null,null,null,null,null,null,null,null,null,null,null,null,null,null,null,null,null,null,null,null,null,null,null,null,null,null,null,null,null,"↓試合結果表",null,null,null,null,null,null,null,null,null,null,"選手名","背番号","・*","*●*","*〇*","*△*","*□*","*◎*"]
[null,null,null,null,null,null,null,null,null,null,null,null,null,1,null,null,null,null,{"$f":"N69+1","v":2},null,null,null,null,{"$f":"S69+1","v":3},null,null,null,null,{"$f":"X69+1","v":4},null,null,null,null,{"$f":"AC69+1","v":5},null,null,null,null,{"$f":"AH69+1","v":6},null,null,null,null,{"$f":"AM69+1","v":7},null,null,null,null,{"$f":"AR69+1","v":8},null,null,null,null,{"$f":"AW69+1","v":9},null,null,null,null,{"$f":"BB69+1","v":10},null,null,null,null,{"$f":"BG69+1","v":11},null,null,null,null,{"$f":"BL69+1","v":12},null,null,null,null,"PS","打席","打数","凡打","安打","二打","三打","本打","打点","得点","三振","四球","死球","犠打","犠飛","盗塁","盗死","併殺","敵失","投数","投分","打撃内容",null,null,null,null,"球状","PS","打背","球向","守背","投分",null,null,null,"T番","選手名","背番","打席","打数","凡打","安打","二打","三打","本打","打点","得点","三振","四球","死球","犠打","犠飛","盗塁","盗死","併殺","敵失","投数",null,null,"背番","選手名","打数","安打",null,"T番","選手名","背番","打数","安打",null,"T番","選手名","背番","PS","打席","打数","凡打","安打","二打","三打","本打","打点","得点","三振","四球","死球","犠打","犠飛","盗塁","盗死","併殺","敵失","投数",null,"T番","選手名","背番","一","二","右","捕","投","中","三","遊","左",null,null,null,null,"番号","選手名","背番","投順","O数","投回","被本","被安","四死","伐振","与盗","与点","自点","投数","試数","勝負","対戦相手",null,"番号","チーム名","O数","投回","被本","被安","四死","伐振","与盗","与点","自点","投数","試数","勝負","対戦相手",null,"回戦","試合日","球場名","後攻チーム","得点","与点","勝敗","対戦チーム",null,null,null,null,null,"投数","B","S","F","空振","打撃"]
[null,"①",null,null,{"$f":"IF(D70=\"\",\"\",VLOOKUP(D70,$D$94:$F$125,2,FALSE))","v":""},{"$f":"IF(D70=\"\",\"\",VLOOKUP(D70,$D$94:$F$125,3,FALSE))","v":""},null,null,null,null,null,null,"打者背番号を入力➡",null,{"$f":"N70","v":0},{"$f":"N70","v":0},{"$f":"N70","v":0},{"$f":"N70","v":0},null,{"$f":"S70","v":0},{"$f":"S70","v":0},{"$f":"S70","v":0},{"$f":"S70","v":0},null,{"$f":"X70","v":0},{"$f":"X70","v":0},{"$f":"X70","v":0},{"$f":"X70","v":0},null,{"$f":"AC70","v":0},{"$f":"AC70","v":0},{"$f":"AC70","v":0},{"$f":"AC70","v":0},null,{"$f":"AH70","v":0},{"$f":"AH70","v":0},{"$f":"AH70","v":0},{"$f":"AH70","v":0},null,{"$f":"AM70","v":0},{"$f":"AM70","v":0},{"$f":"AM70","v":0},{"$f":"AM70","v":0},null,{"$f":"AR70","v":0},{"$f":"AR70","v":0},{"$f":"AR70","v":0},{"$f":"AR70","v":0},null,{"$f":"AW70","v":0},{"$f":"AW70","v":0},{"$f":"AW70","v":0},{"$f":"AW70","v":0},null,{"$f":"BB70","v":0},{"$f":"BB70","v":0},{"$f":"BB70","v":0},{"$f":"BB70","v":0},null,{"$f":"BG70","v":0},{"$f":"BG70","v":0},{"$f":"BG70","v":0},{"$f":"BG70","v":0},null,{"$f":"BL70","v":0},{"$f":"BL70","v":0},{"$f":"BL70","v":0},{"$f":"BL70","v":0},null,{"$f":"BQ70","v":0},{"$f":"BQ70","v":0},{"$f":"BQ70","v":0},{"$f":"BQ70","v":0},null,null,null,null,null,null,null,null,null,null,null,null,null,null,null,null,null,null,null,null,null,null,null,null,null,null,null,null,null,null,null,null,null,"先　　発","先　　発",{"$f":"IF(DF70=\"\",\"\",$V$67)","v":""},{"$f":"IFERROR(VLOOKUP(DG70,$C$94:$D$123,2,FALSE),\"\")","v":""},{"$f":"IF(F70=\"\",\"\",F70)","v":""},{"$f":"IF(DF70=\"\",\"\",SUMIFS($BW$71:$BW$123,$J$71:$J$123,DF70))","v":""},{"$f":"IF(DF70=\"\",\"\",SUMIFS($BX$71:$BX$123,$J$71:$J$123,DF70))","v":""},{"$f":"IF(DF70=\"\",\"\",SUMIFS($BY$71:$BY$123,$J$71:$J$123,DF70))","v":""},{"$f":"IF(DF70=\"\",\"\",SUMIFS($BZ$71:$BZ$123,$J$71:$J$123,DF70))","v":""},{"$f":"IF(DF70=\"\",\"\",SUMIFS($CA$71:$CA$123,$J$71:$J$123,DF70))","v":""},{"$f":"IF(DF70=\"\",\"\",SUMIFS($CB$71:$CB$123,$J$71:$J$123,DF70))","v":""},{"$f":"IF(DF70=\"\",\"\",SUMIFS($CC$71:$CC$123,$J$71:$J$123,DF70))","v":""},{"$f":"IF(DF70=\"\",\"\",SUMIFS($CD$71:$CD$123,$J$71:$J$123,DF70))","v":""},{"$f":"IF(DF70=\"\",\"\",SUMIFS($CE$71:$CE$123,$J$71:$J$123,DF70))","v":""},{"$f":"IF(DF70=\"\",\"\",SUMIFS($CF$71:$CF$123,$J$71:$J$123,DF70))","v":""},{"$f":"IF(DF70=\"\",\"\",SUMIFS($CG$71:$CG$123,$J$71:$J$123,DF70))","v":""},{"$f":"IF(DF70=\"\",\"\",SUMIFS($CH$71:$CH$123,$J$71:$J$123,DF70))","v":""},{"$f":"IF(DF70=\"\",\"\",SUMIFS($CI$71:$CI$123,$J$71:$J$123,DF70))","v":""},{"$f":"IF(DF70=\"\",\"\",SUMIFS($CJ$71:$CJ$123,$J$71:$J$123,DF70))","v":""},{"$f":"IF(DF70=\"\",\"\",SUMIFS($CK$71:$CK$123,$J$71:$J$123,DF70))","v":""},{"$f":"IF(DF70=\"\",\"\",SUMIFS($CL$71:$CL$123,$J$71:$J$123,DF70))","v":""},{"$f":"IF(DF70=\"\",\"\",SUMIFS($CM$71:$CM$123,$J$71:$J$123,DF70))","v":""},{"$f":"IF(DF70=\"\",\"\",SUMIFS($CN$71:$CN$123,$J$71:$J$123,DF70))","v":""},{"$f":"IF(DF70=\"\",\"\",SUMIFS($CO$71:$CO$123,$J$71:$J$123,DF70))","v":""},null,null,null,null,null,null,null,"右",{"$f":"IF(DF70=\"\",\"\",DF70)","v":""},{"$f":"IF(DF70=\"\",\"\",DG70)","v":""},{"$f":"IF(EI70=\"\",\"\",SUMIFS($EE$71:$EE$123,$EB$71:$EB$123,EH70,$ED$71:$ED$123,EI70))","v":""},{"$f":"IF(EI70=\"\",\"\",SUMIFS($EF$71:$EF$123,$EB$71:$EB$123,EH70,$ED$71:$ED$123,EI70))","v":""},null,{"$f":"IF(EO70=\"\",\"\",$V$67)","v":""},{"$f":"IF(EP70=\"\",\"\",VLOOKUP(EP70,$C$94:$D$123,2,FALSE))","v":""},{"$f":"IF(F70=\"\",\"\",F70)","v":""},"右",{"$f":"IF(EO70=\"\",\"\",SUMIFS($BW$71:$BW$123,$J$71:$J$123,EO70,$BV$71:$BV$123,EQ70))","v":""},{"$f":"IF(EO70=\"\",\"\",SUMIFS($BX$71:$BX$123,$J$71:$J$123,EO70,$BV$71:$BV$123,EQ70))","v":""},{"$f":"IF(EO70=\"\",\"\",SUMIFS($BY$71:$BY$123,$J$71:$J$123,EO70,$BV$71:$BV$123,EQ70))","v":""},{"$f":"IF(EO70=\"\",\"\",SUMIFS($BZ$71:$BZ$123,$J$71:$J$123,EO70,$BV$71:$BV$123,EQ70))","v":""},{"$f":"IF(EO70=\"\",\"\",SUMIFS($CA$71:$CA$123,$J$71:$J$123,EO70,$BV$71:$BV$123,EQ70))","v":""},{"$f":"IF(EO70=\"\",\"\",SUMIFS($CB$71:$CB$123,$J$71:$J$123,EO70,$BV$71:$BV$123,EQ70))","v":""},{"$f":"IF(EO70=\"\",\"\",SUMIFS($CC$71:$CC$123,$J$71:$J$123,EO70,$BV$71:$BV$123,EQ70))","v":""},{"$f":"IF(EO70=\"\",\"\",SUMIFS($CD$71:$CD$123,$J$71:$J$123,EO70,$BV$71:$BV$123,EQ70))","v":""},{"$f":"IF(EO70=\"\",\"\",SUMIFS($CE$71:$CE$123,$J$71:$J$123,EO70,$BV$71:$BV$123,EQ70))","v":""},{"$f":"IF(EO70=\"\",\"\",SUMIFS($CF$71:$CF$123,$J$71:$J$123,EO70,$BV$71:$BV$123,EQ70))","v":""},{"$f":"IF(EO70=\"\",\"\",SUMIFS($CG$71:$CG$123,$J$71:$J$123,EO70,$BV$71:$BV$123,EQ70))","v":""},{"$f":"IF(EO70=\"\",\"\",SUMIFS($CH$71:$CH$123,$J$71:$J$123,EO70,$BV$71:$BV$123,EQ70))","v":""},{"$f":"IF(EO70=\"\",\"\",SUMIFS($CI$71:$CI$123,$J$71:$J$123,EO70,$BV$71:$BV$123,EQ70))","v":""},{"$f":"IF(EO70=\"\",\"\",SUMIFS($CJ$71:$CJ$123,$J$71:$J$123,EO70,$BV$71:$BV$123,EQ70))","v":""},{"$f":"IF(EO70=\"\",\"\",SUMIFS($CK$71:$CK$123,$J$71:$J$123,EO70,$BV$71:$BV$123,EQ70))","v":""},{"$f":"IF(EO70=\"\",\"\",SUMIFS($CL$71:$CL$123,$J$71:$J$123,EO70,$BV$71:$BV$123,EQ70))","v":""},{"$f":"IF(EO70=\"\",\"\",SUMIFS($CM$71:$CM$123,$J$71:$J$123,EO70,$BV$71:$BV$123,EQ70))","v":""},{"$f":"IF(EO70=\"\",\"\",SUMIFS($CN$71:$CN$123,$J$71:$J$123,EO70,$BV$71:$BV$123,EQ70))","v":""},{"$f":"IF(EO70=\"\",\"\",SUMIFS($CO$71:$CO$123,$J$71:$J$123,EO70,$BV$71:$BV$123,EQ70))","v":""},null,{"$f":"IF(FM70=\"\",\"\",$V$67)","v":""},{"$f":"IF(DF70=\"\",\"\",DF70)","v":""},{"$f":"IF(DG70=\"\",\"\",DG70)","v":""},{"$f":"IF(FN70=\"\",\"\",COUNTIFS($CX$70:$CX$123,FN70,$CY$70:$CY$123,$FO$69))","v":""},{"$f":"IF(FN70=\"\",\"\",COUNTIFS($CX$70:$CX$123,FN70,$CY$70:$CY$123,$FP$69))","v":""},{"$f":"IF(FN70=\"\",\"\",COUNTIFS($CX$70:$CX$123,FN70,$CY$70:$CY$123,$FQ$69))","v":""},{"$f":"IF(FN70=\"\",\"\",COUNTIFS($CX$70:$CX$123,FN70,$CY$70:$CY$123,$FR$69))","v":""},{"$f":"IF(FN70=\"\",\"\",COUNTIFS($CX$70:$CX$123,FN70,$CY$70:$CY$123,$FS$69))","v":""},{"$f":"IF(FN70=\"\",\"\",COUNTIFS($CX$70:$CX$123,FN70,$CY$70:$CY$123,$FT$69))","v":""},{"$f":"IF(FN70=\"\",\"\",COUNTIFS($CX$70:$CX$123,FN70,$CY$70:$CY$123,$FU$69))","v":""},{"$f":"IF(FN70=\"\",\"\",COUNTIFS($CX$70:$CX$123,FN70,$CY$70:$CY$123,$FV$69))","v":""},{"$f":"IF(FN70=\"\",\"\",COUNTIFS($CX$70:$CX$123,FN70,$CY$70:$CY$123,$FW$69))","v":""},null,null,null,null,{"$f":"V67","v":""},{"$f":"IF(D84=\"\",\"\",D84)","v":""},{"$f":"IF(F84=\"\",\"\",F84)","v":""},{"$f":"IF($GB$70=\"\",\"\",C84)","v":""},{"$f":"IF(GC70=\"\",\"\",SUMIF($K$6:$K$58,GE70,$BY$6:$BY$58)+SUMIF($K$6:$K$58,GE70,$CF$6:$CF$58)+SUMIF($K$6:$K$58,GE70,$CI$6:$CI$58)+SUMIF($K$6:$K$58,GE70,$CL$6:$CL$58)+(SUMIF($K$6:$K$58,GE70,$CM$6:$CM$58))*2)","v":""},{"$f":"IF(GC70=\"\",\"\",GF70/3)","v":""},{"$f":"IF(GC70=\"\",\"\",SUMIF($K$6:$K$58,C84,$CC$6:$CC$58))","v":""},{"$f":"IF(GC70=\"\",\"\",SUMIF($K$6:$K$58,C84,$BZ$6:$BZ$58)+SUMIF($K$6:$K$58,C84,$CA$6:$CA$58)+SUMIF($K$6:$K$58,C84,$CB$6:$CB$58)+SUMIF($K$6:$K$58,C84,$CC$6:$CC$58))","v":""},{"$f":"IF(GC70=\"\",\"\",SUMIF($K$6:$K$58,C84,$CG$6:$CG$58)+SUMIF($K$6:$K$58,C84,$CH$6:$CH$58))","v":""},{"$f":"IF(GC70=\"\",\"\",SUMIF($K$6:$K$58,C84,$CF$6:$CF$58))","v":""},{"$f":"IF(GC70=\"\",\"\",SUMIF($K$6:$K$58,C84,$CK$6:$CK$58))","v":""},{"$f":"IF(GC70=\"\",\"\",SUMIF($K$6:$K$58,C84,$CE$6:$CE$58))","v":""},null,{"$f":"IF(GC70=\"\",\"\",SUMIF($K$6:$K$58,C84,$CO$6:$CO$58))","v":""},null,null,{"$f":"IF(GC70=\"\",\"\",$O$2)","v":""},null,{"$f":"IF(V67=\"\",\"\",V67)","v":""},{"$f":"IF(O67=\"\",\"\",O67)","v":""},{"$f":"IF(GU70=\"\",\"\",SUM(GF70:GF75))","v":""},{"$f":"IF(GU70=\"\",\"\",SUM(GG70:GG75))","v":""},{"$f":"IF(GU70=\"\",\"\",SUM(GH70:GH75))","v":""},{"$f":"IF(GU70=\"\",\"\",SUM(GI70:GI75))","v":""},{"$f":"IF(GU70=\"\",\"\",SUM(GJ70:GJ75))","v":""},{"$f":"IF(GU70=\"\",\"\",SUM(GK70:GK75))","v":""},{"$f":"IF(GU70=\"\",\"\",SUM(GL70:GL75))","v":""},{"$f":"IF(GU70=\"\",\"\",SUM(GM70:GM75))","v":""},null,{"$f":"IF(GU70=\"\",\"\",SUM(GO70:GO75))","v":""},{"$f":"IF(GU70=\"\",\"\",1)","v":""},"勝",{"$f":"IF(GU70=\"\",\"\",O2)","v":""},null,{"$f":"IF($D$60=\"\",\"\",$D$60)","v":""},{"$f":"IF($K$60=\"\",\"\",$K$60)","v":""},{"$f":"IF($W$60=\"\",\"\",$W$60)","v":""},{"$f":"HQ5","v":""},{"$f":"IF(DP89=\"\",\"\",DP89)","v":""},{"$f":"IF(DP24=\"\",\"\",DP24)","v":""},{"$f":"IF(HM70=\"\",\"\",IF(HN70>HO70,\"勝\",IF(HN70<HQ70,\"負\",\"分\")))","v":""},{"$f":"HM5","v":""}]
[null,"②",null,null,{"$f":"IF(D71=\"\",\"\",VLOOKUP(D71,$D$94:$F$125,2,FALSE))","v":""},{"$f":"IF(D71=\"\",\"\",VLOOKUP(D71,$D$94:$F$125,3,FALSE))","v":""},null,null,{"$f":"IF(C70=\"\",\"\",C70)","v":""},{"$f":"IF(D70=\"\",\"\",D70)","v":""},{"$f":"IF(J71=\"\",\"\",\"先\")","v":""},{"$f":"IF(J71=\"\",\"\",F70)","v":""},"①",null,null,null,null,null,null,null,null,null,null,null,null,null,null,null,null,null,null,null,null,null,null,null,null,null,null,null,null,null,null,null,null,null,null,null,null,null,null,null,null,null,null,null,null,null,null,null,null,null,null,null,null,null,null,null,null,null,null,null,null,{"$f":"IF(K71=\"\",\"\",VLOOKUP(K71,$C$19:$E$25,3,FALSE))","v":""},{"$f":"IF(L71=\"\",\"\",(BX71+CG71+CH71+CI71))","v":""},{"$f":"IF(L71=\"\",\"\",(BY71+BZ71+CA71+CB71+CC71+CF71+CJ71+CM71+CN71))","v":""},{"$f":"IF(L71=\"\",\"\",COUNTIFS($N$70:$BU$70,L71,$N$75:$BU$75,$BY$68))","v":""},{"$f":"IF(L71=\"\",\"\",COUNTIFS($N$70:$BU$70,L71,$N$75:$BU$75,$BZ$68))","v":""},{"$f":"IF(L71=\"\",\"\",COUNTIFS($N$70:$BU$70,L71,$N$73:$BU$73,$CA$68))","v":""},{"$f":"IF(L71=\"\",\"\",COUNTIFS($N$70:$BU$70,L71,$N$73:$BU$73,$CB$68))","v":""},{"$f":"IF(L71=\"\",\"\",COUNTIFS($N$70:$BU$70,L71,$N$75:$BU$75,$CC$68))","v":""},{"$f":"IF(L71=\"\",\"\",COUNTIFS($N$70:$BU$70,L71,$N$75:$BU$75,$CD$68)+COUNTIFS($N$70:$BU$70,L71,$N$74:$BU$74,$CD$68)+COUNTIFS($N$70:$BU$70,L71,$N$73:$BU$73,$CD$68))","v":""},{"$f":"IF(L71=\"\",\"\",COUNTIFS($N$70:$BU$70,L71,$N$74:$BU$74,$CE$68))","v":""},{"$f":"IF(L71=\"\",\"\",COUNTIFS($N$70:$BU$70,L71,$N$75:$BU$75,$CF$68))","v":""},{"$f":"IF(L71=\"\",\"\",COUNTIFS($N$70:$BU$70,L71,$N$75:$BU$75,$CG$68))","v":""},{"$f":"IF(L71=\"\",\"\",COUNTIFS($N$70:$BU$70,L71,$N$75:$BU$75,$CH$68))","v":""},{"$f":"IF(L71=\"\",\"\",COUNTIFS($N$70:$BU$70,L71,$N$75:$BU$75,$CI$68))","v":""},{"$f":"IF(L71=\"\",\"\",COUNTIFS($N$70:$BU$70,L71,$N$75:$BU$75,$CJ$68))","v":""},{"$f":"IF(L71=\"\",\"\",COUNTIFS($N$70:$BU$70,L71,$N$75:$BU$75,$CK$68)+COUNTIFS($N$70:$BU$70,L71,$N$73:$BU$73,$CK$68))","v":""},{"$f":"IF(L71=\"\",\"\",COUNTIFS($N$70:$BU$70,L71,$N$75:$BU$75,$CL$68)+COUNTIFS($N$70:$BU$70,L71,$N$73:$BU$73,$CL$68))","v":""},{"$f":"IF(L71=\"\",\"\",COUNTIFS($N$70:$BU$70,L71,$N$75:$BU$75,$CM$68))","v":""},{"$f":"IF(L71=\"\",\"\",COUNTIFS($N$70:$BU$70,L71,$N$75:$BU$75,$CN$68))","v":""},{"$f":"IF(L71=\"\",\"\",COUNTIFS($N$70:$BU$70,L71,$N$71:$BU$71,$CO$68)+COUNTIFS($N$70:$BU$70,L71,$N$72:$BU$72,$CO$68))","v":""},null,null,null,null,null,null,null,{"$f":"IF(DA71=\"\",\"\",VLOOKUP(DA71,$C$19:$E$24,3,FALSE))","v":""},null,null,{"$f":"IF(CX71=\"\",\"\",VLOOKUP(CY71,$C$5:$F$13,4,FALSE))","v":""},null,null,null,null,{"$f":"IF(DF71=\"\",\"\",$V$67)","v":""},{"$f":"IFERROR(VLOOKUP(DG71,$C$94:$D$123,2,FALSE),\"\")","v":""},{"$f":"IF(F71=\"\",\"\",F71)","v":""},{"$f":"IF(DF71=\"\",\"\",SUMIFS($BW$71:$BW$123,$J$71:$J$123,DF71))","v":""},{"$f":"IF(DF71=\"\",\"\",SUMIFS($BX$71:$BX$123,$J$71:$J$123,DF71))","v":""},{"$f":"IF(DF71=\"\",\"\",SUMIFS($BY$71:$BY$123,$J$71:$J$123,DF71))","v":""},{"$f":"IF(DF71=\"\",\"\",SUMIFS($BZ$71:$BZ$123,$J$71:$J$123,DF71))","v":""},{"$f":"IF(DF71=\"\",\"\",SUMIFS($CA$71:$CA$123,$J$71:$J$123,DF71))","v":""},{"$f":"IF(DF71=\"\",\"\",SUMIFS($CB$71:$CB$123,$J$71:$J$123,DF71))","v":""},{"$f":"IF(DF71=\"\",\"\",SUMIFS($CC$71:$CC$123,$J$71:$J$123,DF71))","v":""},{"$f":"IF(DF71=\"\",\"\",SUMIFS($CD$71:$CD$123,$J$71:$J$123,DF71))","v":""},{"$f":"IF(DF71=\"\",\"\",SUMIFS($CE$71:$CE$123,$J$71:$J$123,DF71))","v":""},{"$f":"IF(DF71=\"\",\"\",SUMIFS($CF$71:$CF$123,$J$71:$J$123,DF71))","v":""},{"$f":"IF(DF71=\"\",\"\",SUMIFS($CG$71:$CG$123,$J$71:$J$123,DF71))","v":""},{"$f":"IF(DF71=\"\",\"\",SUMIFS($CH$71:$CH$123,$J$71:$J$123,DF71))","v":""},{"$f":"IF(DF71=\"\",\"\",SUMIFS($CI$71:$CI$123,$J$71:$J$123,DF71))","v":""},{"$f":"IF(DF71=\"\",\"\",SUMIFS($CJ$71:$CJ$123,$J$71:$J$123,DF71))","v":""},{"$f":"IF(DF71=\"\",\"\",SUMIFS($CK$71:$CK$123,$J$71:$J$123,DF71))","v":""},{"$f":"IF(DF71=\"\",\"\",SUMIFS($CL$71:$CL$123,$J$71:$J$123,DF71))","v":""},{"$f":"IF(DF71=\"\",\"\",SUMIFS($CM$71:$CM$123,$J$71:$J$123,DF71))","v":""},{"$f":"IF(DF71=\"\",\"\",SUMIFS($CN$71:$CN$123,$J$71:$J$123,DF71))","v":""},{"$f":"IF(DF71=\"\",\"\",SUMIFS($CO$71:$CO$123,$J$71:$J$123,DF71))","v":""},null,{"$f":"IF($E$19=\"\",\"\",$E$19)","v":""},{"$f":"IF(L71=\"\",\"\",L71)","v":""},{"$f":"IF(EC71=\"\",\"\",VLOOKUP(EC71,$C$94:$D$123,2,FALSE))","v":""},{"$f":"IF(EC71=\"\",\"\",COUNTIFS($N$70:$BU$70,EC71,$N$75:$BU$75,\"RZ\"))","v":""},{"$f":"IF(EC71=\"\",\"\",COUNTIFS($N$70:$BU$70,EC71,$N$74:$BU$74,\"ZH\"))","v":""},null,"左",{"$f":"IF(DF70=\"\",\"\",DF70)","v":""},{"$f":"EJ70","v":""},{"$f":"IF(EI71=\"\",\"\",SUMIFS($EE$71:$EE$123,$EB$71:$EB$123,EH71,$ED$71:$ED$123,EI71))","v":""},{"$f":"IF(EI71=\"\",\"\",SUMIFS($EF$71:$EF$123,$EB$71:$EB$123,EH71,$ED$71:$ED$123,EI71))","v":""},null,{"$f":"IF(EO71=\"\",\"\",$V$67)","v":""},{"$f":"IF(EP71=\"\",\"\",VLOOKUP(EP71,$C$94:$D$123,2,FALSE))","v":""},{"$f":"IF(F70=\"\",\"\",F70)","v":""},"左",{"$f":"IF(EO71=\"\",\"\",SUMIFS($BW$71:$BW$123,$J$71:$J$123,EO71,$BV$71:$BV$123,EQ71))","v":""},{"$f":"IF(EO71=\"\",\"\",SUMIFS($BX$71:$BX$123,$J$71:$J$123,EO71,$BV$71:$BV$123,EQ71))","v":""},{"$f":"IF(EO71=\"\",\"\",SUMIFS($BY$71:$BY$123,$J$71:$J$123,EO71,$BV$71:$BV$123,EQ71))","v":""},{"$f":"IF(EO71=\"\",\"\",SUMIFS($BZ$71:$BZ$123,$J$71:$J$123,EO71,$BV$71:$BV$123,EQ71))","v":""},{"$f":"IF(EO71=\"\",\"\",SUMIFS($CA$71:$CA$123,$J$71:$J$123,EO71,$BV$71:$BV$123,EQ71))","v":""},{"$f":"IF(EO71=\"\",\"\",SUMIFS($CB$71:$CB$123,$J$71:$J$123,EO71,$BV$71:$BV$123,EQ71))","v":""},{"$f":"IF(EO71=\"\",\"\",SUMIFS($CC$71:$CC$123,$J$71:$J$123,EO71,$BV$71:$BV$123,EQ71))","v":""},{"$f":"IF(EO71=\"\",\"\",SUMIFS($CD$71:$CD$123,$J$71:$J$123,EO71,$BV$71:$BV$123,EQ71))","v":""},{"$f":"IF(EO71=\"\",\"\",SUMIFS($CE$71:$CE$123,$J$71:$J$123,EO71,$BV$71:$BV$123,EQ71))","v":""},{"$f":"IF(EO71=\"\",\"\",SUMIFS($CF$71:$CF$123,$J$71:$J$123,EO71,$BV$71:$BV$123,EQ71))","v":""},{"$f":"IF(EO71=\"\",\"\",SUMIFS($CG$71:$CG$123,$J$71:$J$123,EO71,$BV$71:$BV$123,EQ71))","v":""},{"$f":"IF(EO71=\"\",\"\",SUMIFS($CH$71:$CH$123,$J$71:$J$123,EO71,$BV$71:$BV$123,EQ71))","v":""},{"$f":"IF(EO71=\"\",\"\",SUMIFS($CI$71:$CI$123,$J$71:$J$123,EO71,$BV$71:$BV$123,EQ71))","v":""},{"$f":"IF(EO71=\"\",\"\",SUMIFS($CJ$71:$CJ$123,$J$71:$J$123,EO71,$BV$71:$BV$123,EQ71))","v":""},{"$f":"IF(EO71=\"\",\"\",SUMIFS($CK$71:$CK$123,$J$71:$J$123,EO71,$BV$71:$BV$123,EQ71))","v":""},{"$f":"IF(EO71=\"\",\"\",SUMIFS($CL$71:$CL$123,$J$71:$J$123,EO71,$BV$71:$BV$123,EQ71))","v":""},{"$f":"IF(EO71=\"\",\"\",SUMIFS($CM$71:$CM$123,$J$71:$J$123,EO71,$BV$71:$BV$123,EQ71))","v":""},{"$f":"IF(EO71=\"\",\"\",SUMIFS($CN$71:$CN$123,$J$71:$J$123,EO71,$BV$71:$BV$123,EQ71))","v":""},{"$f":"IF(EO71=\"\",\"\",SUMIFS($CO$71:$CO$123,$J$71:$J$123,EO71,$BV$71:$BV$123,EQ71))","v":""},null,{"$f":"IF(FM71=\"\",\"\",$V$67)","v":""},{"$f":"IF(DF71=\"\",\"\",DF71)","v":""},"",{"$f":"IF(FN71=\"\",\"\",COUNTIFS($CX$70:$CX$123,FN71,$CY$70:$CY$123,$FO$69))","v":""},{"$f":"IF(FN71=\"\",\"\",COUNTIFS($CX$70:$CX$123,FN71,$CY$70:$CY$123,$FP$69))","v":""},{"$f":"IF(FN71=\"\",\"\",COUNTIFS($CX$70:$CX$123,FN71,$CY$70:$CY$123,$FQ$69))","v":""},{"$f":"IF(FN71=\"\",\"\",COUNTIFS($CX$70:$CX$123,FN71,$CY$70:$CY$123,$FR$69))","v":""},{"$f":"IF(FN71=\"\",\"\",COUNTIFS($CX$70:$CX$123,FN71,$CY$70:$CY$123,$FS$69))","v":""},{"$f":"IF(FN71=\"\",\"\",COUNTIFS($CX$70:$CX$123,FN71,$CY$70:$CY$123,$FT$69))","v":""},{"$f":"IF(FN71=\"\",\"\",COUNTIFS($CX$70:$CX$123,FN71,$CY$70:$CY$123,$FU$69))","v":""},{"$f":"IF(FN71=\"\",\"\",COUNTIFS($CX$70:$CX$123,FN71,$CY$70:$CY$123,$FV$69))","v":""},{"$f":"IF(FN71=\"\",\"\",COUNTIFS($CX$70:$CX$123,FN71,$CY$70:$CY$123,$FW$69))","v":""},null,null,null,null,null,{"$f":"IF(D85=\"\",\"\",D85)","v":""},{"$f":"IF(F85=\"\",\"\",F85)","v":""},{"$f":"IF($GB$70=\"\",\"\",C85)","v":""},{"$f":"IF(GC71=\"\",\"\",SUMIF($K$6:$K$58,GE71,$BY$6:$BY$58)+SUMIF($K$6:$K$58,GE71,$CF$6:$CF$58)+SUMIF($K$6:$K$58,GE71,$CI$6:$CI$58)+SUMIF($K$6:$K$58,GE71,$CL$6:$CL$58)+(SUMIF($K$6:$K$58,GE71,$CM$6:$CM$58))*2)","v":""},{"$f":"IF(GC71=\"\",\"\",GF71/3)","v":""},{"$f":"IF(GC71=\"\",\"\",SUMIF($K$6:$K$58,C85,$CC$6:$CC$58))","v":""},{"$f":"IF(GC71=\"\",\"\",SUMIF($K$6:$K$58,C85,$BZ$6:$BZ$58)+SUMIF($K$6:$K$58,C85,$CA$6:$CA$58)+SUMIF($K$6:$K$58,C85,$CB$6:$CB$58)+SUMIF($K$6:$K$58,C85,$CC$6:$CC$58))","v":""},{"$f":"IF(GC71=\"\",\"\",SUMIF($K$6:$K$58,C85,$CG$6:$CG$58)+SUMIF($K$6:$K$58,C85,$CH$6:$CH$58))","v":""},{"$f":"IF(GC71=\"\",\"\",SUMIF($K$6:$K$58,C85,$CF$6:$CF$58))","v":""},{"$f":"IF(GC71=\"\",\"\",SUMIF($K$6:$K$58,C85,$CK$6:$CK$58))","v":""},{"$f":"IF(GC71=\"\",\"\",SUMIF($K$6:$K$58,C85,$CE$6:$CE$58))","v":""},null,{"$f":"IF(GC71=\"\",\"\",SUMIF($K$6:$K$58,C85,$CO$6:$CO$58))","v":""},null,null,{"$f":"IF(GC71=\"\",\"\",$O$2)","v":""},null,null,null,null,null,null,null,null,null,null,null,null,null,null,null,null,null,null,null,null,null,null,null,null,null,null,null,null,{"$f":"IF(J71=\"\",\"\",J71)","v":""},{"$f":"IF(HU71=\"\",\"\",L71)","v":""},{"$f":"IF(HU71=\"\",\"\",COUNTIFS($N$70:$BU$70,HV71,$N$71:$BU$71,$HW$68)+COUNTIFS($N$70:$BU$70,HV71,$N$72:$BU$72,$HW$68))","v":""},{"$f":"IF(HU71=\"\",\"\",COUNTIFS($N$70:$BU$70,HV71,$N$71:$BU$71,$HX$68)+COUNTIFS($N$70:$BU$70,HV71,$N$72:$BU$72,$HX$68))","v":""},{"$f":"IF(HU71=\"\",\"\",COUNTIFS($N$70:$BU$70,HV71,$N$71:$BU$71,$HY$68)+COUNTIFS($N$70:$BU$70,HV71,$N$72:$BU$72,$HY$68))","v":""},{"$f":"IF(HU71=\"\",\"\",COUNTIFS($N$70:$BU$70,HV71,$N$71:$BU$71,$HZ$68)+COUNTIFS($N$70:$BU$70,HV71,$N$72:$BU$72,$HZ$68))","v":""},{"$f":"IF(HU71=\"\",\"\",COUNTIFS($N$70:$BU$70,HV71,$N$71:$BU$71,$IA$68)+COUNTIFS($N$70:$BU$70,HV71,$N$72:$BU$72,$IA$68))","v":""},{"$f":"IF(HU71=\"\",\"\",COUNTIFS($N$70:$BU$70,HV71,$N$71:$BU$71,$IB$68)+COUNTIFS($N$70:$BU$70,HV71,$N$72:$BU$72,$IB$68))","v":""}]
[null,"③",null,null,"","",null,null,null,null,null,null,null,null,null,null,null,null,null,null,null,null,null,null,null,null,null,null,null,null,null,null,null,null,null,null,null,null,null,null,null,null,null,null,null,null,null,null,null,null,null,null,null,null,null,null,null,null,null,null,null,null,null,null,null,null,null,null,null,null,null,null,null,{"$f":"IF(K72=\"\",\"\",VLOOKUP(K72,$C$19:$E$25,3,FALSE))","v":""},{"$f":"IF(L72=\"\",\"\",(BX72+CG72+CH72+CI72))","v":""},"",{"$f":"IF(L72=\"\",\"\",COUNTIFS($N$70:$BU$70,L72,$N$75:$BU$75,$BY$68))","v":""},{"$f":"IF(L72=\"\",\"\",COUNTIFS($N$70:$BU$70,L72,$N$75:$BU$75,$BZ$68))","v":""},{"$f":"IF(L72=\"\",\"\",COUNTIFS($N$70:$BU$70,L72,$N$73:$BU$73,$CA$68))","v":""},{"$f":"IF(L72=\"\",\"\",COUNTIFS($N$70:$BU$70,L72,$N$73:$BU$73,$CB$68))","v":""},{"$f":"IF(L72=\"\",\"\",COUNTIFS($N$70:$BU$70,L72,$N$75:$BU$75,$CC$68))","v":""},{"$f":"IF(L72=\"\",\"\",COUNTIFS($N$70:$BU$70,L72,$N$75:$BU$75,$CD$68)+COUNTIFS($N$70:$BU$70,L72,$N$74:$BU$74,$CD$68)+COUNTIFS($N$70:$BU$70,L72,$N$73:$BU$73,$CD$68))","v":""},{"$f":"IF(L72=\"\",\"\",COUNTIFS($N$70:$BU$70,L72,$N$74:$BU$74,$CE$68))","v":""},{"$f":"IF(L72=\"\",\"\",COUNTIFS($N$70:$BU$70,L72,$N$75:$BU$75,$CF$68))","v":""},{"$f":"IF(L72=\"\",\"\",COUNTIFS($N$70:$BU$70,L72,$N$75:$BU$75,$CG$68))","v":""},{"$f":"IF(L72=\"\",\"\",COUNTIFS($N$70:$BU$70,L72,$N$75:$BU$75,$CH$68))","v":""},{"$f":"IF(L72=\"\",\"\",COUNTIFS($N$70:$BU$70,L72,$N$75:$BU$75,$CI$68))","v":""},{"$f":"IF(L72=\"\",\"\",COUNTIFS($N$70:$BU$70,L72,$N$75:$BU$75,$CJ$68))","v":""},{"$f":"IF(L72=\"\",\"\",COUNTIFS($N$70:$BU$70,L72,$N$75:$BU$75,$CK$68)+COUNTIFS($N$70:$BU$70,L72,$N$73:$BU$73,$CK$68))","v":""},{"$f":"IF(L72=\"\",\"\",COUNTIFS($N$70:$BU$70,L72,$N$75:$BU$75,$CL$68)+COUNTIFS($N$70:$BU$70,L72,$N$73:$BU$73,$CL$68))","v":""},{"$f":"IF(L72=\"\",\"\",COUNTIFS($N$70:$BU$70,L72,$N$75:$BU$75,$CM$68))","v":""},{"$f":"IF(L72=\"\",\"\",COUNTIFS($N$70:$BU$70,L72,$N$75:$BU$75,$CN$68))","v":""},{"$f":"IF(L72=\"\",\"\",COUNTIFS($N$70:$BU$70,L72,$N$71:$BU$71,$CO$68)+COUNTIFS($N$70:$BU$70,L72,$N$72:$BU$72,$CO$68))","v":""},null,null,null,null,null,null,null,{"$f":"IF(DA72=\"\",\"\",VLOOKUP(DA72,$C$19:$E$24,3,FALSE))","v":""},null,null,{"$f":"IF(CX72=\"\",\"\",VLOOKUP(CY72,$C$5:$F$13,4,FALSE))","v":""},null,null,null,null,"","","","","","","","","","","","","","","","","","","","","","",null,{"$f":"IF($E$20=\"\",\"\",$E$20)","v":""},{"$f":"IF(L72=\"\",\"\",L72)","v":""},null,{"$f":"IF(EC72=\"\",\"\",COUNTIFS($N$70:$BU$70,EC72,$N$75:$BU$75,\"RZ\"))","v":""},{"$f":"IF(EC72=\"\",\"\",COUNTIFS($N$70:$BU$70,EC72,$N$74:$BU$74,\"ZH\"))","v":""},null,"右",{"$f":"IF(DF71=\"\",\"\",DF71)","v":""},{"$f":"IF(DG71=\"\",\"\",DG71)","v":""},"","",null,"","",{"$f":"IF(F71=\"\",\"\",F71)","v":""},"右","","","","","","","","","","","","","","","","","","","",null,"","","","","","","","","","","","",null,null,null,null,null,"","","","","","","","","","","",null,"",null,null,"",null,null,null,null,null,null,null,null,null,null,null,null,null,null,null,null,null,null,null,null,null,null,null,null,null,null,null,null,{"$f":"IF(J72=\"\",\"\",J72)","v":""},{"$f":"IF(HU72=\"\",\"\",L72)","v":""},{"$f":"IF(HU72=\"\",\"\",COUNTIFS($N$70:$BU$70,HV72,$N$71:$BU$71,$HW$68)+COUNTIFS($N$70:$BU$70,HV72,$N$72:$BU$72,$HW$68))","v":""},{"$f":"IF(HU72=\"\",\"\",COUNTIFS($N$70:$BU$70,HV72,$N$71:$BU$71,$HX$68)+COUNTIFS($N$70:$BU$70,HV72,$N$72:$BU$72,$HX$68))","v":""},{"$f":"IF(HU72=\"\",\"\",COUNTIFS($N$70:$BU$70,HV72,$N$71:$BU$71,$HY$68)+COUNTIFS($N$70:$BU$70,HV72,$N$72:$BU$72,$HY$68))","v":""},{"$f":"IF(HU72=\"\",\"\",COUNTIFS($N$70:$BU$70,HV72,$N$71:$BU$71,$HZ$68)+COUNTIFS($N$70:$BU$70,HV72,$N$72:$BU$72,$HZ$68))","v":""},{"$f":"IF(HU72=\"\",\"\",COUNTIFS($N$70:$BU$70,HV72,$N$71:$BU$71,$IA$68)+COUNTIFS($N$70:$BU$70,HV72,$N$72:$BU$72,$IA$68))","v":""},{"$f":"IF(HU72=\"\",\"\",COUNTIFS($N$70:$BU$70,HV72,$N$71:$BU$71,$IB$68)+COUNTIFS($N$70:$BU$70,HV72,$N$72:$BU$72,$IB$68))","v":""}]
[null,"④",null,null,"","",null,null,null,null,null,null,null,null,null,null,null,null,null,null,null,null,null,null,null,null,null,null,null,null,null,null,null,null,null,null,null,null,null,null,null,null,null,null,null,null,null,null,null,null,null,null,null,null,null,null,null,null,null,null,null,null,null,null,null,null,null,null,null,null,null,null,null,"",{"$f":"IF(L73=\"\",\"\",(BX73+CG73+CH73+CI73))","v":""},"",{"$f":"IF(L73=\"\",\"\",COUNTIFS($N$70:$BU$70,L73,$N$75:$BU$75,$BY$68))","v":""},{"$f":"IF(L73=\"\",\"\",COUNTIFS($N$70:$BU$70,L73,$N$75:$BU$75,$BZ$68))","v":""},{"$f":"IF(L73=\"\",\"\",COUNTIFS($N$70:$BU$70,L73,$N$73:$BU$73,$CA$68))","v":""},{"$f":"IF(L73=\"\",\"\",COUNTIFS($N$70:$BU$70,L73,$N$73:$BU$73,$CB$68))","v":""},{"$f":"IF(L73=\"\",\"\",COUNTIFS($N$70:$BU$70,L73,$N$75:$BU$75,$CC$68))","v":""},{"$f":"IF(L73=\"\",\"\",COUNTIFS($N$70:$BU$70,L73,$N$75:$BU$75,$CD$68)+COUNTIFS($N$70:$BU$70,L73,$N$74:$BU$74,$CD$68)+COUNTIFS($N$70:$BU$70,L73,$N$73:$BU$73,$CD$68))","v":""},{"$f":"IF(L73=\"\",\"\",COUNTIFS($N$70:$BU$70,L73,$N$74:$BU$74,$CE$68))","v":""},{"$f":"IF(L73=\"\",\"\",COUNTIFS($N$70:$BU$70,L73,$N$75:$BU$75,$CF$68))","v":""},{"$f":"IF(L73=\"\",\"\",COUNTIFS($N$70:$BU$70,L73,$N$75:$BU$75,$CG$68))","v":""},{"$f":"IF(L73=\"\",\"\",COUNTIFS($N$70:$BU$70,L73,$N$75:$BU$75,$CH$68))","v":""},{"$f":"IF(L73=\"\",\"\",COUNTIFS($N$70:$BU$70,L73,$N$75:$BU$75,$CI$68))","v":""},{"$f":"IF(L73=\"\",\"\",COUNTIFS($N$70:$BU$70,L73,$N$75:$BU$75,$CJ$68))","v":""},{"$f":"IF(L73=\"\",\"\",COUNTIFS($N$70:$BU$70,L73,$N$75:$BU$75,$CK$68)+COUNTIFS($N$70:$BU$70,L73,$N$73:$BU$73,$CK$68))","v":""},{"$f":"IF(L73=\"\",\"\",COUNTIFS($N$70:$BU$70,L73,$N$75:$BU$75,$CL$68)+COUNTIFS($N$70:$BU$70,L73,$N$73:$BU$73,$CL$68))","v":""},{"$f":"IF(L73=\"\",\"\",COUNTIFS($N$70:$BU$70,L73,$N$75:$BU$75,$CM$68))","v":""},{"$f":"IF(L73=\"\",\"\",COUNTIFS($N$70:$BU$70,L73,$N$75:$BU$75,$CN$68))","v":""},{"$f":"IF(L73=\"\",\"\",COUNTIFS($N$70:$BU$70,L73,$N$71:$BU$71,$CO$68)+COUNTIFS($N$70:$BU$70,L73,$N$72:$BU$72,$CO$68))","v":""},null,null,null,null,null,null,null,"",null,null,{"$f":"IF(CX73=\"\",\"\",VLOOKUP(CY73,$C$5:$F$13,4,FALSE))","v":""},null,null,null,null,"","","","","","","","","","","","","","","","","","","","","","",null,{"$f":"IF($E$21=\"\",\"\",$E$21)","v":""},{"$f":"IF(L73=\"\",\"\",L73)","v":""},null,{"$f":"IF(EC73=\"\",\"\",COUNTIFS($N$70:$BU$70,EC73,$N$75:$BU$75,\"RZ\"))","v":""},{"$f":"IF(EC73=\"\",\"\",COUNTIFS($N$70:$BU$70,EC73,$N$74:$BU$74,\"ZH\"))","v":""},null,"左",{"$f":"IF(DF71=\"\",\"\",DF71)","v":""},{"$f":"EJ72","v":""},"","",null,"","",{"$f":"IF(F71=\"\",\"\",F71)","v":""},"左","","","","","","","","","","","","","","","","","","","",null,"","","","","","","","","","","","",null,null,null,null,null,"","","","","","","","","","","",null,"",null,null,"",null,null,null,null,null,null,null,null,null,null,null,null,null,null,null,null,null,null,null,null,null,null,null,null,null,null,null,null,"","","","","","","",""]
[null,"⑤",null,null,"","",null,null,null,null,null,null,null,null,null,null,null,null,null,null,null,null,null,null,null,null,null,null,null,null,null,null,null,null,null,null,null,null,null,null,null,null,null,null,null,null,null,null,null,null,null,null,null,null,null,null,null,null,null,null,null,null,null,null,null,null,null,null,null,null,null,null,null,"",{"$f":"IF(L74=\"\",\"\",(BX74+CG74+CH74+CI74))","v":""},"",{"$f":"IF(L74=\"\",\"\",COUNTIFS($N$70:$BU$70,L74,$N$75:$BU$75,$BY$68))","v":""},{"$f":"IF(L74=\"\",\"\",COUNTIFS($N$70:$BU$70,L74,$N$75:$BU$75,$BZ$68))","v":""},{"$f":"IF(L74=\"\",\"\",COUNTIFS($N$70:$BU$70,L74,$N$73:$BU$73,$CA$68))","v":""},{"$f":"IF(L74=\"\",\"\",COUNTIFS($N$70:$BU$70,L74,$N$73:$BU$73,$CB$68))","v":""},{"$f":"IF(L74=\"\",\"\",COUNTIFS($N$70:$BU$70,L74,$N$75:$BU$75,$CC$68))","v":""},{"$f":"IF(L74=\"\",\"\",COUNTIFS($N$70:$BU$70,L74,$N$75:$BU$75,$CD$68)+COUNTIFS($N$70:$BU$70,L74,$N$74:$BU$74,$CD$68)+COUNTIFS($N$70:$BU$70,L74,$N$73:$BU$73,$CD$68))","v":""},{"$f":"IF(L74=\"\",\"\",COUNTIFS($N$70:$BU$70,L74,$N$74:$BU$74,$CE$68))","v":""},{"$f":"IF(L74=\"\",\"\",COUNTIFS($N$70:$BU$70,L74,$N$75:$BU$75,$CF$68))","v":""},{"$f":"IF(L74=\"\",\"\",COUNTIFS($N$70:$BU$70,L74,$N$75:$BU$75,$CG$68))","v":""},{"$f":"IF(L74=\"\",\"\",COUNTIFS($N$70:$BU$70,L74,$N$75:$BU$75,$CH$68))","v":""},{"$f":"IF(L74=\"\",\"\",COUNTIFS($N$70:$BU$70,L74,$N$75:$BU$75,$CI$68))","v":""},{"$f":"IF(L74=\"\",\"\",COUNTIFS($N$70:$BU$70,L74,$N$75:$BU$75,$CJ$68))","v":""},{"$f":"IF(L74=\"\",\"\",COUNTIFS($N$70:$BU$70,L74,$N$75:$BU$75,$CK$68)+COUNTIFS($N$70:$BU$70,L74,$N$73:$BU$73,$CK$68))","v":""},{"$f":"IF(L74=\"\",\"\",COUNTIFS($N$70:$BU$70,L74,$N$75:$BU$75,$CL$68)+COUNTIFS($N$70:$BU$70,L74,$N$73:$BU$73,$CL$68))","v":""},{"$f":"IF(L74=\"\",\"\",COUNTIFS($N$70:$BU$70,L74,$N$75:$BU$75,$CM$68))","v":""},{"$f":"IF(L74=\"\",\"\",COUNTIFS($N$70:$BU$70,L74,$N$75:$BU$75,$CN$68))","v":""},{"$f":"IF(L74=\"\",\"\",COUNTIFS($N$70:$BU$70,L74,$N$71:$BU$71,$CO$68)+COUNTIFS($N$70:$BU$70,L74,$N$72:$BU$72,$CO$68))","v":""},null,null,null,null,null,null,null,"",null,null,{"$f":"IF(CX74=\"\",\"\",VLOOKUP(CY74,$C$5:$F$13,4,FALSE))","v":""},null,null,null,null,"","","","","","","","","","","","","","","","","","","","","","",null,{"$f":"IF($E$22=\"\",\"\",$E$22)","v":""},{"$f":"IF(L74=\"\",\"\",L74)","v":""},null,{"$f":"IF(EC74=\"\",\"\",COUNTIFS($N$70:$BU$70,EC74,$N$75:$BU$75,\"RZ\"))","v":""},{"$f":"IF(EC74=\"\",\"\",COUNTIFS($N$70:$BU$70,EC74,$N$74:$BU$74,\"ZH\"))","v":""},null,"右",{"$f":"IF(DF72=\"\",\"\",DF72)","v":""},{"$f":"IF(DG72=\"\",\"\",DG72)","v":""},"","",null,"","",{"$f":"IF(F72=\"\",\"\",F72)","v":""},"右","","","","","","","","","","","","","","","","","","","",null,"","","","","","","","","","","","",null,null,null,null,null,"","","",{"$f":"IF(GC74=\"\",\"\",SUMIF($K$6:$K$58,GE74,$BY$6:$BY$58)+SUMIF($K$6:$K$58,GE74,$CF$6:$CF$58)+SUMIF($K$6:$K$58,GE74,$CI$6:$CI$58)+SUMIF($K$6:$K$58,GE74,$CL$6:$CL$58)+(SUMIF($K$6:$K$58,GE74,$CM$6:$CM$58))*2)","v":""},"","","","","","","",null,"",null,null,"",null,null,null,null,null,null,null,null,null,null,null,null,null,null,null,null,null,null,null,null,null,null,null,null,null,null,null,null,"","","","","","","",""]
[null,"⑥",null,null,"","",null,null,null,null,null,null,null,null,null,null,null,null,null,null,null,null,null,null,null,null,null,null,null,null,null,null,null,null,null,null,null,null,null,null,null,null,null,null,null,null,null,null,null,null,null,null,null,null,null,null,null,null,null,null,null,null,null,null,null,null,null,null,null,null,null,null,null,"",{"$f":"IF(L75=\"\",\"\",(BX75+CG75+CH75+CI75))","v":""},"",{"$f":"IF(L75=\"\",\"\",COUNTIFS($N$70:$BU$70,L75,$N$75:$BU$75,$BY$68))","v":""},{"$f":"IF(L75=\"\",\"\",COUNTIFS($N$70:$BU$70,L75,$N$75:$BU$75,$BZ$68))","v":""},{"$f":"IF(L75=\"\",\"\",COUNTIFS($N$70:$BU$70,L75,$N$73:$BU$73,$CA$68))","v":""},{"$f":"IF(L75=\"\",\"\",COUNTIFS($N$70:$BU$70,L75,$N$73:$BU$73,$CB$68))","v":""},{"$f":"IF(L75=\"\",\"\",COUNTIFS($N$70:$BU$70,L75,$N$75:$BU$75,$CC$68))","v":""},{"$f":"IF(L75=\"\",\"\",COUNTIFS($N$70:$BU$70,L75,$N$75:$BU$75,$CD$68)+COUNTIFS($N$70:$BU$70,L75,$N$74:$BU$74,$CD$68)+COUNTIFS($N$70:$BU$70,L75,$N$73:$BU$73,$CD$68))","v":""},{"$f":"IF(L75=\"\",\"\",COUNTIFS($N$70:$BU$70,L75,$N$74:$BU$74,$CE$68))","v":""},{"$f":"IF(L75=\"\",\"\",COUNTIFS($N$70:$BU$70,L75,$N$75:$BU$75,$CF$68))","v":""},{"$f":"IF(L75=\"\",\"\",COUNTIFS($N$70:$BU$70,L75,$N$75:$BU$75,$CG$68))","v":""},{"$f":"IF(L75=\"\",\"\",COUNTIFS($N$70:$BU$70,L75,$N$75:$BU$75,$CH$68))","v":""},{"$f":"IF(L75=\"\",\"\",COUNTIFS($N$70:$BU$70,L75,$N$75:$BU$75,$CI$68))","v":""},{"$f":"IF(L75=\"\",\"\",COUNTIFS($N$70:$BU$70,L75,$N$75:$BU$75,$CJ$68))","v":""},{"$f":"IF(L75=\"\",\"\",COUNTIFS($N$70:$BU$70,L75,$N$75:$BU$75,$CK$68)+COUNTIFS($N$70:$BU$70,L75,$N$73:$BU$73,$CK$68))","v":""},{"$f":"IF(L75=\"\",\"\",COUNTIFS($N$70:$BU$70,L75,$N$75:$BU$75,$CL$68)+COUNTIFS($N$70:$BU$70,L75,$N$73:$BU$73,$CL$68))","v":""},{"$f":"IF(L75=\"\",\"\",COUNTIFS($N$70:$BU$70,L75,$N$75:$BU$75,$CM$68))","v":""},{"$f":"IF(L75=\"\",\"\",COUNTIFS($N$70:$BU$70,L75,$N$75:$BU$75,$CN$68))","v":""},{"$f":"IF(L75=\"\",\"\",COUNTIFS($N$70:$BU$70,L75,$N$71:$BU$71,$CO$68)+COUNTIFS($N$70:$BU$70,L75,$N$72:$BU$72,$CO$68))","v":""},null,null,null,null,null,null,null,{"$f":"IF(DA75=\"\",\"\",VLOOKUP(DA75,$C$19:$E$24,3,FALSE))","v":""},null,null,{"$f":"IF(CX75=\"\",\"\",VLOOKUP(CY75,$C$5:$F$13,4,FALSE))","v":""},null,null,null,null,"","","","","","","","","","","","","","","","","","","","","","",null,{"$f":"IF($E$23=\"\",\"\",$E$23)","v":""},{"$f":"IF(L75=\"\",\"\",L75)","v":""},null,{"$f":"IF(EC75=\"\",\"\",COUNTIFS($N$70:$BU$70,EC75,$N$75:$BU$75,\"RZ\"))","v":""},{"$f":"IF(EC75=\"\",\"\",COUNTIFS($N$70:$BU$70,EC75,$N$74:$BU$74,\"ZH\"))","v":""},null,"左",{"$f":"IF(DF72=\"\",\"\",DF72)","v":""},{"$f":"EJ74","v":""},"","",null,"","",{"$f":"IF(F72=\"\",\"\",F72)","v":""},"左","","","","","","","","","","","","","","","","","","","",null,"","","","","","","","","","","","",null,null,null,null,null,{"$f":"IF(D89=\"\",\"\",D89)","v":""},{"$f":"IF(F89=\"\",\"\",F89)","v":""},{"$f":"IF($GB$70=\"\",\"\",C89)","v":""},"","","","","","","","",null,"",null,null,"",null,null,null,null,null,null,null,null,null,null,null,null,null,null,null,null,null,null,null,null,null,null,null,null,null,null,null,null,"","","","","","","",""]
[null,"⑦",null,null,"","",null,null,null,null,null,null,"打者背番号を入力➡",null,{"$f":"N76","v":0},{"$f":"N76","v":0},{"$f":"N76","v":0},{"$f":"N76","v":0},null,{"$f":"S76","v":0},{"$f":"S76","v":0},{"$f":"S76","v":0},{"$f":"S76","v":0},null,{"$f":"X76","v":0},{"$f":"X76","v":0},{"$f":"X76","v":0},{"$f":"X76","v":0},null,{"$f":"AC76","v":0},{"$f":"AC76","v":0},{"$f":"AC76","v":0},{"$f":"AC76","v":0},null,{"$f":"AH76","v":0},{"$f":"AH76","v":0},{"$f":"AH76","v":0},{"$f":"AH76","v":0},null,{"$f":"AM76","v":0},{"$f":"AM76","v":0},{"$f":"AM76","v":0},{"$f":"AM76","v":0},null,{"$f":"AR76","v":0},{"$f":"AR76","v":0},{"$f":"AR76","v":0},{"$f":"AR76","v":0},null,{"$f":"AW76","v":0},{"$f":"AW76","v":0},{"$f":"AW76","v":0},{"$f":"AW76","v":0},null,{"$f":"BB76","v":0},{"$f":"BB76","v":0},{"$f":"BB76","v":0},{"$f":"BB76","v":0},null,{"$f":"BG76","v":0},{"$f":"BG76","v":0},{"$f":"BG76","v":0},{"$f":"BG76","v":0},null,{"$f":"BL76","v":0},{"$f":"BL76","v":0},{"$f":"BL76","v":0},{"$f":"BL76","v":0},null,{"$f":"BQ76","v":0},{"$f":"BQ76","v":0},{"$f":"BQ76","v":0},{"$f":"BQ76","v":0},null,null,null,null,null,null,null,null,null,null,null,null,null,null,null,null,null,null,null,null,null,null,null,null,null,null,null,null,null,null,null,null,null,null,null,"","","","","","","","","","","","","","","","","","","","","","",null,null,null,null,null,null,null,"右",{"$f":"IF(DF73=\"\",\"\",DF73)","v":""},{"$f":"IF(DG73=\"\",\"\",DG73)","v":""},"","",null,"","",{"$f":"IF(F73=\"\",\"\",F73)","v":""},"右","","","","","","","","","","","","","","","","","","","",null,"","","","","","","","","","","","",null,null,null,null,null,{"$f":"IF(D90=\"\",\"\",D90)","v":""},{"$f":"IF(F90=\"\",\"\",F90)","v":""},{"$f":"IF($GB$70=\"\",\"\",C90)","v":""},{"$f":"IF(GC75:GC76=\"\",\"\",SUMIF($K$6:$K$58,GE76,$BY$6:$BY$58)+SUMIF($K$6:$K$58,GE76,$CF$6:$CF$58)+SUMIF($K$6:$K$58,GE76,$CI$6:$CI$58)+SUMIF($K$6:$K$58,GE76,$CL$6:$CL$58)+(SUMIF($K$6:$K$58,GE76,$CM$6:$CM$58))*2)","v":""},{"$f":"IF(GC76=\"\",\"\",GF76/3)","v":""},{"$f":"IF(GC76=\"\",\"\",SUMIF($K$6:$K$58,C90,$CC$6:$CC$58))","v":""},{"$f":"IF(GC76=\"\",\"\",SUMIF($K$6:$K$58,C90,$BZ$6:$BZ$58)+SUMIF($K$6:$K$58,C90,$CA$6:$CA$58)+SUMIF($K$6:$K$58,C90,$CB$6:$CB$58)+SUMIF($K$6:$K$58,C90,$CC$6:$CC$58))","v":""},{"$f":"IF(GC76=\"\",\"\",SUMIF($K$6:$K$58,C90,$CG$6:$CG$58)+SUMIF($K$6:$K$58,C90,$CH$6:$CH$58))","v":""},{"$f":"IF(GC76=\"\",\"\",SUMIF($K$6:$K$58,C25,$CF$6:$CF$58))","v":""},{"$f":"IF(GC76=\"\",\"\",SUMIF($K$6:$K$58,C25,$CK$6:$CK$58))","v":""},{"$f":"IF(GC76=\"\",\"\",SUMIF($K$6:$K$58,C25,$CE$6:$CE$58))","v":""},null,"",null,null,{"$f":"IF(GC76=\"\",\"\",$O$2)","v":""},null,null,null,null,null,null,null,null,null,null,null,null,null,null,null,null,null,null,null,null,null,null,null,null,null,null,null,null,null,""]
[null,"⑧",null,null,"","",null,null,{"$f":"IF(C71=\"\",\"\",C71)","v":""},{"$f":"IF(D71=\"\",\"\",D71)","v":""},{"$f":"IF(J77=\"\",\"\",\"先\")","v":""},{"$f":"IF(J77=\"\",\"\",F71)","v":""},"②",null,null,null,null,null,null,null,null,null,null,null,null,null,null,null,null,null,null,null,null,null,null,null,null,null,null,null,null,null,null,null,null,null,null,null,null,null,null,null,null,null,null,null,null,null,null,null,null,null,null,null,null,null,null,null,null,null,null,null,null,{"$f":"IF(K77=\"\",\"\",VLOOKUP(K77,$C$19:$E$25,3,FALSE))","v":""},{"$f":"IF(L77=\"\",\"\",(BX77+CG77+CH77+CI77))","v":""},"",{"$f":"IF(L77=\"\",\"\",COUNTIFS($N$76:$BU$76,L77,$N$81:$BU$81,$BY$68))","v":""},{"$f":"IF(L77=\"\",\"\",COUNTIFS($N$76:$BU$76,L77,$N$81:$BU$81,$BZ$68))","v":""},{"$f":"IF(L77=\"\",\"\",COUNTIFS($N$76:$BU$76,L77,$N$79:$BU$79,$CA$68))","v":""},{"$f":"IF(L77=\"\",\"\",COUNTIFS($N$76:$BU$76,L77,$N$79:$BU$79,$CB$68))","v":""},{"$f":"IF(L77=\"\",\"\",COUNTIFS($N$76:$BU$76,L77,$N$81:$BU$81,$CC$68))","v":""},{"$f":"IF(L77=\"\",\"\",COUNTIFS($N$76:$BU$76,L77,$N$81:$BU$81,$CD$68)+COUNTIFS($N$76:$BU$76,L77,$N$80:$BU$80,$CD$68)+COUNTIFS($N$76:$BU$76,L77,$N$79:$BU$79,$CD$68))","v":""},{"$f":"IF(L77=\"\",\"\",COUNTIFS($N$76:$BU$76,L77,$N$80:$BU$80,$CE$68))","v":""},{"$f":"IF(L77=\"\",\"\",COUNTIFS($N$76:$BU$76,L77,$N$81:$BU$81,$CF$68))","v":""},{"$f":"IF(L77=\"\",\"\",COUNTIFS($N$76:$BU$76,L77,$N$81:$BU$81,$CG$68))","v":""},{"$f":"IF(L77=\"\",\"\",COUNTIFS($N$76:$BU$76,L77,$N$81:$BU$81,$CH$68))","v":""},{"$f":"IF(L77=\"\",\"\",COUNTIFS($N$76:$BU$76,L77,$N$81:$BU$81,$CI$68))","v":""},{"$f":"IF(L77=\"\",\"\",COUNTIFS($N$76:$BU$76,L77,$N$81:$BU$81,$CJ$68))","v":""},{"$f":"IF(L77=\"\",\"\",COUNTIFS($N$76:$BU$76,L77,$N$81:$BU$81,$CK$68)+COUNTIFS($N$76:$BU$76,L77,$N$79:$BU$79,$CK$68))","v":""},{"$f":"IF(L77=\"\",\"\",COUNTIFS($N$76:$BU$76,L77,$N$81:$BU$81,$CL$68)+COUNTIFS($N$76:$BU$76,L77,$N$79:$BU$79,$CL$68))","v":""},{"$f":"IF(L77=\"\",\"\",COUNTIFS($N$76:$BU$76,L77,$N$81:$BU$81,$CM$68))","v":""},{"$f":"IF(L77=\"\",\"\",COUNTIFS($N$76:$BU$76,L77,$N$81:$BU$81,$CN$68))","v":""},{"$f":"IF(L77=\"\",\"\",COUNTIFS($N$76:$BU$76,L77,$N$77:$BU$77,$CO$68)+COUNTIFS($N$76:$BU$76,L77,$N$78:$BU$78,$CO$68))","v":""},null,null,null,null,null,null,null,{"$f":"IF(DA77=\"\",\"\",VLOOKUP(DA77,$C$19:$E$24,3,FALSE))","v":""},null,null,{"$f":"IF(CX77=\"\",\"\",VLOOKUP(CY77,$C$5:$F$13,4,FALSE))","v":""},null,null,null,null,"","","","","","","","","","","","","","","","","","","","","","",null,{"$f":"IF($E$19=\"\",\"\",$E$19)","v":""},{"$f":"IF(L77=\"\",\"\",L77)","v":""},{"$f":"IF(EC77=\"\",\"\",VLOOKUP(EC77,$C$94:$D$123,2,FALSE))","v":""},{"$f":"IF(EC77=\"\",\"\",COUNTIFS($N$76:$BU$76,EC77,$N$81:$BU$81,\"RZ\"))","v":""},{"$f":"IF(EC77=\"\",\"\",COUNTIFS($N$76:$BU$76,EC77,$N$80:$BU$80,\"ZH\"))","v":""},null,"左",{"$f":"IF(DF73=\"\",\"\",DF73)","v":""},{"$f":"EJ76","v":""},"","",null,"","",{"$f":"IF(F73=\"\",\"\",F73)","v":""},"左","","","","","","","","","","","","","","","","","","","",null,"","","","","","","","","","","","",null,null,null,null,null,null,null,null,null,null,null,null,null,null,null,null,null,null,null,null,null,null,null,null,null,null,null,null,null,null,null,null,null,null,null,null,null,null,null,null,null,null,null,null,null,null,null,null,null,"","",{"$f":"IF(HU77=\"\",\"\",COUNTIFS($N$76:$BU$76,HV77,$N$77:$BU$77,$HW$68)+COUNTIFS($N$76:$BU$76,HV77,$N$78:$BU$78,$HW$68))","v":""},{"$f":"IF(HU77=\"\",\"\",COUNTIFS($N$76:$BU$76,HV77,$N$77:$BU$77,$HX$68)+COUNTIFS($N$76:$BU$76,HV77,$N$78:$BU$78,$HX$68))","v":""},{"$f":"IF(HU77=\"\",\"\",COUNTIFS($N$76:$BU$76,HV77,$N$77:$BU$77,$HY$68)+COUNTIFS($N$76:$BU$76,HV77,$N$78:$BU$78,$HY$68))","v":""},{"$f":"IF(HU77=\"\",\"\",COUNTIFS($N$76:$BU$76,HV77,$N$77:$BU$77,$HZ$68)+COUNTIFS($N$76:$BU$76,HV77,$N$78:$BU$78,$HZ$68))","v":""},{"$f":"IF(HU77=\"\",\"\",COUNTIFS($N$76:$BU$76,HV77,$N$77:$BU$77,$IA$68)+COUNTIFS($N$76:$BU$76,HV77,$N$78:$BU$78,$IA$68))","v":""},{"$f":"IF(HU77=\"\",\"\",COUNTIFS($N$76:$BU$76,HV77,$N$77:$BU$77,$IB$68)+COUNTIFS($N$76:$BU$76,HV77,$N$78:$BU$78,$IB$68))","v":""}]
[null,"⑨",null,null,"","",null,null,null,null,null,null,null,null,null,null,null,null,null,null,null,null,null,null,null,null,null,null,null,null,null,null,null,null,null,null,null,null,null,null,null,null,null,null,null,null,null,null,null,null,null,null,null,null,null,null,null,null,null,null,null,null,null,null,null,null,null,null,null,null,null,null,null,{"$f":"IF(K78=\"\",\"\",VLOOKUP(K78,$C$19:$E$25,3,FALSE))","v":""},{"$f":"IF(L78=\"\",\"\",(BX78+CG78+CH78+CI78))","v":""},"",{"$f":"IF(L78=\"\",\"\",COUNTIFS($N$76:$BU$76,L78,$N$81:$BU$81,$BY$68))","v":""},{"$f":"IF(L78=\"\",\"\",COUNTIFS($N$76:$BU$76,L78,$N$81:$BU$81,$BZ$68))","v":""},{"$f":"IF(L78=\"\",\"\",COUNTIFS($N$76:$BU$76,L78,$N$79:$BU$79,$CA$68))","v":""},{"$f":"IF(L78=\"\",\"\",COUNTIFS($N$76:$BU$76,L78,$N$79:$BU$79,$CB$68))","v":""},{"$f":"IF(L78=\"\",\"\",COUNTIFS($N$76:$BU$76,L78,$N$81:$BU$81,$CC$68))","v":""},{"$f":"IF(L78=\"\",\"\",COUNTIFS($N$76:$BU$76,L78,$N$81:$BU$81,$CD$68)+COUNTIFS($N$76:$BU$76,L78,$N$80:$BU$80,$CD$68)+COUNTIFS($N$76:$BU$76,L78,$N$79:$BU$79,$CD$68))","v":""},{"$f":"IF(L78=\"\",\"\",COUNTIFS($N$76:$BU$76,L78,$N$80:$BU$80,$CE$68))","v":""},{"$f":"IF(L78=\"\",\"\",COUNTIFS($N$76:$BU$76,L78,$N$81:$BU$81,$CF$68))","v":""},{"$f":"IF(L78=\"\",\"\",COUNTIFS($N$76:$BU$76,L78,$N$81:$BU$81,$CG$68))","v":""},{"$f":"IF(L78=\"\",\"\",COUNTIFS($N$76:$BU$76,L78,$N$81:$BU$81,$CH$68))","v":""},{"$f":"IF(L78=\"\",\"\",COUNTIFS($N$76:$BU$76,L78,$N$81:$BU$81,$CI$68))","v":""},{"$f":"IF(L78=\"\",\"\",COUNTIFS($N$76:$BU$76,L78,$N$81:$BU$81,$CJ$68))","v":""},{"$f":"IF(L78=\"\",\"\",COUNTIFS($N$76:$BU$76,L78,$N$81:$BU$81,$CK$68)+COUNTIFS($N$76:$BU$76,L78,$N$79:$BU$79,$CK$68))","v":""},{"$f":"IF(L78=\"\",\"\",COUNTIFS($N$76:$BU$76,L78,$N$81:$BU$81,$CL$68)+COUNTIFS($N$76:$BU$76,L78,$N$79:$BU$79,$CL$68))","v":""},{"$f":"IF(L78=\"\",\"\",COUNTIFS($N$76:$BU$76,L78,$N$81:$BU$81,$CM$68))","v":""},{"$f":"IF(L78=\"\",\"\",COUNTIFS($N$76:$BU$76,L78,$N$81:$BU$81,$CN$68))","v":""},{"$f":"IF(L78=\"\",\"\",COUNTIFS($N$76:$BU$76,L78,$N$77:$BU$77,$CO$68)+COUNTIFS($N$76:$BU$76,L78,$N$78:$BU$78,$CO$68))","v":""},null,null,null,null,null,null,null,"",null,null,{"$f":"IF(CX78=\"\",\"\",VLOOKUP(CY78,$C$5:$F$13,4,FALSE))","v":""},null,null,null,null,"","","","","","","","","","","","","","","","","","","","","","",null,{"$f":"IF($E$20=\"\",\"\",$E$20)","v":""},{"$f":"IF(L78=\"\",\"\",L78)","v":""},null,{"$f":"IF(EC78=\"\",\"\",COUNTIFS($N$76:$BU$76,EC78,$N$81:$BU$81,\"RZ\"))","v":""},{"$f":"IF(EC78=\"\",\"\",COUNTIFS($N$76:$BU$76,EC78,$N$80:$BU$80,\"ZH\"))","v":""},null,"右",{"$f":"IF(DF74=\"\",\"\",DF74)","v":""},{"$f":"IF(DG74=\"\",\"\",DG74)","v":""},"","",null,"","",{"$f":"IF(F74=\"\",\"\",F74)","v":""},"右","","","","","","","","","","","","","","","","","","","",null,"","","","","","","","","","","","",null,null,null,null,null,null,null,null,null,null,null,null,null,null,null,null,null,null,null,null,null,null,null,null,null,null,null,null,null,null,null,null,null,null,null,null,null,null,null,null,null,null,null,null,null,null,null,null,null,"","",{"$f":"IF(HU78=\"\",\"\",COUNTIFS($N$76:$BU$76,HV78,$N$77:$BU$77,$HW$68)+COUNTIFS($N$76:$BU$76,HV78,$N$78:$BU$78,$HW$68))","v":""},{"$f":"IF(HU78=\"\",\"\",COUNTIFS($N$76:$BU$76,HV78,$N$77:$BU$77,$HX$68)+COUNTIFS($N$76:$BU$76,HV78,$N$78:$BU$78,$HX$68))","v":""},{"$f":"IF(HU78=\"\",\"\",COUNTIFS($N$76:$BU$76,HV78,$N$77:$BU$77,$HY$68)+COUNTIFS($N$76:$BU$76,HV78,$N$78:$BU$78,$HY$68))","v":""},{"$f":"IF(HU78=\"\",\"\",COUNTIFS($N$76:$BU$76,HV78,$N$77:$BU$77,$HZ$68)+COUNTIFS($N$76:$BU$76,HV78,$N$78:$BU$78,$HZ$68))","v":""},{"$f":"IF(HU78=\"\",\"\",COUNTIFS($N$76:$BU$76,HV78,$N$77:$BU$77,$IA$68)+COUNTIFS($N$76:$BU$76,HV78,$N$78:$BU$78,$IA$68))","v":""},{"$f":"IF(HU78=\"\",\"\",COUNTIFS($N$76:$BU$76,HV78,$N$77:$BU$77,$IB$68)+COUNTIFS($N$76:$BU$76,HV78,$N$78:$BU$78,$IB$68))","v":""}]
[null,null,null,null,"","",null,null,null,null,null,null,null,null,null,null,null,null,null,null,null,null,null,null,null,null,null,null,null,null,null,null,null,null,null,null,null,null,null,null,null,null,null,null,null,null,null,null,null,null,null,null,null,null,null,null,null,null,null,null,null,null,null,null,null,null,null,null,null,null,null,null,null,"",{"$f":"IF(L79=\"\",\"\",(BX79+CG79+CH79+CI79))","v":""},"",{"$f":"IF(L79=\"\",\"\",COUNTIFS($N$76:$BU$76,L79,$N$81:$BU$81,$BY$68))","v":""},{"$f":"IF(L79=\"\",\"\",COUNTIFS($N$76:$BU$76,L79,$N$81:$BU$81,$BZ$68))","v":""},{"$f":"IF(L79=\"\",\"\",COUNTIFS($N$76:$BU$76,L79,$N$79:$BU$79,$CA$68))","v":""},{"$f":"IF(L79=\"\",\"\",COUNTIFS($N$76:$BU$76,L79,$N$79:$BU$79,$CB$68))","v":""},{"$f":"IF(L79=\"\",\"\",COUNTIFS($N$76:$BU$76,L79,$N$81:$BU$81,$CC$68))","v":""},{"$f":"IF(L79=\"\",\"\",COUNTIFS($N$76:$BU$76,L79,$N$81:$BU$81,$CD$68)+COUNTIFS($N$76:$BU$76,L79,$N$80:$BU$80,$CD$68)+COUNTIFS($N$76:$BU$76,L79,$N$79:$BU$79,$CD$68))","v":""},{"$f":"IF(L79=\"\",\"\",COUNTIFS($N$76:$BU$76,L79,$N$80:$BU$80,$CE$68))","v":""},{"$f":"IF(L79=\"\",\"\",COUNTIFS($N$76:$BU$76,L79,$N$81:$BU$81,$CF$68))","v":""},{"$f":"IF(L79=\"\",\"\",COUNTIFS($N$76:$BU$76,L79,$N$81:$BU$81,$CG$68))","v":""},{"$f":"IF(L79=\"\",\"\",COUNTIFS($N$76:$BU$76,L79,$N$81:$BU$81,$CH$68))","v":""},{"$f":"IF(L79=\"\",\"\",COUNTIFS($N$76:$BU$76,L79,$N$81:$BU$81,$CI$68))","v":""},{"$f":"IF(L79=\"\",\"\",COUNTIFS($N$76:$BU$76,L79,$N$81:$BU$81,$CJ$68))","v":""},{"$f":"IF(L79=\"\",\"\",COUNTIFS($N$76:$BU$76,L79,$N$81:$BU$81,$CK$68)+COUNTIFS($N$76:$BU$76,L79,$N$79:$BU$79,$CK$68))","v":""},{"$f":"IF(L79=\"\",\"\",COUNTIFS($N$76:$BU$76,L79,$N$81:$BU$81,$CL$68)+COUNTIFS($N$76:$BU$76,L79,$N$79:$BU$79,$CL$68))","v":""},{"$f":"IF(L79=\"\",\"\",COUNTIFS($N$76:$BU$76,L79,$N$81:$BU$81,$CM$68))","v":""},{"$f":"IF(L79=\"\",\"\",COUNTIFS($N$76:$BU$76,L79,$N$81:$BU$81,$CN$68))","v":""},{"$f":"IF(L79=\"\",\"\",COUNTIFS($N$76:$BU$76,L79,$N$77:$BU$77,$CO$68)+COUNTIFS($N$76:$BU$76,L79,$N$78:$BU$78,$CO$68))","v":""},null,null,null,null,null,null,null,"",null,null,{"$f":"IF(CX79=\"\",\"\",VLOOKUP(CY79,$C$5:$F$13,4,FALSE))","v":""},null,null,"交　　代","交　　代","","",{"$f":"IF(G70=\"\",\"\",G70)","v":""},"","","","","","","","","","","","","","","","","","","",null,{"$f":"IF($E$21=\"\",\"\",$E$21)","v":""},{"$f":"IF(L79=\"\",\"\",L79)","v":""},null,{"$f":"IF(EC79=\"\",\"\",COUNTIFS($N$76:$BU$76,EC79,$N$81:$BU$81,\"RZ\"))","v":""},{"$f":"IF(EC79=\"\",\"\",COUNTIFS($N$76:$BU$76,EC79,$N$80:$BU$80,\"ZH\"))","v":""},null,"左",{"$f":"IF(DF74=\"\",\"\",DF74)","v":""},{"$f":"EJ78","v":""},"","",null,"","",{"$f":"IF(F74=\"\",\"\",F74)","v":""},"左","","","","","","","","","","","","","","","","","","","",null,"","","","","","","","","","","","",null,null,null,null,null,null,null,null,null,null,null,null,null,null,null,null,null,null,null,null,null,null,null,null,null,null,null,null,null,null,null,null,null,null,null,null,null,null,null,null,null,null,null,null,null,null,null,null,null,"","","","","","","",""]
[null,null,null,null,null,null,null,null,null,null,null,null,null,null,null,null,null,null,null,null,null,null,null,null,null,null,null,null,null,null,null,null,null,null,null,null,null,null,null,null,null,null,null,null,null,null,null,null,null,null,null,null,null,null,null,null,null,null,null,null,null,null,null,null,null,null,null,null,null,null,null,null,null,"",{"$f":"IF(L80=\"\",\"\",(BX80+CG80+CH80+CI80))","v":""},"",{"$f":"IF(L80=\"\",\"\",COUNTIFS($N$76:$BU$76,L80,$N$81:$BU$81,$BY$68))","v":""},{"$f":"IF(L80=\"\",\"\",COUNTIFS($N$76:$BU$76,L80,$N$81:$BU$81,$BZ$68))","v":""},{"$f":"IF(L80=\"\",\"\",COUNTIFS($N$76:$BU$76,L80,$N$79:$BU$79,$CA$68))","v":""},{"$f":"IF(L80=\"\",\"\",COUNTIFS($N$76:$BU$76,L80,$N$79:$BU$79,$CB$68))","v":""},{"$f":"IF(L80=\"\",\"\",COUNTIFS($N$76:$BU$76,L80,$N$81:$BU$81,$CC$68))","v":""},{"$f":"IF(L80=\"\",\"\",COUNTIFS($N$76:$BU$76,L80,$N$81:$BU$81,$CD$68)+COUNTIFS($N$76:$BU$76,L80,$N$80:$BU$80,$CD$68)+COUNTIFS($N$76:$BU$76,L80,$N$79:$BU$79,$CD$68))","v":""},{"$f":"IF(L80=\"\",\"\",COUNTIFS($N$76:$BU$76,L80,$N$80:$BU$80,$CE$68))","v":""},{"$f":"IF(L80=\"\",\"\",COUNTIFS($N$76:$BU$76,L80,$N$81:$BU$81,$CF$68))","v":""},{"$f":"IF(L80=\"\",\"\",COUNTIFS($N$76:$BU$76,L80,$N$81:$BU$81,$CG$68))","v":""},{"$f":"IF(L80=\"\",\"\",COUNTIFS($N$76:$BU$76,L80,$N$81:$BU$81,$CH$68))","v":""},{"$f":"IF(L80=\"\",\"\",COUNTIFS($N$76:$BU$76,L80,$N$81:$BU$81,$CI$68))","v":""},{"$f":"IF(L80=\"\",\"\",COUNTIFS($N$76:$BU$76,L80,$N$81:$BU$81,$CJ$68))","v":""},{"$f":"IF(L80=\"\",\"\",COUNTIFS($N$76:$BU$76,L80,$N$81:$BU$81,$CK$68)+COUNTIFS($N$76:$BU$76,L80,$N$79:$BU$79,$CK$68))","v":""},{"$f":"IF(L80=\"\",\"\",COUNTIFS($N$76:$BU$76,L80,$N$81:$BU$81,$CL$68)+COUNTIFS($N$76:$BU$76,L80,$N$79:$BU$79,$CL$68))","v":""},{"$f":"IF(L80=\"\",\"\",COUNTIFS($N$76:$BU$76,L80,$N$81:$BU$81,$CM$68))","v":""},{"$f":"IF(L80=\"\",\"\",COUNTIFS($N$76:$BU$76,L80,$N$81:$BU$81,$CN$68))","v":""},{"$f":"IF(L80=\"\",\"\",COUNTIFS($N$76:$BU$76,L80,$N$77:$BU$77,$CO$68)+COUNTIFS($N$76:$BU$76,L80,$N$78:$BU$78,$CO$68))","v":""},null,null,null,null,null,null,null,"",null,null,{"$f":"IF(CX80=\"\",\"\",VLOOKUP(CY80,$C$5:$F$13,4,FALSE))","v":""},null,null,null,null,"","",{"$f":"IF(G71=\"\",\"\",G71)","v":""},{"$f":"IF(DF80=\"\",\"\",SUMIFS($BW$71:$BW$123,$J$71:$J$123,DF80))","v":""},"","","","","","","","","","","","","","","","","","",null,{"$f":"IF($E$22=\"\",\"\",$E$22)","v":""},{"$f":"IF(L80=\"\",\"\",L80)","v":""},null,{"$f":"IF(EC80=\"\",\"\",COUNTIFS($N$76:$BU$76,EC80,$N$81:$BU$81,\"RZ\"))","v":""},{"$f":"IF(EC80=\"\",\"\",COUNTIFS($N$76:$BU$76,EC80,$N$80:$BU$80,\"ZH\"))","v":""},null,"右",{"$f":"IF(DF75=\"\",\"\",DF75)","v":""},{"$f":"IF(DG75=\"\",\"\",DG75)","v":""},"","",null,"","",{"$f":"IF(F75=\"\",\"\",F75)","v":""},"右","","","","","","","","","","","","","","","","","","","",null,"","","","","","","","","","","","",null,null,null,null,null,null,null,null,null,null,null,null,null,null,null,null,null,null,null,null,null,null,null,null,null,null,null,null,null,null,null,null,null,null,null,null,null,null,null,null,null,null,null,null,null,null,null,null,null,"","","","","","","",""]
[null,null,"投手欄",null,null,null,null,null,null,null,null,null,null,null,null,null,null,null,null,null,null,null,null,null,null,null,null,null,null,null,null,null,null,null,null,null,null,null,null,null,null,null,null,null,null,null,null,null,null,null,null,null,null,null,null,null,null,null,null,null,null,null,null,null,null,null,null,null,null,null,null,null,null,"",{"$f":"IF(L81=\"\",\"\",(BX81+CG81+CH81+CI81))","v":""},"",{"$f":"IF(L81=\"\",\"\",COUNTIFS($N$76:$BU$76,L81,$N$81:$BU$81,$BY$68))","v":""},{"$f":"IF(L81=\"\",\"\",COUNTIFS($N$76:$BU$76,L81,$N$81:$BU$81,$BZ$68))","v":""},{"$f":"IF(L81=\"\",\"\",COUNTIFS($N$76:$BU$76,L81,$N$79:$BU$79,$CA$68))","v":""},{"$f":"IF(L81=\"\",\"\",COUNTIFS($N$76:$BU$76,L81,$N$79:$BU$79,$CB$68))","v":""},{"$f":"IF(L81=\"\",\"\",COUNTIFS($N$76:$BU$76,L81,$N$81:$BU$81,$CC$68))","v":""},{"$f":"IF(L81=\"\",\"\",COUNTIFS($N$76:$BU$76,L81,$N$81:$BU$81,$CD$68)+COUNTIFS($N$76:$BU$76,L81,$N$80:$BU$80,$CD$68)+COUNTIFS($N$76:$BU$76,L81,$N$79:$BU$79,$CD$68))","v":""},{"$f":"IF(L81=\"\",\"\",COUNTIFS($N$76:$BU$76,L81,$N$80:$BU$80,$CE$68))","v":""},{"$f":"IF(L81=\"\",\"\",COUNTIFS($N$76:$BU$76,L81,$N$81:$BU$81,$CF$68))","v":""},{"$f":"IF(L81=\"\",\"\",COUNTIFS($N$76:$BU$76,L81,$N$81:$BU$81,$CG$68))","v":""},{"$f":"IF(L81=\"\",\"\",COUNTIFS($N$76:$BU$76,L81,$N$81:$BU$81,$CH$68))","v":""},{"$f":"IF(L81=\"\",\"\",COUNTIFS($N$76:$BU$76,L81,$N$81:$BU$81,$CI$68))","v":""},{"$f":"IF(L81=\"\",\"\",COUNTIFS($N$76:$BU$76,L81,$N$81:$BU$81,$CJ$68))","v":""},{"$f":"IF(L81=\"\",\"\",COUNTIFS($N$76:$BU$76,L81,$N$81:$BU$81,$CK$68)+COUNTIFS($N$76:$BU$76,L81,$N$79:$BU$79,$CK$68))","v":""},{"$f":"IF(L81=\"\",\"\",COUNTIFS($N$76:$BU$76,L81,$N$81:$BU$81,$CL$68)+COUNTIFS($N$76:$BU$76,L81,$N$79:$BU$79,$CL$68))","v":""},{"$f":"IF(L81=\"\",\"\",COUNTIFS($N$76:$BU$76,L81,$N$81:$BU$81,$CM$68))","v":""},{"$f":"IF(L81=\"\",\"\",COUNTIFS($N$76:$BU$76,L81,$N$81:$BU$81,$CN$68))","v":""},{"$f":"IF(L81=\"\",\"\",COUNTIFS($N$76:$BU$76,L81,$N$77:$BU$77,$CO$68)+COUNTIFS($N$76:$BU$76,L81,$N$78:$BU$78,$CO$68))","v":""},null,null,null,null,null,null,null,"",null,null,{"$f":"IF(CX81=\"\",\"\",VLOOKUP(CY81,$C$5:$F$13,4,FALSE))","v":""},null,null,null,null,"","","","","","","","","","","","","","","","","","","","","","",null,{"$f":"IF($E$23=\"\",\"\",$E$23)","v":""},{"$f":"IF(L81=\"\",\"\",L81)","v":""},"",{"$f":"IF(EC81=\"\",\"\",COUNTIFS($N$76:$BU$76,EC81,$N$81:$BU$81,\"RZ\"))","v":""},{"$f":"IF(EC81=\"\",\"\",COUNTIFS($N$76:$BU$76,EC81,$N$80:$BU$80,\"ZH\"))","v":""},null,"左",{"$f":"IF(DF75=\"\",\"\",DF75)","v":""},{"$f":"EJ80","v":""},"","",null,"","",{"$f":"IF(F75=\"\",\"\",F75)","v":""},"左","","","","","","","","","","","","","","","","","","","",null,"","","","","","","","","","","","",null,null,null,null,null,null,null,null,null,null,null,null,null,null,null,null,null,null,null,null,null,null,null,null,null,null,null,null,null,null,null,null,null,null,null,null,null,null,null,null,null,null,null,null,null,null,null,null,null,"","","","","","","",""]
[null,null,"順番","選手名","PS","背番",null,null,null,null,null,null,"打者背番号を入力➡",null,{"$f":"N82","v":0},{"$f":"N82","v":0},{"$f":"N82","v":0},{"$f":"N82","v":0},null,{"$f":"S82","v":0},{"$f":"S82","v":0},{"$f":"S82","v":0},{"$f":"S82","v":0},null,{"$f":"X82","v":0},{"$f":"X82","v":0},{"$f":"X82","v":0},{"$f":"X82","v":0},null,{"$f":"AC82","v":0},{"$f":"AC82","v":0},{"$f":"AC82","v":0},{"$f":"AC82","v":0},null,{"$f":"AH82","v":0},{"$f":"AH82","v":0},{"$f":"AH82","v":0},{"$f":"AH82","v":0},null,{"$f":"AM82","v":0},{"$f":"AM82","v":0},{"$f":"AM82","v":0},{"$f":"AM82","v":0},null,{"$f":"AR82","v":0},{"$f":"AR82","v":0},{"$f":"AR82","v":0},{"$f":"AR82","v":0},null,{"$f":"AW82","v":0},{"$f":"AW82","v":0},{"$f":"AW82","v":0},{"$f":"AW82","v":0},null,{"$f":"BB82","v":0},{"$f":"BB82","v":0},{"$f":"BB82","v":0},{"$f":"BB82","v":0},null,{"$f":"BG82","v":0},{"$f":"BG82","v":0},{"$f":"BG82","v":0},{"$f":"BG82","v":0},null,{"$f":"BL82","v":0},{"$f":"BL82","v":0},{"$f":"BL82","v":0},{"$f":"BL82","v":0},null,{"$f":"BQ82","v":0},{"$f":"BQ82","v":0},{"$f":"BQ82","v":0},{"$f":"BQ82","v":0},null,null,null,null,null,null,null,null,null,null,null,null,null,null,null,null,null,null,null,null,null,null,null,null,null,null,null,null,null,null,null,null,null,null,null,"","","","","","","","","","","","","","","","","","","","","","",null,null,null,null,null,null,null,"右",{"$f":"IF(DF76=\"\",\"\",DF76)","v":""},{"$f":"IF(DG76=\"\",\"\",DG76)","v":""},"","",null,"","",{"$f":"IF(F76=\"\",\"\",F76)","v":""},"右","","","","","","","","","","","","","","","","","","","",null,"","","","","","","","","","","","",null,null,null,null,null,null,null,null,null,null,null,null,null,null,null,null,null,null,null,null,null,null,null,null,null,null,null,null,null,null,null,null,null,null,null,null,null,null,null,null,null,null,null,null,null,null,null,null,null,null,""]
[null,null,null,null,null,null,null,null,{"$f":"IF(C72=\"\",\"\",C72)","v":""},{"$f":"IF(D72=\"\",\"\",D72)","v":""},{"$f":"IF(J83=\"\",\"\",\"先\")","v":""},{"$f":"IF(J83=\"\",\"\",F72)","v":""},"③",null,null,null,null,null,null,null,null,null,null,null,null,null,null,null,null,null,null,null,null,null,null,null,null,null,null,null,null,null,null,null,null,null,null,null,null,null,null,null,null,null,null,null,null,null,null,null,null,null,null,null,null,null,null,null,null,null,null,null,null,{"$f":"IF(K83=\"\",\"\",VLOOKUP(K83,$C$19:$E$25,3,FALSE))","v":""},{"$f":"IF(L83=\"\",\"\",(BX83+CG83+CH83+CI83))","v":""},"",{"$f":"IF(L83=\"\",\"\",COUNTIFS($N$82:$BU$82,L83,$N$87:$BU$87,$BY$68))","v":""},{"$f":"IF(L83=\"\",\"\",COUNTIFS($N$82:$BU$82,L83,$N$87:$BU$87,$BZ$68))","v":""},{"$f":"IF(L83=\"\",\"\",COUNTIFS($N$82:$BU$82,L83,$N$85:$BU$85,$CA$68))","v":""},{"$f":"IF(L83=\"\",\"\",COUNTIFS($N$82:$BU$82,L83,$N$85:$BU$85,$CB$68))","v":""},{"$f":"IF(L83=\"\",\"\",COUNTIFS($N$82:$BU$82,L83,$N$87:$BU$87,$CC$68))","v":""},{"$f":"IF(L83=\"\",\"\",COUNTIFS($N$82:$BU$82,L83,$N$87:$BU$87,$CD$68)+COUNTIFS($N$82:$BU$82,L83,$N$86:$BU$86,$CD$68)+COUNTIFS($N$82:$BU$82,L83,$N$85:$BU$85,$CD$68))","v":""},{"$f":"IF(L83=\"\",\"\",COUNTIFS($N$82:$BU$82,L83,$N$86:$BU$86,$CE$68))","v":""},{"$f":"IF(L83=\"\",\"\",COUNTIFS($N$82:$BU$82,L83,$N$87:$BU$87,$CF$68))","v":""},{"$f":"IF(L83=\"\",\"\",COUNTIFS($N$82:$BU$82,L83,$N$87:$BU$87,$CG$68))","v":""},{"$f":"IF(L83=\"\",\"\",COUNTIFS($N$82:$BU$82,L83,$N$87:$BU$87,$CH$68))","v":""},{"$f":"IF(L83=\"\",\"\",COUNTIFS($N$82:$BU$82,L83,$N$87:$BU$87,$CI$68))","v":""},{"$f":"IF(L83=\"\",\"\",COUNTIFS($N$82:$BU$82,L83,$N$87:$BU$87,$CJ$68))","v":""},{"$f":"IF(L83=\"\",\"\",COUNTIFS($N$82:$BU$82,L83,$N$87:$BU$87,$CK$68)+COUNTIFS($N$82:$BU$82,L83,$N$85:$BU$85,$CK$68))","v":""},{"$f":"IF(L83=\"\",\"\",COUNTIFS($N$82:$BU$82,L83,$N$87:$BU$87,$CL$68)+COUNTIFS($N$82:$BU$82,L83,$N$85:$BU$85,$CL$68))","v":""},{"$f":"IF(L83=\"\",\"\",COUNTIFS($N$82:$BU$82,L83,$N$87:$BU$87,$CM$68))","v":""},{"$f":"IF(L83=\"\",\"\",COUNTIFS($N$82:$BU$82,L83,$N$87:$BU$87,$CN$68))","v":""},{"$f":"IF(L83=\"\",\"\",COUNTIFS($N$82:$BU$82,L83,$N$83:$BU$83,$CO$68)+COUNTIFS($N$82:$BU$82,L83,$N$84:$BU$84,$CO$68))","v":""},null,null,null,null,null,null,null,{"$f":"IF(DA83=\"\",\"\",VLOOKUP(DA83,$C$19:$E$24,3,FALSE))","v":""},null,null,{"$f":"IF(CX83=\"\",\"\",VLOOKUP(CY83,$C$5:$F$13,4,FALSE))","v":""},null,null,null,null,"","","","","","","","","","","","","","","","","","","","","","",null,{"$f":"IF($E$19=\"\",\"\",$E$19)","v":""},{"$f":"IF(L83=\"\",\"\",L83)","v":""},{"$f":"IF(EC83=\"\",\"\",VLOOKUP(EC83,$C$94:$D$123,2,FALSE))","v":""},{"$f":"IF(EC83=\"\",\"\",COUNTIFS($N$82:$BU$82,EC83,$N$87:$BU$87,\"RZ\"))","v":""},{"$f":"IF(EC83=\"\",\"\",COUNTIFS($N$82:$BU$82,EC83,$N$86:$BU$86,\"ZH\"))","v":""},null,"左",{"$f":"IF(DF76=\"\",\"\",DF76)","v":""},{"$f":"EJ82","v":""},"","",null,"","",{"$f":"IF(F76=\"\",\"\",F76)","v":""},"左","","","","","","","","","","","","","","","","","","","",null,"","","","","","","","","","","","",null,null,null,null,null,null,null,null,null,null,null,null,null,null,null,null,null,null,null,null,null,null,null,null,null,null,null,null,null,null,null,null,null,null,null,null,null,null,null,null,null,null,null,null,null,null,null,null,null,"","",{"$f":"IF(HU83=\"\",\"\",COUNTIFS($N$82:$BU$82,HV83,$N$83:$BU$83,$HW$68)+COUNTIFS($N$82:$BU$82,HV83,$N$84:$BU$84,$HW$68))","v":""},{"$f":"IF(HU83=\"\",\"\",COUNTIFS($N$82:$BU$82,HV83,$N$83:$BU$83,$HX$68)+COUNTIFS($N$82:$BU$82,HV83,$N$84:$BU$84,$HX$68))","v":""},{"$f":"IF(HU83=\"\",\"\",COUNTIFS($N$82:$BU$82,HV83,$N$83:$BU$83,$HY$68)+COUNTIFS($N$82:$BU$82,HV83,$N$84:$BU$84,$HY$68))","v":""},{"$f":"IF(HU83=\"\",\"\",COUNTIFS($N$82:$BU$82,HV83,$N$83:$BU$83,$HZ$68)+COUNTIFS($N$82:$BU$82,HV83,$N$84:$BU$84,$HZ$68))","v":""},{"$f":"IF(HU83=\"\",\"\",COUNTIFS($N$82:$BU$82,HV83,$N$83:$BU$83,$IA$68)+COUNTIFS($N$82:$BU$82,HV83,$N$84:$BU$84,$IA$68))","v":""},{"$f":"IF(HU83=\"\",\"\",COUNTIFS($N$82:$BU$82,HV83,$N$83:$BU$83,$IB$68)+COUNTIFS($N$82:$BU$82,HV83,$N$84:$BU$84,$IB$68))","v":""}]
[null,null,"先",null,{"$f":"IF(D84=\"\",\"\",VLOOKUP(D84,$D$94:$F$125,2,FALSE))","v":""},{"$f":"IF(D84=\"\",\"\",VLOOKUP(D84,$D$94:$F$125,3,FALSE))","v":""},null,null,null,null,null,null,null,null,null,null,null,null,null,null,null,null,null,null,null,null,null,null,null,null,null,null,null,null,null,null,null,null,null,null,null,null,null,null,null,null,null,null,null,null,null,null,null,null,null,null,null,null,null,null,null,null,null,null,null,null,null,null,null,null,null,null,null,{"$f":"IF(K84=\"\",\"\",VLOOKUP(K84,$C$19:$E$25,3,FALSE))","v":""},{"$f":"IF(L84=\"\",\"\",(BX84+CG84+CH84+CI84))","v":""},"",{"$f":"IF(L84=\"\",\"\",COUNTIFS($N$82:$BU$82,L84,$N$87:$BU$87,$BY$68))","v":""},{"$f":"IF(L84=\"\",\"\",COUNTIFS($N$82:$BU$82,L84,$N$87:$BU$87,$BZ$68))","v":""},{"$f":"IF(L84=\"\",\"\",COUNTIFS($N$82:$BU$82,L84,$N$85:$BU$85,$CA$68))","v":""},{"$f":"IF(L84=\"\",\"\",COUNTIFS($N$82:$BU$82,L84,$N$85:$BU$85,$CB$68))","v":""},{"$f":"IF(L84=\"\",\"\",COUNTIFS($N$82:$BU$82,L84,$N$87:$BU$87,$CC$68))","v":""},{"$f":"IF(L84=\"\",\"\",COUNTIFS($N$82:$BU$82,L84,$N$87:$BU$87,$CD$68)+COUNTIFS($N$82:$BU$82,L84,$N$86:$BU$86,$CD$68)+COUNTIFS($N$82:$BU$82,L84,$N$85:$BU$85,$CD$68))","v":""},{"$f":"IF(L84=\"\",\"\",COUNTIFS($N$82:$BU$82,L84,$N$86:$BU$86,$CE$68))","v":""},{"$f":"IF(L84=\"\",\"\",COUNTIFS($N$82:$BU$82,L84,$N$87:$BU$87,$CF$68))","v":""},{"$f":"IF(L84=\"\",\"\",COUNTIFS($N$82:$BU$82,L84,$N$87:$BU$87,$CG$68))","v":""},{"$f":"IF(L84=\"\",\"\",COUNTIFS($N$82:$BU$82,L84,$N$87:$BU$87,$CH$68))","v":""},{"$f":"IF(L84=\"\",\"\",COUNTIFS($N$82:$BU$82,L84,$N$87:$BU$87,$CI$68))","v":""},{"$f":"IF(L84=\"\",\"\",COUNTIFS($N$82:$BU$82,L84,$N$87:$BU$87,$CJ$68))","v":""},{"$f":"IF(L84=\"\",\"\",COUNTIFS($N$82:$BU$82,L84,$N$87:$BU$87,$CK$68)+COUNTIFS($N$82:$BU$82,L84,$N$85:$BU$85,$CK$68))","v":""},{"$f":"IF(L84=\"\",\"\",COUNTIFS($N$82:$BU$82,L84,$N$87:$BU$87,$CL$68)+COUNTIFS($N$82:$BU$82,L84,$N$85:$BU$85,$CL$68))","v":""},{"$f":"IF(L84=\"\",\"\",COUNTIFS($N$82:$BU$82,L84,$N$87:$BU$87,$CM$68))","v":""},{"$f":"IF(L84=\"\",\"\",COUNTIFS($N$82:$BU$82,L84,$N$87:$BU$87,$CN$68))","v":""},{"$f":"IF(L84=\"\",\"\",COUNTIFS($N$82:$BU$82,L84,$N$83:$BU$83,$CO$68)+COUNTIFS($N$82:$BU$82,L84,$N$84:$BU$84,$CO$68))","v":""},null,null,null,null,null,null,null,"",null,null,{"$f":"IF(CX84=\"\",\"\",VLOOKUP(CY84,$C$5:$F$13,4,FALSE))","v":""},null,null,null,null,"","","","","","","","","","","","","","","","","","","","","","",null,{"$f":"IF($E$20=\"\",\"\",$E$20)","v":""},{"$f":"IF(L84=\"\",\"\",L84)","v":""},null,{"$f":"IF(EC84=\"\",\"\",COUNTIFS($N$82:$BU$82,EC84,$N$87:$BU$87,\"RZ\"))","v":""},{"$f":"IF(EC84=\"\",\"\",COUNTIFS($N$82:$BU$82,EC84,$N$86:$BU$86,\"ZH\"))","v":""},null,"右",{"$f":"IF(DF77=\"\",\"\",DF77)","v":""},{"$f":"IF(DG77=\"\",\"\",DG77)","v":""},"","",null,"","",{"$f":"IF(F77=\"\",\"\",F77)","v":""},"右","","","","","","","","","","","","","","","","","","","",null,"","","","","","","","","","","","",null,null,null,null,null,null,null,null,null,null,null,null,null,null,null,null,null,null,null,null,null,null,null,null,null,null,null,null,null,null,null,null,null,null,null,null,null,null,null,null,null,null,null,null,null,null,null,null,null,"","",{"$f":"IF(HU84=\"\",\"\",COUNTIFS($N$82:$BU$82,HV84,$N$83:$BU$83,$HW$68)+COUNTIFS($N$82:$BU$82,HV84,$N$84:$BU$84,$HW$68))","v":""},{"$f":"IF(HU84=\"\",\"\",COUNTIFS($N$82:$BU$82,HV84,$N$83:$BU$83,$HX$68)+COUNTIFS($N$82:$BU$82,HV84,$N$84:$BU$84,$HX$68))","v":""},{"$f":"IF(HU84=\"\",\"\",COUNTIFS($N$82:$BU$82,HV84,$N$83:$BU$83,$HY$68)+COUNTIFS($N$82:$BU$82,HV84,$N$84:$BU$84,$HY$68))","v":""},{"$f":"IF(HU84=\"\",\"\",COUNTIFS($N$82:$BU$82,HV84,$N$83:$BU$83,$HZ$68)+COUNTIFS($N$82:$BU$82,HV84,$N$84:$BU$84,$HZ$68))","v":""},{"$f":"IF(HU84=\"\",\"\",COUNTIFS($N$82:$BU$82,HV84,$N$83:$BU$83,$IA$68)+COUNTIFS($N$82:$BU$82,HV84,$N$84:$BU$84,$IA$68))","v":""},{"$f":"IF(HU84=\"\",\"\",COUNTIFS($N$82:$BU$82,HV84,$N$83:$BU$83,$IB$68)+COUNTIFS($N$82:$BU$82,HV84,$N$84:$BU$84,$IB$68))","v":""}]
[null,null,2,null,"","",null,null,null,null,null,null,null,null,null,null,null,null,null,null,null,null,null,null,null,null,null,null,null,null,null,null,null,null,null,null,null,null,null,null,null,null,null,null,null,null,null,null,null,null,null,null,null,null,null,null,null,null,null,null,null,null,null,null,null,null,null,null,null,null,null,null,null,"",{"$f":"IF(L85=\"\",\"\",(BX85+CG85+CH85+CI85))","v":""},"",{"$f":"IF(L85=\"\",\"\",COUNTIFS($N$82:$BU$82,L85,$N$87:$BU$87,$BY$68))","v":""},{"$f":"IF(L85=\"\",\"\",COUNTIFS($N$82:$BU$82,L85,$N$87:$BU$87,$BZ$68))","v":""},{"$f":"IF(L85=\"\",\"\",COUNTIFS($N$82:$BU$82,L85,$N$85:$BU$85,$CA$68))","v":""},{"$f":"IF(L85=\"\",\"\",COUNTIFS($N$82:$BU$82,L85,$N$85:$BU$85,$CB$68))","v":""},{"$f":"IF(L85=\"\",\"\",COUNTIFS($N$82:$BU$82,L85,$N$87:$BU$87,$CC$68))","v":""},{"$f":"IF(L85=\"\",\"\",COUNTIFS($N$82:$BU$82,L85,$N$87:$BU$87,$CD$68)+COUNTIFS($N$82:$BU$82,L85,$N$86:$BU$86,$CD$68)+COUNTIFS($N$82:$BU$82,L85,$N$85:$BU$85,$CD$68))","v":""},{"$f":"IF(L85=\"\",\"\",COUNTIFS($N$82:$BU$82,L85,$N$86:$BU$86,$CE$68))","v":""},{"$f":"IF(L85=\"\",\"\",COUNTIFS($N$82:$BU$82,L85,$N$87:$BU$87,$CF$68))","v":""},{"$f":"IF(L85=\"\",\"\",COUNTIFS($N$82:$BU$82,L85,$N$87:$BU$87,$CG$68))","v":""},{"$f":"IF(L85=\"\",\"\",COUNTIFS($N$82:$BU$82,L85,$N$87:$BU$87,$CH$68))","v":""},{"$f":"IF(L85=\"\",\"\",COUNTIFS($N$82:$BU$82,L85,$N$87:$BU$87,$CI$68))","v":""},{"$f":"IF(L85=\"\",\"\",COUNTIFS($N$82:$BU$82,L85,$N$87:$BU$87,$CJ$68))","v":""},{"$f":"IF(L85=\"\",\"\",COUNTIFS($N$82:$BU$82,L85,$N$87:$BU$87,$CK$68)+COUNTIFS($N$82:$BU$82,L85,$N$85:$BU$85,$CK$68))","v":""},{"$f":"IF(L85=\"\",\"\",COUNTIFS($N$82:$BU$82,L85,$N$87:$BU$87,$CL$68)+COUNTIFS($N$82:$BU$82,L85,$N$85:$BU$85,$CL$68))","v":""},{"$f":"IF(L85=\"\",\"\",COUNTIFS($N$82:$BU$82,L85,$N$87:$BU$87,$CM$68))","v":""},{"$f":"IF(L85=\"\",\"\",COUNTIFS($N$82:$BU$82,L85,$N$87:$BU$87,$CN$68))","v":""},{"$f":"IF(L85=\"\",\"\",COUNTIFS($N$82:$BU$82,L85,$N$83:$BU$83,$CO$68)+COUNTIFS($N$82:$BU$82,L85,$N$84:$BU$84,$CO$68))","v":""},null,null,null,null,null,null,null,"",null,null,{"$f":"IF(CX85=\"\",\"\",VLOOKUP(CY85,$C$5:$F$13,4,FALSE))","v":""},null,null,null,null,"","","","","","","","","","","","","","","","","","","","","","",null,{"$f":"IF($E$21=\"\",\"\",$E$21)","v":""},{"$f":"IF(L85=\"\",\"\",L85)","v":""},null,{"$f":"IF(EC85=\"\",\"\",COUNTIFS($N$82:$BU$82,EC85,$N$87:$BU$87,\"RZ\"))","v":""},{"$f":"IF(EC85=\"\",\"\",COUNTIFS($N$82:$BU$82,EC85,$N$86:$BU$86,\"ZH\"))","v":""},null,"左",{"$f":"IF(DF77=\"\",\"\",DF77)","v":""},{"$f":"EJ84","v":""},"","",null,"","",{"$f":"IF(F77=\"\",\"\",F77)","v":""},"左","","","","","","","","","","","","","","","","","","","",null,"","","","","","","","","","","","",null,null,null,null,null,null,null,null,null,null,null,null,null,null,null,null,null,null,null,null,null,null,null,null,null,null,null,null,null,null,null,null,null,null,null,null,null,null,null,null,null,null,null,null,null,null,null,null,null,"","","","","","","",""]
[null,null,3,null,"","",null,null,null,null,null,null,null,null,null,null,null,null,null,null,null,null,null,null,null,null,null,null,null,null,null,null,null,null,null,null,null,null,null,null,null,null,null,null,null,null,null,null,null,null,null,null,null,null,null,null,null,null,null,null,null,null,null,null,null,null,null,null,null,null,null,null,null,"",{"$f":"IF(L86=\"\",\"\",(BX86+CG86+CH86+CI86))","v":""},"",{"$f":"IF(L86=\"\",\"\",COUNTIFS($N$82:$BU$82,L86,$N$87:$BU$87,$BY$68))","v":""},{"$f":"IF(L86=\"\",\"\",COUNTIFS($N$82:$BU$82,L86,$N$87:$BU$87,$BZ$68))","v":""},{"$f":"IF(L86=\"\",\"\",COUNTIFS($N$82:$BU$82,L86,$N$85:$BU$85,$CA$68))","v":""},{"$f":"IF(L86=\"\",\"\",COUNTIFS($N$82:$BU$82,L86,$N$85:$BU$85,$CB$68))","v":""},{"$f":"IF(L86=\"\",\"\",COUNTIFS($N$82:$BU$82,L86,$N$87:$BU$87,$CC$68))","v":""},{"$f":"IF(L86=\"\",\"\",COUNTIFS($N$82:$BU$82,L86,$N$87:$BU$87,$CD$68)+COUNTIFS($N$82:$BU$82,L86,$N$86:$BU$86,$CD$68)+COUNTIFS($N$82:$BU$82,L86,$N$85:$BU$85,$CD$68))","v":""},{"$f":"IF(L86=\"\",\"\",COUNTIFS($N$82:$BU$82,L86,$N$86:$BU$86,$CE$68))","v":""},{"$f":"IF(L86=\"\",\"\",COUNTIFS($N$82:$BU$82,L86,$N$87:$BU$87,$CF$68))","v":""},{"$f":"IF(L86=\"\",\"\",COUNTIFS($N$82:$BU$82,L86,$N$87:$BU$87,$CG$68))","v":""},{"$f":"IF(L86=\"\",\"\",COUNTIFS($N$82:$BU$82,L86,$N$87:$BU$87,$CH$68))","v":""},{"$f":"IF(L86=\"\",\"\",COUNTIFS($N$82:$BU$82,L86,$N$87:$BU$87,$CI$68))","v":""},{"$f":"IF(L86=\"\",\"\",COUNTIFS($N$82:$BU$82,L86,$N$87:$BU$87,$CJ$68))","v":""},{"$f":"IF(L86=\"\",\"\",COUNTIFS($N$82:$BU$82,L86,$N$87:$BU$87,$CK$68)+COUNTIFS($N$82:$BU$82,L86,$N$85:$BU$85,$CK$68))","v":""},{"$f":"IF(L86=\"\",\"\",COUNTIFS($N$82:$BU$82,L86,$N$87:$BU$87,$CL$68)+COUNTIFS($N$82:$BU$82,L86,$N$85:$BU$85,$CL$68))","v":""},{"$f":"IF(L86=\"\",\"\",COUNTIFS($N$82:$BU$82,L86,$N$87:$BU$87,$CM$68))","v":""},{"$f":"IF(L86=\"\",\"\",COUNTIFS($N$82:$BU$82,L86,$N$87:$BU$87,$CN$68))","v":""},{"$f":"IF(L86=\"\",\"\",COUNTIFS($N$82:$BU$82,L86,$N$83:$BU$83,$CO$68)+COUNTIFS($N$82:$BU$82,L86,$N$84:$BU$84,$CO$68))","v":""},null,null,null,null,null,null,null,"",null,null,{"$f":"IF(CX86=\"\",\"\",VLOOKUP(CY86,$C$5:$F$13,4,FALSE))","v":""},null,null,null,null,"","","","","","","","","","","","","","","","","","","","","","",null,{"$f":"IF($E$22=\"\",\"\",$E$22)","v":""},{"$f":"IF(L86=\"\",\"\",L86)","v":""},"",{"$f":"IF(EC86=\"\",\"\",COUNTIFS($N$82:$BU$82,EC86,$N$87:$BU$87,\"RZ\"))","v":""},{"$f":"IF(EC86=\"\",\"\",COUNTIFS($N$82:$BU$82,EC86,$N$86:$BU$86,\"ZH\"))","v":""},null,"右",{"$f":"IF(DF78=\"\",\"\",DF78)","v":""},{"$f":"IF(DG78=\"\",\"\",DG78)","v":""},"","",null,"","",{"$f":"IF(F78=\"\",\"\",F78)","v":""},"右","","","","","","","","","","","","","","","","","","","",null,"","","","","","","","","","","","",null,null,null,null,null,null,null,null,null,null,null,null,null,null,null,null,null,null,null,null,null,null,null,null,null,null,null,null,null,null,null,null,null,null,null,null,null,null,null,null,null,null,null,null,null,null,null,null,null,"","","","","","","",""]
[null,null,4,null,"","",null,null,null,null,null,null,null,null,null,null,null,null,null,null,null,null,null,null,null,null,null,null,null,null,null,null,null,null,null,null,null,null,null,null,null,null,null,null,null,null,null,null,null,null,null,null,null,null,null,null,null,null,null,null,null,null,null,null,null,null,null,null,null,null,null,null,null,"",{"$f":"IF(L87=\"\",\"\",(BX87+CG87+CH87+CI87))","v":""},"",{"$f":"IF(L87=\"\",\"\",COUNTIFS($N$82:$BU$82,L87,$N$87:$BU$87,$BY$68))","v":""},{"$f":"IF(L87=\"\",\"\",COUNTIFS($N$82:$BU$82,L87,$N$87:$BU$87,$BZ$68))","v":""},{"$f":"IF(L87=\"\",\"\",COUNTIFS($N$82:$BU$82,L87,$N$85:$BU$85,$CA$68))","v":""},{"$f":"IF(L87=\"\",\"\",COUNTIFS($N$82:$BU$82,L87,$N$85:$BU$85,$CB$68))","v":""},{"$f":"IF(L87=\"\",\"\",COUNTIFS($N$82:$BU$82,L87,$N$87:$BU$87,$CC$68))","v":""},{"$f":"IF(L87=\"\",\"\",COUNTIFS($N$82:$BU$82,L87,$N$87:$BU$87,$CD$68)+COUNTIFS($N$82:$BU$82,L87,$N$86:$BU$86,$CD$68)+COUNTIFS($N$82:$BU$82,L87,$N$85:$BU$85,$CD$68))","v":""},{"$f":"IF(L87=\"\",\"\",COUNTIFS($N$82:$BU$82,L87,$N$86:$BU$86,$CE$68))","v":""},{"$f":"IF(L87=\"\",\"\",COUNTIFS($N$82:$BU$82,L87,$N$87:$BU$87,$CF$68))","v":""},{"$f":"IF(L87=\"\",\"\",COUNTIFS($N$82:$BU$82,L87,$N$87:$BU$87,$CG$68))","v":""},{"$f":"IF(L87=\"\",\"\",COUNTIFS($N$82:$BU$82,L87,$N$87:$BU$87,$CH$68))","v":""},{"$f":"IF(L87=\"\",\"\",COUNTIFS($N$82:$BU$82,L87,$N$87:$BU$87,$CI$68))","v":""},{"$f":"IF(L87=\"\",\"\",COUNTIFS($N$82:$BU$82,L87,$N$87:$BU$87,$CJ$68))","v":""},{"$f":"IF(L87=\"\",\"\",COUNTIFS($N$82:$BU$82,L87,$N$87:$BU$87,$CK$68)+COUNTIFS($N$82:$BU$82,L87,$N$85:$BU$85,$CK$68))","v":""},{"$f":"IF(L87=\"\",\"\",COUNTIFS($N$82:$BU$82,L87,$N$87:$BU$87,$CL$68)+COUNTIFS($N$82:$BU$82,L87,$N$85:$BU$85,$CL$68))","v":""},{"$f":"IF(L87=\"\",\"\",COUNTIFS($N$82:$BU$82,L87,$N$87:$BU$87,$CM$68))","v":""},{"$f":"IF(L87=\"\",\"\",COUNTIFS($N$82:$BU$82,L87,$N$87:$BU$87,$CN$68))","v":""},{"$f":"IF(L87=\"\",\"\",COUNTIFS($N$82:$BU$82,L87,$N$83:$BU$83,$CO$68)+COUNTIFS($N$82:$BU$82,L87,$N$84:$BU$84,$CO$68))","v":""},null,null,null,null,null,null,null,"",null,null,{"$f":"IF(CX87=\"\",\"\",VLOOKUP(CY87,$C$5:$F$13,4,FALSE))","v":""},null,null,null,null,"","","","","","","","","","","","","","","","","","","","",{"$f":"IF(DF87=\"\",\"\",SUMIFS($CN$71:$CN$123,$J$71:$J$123,DF87))","v":""},"",null,{"$f":"IF($E$23=\"\",\"\",$E$23)","v":""},{"$f":"IF(L87=\"\",\"\",L87)","v":""},"",{"$f":"IF(EC87=\"\",\"\",COUNTIFS($N$82:$BU$82,EC87,$N$87:$BU$87,\"RZ\"))","v":""},{"$f":"IF(EC87=\"\",\"\",COUNTIFS($N$82:$BU$82,EC87,$N$86:$BU$86,\"ZH\"))","v":""},null,"左",{"$f":"IF(DF78=\"\",\"\",DF78)","v":""},{"$f":"EJ86","v":""},"","",null,"","",{"$f":"IF(F78=\"\",\"\",F78)","v":""},"左","","","","","","","","","","","","","","","","","","","",null,"",{"$f":"IF(DF87=\"\",\"\",DF87)","v":""},"","","","","","","","","","",null,null,null,null,null,null,null,null,null,null,null,null,null,null,null,null,null,null,null,null,null,null,null,null,null,null,null,null,null,null,null,null,null,null,null,null,null,null,null,null,null,null,null,null,null,null,null,null,null,"","","","","","","",""]
[null,null,5,null,"","",null,null,null,null,null,null,"打者背番号を入力➡",null,{"$f":"N88","v":0},{"$f":"N88","v":0},{"$f":"N88","v":0},{"$f":"N88","v":0},null,{"$f":"S88","v":0},{"$f":"S88","v":0},{"$f":"S88","v":0},{"$f":"S88","v":0},null,{"$f":"X88","v":0},{"$f":"X88","v":0},{"$f":"X88","v":0},{"$f":"X88","v":0},null,{"$f":"AC88","v":0},{"$f":"AC88","v":0},{"$f":"AC88","v":0},{"$f":"AC88","v":0},null,{"$f":"AH88","v":0},{"$f":"AH88","v":0},{"$f":"AH88","v":0},{"$f":"AH88","v":0},null,{"$f":"AM88","v":0},{"$f":"AM88","v":0},{"$f":"AM88","v":0},{"$f":"AM88","v":0},null,{"$f":"AR88","v":0},{"$f":"AR88","v":0},{"$f":"AR88","v":0},{"$f":"AR88","v":0},null,{"$f":"AW88","v":0},{"$f":"AW88","v":0},{"$f":"AW88","v":0},{"$f":"AW88","v":0},null,{"$f":"BB88","v":0},{"$f":"BB88","v":0},{"$f":"BB88","v":0},{"$f":"BB88","v":0},null,{"$f":"BG88","v":0},{"$f":"BG88","v":0},{"$f":"BG88","v":0},{"$f":"BG88","v":0},null,{"$f":"BL88","v":0},{"$f":"BL88","v":0},{"$f":"BL88","v":0},{"$f":"BL88","v":0},null,{"$f":"BQ88","v":0},{"$f":"BQ88","v":0},{"$f":"BQ88","v":0},{"$f":"BQ88","v":0},null,null,null,null,null,null,null,null,null,null,null,null,null,null,null,null,null,null,null,null,null,null,null,null,null,null,null,null,null,null,null,null,null,null,null,null,null,null,null,null,null,null,null,null,null,null,null,null,null,null,null,null,null,null,null,null,null,null,null,null,null,null,null,null,"右",null,{"$f":"IF(DG79=\"\",\"\",DG79)","v":""},"","",null,"","",{"$f":"IF(G70=\"\",\"\",G70)","v":""},"右","","","","","","","","","","","","","","","","","","","",null,null,null,null,null,null,null,null,null,null,null,null,null,null,null,null,null,null,null,null,null,null,null,null,null,null,null,null,null,null,null,null,null,null,null,null,null,null,null,null,null,null,null,null,null,null,null,null,null,null,null,null,null,null,null,null,null,null,null,null,null,null,null,""]
[null,null,6,null,"","",null,null,{"$f":"IF(C73=\"\",\"\",C73)","v":""},{"$f":"IF(D73=\"\",\"\",D73)","v":""},{"$f":"IF(J89=\"\",\"\",\"先\")","v":""},{"$f":"IF(J89=\"\",\"\",F73)","v":""},"④",null,null,null,null,null,null,null,null,null,null,null,null,null,null,null,null,null,null,null,null,null,null,null,null,null,null,null,null,null,null,null,null,null,null,null,null,null,null,null,null,null,null,null,null,null,null,null,null,null,null,null,null,null,null,null,null,null,null,null,null,{"$f":"IF(K89=\"\",\"\",VLOOKUP(K89,$C$19:$E$25,3,FALSE))","v":""},{"$f":"IF(L89=\"\",\"\",(BX89+CG89+CH89+CI89))","v":""},"",{"$f":"IF(L89=\"\",\"\",COUNTIFS($N$88:$BU$88,L89,$N$93:$BU$93,$BY$68))","v":""},{"$f":"IF(L89=\"\",\"\",COUNTIFS($N$88:$BU$88,L89,$N$93:$BU$93,$BZ$68))","v":""},{"$f":"IF(L89=\"\",\"\",COUNTIFS($N$88:$BU$88,L89,$N$91:$BU$91,$CA$68))","v":""},{"$f":"IF(L89=\"\",\"\",COUNTIFS($N$88:$BU$88,L89,$N$91:$BU$91,$CB$68))","v":""},{"$f":"IF(L89=\"\",\"\",COUNTIFS($N$88:$BU$88,L89,$N$93:$BU$93,$CC$68))","v":""},{"$f":"IF(L89=\"\",\"\",COUNTIFS($N$88:$BU$88,L89,$N$93:$BU$93,$CD$68)+COUNTIFS($N$88:$BU$88,L89,$N$92:$BU$92,$CD$68)+COUNTIFS($N$88:$BU$88,L89,$N$91:$BU$91,$CD$68))","v":""},{"$f":"IF(L89=\"\",\"\",COUNTIFS($N$88:$BU$88,L89,$N$92:$BU$92,$CE$68))","v":""},{"$f":"IF(L89=\"\",\"\",COUNTIFS($N$88:$BU$88,L89,$N$93:$BU$93,$CF$68))","v":""},{"$f":"IF(L89=\"\",\"\",COUNTIFS($N$88:$BU$88,L89,$N$93:$BU$93,$CG$68))","v":""},{"$f":"IF(L89=\"\",\"\",COUNTIFS($N$88:$BU$88,L89,$N$93:$BU$93,$CH$68))","v":""},{"$f":"IF(L89=\"\",\"\",COUNTIFS($N$88:$BU$88,L89,$N$93:$BU$93,$CI$68))","v":""},{"$f":"IF(L89=\"\",\"\",COUNTIFS($N$88:$BU$88,L89,$N$93:$BU$93,$CJ$68))","v":""},{"$f":"IF(L89=\"\",\"\",COUNTIFS($N$88:$BU$88,L89,$N$93:$BU$93,$CK$68)+COUNTIFS($N$88:$BU$88,L89,$N$91:$BU$91,$CK$68))","v":""},{"$f":"IF(L89=\"\",\"\",COUNTIFS($N$88:$BU$88,L89,$N$93:$BU$93,$CL$68)+COUNTIFS($N$88:$BU$88,L89,$N$91:$BU$91,$CL$68))","v":""},{"$f":"IF(L89=\"\",\"\",COUNTIFS($N$88:$BU$88,L89,$N$93:$BU$93,$CM$68))","v":""},{"$f":"IF(L89=\"\",\"\",COUNTIFS($N$88:$BU$88,L89,$N$93:$BU$93,$CN$68))","v":""},{"$f":"IF(L89=\"\",\"\",COUNTIFS($N$88:$BU$88,L89,$N$89:$BU$89,$CO$68)+COUNTIFS($N$88:$BU$88,L89,$N$90:$BU$90,$CO$68))","v":""},null,null,null,null,null,null,null,{"$f":"IF(DA89=\"\",\"\",VLOOKUP(DA89,$C$19:$E$24,3,FALSE))","v":""},null,null,{"$f":"IF(CX89=\"\",\"\",VLOOKUP(CY89,$C$5:$F$13,4,FALSE))","v":""},null,null,null,null,{"$f":"IF(V67=\"\",\"\",V67)","v":""},{"$f":"IF(O67=\"\",\"\",O67)","v":""},null,{"$f":"IF($DF$89=\"\",\"\",SUM(DH70:DH87))","v":""},{"$f":"IF($DF$89=\"\",\"\",SUM(DI70:DI87))","v":""},"","","","","","","","","","","","","","","",{"$f":"IF($DF$89=\"\",\"\",SUM(DY5:DY22))","v":""},"",{"$f":"IF(V2=\"\",\"\",V2)","v":""},{"$f":"IF($E$19=\"\",\"\",$E$19)","v":""},{"$f":"IF(L89=\"\",\"\",L89)","v":""},{"$f":"IF(EC89=\"\",\"\",VLOOKUP(EC89,$C$94:$D$123,2,FALSE))","v":""},{"$f":"IF(EC89=\"\",\"\",COUNTIFS($N$88:$BU$88,EC89,$N$93:$BU$93,\"RZ\"))","v":""},{"$f":"IF(EC89=\"\",\"\",COUNTIFS($N$88:$BU$88,EC89,$N$92:$BU$92,\"ZH\"))","v":""},null,"左",{"$f":"IF(DF79=\"\",\"\",DF79)","v":""},{"$f":"EJ88","v":""},"","",null,"","",{"$f":"IF(G70=\"\",\"\",G70)","v":""},"左","","","","","","","","","","","","","","","","","","","",null,{"$f":"IF(FM70=\"\",\"\",$V$67)","v":""},"T計",null,{"$f":"IF($FN$5=\"\",\"\",SUM(FO70:FO87))","v":""},{"$f":"IF($FN$5=\"\",\"\",SUM(FP70:FP87))","v":""},"","","","","","",{"$f":"IF($FN$5=\"\",\"\",SUM(FW70:FW87))","v":""},null,null,null,null,null,null,null,null,null,null,null,null,null,null,null,null,null,null,null,null,null,null,null,null,null,null,null,null,null,null,null,null,null,null,null,null,null,null,null,null,null,null,null,null,null,null,null,null,null,"","",{"$f":"IF(HU89=\"\",\"\",COUNTIFS($N88:$BU88,HV89,$N$89:$BU$89,$HW$68)+COUNTIFS($N$88:$BU$88,HV89,$N$90:$BU$90,$HW$68))","v":""},{"$f":"IF(HU89=\"\",\"\",COUNTIFS($N$88:$BU$88,HV89,$N$89:$BU$89,$HX$68)+COUNTIFS($N$88:$BU$88,HV89,$N$90:$BU$90,$HX$68))","v":""},{"$f":"IF(HU89=\"\",\"\",COUNTIFS($N$88:$BU$88,HV89,$N$89:$BU$89,$HY$68)+COUNTIFS($N$88:$BU$88,HV89,$N$90:$BU$90,$HY$68))","v":""},{"$f":"IF(HU89=\"\",\"\",COUNTIFS($N$88:$BU$88,HV89,$N$89:$BU$89,$HZ$68)+COUNTIFS($N$88:$BU$88,HV89,$N$90:$BU$90,$HZ$68))","v":""},{"$f":"IF(HU89=\"\",\"\",COUNTIFS($N$88:$BU$88,HV89,$N$89:$BU$89,$IA$68)+COUNTIFS($N$88:$BU$88,HV89,$N$90:$BU$90,$IA$68))","v":""},{"$f":"IF(HU89=\"\",\"\",COUNTIFS($N$88:$BU$88,HV89,$N$89:$BU$89,$IB$68)+COUNTIFS($N$88:$BU$88,HV89,$N$90:$BU$90,$IB$68))","v":""}]
[null,null,7,null,"","",null,null,null,null,null,null,null,null,null,null,null,null,null,null,null,null,null,null,null,null,null,null,null,null,null,null,null,null,null,null,null,null,null,null,null,null,null,null,null,null,null,null,null,null,null,null,null,null,null,null,null,null,null,null,null,null,null,null,null,null,null,null,null,null,null,null,null,{"$f":"IF(K90=\"\",\"\",VLOOKUP(K90,$C$19:$E$25,3,FALSE))","v":""},{"$f":"IF(L90=\"\",\"\",(BX90+CG90+CH90+CI90))","v":""},"",{"$f":"IF(L90=\"\",\"\",COUNTIFS($N$88:$BU$88,L90,$N$93:$BU$93,$BY$68))","v":""},{"$f":"IF(L90=\"\",\"\",COUNTIFS($N$88:$BU$88,L90,$N$93:$BU$93,$BZ$68))","v":""},{"$f":"IF(L90=\"\",\"\",COUNTIFS($N$88:$BU$88,L90,$N$91:$BU$91,$CA$68))","v":""},{"$f":"IF(L90=\"\",\"\",COUNTIFS($N$88:$BU$88,L90,$N$91:$BU$91,$CB$68))","v":""},{"$f":"IF(L90=\"\",\"\",COUNTIFS($N$88:$BU$88,L90,$N$93:$BU$93,$CC$68))","v":""},{"$f":"IF(L90=\"\",\"\",COUNTIFS($N$88:$BU$88,L90,$N$93:$BU$93,$CD$68)+COUNTIFS($N$88:$BU$88,L90,$N$92:$BU$92,$CD$68)+COUNTIFS($N$88:$BU$88,L90,$N$91:$BU$91,$CD$68))","v":""},{"$f":"IF(L90=\"\",\"\",COUNTIFS($N$88:$BU$88,L90,$N$92:$BU$92,$CE$68))","v":""},{"$f":"IF(L90=\"\",\"\",COUNTIFS($N$88:$BU$88,L90,$N$93:$BU$93,$CF$68))","v":""},{"$f":"IF(L90=\"\",\"\",COUNTIFS($N$88:$BU$88,L90,$N$93:$BU$93,$CG$68))","v":""},{"$f":"IF(L90=\"\",\"\",COUNTIFS($N$88:$BU$88,L90,$N$93:$BU$93,$CH$68))","v":""},{"$f":"IF(L90=\"\",\"\",COUNTIFS($N$88:$BU$88,L90,$N$93:$BU$93,$CI$68))","v":""},{"$f":"IF(L90=\"\",\"\",COUNTIFS($N$88:$BU$88,L90,$N$93:$BU$93,$CJ$68))","v":""},{"$f":"IF(L90=\"\",\"\",COUNTIFS($N$88:$BU$88,L90,$N$93:$BU$93,$CK$68)+COUNTIFS($N$88:$BU$88,L90,$N$91:$BU$91,$CK$68))","v":""},{"$f":"IF(L90=\"\",\"\",COUNTIFS($N$88:$BU$88,L90,$N$93:$BU$93,$CL$68)+COUNTIFS($N$88:$BU$88,L90,$N$91:$BU$91,$CL$68))","v":""},{"$f":"IF(L90=\"\",\"\",COUNTIFS($N$88:$BU$88,L90,$N$93:$BU$93,$CM$68))","v":""},{"$f":"IF(L90=\"\",\"\",COUNTIFS($N$88:$BU$88,L90,$N$93:$BU$93,$CN$68))","v":""},{"$f":"IF(L90=\"\",\"\",COUNTIFS($N$88:$BU$88,L90,$N$89:$BU$89,$CO$68)+COUNTIFS($N$88:$BU$88,L90,$N$90:$BU$90,$CO$68))","v":""},null,null,null,null,null,null,null,"",null,null,{"$f":"IF(CX90=\"\",\"\",VLOOKUP(CY90,$C$5:$F$13,4,FALSE))","v":""},null,null,null,null,null,null,null,null,null,null,null,null,null,null,null,null,null,null,null,null,null,null,null,null,null,null,null,{"$f":"IF($E$20=\"\",\"\",$E$20)","v":""},{"$f":"IF(L90=\"\",\"\",L90)","v":""},null,{"$f":"IF(EC90=\"\",\"\",COUNTIFS($N$88:$BU$88,EC90,$N$93:$BU$93,\"RZ\"))","v":""},{"$f":"IF(EC90=\"\",\"\",COUNTIFS($N$88:$BU$88,EC90,$N$92:$BU$92,\"ZH\"))","v":""},null,"右",{"$f":"IF(DF80=\"\",\"\",DF80)","v":""},{"$f":"IF(DG80=\"\",\"\",DG80)","v":""},"","",null,"","",{"$f":"IF(G71=\"\",\"\",G71)","v":""},"右","","","","","","","","","","","","","","","","","","","",null,null,null,null,{"$f":"SUM(FO89:FQ89)","v":0},null,null,{"$f":"SUM(FR89:FT89)","v":0},null,null,{"$f":"SUM(FU89:FW89)","v":0},null,null,null,null,null,null,null,null,null,null,null,null,null,null,null,null,null,null,null,null,null,null,null,null,null,null,null,null,null,null,null,null,null,null,null,null,null,null,null,null,null,null,null,null,null,null,null,null,null,null,null,"","",{"$f":"IF(HU90=\"\",\"\",COUNTIFS($N89:$BU89,HV90,$N$89:$BU$89,$HW$68)+COUNTIFS($N$88:$BU$88,HV90,$N$90:$BU$90,$HW$68))","v":""},{"$f":"IF(HU90=\"\",\"\",COUNTIFS($N$88:$BU$88,HV90,$N$89:$BU$89,$HX$68)+COUNTIFS($N$88:$BU$88,HV90,$N$90:$BU$90,$HX$68))","v":""},{"$f":"IF(HU90=\"\",\"\",COUNTIFS($N$88:$BU$88,HV90,$N$89:$BU$89,$HY$68)+COUNTIFS($N$88:$BU$88,HV90,$N$90:$BU$90,$HY$68))","v":""},{"$f":"IF(HU90=\"\",\"\",COUNTIFS($N$88:$BU$88,HV90,$N$89:$BU$89,$HZ$68)+COUNTIFS($N$88:$BU$88,HV90,$N$90:$BU$90,$HZ$68))","v":""},{"$f":"IF(HU90=\"\",\"\",COUNTIFS($N$88:$BU$88,HV90,$N$89:$BU$89,$IA$68)+COUNTIFS($N$88:$BU$88,HV90,$N$90:$BU$90,$IA$68))","v":""},{"$f":"IF(HU90=\"\",\"\",COUNTIFS($N$88:$BU$88,HV90,$N$89:$BU$89,$IB$68)+COUNTIFS($N$88:$BU$88,HV90,$N$90:$BU$90,$IB$68))","v":""}]
[null,null,null,"チーム登録選手",null,null,null,null,null,null,null,null,null,null,null,null,null,null,null,null,null,null,null,null,null,null,null,null,null,null,null,null,null,null,null,null,null,null,null,null,null,null,null,null,null,null,null,null,null,null,null,null,null,null,null,null,null,null,null,null,null,null,null,null,null,null,null,null,null,null,null,null,null,"",{"$f":"IF(L91=\"\",\"\",(BX91+CG91+CH91+CI91))","v":""},"",{"$f":"IF(L91=\"\",\"\",COUNTIFS($N$88:$BU$88,L91,$N$93:$BU$93,$BY$68))","v":""},{"$f":"IF(L91=\"\",\"\",COUNTIFS($N$88:$BU$88,L91,$N$93:$BU$93,$BZ$68))","v":""},{"$f":"IF(L91=\"\",\"\",COUNTIFS($N$88:$BU$88,L91,$N$91:$BU$91,$CA$68))","v":""},{"$f":"IF(L91=\"\",\"\",COUNTIFS($N$88:$BU$88,L91,$N$91:$BU$91,$CB$68))","v":""},{"$f":"IF(L91=\"\",\"\",COUNTIFS($N$88:$BU$88,L91,$N$93:$BU$93,$CC$68))","v":""},{"$f":"IF(L91=\"\",\"\",COUNTIFS($N$88:$BU$88,L91,$N$93:$BU$93,$CD$68)+COUNTIFS($N$88:$BU$88,L91,$N$92:$BU$92,$CD$68)+COUNTIFS($N$88:$BU$88,L91,$N$91:$BU$91,$CD$68))","v":""},{"$f":"IF(L91=\"\",\"\",COUNTIFS($N$88:$BU$88,L91,$N$92:$BU$92,$CE$68))","v":""},{"$f":"IF(L91=\"\",\"\",COUNTIFS($N$88:$BU$88,L91,$N$93:$BU$93,$CF$68))","v":""},{"$f":"IF(L91=\"\",\"\",COUNTIFS($N$88:$BU$88,L91,$N$93:$BU$93,$CG$68))","v":""},{"$f":"IF(L91=\"\",\"\",COUNTIFS($N$88:$BU$88,L91,$N$93:$BU$93,$CH$68))","v":""},{"$f":"IF(L91=\"\",\"\",COUNTIFS($N$88:$BU$88,L91,$N$93:$BU$93,$CI$68))","v":""},{"$f":"IF(L91=\"\",\"\",COUNTIFS($N$88:$BU$88,L91,$N$93:$BU$93,$CJ$68))","v":""},{"$f":"IF(L91=\"\",\"\",COUNTIFS($N$88:$BU$88,L91,$N$93:$BU$93,$CK$68)+COUNTIFS($N$88:$BU$88,L91,$N$91:$BU$91,$CK$68))","v":""},{"$f":"IF(L91=\"\",\"\",COUNTIFS($N$88:$BU$88,L91,$N$93:$BU$93,$CL$68)+COUNTIFS($N$88:$BU$88,L91,$N$91:$BU$91,$CL$68))","v":""},{"$f":"IF(L91=\"\",\"\",COUNTIFS($N$88:$BU$88,L91,$N$93:$BU$93,$CM$68))","v":""},{"$f":"IF(L91=\"\",\"\",COUNTIFS($N$88:$BU$88,L91,$N$93:$BU$93,$CN$68))","v":""},{"$f":"IF(L91=\"\",\"\",COUNTIFS($N$88:$BU$88,L91,$N$89:$BU$89,$CO$68)+COUNTIFS($N$88:$BU$88,L91,$N$90:$BU$90,$CO$68))","v":""},null,null,null,null,null,null,null,"",null,null,{"$f":"IF(CX91=\"\",\"\",VLOOKUP(CY91,$C$5:$F$13,4,FALSE))","v":""},null,null,null,null,null,null,null,null,null,null,null,null,null,null,null,null,null,null,null,null,null,null,null,null,null,null,null,{"$f":"IF($E$21=\"\",\"\",$E$21)","v":""},{"$f":"IF(L91=\"\",\"\",L91)","v":""},null,{"$f":"IF(EC91=\"\",\"\",COUNTIFS($N$88:$BU$88,EC91,$N$93:$BU$93,\"RZ\"))","v":""},{"$f":"IF(EC91=\"\",\"\",COUNTIFS($N$88:$BU$88,EC91,$N$92:$BU$92,\"ZH\"))","v":""},null,"左",{"$f":"IF(DF80=\"\",\"\",DF80)","v":""},{"$f":"EJ90","v":""},"","",null,"","",{"$f":"IF(G71=\"\",\"\",G71)","v":""},"左","","","","","","","","","","","","","","","","","","","",null,null,null,null,null,null,null,null,null,null,null,null,null,null,null,null,null,null,null,null,null,null,null,null,null,null,null,null,null,null,null,null,null,null,null,null,null,null,null,null,null,null,null,null,null,null,null,null,null,null,null,null,null,null,null,null,null,null,null,null,null,null,"","","","","","",{"$f":"IF(HU91=\"\",\"\",COUNTIFS($N$88:$BU$88,HV91,$N$89:$BU$89,$IA$68)+COUNTIFS($N$88:$BU$88,HV91,$N$90:$BU$90,$IA$68))","v":""},""]
[null,null,"*","選手名","PS","背番",null,null,null,null,null,null,null,null,null,null,null,null,null,null,null,null,null,null,null,null,null,null,null,null,null,null,null,null,null,null,null,null,null,null,null,null,null,null,null,null,null,null,null,null,null,null,null,null,null,null,null,null,null,null,null,null,null,null,null,null,null,null,null,null,null,null,null,"",{"$f":"IF(L92=\"\",\"\",(BX92+CG92+CH92+CI92))","v":""},"",{"$f":"IF(L92=\"\",\"\",COUNTIFS($N$88:$BU$88,L92,$N$93:$BU$93,$BY$68))","v":""},{"$f":"IF(L92=\"\",\"\",COUNTIFS($N$88:$BU$88,L92,$N$93:$BU$93,$BZ$68))","v":""},{"$f":"IF(L92=\"\",\"\",COUNTIFS($N$88:$BU$88,L92,$N$91:$BU$91,$CA$68))","v":""},{"$f":"IF(L92=\"\",\"\",COUNTIFS($N$88:$BU$88,L92,$N$91:$BU$91,$CB$68))","v":""},{"$f":"IF(L92=\"\",\"\",COUNTIFS($N$88:$BU$88,L92,$N$93:$BU$93,$CC$68))","v":""},{"$f":"IF(L92=\"\",\"\",COUNTIFS($N$88:$BU$88,L92,$N$93:$BU$93,$CD$68)+COUNTIFS($N$88:$BU$88,L92,$N$92:$BU$92,$CD$68)+COUNTIFS($N$88:$BU$88,L92,$N$91:$BU$91,$CD$68))","v":""},{"$f":"IF(L92=\"\",\"\",COUNTIFS($N$88:$BU$88,L92,$N$92:$BU$92,$CE$68))","v":""},{"$f":"IF(L92=\"\",\"\",COUNTIFS($N$88:$BU$88,L92,$N$93:$BU$93,$CF$68))","v":""},{"$f":"IF(L92=\"\",\"\",COUNTIFS($N$88:$BU$88,L92,$N$93:$BU$93,$CG$68))","v":""},{"$f":"IF(L92=\"\",\"\",COUNTIFS($N$88:$BU$88,L92,$N$93:$BU$93,$CH$68))","v":""},{"$f":"IF(L92=\"\",\"\",COUNTIFS($N$88:$BU$88,L92,$N$93:$BU$93,$CI$68))","v":""},{"$f":"IF(L92=\"\",\"\",COUNTIFS($N$88:$BU$88,L92,$N$93:$BU$93,$CJ$68))","v":""},{"$f":"IF(L92=\"\",\"\",COUNTIFS($N$88:$BU$88,L92,$N$93:$BU$93,$CK$68)+COUNTIFS($N$88:$BU$88,L92,$N$91:$BU$91,$CK$68))","v":""},{"$f":"IF(L92=\"\",\"\",COUNTIFS($N$88:$BU$88,L92,$N$93:$BU$93,$CL$68)+COUNTIFS($N$88:$BU$88,L92,$N$91:$BU$91,$CL$68))","v":""},{"$f":"IF(L92=\"\",\"\",COUNTIFS($N$88:$BU$88,L92,$N$93:$BU$93,$CM$68))","v":""},{"$f":"IF(L92=\"\",\"\",COUNTIFS($N$88:$BU$88,L92,$N$93:$BU$93,$CN$68))","v":""},{"$f":"IF(L92=\"\",\"\",COUNTIFS($N$88:$BU$88,L92,$N$89:$BU$89,$CO$68)+COUNTIFS($N$88:$BU$88,L92,$N$90:$BU$90,$CO$68))","v":""},null,null,null,null,null,null,null,"",null,null,{"$f":"IF(CX92=\"\",\"\",VLOOKUP(CY92,$C$5:$F$13,4,FALSE))","v":""},null,null,null,null,null,null,null,null,null,null,null,null,null,null,null,null,null,null,null,null,null,null,null,null,null,null,null,{"$f":"IF($E$22=\"\",\"\",$E$22)","v":""},{"$f":"IF(L92=\"\",\"\",L92)","v":""},"",{"$f":"IF(EC92=\"\",\"\",COUNTIFS($N$88:$BU$88,EC92,$N$93:$BU$93,\"RZ\"))","v":""},{"$f":"IF(EC92=\"\",\"\",COUNTIFS($N$88:$BU$88,EC92,$N$92:$BU$92,\"ZH\"))","v":""},null,"右",{"$f":"IF(DF81=\"\",\"\",DF81)","v":""},{"$f":"IF(DG81=\"\",\"\",DG81)","v":""},"","",null,"","",{"$f":"IF(G72=\"\",\"\",G72)","v":""},"右","","","","","","","","","","","","","","","","","","","",null,null,null,null,null,null,null,null,null,null,null,null,null,null,null,null,null,null,null,null,null,null,null,null,null,null,null,null,null,null,null,null,null,null,null,null,null,null,null,null,null,null,null,null,null,null,null,null,null,null,null,null,null,null,null,null,null,null,null,null,null,null,"","","","","","","",""]
[null,null,null,null,null,null,null,null,null,{"$f":"IF(L93=\"\",\"\",VLOOKUP(L93,$C$94:$D$123,2,FALSE))","v":""},null,null,null,null,null,null,null,null,null,null,null,null,null,null,null,null,null,null,null,null,null,null,null,null,null,null,null,null,null,null,null,null,null,null,null,null,null,null,null,null,null,null,null,null,null,null,null,null,null,null,null,null,null,null,null,null,null,null,null,null,null,null,null,"",{"$f":"IF(L93=\"\",\"\",(BX93+CG93+CH93+CI93))","v":""},"",{"$f":"IF(L93=\"\",\"\",COUNTIFS($N$88:$BU$88,L93,$N$93:$BU$93,$BY$68))","v":""},{"$f":"IF(L93=\"\",\"\",COUNTIFS($N$88:$BU$88,L93,$N$93:$BU$93,$BZ$68))","v":""},{"$f":"IF(L93=\"\",\"\",COUNTIFS($N$88:$BU$88,L93,$N$91:$BU$91,$CA$68))","v":""},{"$f":"IF(L93=\"\",\"\",COUNTIFS($N$88:$BU$88,L93,$N$91:$BU$91,$CB$68))","v":""},{"$f":"IF(L93=\"\",\"\",COUNTIFS($N$88:$BU$88,L93,$N$93:$BU$93,$CC$68))","v":""},{"$f":"IF(L93=\"\",\"\",COUNTIFS($N$88:$BU$88,L93,$N$93:$BU$93,$CD$68)+COUNTIFS($N$88:$BU$88,L93,$N$92:$BU$92,$CD$68)+COUNTIFS($N$88:$BU$88,L93,$N$91:$BU$91,$CD$68))","v":""},{"$f":"IF(L93=\"\",\"\",COUNTIFS($N$88:$BU$88,L93,$N$92:$BU$92,$CE$68))","v":""},{"$f":"IF(L93=\"\",\"\",COUNTIFS($N$88:$BU$88,L93,$N$93:$BU$93,$CF$68))","v":""},{"$f":"IF(L93=\"\",\"\",COUNTIFS($N$88:$BU$88,L93,$N$93:$BU$93,$CG$68))","v":""},{"$f":"IF(L93=\"\",\"\",COUNTIFS($N$88:$BU$88,L93,$N$93:$BU$93,$CH$68))","v":""},{"$f":"IF(L93=\"\",\"\",COUNTIFS($N$88:$BU$88,L93,$N$93:$BU$93,$CI$68))","v":""},{"$f":"IF(L93=\"\",\"\",COUNTIFS($N$88:$BU$88,L93,$N$93:$BU$93,$CJ$68))","v":""},{"$f":"IF(L93=\"\",\"\",COUNTIFS($N$88:$BU$88,L93,$N$93:$BU$93,$CK$68)+COUNTIFS($N$88:$BU$88,L93,$N$91:$BU$91,$CK$68))","v":""},{"$f":"IF(L93=\"\",\"\",COUNTIFS($N$88:$BU$88,L93,$N$93:$BU$93,$CL$68)+COUNTIFS($N$88:$BU$88,L93,$N$91:$BU$91,$CL$68))","v":""},{"$f":"IF(L93=\"\",\"\",COUNTIFS($N$88:$BU$88,L93,$N$93:$BU$93,$CM$68))","v":""},{"$f":"IF(L93=\"\",\"\",COUNTIFS($N$88:$BU$88,L93,$N$93:$BU$93,$CN$68))","v":""},{"$f":"IF(L93=\"\",\"\",COUNTIFS($N$88:$BU$88,L93,$N$89:$BU$89,$CO$68)+COUNTIFS($N$88:$BU$88,L93,$N$90:$BU$90,$CO$68))","v":""},null,null,null,null,null,null,null,"",null,null,{"$f":"IF(CX93=\"\",\"\",VLOOKUP(CY93,$C$5:$F$13,4,FALSE))","v":""},null,null,null,null,null,null,null,null,null,null,null,null,null,null,null,null,null,null,null,null,null,null,null,null,null,null,null,{"$f":"IF($E$23=\"\",\"\",$E$23)","v":""},{"$f":"IF(L93=\"\",\"\",L93)","v":""},"",{"$f":"IF(EC93=\"\",\"\",COUNTIFS($N$88:$BU$88,EC93,$N$93:$BU$93,\"RZ\"))","v":""},{"$f":"IF(EC93=\"\",\"\",COUNTIFS($N$88:$BU$88,EC93,$N$92:$BU$92,\"ZH\"))","v":""},null,"左",{"$f":"IF(DF81=\"\",\"\",DF81)","v":""},{"$f":"EJ92","v":""},"","",null,"","",{"$f":"IF(G72=\"\",\"\",G72)","v":""},"左","","","","","","","","","","","","","","","","","","","",null,null,null,null,null,null,null,null,null,null,null,null,null,null,null,null,null,null,null,null,null,null,null,null,null,null,null,null,null,null,null,null,null,null,null,null,null,null,null,null,null,null,null,null,null,null,null,null,null,null,null,null,null,null,null,null,null,null,null,null,null,null,"","","","","","","",""]
[null,null,{"$f":"F94","v":0},null,null,null,null,null,null,null,null,null,"打者背番号を入力➡",null,{"$f":"N94","v":0},{"$f":"N94","v":0},{"$f":"N94","v":0},{"$f":"N94","v":0},null,{"$f":"S94","v":0},{"$f":"S94","v":0},{"$f":"S94","v":0},{"$f":"S94","v":0},null,{"$f":"X94","v":0},{"$f":"X94","v":0},{"$f":"X94","v":0},{"$f":"X94","v":0},null,{"$f":"AC94","v":0},{"$f":"AC94","v":0},{"$f":"AC94","v":0},{"$f":"AC94","v":0},null,{"$f":"AH94","v":0},{"$f":"AH94","v":0},{"$f":"AH94","v":0},{"$f":"AH94","v":0},null,{"$f":"AM94","v":0},{"$f":"AM94","v":0},{"$f":"AM94","v":0},{"$f":"AM94","v":0},null,{"$f":"AR94","v":0},{"$f":"AR94","v":0},{"$f":"AR94","v":0},{"$f":"AR94","v":0},null,{"$f":"AW94","v":0},{"$f":"AW94","v":0},{"$f":"AW94","v":0},{"$f":"AW94","v":0},null,{"$f":"BB94","v":0},{"$f":"BB94","v":0},{"$f":"BB94","v":0},{"$f":"BB94","v":0},null,{"$f":"BG94","v":0},{"$f":"BG94","v":0},{"$f":"BG94","v":0},{"$f":"BG94","v":0},null,{"$f":"BL94","v":0},{"$f":"BL94","v":0},{"$f":"BL94","v":0},{"$f":"BL94","v":0},null,{"$f":"BQ94","v":0},{"$f":"BQ94","v":0},{"$f":"BQ94","v":0},{"$f":"BQ94","v":0},null,null,null,null,null,null,null,null,null,null,null,null,null,null,null,null,null,null,null,null,null,null,null,null,null,null,null,null,null,null,null,null,null,null,null,null,null,null,null,null,null,null,null,null,null,null,null,null,null,null,null,null,null,null,null,null,null,null,null,null,null,null,null,null,"右",{"$f":"IF(DF82=\"\",\"\",DF82)","v":""},{"$f":"IF(DG82=\"\",\"\",DG82)","v":""},"","",null,"","",{"$f":"IF(G73=\"\",\"\",G73)","v":""},"右","","","","","","","","","","","","","","","","","","","",null,null,null,null,null,null,null,null,null,null,null,null,null,null,null,null,null,null,null,null,null,null,null,null,null,null,null,null,null,null,null,null,null,null,null,null,null,null,null,null,null,null,null,null,null,null,null,null,null,null,null,null,null,null,null,null,null,null,null,null,null,null,null,""]
[null,null,{"$f":"F95","v":0},null,null,null,null,null,{"$f":"IF(C74=\"\",\"\",C74)","v":""},{"$f":"IF(D74=\"\",\"\",D74)","v":""},{"$f":"IF(J95=\"\",\"\",\"先\")","v":""},{"$f":"IF(J95=\"\",\"\",F74)","v":""},"⑤",null,null,null,null,null,null,null,null,null,null,null,null,null,null,null,null,null,null,null,null,null,null,null,null,null,null,null,null,null,null,null,null,null,null,null,null,null,null,null,null,null,null,null,null,null,null,null,null,null,null,null,null,null,null,null,null,null,null,null,null,{"$f":"IF(K95=\"\",\"\",VLOOKUP(K95,$C$19:$E$25,3,FALSE))","v":""},{"$f":"IF(L95=\"\",\"\",(BX95+CG95+CH95+CI95))","v":""},"",{"$f":"IF(L95=\"\",\"\",COUNTIFS($N$94:$BU$94,L95,$N$99:$BU$99,$BY$68))","v":""},{"$f":"IF(L95=\"\",\"\",COUNTIFS($N$94:$BU$94,L95,$N$99:$BU$99,$BZ$68))","v":""},{"$f":"IF(L95=\"\",\"\",COUNTIFS($N$94:$BU$94,L95,$N$97:$BU$97,$CA$68))","v":""},{"$f":"IF(L95=\"\",\"\",COUNTIFS($N$94:$BU$94,L95,$N$97:$BU$97,$CB$68))","v":""},{"$f":"IF(L95=\"\",\"\",COUNTIFS($N$94:$BU$94,L95,$N$99:$BU$99,$CC$68))","v":""},{"$f":"IF(L95=\"\",\"\",COUNTIFS($N$94:$BU$94,L95,$N$99:$BU$99,$CD$68)+COUNTIFS($N$94:$BU$94,L95,$N$98:$BU$98,$CD$68)+COUNTIFS($N$94:$BU$94,L95,$N$97:$BU$97,$CD$68))","v":""},{"$f":"IF(L95=\"\",\"\",COUNTIFS($N$94:$BU$94,L95,$N$98:$BU$98,$CE$68))","v":""},{"$f":"IF(L95=\"\",\"\",COUNTIFS($N$94:$BU$94,L95,$N$99:$BU$99,$CF$68))","v":""},{"$f":"IF(L95=\"\",\"\",COUNTIFS($N$94:$BU$94,L95,$N$99:$BU$99,$CG$68))","v":""},{"$f":"IF(L95=\"\",\"\",COUNTIFS($N$94:$BU$94,L95,$N$99:$BU$99,$CH$68))","v":""},{"$f":"IF(L95=\"\",\"\",COUNTIFS($N$94:$BU$94,L95,$N$99:$BU$99,$CI$68))","v":""},{"$f":"IF(L95=\"\",\"\",COUNTIFS($N$94:$BU$94,L95,$N$99:$BU$99,$CJ$68))","v":""},{"$f":"IF(L95=\"\",\"\",COUNTIFS($N$94:$BU$94,L95,$N$99:$BU$99,$CK$68)+COUNTIFS($N$94:$BU$94,L95,$N$97:$BU$97,$CK$68))","v":""},{"$f":"IF(L95=\"\",\"\",COUNTIFS($N$94:$BU$94,L95,$N$99:$BU$99,$CL$68)+COUNTIFS($N$94:$BU$94,L95,$N$97:$BU$97,$CL$68))","v":""},{"$f":"IF(L95=\"\",\"\",COUNTIFS($N$94:$BU$94,L95,$N$99:$BU$99,$CM$68))","v":""},{"$f":"IF(L95=\"\",\"\",COUNTIFS($N$94:$BU$94,L95,$N$99:$BU$99,$CN$68))","v":""},{"$f":"IF(L95=\"\",\"\",COUNTIFS($N$94:$BU$94,L95,$N$95:$BU$95,$CO$68)+COUNTIFS($N$94:$BU$94,L95,$N$96:$BU$96,$CO$68))","v":""},null,null,null,null,null,null,null,{"$f":"IF(DA95=\"\",\"\",VLOOKUP(DA95,$C$19:$E$24,3,FALSE))","v":""},null,null,{"$f":"IF(CX95=\"\",\"\",VLOOKUP(CY95,$C$5:$F$13,4,FALSE))","v":""},null,null,null,null,null,null,null,null,null,null,null,null,null,null,null,null,null,null,null,null,null,null,null,null,null,null,null,{"$f":"IF($E$19=\"\",\"\",$E$19)","v":""},{"$f":"IF(L95=\"\",\"\",L95)","v":""},{"$f":"IF(EC95=\"\",\"\",VLOOKUP(EC95,$C$94:$D$123,2,FALSE))","v":""},{"$f":"IF(EC95=\"\",\"\",COUNTIFS($N$94:$BU$94,EC95,$N$99:$BU$99,\"RZ\"))","v":""},{"$f":"IF(EC95=\"\",\"\",COUNTIFS($N$94:$BU$94,EC95,$N$98:$BU$98,\"ZH\"))","v":""},null,"左",{"$f":"IF(DF82=\"\",\"\",DF82)","v":""},{"$f":"EJ94","v":""},"","",null,"","",{"$f":"IF(G73=\"\",\"\",G73)","v":""},"左","","","","","","","","","","","","","","","","","","","",null,null,null,null,null,null,null,null,null,null,null,null,null,null,null,null,null,null,null,null,null,null,null,null,null,null,null,null,null,null,null,null,null,null,null,null,null,null,null,null,null,null,null,null,null,null,null,null,null,null,null,null,null,null,null,null,null,null,null,null,null,null,"","",{"$f":"IF(HU95=\"\",\"\",COUNTIFS($N$94:$BU$94,HV95,$N$95:$BU$95,$HW$68)+COUNTIFS($N$94:$BU$94,HV95,$N$96:$BU$96,$HW$68))","v":""},{"$f":"IF(HU95=\"\",\"\",COUNTIFS($N$94:$BU$94,HV95,$N$95:$BU$95,$HX$68)+COUNTIFS($N$94:$BU$94,HV95,$N$96:$BU$96,$HX$68))","v":""},{"$f":"IF(HU95=\"\",\"\",COUNTIFS($N$94:$BU$94,HV95,$N$95:$BU$95,$HY$68)+COUNTIFS($N$94:$BU$94,HV95,$N$96:$BU$96,$HY$68))","v":""},{"$f":"IF(HU95=\"\",\"\",COUNTIFS($N$94:$BU$94,HV95,$N$95:$BU$95,$HZ$68)+COUNTIFS($N$94:$BU$94,HV95,$N$96:$BU$96,$HZ$68))","v":""},{"$f":"IF(HU95=\"\",\"\",COUNTIFS($N$94:$BU$94,HV95,$N$95:$BU$95,$IA$68)+COUNTIFS($N$94:$BU$94,HV95,$N$96:$BU$96,$IA$68))","v":""},{"$f":"IF(HU95=\"\",\"\",COUNTIFS($N$94:$BU$94,HV95,$N$95:$BU$95,$IB$68)+COUNTIFS($N$94:$BU$94,HV95,$N$96:$BU$96,$IB$68))","v":""}]
[null,null,0,null,null,null,null,null,null,null,null,null,null,null,null,null,null,null,null,null,null,null,null,null,null,null,null,null,null,null,null,null,null,null,null,null,null,null,null,null,null,null,null,null,null,null,null,null,null,null,null,null,null,null,null,null,null,null,null,null,null,null,null,null,null,null,null,null,null,null,null,null,null,{"$f":"IF(K96=\"\",\"\",VLOOKUP(K96,$C$19:$E$25,3,FALSE))","v":""},{"$f":"IF(L96=\"\",\"\",(BX96+CG96+CH96+CI96))","v":""},"",{"$f":"IF(L96=\"\",\"\",COUNTIFS($N$94:$BU$94,L96,$N$99:$BU$99,$BY$68))","v":""},{"$f":"IF(L96=\"\",\"\",COUNTIFS($N$94:$BU$94,L96,$N$99:$BU$99,$BZ$68))","v":""},{"$f":"IF(L96=\"\",\"\",COUNTIFS($N$94:$BU$94,L96,$N$97:$BU$97,$CA$68))","v":""},{"$f":"IF(L96=\"\",\"\",COUNTIFS($N$94:$BU$94,L96,$N$97:$BU$97,$CB$68))","v":""},{"$f":"IF(L96=\"\",\"\",COUNTIFS($N$94:$BU$94,L96,$N$99:$BU$99,$CC$68))","v":""},{"$f":"IF(L96=\"\",\"\",COUNTIFS($N$94:$BU$94,L96,$N$99:$BU$99,$CD$68)+COUNTIFS($N$94:$BU$94,L96,$N$98:$BU$98,$CD$68)+COUNTIFS($N$94:$BU$94,L96,$N$97:$BU$97,$CD$68))","v":""},{"$f":"IF(L96=\"\",\"\",COUNTIFS($N$94:$BU$94,L96,$N$98:$BU$98,$CE$68))","v":""},{"$f":"IF(L96=\"\",\"\",COUNTIFS($N$94:$BU$94,L96,$N$99:$BU$99,$CF$68))","v":""},{"$f":"IF(L96=\"\",\"\",COUNTIFS($N$94:$BU$94,L96,$N$99:$BU$99,$CG$68))","v":""},{"$f":"IF(L96=\"\",\"\",COUNTIFS($N$94:$BU$94,L96,$N$99:$BU$99,$CH$68))","v":""},{"$f":"IF(L96=\"\",\"\",COUNTIFS($N$94:$BU$94,L96,$N$99:$BU$99,$CI$68))","v":""},{"$f":"IF(L96=\"\",\"\",COUNTIFS($N$94:$BU$94,L96,$N$99:$BU$99,$CJ$68))","v":""},{"$f":"IF(L96=\"\",\"\",COUNTIFS($N$94:$BU$94,L96,$N$99:$BU$99,$CK$68)+COUNTIFS($N$94:$BU$94,L96,$N$97:$BU$97,$CK$68))","v":""},{"$f":"IF(L96=\"\",\"\",COUNTIFS($N$94:$BU$94,L96,$N$99:$BU$99,$CL$68)+COUNTIFS($N$94:$BU$94,L96,$N$97:$BU$97,$CL$68))","v":""},{"$f":"IF(L96=\"\",\"\",COUNTIFS($N$94:$BU$94,L96,$N$99:$BU$99,$CM$68))","v":""},{"$f":"IF(L96=\"\",\"\",COUNTIFS($N$94:$BU$94,L96,$N$99:$BU$99,$CN$68))","v":""},{"$f":"IF(L96=\"\",\"\",COUNTIFS($N$94:$BU$94,L96,$N$95:$BU$95,$CO$68)+COUNTIFS($N$94:$BU$94,L96,$N$96:$BU$96,$CO$68))","v":""},null,null,null,null,null,null,null,"",null,null,{"$f":"IF(CX96=\"\",\"\",VLOOKUP(CY96,$C$5:$F$13,4,FALSE))","v":""},null,null,null,null,null,null,null,null,null,null,null,null,null,null,null,null,null,null,null,null,null,null,null,null,null,null,null,{"$f":"IF($E$20=\"\",\"\",$E$20)","v":""},{"$f":"IF(L96=\"\",\"\",L96)","v":""},null,{"$f":"IF(EC96=\"\",\"\",COUNTIFS($N$94:$BU$94,EC96,$N$99:$BU$99,\"RZ\"))","v":""},{"$f":"IF(EC96=\"\",\"\",COUNTIFS($N$94:$BU$94,EC96,$N$98:$BU$98,\"ZH\"))","v":""},null,"右",{"$f":"IF(DF83=\"\",\"\",DF83)","v":""},{"$f":"IF(DG83=\"\",\"\",DG83)","v":""},"","",null,"","",{"$f":"IF(G74=\"\",\"\",G74)","v":""},"右","","","","","","","","","","","","","","","","","","","",null,null,null,null,null,null,null,null,null,null,null,null,null,null,null,null,null,null,null,null,null,null,null,null,null,null,null,null,null,null,null,null,null,null,null,null,null,null,null,null,null,null,null,null,null,null,null,null,null,null,null,null,null,null,null,null,null,null,null,null,null,null,"","",{"$f":"IF(HU96=\"\",\"\",COUNTIFS($N$94:$BU$94,HV96,$N$95:$BU$95,$HW$68)+COUNTIFS($N$94:$BU$94,HV96,$N$96:$BU$96,$HW$68))","v":""},{"$f":"IF(HU96=\"\",\"\",COUNTIFS($N$94:$BU$94,HV96,$N$95:$BU$95,$HX$68)+COUNTIFS($N$94:$BU$94,HV96,$N$96:$BU$96,$HX$68))","v":""},{"$f":"IF(HU96=\"\",\"\",COUNTIFS($N$94:$BU$94,HV96,$N$95:$BU$95,$HY$68)+COUNTIFS($N$94:$BU$94,HV96,$N$96:$BU$96,$HY$68))","v":""},{"$f":"IF(HU96=\"\",\"\",COUNTIFS($N$94:$BU$94,HV96,$N$95:$BU$95,$HZ$68)+COUNTIFS($N$94:$BU$94,HV96,$N$96:$BU$96,$HZ$68))","v":""},{"$f":"IF(HU96=\"\",\"\",COUNTIFS($N$94:$BU$94,HV96,$N$95:$BU$95,$IA$68)+COUNTIFS($N$94:$BU$94,HV96,$N$96:$BU$96,$IA$68))","v":""},{"$f":"IF(HU96=\"\",\"\",COUNTIFS($N$94:$BU$94,HV96,$N$95:$BU$95,$IB$68)+COUNTIFS($N$94:$BU$94,HV96,$N$96:$BU$96,$IB$68))","v":""}]
[null,null,0,null,null,null,null,null,null,null,null,null,null,null,null,null,null,null,null,null,null,null,null,null,null,null,null,null,null,null,null,null,null,null,null,null,null,null,null,null,null,null,null,null,null,null,null,null,null,null,null,null,null,null,null,null,null,null,null,null,null,null,null,null,null,null,null,null,null,null,null,null,null,"",{"$f":"IF(L97=\"\",\"\",(BX97+CG97+CH97+CI97))","v":""},"",{"$f":"IF(L97=\"\",\"\",COUNTIFS($N$94:$BU$94,L97,$N$99:$BU$99,$BY$68))","v":""},{"$f":"IF(L97=\"\",\"\",COUNTIFS($N$94:$BU$94,L97,$N$99:$BU$99,$BZ$68))","v":""},{"$f":"IF(L97=\"\",\"\",COUNTIFS($N$94:$BU$94,L97,$N$97:$BU$97,$CA$68))","v":""},{"$f":"IF(L97=\"\",\"\",COUNTIFS($N$94:$BU$94,L97,$N$97:$BU$97,$CB$68))","v":""},{"$f":"IF(L97=\"\",\"\",COUNTIFS($N$94:$BU$94,L97,$N$99:$BU$99,$CC$68))","v":""},{"$f":"IF(L97=\"\",\"\",COUNTIFS($N$94:$BU$94,L97,$N$99:$BU$99,$CD$68)+COUNTIFS($N$94:$BU$94,L97,$N$98:$BU$98,$CD$68)+COUNTIFS($N$94:$BU$94,L97,$N$97:$BU$97,$CD$68))","v":""},{"$f":"IF(L97=\"\",\"\",COUNTIFS($N$94:$BU$94,L97,$N$98:$BU$98,$CE$68))","v":""},{"$f":"IF(L97=\"\",\"\",COUNTIFS($N$94:$BU$94,L97,$N$99:$BU$99,$CF$68))","v":""},{"$f":"IF(L97=\"\",\"\",COUNTIFS($N$94:$BU$94,L97,$N$99:$BU$99,$CG$68))","v":""},{"$f":"IF(L97=\"\",\"\",COUNTIFS($N$94:$BU$94,L97,$N$99:$BU$99,$CH$68))","v":""},{"$f":"IF(L97=\"\",\"\",COUNTIFS($N$94:$BU$94,L97,$N$99:$BU$99,$CI$68))","v":""},{"$f":"IF(L97=\"\",\"\",COUNTIFS($N$94:$BU$94,L97,$N$99:$BU$99,$CJ$68))","v":""},{"$f":"IF(L97=\"\",\"\",COUNTIFS($N$94:$BU$94,L97,$N$99:$BU$99,$CK$68)+COUNTIFS($N$94:$BU$94,L97,$N$97:$BU$97,$CK$68))","v":""},{"$f":"IF(L97=\"\",\"\",COUNTIFS($N$94:$BU$94,L97,$N$99:$BU$99,$CL$68)+COUNTIFS($N$94:$BU$94,L97,$N$97:$BU$97,$CL$68))","v":""},{"$f":"IF(L97=\"\",\"\",COUNTIFS($N$94:$BU$94,L97,$N$99:$BU$99,$CM$68))","v":""},{"$f":"IF(L97=\"\",\"\",COUNTIFS($N$94:$BU$94,L97,$N$99:$BU$99,$CN$68))","v":""},{"$f":"IF(L97=\"\",\"\",COUNTIFS($N$94:$BU$94,L97,$N$95:$BU$95,$CO$68)+COUNTIFS($N$94:$BU$94,L97,$N$96:$BU$96,$CO$68))","v":""},null,null,null,null,null,null,null,"",null,null,{"$f":"IF(CX97=\"\",\"\",VLOOKUP(CY97,$C$5:$F$13,4,FALSE))","v":""},null,null,null,null,null,null,null,null,null,null,null,null,null,null,null,null,null,null,null,null,null,null,null,null,null,null,null,{"$f":"IF($E$21=\"\",\"\",$E$21)","v":""},{"$f":"IF(L97=\"\",\"\",L97)","v":""},null,{"$f":"IF(EC97=\"\",\"\",COUNTIFS($N$94:$BU$94,EC97,$N$99:$BU$99,\"RZ\"))","v":""},{"$f":"IF(EC97=\"\",\"\",COUNTIFS($N$94:$BU$94,EC97,$N$98:$BU$98,\"ZH\"))","v":""},null,"左",{"$f":"IF(DF83=\"\",\"\",DF83)","v":""},{"$f":"EJ96","v":""},"","",null,"","",{"$f":"IF(G74=\"\",\"\",G74)","v":""},"左","","","","","","","","","","","","","","","","","","","",null,null,null,null,null,null,null,null,null,null,null,null,null,null,null,null,null,null,null,null,null,null,null,null,null,null,null,null,null,null,null,null,null,null,null,null,null,null,null,null,null,null,null,null,null,null,null,null,null,null,null,null,null,null,null,null,null,null,null,null,null,null,"","","","","","","",""]
[null,null,0,null,null,null,null,null,null,null,null,null,null,null,null,null,null,null,null,null,null,null,null,null,null,null,null,null,null,null,null,null,null,null,null,null,null,null,null,null,null,null,null,null,null,null,null,null,null,null,null,null,null,null,null,null,null,null,null,null,null,null,null,null,null,null,null,null,null,null,null,null,null,"",{"$f":"IF(L98=\"\",\"\",(BX98+CG98+CH98+CI98))","v":""},"",{"$f":"IF(L98=\"\",\"\",COUNTIFS($N$94:$BU$94,L98,$N$99:$BU$99,$BY$68))","v":""},{"$f":"IF(L98=\"\",\"\",COUNTIFS($N$94:$BU$94,L98,$N$99:$BU$99,$BZ$68))","v":""},{"$f":"IF(L98=\"\",\"\",COUNTIFS($N$94:$BU$94,L98,$N$97:$BU$97,$CA$68))","v":""},{"$f":"IF(L98=\"\",\"\",COUNTIFS($N$94:$BU$94,L98,$N$97:$BU$97,$CB$68))","v":""},{"$f":"IF(L98=\"\",\"\",COUNTIFS($N$94:$BU$94,L98,$N$99:$BU$99,$CC$68))","v":""},{"$f":"IF(L98=\"\",\"\",COUNTIFS($N$94:$BU$94,L98,$N$99:$BU$99,$CD$68)+COUNTIFS($N$94:$BU$94,L98,$N$98:$BU$98,$CD$68)+COUNTIFS($N$94:$BU$94,L98,$N$97:$BU$97,$CD$68))","v":""},{"$f":"IF(L98=\"\",\"\",COUNTIFS($N$94:$BU$94,L98,$N$98:$BU$98,$CE$68))","v":""},{"$f":"IF(L98=\"\",\"\",COUNTIFS($N$94:$BU$94,L98,$N$99:$BU$99,$CF$68))","v":""},{"$f":"IF(L98=\"\",\"\",COUNTIFS($N$94:$BU$94,L98,$N$99:$BU$99,$CG$68))","v":""},{"$f":"IF(L98=\"\",\"\",COUNTIFS($N$94:$BU$94,L98,$N$99:$BU$99,$CH$68))","v":""},{"$f":"IF(L98=\"\",\"\",COUNTIFS($N$94:$BU$94,L98,$N$99:$BU$99,$CI$68))","v":""},{"$f":"IF(L98=\"\",\"\",COUNTIFS($N$94:$BU$94,L98,$N$99:$BU$99,$CJ$68))","v":""},{"$f":"IF(L98=\"\",\"\",COUNTIFS($N$94:$BU$94,L98,$N$99:$BU$99,$CK$68)+COUNTIFS($N$94:$BU$94,L98,$N$97:$BU$97,$CK$68))","v":""},{"$f":"IF(L98=\"\",\"\",COUNTIFS($N$94:$BU$94,L98,$N$99:$BU$99,$CL$68)+COUNTIFS($N$94:$BU$94,L98,$N$97:$BU$97,$CL$68))","v":""},{"$f":"IF(L98=\"\",\"\",COUNTIFS($N$94:$BU$94,L98,$N$99:$BU$99,$CM$68))","v":""},{"$f":"IF(L98=\"\",\"\",COUNTIFS($N$94:$BU$94,L98,$N$99:$BU$99,$CN$68))","v":""},{"$f":"IF(L98=\"\",\"\",COUNTIFS($N$94:$BU$94,L98,$N$95:$BU$95,$CO$68)+COUNTIFS($N$94:$BU$94,L98,$N$96:$BU$96,$CO$68))","v":""},null,null,null,null,null,null,null,"",null,null,{"$f":"IF(CX98=\"\",\"\",VLOOKUP(CY98,$C$5:$F$13,4,FALSE))","v":""},null,null,null,null,null,null,null,null,null,null,null,null,null,null,null,null,null,null,null,null,null,null,null,null,null,null,null,{"$f":"IF($E$22=\"\",\"\",$E$22)","v":""},{"$f":"IF(L98=\"\",\"\",L98)","v":""},null,{"$f":"IF(EC98=\"\",\"\",COUNTIFS($N$94:$BU$94,EC98,$N$99:$BU$99,\"RZ\"))","v":""},{"$f":"IF(EC98=\"\",\"\",COUNTIFS($N$94:$BU$94,EC98,$N$98:$BU$98,\"ZH\"))","v":""},null,"右",{"$f":"IF(DF84=\"\",\"\",DF84)","v":""},{"$f":"IF(DG84=\"\",\"\",DG84)","v":""},"","",null,"","",{"$f":"IF(G75=\"\",\"\",G75)","v":""},"右","","","","","","","","","","","","","","","","","","","",null,null,null,null,null,null,null,null,null,null,null,null,null,null,null,null,null,null,null,null,null,null,null,null,null,null,null,null,null,null,null,null,null,null,null,null,null,null,null,null,null,null,null,null,null,null,null,null,null,null,null,null,null,null,null,null,null,null,null,null,null,null,"","","","","","","",""]
[null,null,0,null,null,null,null,null,null,{"$f":"IF(L99=\"\",\"\",VLOOKUP(L99,$C$94:$D$123,2,FALSE))","v":""},null,null,null,null,null,null,null,null,null,null,null,null,null,null,null,null,null,null,null,null,null,null,null,null,null,null,null,null,null,null,null,null,null,null,null,null,null,null,null,null,null,null,null,null,null,null,null,null,null,null,null,null,null,null,null,null,null,null,null,null,null,null,null,"",{"$f":"IF(L99=\"\",\"\",(BX99+CG99+CH99+CI99))","v":""},"",{"$f":"IF(L99=\"\",\"\",COUNTIFS($N$94:$BU$94,L99,$N$99:$BU$99,$BY$68))","v":""},{"$f":"IF(L99=\"\",\"\",COUNTIFS($N$94:$BU$94,L99,$N$99:$BU$99,$BZ$68))","v":""},{"$f":"IF(L99=\"\",\"\",COUNTIFS($N$94:$BU$94,L99,$N$97:$BU$97,$CA$68))","v":""},{"$f":"IF(L99=\"\",\"\",COUNTIFS($N$94:$BU$94,L99,$N$97:$BU$97,$CB$68))","v":""},{"$f":"IF(L99=\"\",\"\",COUNTIFS($N$94:$BU$94,L99,$N$99:$BU$99,$CC$68))","v":""},{"$f":"IF(L99=\"\",\"\",COUNTIFS($N$94:$BU$94,L99,$N$99:$BU$99,$CD$68)+COUNTIFS($N$94:$BU$94,L99,$N$98:$BU$98,$CD$68)+COUNTIFS($N$94:$BU$94,L99,$N$97:$BU$97,$CD$68))","v":""},{"$f":"IF(L99=\"\",\"\",COUNTIFS($N$94:$BU$94,L99,$N$98:$BU$98,$CE$68))","v":""},{"$f":"IF(L99=\"\",\"\",COUNTIFS($N$94:$BU$94,L99,$N$99:$BU$99,$CF$68))","v":""},{"$f":"IF(L99=\"\",\"\",COUNTIFS($N$94:$BU$94,L99,$N$99:$BU$99,$CG$68))","v":""},{"$f":"IF(L99=\"\",\"\",COUNTIFS($N$94:$BU$94,L99,$N$99:$BU$99,$CH$68))","v":""},{"$f":"IF(L99=\"\",\"\",COUNTIFS($N$94:$BU$94,L99,$N$99:$BU$99,$CI$68))","v":""},{"$f":"IF(L99=\"\",\"\",COUNTIFS($N$94:$BU$94,L99,$N$99:$BU$99,$CJ$68))","v":""},{"$f":"IF(L99=\"\",\"\",COUNTIFS($N$94:$BU$94,L99,$N$99:$BU$99,$CK$68)+COUNTIFS($N$94:$BU$94,L99,$N$97:$BU$97,$CK$68))","v":""},{"$f":"IF(L99=\"\",\"\",COUNTIFS($N$94:$BU$94,L99,$N$99:$BU$99,$CL$68)+COUNTIFS($N$94:$BU$94,L99,$N$97:$BU$97,$CL$68))","v":""},{"$f":"IF(L99=\"\",\"\",COUNTIFS($N$94:$BU$94,L99,$N$99:$BU$99,$CM$68))","v":""},{"$f":"IF(L99=\"\",\"\",COUNTIFS($N$94:$BU$94,L99,$N$99:$BU$99,$CN$68))","v":""},{"$f":"IF(L99=\"\",\"\",COUNTIFS($N$94:$BU$94,L99,$N$95:$BU$95,$CO$68)+COUNTIFS($N$94:$BU$94,L99,$N$96:$BU$96,$CO$68))","v":""},null,null,null,null,null,null,null,"",null,null,{"$f":"IF(CX99=\"\",\"\",VLOOKUP(CY99,$C$5:$F$13,4,FALSE))","v":""},null,null,null,null,null,null,null,null,null,null,null,null,null,null,null,null,null,null,null,null,null,null,null,null,null,null,null,{"$f":"IF($E$23=\"\",\"\",$E$23)","v":""},{"$f":"IF(L99=\"\",\"\",L99)","v":""},"",{"$f":"IF(EC99=\"\",\"\",COUNTIFS($N$94:$BU$94,EC99,$N$99:$BU$99,\"RZ\"))","v":""},{"$f":"IF(EC99=\"\",\"\",COUNTIFS($N$94:$BU$94,EC99,$N$98:$BU$98,\"ZH\"))","v":""},null,"左",{"$f":"IF(DF84=\"\",\"\",DF84)","v":""},{"$f":"EJ98","v":""},"","",null,"","",{"$f":"IF(G75=\"\",\"\",G875)","v":""},"左","","","","","","","","","","","","","","","","","","","",null,null,null,null,null,null,null,null,null,null,null,null,null,null,null,null,null,null,null,null,null,null,null,null,null,null,null,null,null,null,null,null,null,null,null,null,null,null,null,null,null,null,null,null,null,null,null,null,null,null,null,null,null,null,null,null,null,null,null,null,null,null,"","","","","","","",""]
[null,null,0,null,null,null,null,null,null,null,null,null,"打者背番号を入力➡",null,{"$f":"N100","v":0},{"$f":"N100","v":0},{"$f":"N100","v":0},{"$f":"N100","v":0},null,{"$f":"S100","v":0},{"$f":"S100","v":0},{"$f":"S100","v":0},{"$f":"S100","v":0},null,{"$f":"X100","v":0},{"$f":"X100","v":0},{"$f":"X100","v":0},{"$f":"X100","v":0},null,{"$f":"AC100","v":0},{"$f":"AC100","v":0},{"$f":"AC100","v":0},{"$f":"AC100","v":0},null,{"$f":"AH100","v":0},{"$f":"AH100","v":0},{"$f":"AH100","v":0},{"$f":"AH100","v":0},null,{"$f":"AM100","v":0},{"$f":"AM100","v":0},{"$f":"AM100","v":0},{"$f":"AM100","v":0},null,{"$f":"AR100","v":0},{"$f":"AR100","v":0},{"$f":"AR100","v":0},{"$f":"AR100","v":0},null,{"$f":"AW100","v":0},{"$f":"AW100","v":0},{"$f":"AW100","v":0},{"$f":"AW100","v":0},null,{"$f":"BB100","v":0},{"$f":"BB100","v":0},{"$f":"BB100","v":0},{"$f":"BB100","v":0},null,{"$f":"BG100","v":0},{"$f":"BG100","v":0},{"$f":"BG100","v":0},{"$f":"BG100","v":0},null,{"$f":"BL100","v":0},{"$f":"BL100","v":0},{"$f":"BL100","v":0},{"$f":"BL100","v":0},null,{"$f":"BQ100","v":0},{"$f":"BQ100","v":0},{"$f":"BQ100","v":0},{"$f":"BQ100","v":0},null,null,null,null,null,null,null,null,null,null,null,null,null,null,null,null,null,null,null,null,null,null,null,null,null,null,null,null,null,null,null,null,null,null,null,null,null,null,null,null,null,null,null,null,null,null,null,null,null,null,null,null,null,null,null,null,null,null,null,null,null,null,null,null,"右",{"$f":"IF(DF85=\"\",\"\",DF85)","v":""},{"$f":"IF(DG85=\"\",\"\",DG85)","v":""},"","",null,"","",{"$f":"IF(G76=\"\",\"\",G76)","v":""},"右","","","","","","","","","","","","","","","","","","","",null,null,null,null,null,null,null,null,null,null,null,null,null,null,null,null,null,null,null,null,null,null,null,null,null,null,null,null,null,null,null,null,null,null,null,null,null,null,null,null,null,null,null,null,null,null,null,null,null,null,null,null,null,null,null,null,null,null,null,null,null,null,null,""]
[null,null,0,null,null,null,null,null,{"$f":"IF(C75=\"\",\"\",C75)","v":""},{"$f":"IF(D75=\"\",\"\",D75)","v":""},{"$f":"IF(J101=\"\",\"\",\"先\")","v":""},{"$f":"IF(J101=\"\",\"\",F75)","v":""},"⑥",null,null,null,null,null,null,null,null,null,null,null,null,null,null,null,null,null,null,null,null,null,null,null,null,null,null,null,null,null,null,null,null,null,null,null,null,null,null,null,null,null,null,null,null,null,null,null,null,null,null,null,null,null,null,null,null,null,null,null,null,{"$f":"IF(K101=\"\",\"\",VLOOKUP(K101,$C$19:$E$25,3,FALSE))","v":""},{"$f":"IF(L101=\"\",\"\",(BX101+CG101+CH101+CI101))","v":""},"",{"$f":"IF(L101=\"\",\"\",COUNTIFS($N$100:$BU$100,L101,$N$105:$BU$105,$BY$68))","v":""},{"$f":"IF(L101=\"\",\"\",COUNTIFS($N$100:$BU$100,L101,$N$105:$BU$105,$BZ$68))","v":""},{"$f":"IF(L101=\"\",\"\",COUNTIFS($N$100:$BU$100,L101,$N$103:$BU$103,$CA$68))","v":""},{"$f":"IF(L101=\"\",\"\",COUNTIFS($N$100:$BU$100,L101,$N$103:$BU$103,$CB$68))","v":""},{"$f":"IF(L101=\"\",\"\",COUNTIFS($N$100:$BU$100,L101,$N$105:$BU$105,$CC$68))","v":""},{"$f":"IF(L101=\"\",\"\",COUNTIFS($N$100:$BU$100,L101,$N$105:$BU$105,$CD$68)+COUNTIFS($N$100:$BU$100,L101,$N$104:$BU$104,$CD$68)+COUNTIFS($N$100:$BU$100,L101,$N$103:$BU$103,$CD$68))","v":""},{"$f":"IF(L101=\"\",\"\",COUNTIFS($N$100:$BU$100,L101,$N$104:$BU$104,$CE$68))","v":""},{"$f":"IF(L101=\"\",\"\",COUNTIFS($N$100:$BU$100,L101,$N$105:$BU$105,$CF$68))","v":""},{"$f":"IF(L101=\"\",\"\",COUNTIFS($N$100:$BU$100,L101,$N$105:$BU$105,$CG$68))","v":""},{"$f":"IF(L101=\"\",\"\",COUNTIFS($N$100:$BU$100,L101,$N$105:$BU$105,$CH$68))","v":""},{"$f":"IF(L101=\"\",\"\",COUNTIFS($N$100:$BU$100,L101,$N$105:$BU$105,$CI$68))","v":""},{"$f":"IF(L101=\"\",\"\",COUNTIFS($N$100:$BU$100,L101,$N$105:$BU$105,$CJ$68))","v":""},{"$f":"IF(L101=\"\",\"\",COUNTIFS($N$100:$BU$100,L101,$N$105:$BU$105,$CK$68)+COUNTIFS($N$100:$BU$100,L101,$N$103:$BU$103,$CK$68))","v":""},{"$f":"IF(L101=\"\",\"\",COUNTIFS($N$100:$BU$100,L101,$N$105:$BU$105,$CL$68)+COUNTIFS($N$100:$BU$100,L101,$N$103:$BU$103,$CL$68))","v":""},{"$f":"IF(L101=\"\",\"\",COUNTIFS($N$100:$BU$100,L101,$N$105:$BU$105,$CM$68))","v":""},{"$f":"IF(L101=\"\",\"\",COUNTIFS($N$100:$BU$100,L101,$N$105:$BU$105,$CN$68))","v":""},{"$f":"IF(L101=\"\",\"\",COUNTIFS($N$100:$BU$100,L101,$N$101:$BU$101,$CO$68)+COUNTIFS($N$100:$BU$100,L101,$N$102:$BU$102,$CO$68))","v":""},null,null,null,null,null,null,null,{"$f":"IF(DA101=\"\",\"\",VLOOKUP(DA101,$C$19:$E$24,3,FALSE))","v":""},null,null,{"$f":"IF(CX101=\"\",\"\",VLOOKUP(CY101,$C$5:$F$13,4,FALSE))","v":""},null,null,null,null,null,null,null,null,null,null,null,null,null,null,null,null,null,null,null,null,null,null,null,null,null,null,null,{"$f":"IF($E$19=\"\",\"\",$E$19)","v":""},{"$f":"IF(L101=\"\",\"\",L101)","v":""},{"$f":"IF(EC101=\"\",\"\",VLOOKUP(EC101,$C$94:$D$123,2,FALSE))","v":""},{"$f":"IF(EC101=\"\",\"\",COUNTIFS($N$100:$BU$100,EC101,$N$105:$BU$105,\"RZ\"))","v":""},{"$f":"IF(EC101=\"\",\"\",COUNTIFS($N$100:$BU$100,EC101,$N$104:$BU$104,\"ZH\"))","v":""},null,"左",{"$f":"IF(DF85=\"\",\"\",DF85)","v":""},{"$f":"EJ100","v":""},"","",null,"","",{"$f":"IF(G76=\"\",\"\",G76)","v":""},"左","","","","","","","","","","","","","","","","","","","",null,null,null,null,null,null,null,null,null,null,null,null,null,null,null,null,null,null,null,null,null,null,null,null,null,null,null,null,null,null,null,null,null,null,null,null,null,null,null,null,null,null,null,null,null,null,null,null,null,null,null,null,null,null,null,null,null,null,null,null,null,null,"","",{"$f":"IF(HU101=\"\",\"\",COUNTIFS($N$100:$BU$100,HV101,$N$101:$BU$101,$HW$68)+COUNTIFS($N$100:$BU$100,HV101,$N$102:$BU$102,$HW$68))","v":""},{"$f":"IF(HU101=\"\",\"\",COUNTIFS($N$100:$BU$100,HV101,$N$101:$BU$101,$HX$68)+COUNTIFS($N$100:$BU$100,HV101,$N$102:$BU$102,$HX$68))","v":""},{"$f":"IF(HU101=\"\",\"\",COUNTIFS($N$100:$BU$100,HV101,$N$101:$BU$101,$HY$68)+COUNTIFS($N$100:$BU$100,HV101,$N$102:$BU$102,$HY$68))","v":""},{"$f":"IF(HU101=\"\",\"\",COUNTIFS($N$100:$BU$100,HV101,$N$101:$BU$101,$HZ$68)+COUNTIFS($N$100:$BU$100,HV101,$N$102:$BU$102,$HZ$68))","v":""},{"$f":"IF(HU101=\"\",\"\",COUNTIFS($N$100:$BU$100,HV101,$N$101:$BU$101,$IA$68)+COUNTIFS($N$100:$BU$100,EHV101,$N$102:$BU$102,$IA$68))","v":""},{"$f":"IF(HU101=\"\",\"\",COUNTIFS($N$100:$BU$100,HV101,$N$101:$BU$101,$IB$68)+COUNTIFS($N$100:$BU$100,HV101,$N$102:$BU$102,$IB$68))","v":""}]
[null,null,0,null,null,null,null,null,null,null,null,null,null,null,null,null,null,null,null,null,null,null,null,null,null,null,null,null,null,null,null,null,null,null,null,null,null,null,null,null,null,null,null,null,null,null,null,null,null,null,null,null,null,null,null,null,null,null,null,null,null,null,null,null,null,null,null,null,null,null,null,null,null,{"$f":"IF(K102=\"\",\"\",VLOOKUP(K102,$C$19:$E$25,3,FALSE))","v":""},{"$f":"IF(L102=\"\",\"\",(BX102+CG102+CH102+CI102))","v":""},"",{"$f":"IF(L102=\"\",\"\",COUNTIFS($N$100:$BU$100,L102,$N$105:$BU$105,$BY$68))","v":""},{"$f":"IF(L102=\"\",\"\",COUNTIFS($N$100:$BU$100,L102,$N$105:$BU$105,$BZ$68))","v":""},{"$f":"IF(L102=\"\",\"\",COUNTIFS($N$100:$BU$100,L102,$N$103:$BU$103,$CA$68))","v":""},{"$f":"IF(L102=\"\",\"\",COUNTIFS($N$100:$BU$100,L102,$N$103:$BU$103,$CB$68))","v":""},{"$f":"IF(L102=\"\",\"\",COUNTIFS($N$100:$BU$100,L102,$N$105:$BU$105,$CC$68))","v":""},{"$f":"IF(L102=\"\",\"\",COUNTIFS($N$100:$BU$100,L102,$N$105:$BU$105,$CD$68)+COUNTIFS($N$100:$BU$100,L102,$N$104:$BU$104,$CD$68)+COUNTIFS($N$100:$BU$100,L102,$N$103:$BU$103,$CD$68))","v":""},{"$f":"IF(L102=\"\",\"\",COUNTIFS($N$100:$BU$100,L102,$N$104:$BU$104,$CE$68))","v":""},{"$f":"IF(L102=\"\",\"\",COUNTIFS($N$100:$BU$100,L102,$N$105:$BU$105,$CF$68))","v":""},{"$f":"IF(L102=\"\",\"\",COUNTIFS($N$100:$BU$100,L102,$N$105:$BU$105,$CG$68))","v":""},{"$f":"IF(L102=\"\",\"\",COUNTIFS($N$100:$BU$100,L102,$N$105:$BU$105,$CH$68))","v":""},{"$f":"IF(L102=\"\",\"\",COUNTIFS($N$100:$BU$100,L102,$N$105:$BU$105,$CI$68))","v":""},{"$f":"IF(L102=\"\",\"\",COUNTIFS($N$100:$BU$100,L102,$N$105:$BU$105,$CJ$68))","v":""},{"$f":"IF(L102=\"\",\"\",COUNTIFS($N$100:$BU$100,L102,$N$105:$BU$105,$CK$68)+COUNTIFS($N$100:$BU$100,L102,$N$103:$BU$103,$CK$68))","v":""},{"$f":"IF(L102=\"\",\"\",COUNTIFS($N$100:$BU$100,L102,$N$105:$BU$105,$CL$68)+COUNTIFS($N$100:$BU$100,L102,$N$103:$BU$103,$CL$68))","v":""},{"$f":"IF(L102=\"\",\"\",COUNTIFS($N$100:$BU$100,L102,$N$105:$BU$105,$CM$68))","v":""},{"$f":"IF(L102=\"\",\"\",COUNTIFS($N$100:$BU$100,L102,$N$105:$BU$105,$CN$68))","v":""},{"$f":"IF(L102=\"\",\"\",COUNTIFS($N$100:$BU$100,L102,$N$101:$BU$101,$CO$68)+COUNTIFS($N$100:$BU$100,L102,$N$102:$BU$102,$CO$68))","v":""},null,null,null,null,null,null,null,"",null,null,{"$f":"IF(CX102=\"\",\"\",VLOOKUP(CY102,$C$5:$F$13,4,FALSE))","v":""},null,null,null,null,null,null,null,null,null,null,null,null,null,null,null,null,null,null,null,null,null,null,null,null,null,null,null,{"$f":"IF($E$20=\"\",\"\",$E$20)","v":""},{"$f":"IF(L102=\"\",\"\",L102)","v":""},null,{"$f":"IF(EC102=\"\",\"\",COUNTIFS($N$100:$BU$100,EC102,$N$105:$BU$105,\"RZ\"))","v":""},{"$f":"IF(EC102=\"\",\"\",COUNTIFS($N$100:$BU$100,EC102,$N$104:$BU$104,\"ZH\"))","v":""},null,null,null,null,null,null,null,"","",{"$f":"IF(G77=\"\",\"\",G77)","v":""},"右","","","","","","","","","","","","","","","","","","","",null,null,null,null,null,null,null,null,null,null,null,null,null,null,null,null,null,null,null,null,null,null,null,null,null,null,null,null,null,null,null,null,null,null,null,null,null,null,null,null,null,null,null,null,null,null,null,null,null,null,null,null,null,null,null,null,null,null,null,null,null,null,"","",{"$f":"IF(HU102=\"\",\"\",COUNTIFS($N$100:$BU$100,HV102,$N$101:$BU$101,$HW$68)+COUNTIFS($N$100:$BU$100,HV102,$N$102:$BU$102,$HW$68))","v":""},{"$f":"IF(HU102=\"\",\"\",COUNTIFS($N$100:$BU$100,HV102,$N$101:$BU$101,$HX$68)+COUNTIFS($N$100:$BU$100,HV102,$N$102:$BU$102,$HX$68))","v":""},{"$f":"IF(HU102=\"\",\"\",COUNTIFS($N$100:$BU$100,HV102,$N$101:$BU$101,$HY$68)+COUNTIFS($N$100:$BU$100,HV102,$N$102:$BU$102,$HY$68))","v":""},{"$f":"IF(HU102=\"\",\"\",COUNTIFS($N$100:$BU$100,HV102,$N$101:$BU$101,$HZ$68)+COUNTIFS($N$100:$BU$100,HV102,$N$102:$BU$102,$HZ$68))","v":""},{"$f":"IF(HU102=\"\",\"\",COUNTIFS($N$100:$BU$100,HV102,$N$101:$BU$101,$IA$68)+COUNTIFS($N$100:$BU$100,EHV102,$N$102:$BU$102,$IA$68))","v":""},{"$f":"IF(HU102=\"\",\"\",COUNTIFS($N$100:$BU$100,HV102,$N$101:$BU$101,$IB$68)+COUNTIFS($N$100:$BU$100,HV102,$N$102:$BU$102,$IB$68))","v":""}]
[null,null,0,null,null,null,null,null,null,null,null,null,null,null,null,null,null,null,null,null,null,null,null,null,null,null,null,null,null,null,null,null,null,null,null,null,null,null,null,null,null,null,null,null,null,null,null,null,null,null,null,null,null,null,null,null,null,null,null,null,null,null,null,null,null,null,null,null,null,null,null,null,null,"",{"$f":"IF(L103=\"\",\"\",(BX103+CG103+CH103+CI103))","v":""},"",{"$f":"IF(L103=\"\",\"\",COUNTIFS($N$100:$BU$100,L103,$N$105:$BU$105,$BY$68))","v":""},{"$f":"IF(L103=\"\",\"\",COUNTIFS($N$100:$BU$100,L103,$N$105:$BU$105,$BZ$68))","v":""},{"$f":"IF(L103=\"\",\"\",COUNTIFS($N$100:$BU$100,L103,$N$103:$BU$103,$CA$68))","v":""},{"$f":"IF(L103=\"\",\"\",COUNTIFS($N$100:$BU$100,L103,$N$103:$BU$103,$CB$68))","v":""},{"$f":"IF(L103=\"\",\"\",COUNTIFS($N$100:$BU$100,L103,$N$105:$BU$105,$CC$68))","v":""},{"$f":"IF(L103=\"\",\"\",COUNTIFS($N$100:$BU$100,L103,$N$105:$BU$105,$CD$68)+COUNTIFS($N$100:$BU$100,L103,$N$104:$BU$104,$CD$68)+COUNTIFS($N$100:$BU$100,L103,$N$103:$BU$103,$CD$68))","v":""},{"$f":"IF(L103=\"\",\"\",COUNTIFS($N$100:$BU$100,L103,$N$104:$BU$104,$CE$68))","v":""},{"$f":"IF(L103=\"\",\"\",COUNTIFS($N$100:$BU$100,L103,$N$105:$BU$105,$CF$68))","v":""},{"$f":"IF(L103=\"\",\"\",COUNTIFS($N$100:$BU$100,L103,$N$105:$BU$105,$CG$68))","v":""},{"$f":"IF(L103=\"\",\"\",COUNTIFS($N$100:$BU$100,L103,$N$105:$BU$105,$CH$68))","v":""},{"$f":"IF(L103=\"\",\"\",COUNTIFS($N$100:$BU$100,L103,$N$105:$BU$105,$CI$68))","v":""},{"$f":"IF(L103=\"\",\"\",COUNTIFS($N$100:$BU$100,L103,$N$105:$BU$105,$CJ$68))","v":""},{"$f":"IF(L103=\"\",\"\",COUNTIFS($N$100:$BU$100,L103,$N$105:$BU$105,$CK$68)+COUNTIFS($N$100:$BU$100,L103,$N$103:$BU$103,$CK$68))","v":""},{"$f":"IF(L103=\"\",\"\",COUNTIFS($N$100:$BU$100,L103,$N$105:$BU$105,$CL$68)+COUNTIFS($N$100:$BU$100,L103,$N$103:$BU$103,$CL$68))","v":""},{"$f":"IF(L103=\"\",\"\",COUNTIFS($N$100:$BU$100,L103,$N$105:$BU$105,$CM$68))","v":""},{"$f":"IF(L103=\"\",\"\",COUNTIFS($N$100:$BU$100,L103,$N$105:$BU$105,$CN$68))","v":""},{"$f":"IF(L103=\"\",\"\",COUNTIFS($N$100:$BU$100,L103,$N$101:$BU$101,$CO$68)+COUNTIFS($N$100:$BU$100,L103,$N$102:$BU$102,$CO$68))","v":""},null,null,null,null,null,null,null,"",null,null,{"$f":"IF(CX103=\"\",\"\",VLOOKUP(CY103,$C$5:$F$13,4,FALSE))","v":""},null,null,null,null,null,null,null,null,null,null,null,null,null,null,null,null,null,null,null,null,null,null,null,null,null,null,null,{"$f":"IF($E$21=\"\",\"\",$E$21)","v":""},{"$f":"IF(L103=\"\",\"\",L103)","v":""},null,{"$f":"IF(EC103=\"\",\"\",COUNTIFS($N$100:$BU$100,EC103,$N$105:$BU$105,\"RZ\"))","v":""},{"$f":"IF(EC103=\"\",\"\",COUNTIFS($N$100:$BU$100,EC103,$N$104:$BU$104,\"ZH\"))","v":""},null,null,null,null,null,null,null,"","",{"$f":"IF(G77=\"\",\"\",G77)","v":""},"左","","","","","","","","","","","","","","","","","","","",null,null,null,null,null,null,null,null,null,null,null,null,null,null,null,null,null,null,null,null,null,null,null,null,null,null,null,null,null,null,null,null,null,null,null,null,null,null,null,null,null,null,null,null,null,null,null,null,null,null,null,null,null,null,null,null,null,null,null,null,null,null,"","","","","","","",""]
[null,null,0,null,null,null,null,null,null,null,null,null,null,null,null,null,null,null,null,null,null,null,null,null,null,null,null,null,null,null,null,null,null,null,null,null,null,null,null,null,null,null,null,null,null,null,null,null,null,null,null,null,null,null,null,null,null,null,null,null,null,null,null,null,null,null,null,null,null,null,null,null,null,"",{"$f":"IF(L104=\"\",\"\",(BX104+CG104+CH104+CI104))","v":""},"",{"$f":"IF(L104=\"\",\"\",COUNTIFS($N$100:$BU$100,L104,$N$105:$BU$105,$BY$68))","v":""},{"$f":"IF(L104=\"\",\"\",COUNTIFS($N$100:$BU$100,L104,$N$105:$BU$105,$BZ$68))","v":""},{"$f":"IF(L104=\"\",\"\",COUNTIFS($N$100:$BU$100,L104,$N$103:$BU$103,$CA$68))","v":""},{"$f":"IF(L104=\"\",\"\",COUNTIFS($N$100:$BU$100,L104,$N$103:$BU$103,$CB$68))","v":""},{"$f":"IF(L104=\"\",\"\",COUNTIFS($N$100:$BU$100,L104,$N$105:$BU$105,$CC$68))","v":""},{"$f":"IF(L104=\"\",\"\",COUNTIFS($N$100:$BU$100,L104,$N$105:$BU$105,$CD$68)+COUNTIFS($N$100:$BU$100,L104,$N$104:$BU$104,$CD$68)+COUNTIFS($N$100:$BU$100,L104,$N$103:$BU$103,$CD$68))","v":""},{"$f":"IF(L104=\"\",\"\",COUNTIFS($N$100:$BU$100,L104,$N$104:$BU$104,$CE$68))","v":""},{"$f":"IF(L104=\"\",\"\",COUNTIFS($N$100:$BU$100,L104,$N$105:$BU$105,$CF$68))","v":""},{"$f":"IF(L104=\"\",\"\",COUNTIFS($N$100:$BU$100,L104,$N$105:$BU$105,$CG$68))","v":""},{"$f":"IF(L104=\"\",\"\",COUNTIFS($N$100:$BU$100,L104,$N$105:$BU$105,$CH$68))","v":""},{"$f":"IF(L104=\"\",\"\",COUNTIFS($N$100:$BU$100,L104,$N$105:$BU$105,$CI$68))","v":""},{"$f":"IF(L104=\"\",\"\",COUNTIFS($N$100:$BU$100,L104,$N$105:$BU$105,$CJ$68))","v":""},{"$f":"IF(L104=\"\",\"\",COUNTIFS($N$100:$BU$100,L104,$N$105:$BU$105,$CK$68)+COUNTIFS($N$100:$BU$100,L104,$N$103:$BU$103,$CK$68))","v":""},{"$f":"IF(L104=\"\",\"\",COUNTIFS($N$100:$BU$100,L104,$N$105:$BU$105,$CL$68)+COUNTIFS($N$100:$BU$100,L104,$N$103:$BU$103,$CL$68))","v":""},{"$f":"IF(L104=\"\",\"\",COUNTIFS($N$100:$BU$100,L104,$N$105:$BU$105,$CM$68))","v":""},{"$f":"IF(L104=\"\",\"\",COUNTIFS($N$100:$BU$100,L104,$N$105:$BU$105,$CN$68))","v":""},{"$f":"IF(L104=\"\",\"\",COUNTIFS($N$100:$BU$100,L104,$N$101:$BU$101,$CO$68)+COUNTIFS($N$100:$BU$100,L104,$N$102:$BU$102,$CO$68))","v":""},null,null,null,null,null,null,null,"",null,null,{"$f":"IF(CX104=\"\",\"\",VLOOKUP(CY104,$C$5:$F$13,4,FALSE))","v":""},null,null,null,null,null,null,null,null,null,null,null,null,null,null,null,null,null,null,null,null,null,null,null,null,null,null,null,{"$f":"IF($E$22=\"\",\"\",$E$22)","v":""},{"$f":"IF(L104=\"\",\"\",L104)","v":""},null,{"$f":"IF(EC104=\"\",\"\",COUNTIFS($N$100:$BU$100,EC104,$N$105:$BU$105,\"RZ\"))","v":""},{"$f":"IF(EC104=\"\",\"\",COUNTIFS($N$100:$BU$100,EC104,$N$104:$BU$104,\"ZH\"))","v":""},null,null,null,null,null,null,null,"","",{"$f":"IF(G78=\"\",\"\",G78)","v":""},"右","","","","","","","","","","","","","","","","","","","",null,null,null,null,null,null,null,null,null,null,null,null,null,null,null,null,null,null,null,null,null,null,null,null,null,null,null,null,null,null,null,null,null,null,null,null,null,null,null,null,null,null,null,null,null,null,null,null,null,null,null,null,null,null,null,null,null,null,null,null,null,null,"","","","","","","",""]
[null,null,0,null,null,null,null,null,null,{"$f":"IF(L105=\"\",\"\",VLOOKUP(L105,$C$94:$D$123,2,FALSE))","v":""},null,null,null,null,null,null,null,null,null,null,null,null,null,null,null,null,null,null,null,null,null,null,null,null,null,null,null,null,null,null,null,null,null,null,null,null,null,null,null,null,null,null,null,null,null,null,null,null,null,null,null,null,null,null,null,null,null,null,null,null,null,null,null,"",{"$f":"IF(L105=\"\",\"\",(BX105+CG105+CH105+CI105))","v":""},"",{"$f":"IF(L105=\"\",\"\",COUNTIFS($N$100:$BU$100,L105,$N$105:$BU$105,$BY$68))","v":""},{"$f":"IF(L105=\"\",\"\",COUNTIFS($N$100:$BU$100,L105,$N$105:$BU$105,$BZ$68))","v":""},{"$f":"IF(L105=\"\",\"\",COUNTIFS($N$100:$BU$100,L105,$N$103:$BU$103,$CA$68))","v":""},{"$f":"IF(L105=\"\",\"\",COUNTIFS($N$100:$BU$100,L105,$N$103:$BU$103,$CB$68))","v":""},{"$f":"IF(L105=\"\",\"\",COUNTIFS($N$100:$BU$100,L105,$N$105:$BU$105,$CC$68))","v":""},{"$f":"IF(L105=\"\",\"\",COUNTIFS($N$100:$BU$100,L105,$N$105:$BU$105,$CD$68)+COUNTIFS($N$100:$BU$100,L105,$N$104:$BU$104,$CD$68)+COUNTIFS($N$100:$BU$100,L105,$N$103:$BU$103,$CD$68))","v":""},{"$f":"IF(L105=\"\",\"\",COUNTIFS($N$100:$BU$100,L105,$N$104:$BU$104,$CE$68))","v":""},{"$f":"IF(L105=\"\",\"\",COUNTIFS($N$100:$BU$100,L105,$N$105:$BU$105,$CF$68))","v":""},{"$f":"IF(L105=\"\",\"\",COUNTIFS($N$100:$BU$100,L105,$N$105:$BU$105,$CG$68))","v":""},{"$f":"IF(L105=\"\",\"\",COUNTIFS($N$100:$BU$100,L105,$N$105:$BU$105,$CH$68))","v":""},{"$f":"IF(L105=\"\",\"\",COUNTIFS($N$100:$BU$100,L105,$N$105:$BU$105,$CI$68))","v":""},{"$f":"IF(L105=\"\",\"\",COUNTIFS($N$100:$BU$100,L105,$N$105:$BU$105,$CJ$68))","v":""},{"$f":"IF(L105=\"\",\"\",COUNTIFS($N$100:$BU$100,L105,$N$105:$BU$105,$CK$68)+COUNTIFS($N$100:$BU$100,L105,$N$103:$BU$103,$CK$68))","v":""},{"$f":"IF(L105=\"\",\"\",COUNTIFS($N$100:$BU$100,L105,$N$105:$BU$105,$CL$68)+COUNTIFS($N$100:$BU$100,L105,$N$103:$BU$103,$CL$68))","v":""},{"$f":"IF(L105=\"\",\"\",COUNTIFS($N$100:$BU$100,L105,$N$105:$BU$105,$CM$68))","v":""},{"$f":"IF(L105=\"\",\"\",COUNTIFS($N$100:$BU$100,L105,$N$105:$BU$105,$CN$68))","v":""},{"$f":"IF(L105=\"\",\"\",COUNTIFS($N$100:$BU$100,L105,$N$101:$BU$101,$CO$68)+COUNTIFS($N$100:$BU$100,L105,$N$102:$BU$102,$CO$68))","v":""},null,null,null,null,null,null,null,"",null,null,{"$f":"IF(CX105=\"\",\"\",VLOOKUP(CY105,$C$5:$F$13,4,FALSE))","v":""},null,null,null,null,null,"投手別打球振り分け",null,null,null,null,null,null,null,null,null,null,null,null,null,null,null,null,null,null,null,null,null,{"$f":"IF($E$23=\"\",\"\",$E$23)","v":""},{"$f":"IF(L105=\"\",\"\",L105)","v":""},"",{"$f":"IF(EC105=\"\",\"\",COUNTIFS($N$100:$BU$100,EC105,$N$105:$BU$105,\"RZ\"))","v":""},{"$f":"IF(EC105=\"\",\"\",COUNTIFS($N$100:$BU$100,EC105,$N$104:$BU$104,\"ZH\"))","v":""},null,null,null,null,null,null,null,"","",{"$f":"IF(G78=\"\",\"\",G78)","v":""},"左","","","","","","","","","","","","","","","","","","","",null,null,null,null,null,null,null,null,null,null,null,null,null,null,null,null,null,null,null,null,null,null,null,null,null,null,null,null,null,null,null,null,null,null,null,null,null,null,null,null,null,null,null,null,null,null,null,null,null,null,null,null,null,null,null,null,null,null,null,null,null,null,"","","","","","","",""]
[null,null,0,null,null,null,null,null,null,null,null,null,"打者背番号を入力➡",null,{"$f":"N106","v":0},{"$f":"N106","v":0},{"$f":"N106","v":0},{"$f":"N106","v":0},null,{"$f":"S106","v":0},{"$f":"S106","v":0},{"$f":"S106","v":0},{"$f":"S106","v":0},null,{"$f":"X106","v":0},{"$f":"X106","v":0},{"$f":"X106","v":0},{"$f":"X106","v":0},null,{"$f":"AC106","v":0},{"$f":"AC106","v":0},{"$f":"AC106","v":0},{"$f":"AC106","v":0},null,{"$f":"AH106","v":0},{"$f":"AH106","v":0},{"$f":"AH106","v":0},{"$f":"AH106","v":0},null,{"$f":"AM106","v":0},{"$f":"AM106","v":0},{"$f":"AM106","v":0},{"$f":"AM106","v":0},null,{"$f":"AR106","v":0},{"$f":"AR106","v":0},{"$f":"AR106","v":0},{"$f":"AR106","v":0},null,{"$f":"AW106","v":0},{"$f":"AW106","v":0},{"$f":"AW106","v":0},{"$f":"AW106","v":0},null,{"$f":"BB106","v":0},{"$f":"BB106","v":0},{"$f":"BB106","v":0},{"$f":"BB106","v":0},null,{"$f":"BG106","v":0},{"$f":"BG106","v":0},{"$f":"BG106","v":0},{"$f":"BG106","v":0},null,{"$f":"BL106","v":0},{"$f":"BL106","v":0},{"$f":"BL106","v":0},{"$f":"BL106","v":0},null,{"$f":"BQ106","v":0},{"$f":"BQ106","v":0},{"$f":"BQ106","v":0},{"$f":"BQ106","v":0},null,null,null,null,null,null,null,null,null,null,null,null,null,null,null,null,null,null,null,null,null,null,null,null,null,null,null,null,null,null,null,null,null,null,null,"T番","選手名","背番","投順","ゴロ","フライ","計",null,null,null,null,null,null,null,null,null,null,null,null,null,null,null,null,null,null,null,null,null,null,null,null,null,null,null,null,null,{"$f":"IF(O67=\"\",\"\",O67)","v":""},"計","右",{"$f":"IF($EO$41=\"\",\"\",SUMIF($EQ$5:$EQ$40,$EQ$41,ER70:ER105))","v":""},{"$f":"IF($EO$41=\"\",\"\",SUMIF($EQ$5:$EQ$40,$EQ$41,ES70:ES105))","v":""},"","","","","","","","","","","","","","","","","",null,null,null,null,null,null,null,null,null,null,null,null,null,null,null,null,null,null,null,null,null,null,null,null,null,null,null,null,null,null,null,null,null,null,null,null,null,null,null,null,null,null,null,null,null,null,null,null,null,null,null,null,null,null,null,null,null,null,null,null,null,null,null,""]
[null,null,0,null,null,null,null,null,{"$f":"IF(C76=\"\",\"\",C76)","v":""},{"$f":"IF(D76=\"\",\"\",D76)","v":""},{"$f":"IF(J107=\"\",\"\",\"先\")","v":""},{"$f":"IF(J107=\"\",\"\",F76)","v":""},"⑦",null,null,null,null,null,null,null,null,null,null,null,null,null,null,null,null,null,null,null,null,null,null,null,null,null,null,null,null,null,null,null,null,null,null,null,null,null,null,null,null,null,null,null,null,null,null,null,null,null,null,null,null,null,null,null,null,null,null,null,null,{"$f":"IF(K107=\"\",\"\",VLOOKUP(K107,$C$19:$E$25,3,FALSE))","v":""},{"$f":"IF(L107=\"\",\"\",(BX107+CG107+CH107+CI107))","v":""},"",{"$f":"IF(L107=\"\",\"\",COUNTIFS($N$106:$BU$106,L107,$N$111:$BU$111,$BY$68))","v":""},{"$f":"IF(L107=\"\",\"\",COUNTIFS($N$106:$BU$106,L107,$N$111:$BU$111,$BZ$68))","v":""},{"$f":"IF(L107=\"\",\"\",COUNTIFS($N$106:$BU$106,L107,$N$109:$BU$109,$CA$68))","v":""},{"$f":"IF(L107=\"\",\"\",COUNTIFS($N$106:$BU$106,L107,$N$109:$BU$109,$CB$68))","v":""},{"$f":"IF(L107=\"\",\"\",COUNTIFS($N$106:$BU$106,L107,$N$111:$BU$111,$CC$68))","v":""},{"$f":"IF(L107=\"\",\"\",COUNTIFS($N$106:$BU$106,L107,$N$111:$BU$111,$CD$68)+COUNTIFS($N$106:$BU$106,L107,$N$110:$BU$110,$CD$68)+COUNTIFS($N$106:$BU$106,L107,$N$109:$BU$109,$CD$68))","v":""},{"$f":"IF(L107=\"\",\"\",COUNTIFS($N$106:$BU$106,L107,$N$110:$BU$110,$CE$68))","v":""},{"$f":"IF(L107=\"\",\"\",COUNTIFS($N$106:$BU$106,L107,$N$111:$BU$111,$CF$68))","v":""},{"$f":"IF(L107=\"\",\"\",COUNTIFS($N$106:$BU$106,L107,$N$111:$BU$111,$CG$68))","v":""},{"$f":"IF(L107=\"\",\"\",COUNTIFS($N$106:$BU$106,L107,$N$111:$BU$111,$CH$68))","v":""},{"$f":"IF(L107=\"\",\"\",COUNTIFS($N$106:$BU$106,L107,$N$111:$BU$111,$CI$68))","v":""},{"$f":"IF(L107=\"\",\"\",COUNTIFS($N$106:$BU$106,L107,$N$111:$BU$111,$CJ$68))","v":""},{"$f":"IF(L107=\"\",\"\",COUNTIFS($N$106:$BU$106,L107,$N$111:$BU$111,$CK$68)+COUNTIFS($N$106:$BU$106,L107,$N$109:$BU$109,$CK$68))","v":""},{"$f":"IF(L107=\"\",\"\",COUNTIFS(N106:BU106,L107,N111:BU111,$CL$68)+COUNTIFS(N106:BU106,L107,N109:BU109,$CL$68))","v":""},{"$f":"IF(L107=\"\",\"\",COUNTIFS(N106:BU106,L107,N111:BU111,$CM$68))","v":""},{"$f":"IF(L107=\"\",\"\",COUNTIFS(N106:BU106,L107,N111:BU111,$CN$68))","v":""},{"$f":"IF(L107=\"\",\"\",COUNTIFS($N$106:$BU$106,L107,$N$107:$BU$107,$CO$68)+COUNTIFS($N$106:$BU$106,L107,$N$108:$BU$108,$CO$68))","v":""},null,null,null,null,null,null,null,{"$f":"IF(DA107=\"\",\"\",VLOOKUP(DA107,$C$19:$E$24,3,FALSE))","v":""},null,null,{"$f":"IF(CX107=\"\",\"\",VLOOKUP(CY107,$C$5:$F$13,4,FALSE))","v":""},null,null,null,null,null,null,null,null,null,null,null,null,null,null,null,null,null,null,null,null,null,null,null,null,null,null,null,{"$f":"IF($E$19=\"\",\"\",$E$19)","v":""},{"$f":"IF(L107=\"\",\"\",L107)","v":""},{"$f":"IF(EC107=\"\",\"\",VLOOKUP(EC107,$C$94:$D$123,2,FALSE))","v":""},{"$f":"IF(EC107=\"\",\"\",COUNTIFS($N$106:$BU$106,EC107,$N$111:$BU$111,\"RZ\"))","v":""},{"$f":"IF(EC107=\"\",\"\",COUNTIFS(N106:BU106,EC107,N110:BU110,\"ZH\"))","v":""},null,null,null,null,null,null,null,null,null,null,"左",{"$f":"IF($EO$41=\"\",\"\",SUMIF($EQ$5:$EQ$40,$EQ$42,ER70:ER105))","v":""},{"$f":"IF($EO$41=\"\",\"\",SUMIF($EQ$5:$EQ$40,$EQ$42,ES70:ES105))","v":""},"","","","","","","","","","","","","","","","","",null,null,null,null,null,null,null,null,null,null,null,null,null,null,null,null,null,null,null,null,null,null,null,null,null,null,null,null,null,null,null,null,null,null,null,null,null,null,null,null,null,null,null,null,null,null,null,null,null,null,null,null,null,null,null,null,null,null,null,null,null,null,"","",{"$f":"IF(HU107=\"\",\"\",COUNTIFS($N$106:$BU$106,HV107,$N$107:$BU$107,$HW$68)+COUNTIFS($N$106:$BU$106,HV107,$N$108:$BU$108,$HW$68))","v":""},{"$f":"IF(HU107=\"\",\"\",COUNTIFS($N$106:$BU$106,HV107,$N$107:$BU$107,$HX$68)+COUNTIFS($N$106:$BU$106,HV107,$N$108:$BU$108,$HX$68))","v":""},{"$f":"IF(HU107=\"\",\"\",COUNTIFS($N$106:$BU$106,HV107,$N$107:$BU$107,$HY$68)+COUNTIFS($N$106:$BU$106,HV107,$N$108:$BU$108,$HY$68))","v":""},{"$f":"IF(HU107=\"\",\"\",COUNTIFS($N$106:$BU$106,HV107,$N$107:$BU$107,$HZ$68)+COUNTIFS($N$106:$BU$106,HV107,$N$108:$BU$108,$HZ$68))","v":""},{"$f":"IF(HU107=\"\",\"\",COUNTIFS($N$106:$BU$106,HV107,$N$107:$BU$107,$IA$68)+COUNTIFS($N$106:$BU$106,HV107,$N$108:$BU$108,$IA$68))","v":""},{"$f":"IF(HU107=\"\",\"\",COUNTIFS($N$106:$BU$106,HV107,$N$107:$BU$107,$IB$68)+COUNTIFS($N$106:$BU$106,HV107,$N$108:$BU$108,$IB$68))","v":""}]
[null,null,0,null,null,null,null,null,null,null,null,null,null,null,null,null,null,null,null,null,null,null,null,null,null,null,null,null,null,null,null,null,null,null,null,null,null,null,null,null,null,null,null,null,null,null,null,null,null,null,null,null,null,null,null,null,null,null,null,null,null,null,null,null,null,null,null,null,null,null,null,null,null,{"$f":"IF(K108=\"\",\"\",VLOOKUP(K108,$C$19:$E$25,3,FALSE))","v":""},{"$f":"IF(L108=\"\",\"\",(BX108+CG108+CH108+CI108))","v":""},"",{"$f":"IF(L108=\"\",\"\",COUNTIFS($N$106:$BU$106,L108,$N$111:$BU$111,$BY$68))","v":""},{"$f":"IF(L108=\"\",\"\",COUNTIFS($N$106:$BU$106,L108,$N$111:$BU$111,$BZ$68))","v":""},{"$f":"IF(L108=\"\",\"\",COUNTIFS($N$106:$BU$106,L108,$N$109:$BU$109,$CA$68))","v":""},{"$f":"IF(L108=\"\",\"\",COUNTIFS($N$106:$BU$106,L108,$N$109:$BU$109,$CB$68))","v":""},{"$f":"IF(L108=\"\",\"\",COUNTIFS($N$106:$BU$106,L108,$N$111:$BU$111,$CC$68))","v":""},{"$f":"IF(L108=\"\",\"\",COUNTIFS($N$106:$BU$106,L108,$N$111:$BU$111,$CD$68)+COUNTIFS($N$106:$BU$106,L108,$N$110:$BU$110,$CD$68)+COUNTIFS($N$106:$BU$106,L108,$N$109:$BU$109,$CD$68))","v":""},{"$f":"IF(L108=\"\",\"\",COUNTIFS($N$106:$BU$106,L108,$N$110:$BU$110,$CE$68))","v":""},{"$f":"IF(L108=\"\",\"\",COUNTIFS($N$106:$BU$106,L108,$N$111:$BU$111,$CF$68))","v":""},{"$f":"IF(L108=\"\",\"\",COUNTIFS($N$106:$BU$106,L108,$N$111:$BU$111,$CG$68))","v":""},{"$f":"IF(L108=\"\",\"\",COUNTIFS($N$106:$BU$106,L108,$N$111:$BU$111,$CH$68))","v":""},{"$f":"IF(L108=\"\",\"\",COUNTIFS($N$106:$BU$106,L108,$N$111:$BU$111,$CI$68))","v":""},{"$f":"IF(L108=\"\",\"\",COUNTIFS($N$106:$BU$106,L108,$N$111:$BU$111,$CJ$68))","v":""},{"$f":"IF(L108=\"\",\"\",COUNTIFS($N$106:$BU$106,L108,$N$111:$BU$111,$CK$68)+COUNTIFS($N$106:$BU$106,L108,$N$109:$BU$109,$CK$68))","v":""},{"$f":"IF(L108=\"\",\"\",COUNTIFS(N107:BU107,L108,N112:BU112,$CL$68)+COUNTIFS(N107:BU107,L108,N110:BU110,$CL$68))","v":""},{"$f":"IF(L108=\"\",\"\",COUNTIFS(N107:BU107,L108,N112:BU112,$CM$68))","v":""},{"$f":"IF(L108=\"\",\"\",COUNTIFS(N107:BU107,L108,N112:BU112,$CN$68))","v":""},{"$f":"IF(L108=\"\",\"\",COUNTIFS($N$106:$BU$106,L108,$N$107:$BU$107,$CO$68)+COUNTIFS($N$106:$BU$106,L108,$N$108:$BU$108,$CO$68))","v":""},null,null,null,null,null,null,null,"",null,null,{"$f":"IF(CX108=\"\",\"\",VLOOKUP(CY108,$C$5:$F$13,4,FALSE))","v":""},null,null,null,null,null,null,null,null,null,null,null,null,null,null,null,null,null,null,null,null,null,null,null,null,null,null,null,{"$f":"IF($E$20=\"\",\"\",$E$20)","v":""},{"$f":"IF(L108=\"\",\"\",L108)","v":""},null,{"$f":"IF(EC108=\"\",\"\",COUNTIFS($N$106:$BU$106,EC108,$N$111:$BU$111,\"RZ\"))","v":""},{"$f":"IF(EC108=\"\",\"\",COUNTIFS(N107:BU107,EC108,N111:BU111,\"ZH\"))","v":""},null,null,null,null,null,null,null,null,null,null,null,null,null,null,null,null,null,null,null,null,null,null,null,null,null,null,null,null,null,null,null,null,null,null,null,null,null,null,null,null,null,null,null,null,null,null,null,null,null,null,null,null,null,null,null,null,null,null,null,null,null,null,null,null,null,null,null,null,null,null,null,null,null,null,null,null,null,null,null,null,null,null,null,null,null,null,null,null,null,null,null,null,"","",{"$f":"IF(HU108=\"\",\"\",COUNTIFS($N$106:$BU$106,HV108,$N$107:$BU$107,$HW$68)+COUNTIFS($N$106:$BU$106,HV108,$N$108:$BU$108,$HW$68))","v":""},{"$f":"IF(HU108=\"\",\"\",COUNTIFS($N$106:$BU$106,HV108,$N$107:$BU$107,$HX$68)+COUNTIFS($N$106:$BU$106,HV108,$N$108:$BU$108,$HX$68))","v":""},{"$f":"IF(HU108=\"\",\"\",COUNTIFS($N$106:$BU$106,HV108,$N$107:$BU$107,$HY$68)+COUNTIFS($N$106:$BU$106,HV108,$N$108:$BU$108,$HY$68))","v":""},{"$f":"IF(HU108=\"\",\"\",COUNTIFS($N$106:$BU$106,HV108,$N$107:$BU$107,$HZ$68)+COUNTIFS($N$106:$BU$106,HV108,$N$108:$BU$108,$HZ$68))","v":""},{"$f":"IF(HU108=\"\",\"\",COUNTIFS($N$106:$BU$106,HV108,$N$107:$BU$107,$IA$68)+COUNTIFS($N$106:$BU$106,HV108,$N$108:$BU$108,$IA$68))","v":""},{"$f":"IF(HU108=\"\",\"\",COUNTIFS($N$106:$BU$106,HV108,$N$107:$BU$107,$IB$68)+COUNTIFS($N$106:$BU$106,HV108,$N$108:$BU$108,$IB$68))","v":""}]
[null,null,0,null,null,null,null,null,null,null,null,null,null,null,null,null,null,null,null,null,null,null,null,null,null,null,null,null,null,null,null,null,null,null,null,null,null,null,null,null,null,null,null,null,null,null,null,null,null,null,null,null,null,null,null,null,null,null,null,null,null,null,null,null,null,null,null,null,null,null,null,null,null,"",{"$f":"IF(L109=\"\",\"\",(BX109+CG109+CH109+CI109))","v":""},"",{"$f":"IF(L109=\"\",\"\",COUNTIFS($N$106:$BU$106,L109,$N$111:$BU$111,$BY$68))","v":""},{"$f":"IF(L109=\"\",\"\",COUNTIFS($N$106:$BU$106,L109,$N$111:$BU$111,$BZ$68))","v":""},{"$f":"IF(L109=\"\",\"\",COUNTIFS($N$106:$BU$106,L109,$N$109:$BU$109,$CA$68))","v":""},{"$f":"IF(L109=\"\",\"\",COUNTIFS($N$106:$BU$106,L109,$N$109:$BU$109,$CB$68))","v":""},{"$f":"IF(L109=\"\",\"\",COUNTIFS($N$106:$BU$106,L109,$N$111:$BU$111,$CC$68))","v":""},{"$f":"IF(L109=\"\",\"\",COUNTIFS($N$106:$BU$106,L109,$N$111:$BU$111,$CD$68)+COUNTIFS($N$106:$BU$106,L109,$N$110:$BU$110,$CD$68)+COUNTIFS($N$106:$BU$106,L109,$N$109:$BU$109,$CD$68))","v":""},{"$f":"IF(L109=\"\",\"\",COUNTIFS($N$106:$BU$106,L109,$N$110:$BU$110,$CE$68))","v":""},{"$f":"IF(L109=\"\",\"\",COUNTIFS($N$106:$BU$106,L109,$N$111:$BU$111,$CF$68))","v":""},{"$f":"IF(L109=\"\",\"\",COUNTIFS($N$106:$BU$106,L109,$N$111:$BU$111,$CG$68))","v":""},{"$f":"IF(L109=\"\",\"\",COUNTIFS($N$106:$BU$106,L109,$N$111:$BU$111,$CH$68))","v":""},{"$f":"IF(L109=\"\",\"\",COUNTIFS($N$106:$BU$106,L109,$N$111:$BU$111,$CI$68))","v":""},{"$f":"IF(L109=\"\",\"\",COUNTIFS($N$106:$BU$106,L109,$N$111:$BU$111,$CJ$68))","v":""},{"$f":"IF(L109=\"\",\"\",COUNTIFS($N$106:$BU$106,L109,$N$111:$BU$111,$CK$68)+COUNTIFS($N$106:$BU$106,L109,$N$109:$BU$109,$CK$68))","v":""},{"$f":"IF(L109=\"\",\"\",COUNTIFS(N108:BU108,L109,N113:BU113,$CL$68)+COUNTIFS(N108:BU108,L109,N111:BU111,$CL$68))","v":""},{"$f":"IF(L109=\"\",\"\",COUNTIFS(N108:BU108,L109,N113:BU113,$CM$68))","v":""},{"$f":"IF(L109=\"\",\"\",COUNTIFS(N108:BU108,L109,N113:BU113,$CN$68))","v":""},"",null,null,null,null,null,null,null,"",null,null,{"$f":"IF(CX109=\"\",\"\",VLOOKUP(CY109,$C$5:$F$13,4,FALSE))","v":""},null,null,null,null,{"$f":"IF(DF109=\"\",\"\",$V$67)","v":""},{"$f":"IF(D84=\"\",\"\",D84)","v":""},{"$f":"IF(F84=\"\",\"\",F84)","v":""},{"$f":"IF(D84=\"\",\"\",C84)","v":""},{"$f":"IF(DF109=\"\",\"\",COUNTIFS($CP$6:$CP$58,DH109,$CV$6:$CV$58,\"G\"))","v":""},{"$f":"IF(DF109=\"\",\"\",COUNTIFS($CP$6:$CP$58,DH109,$CV$6:$CV$58,\"A\"))","v":""},{"$f":"IF(DG109=\"\",\"\",(DI109+DJ109))","v":""},null,null,null,null,null,null,null,null,null,null,null,null,null,null,null,null,{"$f":"IF($E$21=\"\",\"\",$E$21)","v":""},{"$f":"IF(L109=\"\",\"\",L109)","v":""},null,{"$f":"IF(EC109=\"\",\"\",COUNTIFS($N$106:$BU$106,EC109,$N$111:$BU$111,\"RZ\"))","v":""},{"$f":"IF(EC109=\"\",\"\",COUNTIFS(N108:BU108,EC109,N112:BU112,\"ZH\"))","v":""},null,null,null,null,null,null,null,null,null,null,null,null,null,null,null,null,null,null,null,null,null,null,null,null,null,null,null,null,null,null,null,null,null,null,null,null,null,null,null,null,null,null,null,null,null,null,null,null,null,null,null,null,null,null,null,null,null,null,null,null,null,null,null,null,null,null,null,null,null,null,null,null,null,null,null,null,null,null,null,null,null,null,null,null,null,null,null,null,null,null,null,null,"","","","","","","",""]
[null,null,0,null,null,null,null,null,null,null,null,null,null,null,null,null,null,null,null,null,null,null,null,null,null,null,null,null,null,null,null,null,null,null,null,null,null,null,null,null,null,null,null,null,null,null,null,null,null,null,null,null,null,null,null,null,null,null,null,null,null,null,null,null,null,null,null,null,null,null,null,null,null,"",{"$f":"IF(L110=\"\",\"\",(BX110+CG110+CH110+CI110))","v":""},"",{"$f":"IF(L110=\"\",\"\",COUNTIFS($N$106:$BU$106,L110,$N$111:$BU$111,$BY$68))","v":""},{"$f":"IF(L110=\"\",\"\",COUNTIFS($N$106:$BU$106,L110,$N$111:$BU$111,$BZ$68))","v":""},{"$f":"IF(L110=\"\",\"\",COUNTIFS($N$106:$BU$106,L110,$N$109:$BU$109,$CA$68))","v":""},{"$f":"IF(L110=\"\",\"\",COUNTIFS($N$106:$BU$106,L110,$N$109:$BU$109,$CB$68))","v":""},{"$f":"IF(L110=\"\",\"\",COUNTIFS($N$106:$BU$106,L110,$N$111:$BU$111,$CC$68))","v":""},{"$f":"IF(L110=\"\",\"\",COUNTIFS($N$106:$BU$106,L110,$N$111:$BU$111,$CD$68)+COUNTIFS($N$106:$BU$106,L110,$N$110:$BU$110,$CD$68)+COUNTIFS($N$106:$BU$106,L110,$N$109:$BU$109,$CD$68))","v":""},{"$f":"IF(L110=\"\",\"\",COUNTIFS($N$106:$BU$106,L110,$N$110:$BU$110,$CE$68))","v":""},{"$f":"IF(L110=\"\",\"\",COUNTIFS($N$106:$BU$106,L110,$N$111:$BU$111,$CF$68))","v":""},{"$f":"IF(L110=\"\",\"\",COUNTIFS($N$106:$BU$106,L110,$N$111:$BU$111,$CG$68))","v":""},{"$f":"IF(L110=\"\",\"\",COUNTIFS($N$106:$BU$106,L110,$N$111:$BU$111,$CH$68))","v":""},{"$f":"IF(L110=\"\",\"\",COUNTIFS($N$106:$BU$106,L110,$N$111:$BU$111,$CI$68))","v":""},{"$f":"IF(L110=\"\",\"\",COUNTIFS($N$106:$BU$106,L110,$N$111:$BU$111,$CJ$68))","v":""},{"$f":"IF(L110=\"\",\"\",COUNTIFS($N$106:$BU$106,L110,$N$111:$BU$111,$CK$68)+COUNTIFS($N$106:$BU$106,L110,$N$109:$BU$109,$CK$68))","v":""},{"$f":"IF(L110=\"\",\"\",COUNTIFS(N109:BU109,L110,N114:BU114,$CL$68)+COUNTIFS(N109:BU109,L110,N112:BU112,$CL$68))","v":""},{"$f":"IF(L110=\"\",\"\",COUNTIFS(N109:BU109,L110,N114:BU114,$CM$68))","v":""},{"$f":"IF(L110=\"\",\"\",COUNTIFS(N109:BU109,L110,N114:BU114,$CN$68))","v":""},"",null,null,null,null,null,null,null,"",null,null,{"$f":"IF(CX110=\"\",\"\",VLOOKUP(CY110,$C$5:$F$13,4,FALSE))","v":""},null,null,null,null,"",{"$f":"IF(D85=\"\",\"\",D85)","v":""},{"$f":"IF(F85=\"\",\"\",F85)","v":""},{"$f":"IF(D85=\"\",\"\",C85)","v":""},{"$f":"IF(DF110=\"\",\"\",COUNTIFS($CP$6:$CP$58,DH110,$CV$6:$CV$58,\"G\"))","v":""},{"$f":"IF(DF110=\"\",\"\",COUNTIFS($CP$6:$CP$58,DH110,$CV$6:$CV$58,\"A\"))","v":""},{"$f":"IF(DG110=\"\",\"\",(DI110+DJ110))","v":""},null,null,null,null,null,null,null,null,null,null,null,null,null,null,null,null,{"$f":"IF($E$22=\"\",\"\",$E$22)","v":""},{"$f":"IF(L110=\"\",\"\",L110)","v":""},null,{"$f":"IF(EC110=\"\",\"\",COUNTIFS($N$106:$BU$106,EC110,$N$111:$BU$111,\"RZ\"))","v":""},{"$f":"IF(EC110=\"\",\"\",COUNTIFS(N109:BU109,EC110,N113:BU113,\"ZH\"))","v":""},null,null,null,null,null,null,null,null,null,null,null,null,null,null,null,null,null,null,null,null,null,null,null,null,null,null,null,null,null,null,null,null,null,null,null,null,null,null,null,null,null,null,null,null,null,null,null,null,null,null,null,null,null,null,null,null,null,null,null,null,null,null,null,null,null,null,null,null,null,null,null,null,null,null,null,null,null,null,null,null,null,null,null,null,null,null,null,null,null,null,null,null,"","","","","","","",""]
[null,null,0,null,null,null,null,null,null,{"$f":"IF(L111=\"\",\"\",VLOOKUP(L111,$C$94:$D$123,2,FALSE))","v":""},null,null,null,null,null,null,null,null,null,null,null,null,null,null,null,null,null,null,null,null,null,null,null,null,null,null,null,null,null,null,null,null,null,null,null,null,null,null,null,null,null,null,null,null,null,null,null,null,null,null,null,null,null,null,null,null,null,null,null,null,null,null,null,"",{"$f":"IF(L111=\"\",\"\",(BX111+CG111+CH111+CI111))","v":""},"",{"$f":"IF(L111=\"\",\"\",COUNTIFS($N$106:$BU$106,L111,$N$111:$BU$111,$BY$68))","v":""},{"$f":"IF(L111=\"\",\"\",COUNTIFS($N$106:$BU$106,L111,$N$111:$BU$111,$BZ$68))","v":""},{"$f":"IF(L111=\"\",\"\",COUNTIFS($N$106:$BU$106,L111,$N$109:$BU$109,$CA$68))","v":""},{"$f":"IF(L111=\"\",\"\",COUNTIFS($N$106:$BU$106,L111,$N$109:$BU$109,$CB$68))","v":""},{"$f":"IF(L111=\"\",\"\",COUNTIFS($N$106:$BU$106,L111,$N$111:$BU$111,$CC$68))","v":""},{"$f":"IF(L111=\"\",\"\",COUNTIFS($N$106:$BU$106,L111,$N$111:$BU$111,$CD$68)+COUNTIFS($N$106:$BU$106,L111,$N$110:$BU$110,$CD$68)+COUNTIFS($N$106:$BU$106,L111,$N$109:$BU$109,$CD$68))","v":""},{"$f":"IF(L111=\"\",\"\",COUNTIFS($N$106:$BU$106,L111,$N$110:$BU$110,$CE$68))","v":""},{"$f":"IF(L111=\"\",\"\",COUNTIFS($N$106:$BU$106,L111,$N$111:$BU$111,$CF$68))","v":""},{"$f":"IF(L111=\"\",\"\",COUNTIFS($N$106:$BU$106,L111,$N$111:$BU$111,$CG$68))","v":""},{"$f":"IF(L111=\"\",\"\",COUNTIFS($N$106:$BU$106,L111,$N$111:$BU$111,$CH$68))","v":""},{"$f":"IF(L111=\"\",\"\",COUNTIFS($N$106:$BU$106,L111,$N$111:$BU$111,$CI$68))","v":""},{"$f":"IF(L111=\"\",\"\",COUNTIFS($N$106:$BU$106,L111,$N$111:$BU$111,$CJ$68))","v":""},{"$f":"IF(L111=\"\",\"\",COUNTIFS($N$106:$BU$106,L111,$N$111:$BU$111,$CK$68)+COUNTIFS($N$106:$BU$106,L111,$N$109:$BU$109,$CK$68))","v":""},{"$f":"IF(L111=\"\",\"\",COUNTIFS(N110:BU110,L111,N115:BU115,$CL$68)+COUNTIFS(N110:BU110,L111,N113:BU113,$CL$68))","v":""},{"$f":"IF(L111=\"\",\"\",COUNTIFS(N110:BU110,L111,N115:BU115,$CM$68))","v":""},{"$f":"IF(L111=\"\",\"\",COUNTIFS(N110:BU110,L111,N115:BU115,$CN$68))","v":""},"",null,null,null,null,null,null,null,"",null,null,{"$f":"IF(CX111=\"\",\"\",VLOOKUP(CY111,$C$5:$F$13,4,FALSE))","v":""},null,null,null,null,"","","","","","","",null,null,null,null,null,null,null,null,null,null,null,null,null,null,null,null,{"$f":"IF($E$23=\"\",\"\",$E$23)","v":""},{"$f":"IF(L111=\"\",\"\",L111)","v":""},"",{"$f":"IF(EC111=\"\",\"\",COUNTIFS($N$106:$BU$106,EC111,$N$111:$BU$111,\"RZ\"))","v":""},{"$f":"IF(EC111=\"\",\"\",COUNTIFS(N110:BU110,EC111,N114:BU114,\"ZH\"))","v":""},null,null,null,null,null,null,null,null,null,null,null,null,null,null,null,null,null,null,null,null,null,null,null,null,null,null,null,null,null,null,null,null,null,null,null,null,null,null,null,null,null,null,null,null,null,null,null,null,null,null,null,null,null,null,null,null,null,null,null,null,null,null,null,null,null,null,null,null,null,null,null,null,null,null,null,null,null,null,null,null,null,null,null,null,null,null,null,null,null,null,null,null,"","","","","","","",""]
[null,null,0,null,null,null,null,null,null,null,null,null,"打者背番号を入力➡",null,{"$f":"N112","v":0},{"$f":"N112","v":0},{"$f":"N112","v":0},{"$f":"N112","v":0},null,{"$f":"S112","v":0},{"$f":"S112","v":0},{"$f":"S112","v":0},{"$f":"S112","v":0},null,{"$f":"X112","v":0},{"$f":"X112","v":0},{"$f":"X112","v":0},{"$f":"X112","v":0},null,{"$f":"AC112","v":0},{"$f":"AC112","v":0},{"$f":"AC112","v":0},{"$f":"AC112","v":0},null,{"$f":"AH112","v":0},{"$f":"AH112","v":0},{"$f":"AH112","v":0},{"$f":"AH112","v":0},null,{"$f":"AM112","v":0},{"$f":"AM112","v":0},{"$f":"AM112","v":0},{"$f":"AM112","v":0},null,{"$f":"AR112","v":0},{"$f":"AR112","v":0},{"$f":"AR112","v":0},{"$f":"AR112","v":0},null,{"$f":"AW112","v":0},{"$f":"AW112","v":0},{"$f":"AW112","v":0},{"$f":"AW112","v":0},null,{"$f":"BB112","v":0},{"$f":"BB112","v":0},{"$f":"BB112","v":0},{"$f":"BB112","v":0},null,{"$f":"BG112","v":0},{"$f":"BG112","v":0},{"$f":"BG112","v":0},{"$f":"BG112","v":0},null,{"$f":"BL112","v":0},{"$f":"BL112","v":0},{"$f":"BL112","v":0},{"$f":"BL112","v":0},null,{"$f":"BQ112","v":0},{"$f":"BQ112","v":0},{"$f":"BQ112","v":0},{"$f":"BQ112","v":0},null,null,null,null,null,null,null,null,null,null,null,null,null,null,null,null,null,null,null,null,null,null,null,null,null,null,null,null,null,null,null,null,null,null,null,"","","","","","","",null,null,null,null,null,null,null,null,null,null,null,null,null,null,null,null,null,null,null,null,null,null,null,null,null,null,null,null,null,null,null,null,null,null,null,null,null,null,null,null,null,null,null,null,null,null,null,null,null,null,null,null,null,null,null,null,null,null,null,null,null,null,null,null,null,null,null,null,null,null,null,null,null,null,null,null,null,null,null,null,null,null,null,null,null,null,null,null,null,null,null,null,null,null,null,null,null,null,null,null,null,null,null,null,null,null,null,null,null,null,null,null,null,null,""]
[null,null,0,null,null,null,null,null,{"$f":"IF(C77=\"\",\"\",C77)","v":""},{"$f":"IF(D77=\"\",\"\",D77)","v":""},{"$f":"IF(J113=\"\",\"\",\"先\")","v":""},{"$f":"IF(J113=\"\",\"\",F77)","v":""},"⑧",null,null,null,null,null,null,null,null,null,null,null,null,null,null,null,null,null,null,null,null,null,null,null,null,null,null,null,null,null,null,null,null,null,null,null,null,null,null,null,null,null,null,null,null,null,null,null,null,null,null,null,null,null,null,null,null,null,null,null,null,{"$f":"IF(K113=\"\",\"\",VLOOKUP(K113,$C$19:$E$25,3,FALSE))","v":""},{"$f":"IF(L113=\"\",\"\",(BX113+CG113+CH113+CI113))","v":""},"",{"$f":"IF(L113=\"\",\"\",COUNTIFS($N$112:$BU$112,L113,$N$117:$BU$117,$BY$68))","v":""},{"$f":"IF(L113=\"\",\"\",COUNTIFS($N$112:$BU$112,L113,$N$117:$BU$117,$BZ$68))","v":""},{"$f":"IF(L113=\"\",\"\",COUNTIFS($N$112:$BU$112,L113,$N$115:$BU$115,$CA$68))","v":""},{"$f":"IF(L113=\"\",\"\",COUNTIFS($N$112:$BU$112,L113,$N$115:$BU$115,$CB$68))","v":""},{"$f":"IF(L113=\"\",\"\",COUNTIFS($N$112:$BU$112,L113,$N$117:$BU$117,$CC$68))","v":""},{"$f":"IF(L113=\"\",\"\",COUNTIFS($N$112:$BU$112,L113,$N$117:$BU$117,$CD$68)+COUNTIFS($N$112:$BU$112,L113,$N$116:$BU$116,$CD$68)+COUNTIFS($N$112:$BU$112,L113,$N$115:$BU$115,$CD$68))","v":""},{"$f":"IF(L113=\"\",\"\",COUNTIFS($N$112:$BU$112,L113,$N$116:$BU$116,$CE$68))","v":""},{"$f":"IF(L113=\"\",\"\",COUNTIFS($N$112:$BU$112,L113,$N$117:$BU$117,$CF$68))","v":""},{"$f":"IF(L113=\"\",\"\",COUNTIFS($N$112:$BU$112,L113,$N$117:$BU$117,$CG$68))","v":""},{"$f":"IF(L113=\"\",\"\",COUNTIFS($N$112:$BU$112,L113,$N$117:$BU$117,$CH$68))","v":""},{"$f":"IF(L113=\"\",\"\",COUNTIFS($N$112:$BU$112,L113,$N$117:$BU$117,$CI$68))","v":""},{"$f":"IF(L113=\"\",\"\",COUNTIFS($N$112:$BU$112,L113,$N$117:$BU$117,$CJ$68))","v":""},{"$f":"IF(L113=\"\",\"\",COUNTIFS($N$112:$BU$112,L113,$N$117:$BU$117,$CK$68)+COUNTIFS($N$112:$BU$112,L113,$N$115:$BU$115,$CK$68))","v":""},{"$f":"IF(L113=\"\",\"\",COUNTIFS($N$112:$BU$112,L113,$N$117:$BU$117,$CL$68)+COUNTIFS($N$112:$BU$112,L113,$N$115:$BU$115,$CL$68))","v":""},{"$f":"IF(L113=\"\",\"\",COUNTIFS($N$112:$BU$112,L113,$N$117:$BU$117,$CM$68))","v":""},{"$f":"IF(L113=\"\",\"\",COUNTIFS($N$112:$BU$112,L113,$N$117:$BU$117,$CN$68))","v":""},{"$f":"IF(L113=\"\",\"\",COUNTIFS($N$112:$BU$112,L113,$N$113:$BU$113,$CO$68)+COUNTIFS($N$112:$BU$112,L113,$N$114:$BU$114,$CO$68))","v":""},null,null,null,null,null,null,null,{"$f":"IF(DA113=\"\",\"\",VLOOKUP(DA113,$C$19:$E$24,3,FALSE))","v":""},null,null,{"$f":"IF(CX113=\"\",\"\",VLOOKUP(CY113,$C$5:$F$13,4,FALSE))","v":""},null,null,null,null,"","","","","","","",null,null,null,null,null,null,null,null,null,null,null,null,null,null,null,null,{"$f":"IF($E$19=\"\",\"\",$E$19)","v":""},{"$f":"IF(L113=\"\",\"\",L113)","v":""},{"$f":"IF(EC113=\"\",\"\",VLOOKUP(EC113,$C$94:$D$123,2,FALSE))","v":""},{"$f":"IF(EC113=\"\",\"\",COUNTIFS($N$112:$BU$112,EC113,$N$117:$BU$117,\"RZ\"))","v":""},{"$f":"IF(EC113=\"\",\"\",COUNTIFS($N$112:$BU$112,EC113,$N$116:$BU$116,\"ZH\"))","v":""},null,null,null,null,null,null,null,null,null,null,null,null,null,null,null,null,null,null,null,null,null,null,null,null,null,null,null,null,null,null,null,null,null,null,null,null,null,null,null,null,null,null,null,null,null,null,null,null,null,null,null,null,null,null,null,null,null,null,null,null,null,null,null,null,null,null,null,null,null,null,null,null,null,null,null,null,null,null,null,null,null,null,null,null,null,null,null,null,null,null,null,null,"","",{"$f":"IF(HU113=\"\",\"\",COUNTIFS($N$112:$BU$112,HV113,$N$113:$BU$113,$HW$68)+COUNTIFS($N$112:$BU$112,HV113,$N$114:$BU$114,$HW$68))","v":""},{"$f":"IF(HU113=\"\",\"\",COUNTIFS($N$112:$BU$112,HV113,$N$113:$BU$113,$HX$68)+COUNTIFS($N$112:$BU$112,HV113,$N$114:$BU$114,$HX$68))","v":""},{"$f":"IF(HU113=\"\",\"\",COUNTIFS($N$112:$BU$112,HV113,$N$113:$BU$113,$HY$68)+COUNTIFS($N$112:$BU$112,HV113,$N$114:$BU$114,$HY$68))","v":""},{"$f":"IF(HU113=\"\",\"\",COUNTIFS($N$112:$BU$112,HV113,$N$113:$BU$113,$HZ$68)+COUNTIFS($N$112:$BU$112,HV113,$N$114:$BU$114,$HZ$68))","v":""},{"$f":"IF(HU113=\"\",\"\",COUNTIFS($N$112:$BU$112,HV113,$N$113:$BU$113,$IA$68)+COUNTIFS($N$112:$BU$112,HV113,$N$114:$BU$114,$IA$68))","v":""},{"$f":"IF(HU113=\"\",\"\",COUNTIFS($N$112:$BU$112,HV113,$N$113:$BU$113,$IB$68)+COUNTIFS($N$112:$BU$112,HV113,$N$114:$BU$114,$IB$68))","v":""}]
[null,null,0,null,null,null,null,null,null,null,null,null,null,null,null,null,null,null,null,null,null,null,null,null,null,null,null,null,null,null,null,null,null,null,null,null,null,null,null,null,null,null,null,null,null,null,null,null,null,null,null,null,null,null,null,null,null,null,null,null,null,null,null,null,null,null,null,null,null,null,null,null,null,{"$f":"IF(K114=\"\",\"\",VLOOKUP(K114,$C$19:$E$25,3,FALSE))","v":""},{"$f":"IF(L114=\"\",\"\",(BX114+CG114+CH114+CI114))","v":""},"",{"$f":"IF(L114=\"\",\"\",COUNTIFS($N$112:$BU$112,L114,$N$117:$BU$117,$BY$68))","v":""},{"$f":"IF(L114=\"\",\"\",COUNTIFS($N$112:$BU$112,L114,$N$117:$BU$117,$BZ$68))","v":""},{"$f":"IF(L114=\"\",\"\",COUNTIFS($N$112:$BU$112,L114,$N$115:$BU$115,$CA$68))","v":""},{"$f":"IF(L114=\"\",\"\",COUNTIFS($N$112:$BU$112,L114,$N$115:$BU$115,$CB$68))","v":""},{"$f":"IF(L114=\"\",\"\",COUNTIFS($N$112:$BU$112,L114,$N$117:$BU$117,$CC$68))","v":""},{"$f":"IF(L114=\"\",\"\",COUNTIFS($N$112:$BU$112,L114,$N$117:$BU$117,$CD$68)+COUNTIFS($N$112:$BU$112,L114,$N$116:$BU$116,$CD$68)+COUNTIFS($N$112:$BU$112,L114,$N$115:$BU$115,$CD$68))","v":""},{"$f":"IF(L114=\"\",\"\",COUNTIFS($N$112:$BU$112,L114,$N$116:$BU$116,$CE$68))","v":""},{"$f":"IF(L114=\"\",\"\",COUNTIFS($N$112:$BU$112,L114,$N$117:$BU$117,$CF$68))","v":""},{"$f":"IF(L114=\"\",\"\",COUNTIFS($N$112:$BU$112,L114,$N$117:$BU$117,$CG$68))","v":""},{"$f":"IF(L114=\"\",\"\",COUNTIFS($N$112:$BU$112,L114,$N$117:$BU$117,$CH$68))","v":""},{"$f":"IF(L114=\"\",\"\",COUNTIFS($N$112:$BU$112,L114,$N$117:$BU$117,$CI$68))","v":""},{"$f":"IF(L114=\"\",\"\",COUNTIFS($N$112:$BU$112,L114,$N$117:$BU$117,$CJ$68))","v":""},{"$f":"IF(L114=\"\",\"\",COUNTIFS($N$112:$BU$112,L114,$N$117:$BU$117,$CK$68)+COUNTIFS($N$112:$BU$112,L114,$N$115:$BU$115,$CK$68))","v":""},{"$f":"IF(L114=\"\",\"\",COUNTIFS($N$112:$BU$112,L114,$N$117:$BU$117,$CL$68)+COUNTIFS($N$112:$BU$112,L114,$N$115:$BU$115,$CL$68))","v":""},{"$f":"IF(L114=\"\",\"\",COUNTIFS($N$112:$BU$112,L114,$N$117:$BU$117,$CM$68))","v":""},{"$f":"IF(L114=\"\",\"\",COUNTIFS($N$112:$BU$112,L114,$N$117:$BU$117,$CN$68))","v":""},{"$f":"IF(L114=\"\",\"\",COUNTIFS($N$112:$BU$112,L114,$N$113:$BU$113,$CO$68)+COUNTIFS($N$112:$BU$112,L114,$N$114:$BU$114,$CO$68))","v":""},null,null,null,null,null,null,null,"",null,null,{"$f":"IF(CX114=\"\",\"\",VLOOKUP(CY114,$C$5:$F$13,4,FALSE))","v":""},null,null,null,null,"","","","","","","",null,null,null,null,null,null,null,null,null,null,null,null,null,null,null,null,{"$f":"IF($E$20=\"\",\"\",$E$20)","v":""},{"$f":"IF(L114=\"\",\"\",L114)","v":""},null,{"$f":"IF(EC114=\"\",\"\",COUNTIFS($N$112:$BU$112,EC114,$N$117:$BU$117,\"RZ\"))","v":""},{"$f":"IF(EC114=\"\",\"\",COUNTIFS($N$112:$BU$112,EC114,$N$116:$BU$116,\"ZH\"))","v":""},null,null,null,null,null,null,null,null,null,null,null,null,null,null,null,null,null,null,null,null,null,null,null,null,null,null,null,null,null,null,null,null,null,null,null,null,null,null,null,null,null,null,null,null,null,null,null,null,null,null,null,null,null,null,null,null,null,null,null,null,null,null,null,null,null,null,null,null,null,null,null,null,null,null,null,null,null,null,null,null,null,null,null,null,null,null,null,null,null,null,null,null,"","",{"$f":"IF(HU114=\"\",\"\",COUNTIFS($N$112:$BU$112,HV114,$N$113:$BU$113,$HW$68)+COUNTIFS($N$112:$BU$112,HV114,$N$114:$BU$114,$HW$68))","v":""},{"$f":"IF(HU114=\"\",\"\",COUNTIFS($N$112:$BU$112,HV114,$N$113:$BU$113,$HX$68)+COUNTIFS($N$112:$BU$112,HV114,$N$114:$BU$114,$HX$68))","v":""},{"$f":"IF(HU114=\"\",\"\",COUNTIFS($N$112:$BU$112,HV114,$N$113:$BU$113,$HY$68)+COUNTIFS($N$112:$BU$112,HV114,$N$114:$BU$114,$HY$68))","v":""},{"$f":"IF(HU114=\"\",\"\",COUNTIFS($N$112:$BU$112,HV114,$N$113:$BU$113,$HZ$68)+COUNTIFS($N$112:$BU$112,HV114,$N$114:$BU$114,$HZ$68))","v":""},{"$f":"IF(HU114=\"\",\"\",COUNTIFS($N$112:$BU$112,HV114,$N$113:$BU$113,$IA$68)+COUNTIFS($N$112:$BU$112,HV114,$N$114:$BU$114,$IA$68))","v":""},{"$f":"IF(HU114=\"\",\"\",COUNTIFS($N$112:$BU$112,HV114,$N$113:$BU$113,$IB$68)+COUNTIFS($N$112:$BU$112,HV114,$N$114:$BU$114,$IB$68))","v":""}]
[null,null,0,null,null,null,null,null,null,null,null,null,null,null,null,null,null,null,null,null,null,null,null,null,null,null,null,null,null,null,null,null,null,null,null,null,null,null,null,null,null,null,null,null,null,null,null,null,null,null,null,null,null,null,null,null,null,null,null,null,null,null,null,null,null,null,null,null,null,null,null,null,null,"",{"$f":"IF(L115=\"\",\"\",(BX115+CG115+CH115+CI115))","v":""},"",{"$f":"IF(L115=\"\",\"\",COUNTIFS($N$112:$BU$112,L115,$N$117:$BU$117,$BY$68))","v":""},{"$f":"IF(L115=\"\",\"\",COUNTIFS($N$112:$BU$112,L115,$N$117:$BU$117,$BZ$68))","v":""},{"$f":"IF(L115=\"\",\"\",COUNTIFS($N$112:$BU$112,L115,$N$115:$BU$115,$CA$68))","v":""},{"$f":"IF(L115=\"\",\"\",COUNTIFS($N$112:$BU$112,L115,$N$115:$BU$115,$CB$68))","v":""},{"$f":"IF(L115=\"\",\"\",COUNTIFS($N$112:$BU$112,L115,$N$117:$BU$117,$CC$68))","v":""},{"$f":"IF(L115=\"\",\"\",COUNTIFS($N$112:$BU$112,L115,$N$117:$BU$117,$CD$68)+COUNTIFS($N$112:$BU$112,L115,$N$116:$BU$116,$CD$68)+COUNTIFS($N$112:$BU$112,L115,$N$115:$BU$115,$CD$68))","v":""},{"$f":"IF(L115=\"\",\"\",COUNTIFS($N$112:$BU$112,L115,$N$116:$BU$116,$CE$68))","v":""},{"$f":"IF(L115=\"\",\"\",COUNTIFS($N$112:$BU$112,L115,$N$117:$BU$117,$CF$68))","v":""},{"$f":"IF(L115=\"\",\"\",COUNTIFS($N$112:$BU$112,L115,$N$117:$BU$117,$CG$68))","v":""},{"$f":"IF(L115=\"\",\"\",COUNTIFS($N$112:$BU$112,L115,$N$117:$BU$117,$CH$68))","v":""},{"$f":"IF(L115=\"\",\"\",COUNTIFS($N$112:$BU$112,L115,$N$117:$BU$117,$CI$68))","v":""},{"$f":"IF(L115=\"\",\"\",COUNTIFS($N$112:$BU$112,L115,$N$117:$BU$117,$CJ$68))","v":""},{"$f":"IF(L115=\"\",\"\",COUNTIFS($N$112:$BU$112,L115,$N$117:$BU$117,$CK$68)+COUNTIFS($N$112:$BU$112,L115,$N$115:$BU$115,$CK$68))","v":""},{"$f":"IF(L115=\"\",\"\",COUNTIFS($N$112:$BU$112,L115,$N$117:$BU$117,$CL$68)+COUNTIFS($N$112:$BU$112,L115,$N$115:$BU$115,$CL$68))","v":""},{"$f":"IF(L115=\"\",\"\",COUNTIFS($N$112:$BU$112,L115,$N$117:$BU$117,$CM$68))","v":""},{"$f":"IF(L115=\"\",\"\",COUNTIFS($N$112:$BU$112,L115,$N$117:$BU$117,$CN$68))","v":""},{"$f":"IF(L115=\"\",\"\",COUNTIFS($N$112:$BU$112,L115,$N$113:$BU$113,$CO$68)+COUNTIFS($N$112:$BU$112,L115,$N$114:$BU$114,$CO$68))","v":""},null,null,null,null,null,null,null,"",null,null,{"$f":"IF(CX115=\"\",\"\",VLOOKUP(CY115,$C$5:$F$13,4,FALSE))","v":""},null,null,null,null,"","","","","","","",null,null,null,null,null,null,null,null,null,null,null,null,null,null,null,null,{"$f":"IF($E$21=\"\",\"\",$E$21)","v":""},{"$f":"IF(L115=\"\",\"\",L115)","v":""},null,{"$f":"IF(EC115=\"\",\"\",COUNTIFS($N$112:$BU$112,EC115,$N$117:$BU$117,\"RZ\"))","v":""},{"$f":"IF(EC115=\"\",\"\",COUNTIFS($N$112:$BU$112,EC115,$N$116:$BU$116,\"ZH\"))","v":""},null,null,null,null,null,null,null,null,null,null,null,null,null,null,null,null,null,null,null,null,null,null,null,null,null,null,null,null,null,null,null,null,null,null,null,null,null,null,null,null,null,null,null,null,null,null,null,null,null,null,null,null,null,null,null,null,null,null,null,null,null,null,null,null,null,null,null,null,null,null,null,null,null,null,null,null,null,null,null,null,null,null,null,null,null,null,null,null,null,null,null,null,"","","","","","","",""]
[null,null,0,null,null,null,null,null,null,null,null,null,null,null,null,null,null,null,null,null,null,null,null,null,null,null,null,null,null,null,null,null,null,null,null,null,null,null,null,null,null,null,null,null,null,null,null,null,null,null,null,null,null,null,null,null,null,null,null,null,null,null,null,null,null,null,null,null,null,null,null,null,null,"",{"$f":"IF(L116=\"\",\"\",(BX116+CG116+CH116+CI116))","v":""},"",{"$f":"IF(L116=\"\",\"\",COUNTIFS($N$112:$BU$112,L116,$N$117:$BU$117,$BY$68))","v":""},{"$f":"IF(L116=\"\",\"\",COUNTIFS($N$112:$BU$112,L116,$N$117:$BU$117,$BZ$68))","v":""},{"$f":"IF(L116=\"\",\"\",COUNTIFS($N$112:$BU$112,L116,$N$115:$BU$115,$CA$68))","v":""},{"$f":"IF(L116=\"\",\"\",COUNTIFS($N$112:$BU$112,L116,$N$115:$BU$115,$CB$68))","v":""},{"$f":"IF(L116=\"\",\"\",COUNTIFS($N$112:$BU$112,L116,$N$117:$BU$117,$CC$68))","v":""},{"$f":"IF(L116=\"\",\"\",COUNTIFS($N$112:$BU$112,L116,$N$117:$BU$117,$CD$68)+COUNTIFS($N$112:$BU$112,L116,$N$116:$BU$116,$CD$68)+COUNTIFS($N$112:$BU$112,L116,$N$115:$BU$115,$CD$68))","v":""},{"$f":"IF(L116=\"\",\"\",COUNTIFS($N$112:$BU$112,L116,$N$116:$BU$116,$CE$68))","v":""},{"$f":"IF(L116=\"\",\"\",COUNTIFS($N$112:$BU$112,L116,$N$117:$BU$117,$CF$68))","v":""},{"$f":"IF(L116=\"\",\"\",COUNTIFS($N$112:$BU$112,L116,$N$117:$BU$117,$CG$68))","v":""},{"$f":"IF(L116=\"\",\"\",COUNTIFS($N$112:$BU$112,L116,$N$117:$BU$117,$CH$68))","v":""},{"$f":"IF(L116=\"\",\"\",COUNTIFS($N$112:$BU$112,L116,$N$117:$BU$117,$CI$68))","v":""},{"$f":"IF(L116=\"\",\"\",COUNTIFS($N$112:$BU$112,L116,$N$117:$BU$117,$CJ$68))","v":""},{"$f":"IF(L116=\"\",\"\",COUNTIFS($N$112:$BU$112,L116,$N$117:$BU$117,$CK$68)+COUNTIFS($N$112:$BU$112,L116,$N$115:$BU$115,$CK$68))","v":""},{"$f":"IF(L116=\"\",\"\",COUNTIFS($N$112:$BU$112,L116,$N$117:$BU$117,$CL$68)+COUNTIFS($N$112:$BU$112,L116,$N$115:$BU$115,$CL$68))","v":""},{"$f":"IF(L116=\"\",\"\",COUNTIFS($N$112:$BU$112,L116,$N$117:$BU$117,$CM$68))","v":""},{"$f":"IF(L116=\"\",\"\",COUNTIFS($N$112:$BU$112,L116,$N$117:$BU$117,$CN$68))","v":""},{"$f":"IF(L116=\"\",\"\",COUNTIFS($N$112:$BU$112,L116,$N$113:$BU$113,$CO$68)+COUNTIFS($N$112:$BU$112,L116,$N$114:$BU$114,$CO$68))","v":""},null,null,null,null,null,null,null,"",null,null,{"$f":"IF(CX116=\"\",\"\",VLOOKUP(CY116,$C$5:$F$13,4,FALSE))","v":""},null,null,null,null,null,null,null,null,null,null,null,null,null,null,null,null,null,null,null,null,null,null,null,null,null,null,null,{"$f":"IF($E$22=\"\",\"\",$E$22)","v":""},{"$f":"IF(L116=\"\",\"\",L116)","v":""},null,{"$f":"IF(EC116=\"\",\"\",COUNTIFS($N$112:$BU$112,EC116,$N$117:$BU$117,\"RZ\"))","v":""},{"$f":"IF(EC116=\"\",\"\",COUNTIFS($N$112:$BU$112,EC116,$N$116:$BU$116,\"ZH\"))","v":""},null,null,null,null,null,null,null,null,null,null,null,null,null,null,null,null,null,null,null,null,null,null,null,null,null,null,null,null,null,null,null,null,null,null,null,null,null,null,null,null,null,null,null,null,null,null,null,null,null,null,null,null,null,null,null,null,null,null,null,null,null,null,null,null,null,null,null,null,null,null,null,null,null,null,null,null,null,null,null,null,null,null,null,null,null,null,null,null,null,null,null,null,"","","","","","","",""]
[null,null,0,null,null,null,null,null,null,{"$f":"IF(L117=\"\",\"\",VLOOKUP(L117,$C$94:$D$123,2,FALSE))","v":""},null,null,null,null,null,null,null,null,null,null,null,null,null,null,null,null,null,null,null,null,null,null,null,null,null,null,null,null,null,null,null,null,null,null,null,null,null,null,null,null,null,null,null,null,null,null,null,null,null,null,null,null,null,null,null,null,null,null,null,null,null,null,null,"",{"$f":"IF(L117=\"\",\"\",(BX117+CG117+CH117+CI117))","v":""},"",{"$f":"IF(L117=\"\",\"\",COUNTIFS($N$112:$BU$112,L117,$N$117:$BU$117,$BY$68))","v":""},{"$f":"IF(L117=\"\",\"\",COUNTIFS($N$112:$BU$112,L117,$N$117:$BU$117,$BZ$68))","v":""},{"$f":"IF(L117=\"\",\"\",COUNTIFS($N$112:$BU$112,L117,$N$115:$BU$115,$CA$68))","v":""},{"$f":"IF(L117=\"\",\"\",COUNTIFS($N$112:$BU$112,L117,$N$115:$BU$115,$CB$68))","v":""},{"$f":"IF(L117=\"\",\"\",COUNTIFS($N$112:$BU$112,L117,$N$117:$BU$117,$CC$68))","v":""},{"$f":"IF(L117=\"\",\"\",COUNTIFS($N$112:$BU$112,L117,$N$117:$BU$117,$CD$68)+COUNTIFS($N$112:$BU$112,L117,$N$116:$BU$116,$CD$68)+COUNTIFS($N$112:$BU$112,L117,$N$115:$BU$115,$CD$68))","v":""},{"$f":"IF(L117=\"\",\"\",COUNTIFS($N$112:$BU$112,L117,$N$116:$BU$116,$CE$68))","v":""},{"$f":"IF(L117=\"\",\"\",COUNTIFS($N$112:$BU$112,L117,$N$117:$BU$117,$CF$68))","v":""},{"$f":"IF(L117=\"\",\"\",COUNTIFS($N$112:$BU$112,L117,$N$117:$BU$117,$CG$68))","v":""},{"$f":"IF(L117=\"\",\"\",COUNTIFS($N$112:$BU$112,L117,$N$117:$BU$117,$CH$68))","v":""},{"$f":"IF(L117=\"\",\"\",COUNTIFS($N$112:$BU$112,L117,$N$117:$BU$117,$CI$68))","v":""},{"$f":"IF(L117=\"\",\"\",COUNTIFS($N$112:$BU$112,L117,$N$117:$BU$117,$CJ$68))","v":""},{"$f":"IF(L117=\"\",\"\",COUNTIFS($N$112:$BU$112,L117,$N$117:$BU$117,$CK$68)+COUNTIFS($N$112:$BU$112,L117,$N$115:$BU$115,$CK$68))","v":""},{"$f":"IF(L117=\"\",\"\",COUNTIFS($N$112:$BU$112,L117,$N$117:$BU$117,$CL$68)+COUNTIFS($N$112:$BU$112,L117,$N$115:$BU$115,$CL$68))","v":""},{"$f":"IF(L117=\"\",\"\",COUNTIFS($N$112:$BU$112,L117,$N$117:$BU$117,$CM$68))","v":""},{"$f":"IF(L117=\"\",\"\",COUNTIFS($N$112:$BU$112,L117,$N$117:$BU$117,$CN$68))","v":""},{"$f":"IF(L117=\"\",\"\",COUNTIFS($N$112:$BU$112,L117,$N$113:$BU$113,$CO$68)+COUNTIFS($N$112:$BU$112,L117,$N$114:$BU$114,$CO$68))","v":""},null,null,null,null,null,null,null,"",null,null,{"$f":"IF(CX117=\"\",\"\",VLOOKUP(CY117,$C$5:$F$13,4,FALSE))","v":""},null,null,null,null,null,"T  計",null,null,{"$f":"IF($DG$109=\"\",\"\",SUM(DI109:DI115))","v":""},{"$f":"IF($DG$109=\"\",\"\",SUM(DJ109:DJ115))","v":""},null,null,null,null,null,null,null,null,null,null,null,null,null,null,null,null,null,{"$f":"IF($E$23=\"\",\"\",$E$23)","v":""},{"$f":"IF(L117=\"\",\"\",L117)","v":""},{"$f":"IF(EC117=\"\",\"\",VLOOKUP(EC117,$C$94:$D$123,2,FALSE))","v":""},{"$f":"IF(EC117=\"\",\"\",COUNTIFS($N$112:$BU$112,EC117,$N$117:$BU$117,\"RZ\"))","v":""},{"$f":"IF(EC117=\"\",\"\",COUNTIFS($N$112:$BU$112,EC117,$N$116:$BU$116,\"ZH\"))","v":""},null,null,null,null,null,null,null,null,null,null,null,null,null,null,null,null,null,null,null,null,null,null,null,null,null,null,null,null,null,null,null,null,null,null,null,null,null,null,null,null,null,null,null,null,null,null,null,null,null,null,null,null,null,null,null,null,null,null,null,null,null,null,null,null,null,null,null,null,null,null,null,null,null,null,null,null,null,null,null,null,null,null,null,null,null,null,null,null,null,null,null,null,"","","","","","","",""]
[null,null,0,null,null,null,null,null,null,null,null,null,"打者背番号を入力➡",null,{"$f":"N118","v":0},{"$f":"N118","v":0},{"$f":"N118","v":0},{"$f":"N118","v":0},null,{"$f":"S118","v":0},{"$f":"S118","v":0},{"$f":"S118","v":0},{"$f":"S118","v":0},null,{"$f":"X118","v":0},{"$f":"X118","v":0},{"$f":"X118","v":0},{"$f":"X118","v":0},null,{"$f":"AC118","v":0},{"$f":"AC118","v":0},{"$f":"AC118","v":0},{"$f":"AC118","v":0},null,{"$f":"AH118","v":0},{"$f":"AH118","v":0},{"$f":"AH118","v":0},{"$f":"AH118","v":0},null,{"$f":"AM118","v":0},{"$f":"AM118","v":0},{"$f":"AM118","v":0},{"$f":"AM118","v":0},null,{"$f":"AR118","v":0},{"$f":"AR118","v":0},{"$f":"AR118","v":0},{"$f":"AR118","v":0},null,{"$f":"AW118","v":0},{"$f":"AW118","v":0},{"$f":"AW118","v":0},{"$f":"AW118","v":0},null,{"$f":"BB118","v":0},{"$f":"BB118","v":0},{"$f":"BB118","v":0},{"$f":"BB118","v":0},null,{"$f":"BG118","v":0},{"$f":"BG118","v":0},{"$f":"BG118","v":0},{"$f":"BG118","v":0},null,{"$f":"BL118","v":0},{"$f":"BL118","v":0},{"$f":"BL118","v":0},{"$f":"BL118","v":0},null,{"$f":"BQ118","v":0},{"$f":"BQ118","v":0},{"$f":"BQ118","v":0},{"$f":"BQ118","v":0},null,null,null,null,null,null,null,null,null,null,null,null,null,null,null,null,null,null,null,null,null,null,null,null,null,null,null,null,null,null,null,null,null,null,null,null,null,null,null,null,null,null,null,null,null,null,null,null,null,null,null,null,null,null,null,null,null,null,null,null,null,null,null,null,null,null,null,null,null,null,null,null,null,null,null,null,null,null,null,null,null,null,null,null,null,null,null,null,null,null,null,null,null,null,null,null,null,null,null,null,null,null,null,null,null,null,null,null,null,null,null,null,null,null,null,null,null,null,null,null,null,null,null,null,null,null,null,null,null,null,null,null,null,null,null,null,null,null,null,null,null,null,null,null,null,null,null,null,null,null,null,null,null,null,null,null,""]
[null,null,0,null,null,null,null,null,{"$f":"IF(C78=\"\",\"\",C78)","v":""},{"$f":"IF(D78=\"\",\"\",D78)","v":""},{"$f":"IF(J119=\"\",\"\",\"先\")","v":""},{"$f":"IF(J119=\"\",\"\",F78)","v":""},"⑨",null,null,null,null,null,null,null,null,null,null,null,null,null,null,null,null,null,null,null,null,null,null,null,null,null,null,null,null,null,null,null,null,null,null,null,null,null,null,null,null,null,null,null,null,null,null,null,null,null,null,null,null,null,null,null,null,null,null,null,null,{"$f":"IF(K119=\"\",\"\",VLOOKUP(K119,$C$19:$E$25,3,FALSE))","v":""},{"$f":"IF(L119=\"\",\"\",(BX119+CG119+CH119+CI119))","v":""},"",{"$f":"IF(L119=\"\",\"\",COUNTIFS($N$118:$BU$118,L119,$N$123:$BU$123,$BY$68))","v":""},{"$f":"IF(L119=\"\",\"\",COUNTIFS($N$118:$BU$118,L119,$N$123:$BU$123,$BZ$68))","v":""},{"$f":"IF(L119=\"\",\"\",COUNTIFS($N$118:$BU$118,L119,$N$121:$BU$121,$CA$68))","v":""},{"$f":"IF(L119=\"\",\"\",COUNTIFS($N$118:$BU$118,L119,$N$121:$BU$121,$CB$68))","v":""},{"$f":"IF(L119=\"\",\"\",COUNTIFS($N$118:$BU$118,L119,$N$123:$BU$123,$CC$68))","v":""},{"$f":"IF(L119=\"\",\"\",COUNTIFS($N$118:$BU$118,L119,$N$123:$BU$123,$CD$68)+COUNTIFS($N$118:$BU$118,L119,$N$122:$BU$122,$CD$68)+COUNTIFS($N$118:$BU$118,L119,$N$121:$BU$121,$CD$68))","v":""},{"$f":"IF(L119=\"\",\"\",COUNTIFS($N$118:$BU$118,L119,$N$122:$BU$122,$CE$68))","v":""},{"$f":"IF(L119=\"\",\"\",COUNTIFS($N$118:$BU$118,L119,$N$123:$BU$123,$CF$68))","v":""},{"$f":"IF(L119=\"\",\"\",COUNTIFS($N$118:$BU$118,L119,$N$123:$BU$123,$CG$68))","v":""},{"$f":"IF(L119=\"\",\"\",COUNTIFS($N$118:$BU$118,L119,$N$123:$BU$123,$CH$68))","v":""},{"$f":"IF(L119=\"\",\"\",COUNTIFS($N$118:$BU$118,L119,$N$123:$BU$123,$CI$68))","v":""},{"$f":"IF(L119=\"\",\"\",COUNTIFS($N$118:$BU$118,L119,$N$123:$BU$123,$CJ$68))","v":""},{"$f":"IF(L119=\"\",\"\",COUNTIFS($N$118:$BU$118,L119,$N$123:$BU$123,$CK$68)+COUNTIFS($N$118:$BU$118,L119,$N$121:$BU$121,$CK$68))","v":""},{"$f":"IF(L119=\"\",\"\",COUNTIFS($N$118:$BU$118,L119,$N$123:$BU$123,$CL$68)+COUNTIFS($N$118:$BU$118,L119,$N$121:$BU$121,$CL$68))","v":""},{"$f":"IF(L119=\"\",\"\",COUNTIFS($N$118:$BU$118,L119,$N$123:$BU$123,$CM$68))","v":""},{"$f":"IF(L119=\"\",\"\",COUNTIFS($N$118:$BU$118,L119,$N$123:$BU$123,$CN$68))","v":""},{"$f":"IF(L119=\"\",\"\",COUNTIFS($N$118:$BU$118,L119,$N$119:$BU$119,$CO$68)+COUNTIFS($N$118:$BU$118,L119,$N$120:$BU$120,$CO$68))","v":""},null,null,null,null,null,null,null,{"$f":"IF(DA119=\"\",\"\",VLOOKUP(DA119,$C$19:$E$24,3,FALSE))","v":""},null,null,{"$f":"IF(CX119=\"\",\"\",VLOOKUP(CY119,$C$5:$F$13,4,FALSE))","v":""},null,null,null,null,null,null,null,null,null,null,null,null,null,null,null,null,null,null,null,null,null,null,null,null,null,null,null,{"$f":"IF($E$19=\"\",\"\",$E$19)","v":""},{"$f":"IF(L119=\"\",\"\",L119)","v":""},{"$f":"IF(EC119=\"\",\"\",VLOOKUP(EC119,$C$94:$D$123,2,FALSE))","v":""},{"$f":"IF(EC119=\"\",\"\",COUNTIFS($N$118:$BU$118,EC119,$N$123:$BU$123,\"RZ\"))","v":""},{"$f":"IF(EC119=\"\",\"\",COUNTIFS($N$118:$BU$118,EC119,$N$122:$BU$122,\"ZH\"))","v":""},null,null,null,null,null,null,null,null,null,null,null,null,null,null,null,null,null,null,null,null,null,null,null,null,null,null,null,null,null,null,null,null,null,null,null,null,null,null,null,null,null,null,null,null,null,null,null,null,null,null,null,null,null,null,null,null,null,null,null,null,null,null,null,null,null,null,null,null,null,null,null,null,null,null,null,null,null,null,null,null,null,null,null,null,null,null,null,null,null,null,null,null,"","",{"$f":"IF(HU119=\"\",\"\",COUNTIFS($N$118:$BU$118,HV119,$N$119:$BU$119,$HW$68)+COUNTIFS($N$118:$BU$118,HV119,$N$120:$BU$120,$HW$68))","v":""},{"$f":"IF(HU119=\"\",\"\",COUNTIFS($N$118:$BU$118,HV119,$N$119:$BU$119,$HX$68)+COUNTIFS($N$118:$BU$118,HV119,$N$120:$BU$120,$HX$68))","v":""},{"$f":"IF(HU119=\"\",\"\",COUNTIFS($N$118:$BU$118,HV119,$N$119:$BU$119,$HY$68)+COUNTIFS($N$118:$BU$118,HV119,$N$120:$BU$120,$HY$68))","v":""},{"$f":"IF(HU119=\"\",\"\",COUNTIFS($N$118:$BU$118,HV119,$N$119:$BU$119,$HZ$68)+COUNTIFS($N$118:$BU$118,HV119,$N$120:$BU$120,$HZ$68))","v":""},{"$f":"IF(HU119=\"\",\"\",COUNTIFS($N$118:$BU$118,HV119,$N$119:$BU$119,$IA$68)+COUNTIFS($N$118:$BU$118,HV119,$N$120:$BU$120,$IA$68))","v":""},{"$f":"IF(HU119=\"\",\"\",COUNTIFS($N$118:$BU$118,HV119,$N$119:$BU$119,$IB$68)+COUNTIFS($N$118:$BU$118,HV119,$N$120:$BU$120,$IB$68))","v":""}]
[null,null,0,null,null,null,null,null,null,null,null,null,null,null,null,null,null,null,null,null,null,null,null,null,null,null,null,null,null,null,null,null,null,null,null,null,null,null,null,null,null,null,null,null,null,null,null,null,null,null,null,null,null,null,null,null,null,null,null,null,null,null,null,null,null,null,null,null,null,null,null,null,null,{"$f":"IF(K120=\"\",\"\",VLOOKUP(K120,$C$19:$E$25,3,FALSE))","v":""},{"$f":"IF(L120=\"\",\"\",(BX120+CG120+CH120+CI120))","v":""},"",{"$f":"IF(L120=\"\",\"\",COUNTIFS($N$118:$BU$118,L120,$N$123:$BU$123,$BY$68))","v":""},{"$f":"IF(L120=\"\",\"\",COUNTIFS($N$118:$BU$118,L120,$N$123:$BU$123,$BZ$68))","v":""},{"$f":"IF(L120=\"\",\"\",COUNTIFS($N$118:$BU$118,L120,$N$121:$BU$121,$CA$68))","v":""},{"$f":"IF(L120=\"\",\"\",COUNTIFS($N$118:$BU$118,L120,$N$121:$BU$121,$CB$68))","v":""},{"$f":"IF(L120=\"\",\"\",COUNTIFS($N$118:$BU$118,L120,$N$123:$BU$123,$CC$68))","v":""},{"$f":"IF(L120=\"\",\"\",COUNTIFS($N$118:$BU$118,L120,$N$123:$BU$123,$CD$68)+COUNTIFS($N$118:$BU$118,L120,$N$122:$BU$122,$CD$68)+COUNTIFS($N$118:$BU$118,L120,$N$121:$BU$121,$CD$68))","v":""},{"$f":"IF(L120=\"\",\"\",COUNTIFS($N$118:$BU$118,L120,$N$122:$BU$122,$CE$68))","v":""},{"$f":"IF(L120=\"\",\"\",COUNTIFS($N$118:$BU$118,L120,$N$123:$BU$123,$CF$68))","v":""},{"$f":"IF(L120=\"\",\"\",COUNTIFS($N$118:$BU$118,L120,$N$123:$BU$123,$CG$68))","v":""},{"$f":"IF(L120=\"\",\"\",COUNTIFS($N$118:$BU$118,L120,$N$123:$BU$123,$CH$68))","v":""},{"$f":"IF(L120=\"\",\"\",COUNTIFS($N$118:$BU$118,L120,$N$123:$BU$123,$CI$68))","v":""},{"$f":"IF(L120=\"\",\"\",COUNTIFS($N$118:$BU$118,L120,$N$123:$BU$123,$CJ$68))","v":""},{"$f":"IF(L120=\"\",\"\",COUNTIFS($N$118:$BU$118,L120,$N$123:$BU$123,$CK$68)+COUNTIFS($N$118:$BU$118,L120,$N$121:$BU$121,$CK$68))","v":""},{"$f":"IF(L120=\"\",\"\",COUNTIFS($N$118:$BU$118,L120,$N$123:$BU$123,$CL$68)+COUNTIFS($N$118:$BU$118,L120,$N$121:$BU$121,$CL$68))","v":""},{"$f":"IF(L120=\"\",\"\",COUNTIFS($N$118:$BU$118,L120,$N$123:$BU$123,$CM$68))","v":""},{"$f":"IF(L120=\"\",\"\",COUNTIFS($N$118:$BU$118,L120,$N$123:$BU$123,$CN$68))","v":""},{"$f":"IF(L120=\"\",\"\",COUNTIFS($N$118:$BU$118,L120,$N$119:$BU$119,$CO$68)+COUNTIFS($N$118:$BU$118,L120,$N$120:$BU$120,$CO$68))","v":""},null,null,null,null,null,null,null,"",null,null,{"$f":"IF(CX120=\"\",\"\",VLOOKUP(CY120,$C$5:$F$13,4,FALSE))","v":""},null,null,null,null,null,null,null,null,null,null,null,null,null,null,null,null,null,null,null,null,null,null,null,null,null,null,null,{"$f":"IF($E$20=\"\",\"\",$E$20)","v":""},{"$f":"IF(L120=\"\",\"\",L120)","v":""},null,{"$f":"IF(EC120=\"\",\"\",COUNTIFS($N$118:$BU$118,EC120,$N$123:$BU$123,\"RZ\"))","v":""},{"$f":"IF(EC120=\"\",\"\",COUNTIFS($N$118:$BU$118,EC120,$N$122:$BU$122,\"ZH\"))","v":""},null,null,null,null,null,null,null,null,null,null,null,null,null,null,null,null,null,null,null,null,null,null,null,null,null,null,null,null,null,null,null,null,null,null,null,null,null,null,null,null,null,null,null,null,null,null,null,null,null,null,null,null,null,null,null,null,null,null,null,null,null,null,null,null,null,null,null,null,null,null,null,null,null,null,null,null,null,null,null,null,null,null,null,null,null,null,null,null,null,null,null,null,"","",{"$f":"IF(HU120=\"\",\"\",COUNTIFS($N$118:$BU$118,HV120,$N$119:$BU$119,$HW$68)+COUNTIFS($N$118:$BU$118,HV120,$N$120:$BU$120,$HW$68))","v":""},{"$f":"IF(HU120=\"\",\"\",COUNTIFS($N$118:$BU$118,HV120,$N$119:$BU$119,$HX$68)+COUNTIFS($N$118:$BU$118,HV120,$N$120:$BU$120,$HX$68))","v":""},{"$f":"IF(HU120=\"\",\"\",COUNTIFS($N$118:$BU$118,HV120,$N$119:$BU$119,$HY$68)+COUNTIFS($N$118:$BU$118,HV120,$N$120:$BU$120,$HY$68))","v":""},{"$f":"IF(HU120=\"\",\"\",COUNTIFS($N$118:$BU$118,HV120,$N$119:$BU$119,$HZ$68)+COUNTIFS($N$118:$BU$118,HV120,$N$120:$BU$120,$HZ$68))","v":""},{"$f":"IF(HU120=\"\",\"\",COUNTIFS($N$118:$BU$118,HV120,$N$119:$BU$119,$IA$68)+COUNTIFS($N$118:$BU$118,HV120,$N$120:$BU$120,$IA$68))","v":""},{"$f":"IF(HU120=\"\",\"\",COUNTIFS($N$118:$BU$118,HV120,$N$119:$BU$119,$IB$68)+COUNTIFS($N$118:$BU$118,HV120,$N$120:$BU$120,$IB$68))","v":""}]
[null,null,0,null,null,null,null,null,null,null,null,null,null,null,null,null,null,null,null,null,null,null,null,null,null,null,null,null,null,null,null,null,null,null,null,null,null,null,null,null,null,null,null,null,null,null,null,null,null,null,null,null,null,null,null,null,null,null,null,null,null,null,null,null,null,null,null,null,null,null,null,null,null,"",{"$f":"IF(L121=\"\",\"\",(BX121+CG121+CH121+CI121))","v":""},"",{"$f":"IF(L121=\"\",\"\",COUNTIFS($N$118:$BU$118,L121,$N$123:$BU$123,$BY$68))","v":""},{"$f":"IF(L121=\"\",\"\",COUNTIFS($N$118:$BU$118,L121,$N$123:$BU$123,$BZ$68))","v":""},{"$f":"IF(L121=\"\",\"\",COUNTIFS($N$118:$BU$118,L121,$N$121:$BU$121,$CA$68))","v":""},{"$f":"IF(L121=\"\",\"\",COUNTIFS($N$118:$BU$118,L121,$N$121:$BU$121,$CB$68))","v":""},{"$f":"IF(L121=\"\",\"\",COUNTIFS($N$118:$BU$118,L121,$N$123:$BU$123,$CC$68))","v":""},{"$f":"IF(L121=\"\",\"\",COUNTIFS($N$118:$BU$118,L121,$N$123:$BU$123,$CD$68)+COUNTIFS($N$118:$BU$118,L121,$N$122:$BU$122,$CD$68)+COUNTIFS($N$118:$BU$118,L121,$N$121:$BU$121,$CD$68))","v":""},{"$f":"IF(L121=\"\",\"\",COUNTIFS($N$118:$BU$118,L121,$N$122:$BU$122,$CE$68))","v":""},{"$f":"IF(L121=\"\",\"\",COUNTIFS($N$118:$BU$118,L121,$N$123:$BU$123,$CF$68))","v":""},{"$f":"IF(L121=\"\",\"\",COUNTIFS($N$118:$BU$118,L121,$N$123:$BU$123,$CG$68))","v":""},{"$f":"IF(L121=\"\",\"\",COUNTIFS($N$118:$BU$118,L121,$N$123:$BU$123,$CH$68))","v":""},{"$f":"IF(L121=\"\",\"\",COUNTIFS($N$118:$BU$118,L121,$N$123:$BU$123,$CI$68))","v":""},{"$f":"IF(L121=\"\",\"\",COUNTIFS($N$118:$BU$118,L121,$N$123:$BU$123,$CJ$68))","v":""},{"$f":"IF(L121=\"\",\"\",COUNTIFS($N$118:$BU$118,L121,$N$123:$BU$123,$CK$68)+COUNTIFS($N$118:$BU$118,L121,$N$121:$BU$121,$CK$68))","v":""},{"$f":"IF(L121=\"\",\"\",COUNTIFS($N$118:$BU$118,L121,$N$123:$BU$123,$CL$68)+COUNTIFS($N$118:$BU$118,L121,$N$121:$BU$121,$CL$68))","v":""},{"$f":"IF(L121=\"\",\"\",COUNTIFS($N$118:$BU$118,L121,$N$123:$BU$123,$CM$68))","v":""},{"$f":"IF(L121=\"\",\"\",COUNTIFS($N$118:$BU$118,L121,$N$123:$BU$123,$CN$68))","v":""},{"$f":"IF(L121=\"\",\"\",COUNTIFS($N$118:$BU$118,L121,$N$119:$BU$119,$CO$68)+COUNTIFS($N$118:$BU$118,L121,$N$120:$BU$120,$CO$68))","v":""},null,null,null,null,null,null,null,"",null,null,{"$f":"IF(CX121=\"\",\"\",VLOOKUP(CY121,$C$5:$F$13,4,FALSE))","v":""},null,null,null,null,null,null,null,null,null,null,null,null,null,null,null,null,null,null,null,null,null,null,null,null,null,null,null,{"$f":"IF($E$21=\"\",\"\",$E$21)","v":""},{"$f":"IF(L121=\"\",\"\",L121)","v":""},null,{"$f":"IF(EC121=\"\",\"\",COUNTIFS($N$118:$BU$118,EC121,$N$123:$BU$123,\"RZ\"))","v":""},{"$f":"IF(EC121=\"\",\"\",COUNTIFS($N$118:$BU$118,EC121,$N$122:$BU$122,\"ZH\"))","v":""},null,null,null,null,null,null,null,null,null,null,null,null,null,null,null,null,null,null,null,null,null,null,null,null,null,null,null,null,null,null,null,null,null,null,null,null,null,null,null,null,null,null,null,null,null,null,null,null,null,null,null,null,null,null,null,null,null,null,null,null,null,null,null,null,null,null,null,null,null,null,null,null,null,null,null,null,null,null,null,null,null,null,null,null,null,null,null,null,null,null,null,null,"","","","","","","",""]
[null,null,0,null,null,null,null,null,null,{"$f":"IF(L122=\"\",\"\",VLOOKUP(L122,$C$94:$D$123,2,FALSE))","v":""},null,null,null,null,null,null,null,null,null,null,null,null,null,null,null,null,null,null,null,null,null,null,null,null,null,null,null,null,null,null,null,null,null,null,null,null,null,null,null,null,null,null,null,null,null,null,null,null,null,null,null,null,null,null,null,null,null,null,null,null,null,null,null,"",{"$f":"IF(L122=\"\",\"\",(BX122+CG122+CH122+CI122))","v":""},"",{"$f":"IF(L122=\"\",\"\",COUNTIFS($N$118:$BU$118,L122,$N$123:$BU$123,$BY$68))","v":""},{"$f":"IF(L122=\"\",\"\",COUNTIFS($N$118:$BU$118,L122,$N$123:$BU$123,$BZ$68))","v":""},{"$f":"IF(L122=\"\",\"\",COUNTIFS($N$118:$BU$118,L122,$N$121:$BU$121,$CA$68))","v":""},{"$f":"IF(L122=\"\",\"\",COUNTIFS($N$118:$BU$118,L122,$N$121:$BU$121,$CB$68))","v":""},{"$f":"IF(L122=\"\",\"\",COUNTIFS($N$118:$BU$118,L122,$N$123:$BU$123,$CC$68))","v":""},{"$f":"IF(L122=\"\",\"\",COUNTIFS($N$118:$BU$118,L122,$N$123:$BU$123,$CD$68)+COUNTIFS($N$118:$BU$118,L122,$N$122:$BU$122,$CD$68)+COUNTIFS($N$118:$BU$118,L122,$N$121:$BU$121,$CD$68))","v":""},{"$f":"IF(L122=\"\",\"\",COUNTIFS($N$118:$BU$118,L122,$N$122:$BU$122,$CE$68))","v":""},{"$f":"IF(L122=\"\",\"\",COUNTIFS($N$118:$BU$118,L122,$N$123:$BU$123,$CF$68))","v":""},{"$f":"IF(L122=\"\",\"\",COUNTIFS($N$118:$BU$118,L122,$N$123:$BU$123,$CG$68))","v":""},{"$f":"IF(L122=\"\",\"\",COUNTIFS($N$118:$BU$118,L122,$N$123:$BU$123,$CH$68))","v":""},{"$f":"IF(L122=\"\",\"\",COUNTIFS($N$118:$BU$118,L122,$N$123:$BU$123,$CI$68))","v":""},{"$f":"IF(L122=\"\",\"\",COUNTIFS($N$118:$BU$118,L122,$N$123:$BU$123,$CJ$68))","v":""},{"$f":"IF(L122=\"\",\"\",COUNTIFS($N$118:$BU$118,L122,$N$123:$BU$123,$CK$68)+COUNTIFS($N$118:$BU$118,L122,$N$121:$BU$121,$CK$68))","v":""},{"$f":"IF(L122=\"\",\"\",COUNTIFS($N$118:$BU$118,L122,$N$123:$BU$123,$CL$68)+COUNTIFS($N$118:$BU$118,L122,$N$121:$BU$121,$CL$68))","v":""},{"$f":"IF(L122=\"\",\"\",COUNTIFS($N$118:$BU$118,L122,$N$123:$BU$123,$CM$68))","v":""},{"$f":"IF(L122=\"\",\"\",COUNTIFS($N$118:$BU$118,L122,$N$123:$BU$123,$CN$68))","v":""},{"$f":"IF(L122=\"\",\"\",COUNTIFS($N$118:$BU$118,L122,$N$119:$BU$119,$CO$68)+COUNTIFS($N$118:$BU$118,L122,$N$120:$BU$120,$CO$68))","v":""},null,null,null,null,null,null,null,"",null,null,{"$f":"IF(CX122=\"\",\"\",VLOOKUP(CY122,$C$5:$F$13,4,FALSE))","v":""},null,null,null,null,null,null,null,null,null,null,null,null,null,null,null,null,null,null,null,null,null,null,null,null,null,null,null,{"$f":"IF($E$22=\"\",\"\",$E$22)","v":""},{"$f":"IF(L122=\"\",\"\",L122)","v":""},"",{"$f":"IF(EC122=\"\",\"\",COUNTIFS($N$118:$BU$118,EC122,$N$123:$BU$123,\"RZ\"))","v":""},{"$f":"IF(EC122=\"\",\"\",COUNTIFS($N$118:$BU$118,EC122,$N$122:$BU$122,\"ZH\"))","v":""},null,null,null,null,null,null,null,null,null,null,null,null,null,null,null,null,null,null,null,null,null,null,null,null,null,null,null,null,null,null,null,null,null,null,null,null,null,null,null,null,null,null,null,null,null,null,null,null,null,null,null,null,null,null,null,null,null,null,null,null,null,null,null,null,null,null,null,null,null,null,null,null,null,null,null,null,null,null,null,null,null,null,null,null,null,null,null,null,null,null,null,null,"","","","","","","",""]
[null,null,0,null,null,null,null,null,null,{"$f":"IF(L123=\"\",\"\",VLOOKUP(L123,$C$94:$D$123,2,FALSE))","v":""},null,null,null,null,null,null,null,null,null,null,null,null,null,null,null,null,null,null,null,null,null,null,null,null,null,null,null,null,null,null,null,null,null,null,null,null,null,null,null,null,null,null,null,null,null,null,null,null,null,null,null,null,null,null,null,null,null,null,null,null,null,null,null,"",{"$f":"IF(L123=\"\",\"\",(BX123+CG123+CH123+CI123))","v":""},"",{"$f":"IF(L123=\"\",\"\",COUNTIFS($N$118:$BU$118,L123,$N$123:$BU$123,$BY$68))","v":""},{"$f":"IF(L123=\"\",\"\",COUNTIFS($N$118:$BU$118,L123,$N$123:$BU$123,$BZ$68))","v":""},{"$f":"IF(L123=\"\",\"\",COUNTIFS($N$118:$BU$118,L123,$N$121:$BU$121,$CA$68))","v":""},{"$f":"IF(L123=\"\",\"\",COUNTIFS($N$118:$BU$118,L123,$N$121:$BU$121,$CB$68))","v":""},{"$f":"IF(L123=\"\",\"\",COUNTIFS($N$118:$BU$118,L123,$N$123:$BU$123,$CC$68))","v":""},{"$f":"IF(L123=\"\",\"\",COUNTIFS($N$118:$BU$118,L123,$N$123:$BU$123,$CD$68)+COUNTIFS($N$118:$BU$118,L123,$N$122:$BU$122,$CD$68)+COUNTIFS($N$118:$BU$118,L123,$N$121:$BU$121,$CD$68))","v":""},{"$f":"IF(L123=\"\",\"\",COUNTIFS($N$118:$BU$118,L123,$N$122:$BU$122,$CE$68))","v":""},{"$f":"IF(L123=\"\",\"\",COUNTIFS($N$118:$BU$118,L123,$N$123:$BU$123,$CF$68))","v":""},{"$f":"IF(L123=\"\",\"\",COUNTIFS($N$118:$BU$118,L123,$N$123:$BU$123,$CG$68))","v":""},{"$f":"IF(L123=\"\",\"\",COUNTIFS($N$118:$BU$118,L123,$N$123:$BU$123,$CH$68))","v":""},{"$f":"IF(L123=\"\",\"\",COUNTIFS($N$118:$BU$118,L123,$N$123:$BU$123,$CI$68))","v":""},{"$f":"IF(L123=\"\",\"\",COUNTIFS($N$118:$BU$118,L123,$N$123:$BU$123,$CJ$68))","v":""},{"$f":"IF(L123=\"\",\"\",COUNTIFS($N$118:$BU$118,L123,$N$123:$BU$123,$CK$68)+COUNTIFS($N$118:$BU$118,L123,$N$121:$BU$121,$CK$68))","v":""},{"$f":"IF(L123=\"\",\"\",COUNTIFS($N$118:$BU$118,L123,$N$123:$BU$123,$CL$68)+COUNTIFS($N$118:$BU$118,L123,$N$121:$BU$121,$CL$68))","v":""},{"$f":"IF(L123=\"\",\"\",COUNTIFS($N$118:$BU$118,L123,$N$123:$BU$123,$CM$68))","v":""},{"$f":"IF(L123=\"\",\"\",COUNTIFS($N$118:$BU$118,L123,$N$123:$BU$123,$CN$68))","v":""},{"$f":"IF(L123=\"\",\"\",COUNTIFS($N$118:$BU$118,L123,$N$119:$BU$119,$CO$68)+COUNTIFS($N$118:$BU$118,L123,$N$120:$BU$120,$CO$68))","v":""},null,null,null,null,null,null,null,"",null,null,{"$f":"IF(CX123=\"\",\"\",VLOOKUP(CY123,$C$5:$F$13,4,FALSE))","v":""},null,null,null,null,null,null,null,null,null,null,null,null,null,null,null,null,null,null,null,null,null,null,null,null,null,null,null,{"$f":"IF($E$23=\"\",\"\",$E$23)","v":""},{"$f":"IF(L123=\"\",\"\",L123)","v":""},"",{"$f":"IF(EC123=\"\",\"\",COUNTIFS($N$118:$BU$118,EC123,$N$123:$BU$123,\"RZ\"))","v":""},{"$f":"IF(EC123=\"\",\"\",COUNTIFS($N$118:$BU$118,EC123,$N$122:$BU$122,\"ZH\"))","v":""},null,null,null,null,null,null,null,null,null,null,null,null,null,null,null,null,null,null,null,null,null,null,null,null,null,null,null,null,null,null,null,null,null,null,null,null,null,null,null,null,null,null,null,null,null,null,null,null,null,null,null,null,null,null,null,null,null,null,null,null,null,null,null,null,null,null,null,null,null,null,null,null,null,null,null,null,null,null,null,null,null,null,null,null,null,null,null,null,null,null,null,null,"","","","","","","",""]