{"text_format":"1","workbook":"xlsx","n_sheets":5,"sheets":["使い方","情報","入力","成績","評価"],"not_rendered":{"charts":4,"images":79,"macros":1,"external_links":0,"defined_names":0,"comments":1,"pivot_tables":0},"unopened":[],"bounds":{"document_bytes":16777216,"sheet_cells":100000,"rows_first":2000,"rows_last":500,"rows_between":2000,"halvings":0,"cell_chars":16384,"cell_head_chars":4096},"cells_cut":0,"cells_raw":0,"read":"whole","date_system":"1900"}

{"sheet":"使い方","index":0,"n_rows":0,"n_cols":0,"rows_kept":0,"cut":false,"hidden":false,"merged":[]}

{"sheet":"情報","index":1,"n_rows":242,"n_cols":54,"rows_kept":242,"cut":false,"hidden":false,"merged":[[40,2,40,3],[2,30,2,31],[2,2,2,3],[2,44,2,45],[2,33,2,34],[2,36,2,37],[2,39,2,40],[10,30,10,31]]}
[]
[]
[null,null,"チーム用",null,null,null,null,null,null,null,null,null,null,null,null,null,null,null,null,null,null,null,"得点",null,null,null,null,"投球番号",null,null,"種類",null,null,"投球判定",null,null,"打席結果",null,null,null,null,null,"点数",null,"PS",null,null,null,"大会名：",null,null,"対戦チーム：",null,"X"]
[null,null,"コード","チーム名","*",null,null,null,null,null,null,null,null,null,null,null,null,null,null,null,null,null,1,null,null,null,null,",1",null,null,"記　号","内　容",null,"記　号","内　容",null,"記　号","内　容",null,null,null,null,0,null,"記号","内　容"]
[null,null,"A",null,"A",null,null,null,null,null,null,null,null,null,null,null,null,null,null,null,null,null,null,null,null,null,null,",2",null,null,"↑","ストレート",null,".●","ボール",null,"O","凡打",null,null,null,null,1,null,"右","右打",null,null,"試合日："]
[null,null,"B",null,"B",null,null,null,null,null,null,null,null,null,null,null,null,null,null,null,null,null,null,null,null,null,null,",3",null,null,"→","シンカー",null,".◯","ストライク",null,"H","安打",null,null,null,null,2,null,"左","左打"]
[null,null,"C",null,"C",null,null,null,null,null,null,null,null,null,null,null,null,null,null,null,null,null,null,null,null,null,null,",4",null,null,"←","スライダー",null,".△","ファール",null,"2H","2塁打",null,null,null,null,3,null,"両","両打",null,null,"球　場："]
[null,null,"D",null,"D",null,null,null,null,null,null,null,null,null,null,null,null,null,null,null,null,null,null,null,null,null,null,",5",null,null,"↓","フォーク",null,".□","空振り",null,"3H","3塁打",null,null,null,null,4]
[null,null,"E",null,"E",null,null,null,null,null,null,null,null,null,null,null,null,null,null,null,null,null,null,null,null,null,null,",6",null,null,null,null,null,".◎","ヒッティング",null,"4H","ホームラン",null,null,null,null,5]
[null,null,"F",null,"F",null,null,null,null,null,null,null,null,null,null,null,null,null,null,null,null,null,null,null,null,null,null,",7",null,null,null,null,null,null,null,null,"B","四球",null,null,null,null,6]
[null,null,"G",null,"G",null,null,null,null,null,null,null,null,null,null,null,null,null,null,null,null,null,null,null,null,null,null,",8",null,null,null,null,null,null,null,null,"DB","死球",null,null,null,null,7]
[null,null,"H",null,"H",null,null,null,null,null,null,null,null,null,null,null,null,null,null,null,null,null,null,null,null,null,null,",9",null,null,null,null,null,null,null,null,"K","見送り三振",null,null,null,null,8]
[null,null,"I",null,"I",null,null,null,null,null,null,null,null,null,null,null,null,null,null,null,null,null,null,null,null,null,null,",10",null,null,null,null,null,null,null,null,"K'","空振り三振",null,null,null,null,9]
[null,null,"J",null,"J",null,null,null,null,null,null,null,null,null,null,null,null,null,null,null,null,null,null,null,null,null,null,",11",null,null,null,null,null,null,null,null,"G","犠打",null,null,null,null,10]
[null,null,"K",null,"K",null,null,null,null,null,null,null,null,null,null,null,null,null,null,null,null,null,null,null,null,null,null,",12",null,null,null,null,null,null,null,null,"D.P","2重殺",null,null,null,null,11]
[null,null,"L",null,"L",null,null,null,null,null,null,null,null,null,null,null,null,null,null,null,null,null,null,null,null,null,null,",13",null,null,null,null,null,null,null,null,"T.P","3重殺",null,null,null,null,12]
[null,null,"M",null,"M",null,null,null,null,null,null,null,null,null,null,null,null,null,null,null,null,null,null,null,null,null,null,",14",null,null,null,null,null,null,null,null,"E","エラー出塁"]
[null,null,"N",null,"N",null,null,null,null,null,null,null,null,null,null,null,null,null,null,null,null,null,null,null,null,null,null,",15"]
[null,null,"O",null,"O",null,null,null,null,null,null,null,null,null,null,null,null,null,null,null,null,null,null,null,null,null,null,",16"]
[null,null,"P",null,"P",null,null,null,null,null,null,null,null,null,null,null,null,null,null,null,null,null,null,null,null,null,null,",17"]
[null,null,"Q",null,"Q",null,null,null,null,null,null,null,null,null,null,null,null,null,null,null,null,null,null,null,null,null,null,",18"]
[null,null,"R",null,"R",null,null,null,null,null,null,null,null,null,null,null,null,null,null,null,null,null,null,null,null,null,null,",19"]
[null,null,"S",null,"S",null,null,null,null,null,null,null,null,null,null,null,null,null,null,null,null,null,null,null,null,null,null,",20"]
[null,null,"T",null,"T"]
[null,null,"U",null,"U"]
[null,null,"V",null,"V"]
[null,null,"W",null,"W"]
[null,null,"X",null,"X"]
[null,null,"Y",null,"Y"]
[null,null,"Z",null,"Z"]
[null,null,"AA",null,"AA"]
[null,null,"AB",null,"AB"]
[null,null,"AC",null,"AC"]
[null,null,"AD",null,"AE"]
[null,null,"AE",null,"AE"]
[null,null,"AF",null,"AF"]
[null,null,"AG",null,"AG"]
[null,null,"AH"]
[]
[]
[null,null,"球場用",null,null,"A",null,{"$f":"VLOOKUP(F41,$C$5:$D$38,2,FALSE)","v":0},null,"B",null,{"$f":"VLOOKUP(J41,$C$5:$D$38,2,FALSE)","v":0},null,"C",null,{"$f":"VLOOKUP(N41,$C$5:$D$38,2,FALSE)","v":0},null,"D",null,{"$f":"VLOOKUP(R41,$C$5:$D$38,2,FALSE)","v":0},null,"E",null,{"$f":"VLOOKUP(V41,$C$5:$D$38,2,FALSE)","v":0},null,"F",null,{"$f":"VLOOKUP(Z41,$C$5:$D$38,2,FALSE)","v":0}]
[null,null,"コード","球場名",null,null,"背番","選手名","PS",null,"背番","選手名","PS",null,"背番","選手名","PS",null,"背番","選手名","PS",null,"背番","選手名","PS",null,"背番","選手名","PS"]
[null,null,null,null,null,null,null,null,null,{"$f":"IF(G43=\"\",\"\",G43)","v":""},null,null,null,{"$f":"IF(K43=\"\",\"\",K43)","v":""},null,null,null,{"$f":"O43","v":0},null,null,null,{"$f":"S43","v":0},null,null,null,{"$f":"IF(W43=\"\",\"\",W43)","v":""},null,null,null,{"$f":"IF(AA43=\"\",\"\",AA43)","v":""}]
[null,null,null,null,null,null,null,null,null,{"$f":"IF(G44=\"\",\"\",G44)","v":""},null,null,null,{"$f":"IF(K44=\"\",\"\",K44)","v":""},null,null,null,{"$f":"O44","v":0},null,null,null,0,null,null,null,{"$f":"IF(W44=\"\",\"\",W44)","v":""},null,null,null,{"$f":"IF(AA44=\"\",\"\",AA44)","v":""}]
[null,null,null,null,null,null,null,null,null,"",null,null,null,"",null,null,null,0,null,null,null,0,null,null,null,"",null,null,null,""]
[null,null,null,null,null,null,null,null,null,"",null,null,null,"",null,null,null,0,null,null,null,0,null,null,null,"",null,null,null,""]
[null,null,null,null,null,null,null,null,null,"",null,null,null,"",null,null,null,0,null,null,null,0,null,null,null,"",null,null,null,""]
[null,null,null,null,null,null,null,null,null,"",null,null,null,"",null,null,null,0,null,null,null,0,null,null,null,"",null,null,null,""]
[null,null,null,null,null,null,null,null,null,"",null,null,null,"",null,null,null,0,null,null,null,0,null,null,null,"",null,null,null,""]
[null,null,null,null,null,null,null,null,null,"",null,null,null,"",null,null,null,0,null,null,null,0,null,null,null,"",null,null,null,""]
[null,null,null,null,null,null,null,null,null,"",null,null,null,"",null,null,null,0,null,null,null,0,null,null,null,"",null,null,null,""]
[null,null,null,null,null,null,null,null,null,"",null,null,null,"",null,null,null,0,null,null,null,0,null,null,null,"",null,null,null,""]
[null,null,null,null,null,null,null,null,null,"",null,null,null,"",null,null,null,0,null,null,null,0,null,null,null,"",null,null,null,""]
[null,null,null,null,null,null,null,null,null,"",null,null,null,"",null,null,null,0,null,null,null,0,null,null,null,"",null,null,null,""]
[null,null,null,null,null,null,null,null,null,"",null,null,null,"",null,null,null,0,null,null,null,0,null,null,null,"",null,null,null,""]
[null,null,null,null,null,null,null,null,null,"",null,null,null,"",null,null,null,0,null,null,null,0,null,null,null,"",null,null,null,""]
[null,null,null,null,null,null,null,null,null,"",null,null,null,"",null,null,null,0,null,null,null,0,null,null,null,"",null,null,null,""]
[null,null,null,null,null,null,null,null,null,"",null,null,null,"",null,null,null,0,null,null,null,0,null,null,null,"",null,null,null,""]
[null,null,null,null,null,null,null,null,null,"",null,null,null,"",null,null,null,0,null,null,null,0,null,null,null,"",null,null,null,""]
[null,null,null,null,null,null,null,null,null,"",null,null,null,"",null,null,null,0,null,null,null,0,null,null,null,"",null,null,null,""]
[null,null,null,null,null,null,null,null,null,"",null,null,null,"",null,null,null,{"$f":"IF(O61=\"\",\"\",O61)","v":""},null,null,null,{"$f":"IF(S61=\"\",\"\",S61)","v":""},null,null,null,"",null,null,null,""]
[null,null,null,null,null,null,null,null,null,"",null,null,null,"",null,null,null,"",null,null,null,"",null,null,null,"",null,null,null,""]
[null,null,null,null,null,null,null,null,null,"",null,null,null,"",null,null,null,"",null,null,null,"",null,null,null,"",null,null,null,""]
[null,null,null,null,null,null,null,null,null,"",null,null,null,"",null,null,null,"",null,null,null,"",null,null,null,"",null,null,null,""]
[null,null,null,null,null,null,null,null,null,"",null,null,null,"",null,null,null,"",null,null,null,"",null,null,null,"",null,null,null,""]
[null,null,null,null,null,null,null,null,null,"",null,null,null,"",null,null,null,"",null,null,null,"",null,null,null,"",null,null,null,""]
[null,null,null,null,null,null,null,null,null,"",null,null,null,"",null,null,null,"",null,null,null,"",null,null,null,"",null,null,null,""]
[null,null,null,null,null,null,null,null,null,"",null,null,null,"",null,null,null,"",null,null,null,"",null,null,null,"",null,null,null,""]
[null,null,null,null,null,null,null,null,null,"",null,null,null,"",null,null,null,"",null,null,null,"",null,null,null,"",null,null,null,""]
[null,null,null,null,null,null,null,null,null,"",null,null,null,"",null,null,null,"",null,null,null,"",null,null,null,"",null,null,null,""]
[null,null,null,null,null,null,null,null,null,"",null,null,null,"",null,null,null,"",null,null,null,"",null,null,null,"",null,null,null,""]
[null,null,null,null,null,null,null,null,null,"",null,null,null,"",null,null,null,"",null,null,null,"",null,null,null,"",null,null,null,""]
[null,null,null,null,null,null,null,null,null,"",null,null,null,"",null,null,null,"",null,null,null,"",null,null,null,"",null,null,null,""]
[null,null,null,null,null,null,null,null,null,"",null,null,null,"",null,null,null,"",null,null,null,"",null,null,null,"",null,null,null,""]
[null,null,null,null,null,null,null,null,null,"",null,null,null,"",null,null,null,"",null,null,null,"",null,null,null,"",null,null,null,""]
[null,null,null,null,null,null,null,null,null,"",null,null,null,"",null,null,null,"",null,null,null,"",null,null,null,"",null,null,null,""]
[null,null,null,null,null,null,null,null,null,"",null,null,null,"",null,null,null,"",null,null,null,"",null,null,null,"",null,null,null,""]
[null,null,null,null,null,null,null,null,null,"",null,null,null,"",null,null,null,"",null,null,null,"",null,null,null,"",null,null,null,""]
[null,null,null,null,null,null,null,null,null,"",null,null,null,"",null,null,null,"",null,null,null,"",null,null,null,"",null,null,null,""]
[]
[null,null,null,null,null,"G",null,{"$f":"VLOOKUP(F81,$C$5:$D$38,2,FALSE)","v":0},null,"H",null,{"$f":"VLOOKUP(J81,$C$5:$D$38,2,FALSE)","v":0},null,"I",null,{"$f":"VLOOKUP(N81,$C$5:$D$38,2,FALSE)","v":0},null,"J",null,{"$f":"VLOOKUP(R81,$C$5:$D$38,2,FALSE)","v":0},null,"K",null,{"$f":"VLOOKUP(V81,$C$5:$D$38,2,FALSE)","v":0},null,"L",null,{"$f":"VLOOKUP(Z81,$C$5:$D$38,2,FALSE)","v":0}]
[null,null,null,null,null,null,"背番","選手名","PS",null,"背番","選手名","PS",null,"背番","選手名","PS",null,"背番","選手名","PS",null,"背番","選手名","PS",null,"背番","選手名","PS"]
[null,null,null,null,null,null,null,null,null,{"$f":"IF(G83=\"\",\"\",G83)","v":""},null,null,null,{"$f":"IF(K83=\"\",\"\",K83)","v":""},null,null,null,{"$f":"IF(O83=\"\",\"\",O83)","v":""},null,null,null,{"$f":"IF(S83=\"\",\"\",S83)","v":""},null,null,null,{"$f":"IF(W83=\"\",\"\",W83)","v":""},null,null,null,{"$f":"IF(AA83=\"\",\"\",AA83)","v":""}]
[null,null,null,null,null,null,null,null,null,{"$f":"IF(G84=\"\",\"\",G84)","v":""},null,null,null,{"$f":"IF(K84=\"\",\"\",K84)","v":""},null,null,null,{"$f":"IF(O84=\"\",\"\",O84)","v":""},null,null,null,{"$f":"IF(S84=\"\",\"\",S84)","v":""},null,null,null,{"$f":"IF(W84=\"\",\"\",W84)","v":""},null,null,null,{"$f":"IF(AA84=\"\",\"\",AA84)","v":""}]
[null,null,null,null,null,null,null,null,null,"",null,null,null,"",null,null,null,"",null,null,null,"",null,null,null,"",null,null,null,""]
[null,null,null,null,null,null,null,null,null,"",null,null,null,"",null,null,null,"",null,null,null,"",null,null,null,"",null,null,null,""]
[null,null,null,null,null,null,null,null,null,"",null,null,null,"",null,null,null,"",null,null,null,"",null,null,null,"",null,null,null,""]
[null,null,null,null,null,null,null,null,null,"",null,null,null,"",null,null,null,"",null,null,null,"",null,null,null,"",null,null,null,""]
[null,null,null,null,null,null,null,null,null,"",null,null,null,"",null,null,null,"",null,null,null,"",null,null,null,"",null,null,null,""]
[null,null,null,null,null,null,null,null,null,"",null,null,null,"",null,null,null,"",null,null,null,"",null,null,null,"",null,null,null,""]
[null,null,null,null,null,null,null,null,null,"",null,null,null,"",null,null,null,"",null,null,null,"",null,null,null,"",null,null,null,""]
[null,null,null,null,null,null,null,null,null,"",null,null,null,"",null,null,null,"",null,null,null,"",null,null,null,"",null,null,null,""]
[null,null,null,null,null,null,null,null,null,"",null,null,null,"",null,null,null,"",null,null,null,"",null,null,null,"",null,null,null,""]
[null,null,null,null,null,null,null,null,null,"",null,null,null,"",null,null,null,"",null,null,null,"",null,null,null,"",null,null,null,""]
[null,null,null,null,null,null,null,null,null,"",null,null,null,"",null,null,null,"",null,null,null,"",null,null,null,"",null,null,null,""]
[null,null,null,null,null,null,null,null,null,"",null,null,null,"",null,null,null,"",null,null,null,"",null,null,null,"",null,null,null,""]
[null,null,null,null,null,null,null,null,null,"",null,null,null,"",null,null,null,"",null,null,null,"",null,null,null,"",null,null,null,""]
[null,null,null,null,null,null,null,null,null,"",null,null,null,"",null,null,null,"",null,null,null,"",null,null,null,"",null,null,null,""]
[null,null,null,null,null,null,null,null,null,"",null,null,null,"",null,null,null,"",null,null,null,"",null,null,null,"",null,null,null,""]
[null,null,null,null,null,null,null,null,null,"",null,null,null,"",null,null,null,"",null,null,null,"",null,null,null,"",null,null,null,""]
[null,null,null,null,null,null,null,null,null,"",null,null,null,"",null,null,null,"",null,null,null,"",null,null,null,"",null,null,null,""]
[null,null,null,null,null,null,null,null,null,"",null,null,null,"",null,null,null,"",null,null,null,"",null,null,null,"",null,null,null,""]
[null,null,null,null,null,null,null,null,null,"",null,null,null,"",null,null,null,"",null,null,null,"",null,null,null,"",null,null,null,""]
[null,null,null,null,null,null,null,null,null,"",null,null,null,"",null,null,null,"",null,null,null,"",null,null,null,"",null,null,null,""]
[null,null,null,null,null,null,null,null,null,"",null,null,null,"",null,null,null,"",null,null,null,"",null,null,null,"",null,null,null,""]
[null,null,null,null,null,null,null,null,null,"",null,null,null,"",null,null,null,"",null,null,null,"",null,null,null,"",null,null,null,""]
[null,null,null,null,null,null,null,null,null,"",null,null,null,"",null,null,null,"",null,null,null,"",null,null,null,"",null,null,null,""]
[null,null,null,null,null,null,null,null,null,"",null,null,null,"",null,null,null,"",null,null,null,"",null,null,null,"",null,null,null,""]
[null,null,null,null,null,null,null,null,null,"",null,null,null,"",null,null,null,"",null,null,null,"",null,null,null,"",null,null,null,""]
[null,null,null,null,null,null,null,null,null,"",null,null,null,"",null,null,null,"",null,null,null,"",null,null,null,"",null,null,null,""]
[null,null,null,null,null,null,null,null,null,"",null,null,null,"",null,null,null,"",null,null,null,"",null,null,null,"",null,null,null,""]
[null,null,null,null,null,null,null,null,null,"",null,null,null,"",null,null,null,"",null,null,null,"",null,null,null,"",null,null,null,""]
[null,null,null,null,null,null,null,null,null,"",null,null,null,"",null,null,null,"",null,null,null,"",null,null,null,"",null,null,null,""]
[null,null,null,null,null,null,null,null,null,"",null,null,null,"",null,null,null,"",null,null,null,"",null,null,null,"",null,null,null,""]
[null,null,null,null,null,null,null,null,null,"",null,null,null,"",null,null,null,"",null,null,null,"",null,null,null,"",null,null,null,""]
[null,null,null,null,null,null,null,null,null,"",null,null,null,"",null,null,null,"",null,null,null,"",null,null,null,"",null,null,null,""]
[null,null,null,null,null,null,null,null,null,"",null,null,null,"",null,null,null,"",null,null,null,"",null,null,null,"",null,null,null,""]
[null,null,null,null,null,null,null,null,null,"",null,null,null,"",null,null,null,"",null,null,null,"",null,null,null,"",null,null,null,""]
[null,null,null,null,null,null,null,null,null,"",null,null,null,"",null,null,null,"",null,null,null,"",null,null,null,"",null,null,null,""]
[]
[null,null,null,null,null,"M",null,null,null,"N",null,null,null,"O",null,null,null,"P",null,null,null,"Q",null,null,null,"R"]
[null,null,null,null,null,null,"背番","選手名","PS",null,"背番","選手名","PS",null,"背番","選手名","PS",null,"背番","選手名","PS",null,"背番","選手名","PS",null,"背番","選手名","PS"]
[null,null,null,null,null,null,null,null,null,{"$f":"IF(G123=\"\",\"\",G123)","v":""}]
[null,null,null,null,null,null,null,null,null,{"$f":"IF(G124=\"\",\"\",G124)","v":""}]
[null,null,null,null,null,null,null,null,null,""]
[null,null,null,null,null,null,null,null,null,""]
[null,null,null,null,null,null,null,null,null,""]
[null,null,null,null,null,null,null,null,null,""]
[null,null,null,null,null,null,null,null,null,""]
[null,null,null,null,null,null,null,null,null,""]
[null,null,null,null,null,null,null,null,null,""]
[null,null,null,null,null,null,null,null,null,""]
[null,null,null,null,null,null,null,null,null,""]
[null,null,null,null,null,null,null,null,null,""]
[null,null,null,null,null,null,null,null,null,""]
[null,null,null,null,null,null,null,null,null,""]
[null,null,null,null,null,null,null,null,null,""]
[null,null,null,null,null,null,null,null,null,""]
[null,null,null,null,null,null,null,null,null,""]
[null,null,null,null,null,null,null,null,null,""]
[null,null,null,null,null,null,null,null,null,""]
[null,null,null,null,null,null,null,null,null,""]
[null,null,null,null,null,null,null,null,null,""]
[null,null,null,null,null,null,null,null,null,""]
[null,null,null,null,null,null,null,null,null,""]
[null,null,null,null,null,null,null,null,null,""]
[null,null,null,null,null,null,null,null,null,""]
[null,null,null,null,null,null,null,null,null,""]
[null,null,null,null,null,null,null,null,null,""]
[null,null,null,null,null,null,null,null,null,""]
[null,null,null,null,null,null,null,null,null,""]
[null,null,null,null,null,null,null,null,null,""]
[null,null,null,null,null,null,null,null,null,""]
[null,null,null,null,null,null,null,null,null,""]
[null,null,null,null,null,null,null,null,null,""]
[null,null,null,null,null,null,null,null,null,""]
[null,null,null,null,null,null,null,null,null,""]
[null,null,null,null,null,null,null,null,null,""]
[null,null,null,null,null,null,null,null,null,""]
[]
[null,null,null,null,null,"S",null,{"$f":"VLOOKUP(F161,$C$5:$D$38,2,FALSE)","v":0},null,"T",null,{"$f":"VLOOKUP(J161,$C$5:$D$38,2,FALSE)","v":0},null,"U",null,{"$f":"VLOOKUP(N161,$C$5:$D$38,2,FALSE)","v":0},null,"V",null,{"$f":"VLOOKUP(R161,$C$5:$D$38,2,FALSE)","v":0},null,"W",null,{"$f":"VLOOKUP(V161,$C$5:$D$38,2,FALSE)","v":0},null,"X",null,{"$f":"VLOOKUP(Z161,$C$5:$D$38,2,FALSE)","v":0}]
[null,null,null,null,null,null,"背番","選手名","PS",null,"背番","選手名","PS",null,"背番","選手名","PS",null,"背番","選手名","PS",null,"背番","選手名","PS",null,"背番","選手名","PS"]
[]
[]
[]
[]
[]
[]
[]
[]
[]
[]
[]
[]
[]
[]
[]
[]
[]
[]
[]
[]
[]
[]
[]
[]
[]
[]
[]
[]
[]
[]
[]
[]
[]
[]
[]
[]
[]
[]
[null,null,null,null,null,"Y",null,{"$f":"VLOOKUP(F201,$C$5:$D$38,2,FALSE)","v":0},null,"Z",null,{"$f":"VLOOKUP(J201,$C$5:$D$38,2,FALSE)","v":0},null,"AA",null,{"$f":"VLOOKUP(N201,$C$5:$D$38,2,FALSE)","v":0},null,"AB",null,{"$f":"VLOOKUP(R201,$C$5:$D$38,2,FALSE)","v":0},null,"AC",null,{"$f":"VLOOKUP(V201,$C$5:$D$38,2,FALSE)","v":0},null,"AD",null,{"$f":"VLOOKUP(Z201,$C$5:$D$38,2,FALSE)","v":0}]
[null,null,null,null,null,null,"背番","選手名","PS",null,"背番","選手名","PS",null,"背番","選手名","PS",null,"背番","選手名","PS",null,"背番","選手名","PS",null,"背番","選手名","PS"]
[]
[]
[]
[]
[]
[]
[]
[]
[]
[]
[]
[]
[]
[]
[]
[]
[]
[]
[]
[]
[]
[]
[]
[]
[]
[]
[]
[]
[]
[]
[]
[]
[]
[]
[]
[]
[]
[]
[null,null,null,null,null,"AE",null,{"$f":"VLOOKUP(F241,$C$5:$D$38,2,FALSE)","v":0}]
[null,null,null,null,null,null,"背番","選手名","PS"]

{"sheet":"入力","index":2,"n_rows":141,"n_cols":251,"rows_kept":141,"cut":false,"hidden":false,"merged":[[23,191,23,192],[52,231,52,232],[38,213,38,217],[38,220,38,221],[37,220,37,221],[53,231,53,232],[21,213,21,221],[36,213,36,221],[51,213,51,221],[51,231,51,232],[126,213,126,221],[128,191,128,192],[128,193,128,197],[128,200,128,201],[127,180,127,181],[128,131,128,132],[128,133,128,137],[128,140,128,141],[128,151,128,152],[127,191,127,192],[127,193,127,197],[128,211,128,212],[128,213,128,217],[128,220,128,221],[127,131,127,132],[127,133,127,137],[81,153,81,161],[66,153,66,161],[128,153,128,157],[128,160,128,161],[126,153,126,161],[22,113,22,117],[23,111,23,112],[23,113,23,117],[23,120,23,121],[23,140,23,141],[23,160,23,161],[127,140,127,141],[112,140,112,141],[112,120,112,121],[127,160,127,161],[112,160,112,161],[128,111,128,112],[128,113,128,117],[127,120,127,121],[66,111,66,112],[67,111,67,112],[52,111,52,112],[67,151,67,152],[67,153,67,157],[68,80,68,81],[22,71,22,72],[22,73,22,77],[23,71,23,72],[23,73,23,77],[23,80,23,81],[36,71,36,72],[37,71,37,72],[37,73,37,77],[53,73,53,77],[53,80,53,81],[66,71,66,72],[67,71,67,72],[67,73,67,77],[52,71,52,72],[68,73,68,77],[67,80,67,81],[68,60,68,61],[21,13,21,21],[97,51,97,52],[97,53,97,57],[82,51,82,52],[82,53,82,57],[83,71,83,72],[53,71,53,72],[81,31,81,32],[66,31,66,32],[68,71,68,72],[51,51,51,52],[68,51,68,52],[68,53,68,57],[81,51,81,52],[66,51,66,52],[67,51,67,52],[67,53,67,57],[52,51,52,52],[52,53,52,57],[53,51,53,52],[53,53,53,57],[52,60,52,61],[81,91,81,92],[66,91,66,92],[67,91,67,92],[67,93,67,97],[52,91,52,92],[52,93,52,97],[112,20,112,21],[113,31,113,32],[113,33,113,37],[113,40,113,41],[52,20,52,21],[112,40,112,41],[67,40,67,41],[82,40,82,41],[66,33,66,41],[97,40,97,41],[82,31,82,32],[83,31,83,32],[68,31,68,32],[83,73,83,77],[83,80,83,81],[81,71,81,72],[82,80,82,81],[82,71,82,72],[67,100,67,101],[52,100,52,101],[52,80,52,81],[37,180,37,181],[36,91,36,92],[37,91,37,92],[37,93,37,97],[36,73,36,81],[53,100,53,101],[37,100,37,101],[53,91,53,92],[53,93,53,97],[51,171,51,172],[67,160,67,161],[53,111,53,112],[52,131,52,132],[53,113,53,117],[53,120,53,121],[38,111,38,112],[38,113,38,117],[38,120,38,121],[51,111,51,112],[67,171,67,172],[67,173,67,177],[111,213,111,221],[53,213,53,217],[53,220,53,221],[68,211,68,212],[82,100,82,101],[67,220,67,221],[52,220,52,221],[97,211,97,212],[97,213,97,217],[82,211,82,212],[82,213,82,217],[83,220,83,221],[66,211,66,212],[52,200,52,201],[67,200,67,201],[82,200,82,201],[68,200,68,201],[68,111,68,112],[68,113,68,117],[97,180,97,181],[53,191,53,192],[66,191,66,192],[67,191,67,192],[97,193,97,197],[22,160,22,161],[52,140,52,141],[67,120,67,121],[67,140,67,141],[82,140,82,141],[82,120,82,121],[97,120,97,121],[97,140,97,141],[97,160,97,161],[22,131,22,132],[22,133,22,137],[23,131,23,132],[23,133,23,137],[23,151,23,152],[23,153,23,157],[66,113,66,121],[68,131,68,132],[81,131,81,132],[67,131,67,132],[36,131,36,132],[37,131,37,132],[66,131,66,132],[68,160,68,161],[81,151,81,152],[113,180,113,181],[98,180,98,181],[81,113,81,121],[126,113,126,121],[36,173,36,181],[51,173,51,181],[66,173,66,181],[81,173,81,181],[111,173,111,181],[126,173,126,181],[97,173,97,177],[37,133,37,137],[68,120,68,121],[113,171,113,172],[113,173,113,177],[98,171,98,172],[98,173,98,177],[111,171,111,172],[67,113,67,117],[52,113,52,117],[66,171,66,172],[38,173,38,177],[66,151,66,152],[96,153,96,161],[98,31,98,32],[98,33,98,37],[98,40,98,41],[111,31,111,32],[126,33,126,41],[97,31,97,32],[97,33,97,37],[112,180,112,181],[82,160,82,161],[82,180,82,181],[82,73,82,77],[83,153,83,157],[126,131,126,132],[112,131,112,132],[112,133,112,137],[113,131,113,132],[113,133,113,137],[113,140,113,141],[98,131,98,132],[98,133,98,137],[98,140,98,141],[111,131,111,132],[83,100,83,101],[83,160,83,161],[127,40,127,41],[127,60,127,61],[127,80,127,81],[127,100,127,101],[112,100,112,101],[112,80,112,81],[112,60,112,61],[97,60,97,61],[97,80,97,81],[97,100,97,101],[126,93,126,101],[111,73,111,81],[126,73,126,81],[97,73,97,77],[111,33,111,41],[126,53,126,61],[7,160,7,161],[7,180,7,181],[7,200,7,201],[7,193,7,197],[73,1,73,4],[3,6,3,9],[3,1,3,4],[4,1,4,4],[25,1,25,4],[37,11,37,12],[37,13,37,17],[22,11,22,12],[22,13,22,17],[23,11,23,12],[23,13,23,17],[36,2,36,4],[21,11,21,12],[6,11,6,12],[7,11,7,12],[8,11,8,12],[7,13,7,17],[68,11,68,12],[68,13,68,17],[6,13,6,21],[7,20,7,21],[22,20,22,21],[23,200,23,201],[37,20,37,21],[38,180,38,181],[52,180,52,181],[8,73,8,77],[67,31,67,32],[81,11,81,12],[8,13,8,17],[67,11,67,12],[67,13,67,17],[52,11,52,12],[52,13,52,17],[53,11,53,12],[53,13,53,17],[53,20,53,21],[66,11,66,12],[38,11,38,12],[38,13,38,17],[38,20,38,21],[51,11,51,12],[36,11,36,12],[23,20,23,21],[8,20,8,21],[68,20,68,21],[81,13,81,21],[67,20,67,21],[51,13,51,21],[66,13,66,21],[128,11,128,12],[128,13,128,17],[128,20,128,21],[127,20,127,21],[126,13,126,21],[36,13,36,21],[97,20,97,21],[6,31,6,32],[7,31,7,32],[7,33,7,37],[126,11,126,12],[127,11,127,12],[127,13,127,17],[112,11,112,12],[112,13,112,17],[113,11,113,12],[113,13,113,17],[113,20,113,21],[98,11,98,12],[98,13,98,17],[98,20,98,21],[111,11,111,12],[96,11,96,12],[97,11,97,12],[97,13,97,17],[82,11,82,12],[82,13,82,17],[83,11,83,12],[21,31,21,32],[6,33,6,41],[21,33,21,41],[128,31,128,32],[128,33,128,37],[128,40,128,41],[8,51,8,52],[8,53,8,57],[8,60,8,61],[21,51,21,52],[38,60,38,61],[37,51,37,52],[37,53,37,57],[22,51,22,52],[22,53,22,57],[23,51,23,52],[23,53,23,57],[23,60,23,61],[37,60,37,61],[22,60,22,61],[36,31,36,32],[37,31,37,32],[37,33,37,37],[22,31,22,32],[53,60,53,61],[128,51,128,52],[128,53,128,57],[128,60,128,61],[82,60,82,61],[67,60,67,61],[126,31,126,32],[127,31,127,32],[127,33,127,37],[112,31,112,32],[112,33,112,37],[8,80,8,81],[21,71,21,72],[52,73,52,77],[126,51,126,52],[127,51,127,52],[127,53,127,57],[112,51,112,52],[112,53,112,57],[113,51,113,52],[113,53,113,57],[113,60,113,61],[98,51,98,52],[98,53,98,57],[98,60,98,61],[111,51,111,52],[96,51,96,52],[6,51,6,52],[6,53,6,61],[7,51,7,52],[7,53,7,57],[7,40,7,41],[7,60,7,61],[6,73,6,81],[7,80,7,81],[38,51,38,52],[8,71,8,72],[6,71,6,72],[7,71,7,72],[7,73,7,77],[37,80,37,81],[22,80,22,81],[38,71,38,72],[38,73,38,77],[38,80,38,81],[23,40,23,41],[38,40,38,41],[36,33,36,41],[21,73,21,81],[38,53,38,57],[128,71,128,72],[128,73,128,77],[128,80,128,81],[6,91,6,92],[7,91,7,92],[7,93,7,97],[126,71,126,72],[127,71,127,72],[127,73,127,77],[112,71,112,72],[112,73,112,77],[113,71,113,72],[113,73,113,77],[113,80,113,81],[98,71,98,72],[98,73,98,77],[98,80,98,81],[111,71,111,72],[96,71,96,72],[97,71,97,72],[51,91,51,92],[51,71,51,72],[68,91,68,92],[68,93,68,97],[128,93,128,97],[128,100,128,101],[6,111,6,112],[7,111,7,112],[7,113,7,117],[126,91,126,92],[127,91,127,92],[127,93,127,97],[112,91,112,92],[112,93,112,97],[113,91,113,92],[113,93,113,97],[113,100,113,101],[98,91,98,92],[98,93,98,97],[98,100,98,101],[111,91,111,92],[96,91,96,92],[37,111,37,112],[37,113,37,117],[81,93,81,101],[66,93,66,101],[68,100,68,101],[81,111,81,112],[22,151,22,152],[22,153,22,157],[6,151,6,152],[7,151,7,152],[128,120,128,121],[6,131,6,132],[7,131,7,132],[7,133,7,137],[126,111,126,112],[127,111,127,112],[127,113,127,117],[112,111,112,112],[112,113,112,117],[113,111,113,112],[113,113,113,117],[113,120,113,121],[98,111,98,112],[98,113,98,117],[98,120,98,121],[111,111,111,112],[111,113,111,122],[96,111,96,112],[97,111,97,112],[97,113,97,117],[8,151,8,152],[8,153,8,157],[68,151,68,152],[68,153,68,157],[37,140,37,141],[7,140,7,141],[8,160,8,161],[21,151,21,152],[37,160,37,161],[52,151,52,152],[52,153,52,157],[53,151,53,152],[53,153,53,157],[53,160,53,161],[38,151,38,152],[38,153,38,157],[38,160,38,161],[51,151,51,152],[51,153,51,161],[52,160,52,161],[7,153,7,157],[36,151,36,152],[37,151,37,152],[37,153,37,157],[6,171,6,172],[7,171,7,172],[7,173,7,177],[126,151,126,152],[127,151,127,152],[127,153,127,157],[112,151,112,152],[112,153,112,157],[113,151,113,152],[113,153,113,157],[113,160,113,161],[98,151,98,152],[98,153,98,157],[98,160,98,161],[111,151,111,152],[96,151,96,152],[97,151,97,152],[97,153,97,157],[82,151,82,152],[82,153,82,157],[83,151,83,152],[127,173,127,177],[112,171,112,172],[112,173,112,177],[6,191,6,192],[7,191,7,192],[128,171,128,172],[128,173,128,177],[128,180,128,181],[36,171,36,172],[37,171,37,172],[37,173,37,177],[52,173,52,177],[22,171,22,172],[22,173,22,177],[23,171,23,172],[23,173,23,177],[23,180,23,181],[98,191,98,192],[51,191,51,192],[96,171,96,172],[97,171,97,172],[53,171,53,172],[53,173,53,177],[81,191,81,192],[126,171,126,172],[127,171,127,172],[52,191,52,192],[8,171,8,172],[8,173,8,177],[8,180,8,181],[21,171,21,172],[53,180,53,181],[38,171,38,172],[21,173,21,181],[21,193,21,201],[36,193,36,201],[51,193,51,201],[22,180,22,181],[36,191,36,192],[37,191,37,192],[37,193,37,197],[23,193,23,197],[52,193,52,197],[53,193,53,197],[53,200,53,201],[38,193,38,197],[38,200,38,201],[22,200,22,201],[37,200,37,201],[22,191,22,192],[22,193,22,197],[112,200,112,201],[127,200,127,201],[82,191,82,192],[82,193,82,197],[83,191,83,192],[83,193,83,197],[111,193,111,201],[126,193,126,201],[126,191,126,192],[112,191,112,192],[112,193,112,197],[113,191,113,192],[113,193,113,197],[113,200,113,201],[98,193,98,197],[98,200,98,201],[111,191,111,192],[96,193,96,201],[83,200,83,201],[6,231,6,232],[7,231,7,232],[7,233,7,237],[126,211,126,212],[127,211,127,212],[127,213,127,217],[112,211,112,212],[112,213,112,217],[113,211,113,212],[113,213,113,217],[113,220,113,221],[98,211,98,212],[98,213,98,217],[83,211,83,212],[83,213,83,217],[67,213,67,217],[52,211,52,212],[52,213,52,217],[8,211,8,212],[8,213,8,217],[8,220,8,221],[7,220,7,221],[127,220,127,221],[112,220,112,221],[7,240,7,241],[98,220,98,221],[81,213,81,221],[96,213,96,221],[83,13,83,17],[83,20,83,21],[111,53,111,61],[83,60,83,61],[83,111,83,112],[83,113,83,117],[83,120,83,121],[82,20,82,21],[96,73,96,81],[96,113,96,121],[96,173,96,181],[36,111,36,112],[111,211,111,212],[96,211,96,212],[96,13,96,21],[111,13,111,21],[96,93,96,101],[111,93,111,101],[83,93,83,97],[96,191,96,192],[128,233,128,237],[128,240,128,241],[126,231,126,232],[127,231,127,232],[127,233,127,237],[112,231,112,232],[112,233,112,237],[113,231,113,232],[113,233,113,237],[113,240,113,241],[128,231,128,232],[112,240,112,241],[127,240,127,241],[126,233,126,241],[128,91,128,92],[21,53,21,61],[36,53,36,61],[51,53,51,61],[66,53,66,61],[81,53,81,61],[36,51,36,52],[22,40,22,41],[37,40,37,41],[96,53,96,61],[83,53,83,57],[51,73,51,81],[66,73,66,81],[81,73,81,81],[83,51,83,52],[81,33,81,41],[96,33,96,41],[82,33,82,37],[83,33,83,37],[83,40,83,41],[68,33,68,37],[68,40,68,41],[67,33,67,37],[53,40,53,41],[111,153,111,161],[97,91,97,92],[97,93,97,97],[82,91,82,92],[82,93,82,97],[83,91,83,92],[97,191,97,192],[97,200,97,201],[96,131,96,132],[97,131,97,132],[97,133,97,137],[82,131,82,132],[82,133,82,137],[83,131,83,132],[82,111,82,112],[82,113,82,117],[82,171,82,172],[82,173,82,177],[83,171,83,172],[83,173,83,177],[83,180,83,181],[8,31,8,32],[8,33,8,37],[8,40,8,41],[52,40,52,41],[96,31,96,32],[52,31,52,32],[52,33,52,37],[53,31,53,32],[53,33,53,37],[22,33,22,37],[23,31,23,32],[23,33,23,37],[38,31,38,32],[38,33,38,37],[51,31,51,32],[51,33,51,41],[6,93,6,101],[21,93,21,101],[36,93,36,101],[51,93,51,101],[38,91,38,92],[38,93,38,97],[38,100,38,101],[23,93,23,97],[7,100,7,101],[8,91,8,92],[22,93,22,97],[23,91,23,92],[8,93,8,97],[8,100,8,101],[21,91,21,92],[23,100,23,101],[22,100,22,101],[22,91,22,92],[6,113,6,121],[21,113,21,121],[36,113,36,121],[51,113,51,121],[53,131,53,132],[38,131,38,132],[51,131,51,132],[7,120,7,121],[22,111,22,112],[8,111,8,112],[8,113,8,117],[8,120,8,121],[21,111,21,112],[22,120,22,121],[37,120,37,121],[52,120,52,121],[8,131,8,132],[21,131,21,132],[6,133,6,141],[21,133,21,141],[36,133,36,141],[51,133,51,141],[66,133,66,141],[81,133,81,141],[96,133,96,141],[111,133,111,141],[126,133,126,141],[83,133,83,137],[83,140,83,141],[68,133,68,137],[68,140,68,141],[67,133,67,137],[8,133,8,137],[8,140,8,141],[22,140,22,141],[52,133,52,137],[53,133,53,137],[53,140,53,141],[38,133,38,137],[38,140,38,141],[6,153,6,161],[6,173,6,181],[6,193,6,201],[6,213,6,221],[6,233,6,241],[21,153,21,161],[36,153,36,161],[51,211,51,212],[36,211,36,212],[37,211,37,212],[37,213,37,217],[22,211,22,212],[22,213,22,217],[23,211,23,212],[23,213,23,217],[23,220,23,221],[6,211,6,212],[7,211,7,212],[7,213,7,217],[38,191,38,192],[8,191,8,192],[8,193,8,197],[8,200,8,201],[21,191,21,192],[38,240,38,241],[8,231,8,232],[22,231,22,232],[23,240,23,241],[8,233,8,237],[8,240,8,241],[21,231,21,232],[21,211,21,212],[22,233,22,237],[23,231,23,232],[23,233,23,237],[38,231,38,232],[38,233,38,237],[36,231,36,232],[37,231,37,232],[37,233,37,237],[36,233,36,241],[22,240,22,241],[37,240,37,241],[21,233,21,241],[22,220,22,221],[38,211,38,212],[68,191,68,192],[68,193,68,197],[67,233,67,237],[53,233,53,237],[53,240,53,241],[66,231,66,232],[66,233,66,241],[81,233,81,241],[67,231,67,232],[67,240,67,241],[66,213,66,221],[67,211,67,212],[66,193,66,201],[53,211,53,212],[67,193,67,197],[81,193,81,201],[52,233,52,237],[82,220,82,221],[98,240,98,241],[82,240,82,241],[97,240,97,241],[51,233,51,241],[68,213,68,217],[68,220,68,221],[81,211,81,212],[52,240,52,241],[68,171,68,172],[68,173,68,177],[68,180,68,181],[81,171,81,172],[97,220,97,221],[52,171,52,172],[67,180,67,181],[96,233,96,241],[111,233,111,241],[111,231,111,232],[96,231,96,232],[97,231,97,232],[83,231,83,232],[98,231,98,232],[82,231,82,232],[81,231,81,232],[68,231,68,232],[97,233,97,237],[82,233,82,237],[83,233,83,237],[83,240,83,241],[68,233,68,237],[68,240,68,241],[98,233,98,237],[3,184,3,190],[3,204,3,210],[3,224,3,230],[3,244,3,250],[3,24,3,30],[3,44,3,50],[3,64,3,70],[3,84,3,90],[3,104,3,110],[3,124,3,130],[3,144,3,150],[3,164,3,170]]}
[null,null,"チーム名","得点"]
[null,null,{"$f":"IF(C38=\"\",\"\",C38)","v":""},{"$f":"X6+AR6+BL6+CF6+CZ6+DT6+EN6+FH6+GB6+GV6+HP6+IJ6","v":0}]
[null,null,{"$f":"IF(C75=\"\",\"\",C75)","v":""}]
[null,null,null,null,null,null,"↓選手入力用マクロボタン",null,null,null,null,null,null,null,null,null,null,null,null,null,null,null,null,null,"自責点",null,null,null,null,null,null,null,null,null,null,null,null,null,null,null,null,null,null,null,"自責点",null,null,null,null,null,null,null,null,null,null,null,null,null,null,null,null,null,null,null,"自責点",null,null,null,null,null,null,null,null,null,null,null,null,null,null,null,null,null,null,null,"自責点",null,null,null,null,null,null,null,null,null,null,null,null,null,null,null,null,null,null,null,"自責点",null,null,null,null,null,null,null,null,null,null,null,null,null,null,null,null,null,null,null,"自責点",null,null,null,null,null,null,null,null,null,null,null,null,null,null,null,null,null,null,null,"自責点",null,null,null,null,null,null,null,null,null,null,null,null,null,null,null,null,null,null,null,"自責点",null,null,null,null,null,null,null,null,null,null,null,null,null,null,null,null,null,null,null,"自責点",null,null,null,null,null,null,null,null,null,null,null,null,null,null,null,null,null,null,null,"自責点",null,null,null,null,null,null,null,null,null,null,null,null,null,null,null,null,null,null,null,"自責点",null,null,null,null,null,null,null,null,null,null,null,null,null,null,null,null,null,null,null,"自責点"]
[null,"攻撃T先発オーダー",null,null,null,null,null,"攻撃T",null,"守備T",null,null,null,null,null,null,null,null,null,null,null,null,null,"失","先","2","3","4","5","6","7",null,null,null,null,null,null,null,null,null,null,null,null,"失","先","2","3","4","5","6","7",null,null,null,null,null,null,null,null,null,null,null,null,"失","先","2","3","4","5","6","7",null,null,null,null,null,null,null,null,null,null,null,null,"失","先","2","3","4","5","6","7",null,null,null,null,null,null,null,null,null,null,null,null,"失","先","2","3","4","5","6","7",null,null,null,null,null,null,null,null,null,null,null,null,"失","先","2","3","4","5","6","7",null,null,null,null,null,null,null,null,null,null,null,null,"失","先","2","3","4","5","6","7",null,null,null,null,null,null,null,null,null,null,null,null,"失","先","2","3","4","5","6","7",null,null,null,null,null,null,null,null,null,null,null,null,"失","先","2","3","4","5","6","7",null,null,null,null,null,null,null,null,null,null,null,null,"失","先","2","3","4","5","6","7",null,null,null,null,null,null,null,null,null,null,null,null,"失","先","2","3","4","5","6","7",null,null,null,null,null,null,null,null,null,null,null,null,"失","先",2,3,4,5,6,7]
["＊","順","選手名","PS","番",null,"コード","チーム名","コード","チーム名",null,null,null,null,null,null,null,null,null,null,null,null,null,{"$f":"SUM(W7:W141)","v":0},null,null,null,null,null,null,null,null,null,null,null,null,null,null,null,null,null,null,null,{"$f":"SUM(AQ7:AQ141)","v":0},null,null,null,null,null,null,null,null,null,null,null,null,null,null,null,null,null,null,null,{"$f":"SUM(BK7:BK141)","v":0},null,null,null,null,null,null,null,null,null,null,null,null,null,null,null,null,null,null,null,{"$f":"SUM(CE7:CE141)","v":0},null,null,null,null,null,null,null,null,null,null,null,null,null,null,null,null,null,null,null,{"$f":"SUM(CY7:CY141)","v":0},null,null,null,null,null,null,null,null,null,null,null,null,null,null,null,null,null,null,null,{"$f":"SUM(DS7:DS141)","v":0},null,null,null,null,null,null,null,null,null,null,null,null,null,null,null,null,null,null,null,{"$f":"SUM(EM7:EM141)","v":0},null,null,null,null,null,null,null,null,null,null,null,null,null,null,null,null,null,null,null,{"$f":"SUM(FG7:FG141)","v":0},null,null,null,null,null,null,null,null,null,null,null,null,null,null,null,null,null,null,null,{"$f":"SUM(GA7:GA141)","v":0},null,null,null,null,null,null,null,null,null,null,null,null,null,null,null,null,null,null,null,{"$f":"SUM(GU7:GU141)","v":0},null,null,null,null,null,null,null,null,null,null,null,null,null,null,null,null,null,null,null,{"$f":"SUM(HO7:HO141)","v":0},null,null,null,null,null,null,null,null,null,null,null,null,null,null,null,null,null,null,null,{"$f":"SUM(II7:II141)","v":0}]
[{"$f":"IF(E7=\"\",\"\",E7)","v":""},"①",{"$f":"IF(E7=\"\",\"\",VLOOKUP(E7,$B$40:$D$72,2,FALSE))","v":""},{"$f":"IF(E7=\"\",\"\",VLOOKUP(E7,$B$40:$D$72,3,FALSE))","v":""},null,null,null,{"$f":"IF(情報!D5=\"\",\"\",情報!D5)","v":""},null,{"$f":"IF(情報!D5=\"\",\"\",情報!D5)","v":""},null,"①",null,"1回",null,null,null,null,null,null,null,null,null,"P","N","種","判","P","N","種","判","①",null,"2回",null,null,null,null,null,null,null,null,null,"P","N","種","判","P","N","種","判","①",null,"3回",null,null,null,null,null,null,null,null,null,"P","N","種","判","P","N","種","判","①",null,"4回",null,null,null,null,null,null,null,null,null,"P","N","種","判","P","N","種","判","①",null,"5回",null,null,null,null,null,null,null,null,null,"P","N","種","判","P","N","種","判","①",null,"6回",null,null,null,null,null,null,null,null,null,"P","N","種","判","P","N","種","判","①",null,"7回",null,null,null,null,null,null,null,null,null,"P","N","種","判","P","N","種","判","①",null,"8回",null,null,null,null,null,null,null,null,null,"P","N","種","判","P","N","種","判","①",null,"9回",null,null,null,null,null,null,null,null,null,"P","N","種","判","P","N","種","判","①",null,"10回",null,null,null,null,null,null,null,null,null,"P","N","種","判","P","N","種","判","①",null,"11回",null,null,null,null,null,null,null,null,null,"P","N","種","判","P","N","種","判","①",null,"12回",null,null,null,null,null,null,null,null,null,"P","N","種","判","P","N","種","判"]
[{"$f":"IF(E8=\"\",\"\",E8)","v":""},"②",{"$f":"IF(E8=\"\",\"\",VLOOKUP(E8,$B$40:$D$72,2,FALSE))","v":""},{"$f":"IF(E8=\"\",\"\",VLOOKUP(E8,$B$40:$D$72,3,FALSE))","v":""},null,null,null,{"$f":"IF(情報!D6=\"\",\"\",情報!D6)","v":""},null,{"$f":"IF(情報!D6=\"\",\"\",情報!D6)","v":""},null,"投手",null,{"$f":"IF($C$28=\"\",\"\",VLOOKUP(S8,$B$77:$E$110,2,FALSE))","v":""},null,null,null,null,{"$f":"IF(E28=\"\",\"\",E28)","v":""},{"$f":"IF($C$28=\"\",\"\",VLOOKUP(S8,$A$28:$D$35,4,FALSE))","v":""},"結果",null,null,{"$f":"IF(AA8=\"\",\"\",S8)","v":""},1,null,null,{"$f":"IF(AE8=\"\",\"\",X8)","v":""},15,null,null,"投手",null,{"$f":"IF($C$28=\"\",\"\",VLOOKUP(AM8,$B$77:$E$110,2,FALSE))","v":""},null,null,null,null,{"$f":"S128","v":""},{"$f":"IF($C$28=\"\",\"\",VLOOKUP(AM8,$A$28:$D$35,4,FALSE))","v":""},"結果",null,null,{"$f":"IF(AU8=\"\",\"\",AM8)","v":""},1,null,null,{"$f":"IF(AY8=\"\",\"\",AR8)","v":""},15,null,null,"投手",null,{"$f":"IF($C$28=\"\",\"\",VLOOKUP(BG8,$B$77:$E$110,2,FALSE))","v":""},null,null,null,null,{"$f":"AM128","v":""},{"$f":"IF($C$28=\"\",\"\",VLOOKUP(BG8,$A$28:$D$35,4,FALSE))","v":""},"結果",null,null,{"$f":"IF(BO8=\"\",\"\",BG8)","v":""},1,null,null,{"$f":"IF(BS8=\"\",\"\",BL8)","v":""},15,null,null,"投手",null,{"$f":"IF($C$28=\"\",\"\",VLOOKUP(CA8,$B$77:$E$110,2,FALSE))","v":""},null,null,null,null,{"$f":"BG128","v":""},{"$f":"IF($C$28=\"\",\"\",VLOOKUP(CA8,$A$28:$D$35,4,FALSE))","v":""},"結果",null,null,{"$f":"IF(CI8=\"\",\"\",CA8)","v":""},1,null,null,{"$f":"IF(CM8=\"\",\"\",CF8)","v":""},15,null,null,"投手",null,{"$f":"IF($C$28=\"\",\"\",VLOOKUP(CU8,$B$77:$E$110,2,FALSE))","v":""},null,null,null,null,{"$f":"CA128","v":""},{"$f":"IF($C$28=\"\",\"\",VLOOKUP(CU8,$A$28:$D$35,4,FALSE))","v":""},"結果",null,null,{"$f":"IF(DC8=\"\",\"\",CU8)","v":""},1,null,null,{"$f":"IF(DG8=\"\",\"\",CZ8)","v":""},15,null,null,"投手",null,{"$f":"IF($C$28=\"\",\"\",VLOOKUP(DO8,$B$77:$E$110,2,FALSE))","v":""},null,null,null,null,{"$f":"CU128","v":""},{"$f":"IF($C$28=\"\",\"\",VLOOKUP(DO8,$A$28:$D$35,4,FALSE))","v":""},"結果",null,null,{"$f":"IF(DW8=\"\",\"\",DO8)","v":""},1,null,null,{"$f":"IF(EA8=\"\",\"\",DT8)","v":""},15,null,null,"投手",null,{"$f":"IF($C$28=\"\",\"\",VLOOKUP(EI8,$B$77:$E$110,2,FALSE))","v":""},null,null,null,null,{"$f":"DO128","v":""},{"$f":"IF($C$28=\"\",\"\",VLOOKUP(EI8,$A$28:$D$35,4,FALSE))","v":""},"結果",null,null,{"$f":"IF(EQ8=\"\",\"\",EI8)","v":""},1,null,null,{"$f":"IF(EU8=\"\",\"\",EN8)","v":""},15,null,null,"投手",null,{"$f":"IF($C$28=\"\",\"\",VLOOKUP(FC8,$B$77:$E$110,2,FALSE))","v":""},null,null,null,null,{"$f":"EI128","v":""},{"$f":"IF($C$28=\"\",\"\",VLOOKUP(FC8,$A$28:$D$35,4,FALSE))","v":""},"結果",null,null,{"$f":"IF(FK8=\"\",\"\",FC8)","v":""},1,null,null,{"$f":"IF(FO8=\"\",\"\",FH8)","v":""},15,null,null,"投手",null,{"$f":"IF($C$28=\"\",\"\",VLOOKUP(FW8,$B$77:$E$110,2,FALSE))","v":""},null,null,null,null,{"$f":"FC128","v":""},{"$f":"IF($C$28=\"\",\"\",VLOOKUP(FW8,$A$28:$D$35,4,FALSE))","v":""},"結果",null,null,{"$f":"IF(GE8=\"\",\"\",FW8)","v":""},1,null,null,{"$f":"IF(GI8=\"\",\"\",GB8)","v":""},15,null,null,"投手",null,{"$f":"IF($C$28=\"\",\"\",VLOOKUP(GQ8,$B$77:$E$110,2,FALSE))","v":""},null,null,null,null,{"$f":"FW128","v":""},{"$f":"IF($C$28=\"\",\"\",VLOOKUP(GQ8,$A$28:$D$35,4,FALSE))","v":""},"結果",null,null,{"$f":"IF(GY8=\"\",\"\",GQ8)","v":""},1,null,null,{"$f":"IF(HC8=\"\",\"\",GV8)","v":""},15,null,null,"投手",null,{"$f":"IF($C$28=\"\",\"\",VLOOKUP(HK8,$B$77:$E$110,2,FALSE))","v":""},null,null,null,null,{"$f":"GQ128","v":""},{"$f":"IF($C$28=\"\",\"\",VLOOKUP(HK8,$A$28:$D$35,4,FALSE))","v":""},"結果",null,null,{"$f":"IF(HS8=\"\",\"\",HK8)","v":""},1,null,null,{"$f":"IF(HW8=\"\",\"\",HP8)","v":""},15,null,null,"投手",null,{"$f":"IF($C$28=\"\",\"\",VLOOKUP(IE8,$B$77:$E$110,2,FALSE))","v":""},null,null,null,null,{"$f":"HK128","v":""},{"$f":"IF($C$28=\"\",\"\",VLOOKUP(IE8,$A$28:$D$35,4,FALSE))","v":""},"結果",null,null,{"$f":"IF(IM8=\"\",\"\",IE8)","v":""},1,null,null,{"$f":"IF(IQ8=\"\",\"\",IJ8)","v":""},15]
["","③","","",null,null,null,{"$f":"IF(情報!D7=\"\",\"\",情報!D7)","v":""},null,{"$f":"IF(情報!D7=\"\",\"\",情報!D7)","v":""},null,"打者",null,{"$f":"IF($C$7=\"\",\"\",VLOOKUP(S9,$B$40:$D$73,2,FALSE))","v":""},null,null,null,null,{"$f":"E7","v":0},{"$f":"IF($C$7=\"\",\"\",VLOOKUP(S9,$A$7:$E$25,4,FALSE))","v":""},"得点",null,null,{"$f":"IF(AA9=\"\",\"\",X8)","v":""},{"$f":"Y8+1","v":2},null,null,{"$f":"IF(AE9=\"\",\"\",AB8)","v":""},{"$f":"AC8+1","v":16},null,null,"打者",null,{"$f":"IF($C$7=\"\",\"\",VLOOKUP(AM9,$B$40:$D$73,2,FALSE))","v":""},null,null,null,null,{"$f":"S9","v":0},{"$f":"IF(AH9=\"\",\"\",VLOOKUP(AM9,$B$40:$D$73,3,FALSE))","v":""},"得点",null,null,{"$f":"IF(AU9=\"\",\"\",AR8)","v":""},{"$f":"AS8+1","v":2},null,null,{"$f":"IF(AY9=\"\",\"\",AV8)","v":""},{"$f":"AW8+1","v":16},null,null,"打者",null,{"$f":"IF($C$7=\"\",\"\",VLOOKUP(BG9,$B$40:$D$73,2,FALSE))","v":""},null,null,null,null,{"$f":"AM9","v":0},{"$f":"IF(BB9=\"\",\"\",VLOOKUP(BG9,$B$40:$D$73,3,FALSE))","v":""},"得点",null,null,{"$f":"IF(BO9=\"\",\"\",BL8)","v":""},{"$f":"BM8+1","v":2},null,null,{"$f":"IF(BS9=\"\",\"\",BP8)","v":""},{"$f":"BQ8+1","v":16},null,null,"打者",null,{"$f":"IF($C$7=\"\",\"\",VLOOKUP(CA9,$B$40:$D$73,2,FALSE))","v":""},null,null,null,null,{"$f":"BG9","v":0},{"$f":"IF(BV9=\"\",\"\",VLOOKUP(CA9,$B$40:$D$73,3,FALSE))","v":""},"得点",null,null,{"$f":"IF(CI9=\"\",\"\",CF8)","v":""},{"$f":"CG8+1","v":2},null,null,{"$f":"IF(CM9=\"\",\"\",CJ8)","v":""},{"$f":"CK8+1","v":16},null,null,"打者",null,{"$f":"IF($C$7=\"\",\"\",VLOOKUP(CU9,$B$40:$D$73,2,FALSE))","v":""},null,null,null,null,{"$f":"CA9","v":0},{"$f":"IF(CP9=\"\",\"\",VLOOKUP(CU9,$B$40:$D$73,3,FALSE))","v":""},"得点",null,null,{"$f":"IF(DC9=\"\",\"\",CZ8)","v":""},{"$f":"DA8+1","v":2},null,null,{"$f":"IF(DG9=\"\",\"\",DD8)","v":""},{"$f":"DE8+1","v":16},null,null,"打者",null,{"$f":"IF($C$7=\"\",\"\",VLOOKUP(DO9,$B$40:$D$73,2,FALSE))","v":""},null,null,null,null,{"$f":"CU9","v":0},{"$f":"IF(DJ9=\"\",\"\",VLOOKUP(DO9,$B$40:$D$73,3,FALSE))","v":""},"得点",null,null,{"$f":"IF(DW9=\"\",\"\",DT8)","v":""},{"$f":"DU8+1","v":2},null,null,{"$f":"IF(EA9=\"\",\"\",DX8)","v":""},{"$f":"DY8+1","v":16},null,null,"打者",null,{"$f":"IF($C$7=\"\",\"\",VLOOKUP(EI9,$B$40:$D$73,2,FALSE))","v":""},null,null,null,null,{"$f":"DO9","v":0},{"$f":"IF(ED9=\"\",\"\",VLOOKUP(EI9,$B$40:$D$73,3,FALSE))","v":""},"得点",null,null,{"$f":"IF(EQ9=\"\",\"\",EN8)","v":""},{"$f":"EO8+1","v":2},null,null,{"$f":"IF(EU9=\"\",\"\",ER8)","v":""},{"$f":"ES8+1","v":16},null,null,"打者",null,{"$f":"IF($C$7=\"\",\"\",VLOOKUP(FC9,$B$40:$D$73,2,FALSE))","v":""},null,null,null,null,{"$f":"EI9","v":0},{"$f":"IF(EX9=\"\",\"\",VLOOKUP(FC9,$B$40:$D$73,3,FALSE))","v":""},"得点",null,null,{"$f":"IF(FK9=\"\",\"\",FH8)","v":""},{"$f":"FI8+1","v":2},null,null,{"$f":"IF(FO9=\"\",\"\",FL8)","v":""},{"$f":"FM8+1","v":16},null,null,"打者",null,{"$f":"IF($C$7=\"\",\"\",VLOOKUP(FW9,$B$40:$D$73,2,FALSE))","v":""},null,null,null,null,{"$f":"FC9","v":0},{"$f":"IF(FR9=\"\",\"\",VLOOKUP(FW9,$B$40:$D$73,3,FALSE))","v":""},"得点",null,null,{"$f":"IF(GE9=\"\",\"\",GB8)","v":""},{"$f":"GC8+1","v":2},null,null,{"$f":"IF(GI9=\"\",\"\",GF8)","v":""},{"$f":"GG8+1","v":16},null,null,"打者",null,{"$f":"IF($C$7=\"\",\"\",VLOOKUP(GQ9,$B$40:$D$73,2,FALSE))","v":""},null,null,null,null,{"$f":"FW9","v":0},{"$f":"IF(GL9=\"\",\"\",VLOOKUP(GQ9,$B$40:$D$73,3,FALSE))","v":""},"得点",null,null,{"$f":"IF(GY9=\"\",\"\",GV8)","v":""},{"$f":"GW8+1","v":2},null,null,{"$f":"IF(HC9=\"\",\"\",GZ8)","v":""},{"$f":"HA8+1","v":16},null,null,"打者",null,{"$f":"IF($C$7=\"\",\"\",VLOOKUP(HK9,$B$40:$D$73,2,FALSE))","v":""},null,null,null,null,{"$f":"GQ9","v":0},{"$f":"IF(HF9=\"\",\"\",VLOOKUP(HK9,$B$40:$D$73,3,FALSE))","v":""},"得点",null,null,{"$f":"IF(HS9=\"\",\"\",HP8)","v":""},{"$f":"HQ8+1","v":2},null,null,{"$f":"IF(HW9=\"\",\"\",HT8)","v":""},{"$f":"HU8+1","v":16},null,null,"打者",null,{"$f":"IF($C$7=\"\",\"\",VLOOKUP(IE9,$B$40:$D$73,2,FALSE))","v":""},null,null,null,null,{"$f":"HK9","v":0},{"$f":"IF(HZ9=\"\",\"\",VLOOKUP(IE9,$B$40:$D$73,3,FALSE))","v":""},"得点",null,null,{"$f":"IF(IM9=\"\",\"\",IJ8)","v":""},{"$f":"IK8+1","v":2},null,null,{"$f":"IF(IQ9=\"\",\"\",IN8)","v":""},{"$f":"IO8+1","v":16}]
["","④","","",null,null,null,{"$f":"IF(情報!D8=\"\",\"\",情報!D8)","v":""},null,{"$f":"IF(情報!D8=\"\",\"\",情報!D8)","v":""},null,{"$f":"IF(S8=\"\",\"\",S8)","v":""},{"$f":"L10","v":""},{"$f":"M10","v":""},"","","","","","","","",null,{"$f":"IF(AA10=\"\",\"\",X9)","v":""},{"$f":"Y9+1","v":3},null,null,{"$f":"IF(AE10=\"\",\"\",AB9)","v":""},{"$f":"AC9+1","v":17},null,null,{"$f":"IF(AM8=\"\",\"\",AM8)","v":""},{"$f":"AF10","v":""},{"$f":"AG10","v":""},"","","","","","","","",null,{"$f":"IF(AU10=\"\",\"\",AR9)","v":""},{"$f":"AS9+1","v":3},null,null,{"$f":"IF(AY10=\"\",\"\",AV9)","v":""},{"$f":"AW9+1","v":17},null,null,{"$f":"IF(BG8=\"\",\"\",BG8)","v":""},{"$f":"AZ10","v":""},{"$f":"BA10","v":""},"","","","","","","","",null,{"$f":"IF(BO10=\"\",\"\",BL9)","v":""},{"$f":"BM9+1","v":3},null,null,{"$f":"IF(BS10=\"\",\"\",BP9)","v":""},{"$f":"BQ9+1","v":17},null,null,{"$f":"IF(CA8=\"\",\"\",CA8)","v":""},{"$f":"BT10","v":""},{"$f":"BU10","v":""},{"$f":"BV10","v":""},{"$f":"BW10","v":""},{"$f":"BX10","v":""},{"$f":"BY10","v":""},{"$f":"BZ10","v":""},{"$f":"CA10","v":""},{"$f":"CB10","v":""},{"$f":"CC10","v":""},null,{"$f":"IF(CI10=\"\",\"\",CF9)","v":""},{"$f":"CG9+1","v":3},null,null,{"$f":"IF(CM10=\"\",\"\",CJ9)","v":""},{"$f":"CK9+1","v":17},null,null,{"$f":"IF(CU8=\"\",\"\",CU8)","v":""},{"$f":"CN10","v":""},{"$f":"CO10","v":""},"","","","","","","","",null,{"$f":"IF(DC10=\"\",\"\",CZ9)","v":""},{"$f":"DA9+1","v":3},null,null,{"$f":"IF(DG10=\"\",\"\",DD9)","v":""},{"$f":"DE9+1","v":17},null,null,{"$f":"IF(DO8=\"\",\"\",DO8)","v":""},{"$f":"DH10","v":""},{"$f":"DI10","v":""},{"$f":"DJ10","v":""},{"$f":"DK10","v":""},{"$f":"DL10","v":""},{"$f":"DM10","v":""},{"$f":"DN10","v":""},{"$f":"DO10","v":""},{"$f":"DP10","v":""},{"$f":"DQ10","v":""},null,{"$f":"IF(DW10=\"\",\"\",DT9)","v":""},{"$f":"DU9+1","v":3},null,null,{"$f":"IF(EA10=\"\",\"\",DX9)","v":""},{"$f":"DY9+1","v":17},null,null,{"$f":"IF(EI8=\"\",\"\",EI8)","v":""},{"$f":"EB10","v":""},{"$f":"EC10","v":""},"","","","","","","","",null,{"$f":"IF(EQ10=\"\",\"\",EN9)","v":""},{"$f":"EO9+1","v":3},null,null,{"$f":"IF(EU10=\"\",\"\",ER9)","v":""},{"$f":"ES9+1","v":17},null,null,{"$f":"IF(FC8=\"\",\"\",FC8)","v":""},{"$f":"EV10","v":""},{"$f":"EW10","v":""},{"$f":"EX10","v":""},{"$f":"EY10","v":""},{"$f":"EZ10","v":""},{"$f":"FA10","v":""},{"$f":"FB10","v":""},{"$f":"FC10","v":""},{"$f":"FD10","v":""},{"$f":"FE10","v":""},null,{"$f":"IF(FK10=\"\",\"\",FH9)","v":""},{"$f":"FI9+1","v":3},null,null,{"$f":"IF(FO10=\"\",\"\",FL9)","v":""},{"$f":"FM9+1","v":17},null,null,{"$f":"IF(FW8=\"\",\"\",FW8)","v":""},{"$f":"FP10","v":""},{"$f":"FQ10","v":""},{"$f":"FR10","v":""},{"$f":"FS10","v":""},{"$f":"FT10","v":""},{"$f":"FU10","v":""},{"$f":"FV10","v":""},{"$f":"FW10","v":""},{"$f":"FX10","v":""},{"$f":"FY10","v":""},null,{"$f":"IF(GE10=\"\",\"\",GB9)","v":""},{"$f":"GC9+1","v":3},null,null,{"$f":"IF(GI10=\"\",\"\",GF9)","v":""},{"$f":"GG9+1","v":17},null,null,{"$f":"IF(GQ8=\"\",\"\",GQ8)","v":""},{"$f":"GJ10","v":""},{"$f":"GK10","v":""},{"$f":"GL10","v":""},{"$f":"GM10","v":""},{"$f":"GN10","v":""},{"$f":"GO10","v":""},{"$f":"GP10","v":""},{"$f":"GQ10","v":""},{"$f":"GR10","v":""},{"$f":"GS10","v":""},null,{"$f":"IF(GY10=\"\",\"\",GV9)","v":""},{"$f":"GW9+1","v":3},null,null,{"$f":"IF(HC10=\"\",\"\",GZ9)","v":""},{"$f":"HA9+1","v":17},null,null,{"$f":"IF(HK8=\"\",\"\",HK8)","v":""},{"$f":"HD10","v":""},{"$f":"HE10","v":""},{"$f":"HF10","v":""},{"$f":"HG10","v":""},{"$f":"HH10","v":""},{"$f":"HI10","v":""},{"$f":"HJ10","v":""},{"$f":"HK10","v":""},{"$f":"HL10","v":""},{"$f":"HM10","v":""},null,{"$f":"IF(HS10=\"\",\"\",HP9)","v":""},{"$f":"HQ9+1","v":3},null,null,{"$f":"IF(HW10=\"\",\"\",HT9)","v":""},{"$f":"HU9+1","v":17},null,null,{"$f":"IF(IE8=\"\",\"\",IE8)","v":""},{"$f":"HX10","v":""},{"$f":"HY10","v":""},{"$f":"HZ10","v":""},{"$f":"IA10","v":""},{"$f":"IB10","v":""},{"$f":"IC10","v":""},{"$f":"ID10","v":""},{"$f":"IE10","v":""},{"$f":"IF10","v":""},{"$f":"IG10","v":""},null,{"$f":"IF(IM10=\"\",\"\",IJ9)","v":""},{"$f":"IK9+1","v":3},null,null,{"$f":"IF(IQ10=\"\",\"\",IN9)","v":""},{"$f":"IO9+1","v":17}]
["","⑤","","",null,null,null,{"$f":"IF(情報!D9=\"\",\"\",情報!D9)","v":""},null,{"$f":"IF(情報!D9=\"\",\"\",情報!D9)","v":""},null,null,"O","O","O","O","M","M","I","I","I","I",null,{"$f":"IF(AA11=\"\",\"\",X10)","v":""},4,null,null,{"$f":"IF(AE11=\"\",\"\",AB10)","v":""},18,null,null,null,"O","O","O","O","M","M","I","I","I","I",null,"",4,null,null,{"$f":"IF(AY11=\"\",\"\",AV10)","v":""},18,null,null,null,"O","O","O","O","M","M","I","I","I","I",null,"",4,null,null,{"$f":"IF(BS11=\"\",\"\",BP10)","v":""},18,null,null,null,"O","O","O","O","M","M","I","I","I","I",null,"",4,null,null,{"$f":"IF(CM11=\"\",\"\",CJ10)","v":""},18,null,null,null,"O","O","O","O","M","M","I","I","I","I",null,"",4,null,null,{"$f":"IF(DG11=\"\",\"\",DD10)","v":""},18,null,null,null,"O","O","O","O","M","M","I","I","I","I",null,"",4,null,null,{"$f":"IF(EA11=\"\",\"\",DX10)","v":""},18,null,null,null,"O","O","O","O","M","M","I","I","I","I",null,"",4,null,null,{"$f":"IF(EU11=\"\",\"\",ER10)","v":""},18,null,null,null,"O","O","O","O","M","M","I","I","I","I",null,"",4,null,null,{"$f":"IF(FO11=\"\",\"\",FL10)","v":""},18,null,null,null,"O","O","O","O","M","M","I","I","I","I",null,"",4,null,null,{"$f":"IF(GI11=\"\",\"\",GF10)","v":""},18,null,null,null,"O","O","O","O","M","M","I","I","I","I",null,"",4,null,null,{"$f":"IF(HC11=\"\",\"\",GZ10)","v":""},18,null,null,null,"O","O","O","O","M","M","I","I","I","I",null,"",4,null,null,{"$f":"IF(HW11=\"\",\"\",HT10)","v":""},18,null,null,null,"O","O","O","O","M","M","I","I","I","I",null,"",4,null,null,{"$f":"IF(IQ11=\"\",\"\",IN10)","v":""},18]
["","⑥","","",null,null,null,{"$f":"IF(情報!D10=\"\",\"\",情報!D10)","v":""},null,{"$f":"IF(情報!D10=\"\",\"\",情報!D10)","v":""},null,null,null,null,null,null,null,null,null,null,null,null,null,"",5,null,null,"",19,null,null,null,null,null,null,null,null,null,null,null,null,null,null,"",5,null,null,{"$f":"IF(AY12=\"\",\"\",AV11)","v":""},19,null,null,null,null,null,null,null,null,null,null,null,null,null,null,"",5,null,null,{"$f":"IF(BS12=\"\",\"\",BP11)","v":""},19,null,null,null,null,null,null,null,null,null,null,null,null,null,null,"",5,null,null,{"$f":"IF(CM12=\"\",\"\",CJ11)","v":""},19,null,null,null,null,null,null,null,null,null,null,null,null,null,null,"",5,null,null,{"$f":"IF(DG12=\"\",\"\",DD11)","v":""},19,null,null,null,null,null,null,null,null,null,null,null,null,null,null,"",5,null,null,{"$f":"IF(EA12=\"\",\"\",DX11)","v":""},19,null,null,null,null,null,null,null,null,null,null,null,null,null,null,"",5,null,null,{"$f":"IF(EU12=\"\",\"\",ER11)","v":""},19,null,null,null,null,null,null,null,null,null,null,null,null,null,null,"",5,null,null,{"$f":"IF(FO12=\"\",\"\",FL11)","v":""},19,null,null,null,null,null,null,null,null,null,null,null,null,null,null,"",5,null,null,{"$f":"IF(GI12=\"\",\"\",GF11)","v":""},19,null,null,null,null,null,null,null,null,null,null,null,null,null,null,"",5,null,null,{"$f":"IF(HC12=\"\",\"\",GZ11)","v":""},19,null,null,null,null,null,null,null,null,null,null,null,null,null,null,"",5,null,null,{"$f":"IF(HW12=\"\",\"\",HT11)","v":""},19,null,null,null,null,null,null,null,null,null,null,null,null,null,null,"",5,null,null,{"$f":"IF(IQ12=\"\",\"\",IN11)","v":""},19]
["","⑦","","",null,null,null,{"$f":"IF(情報!D11=\"\",\"\",情報!D11)","v":""},null,{"$f":"IF(情報!D11=\"\",\"\",情報!D11)","v":""},null,null,null,null,null,null,null,null,null,null,null,null,null,"",6,null,null,"",20,null,null,null,null,null,null,null,null,null,null,null,null,null,null,"",6,null,null,"",20,null,null,null,null,null,null,null,null,null,null,null,null,null,null,"",6,null,null,"",20,null,null,null,null,null,null,null,null,null,null,null,null,null,null,"",6,null,null,"",20,null,null,null,null,null,null,null,null,null,null,null,null,null,null,"",6,null,null,"",20,null,null,null,null,null,null,null,null,null,null,null,null,null,null,"",6,null,null,"",20,null,null,null,null,null,null,null,null,null,null,null,null,null,null,"",6,null,null,"",20,null,null,null,null,null,null,null,null,null,null,null,null,null,null,"",6,null,null,"",20,null,null,null,null,null,null,null,null,null,null,null,null,null,null,"",6,null,null,"",20,null,null,null,null,null,null,null,null,null,null,null,null,null,null,"",6,null,null,"",20,null,null,null,null,null,null,null,null,null,null,null,null,null,null,"",6,null,null,"",20,null,null,null,null,null,null,null,null,null,null,null,null,null,null,"",6,null,null,"",20]
["","⑧","","",null,null,null,{"$f":"IF(情報!D12=\"\",\"\",情報!D12)","v":""},null,{"$f":"IF(情報!D12=\"\",\"\",情報!D12)","v":""},null,null,null,null,null,null,null,null,null,null,null,null,null,"",7,null,null,"",21,null,null,null,null,null,null,null,null,null,null,null,null,null,null,"",7,null,null,"",21,null,null,null,null,null,null,null,null,null,null,null,null,null,null,"",7,null,null,"",21,null,null,null,null,null,null,null,null,null,null,null,null,null,null,"",7,null,null,"",21,null,null,null,null,null,null,null,null,null,null,null,null,null,null,"",7,null,null,"",21,null,null,null,null,null,null,null,null,null,null,null,null,null,null,"",7,null,null,"",21,null,null,null,null,null,null,null,null,null,null,null,null,null,null,"",7,null,null,"",21,null,null,null,null,null,null,null,null,null,null,null,null,null,null,"",7,null,null,"",21,null,null,null,null,null,null,null,null,null,null,null,null,null,null,"",7,null,null,"",21,null,null,null,null,null,null,null,null,null,null,null,null,null,null,"",7,null,null,"",21,null,null,null,null,null,null,null,null,null,null,null,null,null,null,"",7,null,null,"",21,null,null,null,null,null,null,null,null,null,null,null,null,null,null,"",7,null,null,"",21]
["","⑨","","",null,null,null,{"$f":"IF(情報!D13=\"\",\"\",情報!D13)","v":""},null,{"$f":"IF(情報!D13=\"\",\"\",情報!D13)","v":""},null,null,null,null,null,null,null,null,null,null,null,null,null,"",8,null,null,"",22,null,null,null,null,null,null,null,null,null,null,null,null,null,null,"",8,null,null,"",22,null,null,null,null,null,null,null,null,null,null,null,null,null,null,"",8,null,null,"",22,null,null,null,null,null,null,null,null,null,null,null,null,null,null,"",8,null,null,"",22,null,null,null,null,null,null,null,null,null,null,null,null,null,null,"",8,null,null,"",22,null,null,null,null,null,null,null,null,null,null,null,null,null,null,"",8,null,null,"",22,null,null,null,null,null,null,null,null,null,null,null,null,null,null,"",8,null,null,"",22,null,null,null,null,null,null,null,null,null,null,null,null,null,null,"",8,null,null,"",22,null,null,null,null,null,null,null,null,null,null,null,null,null,null,"",8,null,null,"",22,null,null,null,null,null,null,null,null,null,null,null,null,null,null,"",8,null,null,"",22,null,null,null,null,null,null,null,null,null,null,null,null,null,null,"",8,null,null,"",22,null,null,null,null,null,null,null,null,null,null,null,null,null,null,"",8,null,null,"",22]
["","代","","",null,null,null,{"$f":"IF(情報!D14=\"\",\"\",情報!D14)","v":""},null,{"$f":"IF(情報!D14=\"\",\"\",情報!D14)","v":""},null,null,null,null,null,null,null,null,null,null,null,null,null,"",9,null,null,"",23,null,null,null,null,null,null,null,null,null,null,null,null,null,null,"",9,null,null,"",23,null,null,null,null,null,null,null,null,null,null,null,null,null,null,"",9,null,null,"",23,null,null,null,null,null,null,null,null,null,null,null,null,null,null,"",9,null,null,"",23,null,null,null,null,null,null,null,null,null,null,null,null,null,null,"",9,null,null,"",23,null,null,null,null,null,null,null,null,null,null,null,null,null,null,"",9,null,null,"",23,null,null,null,null,null,null,null,null,null,null,null,null,null,null,"",9,null,null,"",23,null,null,null,null,null,null,null,null,null,null,null,null,null,null,"",9,null,null,"",23,null,null,null,null,null,null,null,null,null,null,null,null,null,null,"",9,null,null,"",23,null,null,null,null,null,null,null,null,null,null,null,null,null,null,"",9,null,null,"",23,null,null,null,null,null,null,null,null,null,null,null,null,null,null,"",9,null,null,"",23,null,null,null,null,null,null,null,null,null,null,null,null,null,null,"",9,null,null,"",23]
["","代","","",null,null,null,{"$f":"IF(情報!D15=\"\",\"\",情報!D15)","v":""},null,{"$f":"IF(情報!D15=\"\",\"\",情報!D15)","v":""},null,null,null,null,null,null,null,null,null,null,null,null,null,"",10,null,null,"",24,null,null,null,null,null,null,null,null,null,null,null,null,null,null,"",10,null,null,"",24,null,null,null,null,null,null,null,null,null,null,null,null,null,null,"",10,null,null,"",24,null,null,null,null,null,null,null,null,null,null,null,null,null,null,"",10,null,null,"",24,null,null,null,null,null,null,null,null,null,null,null,null,null,null,"",10,null,null,"",24,null,null,null,null,null,null,null,null,null,null,null,null,null,null,"",10,null,null,"",24,null,null,null,null,null,null,null,null,null,null,null,null,null,null,"",10,null,null,"",24,null,null,null,null,null,null,null,null,null,null,null,null,null,null,"",10,null,null,"",24,null,null,null,null,null,null,null,null,null,null,null,null,null,null,"",10,null,null,"",24,null,null,null,null,null,null,null,null,null,null,null,null,null,null,"",10,null,null,"",24,null,null,null,null,null,null,null,null,null,null,null,null,null,null,"",10,null,null,"",24,null,null,null,null,null,null,null,null,null,null,null,null,null,null,"",10,null,null,"",24]
["","代","","",null,null,null,{"$f":"IF(情報!D16=\"\",\"\",情報!D16)","v":""},null,{"$f":"IF(情報!D16=\"\",\"\",情報!D16)","v":""},null,null,null,null,null,null,null,null,null,null,null,null,null,"",11,null,null,"",25,null,null,null,null,null,null,null,null,null,null,null,null,null,null,"",11,null,null,"",25,null,null,null,null,null,null,null,null,null,null,null,null,null,null,"",11,null,null,"",25,null,null,null,null,null,null,null,null,null,null,null,null,null,null,"",11,null,null,"",25,null,null,null,null,null,null,null,null,null,null,null,null,null,null,"",11,null,null,"",25,null,null,null,null,null,null,null,null,null,null,null,null,null,null,"",11,null,null,"",25,null,null,null,null,null,null,null,null,null,null,null,null,null,null,"",11,null,null,"",25,null,null,null,null,null,null,null,null,null,null,null,null,null,null,"",11,null,null,"",25,null,null,null,null,null,null,null,null,null,null,null,null,null,null,"",11,null,null,"",25,null,null,null,null,null,null,null,null,null,null,null,null,null,null,"",11,null,null,"",25,null,null,null,null,null,null,null,null,null,null,null,null,null,null,"",11,null,null,"",25,null,null,null,null,null,null,null,null,null,null,null,null,null,null,"",11,null,null,"",25]
["","代","","",null,null,null,{"$f":"IF(情報!D17=\"\",\"\",情報!D17)","v":""},null,{"$f":"IF(情報!D17=\"\",\"\",情報!D17)","v":""},null,null,null,null,null,null,null,null,null,null,null,null,null,"",12,null,null,"",26,null,null,null,null,null,null,null,null,null,null,null,null,null,null,"",12,null,null,"",26,null,null,null,null,null,null,null,null,null,null,null,null,null,null,"",12,null,null,"",26,null,null,null,null,null,null,null,null,null,null,null,null,null,null,"",12,null,null,"",26,null,null,null,null,null,null,null,null,null,null,null,null,null,null,"",12,null,null,"",26,null,null,null,null,null,null,null,null,null,null,null,null,null,null,"",12,null,null,"",26,null,null,null,null,null,null,null,null,null,null,null,null,null,null,"",12,null,null,"",26,null,null,null,null,null,null,null,null,null,null,null,null,null,null,"",12,null,null,"",26,null,null,null,null,null,null,null,null,null,null,null,null,null,null,"",12,null,null,"",26,null,null,null,null,null,null,null,null,null,null,null,null,null,null,"",12,null,null,"",26,null,null,null,null,null,null,null,null,null,null,null,null,null,null,"",12,null,null,"",26,null,null,null,null,null,null,null,null,null,null,null,null,null,null,"",12,null,null,"",26]
["","代","","",null,null,null,{"$f":"IF(情報!D18=\"\",\"\",情報!D18)","v":""},null,{"$f":"IF(情報!D18=\"\",\"\",情報!D18)","v":""},null,null,null,null,null,null,null,null,null,null,null,null,null,"",13,null,null,"",27,null,null,null,null,null,null,null,null,null,null,null,null,null,null,"",13,null,null,"",27,null,null,null,null,null,null,null,null,null,null,null,null,null,null,"",13,null,null,"",27,null,null,null,null,null,null,null,null,null,null,null,null,null,null,"",13,null,null,"",27,null,null,null,null,null,null,null,null,null,null,null,null,null,null,"",13,null,null,"",27,null,null,null,null,null,null,null,null,null,null,null,null,null,null,"",13,null,null,"",27,null,null,null,null,null,null,null,null,null,null,null,null,null,null,"",13,null,null,"",27,null,null,null,null,null,null,null,null,null,null,null,null,null,null,"",13,null,null,"",27,null,null,null,null,null,null,null,null,null,null,null,null,null,null,"",13,null,null,"",27,null,null,null,null,null,null,null,null,null,null,null,null,null,null,"",13,null,null,"",27,null,null,null,null,null,null,null,null,null,null,null,null,null,null,"",13,null,null,"",27,null,null,null,null,null,null,null,null,null,null,null,null,null,null,"",13,null,null,"",27]
["","代","","",null,null,null,{"$f":"IF(情報!D19=\"\",\"\",情報!D19)","v":""},null,{"$f":"IF(情報!D19=\"\",\"\",情報!D19)","v":""},null,null,null,null,null,null,null,null,null,null,null,null,null,{"$f":"IF(AA21=\"\",\"\",X20)","v":""},14,null,null,"",28,null,null,null,null,null,null,null,null,null,null,null,null,null,null,{"$f":"IF(AU21=\"\",\"\",AR20)","v":""},14,null,null,"",28,null,null,null,null,null,null,null,null,null,null,null,null,null,null,{"$f":"IF(BO21=\"\",\"\",BL20)","v":""},14,null,null,"",28,null,null,null,null,null,null,null,null,null,null,null,null,null,null,{"$f":"IF(CI21=\"\",\"\",CF20)","v":""},14,null,null,"",28,null,null,null,null,null,null,null,null,null,null,null,null,null,null,{"$f":"IF(DC21=\"\",\"\",CZ20)","v":""},14,null,null,"",28,null,null,null,null,null,null,null,null,null,null,null,null,null,null,{"$f":"IF(DW21=\"\",\"\",DT20)","v":""},14,null,null,"",28,null,null,null,null,null,null,null,null,null,null,null,null,null,null,{"$f":"IF(EQ21=\"\",\"\",EN20)","v":""},14,null,null,"",28,null,null,null,null,null,null,null,null,null,null,null,null,null,null,{"$f":"IF(FK21=\"\",\"\",FH20)","v":""},14,null,null,"",28,null,null,null,null,null,null,null,null,null,null,null,null,null,null,{"$f":"IF(GE21=\"\",\"\",GB20)","v":""},14,null,null,"",28,null,null,null,null,null,null,null,null,null,null,null,null,null,null,{"$f":"IF(GY21=\"\",\"\",GV20)","v":""},14,null,null,"",28,null,null,null,null,null,null,null,null,null,null,null,null,null,null,{"$f":"IF(HS21=\"\",\"\",HP20)","v":""},14,null,null,"",28,null,null,null,null,null,null,null,null,null,null,null,null,null,null,{"$f":"IF(IM21=\"\",\"\",IJ20)","v":""},14,null,null,"",28]
["","代","","",null,null,null,{"$f":"IF(情報!D20=\"\",\"\",情報!D20)","v":""},null,{"$f":"IF(情報!D20=\"\",\"\",情報!D20)","v":""},null,"②",null,"1回",null,null,null,null,null,null,null,null,null,"P","N","種","判","P","N","種","判","②",null,"2回",null,null,null,null,null,null,null,null,null,"P","N","種","判","P","N","種","判","②",null,"3回",null,null,null,null,null,null,null,null,null,"P","N","種","判","P","N","種","判","②",null,"4回",null,null,null,null,null,null,null,null,null,"P","N","種","判","P","N","種","判","②",null,"5回",null,null,null,null,null,null,null,null,null,"P","N","種","判","P","N","種","判","②",null,"6回",null,null,null,null,null,null,null,null,null,"P","N","種","判","P","N","種","判","②",null,"7回",null,null,null,null,null,null,null,null,null,"P","N","種","判","P","N","種","判","②",null,"8回",null,null,null,null,null,null,null,null,null,"P","N","種","判","P","N","種","判","②",null,"9回",null,null,null,null,null,null,null,null,null,"P","N","種","判","P","N","種","判","②",null,"10回",null,null,null,null,null,null,null,null,null,"P","N","種","判","P","N","種","判","②",null,"11回",null,null,null,null,null,null,null,null,null,"P","N","種","判","P","N","種","判","②",null,"12回",null,null,null,null,null,null,null,null,null,"P","N","種","判","P","N","種","判"]
["","代","","",null,null,null,{"$f":"IF(情報!D21=\"\",\"\",情報!D21)","v":""},null,{"$f":"IF(情報!D21=\"\",\"\",情報!D21)","v":""},null,"投手",null,{"$f":"IF($C$28=\"\",\"\",VLOOKUP(S23,$B$77:$E$110,2,FALSE))","v":""},null,null,null,null,{"$f":"S8","v":""},{"$f":"IF($C$28=\"\",\"\",VLOOKUP(S23,$A$28:$D$35,4,FALSE))","v":""},"結果",null,null,{"$f":"IF(AA23=\"\",\"\",S23)","v":""},1,null,null,{"$f":"IF(AE23=\"\",\"\",S23)","v":""},15,null,null,"投手",null,{"$f":"IF($C$28=\"\",\"\",VLOOKUP(AM23,$B$77:$E$110,2,FALSE))","v":""},null,null,null,null,{"$f":"AM8","v":""},{"$f":"IF($C$28=\"\",\"\",VLOOKUP(AM23,$A$28:$D$35,4,FALSE))","v":""},"結果",null,null,{"$f":"IF(AU23=\"\",\"\",AM23)","v":""},1,null,null,{"$f":"IF(AY23=\"\",\"\",AM23)","v":""},15,null,null,"投手",null,{"$f":"IF($C$28=\"\",\"\",VLOOKUP(BG23,$B$77:$E$110,2,FALSE))","v":""},null,null,null,null,{"$f":"BG8","v":""},{"$f":"IF($C$28=\"\",\"\",VLOOKUP(BG23,$A$28:$D$35,4,FALSE))","v":""},"結果",null,null,{"$f":"IF(BO23=\"\",\"\",BG23)","v":""},1,null,null,{"$f":"IF(BS23=\"\",\"\",BG23)","v":""},15,null,null,"投手",null,{"$f":"IF($C$28=\"\",\"\",VLOOKUP(CA23,$B$77:$E$110,2,FALSE))","v":""},null,null,null,null,{"$f":"CA8","v":""},{"$f":"IF($C$28=\"\",\"\",VLOOKUP(CA23,$A$28:$D$35,4,FALSE))","v":""},"結果",null,null,{"$f":"IF(CI23=\"\",\"\",CA23)","v":""},1,null,null,{"$f":"IF(CM23=\"\",\"\",CA23)","v":""},15,null,null,"投手",null,{"$f":"IF($C$28=\"\",\"\",VLOOKUP(CU23,$B$77:$E$110,2,FALSE))","v":""},null,null,null,null,{"$f":"CU8","v":""},{"$f":"IF($C$28=\"\",\"\",VLOOKUP(CU23,$A$28:$D$35,4,FALSE))","v":""},"結果",null,null,{"$f":"IF(DC23=\"\",\"\",CU23)","v":""},1,null,null,{"$f":"IF(DG23=\"\",\"\",CU23)","v":""},15,null,null,"投手",null,{"$f":"IF($C$28=\"\",\"\",VLOOKUP(DO23,$B$77:$E$110,2,FALSE))","v":""},null,null,null,null,{"$f":"DO8","v":""},{"$f":"IF($C$28=\"\",\"\",VLOOKUP(DO23,$A$28:$D$35,4,FALSE))","v":""},"結果",null,null,{"$f":"IF(DW23=\"\",\"\",DO23)","v":""},1,null,null,{"$f":"IF(EA23=\"\",\"\",DO23)","v":""},15,null,null,"投手",null,{"$f":"IF($C$28=\"\",\"\",VLOOKUP(EI23,$B$77:$E$110,2,FALSE))","v":""},null,null,null,null,{"$f":"EI8","v":""},{"$f":"IF($C$28=\"\",\"\",VLOOKUP(EI23,$A$28:$D$35,4,FALSE))","v":""},"結果",null,null,{"$f":"IF(EQ23=\"\",\"\",EI23)","v":""},1,null,null,{"$f":"IF(EU23=\"\",\"\",EI23)","v":""},15,null,null,"投手",null,{"$f":"IF($C$28=\"\",\"\",VLOOKUP(FC23,$B$77:$E$110,2,FALSE))","v":""},null,null,null,null,{"$f":"FC8","v":""},{"$f":"IF($C$28=\"\",\"\",VLOOKUP(FC23,$A$28:$D$35,4,FALSE))","v":""},"結果",null,null,{"$f":"IF(FK23=\"\",\"\",FC23)","v":""},1,null,null,{"$f":"IF(FO23=\"\",\"\",FC23)","v":""},15,null,null,"投手",null,{"$f":"IF($C$28=\"\",\"\",VLOOKUP(FW23,$B$77:$E$110,2,FALSE))","v":""},null,null,null,null,{"$f":"FW8","v":""},{"$f":"IF($C$28=\"\",\"\",VLOOKUP(FW23,$A$28:$D$35,4,FALSE))","v":""},"結果",null,null,{"$f":"IF(GE23=\"\",\"\",FW23)","v":""},1,null,null,{"$f":"IF(GI23=\"\",\"\",FW23)","v":""},15,null,null,"投手",null,{"$f":"IF($C$28=\"\",\"\",VLOOKUP(GQ23,$B$77:$E$110,2,FALSE))","v":""},null,null,null,null,{"$f":"GQ8","v":""},{"$f":"IF($C$28=\"\",\"\",VLOOKUP(GQ23,$A$28:$D$35,4,FALSE))","v":""},"結果",null,null,{"$f":"IF(GY23=\"\",\"\",GQ23)","v":""},1,null,null,{"$f":"IF(HC23=\"\",\"\",GQ23)","v":""},15,null,null,"投手",null,{"$f":"IF($C$28=\"\",\"\",VLOOKUP(HK23,$B$77:$E$110,2,FALSE))","v":""},null,null,null,null,{"$f":"HK8","v":""},{"$f":"IF($C$28=\"\",\"\",VLOOKUP(HK23,$A$28:$D$35,4,FALSE))","v":""},"結果",null,null,{"$f":"IF(HS23=\"\",\"\",HK23)","v":""},1,null,null,{"$f":"IF(HW23=\"\",\"\",HK23)","v":""},15,null,null,"投手",null,{"$f":"IF($C$28=\"\",\"\",VLOOKUP(IE23,$B$77:$E$110,2,FALSE))","v":""},null,null,null,null,{"$f":"IE8","v":""},{"$f":"IF($C$28=\"\",\"\",VLOOKUP(IE23,$A$28:$D$35,4,FALSE))","v":""},"結果",null,null,{"$f":"IF(IM23=\"\",\"\",IE23)","v":""},1,null,null,{"$f":"IF(IQ23=\"\",\"\",IE23)","v":""},15]
["","代","","",null,null,null,{"$f":"IF(情報!D22=\"\",\"\",情報!D22)","v":""},null,{"$f":"IF(情報!D22=\"\",\"\",情報!D22)","v":""},null,"打者",null,{"$f":"IF($C$7=\"\",\"\",VLOOKUP(S24,$B$40:$D$73,2,FALSE))","v":""},null,null,null,null,{"$f":"E8","v":0},{"$f":"IF(N24=\"\",\"\",VLOOKUP(S24,$B$40:$D$73,3,FALSE))","v":""},null,null,null,{"$f":"IF(AA24=\"\",\"\",X23)","v":""},{"$f":"Y23+1","v":2},null,null,{"$f":"IF(AE24=\"\",\"\",AB23)","v":""},{"$f":"AC23+1","v":16},null,null,"打者",null,{"$f":"IF($C$7=\"\",\"\",VLOOKUP(AM24,$B$40:$D$73,2,FALSE))","v":""},null,null,null,null,{"$f":"S24","v":0},{"$f":"IF(AH24=\"\",\"\",VLOOKUP(AM24,$B$40:$D$73,3,FALSE))","v":""},"得点",null,null,{"$f":"IF(AU24=\"\",\"\",AR23)","v":""},{"$f":"AS23+1","v":2},null,null,{"$f":"IF(AY24=\"\",\"\",AV23)","v":""},{"$f":"AW23+1","v":16},null,null,"打者",null,{"$f":"IF($C$7=\"\",\"\",VLOOKUP(BG24,$B$40:$D$73,2,FALSE))","v":""},null,null,null,null,{"$f":"AM24","v":0},{"$f":"IF(BB24=\"\",\"\",VLOOKUP(BG24,$B$40:$D$73,3,FALSE))","v":""},"得点",null,null,{"$f":"IF(BO24=\"\",\"\",BL23)","v":""},{"$f":"BM23+1","v":2},null,null,{"$f":"IF(BS24=\"\",\"\",BP23)","v":""},{"$f":"BQ23+1","v":16},null,null,"打者",null,{"$f":"IF($C$7=\"\",\"\",VLOOKUP(CA24,$B$40:$D$73,2,FALSE))","v":""},null,null,null,null,{"$f":"BG24","v":0},{"$f":"IF(BV24=\"\",\"\",VLOOKUP(CA24,$B$40:$D$73,3,FALSE))","v":""},"得点",null,null,{"$f":"IF(CI24=\"\",\"\",CF23)","v":""},{"$f":"CG23+1","v":2},null,null,{"$f":"IF(CM24=\"\",\"\",CJ23)","v":""},{"$f":"CK23+1","v":16},null,null,"打者",null,{"$f":"IF($C$7=\"\",\"\",VLOOKUP(CU24,$B$40:$D$73,2,FALSE))","v":""},null,null,null,null,{"$f":"CA24","v":0},{"$f":"IF(CP24=\"\",\"\",VLOOKUP(CU24,$B$40:$D$73,3,FALSE))","v":""},"得点",null,null,{"$f":"IF(DC24=\"\",\"\",CZ23)","v":""},{"$f":"DA23+1","v":2},null,null,{"$f":"IF(DG24=\"\",\"\",DD23)","v":""},{"$f":"DE23+1","v":16},null,null,"打者",null,{"$f":"IF($C$7=\"\",\"\",VLOOKUP(DO24,$B$40:$D$73,2,FALSE))","v":""},null,null,null,null,{"$f":"CU24","v":0},null,null,null,null,{"$f":"IF(DW24=\"\",\"\",DT23)","v":""},{"$f":"DU23+1","v":2},null,null,{"$f":"IF(EA24=\"\",\"\",DX23)","v":""},{"$f":"DY23+1","v":16},null,null,"打者",null,{"$f":"IF($C$7=\"\",\"\",VLOOKUP(EI24,$B$40:$D$73,2,FALSE))","v":""},null,null,null,null,{"$f":"DO24","v":0},{"$f":"IF(ED24=\"\",\"\",VLOOKUP(EI24,$B$40:$D$73,3,FALSE))","v":""},null,null,null,{"$f":"IF(EQ24=\"\",\"\",EN23)","v":""},{"$f":"EO23+1","v":2},null,null,{"$f":"IF(EU24=\"\",\"\",ER23)","v":""},{"$f":"ES23+1","v":16},null,null,"打者",null,{"$f":"IF($C$7=\"\",\"\",VLOOKUP(FC24,$B$40:$D$73,2,FALSE))","v":""},null,null,null,null,{"$f":"EI24","v":0},{"$f":"IF(EX24=\"\",\"\",VLOOKUP(FC24,$B$40:$D$73,3,FALSE))","v":""},"得点",null,null,{"$f":"IF(FK24=\"\",\"\",FH23)","v":""},{"$f":"FI23+1","v":2},null,null,{"$f":"IF(FO24=\"\",\"\",FL23)","v":""},{"$f":"FM23+1","v":16},null,null,"打者",null,{"$f":"IF($C$7=\"\",\"\",VLOOKUP(FW24,$B$40:$D$73,2,FALSE))","v":""},null,null,null,null,{"$f":"FC24","v":0},{"$f":"IF(FR24=\"\",\"\",VLOOKUP(FW24,$B$40:$D$73,3,FALSE))","v":""},"得点",null,null,{"$f":"IF(GE24=\"\",\"\",GB23)","v":""},{"$f":"GC23+1","v":2},null,null,{"$f":"IF(GI24=\"\",\"\",GF23)","v":""},{"$f":"GG23+1","v":16},null,null,"打者",null,{"$f":"IF($C$7=\"\",\"\",VLOOKUP(GQ24,$B$40:$D$73,2,FALSE))","v":""},null,null,null,null,{"$f":"FW24","v":0},{"$f":"IF(GL24=\"\",\"\",VLOOKUP(GQ24,$B$40:$D$73,3,FALSE))","v":""},"得点",null,null,{"$f":"IF(GY24=\"\",\"\",GV23)","v":""},{"$f":"GW23+1","v":2},null,null,{"$f":"IF(HC24=\"\",\"\",GZ23)","v":""},{"$f":"HA23+1","v":16},null,null,"打者",null,{"$f":"IF($C$7=\"\",\"\",VLOOKUP(HK24,$B$40:$D$73,2,FALSE))","v":""},null,null,null,null,{"$f":"GQ24","v":0},{"$f":"IF(HF24=\"\",\"\",VLOOKUP(HK24,$B$40:$D$73,3,FALSE))","v":""},"得点",null,null,{"$f":"IF(HS24=\"\",\"\",HP23)","v":""},{"$f":"HQ23+1","v":2},null,null,{"$f":"IF(HW24=\"\",\"\",HT23)","v":""},{"$f":"HU23+1","v":16},null,null,"打者",null,{"$f":"IF($C$7=\"\",\"\",VLOOKUP(IE24,$B$40:$D$73,2,FALSE))","v":""},null,null,null,null,{"$f":"HK24","v":0},{"$f":"IF(HZ24=\"\",\"\",VLOOKUP(IE24,$B$40:$D$73,3,FALSE))","v":""},"得点",null,null,{"$f":"IF(IM24=\"\",\"\",IJ23)","v":""},{"$f":"IK23+1","v":2},null,null,{"$f":"IF(IQ24=\"\",\"\",IN23)","v":""},{"$f":"IO23+1","v":16}]
[null,null,null,null,null,null,null,{"$f":"IF(情報!D23=\"\",\"\",情報!D23)","v":""},null,{"$f":"IF(情報!D23=\"\",\"\",情報!D23)","v":""},null,{"$f":"IF(S23=\"\",\"\",S23)","v":""},{"$f":"L25","v":""},{"$f":"M25","v":""},"","","","","","","","",null,{"$f":"IF(AA25=\"\",\"\",X24)","v":""},{"$f":"Y24+1","v":3},null,null,{"$f":"IF(AE25=\"\",\"\",AB24)","v":""},{"$f":"AC24+1","v":17},null,null,{"$f":"IF(AM23=\"\",\"\",AM23)","v":""},{"$f":"AF25","v":""},{"$f":"AG25","v":""},{"$f":"AH25","v":""},{"$f":"AI25","v":""},{"$f":"AJ25","v":""},{"$f":"AK25","v":""},{"$f":"AL25","v":""},{"$f":"AM25","v":""},{"$f":"AN25","v":""},{"$f":"AO25","v":""},null,{"$f":"IF(AU25=\"\",\"\",AR24)","v":""},{"$f":"AS24+1","v":3},null,null,{"$f":"IF(AY25=\"\",\"\",AV24)","v":""},{"$f":"AW24+1","v":17},null,null,{"$f":"IF(BG23=\"\",\"\",BG23)","v":""},{"$f":"AZ25","v":""},{"$f":"BA25","v":""},{"$f":"BB25","v":""},{"$f":"BC25","v":""},{"$f":"BD25","v":""},{"$f":"BE25","v":""},{"$f":"BF25","v":""},{"$f":"BG25","v":""},{"$f":"BH25","v":""},{"$f":"BI25","v":""},null,{"$f":"IF(BO25=\"\",\"\",BL24)","v":""},{"$f":"BM24+1","v":3},null,null,{"$f":"IF(BS25=\"\",\"\",BP24)","v":""},{"$f":"BQ24+1","v":17},null,null,{"$f":"IF(CA23=\"\",\"\",CA23)","v":""},{"$f":"BT25","v":""},{"$f":"BU25","v":""},{"$f":"BV25","v":""},{"$f":"BW25","v":""},{"$f":"BX25","v":""},{"$f":"BY25","v":""},{"$f":"BZ25","v":""},{"$f":"CA25","v":""},{"$f":"CB25","v":""},{"$f":"CC25","v":""},null,{"$f":"IF(CI25=\"\",\"\",CF24)","v":""},{"$f":"CG24+1","v":3},null,null,{"$f":"IF(CM25=\"\",\"\",CJ24)","v":""},{"$f":"CK24+1","v":17},null,null,{"$f":"IF(CU23=\"\",\"\",CU23)","v":""},{"$f":"CN25","v":""},{"$f":"CO25","v":""},{"$f":"CP25","v":""},{"$f":"CQ25","v":""},{"$f":"CR25","v":""},{"$f":"CS25","v":""},{"$f":"CT25","v":""},{"$f":"CU25","v":""},{"$f":"CV25","v":""},{"$f":"CW25","v":""},null,{"$f":"IF(DC25=\"\",\"\",CZ24)","v":""},{"$f":"DA24+1","v":3},null,null,{"$f":"IF(DG25=\"\",\"\",DD24)","v":""},{"$f":"DE24+1","v":17},null,null,{"$f":"IF(DO23=\"\",\"\",DO23)","v":""},{"$f":"DH25","v":""},{"$f":"DI25","v":""},{"$f":"DJ25","v":""},{"$f":"DK25","v":""},{"$f":"DL25","v":""},{"$f":"DM25","v":""},{"$f":"DN25","v":""},{"$f":"DO25","v":""},{"$f":"DP25","v":""},{"$f":"DQ25","v":""},null,{"$f":"IF(DW25=\"\",\"\",DT24)","v":""},{"$f":"DU24+1","v":3},null,null,{"$f":"IF(EA25=\"\",\"\",DX24)","v":""},{"$f":"DY24+1","v":17},null,null,{"$f":"IF(EI23=\"\",\"\",EI23)","v":""},{"$f":"EB25","v":""},{"$f":"EC25","v":""},{"$f":"ED25","v":""},{"$f":"EE25","v":""},{"$f":"EF25","v":""},{"$f":"EG25","v":""},{"$f":"EH25","v":""},{"$f":"EI25","v":""},{"$f":"EJ25","v":""},{"$f":"EK25","v":""},null,{"$f":"IF(EQ25=\"\",\"\",EN24)","v":""},{"$f":"EO24+1","v":3},null,null,{"$f":"IF(EU25=\"\",\"\",ER24)","v":""},{"$f":"ES24+1","v":17},null,null,{"$f":"IF(FC23=\"\",\"\",FC23)","v":""},{"$f":"EV25","v":""},{"$f":"EW25","v":""},{"$f":"EX25","v":""},{"$f":"EY25","v":""},{"$f":"EZ25","v":""},{"$f":"FA25","v":""},{"$f":"FB25","v":""},{"$f":"FC25","v":""},{"$f":"FD25","v":""},{"$f":"FE25","v":""},null,{"$f":"IF(FK25=\"\",\"\",FH24)","v":""},{"$f":"FI24+1","v":3},null,null,{"$f":"IF(FO25=\"\",\"\",FL24)","v":""},{"$f":"FM24+1","v":17},null,null,{"$f":"IF(FW23=\"\",\"\",FW23)","v":""},{"$f":"FP25","v":""},{"$f":"FQ25","v":""},{"$f":"FR25","v":""},{"$f":"FS25","v":""},{"$f":"FT25","v":""},{"$f":"FU25","v":""},{"$f":"FV25","v":""},{"$f":"FW25","v":""},{"$f":"FX25","v":""},{"$f":"FY25","v":""},null,{"$f":"IF(GE25=\"\",\"\",GB24)","v":""},{"$f":"GC24+1","v":3},null,null,{"$f":"IF(GI25=\"\",\"\",GF24)","v":""},{"$f":"GG24+1","v":17},null,null,{"$f":"IF(GQ23=\"\",\"\",GQ23)","v":""},{"$f":"GJ25","v":""},{"$f":"GK25","v":""},{"$f":"GL25","v":""},{"$f":"GM25","v":""},{"$f":"GN25","v":""},{"$f":"GO25","v":""},{"$f":"GP25","v":""},{"$f":"GQ25","v":""},{"$f":"GR25","v":""},{"$f":"GS25","v":""},null,{"$f":"IF(GY25=\"\",\"\",GV24)","v":""},{"$f":"GW24+1","v":3},null,null,{"$f":"IF(HC25=\"\",\"\",GZ24)","v":""},{"$f":"HA24+1","v":17},null,null,{"$f":"IF(HK23=\"\",\"\",HK23)","v":""},{"$f":"HD25","v":""},{"$f":"HE25","v":""},{"$f":"HF25","v":""},{"$f":"HG25","v":""},{"$f":"HH25","v":""},{"$f":"HI25","v":""},{"$f":"HJ25","v":""},{"$f":"HK25","v":""},{"$f":"HL25","v":""},{"$f":"HM25","v":""},null,{"$f":"IF(HS25=\"\",\"\",HP24)","v":""},{"$f":"HQ24+1","v":3},null,null,{"$f":"IF(HW25=\"\",\"\",HT24)","v":""},{"$f":"HU24+1","v":17},null,null,{"$f":"IF(IE23=\"\",\"\",IE23)","v":""},{"$f":"HX25","v":""},{"$f":"HY25","v":""},{"$f":"HZ25","v":""},{"$f":"IA25","v":""},{"$f":"IB25","v":""},{"$f":"IC25","v":""},{"$f":"ID25","v":""},{"$f":"IE25","v":""},{"$f":"IF25","v":""},{"$f":"IG25","v":""},null,{"$f":"IF(IM25=\"\",\"\",IJ24)","v":""},{"$f":"IK24+1","v":3},null,null,{"$f":"IF(IQ25=\"\",\"\",IN24)","v":""},{"$f":"IO24+1","v":17}]
[null,"守備T投手オーダー",null,null,null,null,null,{"$f":"IF(情報!D24=\"\",\"\",情報!D24)","v":""},null,{"$f":"IF(情報!D24=\"\",\"\",情報!D24)","v":""},null,null,"O","O","O","O","M","M","I","I","I","I",null,"",4,null,null,"",18,null,null,null,"O","O","O","O","M","M","I","I","I","I",null,"",4,null,null,"",18,null,null,null,"O","O","O","O","M","M","I","I","I","I",null,"",4,null,null,"",18,null,null,null,"O","O","O","O","M","M","I","I","I","I",null,"",4,null,null,"",18,null,null,null,"O","O","O","O","M","M","I","I","I","I",null,"",4,null,null,"",18,null,null,null,"O","O","O","O","M","M","I","I","I","I",null,"",4,null,null,"",18,null,null,null,"O","O","O","O","M","M","I","I","I","I",null,"",4,null,null,"",18,null,null,null,"O","O","O","O","M","M","I","I","I","I",null,"",4,null,null,"",18,null,null,null,"O","O","O","O","M","M","I","I","I","I",null,"",4,null,null,"",18,null,null,null,"O","O","O","O","M","M","I","I","I","I",null,"",4,null,null,"",18,null,null,null,"O","O","O","O","M","M","I","I","I","I",null,"",4,null,null,"",18,null,null,null,"O","O","O","O","M","M","I","I","I","I",null,"",4,null,null,"",18]
["＊","順","選手名","PS","番",null,null,{"$f":"IF(情報!D25=\"\",\"\",情報!D25)","v":""},null,{"$f":"IF(情報!D25=\"\",\"\",情報!D25)","v":""},null,null,null,null,null,null,null,null,null,null,null,null,null,"",5,null,null,"",19,null,null,null,null,null,null,null,null,null,null,null,null,null,null,"",5,null,null,"",19,null,null,null,null,null,null,null,null,null,null,null,null,null,null,"",5,null,null,"",19,null,null,null,null,null,null,null,null,null,null,null,null,null,null,"",5,null,null,"",19,null,null,null,null,null,null,null,null,null,null,null,null,null,null,"",5,null,null,"",19,null,null,null,null,null,null,null,null,null,null,null,null,null,null,"",5,null,null,"",19,null,null,null,null,null,null,null,null,null,null,null,null,null,null,"",5,null,null,"",19,null,null,null,null,null,null,null,null,null,null,null,null,null,null,"",5,null,null,"",19,null,null,null,null,null,null,null,null,null,null,null,null,null,null,"",5,null,null,"",19,null,null,null,null,null,null,null,null,null,null,null,null,null,null,"",5,null,null,"",19,null,null,null,null,null,null,null,null,null,null,null,null,null,null,"",5,null,null,"",19,null,null,null,null,null,null,null,null,null,null,null,null,null,null,"",5,null,null,"",19]
[{"$f":"IF(E28=\"\",\"\",E28)","v":""},"先",{"$f":"IF(E28=\"\",\"\",VLOOKUP(E28,$B$77:$D$109,2,FALSE))","v":""},{"$f":"IF(E28=\"\",\"\",VLOOKUP(E28,$B$77:$D$109,3,FALSE))","v":""},null,null,null,{"$f":"IF(情報!D26=\"\",\"\",情報!D26)","v":""},null,{"$f":"IF(情報!D26=\"\",\"\",情報!D26)","v":""},null,null,null,null,null,null,null,null,null,null,null,null,null,"",6,null,null,"",20,null,null,null,null,null,null,null,null,null,null,null,null,null,null,"",6,null,null,"",20,null,null,null,null,null,null,null,null,null,null,null,null,null,null,"",6,null,null,"",20,null,null,null,null,null,null,null,null,null,null,null,null,null,null,"",6,null,null,"",20,null,null,null,null,null,null,null,null,null,null,null,null,null,null,"",6,null,null,"",20,null,null,null,null,null,null,null,null,null,null,null,null,null,null,"",6,null,null,"",20,null,null,null,null,null,null,null,null,null,null,null,null,null,null,"",6,null,null,"",20,null,null,null,null,null,null,null,null,null,null,null,null,null,null,"",6,null,null,"",20,null,null,null,null,null,null,null,null,null,null,null,null,null,null,"",6,null,null,"",20,null,null,null,null,null,null,null,null,null,null,null,null,null,null,"",6,null,null,"",20,null,null,null,null,null,null,null,null,null,null,null,null,null,null,"",6,null,null,"",20,null,null,null,null,null,null,null,null,null,null,null,null,null,null,"",6,null,null,"",20]
[{"$f":"IF(E29=\"\",\"\",E29)","v":""},2,{"$f":"IF(E29=\"\",\"\",VLOOKUP(E29,$B$77:$D$109,2,FALSE))","v":""},{"$f":"IF(E29=\"\",\"\",VLOOKUP(E29,$B$77:$D$109,3,FALSE))","v":""},"",null,null,{"$f":"IF(情報!D27=\"\",\"\",情報!D27)","v":""},null,{"$f":"IF(情報!D27=\"\",\"\",情報!D27)","v":""},null,null,null,null,null,null,null,null,null,null,null,null,null,"",7,null,null,"",21,null,null,null,null,null,null,null,null,null,null,null,null,null,null,"",7,null,null,"",21,null,null,null,null,null,null,null,null,null,null,null,null,null,null,"",7,null,null,"",21,null,null,null,null,null,null,null,null,null,null,null,null,null,null,"",7,null,null,"",21,null,null,null,null,null,null,null,null,null,null,null,null,null,null,"",7,null,null,"",21,null,null,null,null,null,null,null,null,null,null,null,null,null,null,"",7,null,null,"",21,null,null,null,null,null,null,null,null,null,null,null,null,null,null,"",7,null,null,"",21,null,null,null,null,null,null,null,null,null,null,null,null,null,null,"",7,null,null,"",21,null,null,null,null,null,null,null,null,null,null,null,null,null,null,"",7,null,null,"",21,null,null,null,null,null,null,null,null,null,null,null,null,null,null,"",7,null,null,"",21,null,null,null,null,null,null,null,null,null,null,null,null,null,null,"",7,null,null,"",21,null,null,null,null,null,null,null,null,null,null,null,null,null,null,"",7,null,null,"",21]
["",3,{"$f":"IF(E30=\"\",\"\",VLOOKUP(E30,$B$77:$D$109,2,FALSE))","v":""},"","",null,null,{"$f":"IF(情報!D28=\"\",\"\",情報!D28)","v":""},null,{"$f":"IF(情報!D28=\"\",\"\",情報!D28)","v":""},null,null,null,null,null,null,null,null,null,null,null,null,null,"",8,null,null,"",22,null,null,null,null,null,null,null,null,null,null,null,null,null,null,"",8,null,null,"",22,null,null,null,null,null,null,null,null,null,null,null,null,null,null,"",8,null,null,"",22,null,null,null,null,null,null,null,null,null,null,null,null,null,null,"",8,null,null,"",22,null,null,null,null,null,null,null,null,null,null,null,null,null,null,"",8,null,null,"",22,null,null,null,null,null,null,null,null,null,null,null,null,null,null,"",8,null,null,"",22,null,null,null,null,null,null,null,null,null,null,null,null,null,null,"",8,null,null,"",22,null,null,null,null,null,null,null,null,null,null,null,null,null,null,"",8,null,null,"",22,null,null,null,null,null,null,null,null,null,null,null,null,null,null,"",8,null,null,"",22,null,null,null,null,null,null,null,null,null,null,null,null,null,null,"",8,null,null,"",22,null,null,null,null,null,null,null,null,null,null,null,null,null,null,"",8,null,null,"",22,null,null,null,null,null,null,null,null,null,null,null,null,null,null,"",8,null,null,"",22]
["",4,"","",null,null,null,{"$f":"IF(情報!D29=\"\",\"\",情報!D29)","v":""},null,{"$f":"IF(情報!D29=\"\",\"\",情報!D29)","v":""},null,null,null,null,null,null,null,null,null,null,null,null,null,"",9,null,null,"",23,null,null,null,null,null,null,null,null,null,null,null,null,null,null,"",9,null,null,"",23,null,null,null,null,null,null,null,null,null,null,null,null,null,null,"",9,null,null,"",23,null,null,null,null,null,null,null,null,null,null,null,null,null,null,"",9,null,null,"",23,null,null,null,null,null,null,null,null,null,null,null,null,null,null,"",9,null,null,"",23,null,null,null,null,null,null,null,null,null,null,null,null,null,null,"",9,null,null,"",23,null,null,null,null,null,null,null,null,null,null,null,null,null,null,"",9,null,null,"",23,null,null,null,null,null,null,null,null,null,null,null,null,null,null,"",9,null,null,"",23,null,null,null,null,null,null,null,null,null,null,null,null,null,null,"",9,null,null,"",23,null,null,null,null,null,null,null,null,null,null,null,null,null,null,"",9,null,null,"",23,null,null,null,null,null,null,null,null,null,null,null,null,null,null,"",9,null,null,"",23,null,null,null,null,null,null,null,null,null,null,null,null,null,null,"",9,null,null,"",23]
["",5,{"$f":"IF(E32=\"\",\"\",VLOOKUP(E32,$B$77:$D$109,2,FALSE))","v":""},"",null,null,null,{"$f":"IF(情報!D30=\"\",\"\",情報!D30)","v":""},null,{"$f":"IF(情報!D30=\"\",\"\",情報!D30)","v":""},null,null,null,null,null,null,null,null,null,null,null,null,null,"",10,null,null,"",24,null,null,null,null,null,null,null,null,null,null,null,null,null,null,"",10,null,null,"",24,null,null,null,null,null,null,null,null,null,null,null,null,null,null,"",10,null,null,"",24,null,null,null,null,null,null,null,null,null,null,null,null,null,null,"",10,null,null,"",24,null,null,null,null,null,null,null,null,null,null,null,null,null,null,"",10,null,null,"",24,null,null,null,null,null,null,null,null,null,null,null,null,null,null,"",10,null,null,"",24,null,null,null,null,null,null,null,null,null,null,null,null,null,null,"",10,null,null,"",24,null,null,null,null,null,null,null,null,null,null,null,null,null,null,"",10,null,null,"",24,null,null,null,null,null,null,null,null,null,null,null,null,null,null,"",10,null,null,"",24,null,null,null,null,null,null,null,null,null,null,null,null,null,null,"",10,null,null,"",24,null,null,null,null,null,null,null,null,null,null,null,null,null,null,"",10,null,null,"",24,null,null,null,null,null,null,null,null,null,null,null,null,null,null,"",10,null,null,"",24]
["",6,"","",null,null,null,{"$f":"IF(情報!D31=\"\",\"\",情報!D31)","v":""},null,{"$f":"IF(情報!D31=\"\",\"\",情報!D31)","v":""},null,null,null,null,null,null,null,null,null,null,null,null,null,"",11,null,null,"",25,null,null,null,null,null,null,null,null,null,null,null,null,null,null,"",11,null,null,"",25,null,null,null,null,null,null,null,null,null,null,null,null,null,null,"",11,null,null,"",25,null,null,null,null,null,null,null,null,null,null,null,null,null,null,"",11,null,null,"",25,null,null,null,null,null,null,null,null,null,null,null,null,null,null,"",11,null,null,"",25,null,null,null,null,null,null,null,null,null,null,null,null,null,null,"",11,null,null,"",25,null,null,null,null,null,null,null,null,null,null,null,null,null,null,"",11,null,null,"",25,null,null,null,null,null,null,null,null,null,null,null,null,null,null,"",11,null,null,"",25,null,null,null,null,null,null,null,null,null,null,null,null,null,null,"",11,null,null,"",25,null,null,null,null,null,null,null,null,null,null,null,null,null,null,"",11,null,null,"",25,null,null,null,null,null,null,null,null,null,null,null,null,null,null,"",11,null,null,"",25,null,null,null,null,null,null,null,null,null,null,null,null,null,null,"",11,null,null,"",25]
["",7,"","",null,null,null,{"$f":"IF(情報!D32=\"\",\"\",情報!D32)","v":""},null,{"$f":"IF(情報!D32=\"\",\"\",情報!D32)","v":""},null,null,null,null,null,null,null,null,null,null,null,null,null,"",12,null,null,"",26,null,null,null,null,null,null,null,null,null,null,null,null,null,null,"",12,null,null,"",26,null,null,null,null,null,null,null,null,null,null,null,null,null,null,"",12,null,null,"",26,null,null,null,null,null,null,null,null,null,null,null,null,null,null,"",12,null,null,"",26,null,null,null,null,null,null,null,null,null,null,null,null,null,null,"",12,null,null,"",26,null,null,null,null,null,null,null,null,null,null,null,null,null,null,"",12,null,null,"",26,null,null,null,null,null,null,null,null,null,null,null,null,null,null,"",12,null,null,"",26,null,null,null,null,null,null,null,null,null,null,null,null,null,null,"",12,null,null,"",26,null,null,null,null,null,null,null,null,null,null,null,null,null,null,"",12,null,null,"",26,null,null,null,null,null,null,null,null,null,null,null,null,null,null,"",12,null,null,"",26,null,null,null,null,null,null,null,null,null,null,null,null,null,null,"",12,null,null,"",26,null,null,null,null,null,null,null,null,null,null,null,null,null,null,"",12,null,null,"",26]
[null,8,{"$f":"IF(E35=\"\",\"\",VLOOKUP(E35,$B$77:$D$109,2,FALSE))","v":""},{"$f":"IF(E35=\"\",\"\",VLOOKUP(E35,$B$77:$D$109,3,FALSE))","v":""},null,null,null,{"$f":"IF(情報!D33=\"\",\"\",情報!D33)","v":""},null,{"$f":"IF(情報!D33=\"\",\"\",情報!D33)","v":""},null,null,null,null,null,null,null,null,null,null,null,null,null,"",13,null,null,"",27,null,null,null,null,null,null,null,null,null,null,null,null,null,null,"",13,null,null,"",27,null,null,null,null,null,null,null,null,null,null,null,null,null,null,"",13,null,null,"",27,null,null,null,null,null,null,null,null,null,null,null,null,null,null,"",13,null,null,"",27,null,null,null,null,null,null,null,null,null,null,null,null,null,null,"",13,null,null,"",27,null,null,null,null,null,null,null,null,null,null,null,null,null,null,"",13,null,null,"",27,null,null,null,null,null,null,null,null,null,null,null,null,null,null,"",13,null,null,"",27,null,null,null,null,null,null,null,null,null,null,null,null,null,null,"",13,null,null,"",27,null,null,null,null,null,null,null,null,null,null,null,null,null,null,"",13,null,null,"",27,null,null,null,null,null,null,null,null,null,null,null,null,null,null,"",13,null,null,"",27,null,null,null,null,null,null,null,null,null,null,null,null,null,null,"",13,null,null,"",27,null,null,null,null,null,null,null,null,null,null,null,null,null,null,"",13,null,null,"",27]
[null,9,"","",null,null,null,{"$f":"IF(情報!D34=\"\",\"\",情報!D34)","v":""},null,{"$f":"IF(情報!D34=\"\",\"\",情報!D34)","v":""},null,null,null,null,null,null,null,null,null,null,null,null,null,{"$f":"IF(AA36=\"\",\"\",X35)","v":""},14,null,null,"",28,null,null,null,null,null,null,null,null,null,null,null,null,null,null,{"$f":"IF(AU36=\"\",\"\",AR35)","v":""},14,null,null,"",28,null,null,null,null,null,null,null,null,null,null,null,null,null,null,{"$f":"IF(BO36=\"\",\"\",BL35)","v":""},14,null,null,"",28,null,null,null,null,null,null,null,null,null,null,null,null,null,null,{"$f":"IF(CI36=\"\",\"\",CF35)","v":""},14,null,null,"",28,null,null,null,null,null,null,null,null,null,null,null,null,null,null,{"$f":"IF(DC36=\"\",\"\",CZ35)","v":""},14,null,null,"",28,null,null,null,null,null,null,null,null,null,null,null,null,null,null,{"$f":"IF(DW36=\"\",\"\",DT35)","v":""},14,null,null,"",28,null,null,null,null,null,null,null,null,null,null,null,null,null,null,{"$f":"IF(EQ36=\"\",\"\",EN35)","v":""},14,null,null,"",28,null,null,null,null,null,null,null,null,null,null,null,null,null,null,{"$f":"IF(FK36=\"\",\"\",FH35)","v":""},14,null,null,"",28,null,null,null,null,null,null,null,null,null,null,null,null,null,null,{"$f":"IF(GE36=\"\",\"\",GB35)","v":""},14,null,null,"",28,null,null,null,null,null,null,null,null,null,null,null,null,null,null,{"$f":"IF(GY36=\"\",\"\",GV35)","v":""},14,null,null,"",28,null,null,null,null,null,null,null,null,null,null,null,null,null,null,{"$f":"IF(HS36=\"\",\"\",HP35)","v":""},14,null,null,"",28,null,null,null,null,null,null,null,null,null,null,null,null,null,null,{"$f":"IF(IM36=\"\",\"\",IJ35)","v":""},14,null,null,"",28]
[null,null,"攻撃T登録選手",null,null,null,null,{"$f":"IF(情報!D35=\"\",\"\",情報!D35)","v":""},null,{"$f":"IF(情報!D35=\"\",\"\",情報!D35)","v":""},null,"③",null,"1回",null,null,null,null,null,null,null,null,null,"P","N","種","判","P","N","種","判","③",null,"2回",null,null,null,null,null,null,null,null,null,"P","N","種","判","P","N","種","判","③",null,"3回",null,null,null,null,null,null,null,null,null,"P","N","種","判","P","N","種","判","③",null,"4回",null,null,null,null,null,null,null,null,null,"P","N","種","判","P","N","種","判","③",null,"5回",null,null,null,null,null,null,null,null,null,"P","N","種","判","P","N","種","判","③",null,"6回",null,null,null,null,null,null,null,null,null,"P","N","種","判","P","N","種","判","③",null,"7回",null,null,null,null,null,null,null,null,null,"P","N","種","判","P","N","種","判","③",null,"8回",null,null,null,null,null,null,null,null,null,"P","N","種","判","P","N","種","判","③",null,"9回",null,null,null,null,null,null,null,null,null,"P","N","種","判","P","N","種","判","③",null,"10回",null,null,null,null,null,null,null,null,null,"P","N","種","判","P","N","種","判","③",null,"11回",null,null,null,null,null,null,null,null,null,"P","N","種","判","P","N","種","判","③",null,"12回",null,null,null,null,null,null,null,null,null,"P","N","種","判","P","N","種","判"]
[null,null,null,null,null,null,null,{"$f":"IF(情報!D36=\"\",\"\",情報!D36)","v":""},null,{"$f":"IF(情報!D36=\"\",\"\",情報!D36)","v":""},null,"投手",null,{"$f":"IF($C$28=\"\",\"\",VLOOKUP(S38,$B$77:$E$110,2,FALSE))","v":""},null,null,null,null,{"$f":"S23","v":""},{"$f":"IF($C$28=\"\",\"\",VLOOKUP(S38,$A$28:$D$35,4,FALSE))","v":""},"結果",null,null,{"$f":"IF(AA38=\"\",\"\",S38)","v":""},1,null,null,{"$f":"IF(AE38=\"\",\"\",S38)","v":""},15,null,null,"投手",null,{"$f":"IF($C$28=\"\",\"\",VLOOKUP(AM38,$B$77:$E$110,2,FALSE))","v":""},null,null,null,null,{"$f":"AM23","v":""},{"$f":"IF($C$28=\"\",\"\",VLOOKUP(AM38,$A$28:$D$35,4,FALSE))","v":""},"結果",null,null,{"$f":"IF(AU38=\"\",\"\",AM38)","v":""},1,null,null,{"$f":"IF(AY38=\"\",\"\",AM38)","v":""},15,null,null,"投手",null,{"$f":"IF($C$28=\"\",\"\",VLOOKUP(BG38,$B$77:$E$110,2,FALSE))","v":""},null,null,null,null,{"$f":"BG23","v":""},{"$f":"IF($C$28=\"\",\"\",VLOOKUP(BG38,$A$28:$D$35,4,FALSE))","v":""},"結果",null,null,{"$f":"IF(BO38=\"\",\"\",BG38)","v":""},1,null,null,{"$f":"IF(BS38=\"\",\"\",BG38)","v":""},15,null,null,"投手",null,{"$f":"IF($C$28=\"\",\"\",VLOOKUP(CA38,$B$77:$E$110,2,FALSE))","v":""},null,null,null,null,{"$f":"CA23","v":""},{"$f":"IF($C$28=\"\",\"\",VLOOKUP(CA38,$A$28:$D$35,4,FALSE))","v":""},"結果",null,null,{"$f":"IF(CI38=\"\",\"\",CA38)","v":""},1,null,null,{"$f":"IF(CM38=\"\",\"\",CA38)","v":""},15,null,null,"投手",null,{"$f":"IF($C$28=\"\",\"\",VLOOKUP(CU38,$B$77:$E$110,2,FALSE))","v":""},null,null,null,null,{"$f":"CU23","v":""},{"$f":"IF($C$28=\"\",\"\",VLOOKUP(CU38,$A$28:$D$35,4,FALSE))","v":""},"結果",null,null,{"$f":"IF(DC38=\"\",\"\",CU38)","v":""},1,null,null,{"$f":"IF(DG38=\"\",\"\",CU38)","v":""},15,null,null,"投手",null,{"$f":"IF($C$28=\"\",\"\",VLOOKUP(DO38,$B$77:$E$110,2,FALSE))","v":""},null,null,null,null,{"$f":"DO23","v":""},{"$f":"IF($C$28=\"\",\"\",VLOOKUP(DO38,$A$28:$D$35,4,FALSE))","v":""},"結果",null,null,{"$f":"IF(DW38=\"\",\"\",DO38)","v":""},1,null,null,{"$f":"IF(EA38=\"\",\"\",DO38)","v":""},15,null,null,"投手",null,{"$f":"IF($C$28=\"\",\"\",VLOOKUP(EI38,$B$77:$E$110,2,FALSE))","v":""},null,null,null,null,{"$f":"EI23","v":""},{"$f":"IF($C$28=\"\",\"\",VLOOKUP(EI38,$A$28:$D$35,4,FALSE))","v":""},"結果",null,null,{"$f":"IF(EQ38=\"\",\"\",EI38)","v":""},1,null,null,{"$f":"IF(EU38=\"\",\"\",EI38)","v":""},15,null,null,"投手",null,{"$f":"IF($C$28=\"\",\"\",VLOOKUP(FC38,$B$77:$E$110,2,FALSE))","v":""},null,null,null,null,{"$f":"FC23","v":""},{"$f":"IF($C$28=\"\",\"\",VLOOKUP(FC38,$A$28:$D$35,4,FALSE))","v":""},"結果",null,null,{"$f":"IF(FK38=\"\",\"\",FC38)","v":""},1,null,null,{"$f":"IF(FO38=\"\",\"\",FC38)","v":""},15,null,null,"投手",null,{"$f":"IF($C$28=\"\",\"\",VLOOKUP(FW38,$B$77:$E$110,2,FALSE))","v":""},null,null,null,null,{"$f":"FW23","v":""},{"$f":"IF($C$28=\"\",\"\",VLOOKUP(FW38,$A$28:$D$35,4,FALSE))","v":""},"結果",null,null,{"$f":"IF(GE38=\"\",\"\",FW38)","v":""},1,null,null,{"$f":"IF(GI38=\"\",\"\",FW38)","v":""},15,null,null,"投手",null,{"$f":"IF($C$28=\"\",\"\",VLOOKUP(GQ38,$B$77:$E$110,2,FALSE))","v":""},null,null,null,null,{"$f":"GQ23","v":""},{"$f":"IF($C$28=\"\",\"\",VLOOKUP(GQ38,$A$28:$D$35,4,FALSE))","v":""},"結果",null,null,{"$f":"IF(GY38=\"\",\"\",GQ38)","v":""},1,null,null,{"$f":"IF(HC38=\"\",\"\",GQ38)","v":""},15,null,null,"投手",null,{"$f":"IF($C$28=\"\",\"\",VLOOKUP(HK38,$B$77:$E$110,2,FALSE))","v":""},null,null,null,null,{"$f":"HK23","v":""},{"$f":"IF($C$28=\"\",\"\",VLOOKUP(HK38,$A$28:$D$35,4,FALSE))","v":""},"結果",null,null,{"$f":"IF(HS38=\"\",\"\",HK38)","v":""},1,null,null,{"$f":"IF(HW38=\"\",\"\",HK38)","v":""},15,null,null,"投手",null,{"$f":"IF($C$28=\"\",\"\",VLOOKUP(IE38,$B$77:$E$110,2,FALSE))","v":""},null,null,null,null,{"$f":"IE23","v":""},{"$f":"IF($C$28=\"\",\"\",VLOOKUP(IE38,$A$28:$D$35,4,FALSE))","v":""},"結果",null,null,{"$f":"IF(IM38=\"\",\"\",IE38)","v":""},1,null,null,{"$f":"IF(IQ38=\"\",\"\",IE38)","v":""},15]
[null,"＊","選手名","PS","番",null,null,{"$f":"IF(情報!D37=\"\",\"\",情報!D37)","v":""},null,{"$f":"IF(情報!D37=\"\",\"\",情報!D37)","v":""},null,"打者",null,{"$f":"IF($C$7=\"\",\"\",VLOOKUP(S39,$B$40:$D$73,2,FALSE))","v":""},null,null,null,null,{"$f":"E9","v":0},{"$f":"IF(N39=\"\",\"\",VLOOKUP(S39,$B$40:$D$73,3,FALSE))","v":""},"得点",null,null,{"$f":"IF(AA39=\"\",\"\",X38)","v":""},{"$f":"Y38+1","v":2},null,null,{"$f":"IF(AE39=\"\",\"\",AB38)","v":""},{"$f":"AC38+1","v":16},null,null,"打者",null,{"$f":"IF($C$7=\"\",\"\",VLOOKUP(AM39,$B$40:$D$73,2,FALSE))","v":""},null,null,null,null,{"$f":"S39","v":0},{"$f":"IF(AH39=\"\",\"\",VLOOKUP(AM39,$B$40:$D$73,3,FALSE))","v":""},"得点",null,null,{"$f":"IF(AU39=\"\",\"\",AR38)","v":""},{"$f":"AS38+1","v":2},null,null,{"$f":"IF(AY39=\"\",\"\",AV38)","v":""},{"$f":"AW38+1","v":16},null,null,"打者",null,{"$f":"IF($C$7=\"\",\"\",VLOOKUP(BG39,$B$40:$D$73,2,FALSE))","v":""},null,null,null,null,{"$f":"AM39","v":0},{"$f":"IF(BB39=\"\",\"\",VLOOKUP(BG39,$B$40:$D$73,3,FALSE))","v":""},"得点",null,null,{"$f":"IF(BO39=\"\",\"\",BL38)","v":""},{"$f":"BM38+1","v":2},null,null,{"$f":"IF(BS39=\"\",\"\",BP38)","v":""},{"$f":"BQ38+1","v":16},null,null,"打者",null,{"$f":"IF($C$7=\"\",\"\",VLOOKUP(CA39,$B$40:$D$73,2,FALSE))","v":""},null,null,null,null,{"$f":"BG39","v":0},{"$f":"IF(BV39=\"\",\"\",VLOOKUP(CA39,$B$40:$D$73,3,FALSE))","v":""},"得点",null,null,{"$f":"IF(CI39=\"\",\"\",CF38)","v":""},{"$f":"CG38+1","v":2},null,null,{"$f":"IF(CM39=\"\",\"\",CJ38)","v":""},{"$f":"CK38+1","v":16},null,null,"打者",null,{"$f":"IF($C$7=\"\",\"\",VLOOKUP(CU39,$B$40:$D$73,2,FALSE))","v":""},null,null,null,null,{"$f":"CA39","v":0},{"$f":"IF(CP39=\"\",\"\",VLOOKUP(CU39,$B$40:$D$73,3,FALSE))","v":""},"得点",null,null,{"$f":"IF(DC39=\"\",\"\",CZ38)","v":""},{"$f":"DA38+1","v":2},null,null,{"$f":"IF(DG39=\"\",\"\",DD38)","v":""},{"$f":"DE38+1","v":16},null,null,"打者",null,{"$f":"IF($C$7=\"\",\"\",VLOOKUP(DO39,$B$40:$D$73,2,FALSE))","v":""},null,null,null,null,{"$f":"CU39","v":0},{"$f":"IF(DJ39=\"\",\"\",VLOOKUP(DO39,$B$40:$D$73,3,FALSE))","v":""},"得点",null,null,{"$f":"IF(DW39=\"\",\"\",DT38)","v":""},{"$f":"DU38+1","v":2},null,null,{"$f":"IF(EA39=\"\",\"\",DX38)","v":""},{"$f":"DY38+1","v":16},null,null,"打者",null,{"$f":"IF($C$7=\"\",\"\",VLOOKUP(EI39,$B$40:$D$73,2,FALSE))","v":""},null,null,null,null,{"$f":"DO39","v":0},{"$f":"IF(ED39=\"\",\"\",VLOOKUP(EI39,$B$40:$D$73,3,FALSE))","v":""},"得点",null,null,{"$f":"IF(EQ39=\"\",\"\",EN38)","v":""},{"$f":"EO38+1","v":2},null,null,{"$f":"IF(EU39=\"\",\"\",ER38)","v":""},{"$f":"ES38+1","v":16},null,null,"打者",null,{"$f":"IF($C$7=\"\",\"\",VLOOKUP(FC39,$B$40:$D$73,2,FALSE))","v":""},null,null,null,null,{"$f":"EI39","v":0},{"$f":"IF(EX39=\"\",\"\",VLOOKUP(FC39,$B$40:$D$73,3,FALSE))","v":""},null,null,null,{"$f":"IF(FK39=\"\",\"\",FH38)","v":""},{"$f":"FI38+1","v":2},null,null,{"$f":"IF(FO39=\"\",\"\",FL38)","v":""},{"$f":"FM38+1","v":16},null,null,"打者",null,{"$f":"IF($C$7=\"\",\"\",VLOOKUP(FW39,$B$40:$D$73,2,FALSE))","v":""},null,null,null,null,{"$f":"FC39","v":0},{"$f":"IF(FR39=\"\",\"\",VLOOKUP(FW39,$B$40:$D$73,3,FALSE))","v":""},null,null,null,{"$f":"IF(GE39=\"\",\"\",GB38)","v":""},{"$f":"GC38+1","v":2},null,null,{"$f":"IF(GI39=\"\",\"\",GF38)","v":""},{"$f":"GG38+1","v":16},null,null,"打者",null,{"$f":"IF($C$7=\"\",\"\",VLOOKUP(GQ39,$B$40:$D$73,2,FALSE))","v":""},null,null,null,null,{"$f":"FW39","v":0},{"$f":"IF(GL39=\"\",\"\",VLOOKUP(GQ39,$B$40:$D$73,3,FALSE))","v":""},"得点",null,null,{"$f":"IF(GY39=\"\",\"\",GV38)","v":""},{"$f":"GW38+1","v":2},null,null,{"$f":"IF(HC39=\"\",\"\",GZ38)","v":""},{"$f":"HA38+1","v":16},null,null,"打者",null,{"$f":"IF($C$7=\"\",\"\",VLOOKUP(HK39,$B$40:$D$73,2,FALSE))","v":""},null,null,null,null,{"$f":"GQ39","v":0},{"$f":"IF(HF39=\"\",\"\",VLOOKUP(HK39,$B$40:$D$73,3,FALSE))","v":""},"得点",null,null,{"$f":"IF(HS39=\"\",\"\",HP38)","v":""},{"$f":"HQ38+1","v":2},null,null,{"$f":"IF(HW39=\"\",\"\",HT38)","v":""},{"$f":"HU38+1","v":16},null,null,"打者",null,{"$f":"IF($C$7=\"\",\"\",VLOOKUP(IE39,$B$40:$D$73,2,FALSE))","v":""},null,null,null,null,{"$f":"HK39","v":0},{"$f":"IF(HZ39=\"\",\"\",VLOOKUP(IE39,$B$40:$D$73,3,FALSE))","v":""},"得点",null,null,{"$f":"IF(IM39=\"\",\"\",IJ38)","v":""},{"$f":"IK38+1","v":2},null,null,{"$f":"IF(IQ39=\"\",\"\",IN38)","v":""},{"$f":"IO38+1","v":16}]
[null,{"$f":"IF(E40=\"\",\"\",E40)","v":""},null,null,null,null,null,{"$f":"IF(情報!D38=\"\",\"\",情報!D38)","v":""},null,{"$f":"IF(情報!D38=\"\",\"\",情報!D38)","v":""},null,{"$f":"IF(S38=\"\",\"\",S38)","v":""},{"$f":"L40","v":""},{"$f":"M40","v":""},{"$f":"N40","v":""},{"$f":"O40","v":""},{"$f":"P40","v":""},{"$f":"Q40","v":""},{"$f":"R40","v":""},{"$f":"S40","v":""},{"$f":"T40","v":""},{"$f":"U40","v":""},null,{"$f":"IF(AA40=\"\",\"\",X39)","v":""},{"$f":"Y39+1","v":3},null,null,"",17,null,null,{"$f":"IF(AM38=\"\",\"\",AM38)","v":""},{"$f":"AF40","v":""},{"$f":"AG40","v":""},{"$f":"AH40","v":""},{"$f":"AI40","v":""},{"$f":"AJ40","v":""},{"$f":"AK40","v":""},{"$f":"AL40","v":""},{"$f":"AM40","v":""},{"$f":"AN40","v":""},{"$f":"AO40","v":""},null,{"$f":"IF(AU40=\"\",\"\",AR39)","v":""},{"$f":"AS39+1","v":3},null,null,"",17,null,null,{"$f":"IF(BG38=\"\",\"\",BG38)","v":""},{"$f":"AZ40","v":""},{"$f":"BA40","v":""},{"$f":"BB40","v":""},{"$f":"BC40","v":""},{"$f":"BD40","v":""},{"$f":"BE40","v":""},{"$f":"BF40","v":""},{"$f":"BG40","v":""},{"$f":"BH40","v":""},{"$f":"BI40","v":""},null,{"$f":"IF(BO40=\"\",\"\",BL39)","v":""},{"$f":"BM39+1","v":3},null,null,"",17,null,null,{"$f":"IF(CA38=\"\",\"\",CA38)","v":""},{"$f":"BT40","v":""},{"$f":"BU40","v":""},{"$f":"BV40","v":""},{"$f":"BW40","v":""},{"$f":"BX40","v":""},{"$f":"BY40","v":""},{"$f":"BZ40","v":""},{"$f":"CA40","v":""},{"$f":"CB40","v":""},{"$f":"CC40","v":""},null,{"$f":"IF(CI40=\"\",\"\",CF39)","v":""},{"$f":"CG39+1","v":3},null,null,"",17,null,null,{"$f":"IF(CU38=\"\",\"\",CU38)","v":""},{"$f":"CN40","v":""},{"$f":"CO40","v":""},{"$f":"CP40","v":""},{"$f":"CQ40","v":""},{"$f":"CR40","v":""},{"$f":"CS40","v":""},{"$f":"CT40","v":""},{"$f":"CU40","v":""},{"$f":"CV40","v":""},{"$f":"CW40","v":""},null,{"$f":"IF(DC40=\"\",\"\",CZ39)","v":""},{"$f":"DA39+1","v":3},null,null,"",17,null,null,{"$f":"IF(DO38=\"\",\"\",DO38)","v":""},{"$f":"DH40","v":""},{"$f":"DI40","v":""},{"$f":"DJ40","v":""},{"$f":"DK40","v":""},{"$f":"DL40","v":""},{"$f":"DM40","v":""},{"$f":"DN40","v":""},{"$f":"DO40","v":""},{"$f":"DP40","v":""},{"$f":"DQ40","v":""},null,{"$f":"IF(DW40=\"\",\"\",DT39)","v":""},{"$f":"DU39+1","v":3},null,null,"",17,null,null,{"$f":"IF(EI38=\"\",\"\",EI38)","v":""},{"$f":"EB40","v":""},{"$f":"EC40","v":""},{"$f":"ED40","v":""},{"$f":"EE40","v":""},{"$f":"EF40","v":""},{"$f":"EG40","v":""},{"$f":"EH40","v":""},{"$f":"EI40","v":""},{"$f":"EJ40","v":""},{"$f":"EK40","v":""},null,{"$f":"IF(EQ40=\"\",\"\",EN39)","v":""},{"$f":"EO39+1","v":3},null,null,"",17,null,null,{"$f":"IF(FC38=\"\",\"\",FC38)","v":""},{"$f":"EV40","v":""},{"$f":"EW40","v":""},{"$f":"EX40","v":""},{"$f":"EY40","v":""},{"$f":"EZ40","v":""},{"$f":"FA40","v":""},{"$f":"FB40","v":""},{"$f":"FC40","v":""},{"$f":"FD40","v":""},{"$f":"FE40","v":""},null,{"$f":"IF(FK40=\"\",\"\",FH39)","v":""},{"$f":"FI39+1","v":3},null,null,"",17,null,null,{"$f":"IF(FW38=\"\",\"\",FW38)","v":""},{"$f":"FP40","v":""},{"$f":"FQ40","v":""},{"$f":"FR40","v":""},{"$f":"FS40","v":""},{"$f":"FT40","v":""},{"$f":"FU40","v":""},{"$f":"FV40","v":""},{"$f":"FW40","v":""},{"$f":"FX40","v":""},{"$f":"FY40","v":""},null,{"$f":"IF(GE40=\"\",\"\",GB39)","v":""},{"$f":"GC39+1","v":3},null,null,"",17,null,null,{"$f":"IF(GQ38=\"\",\"\",GQ38)","v":""},{"$f":"GJ40","v":""},{"$f":"GK40","v":""},{"$f":"GL40","v":""},{"$f":"GM40","v":""},{"$f":"GN40","v":""},{"$f":"GO40","v":""},{"$f":"GP40","v":""},{"$f":"GQ40","v":""},{"$f":"GR40","v":""},{"$f":"GS40","v":""},null,{"$f":"IF(GY40=\"\",\"\",GV39)","v":""},{"$f":"GW39+1","v":3},null,null,"",17,null,null,{"$f":"IF(HK38=\"\",\"\",HK38)","v":""},{"$f":"HD40","v":""},{"$f":"HE40","v":""},{"$f":"HF40","v":""},{"$f":"HG40","v":""},{"$f":"HH40","v":""},{"$f":"HI40","v":""},{"$f":"HJ40","v":""},{"$f":"HK40","v":""},{"$f":"HL40","v":""},{"$f":"HM40","v":""},null,{"$f":"IF(HS40=\"\",\"\",HP39)","v":""},{"$f":"HQ39+1","v":3},null,null,"",17,null,null,{"$f":"IF(IE38=\"\",\"\",IE38)","v":""},{"$f":"HX40","v":""},{"$f":"HY40","v":""},{"$f":"HZ40","v":""},{"$f":"IA40","v":""},{"$f":"IB40","v":""},{"$f":"IC40","v":""},{"$f":"ID40","v":""},{"$f":"IE40","v":""},{"$f":"IF40","v":""},{"$f":"IG40","v":""},null,{"$f":"IF(IM40=\"\",\"\",IJ39)","v":""},{"$f":"IK39+1","v":3},null,null,"",17]
[null,{"$f":"IF(E41=\"\",\"\",E41)","v":""},null,null,null,null,null,null,null,null,null,null,"O","O","O","O","M","M","I","I","I","I",null,"",4,null,null,"",18,null,null,null,"O","O","O","O","M","M","I","I","I","I",null,"",4,null,null,"",18,null,null,null,"O","O","O","O","M","M","I","I","I","I",null,"",4,null,null,"",18,null,null,null,"O","O","O","O","M","M","I","I","I","I",null,"",4,null,null,"",18,null,null,null,"O","O","O","O","M","M","I","I","I","I",null,"",4,null,null,"",18,null,null,null,"O","O","O","O","M","M","I","I","I","I",null,"",4,null,null,"",18,null,null,null,"O","O","O","O","M","M","I","I","I","I",null,"",4,null,null,"",18,null,null,null,"O","O","O","O","M","M","I","I","I","I",null,"",4,null,null,"",18,null,null,null,"O","O","O","O","M","M","I","I","I","I",null,"",4,null,null,"",18,null,null,null,"O","O","O","O","M","M","I","I","I","I",null,"",4,null,null,"",18,null,null,null,"O","O","O","O","M","M","I","I","I","I",null,"",4,null,null,"",18,null,null,null,"O","O","O","O","M","M","I","I","I","I",null,"",4,null,null,"",18]
[null,"",null,null,null,null,null,null,null,null,null,null,null,null,null,null,null,null,null,null,null,null,null,"",5,null,null,"",19,null,null,null,null,null,null,null,null,null,null,null,null,null,null,"",5,null,null,"",19,null,null,null,null,null,null,null,null,null,null,null,null,null,null,"",5,null,null,"",19,null,null,null,null,null,null,null,null,null,null,null,null,null,null,"",5,null,null,"",19,null,null,null,null,null,null,null,null,null,null,null,null,null,null,"",5,null,null,"",19,null,null,null,null,null,null,null,null,null,null,null,null,null,null,"",5,null,null,"",19,null,null,null,null,null,null,null,null,null,null,null,null,null,null,"",5,null,null,"",19,null,null,null,null,null,null,null,null,null,null,null,null,null,null,"",5,null,null,"",19,null,null,null,null,null,null,null,null,null,null,null,null,null,null,"",5,null,null,"",19,null,null,null,null,null,null,null,null,null,null,null,null,null,null,"",5,null,null,"",19,null,null,null,null,null,null,null,null,null,null,null,null,null,null,"",5,null,null,"",19,null,null,null,null,null,null,null,null,null,null,null,null,null,null,"",5,null,null,"",19]
[null,"",null,null,null,null,null,null,null,null,null,null,null,null,null,null,null,null,null,null,null,null,null,"",6,null,null,"",20,null,null,null,null,null,null,null,null,null,null,null,null,null,null,"",6,null,null,"",20,null,null,null,null,null,null,null,null,null,null,null,null,null,null,"",6,null,null,"",20,null,null,null,null,null,null,null,null,null,null,null,null,null,null,"",6,null,null,"",20,null,null,null,null,null,null,null,null,null,null,null,null,null,null,"",6,null,null,"",20,null,null,null,null,null,null,null,null,null,null,null,null,null,null,"",6,null,null,"",20,null,null,null,null,null,null,null,null,null,null,null,null,null,null,"",6,null,null,"",20,null,null,null,null,null,null,null,null,null,null,null,null,null,null,"",6,null,null,"",20,null,null,null,null,null,null,null,null,null,null,null,null,null,null,"",6,null,null,"",20,null,null,null,null,null,null,null,null,null,null,null,null,null,null,"",6,null,null,"",20,null,null,null,null,null,null,null,null,null,null,null,null,null,null,"",6,null,null,"",20,null,null,null,null,null,null,null,null,null,null,null,null,null,null,"",6,null,null,"",20]
[null,"",null,null,null,null,null,null,null,null,null,null,null,null,null,null,null,null,null,null,null,null,null,"",7,null,null,"",21,null,null,null,null,null,null,null,null,null,null,null,null,null,null,"",7,null,null,"",21,null,null,null,null,null,null,null,null,null,null,null,null,null,null,"",7,null,null,"",21,null,null,null,null,null,null,null,null,null,null,null,null,null,null,"",7,null,null,"",21,null,null,null,null,null,null,null,null,null,null,null,null,null,null,"",7,null,null,"",21,null,null,null,null,null,null,null,null,null,null,null,null,null,null,"",7,null,null,"",21,null,null,null,null,null,null,null,null,null,null,null,null,null,null,"",7,null,null,"",21,null,null,null,null,null,null,null,null,null,null,null,null,null,null,"",7,null,null,"",21,null,null,null,null,null,null,null,null,null,null,null,null,null,null,"",7,null,null,"",21,null,null,null,null,null,null,null,null,null,null,null,null,null,null,"",7,null,null,"",21,null,null,null,null,null,null,null,null,null,null,null,null,null,null,"",7,null,null,"",21,null,null,null,null,null,null,null,null,null,null,null,null,null,null,"",7,null,null,"",21]
[null,"",null,null,null,null,null,null,null,null,null,null,null,null,null,null,null,null,null,null,null,null,null,"",8,null,null,"",22,null,null,null,null,null,null,null,null,null,null,null,null,null,null,"",8,null,null,"",22,null,null,null,null,null,null,null,null,null,null,null,null,null,null,"",8,null,null,"",22,null,null,null,null,null,null,null,null,null,null,null,null,null,null,"",8,null,null,"",22,null,null,null,null,null,null,null,null,null,null,null,null,null,null,"",8,null,null,"",22,null,null,null,null,null,null,null,null,null,null,null,null,null,null,"",8,null,null,"",22,null,null,null,null,null,null,null,null,null,null,null,null,null,null,"",8,null,null,"",22,null,null,null,null,null,null,null,null,null,null,null,null,null,null,"",8,null,null,"",22,null,null,null,null,null,null,null,null,null,null,null,null,null,null,"",8,null,null,"",22,null,null,null,null,null,null,null,null,null,null,null,null,null,null,"",8,null,null,"",22,null,null,null,null,null,null,null,null,null,null,null,null,null,null,"",8,null,null,"",22,null,null,null,null,null,null,null,null,null,null,null,null,null,null,"",8,null,null,"",22]
[null,"",null,null,null,null,null,null,null,null,null,null,null,null,null,null,null,null,null,null,null,null,null,"",9,null,null,"",23,null,null,null,null,null,null,null,null,null,null,null,null,null,null,"",9,null,null,"",23,null,null,null,null,null,null,null,null,null,null,null,null,null,null,"",9,null,null,"",23,null,null,null,null,null,null,null,null,null,null,null,null,null,null,"",9,null,null,"",23,null,null,null,null,null,null,null,null,null,null,null,null,null,null,"",9,null,null,"",23,null,null,null,null,null,null,null,null,null,null,null,null,null,null,"",9,null,null,"",23,null,null,null,null,null,null,null,null,null,null,null,null,null,null,"",9,null,null,"",23,null,null,null,null,null,null,null,null,null,null,null,null,null,null,"",9,null,null,"",23,null,null,null,null,null,null,null,null,null,null,null,null,null,null,"",9,null,null,"",23,null,null,null,null,null,null,null,null,null,null,null,null,null,null,"",9,null,null,"",23,null,null,null,null,null,null,null,null,null,null,null,null,null,null,"",9,null,null,"",23,null,null,null,null,null,null,null,null,null,null,null,null,null,null,"",9,null,null,"",23]
[null,"",null,null,null,null,null,null,null,null,null,null,null,null,null,null,null,null,null,null,null,null,null,"",10,null,null,"",24,null,null,null,null,null,null,null,null,null,null,null,null,null,null,"",10,null,null,"",24,null,null,null,null,null,null,null,null,null,null,null,null,null,null,"",10,null,null,"",24,null,null,null,null,null,null,null,null,null,null,null,null,null,null,"",10,null,null,"",24,null,null,null,null,null,null,null,null,null,null,null,null,null,null,"",10,null,null,"",24,null,null,null,null,null,null,null,null,null,null,null,null,null,null,"",10,null,null,"",24,null,null,null,null,null,null,null,null,null,null,null,null,null,null,"",10,null,null,"",24,null,null,null,null,null,null,null,null,null,null,null,null,null,null,"",10,null,null,"",24,null,null,null,null,null,null,null,null,null,null,null,null,null,null,"",10,null,null,"",24,null,null,null,null,null,null,null,null,null,null,null,null,null,null,"",10,null,null,"",24,null,null,null,null,null,null,null,null,null,null,null,null,null,null,"",10,null,null,"",24,null,null,null,null,null,null,null,null,null,null,null,null,null,null,"",10,null,null,"",24]
[null,"",null,null,null,null,null,null,null,null,null,null,null,null,null,null,null,null,null,null,null,null,null,"",11,null,null,"",25,null,null,null,null,null,null,null,null,null,null,null,null,null,null,"",11,null,null,"",25,null,null,null,null,null,null,null,null,null,null,null,null,null,null,"",11,null,null,"",25,null,null,null,null,null,null,null,null,null,null,null,null,null,null,"",11,null,null,"",25,null,null,null,null,null,null,null,null,null,null,null,null,null,null,"",11,null,null,"",25,null,null,null,null,null,null,null,null,null,null,null,null,null,null,"",11,null,null,"",25,null,null,null,null,null,null,null,null,null,null,null,null,null,null,"",11,null,null,"",25,null,null,null,null,null,null,null,null,null,null,null,null,null,null,"",11,null,null,"",25,null,null,null,null,null,null,null,null,null,null,null,null,null,null,"",11,null,null,"",25,null,null,null,null,null,null,null,null,null,null,null,null,null,null,"",11,null,null,"",25,null,null,null,null,null,null,null,null,null,null,null,null,null,null,"",11,null,null,"",25,null,null,null,null,null,null,null,null,null,null,null,null,null,null,"",11,null,null,"",25]
[null,"",null,null,null,null,null,null,null,null,null,null,null,null,null,null,null,null,null,null,null,null,null,"",12,null,null,"",26,null,null,null,null,null,null,null,null,null,null,null,null,null,null,"",12,null,null,"",26,null,null,null,null,null,null,null,null,null,null,null,null,null,null,"",12,null,null,"",26,null,null,null,null,null,null,null,null,null,null,null,null,null,null,"",12,null,null,"",26,null,null,null,null,null,null,null,null,null,null,null,null,null,null,"",12,null,null,"",26,null,null,null,null,null,null,null,null,null,null,null,null,null,null,"",12,null,null,"",26,null,null,null,null,null,null,null,null,null,null,null,null,null,null,"",12,null,null,"",26,null,null,null,null,null,null,null,null,null,null,null,null,null,null,"",12,null,null,"",26,null,null,null,null,null,null,null,null,null,null,null,null,null,null,"",12,null,null,"",26,null,null,null,null,null,null,null,null,null,null,null,null,null,null,"",12,null,null,"",26,null,null,null,null,null,null,null,null,null,null,null,null,null,null,"",12,null,null,"",26,null,null,null,null,null,null,null,null,null,null,null,null,null,null,"",12,null,null,"",26]
[null,"",null,null,null,null,null,null,null,null,null,null,null,null,null,null,null,null,null,null,null,null,null,"",13,null,null,"",27,null,null,null,null,null,null,null,null,null,null,null,null,null,null,"",13,null,null,"",27,null,null,null,null,null,null,null,null,null,null,null,null,null,null,"",13,null,null,"",27,null,null,null,null,null,null,null,null,null,null,null,null,null,null,"",13,null,null,"",27,null,null,null,null,null,null,null,null,null,null,null,null,null,null,"",13,null,null,"",27,null,null,null,null,null,null,null,null,null,null,null,null,null,null,"",13,null,null,"",27,null,null,null,null,null,null,null,null,null,null,null,null,null,null,"",13,null,null,"",27,null,null,null,null,null,null,null,null,null,null,null,null,null,null,"",13,null,null,"",27,null,null,null,null,null,null,null,null,null,null,null,null,null,null,"",13,null,null,"",27,null,null,null,null,null,null,null,null,null,null,null,null,null,null,"",13,null,null,"",27,null,null,null,null,null,null,null,null,null,null,null,null,null,null,"",13,null,null,"",27,null,null,null,null,null,null,null,null,null,null,null,null,null,null,"",13,null,null,"",27]
[null,"",null,null,null,null,null,null,null,null,null,null,null,null,null,null,null,null,null,null,null,null,null,{"$f":"IF(AA51=\"\",\"\",X50)","v":""},14,null,null,"",28,null,null,null,null,null,null,null,null,null,null,null,null,null,null,{"$f":"IF(AU51=\"\",\"\",AR50)","v":""},14,null,null,"",28,null,null,null,null,null,null,null,null,null,null,null,null,null,null,{"$f":"IF(BO51=\"\",\"\",BL50)","v":""},14,null,null,"",28,null,null,null,null,null,null,null,null,null,null,null,null,null,null,{"$f":"IF(CI51=\"\",\"\",CF50)","v":""},14,null,null,"",28,null,null,null,null,null,null,null,null,null,null,null,null,null,null,{"$f":"IF(DC51=\"\",\"\",CZ50)","v":""},14,null,null,"",28,null,null,null,null,null,null,null,null,null,null,null,null,null,null,{"$f":"IF(DW51=\"\",\"\",DT50)","v":""},14,null,null,"",28,null,null,null,null,null,null,null,null,null,null,null,null,null,null,{"$f":"IF(EQ51=\"\",\"\",EN50)","v":""},14,null,null,"",28,null,null,null,null,null,null,null,null,null,null,null,null,null,null,{"$f":"IF(FK51=\"\",\"\",FH50)","v":""},14,null,null,"",28,null,null,null,null,null,null,null,null,null,null,null,null,null,null,{"$f":"IF(GE51=\"\",\"\",GB50)","v":""},14,null,null,"",28,null,null,null,null,null,null,null,null,null,null,null,null,null,null,{"$f":"IF(GY51=\"\",\"\",GV50)","v":""},14,null,null,"",28,null,null,null,null,null,null,null,null,null,null,null,null,null,null,{"$f":"IF(HS51=\"\",\"\",HP50)","v":""},14,null,null,"",28,null,null,null,null,null,null,null,null,null,null,null,null,null,null,{"$f":"IF(IM51=\"\",\"\",IJ50)","v":""},14,null,null,"",28]
[null,"",null,null,null,null,null,null,null,null,null,"④",null,"1回",null,null,null,null,null,null,null,null,null,"P","N","種","判","P","N","種","判","④",null,"2回",null,null,null,null,null,null,null,null,null,"P","N","種","判","P","N","種","判","④",null,"3回",null,null,null,null,null,null,null,null,null,"P","N","種","判","P","N","種","判","④",null,"4回",null,null,null,null,null,null,null,null,null,"P","N","種","判","P","N","種","判","④",null,"5回",null,null,null,null,null,null,null,null,null,"P","N","種","判","P","N","種","判","④",null,"6回",null,null,null,null,null,null,null,null,null,"P","N","種","判","P","N","種","判","④",null,"7回",null,null,null,null,null,null,null,null,null,"P","N","種","判","P","N","種","判","④",null,"8回",null,null,null,null,null,null,null,null,null,"P","N","種","判","P","N","種","判","④",null,"9回",null,null,null,null,null,null,null,null,null,"P","N","種","判","P","N","種","判","④",null,"10回",null,null,null,null,null,null,null,null,null,"P","N","種","判","P","N","種","判","④",null,"11回",null,null,null,null,null,null,null,null,null,"P","N","種","判","P","N","種","判","④",null,"12回",null,null,null,null,null,null,null,null,null,"P","N","種","判","P","N","種","判"]
[null,"",null,null,null,null,null,null,null,null,null,"投手",null,{"$f":"IF($C$28=\"\",\"\",VLOOKUP(S53,$B$77:$E$110,2,FALSE))","v":""},null,null,null,null,{"$f":"S38","v":""},{"$f":"IF($C$28=\"\",\"\",VLOOKUP(S53,$A$28:$D$35,4,FALSE))","v":""},"結果",null,null,{"$f":"IF(AA53=\"\",\"\",S53)","v":""},1,null,null,{"$f":"IF(AE53=\"\",\"\",S53)","v":""},15,null,null,"投手",null,{"$f":"IF($C$28=\"\",\"\",VLOOKUP(AM53,$B$77:$E$110,2,FALSE))","v":""},null,null,null,null,{"$f":"AM38","v":""},{"$f":"IF($C$28=\"\",\"\",VLOOKUP(AM53,$A$28:$D$35,4,FALSE))","v":""},"結果",null,null,{"$f":"IF(AU53=\"\",\"\",AM53)","v":""},1,null,null,{"$f":"IF(AY53=\"\",\"\",AM53)","v":""},15,null,null,"投手",null,{"$f":"IF($C$28=\"\",\"\",VLOOKUP(BG53,$B$77:$E$110,2,FALSE))","v":""},null,null,null,null,{"$f":"BG38","v":""},{"$f":"IF($C$28=\"\",\"\",VLOOKUP(BG53,$A$28:$D$35,4,FALSE))","v":""},"結果",null,null,{"$f":"IF(BO53=\"\",\"\",BG53)","v":""},1,null,null,{"$f":"IF(BS53=\"\",\"\",BG53)","v":""},15,null,null,"投手",null,{"$f":"IF($C$28=\"\",\"\",VLOOKUP(CA53,$B$77:$E$110,2,FALSE))","v":""},null,null,null,null,{"$f":"CA38","v":""},{"$f":"IF($C$28=\"\",\"\",VLOOKUP(CA53,$A$28:$D$35,4,FALSE))","v":""},"結果",null,null,{"$f":"IF(CI53=\"\",\"\",CA53)","v":""},1,null,null,{"$f":"IF(CM53=\"\",\"\",CA53)","v":""},15,null,null,"投手",null,{"$f":"IF($C$28=\"\",\"\",VLOOKUP(CU53,$B$77:$E$110,2,FALSE))","v":""},null,null,null,null,{"$f":"CU38","v":""},{"$f":"IF($C$28=\"\",\"\",VLOOKUP(CU53,$A$28:$D$35,4,FALSE))","v":""},"結果",null,null,{"$f":"IF(DC53=\"\",\"\",CU53)","v":""},1,null,null,{"$f":"IF(DG53=\"\",\"\",CU53)","v":""},15,null,null,"投手",null,{"$f":"IF($C$28=\"\",\"\",VLOOKUP(DO53,$B$77:$E$110,2,FALSE))","v":""},null,null,null,null,{"$f":"DO38","v":""},{"$f":"IF($C$28=\"\",\"\",VLOOKUP(DO53,$A$28:$D$35,4,FALSE))","v":""},"結果",null,null,{"$f":"IF(DW53=\"\",\"\",DO53)","v":""},1,null,null,{"$f":"IF(EA53=\"\",\"\",DO53)","v":""},15,null,null,"投手",null,{"$f":"IF($C$28=\"\",\"\",VLOOKUP(EI53,$B$77:$E$110,2,FALSE))","v":""},null,null,null,null,{"$f":"EI38","v":""},{"$f":"IF($C$28=\"\",\"\",VLOOKUP(EI53,$A$28:$D$35,4,FALSE))","v":""},"結果",null,null,{"$f":"IF(EQ53=\"\",\"\",EI53)","v":""},1,null,null,{"$f":"IF(EU53=\"\",\"\",EI53)","v":""},15,null,null,"投手",null,{"$f":"IF($C$28=\"\",\"\",VLOOKUP(FC53,$B$77:$E$110,2,FALSE))","v":""},null,null,null,null,{"$f":"FC38","v":""},{"$f":"IF($C$28=\"\",\"\",VLOOKUP(FC53,$A$28:$D$35,4,FALSE))","v":""},"結果",null,null,{"$f":"IF(FK53=\"\",\"\",FC53)","v":""},1,null,null,{"$f":"IF(FO53=\"\",\"\",FC53)","v":""},15,null,null,"投手",null,{"$f":"IF($C$28=\"\",\"\",VLOOKUP(FW53,$B$77:$E$110,2,FALSE))","v":""},null,null,null,null,{"$f":"FW38","v":""},{"$f":"IF($C$28=\"\",\"\",VLOOKUP(FW53,$A$28:$D$35,4,FALSE))","v":""},"結果",null,null,{"$f":"IF(GE53=\"\",\"\",FW53)","v":""},1,null,null,{"$f":"IF(GI53=\"\",\"\",FW53)","v":""},15,null,null,"投手",null,{"$f":"IF($C$28=\"\",\"\",VLOOKUP(GQ53,$B$77:$E$110,2,FALSE))","v":""},null,null,null,null,{"$f":"GQ38","v":""},{"$f":"IF($C$28=\"\",\"\",VLOOKUP(GQ53,$A$28:$D$35,4,FALSE))","v":""},"結果",null,null,{"$f":"IF(GY53=\"\",\"\",GQ53)","v":""},1,null,null,{"$f":"IF(HC53=\"\",\"\",GQ53)","v":""},15,null,null,"投手",null,{"$f":"IF($C$28=\"\",\"\",VLOOKUP(HK53,$B$77:$E$110,2,FALSE))","v":""},null,null,null,null,{"$f":"HK38","v":""},{"$f":"IF($C$28=\"\",\"\",VLOOKUP(HK53,$A$28:$D$35,4,FALSE))","v":""},"結果",null,null,{"$f":"IF(HS53=\"\",\"\",HK53)","v":""},1,null,null,{"$f":"IF(HW53=\"\",\"\",HK53)","v":""},15,null,null,"投手",null,{"$f":"IF($C$28=\"\",\"\",VLOOKUP(IE53,$B$77:$E$110,2,FALSE))","v":""},null,null,null,null,{"$f":"IE38","v":""},{"$f":"IF($C$28=\"\",\"\",VLOOKUP(IE53,$A$28:$D$35,4,FALSE))","v":""},"結果",null,null,{"$f":"IF(IM53=\"\",\"\",IE53)","v":""},1,null,null,{"$f":"IF(IQ53=\"\",\"\",IE53)","v":""},15]
[null,"",null,null,null,null,null,null,null,null,null,"打者",null,{"$f":"IF($C$7=\"\",\"\",VLOOKUP(S54,$B$40:$D$73,2,FALSE))","v":""},null,null,null,null,{"$f":"E10","v":0},{"$f":"IF(N54=\"\",\"\",VLOOKUP(S54,$B$40:$D$73,3,FALSE))","v":""},null,null,null,{"$f":"IF(AA54=\"\",\"\",X53)","v":""},{"$f":"Y53+1","v":2},null,null,{"$f":"IF(AE54=\"\",\"\",AB53)","v":""},{"$f":"AC53+1","v":16},null,null,"打者",null,{"$f":"IF($C$7=\"\",\"\",VLOOKUP(AM54,$B$40:$D$73,2,FALSE))","v":""},null,null,null,null,{"$f":"S54","v":0},{"$f":"IF(AH54=\"\",\"\",VLOOKUP(AM54,$B$40:$D$73,3,FALSE))","v":""},"得点",null,null,{"$f":"IF(AU54=\"\",\"\",AR53)","v":""},{"$f":"AS53+1","v":2},null,null,{"$f":"IF(AY54=\"\",\"\",AV53)","v":""},{"$f":"AW53+1","v":16},null,null,"打者",null,{"$f":"IF($C$7=\"\",\"\",VLOOKUP(BG54,$B$40:$D$73,2,FALSE))","v":""},null,null,null,null,{"$f":"AM54","v":0},{"$f":"IF(BB54=\"\",\"\",VLOOKUP(BG54,$B$40:$D$73,3,FALSE))","v":""},"得点",null,null,{"$f":"IF(BO54=\"\",\"\",BL53)","v":""},{"$f":"BM53+1","v":2},null,null,{"$f":"IF(BS54=\"\",\"\",BP53)","v":""},{"$f":"BQ53+1","v":16},null,null,"打者",null,{"$f":"IF($C$7=\"\",\"\",VLOOKUP(CA54,$B$40:$D$73,2,FALSE))","v":""},null,null,null,null,{"$f":"BG54","v":0},{"$f":"IF(BV54=\"\",\"\",VLOOKUP(CA54,$B$40:$D$73,3,FALSE))","v":""},"得点",null,null,{"$f":"IF(CI54=\"\",\"\",CF53)","v":""},{"$f":"CG53+1","v":2},null,null,{"$f":"IF(CM54=\"\",\"\",CJ53)","v":""},{"$f":"CK53+1","v":16},null,null,"打者",null,{"$f":"IF($C$7=\"\",\"\",VLOOKUP(CU54,$B$40:$D$73,2,FALSE))","v":""},null,null,null,null,{"$f":"CA54","v":0},{"$f":"IF(CP54=\"\",\"\",VLOOKUP(CU54,$B$40:$D$73,3,FALSE))","v":""},"得点",null,null,{"$f":"IF(DC54=\"\",\"\",CZ53)","v":""},{"$f":"DA53+1","v":2},null,null,{"$f":"IF(DG54=\"\",\"\",DD53)","v":""},{"$f":"DE53+1","v":16},null,null,"打者",null,{"$f":"IF($C$7=\"\",\"\",VLOOKUP(DO54,$B$40:$D$73,2,FALSE))","v":""},null,null,null,null,{"$f":"CU54","v":0},{"$f":"IF(DJ54=\"\",\"\",VLOOKUP(DO54,$B$40:$D$73,3,FALSE))","v":""},"得点",null,null,{"$f":"IF(DW54=\"\",\"\",DT53)","v":""},{"$f":"DU53+1","v":2},null,null,{"$f":"IF(EA54=\"\",\"\",DX53)","v":""},{"$f":"DY53+1","v":16},null,null,"打者",null,{"$f":"IF($C$7=\"\",\"\",VLOOKUP(EI54,$B$40:$D$73,2,FALSE))","v":""},null,null,null,null,{"$f":"DO54","v":0},{"$f":"IF(ED54=\"\",\"\",VLOOKUP(EI54,$B$40:$D$73,3,FALSE))","v":""},"得点",null,null,{"$f":"IF(EQ54=\"\",\"\",EN53)","v":""},{"$f":"EO53+1","v":2},null,null,{"$f":"IF(EU54=\"\",\"\",ER53)","v":""},{"$f":"ES53+1","v":16},null,null,"打者",null,{"$f":"IF($C$7=\"\",\"\",VLOOKUP(FC54,$B$40:$D$73,2,FALSE))","v":""},null,null,null,null,{"$f":"EI54","v":0},{"$f":"IF(EX54=\"\",\"\",VLOOKUP(FC54,$B$40:$D$73,3,FALSE))","v":""},"得点",null,null,{"$f":"IF(FK54=\"\",\"\",FH53)","v":""},{"$f":"FI53+1","v":2},null,null,{"$f":"IF(FO54=\"\",\"\",FL53)","v":""},{"$f":"FM53+1","v":16},null,null,"打者",null,{"$f":"IF($C$7=\"\",\"\",VLOOKUP(FW54,$B$40:$D$73,2,FALSE))","v":""},null,null,null,null,{"$f":"FC54","v":0},{"$f":"IF(FR54=\"\",\"\",VLOOKUP(FW54,$B$40:$D$73,3,FALSE))","v":""},"得点",null,null,{"$f":"IF(GE54=\"\",\"\",GB53)","v":""},{"$f":"GC53+1","v":2},null,null,{"$f":"IF(GI54=\"\",\"\",GF53)","v":""},{"$f":"GG53+1","v":16},null,null,"打者",null,{"$f":"IF($C$7=\"\",\"\",VLOOKUP(GQ54,$B$40:$D$73,2,FALSE))","v":""},null,null,null,null,{"$f":"FW54","v":0},{"$f":"IF(GL54=\"\",\"\",VLOOKUP(GQ54,$B$40:$D$73,3,FALSE))","v":""},"得点",null,null,{"$f":"IF(GY54=\"\",\"\",GV53)","v":""},{"$f":"GW53+1","v":2},null,null,{"$f":"IF(HC54=\"\",\"\",GZ53)","v":""},{"$f":"HA53+1","v":16},null,null,"打者",null,{"$f":"IF($C$7=\"\",\"\",VLOOKUP(HK54,$B$40:$D$73,2,FALSE))","v":""},null,null,null,null,{"$f":"GQ54","v":0},{"$f":"IF(HF54=\"\",\"\",VLOOKUP(HK54,$B$40:$D$73,3,FALSE))","v":""},"得点",null,null,{"$f":"IF(HS54=\"\",\"\",HP53)","v":""},{"$f":"HQ53+1","v":2},null,null,{"$f":"IF(HW54=\"\",\"\",HT53)","v":""},{"$f":"HU53+1","v":16},null,null,"打者",null,{"$f":"IF($C$7=\"\",\"\",VLOOKUP(IE54,$B$40:$D$73,2,FALSE))","v":""},null,null,null,null,{"$f":"HK54","v":0},{"$f":"IF(HZ54=\"\",\"\",VLOOKUP(IE54,$B$40:$D$73,3,FALSE))","v":""},"得点",null,null,{"$f":"IF(IM54=\"\",\"\",IJ53)","v":""},{"$f":"IK53+1","v":2},null,null,{"$f":"IF(IQ54=\"\",\"\",IN53)","v":""},{"$f":"IO53+1","v":16}]
[null,"",null,null,null,null,null,null,null,null,null,{"$f":"IF(S53=\"\",\"\",S53)","v":""},{"$f":"L55","v":""},{"$f":"M55","v":""},{"$f":"N55","v":""},{"$f":"O55","v":""},{"$f":"P55","v":""},{"$f":"Q55","v":""},{"$f":"R55","v":""},{"$f":"S55","v":""},{"$f":"T55","v":""},{"$f":"U55","v":""},null,{"$f":"IF(AA55=\"\",\"\",X54)","v":""},{"$f":"Y54+1","v":3},null,null,"",17,null,null,{"$f":"IF(AM53=\"\",\"\",AM53)","v":""},{"$f":"AF55","v":""},{"$f":"AG55","v":""},{"$f":"AH55","v":""},{"$f":"AI55","v":""},{"$f":"AJ55","v":""},{"$f":"AK55","v":""},{"$f":"AL55","v":""},{"$f":"AM55","v":""},{"$f":"AN55","v":""},{"$f":"AO55","v":""},null,{"$f":"IF(AU55=\"\",\"\",AR54)","v":""},{"$f":"AS54+1","v":3},null,null,"",17,null,null,{"$f":"IF(BG53=\"\",\"\",BG53)","v":""},{"$f":"AZ55","v":""},{"$f":"BA55","v":""},{"$f":"BB55","v":""},{"$f":"BC55","v":""},{"$f":"BD55","v":""},{"$f":"BE55","v":""},{"$f":"BF55","v":""},{"$f":"BG55","v":""},{"$f":"BH55","v":""},{"$f":"BI55","v":""},null,{"$f":"IF(BO55=\"\",\"\",BL54)","v":""},{"$f":"BM54+1","v":3},null,null,"",17,null,null,{"$f":"IF(CA53=\"\",\"\",CA53)","v":""},{"$f":"BT55","v":""},{"$f":"BU55","v":""},{"$f":"BV55","v":""},{"$f":"BW55","v":""},{"$f":"BX55","v":""},{"$f":"BY55","v":""},{"$f":"BZ55","v":""},{"$f":"CA55","v":""},{"$f":"CB55","v":""},{"$f":"CC55","v":""},null,{"$f":"IF(CI55=\"\",\"\",CF54)","v":""},{"$f":"CG54+1","v":3},null,null,"",17,null,null,{"$f":"IF(CU53=\"\",\"\",CU53)","v":""},{"$f":"CN55","v":""},{"$f":"CO55","v":""},{"$f":"CP55","v":""},{"$f":"CQ55","v":""},{"$f":"CR55","v":""},{"$f":"CS55","v":""},{"$f":"CT55","v":""},{"$f":"CU55","v":""},{"$f":"CV55","v":""},{"$f":"CW55","v":""},null,{"$f":"IF(DC55=\"\",\"\",CZ54)","v":""},{"$f":"DA54+1","v":3},null,null,"",17,null,null,{"$f":"IF(DO53=\"\",\"\",DO53)","v":""},{"$f":"DH55","v":""},{"$f":"DI55","v":""},{"$f":"DJ55","v":""},{"$f":"DK55","v":""},{"$f":"DL55","v":""},{"$f":"DM55","v":""},{"$f":"DN55","v":""},{"$f":"DO55","v":""},{"$f":"DP55","v":""},{"$f":"DQ55","v":""},null,{"$f":"IF(DW55=\"\",\"\",DT54)","v":""},{"$f":"DU54+1","v":3},null,null,"",17,null,null,{"$f":"IF(EI53=\"\",\"\",EI53)","v":""},{"$f":"EB55","v":""},{"$f":"EC55","v":""},{"$f":"ED55","v":""},{"$f":"EE55","v":""},{"$f":"EF55","v":""},{"$f":"EG55","v":""},{"$f":"EH55","v":""},{"$f":"EI55","v":""},{"$f":"EJ55","v":""},{"$f":"EK55","v":""},null,{"$f":"IF(EQ55=\"\",\"\",EN54)","v":""},{"$f":"EO54+1","v":3},null,null,"",17,null,null,{"$f":"IF(FC53=\"\",\"\",FC53)","v":""},{"$f":"EV55","v":""},{"$f":"EW55","v":""},{"$f":"EX55","v":""},{"$f":"EY55","v":""},{"$f":"EZ55","v":""},{"$f":"FA55","v":""},{"$f":"FB55","v":""},{"$f":"FC55","v":""},{"$f":"FD55","v":""},{"$f":"FE55","v":""},null,{"$f":"IF(FK55=\"\",\"\",FH54)","v":""},{"$f":"FI54+1","v":3},null,null,"",17,null,null,{"$f":"IF(FW53=\"\",\"\",FW53)","v":""},{"$f":"FP55","v":""},{"$f":"FQ55","v":""},{"$f":"FR55","v":""},{"$f":"FS55","v":""},{"$f":"FT55","v":""},{"$f":"FU55","v":""},{"$f":"FV55","v":""},{"$f":"FW55","v":""},{"$f":"FX55","v":""},{"$f":"FY55","v":""},null,{"$f":"IF(GE55=\"\",\"\",GB54)","v":""},{"$f":"GC54+1","v":3},null,null,"",17,null,null,{"$f":"IF(GQ53=\"\",\"\",GQ53)","v":""},{"$f":"GJ55","v":""},{"$f":"GK55","v":""},{"$f":"GL55","v":""},{"$f":"GM55","v":""},{"$f":"GN55","v":""},{"$f":"GO55","v":""},{"$f":"GP55","v":""},{"$f":"GQ55","v":""},{"$f":"GR55","v":""},{"$f":"GS55","v":""},null,{"$f":"IF(GY55=\"\",\"\",GV54)","v":""},{"$f":"GW54+1","v":3},null,null,"",17,null,null,{"$f":"IF(HK53=\"\",\"\",HK53)","v":""},{"$f":"HD55","v":""},{"$f":"HE55","v":""},{"$f":"HF55","v":""},{"$f":"HG55","v":""},{"$f":"HH55","v":""},{"$f":"HI55","v":""},{"$f":"HJ55","v":""},{"$f":"HK55","v":""},{"$f":"HL55","v":""},{"$f":"HM55","v":""},null,{"$f":"IF(HS55=\"\",\"\",HP54)","v":""},{"$f":"HQ54+1","v":3},null,null,"",17,null,null,{"$f":"IF(IE53=\"\",\"\",IE53)","v":""},{"$f":"HX55","v":""},{"$f":"HY55","v":""},{"$f":"HZ55","v":""},{"$f":"IA55","v":""},{"$f":"IB55","v":""},{"$f":"IC55","v":""},{"$f":"ID55","v":""},{"$f":"IE55","v":""},{"$f":"IF55","v":""},{"$f":"IG55","v":""},null,{"$f":"IF(IM55=\"\",\"\",IJ54)","v":""},{"$f":"IK54+1","v":3},null,null,"",17]
[null,"",null,null,null,null,null,null,null,null,null,null,"O","O","O","O","M","M","I","I","I","I",null,"",null,null,null,"",18,null,null,null,"O","O","O","O","M","M","I","I","I","I",null,"",4,null,null,"",18,null,null,null,"O","O","O","O","M","M","I","I","I","I",null,"",4,null,null,"",18,null,null,null,"O","O","O","O","M","M","I","I","I","I",null,"",4,null,null,"",18,null,null,null,"O","O","O","O","M","M","I","I","I","I",null,"",4,null,null,"",18,null,null,null,"O","O","O","O","M","M","I","I","I","I",null,"",4,null,null,"",18,null,null,null,"O","O","O","O","M","M","I","I","I","I",null,"",4,null,null,"",18,null,null,null,"O","O","O","O","M","M","I","I","I","I",null,"",4,null,null,"",18,null,null,null,"O","O","O","O","M","M","I","I","I","I",null,"",4,null,null,"",18,null,null,null,"O","O","O","O","M","M","I","I","I","I",null,"",4,null,null,"",18,null,null,null,"O","O","O","O","M","M","I","I","I","I",null,"",4,null,null,"",18,null,null,null,"O","O","O","O","M","M","I","I","I","I",null,"",4,null,null,"",18]
[null,"",null,null,null,null,null,null,null,null,null,null,null,null,null,null,null,null,null,null,null,null,null,"",1,null,null,"",19,null,null,null,null,null,null,null,null,null,null,null,null,null,null,"",5,null,null,"",19,null,null,null,null,null,null,null,null,null,null,null,null,null,null,"",5,null,null,"",19,null,null,null,null,null,null,null,null,null,null,null,null,null,null,"",5,null,null,"",19,null,null,null,null,null,null,null,null,null,null,null,null,null,null,"",5,null,null,"",19,null,null,null,null,null,null,null,null,null,null,null,null,null,null,"",5,null,null,"",19,null,null,null,null,null,null,null,null,null,null,null,null,null,null,"",5,null,null,"",19,null,null,null,null,null,null,null,null,null,null,null,null,null,null,"",5,null,null,"",19,null,null,null,null,null,null,null,null,null,null,null,null,null,null,"",5,null,null,"",19,null,null,null,null,null,null,null,null,null,null,null,null,null,null,"",5,null,null,"",19,null,null,null,null,null,null,null,null,null,null,null,null,null,null,"",5,null,null,"",19,null,null,null,null,null,null,null,null,null,null,null,null,null,null,"",5,null,null,"",19]
[null,"",null,null,null,null,null,null,null,null,null,null,null,null,null,null,null,null,null,null,null,null,null,"",2,null,null,"",20,null,null,null,null,null,null,null,null,null,null,null,null,null,null,"",6,null,null,"",20,null,null,null,null,null,null,null,null,null,null,null,null,null,null,"",6,null,null,"",20,null,null,null,null,null,null,null,null,null,null,null,null,null,null,"",6,null,null,"",20,null,null,null,null,null,null,null,null,null,null,null,null,null,null,"",6,null,null,"",20,null,null,null,null,null,null,null,null,null,null,null,null,null,null,"",6,null,null,"",20,null,null,null,null,null,null,null,null,null,null,null,null,null,null,"",6,null,null,"",20,null,null,null,null,null,null,null,null,null,null,null,null,null,null,"",6,null,null,"",20,null,null,null,null,null,null,null,null,null,null,null,null,null,null,"",6,null,null,"",20,null,null,null,null,null,null,null,null,null,null,null,null,null,null,"",6,null,null,"",20,null,null,null,null,null,null,null,null,null,null,null,null,null,null,"",6,null,null,"",20,null,null,null,null,null,null,null,null,null,null,null,null,null,null,"",6,null,null,"",20]
[null,"",null,null,null,null,null,null,null,null,null,null,null,null,null,null,null,null,null,null,null,null,null,"",3,null,null,"",21,null,null,null,null,null,null,null,null,null,null,null,null,null,null,"",7,null,null,"",21,null,null,null,null,null,null,null,null,null,null,null,null,null,null,"",7,null,null,"",21,null,null,null,null,null,null,null,null,null,null,null,null,null,null,"",7,null,null,"",21,null,null,null,null,null,null,null,null,null,null,null,null,null,null,"",7,null,null,"",21,null,null,null,null,null,null,null,null,null,null,null,null,null,null,"",7,null,null,"",21,null,null,null,null,null,null,null,null,null,null,null,null,null,null,"",7,null,null,"",21,null,null,null,null,null,null,null,null,null,null,null,null,null,null,"",7,null,null,"",21,null,null,null,null,null,null,null,null,null,null,null,null,null,null,"",7,null,null,"",21,null,null,null,null,null,null,null,null,null,null,null,null,null,null,"",7,null,null,"",21,null,null,null,null,null,null,null,null,null,null,null,null,null,null,"",7,null,null,"",21,null,null,null,null,null,null,null,null,null,null,null,null,null,null,"",7,null,null,"",21]
[null,"",null,null,null,null,null,null,null,null,null,null,null,null,null,null,null,null,null,null,null,null,null,"",4,null,null,"",22,null,null,null,null,null,null,null,null,null,null,null,null,null,null,"",8,null,null,"",22,null,null,null,null,null,null,null,null,null,null,null,null,null,null,"",8,null,null,"",22,null,null,null,null,null,null,null,null,null,null,null,null,null,null,"",8,null,null,"",22,null,null,null,null,null,null,null,null,null,null,null,null,null,null,"",8,null,null,"",22,null,null,null,null,null,null,null,null,null,null,null,null,null,null,"",8,null,null,"",22,null,null,null,null,null,null,null,null,null,null,null,null,null,null,"",8,null,null,"",22,null,null,null,null,null,null,null,null,null,null,null,null,null,null,"",8,null,null,"",22,null,null,null,null,null,null,null,null,null,null,null,null,null,null,"",8,null,null,"",22,null,null,null,null,null,null,null,null,null,null,null,null,null,null,"",8,null,null,"",22,null,null,null,null,null,null,null,null,null,null,null,null,null,null,"",8,null,null,"",22,null,null,null,null,null,null,null,null,null,null,null,null,null,null,"",8,null,null,"",22]
[null,"",null,null,"",null,null,null,null,null,null,null,null,null,null,null,null,null,null,null,null,null,null,"",5,null,null,"",23,null,null,null,null,null,null,null,null,null,null,null,null,null,null,"",9,null,null,"",23,null,null,null,null,null,null,null,null,null,null,null,null,null,null,"",9,null,null,"",23,null,null,null,null,null,null,null,null,null,null,null,null,null,null,"",9,null,null,"",23,null,null,null,null,null,null,null,null,null,null,null,null,null,null,"",9,null,null,"",23,null,null,null,null,null,null,null,null,null,null,null,null,null,null,"",9,null,null,"",23,null,null,null,null,null,null,null,null,null,null,null,null,null,null,"",9,null,null,"",23,null,null,null,null,null,null,null,null,null,null,null,null,null,null,"",9,null,null,"",23,null,null,null,null,null,null,null,null,null,null,null,null,null,null,"",9,null,null,"",23,null,null,null,null,null,null,null,null,null,null,null,null,null,null,"",9,null,null,"",23,null,null,null,null,null,null,null,null,null,null,null,null,null,null,"",9,null,null,"",23,null,null,null,null,null,null,null,null,null,null,null,null,null,null,"",9,null,null,"",23]
[null,"",null,null,"",null,null,null,null,null,null,null,null,null,null,null,null,null,null,null,null,null,null,"",6,null,null,"",24,null,null,null,null,null,null,null,null,null,null,null,null,null,null,"",10,null,null,"",24,null,null,null,null,null,null,null,null,null,null,null,null,null,null,"",10,null,null,"",24,null,null,null,null,null,null,null,null,null,null,null,null,null,null,"",10,null,null,"",24,null,null,null,null,null,null,null,null,null,null,null,null,null,null,"",10,null,null,"",24,null,null,null,null,null,null,null,null,null,null,null,null,null,null,"",10,null,null,"",24,null,null,null,null,null,null,null,null,null,null,null,null,null,null,"",10,null,null,"",24,null,null,null,null,null,null,null,null,null,null,null,null,null,null,"",10,null,null,"",24,null,null,null,null,null,null,null,null,null,null,null,null,null,null,"",10,null,null,"",24,null,null,null,null,null,null,null,null,null,null,null,null,null,null,"",10,null,null,"",24,null,null,null,null,null,null,null,null,null,null,null,null,null,null,"",10,null,null,"",24,null,null,null,null,null,null,null,null,null,null,null,null,null,null,"",10,null,null,"",24]
[null,"",null,null,"",null,null,null,null,null,null,null,null,null,null,null,null,null,null,null,null,null,null,"",7,null,null,"",25,null,null,null,null,null,null,null,null,null,null,null,null,null,null,"",11,null,null,"",25,null,null,null,null,null,null,null,null,null,null,null,null,null,null,"",11,null,null,"",25,null,null,null,null,null,null,null,null,null,null,null,null,null,null,"",11,null,null,"",25,null,null,null,null,null,null,null,null,null,null,null,null,null,null,"",11,null,null,"",25,null,null,null,null,null,null,null,null,null,null,null,null,null,null,"",11,null,null,"",25,null,null,null,null,null,null,null,null,null,null,null,null,null,null,"",11,null,null,"",25,null,null,null,null,null,null,null,null,null,null,null,null,null,null,"",11,null,null,"",25,null,null,null,null,null,null,null,null,null,null,null,null,null,null,"",11,null,null,"",25,null,null,null,null,null,null,null,null,null,null,null,null,null,null,"",11,null,null,"",25,null,null,null,null,null,null,null,null,null,null,null,null,null,null,"",11,null,null,"",25,null,null,null,null,null,null,null,null,null,null,null,null,null,null,"",11,null,null,"",25]
[null,"",null,null,"",null,null,null,null,null,null,null,null,null,null,null,null,null,null,null,null,null,null,"",8,null,null,"",26,null,null,null,null,null,null,null,null,null,null,null,null,null,null,"",12,null,null,"",26,null,null,null,null,null,null,null,null,null,null,null,null,null,null,"",12,null,null,"",26,null,null,null,null,null,null,null,null,null,null,null,null,null,null,"",12,null,null,"",26,null,null,null,null,null,null,null,null,null,null,null,null,null,null,"",12,null,null,"",26,null,null,null,null,null,null,null,null,null,null,null,null,null,null,"",12,null,null,"",26,null,null,null,null,null,null,null,null,null,null,null,null,null,null,"",12,null,null,"",26,null,null,null,null,null,null,null,null,null,null,null,null,null,null,"",12,null,null,"",26,null,null,null,null,null,null,null,null,null,null,null,null,null,null,"",12,null,null,"",26,null,null,null,null,null,null,null,null,null,null,null,null,null,null,"",12,null,null,"",26,null,null,null,null,null,null,null,null,null,null,null,null,null,null,"",12,null,null,"",26,null,null,null,null,null,null,null,null,null,null,null,null,null,null,"",12,null,null,"",26]
[null,"",null,null,"",null,null,null,null,null,null,null,null,null,null,null,null,null,null,null,null,null,null,"",9,null,null,"",27,null,null,null,null,null,null,null,null,null,null,null,null,null,null,"",13,null,null,"",27,null,null,null,null,null,null,null,null,null,null,null,null,null,null,"",13,null,null,"",27,null,null,null,null,null,null,null,null,null,null,null,null,null,null,"",13,null,null,"",27,null,null,null,null,null,null,null,null,null,null,null,null,null,null,"",13,null,null,"",27,null,null,null,null,null,null,null,null,null,null,null,null,null,null,"",13,null,null,"",27,null,null,null,null,null,null,null,null,null,null,null,null,null,null,"",13,null,null,"",27,null,null,null,null,null,null,null,null,null,null,null,null,null,null,"",13,null,null,"",27,null,null,null,null,null,null,null,null,null,null,null,null,null,null,"",13,null,null,"",27,null,null,null,null,null,null,null,null,null,null,null,null,null,null,"",13,null,null,"",27,null,null,null,null,null,null,null,null,null,null,null,null,null,null,"",13,null,null,"",27,null,null,null,null,null,null,null,null,null,null,null,null,null,null,"",13,null,null,"",27]
[null,"",null,null,"",null,null,null,null,null,null,null,null,null,null,null,null,null,null,null,null,null,null,{"$f":"IF(AA66=\"\",\"\",X65)","v":""},10,null,null,"",28,null,null,null,null,null,null,null,null,null,null,null,null,null,null,{"$f":"IF(AU66=\"\",\"\",AR65)","v":""},14,null,null,"",28,null,null,null,null,null,null,null,null,null,null,null,null,null,null,{"$f":"IF(BO66=\"\",\"\",BL65)","v":""},14,null,null,"",28,null,null,null,null,null,null,null,null,null,null,null,null,null,null,{"$f":"IF(CI66=\"\",\"\",CF65)","v":""},14,null,null,"",28,null,null,null,null,null,null,null,null,null,null,null,null,null,null,{"$f":"IF(DC66=\"\",\"\",CZ65)","v":""},14,null,null,"",28,null,null,null,null,null,null,null,null,null,null,null,null,null,null,{"$f":"IF(DW66=\"\",\"\",DT65)","v":""},14,null,null,"",28,null,null,null,null,null,null,null,null,null,null,null,null,null,null,{"$f":"IF(EQ66=\"\",\"\",EN65)","v":""},14,null,null,"",28,null,null,null,null,null,null,null,null,null,null,null,null,null,null,{"$f":"IF(FK66=\"\",\"\",FH65)","v":""},14,null,null,"",28,null,null,null,null,null,null,null,null,null,null,null,null,null,null,{"$f":"IF(GE66=\"\",\"\",GB65)","v":""},14,null,null,"",28,null,null,null,null,null,null,null,null,null,null,null,null,null,null,{"$f":"IF(GY66=\"\",\"\",GV65)","v":""},14,null,null,"",28,null,null,null,null,null,null,null,null,null,null,null,null,null,null,{"$f":"IF(HS66=\"\",\"\",HP65)","v":""},14,null,null,"",28,null,null,null,null,null,null,null,null,null,null,null,null,null,null,{"$f":"IF(IM66=\"\",\"\",IJ65)","v":""},14,null,null,"",28]
[null,"",null,null,"",null,null,null,null,null,null,"⑤",null,"1回",null,null,null,null,null,null,null,null,null,"P","N","種","判","P","N","種","判","⑤",null,"2回",null,null,null,null,null,null,null,null,null,"P","N","種","判","P","N","種","判","⑤",null,"3回",null,null,null,null,null,null,null,null,null,"P","N","種","判","P","N","種","判","⑤",null,"4回",null,null,null,null,null,null,null,null,null,"P","N","種","判","P","N","種","判","⑤",null,"5回",null,null,null,null,null,null,null,null,null,"P","N","種","判","P","N","種","判","⑤",null,"6回",null,null,null,null,null,null,null,null,null,"P","N","種","判","P","N","種","判","⑤",null,"7回",null,null,null,null,null,null,null,null,null,"P","N","種","判","P","N","種","判","⑤",null,"8回",null,null,null,null,null,null,null,null,null,"P","N","種","判","P","N","種","判","⑤",null,"9回",null,null,null,null,null,null,null,null,null,"P","N","種","判","P","N","種","判","⑤",null,"10回",null,null,null,null,null,null,null,null,null,"P","N","種","判","P","N","種","判","⑤",null,"11回",null,null,null,null,null,null,null,null,null,"P","N","種","判","P","N","種","判","⑤",null,"12回",null,null,null,null,null,null,null,null,null,"P","N","種","判","P","N","種","判"]
[null,"",null,null,"",null,null,null,null,null,null,"投手",null,{"$f":"IF($C$28=\"\",\"\",VLOOKUP(S68,$B$77:$E$110,2,FALSE))","v":""},null,null,null,null,{"$f":"S53","v":""},{"$f":"IF($C$28=\"\",\"\",VLOOKUP(S68,$A$28:$D$35,4,FALSE))","v":""},"結果",null,null,{"$f":"IF(AA68=\"\",\"\",S68)","v":""},1,null,null,{"$f":"IF(AE68=\"\",\"\",S68)","v":""},15,null,null,"投手",null,{"$f":"IF($C$28=\"\",\"\",VLOOKUP(AM68,$B$77:$E$110,2,FALSE))","v":""},null,null,null,null,{"$f":"AM53","v":""},{"$f":"IF($C$28=\"\",\"\",VLOOKUP(AM68,$A$28:$D$35,4,FALSE))","v":""},"結果",null,null,{"$f":"IF(AU68=\"\",\"\",AM68)","v":""},1,null,null,{"$f":"IF(AY68=\"\",\"\",AM68)","v":""},15,null,null,"投手",null,{"$f":"IF($C$28=\"\",\"\",VLOOKUP(BG68,$B$77:$E$110,2,FALSE))","v":""},null,null,null,null,{"$f":"BG53","v":""},{"$f":"IF($C$28=\"\",\"\",VLOOKUP(BG68,$A$28:$D$35,4,FALSE))","v":""},"結果",null,null,{"$f":"IF(BO68=\"\",\"\",BG68)","v":""},1,null,null,{"$f":"IF(BS68=\"\",\"\",BG68)","v":""},15,null,null,"投手",null,{"$f":"IF($C$28=\"\",\"\",VLOOKUP(CA68,$B$77:$E$110,2,FALSE))","v":""},null,null,null,null,{"$f":"CA53","v":""},{"$f":"IF($C$28=\"\",\"\",VLOOKUP(CA68,$A$28:$D$35,4,FALSE))","v":""},"結果",null,null,{"$f":"IF(CI68=\"\",\"\",CA68)","v":""},1,null,null,{"$f":"IF(CM68=\"\",\"\",CA68)","v":""},15,null,null,"投手",null,{"$f":"IF($C$28=\"\",\"\",VLOOKUP(CU68,$B$77:$E$110,2,FALSE))","v":""},null,null,null,null,{"$f":"CU53","v":""},{"$f":"IF($C$28=\"\",\"\",VLOOKUP(CU68,$A$28:$D$35,4,FALSE))","v":""},"結果",null,null,{"$f":"IF(DC68=\"\",\"\",CU68)","v":""},1,null,null,{"$f":"IF(DG68=\"\",\"\",CU68)","v":""},15,null,null,"投手",null,{"$f":"IF($C$28=\"\",\"\",VLOOKUP(DO68,$B$77:$E$110,2,FALSE))","v":""},null,null,null,null,{"$f":"DO53","v":""},{"$f":"IF($C$28=\"\",\"\",VLOOKUP(DO68,$A$28:$D$35,4,FALSE))","v":""},"結果",null,null,{"$f":"IF(DW68=\"\",\"\",DO68)","v":""},1,null,null,{"$f":"IF(EA68=\"\",\"\",DO68)","v":""},15,null,null,"投手",null,{"$f":"IF($C$28=\"\",\"\",VLOOKUP(EI68,$B$77:$E$110,2,FALSE))","v":""},null,null,null,null,{"$f":"EI53","v":""},{"$f":"IF($C$28=\"\",\"\",VLOOKUP(EI68,$A$28:$D$35,4,FALSE))","v":""},"結果",null,null,{"$f":"IF(EQ68=\"\",\"\",EI68)","v":""},1,null,null,{"$f":"IF(EU68=\"\",\"\",EI68)","v":""},15,null,null,"投手",null,{"$f":"IF($C$28=\"\",\"\",VLOOKUP(FC68,$B$77:$E$110,2,FALSE))","v":""},null,null,null,null,{"$f":"FC53","v":""},{"$f":"IF($C$28=\"\",\"\",VLOOKUP(FC68,$A$28:$D$35,4,FALSE))","v":""},"結果",null,null,{"$f":"IF(FK68=\"\",\"\",FC68)","v":""},1,null,null,{"$f":"IF(FO68=\"\",\"\",FC68)","v":""},15,null,null,"投手",null,{"$f":"IF($C$28=\"\",\"\",VLOOKUP(FW68,$B$77:$E$110,2,FALSE))","v":""},null,null,null,null,{"$f":"FW53","v":""},{"$f":"IF($C$28=\"\",\"\",VLOOKUP(FW68,$A$28:$D$35,4,FALSE))","v":""},"結果",null,null,{"$f":"IF(GE68=\"\",\"\",FW68)","v":""},1,null,null,{"$f":"IF(GI68=\"\",\"\",FW68)","v":""},15,null,null,"投手",null,{"$f":"IF($C$28=\"\",\"\",VLOOKUP(GQ68,$B$77:$E$110,2,FALSE))","v":""},null,null,null,null,{"$f":"GQ53","v":""},{"$f":"IF($C$28=\"\",\"\",VLOOKUP(GQ68,$A$28:$D$35,4,FALSE))","v":""},"結果",null,null,{"$f":"IF(GY68=\"\",\"\",GQ68)","v":""},1,null,null,{"$f":"IF(HC68=\"\",\"\",GQ68)","v":""},15,null,null,"投手",null,{"$f":"IF($C$28=\"\",\"\",VLOOKUP(HK68,$B$77:$E$110,2,FALSE))","v":""},null,null,null,null,{"$f":"HK53","v":""},{"$f":"IF($C$28=\"\",\"\",VLOOKUP(HK68,$A$28:$D$35,4,FALSE))","v":""},"結果",null,null,{"$f":"IF(HS68=\"\",\"\",HK68)","v":""},1,null,null,{"$f":"IF(HW68=\"\",\"\",HK68)","v":""},15,null,null,"投手",null,{"$f":"IF($C$28=\"\",\"\",VLOOKUP(IE68,$B$77:$E$110,2,FALSE))","v":""},null,null,null,null,{"$f":"IE53","v":""},{"$f":"IF($C$28=\"\",\"\",VLOOKUP(IE68,$A$28:$D$35,4,FALSE))","v":""},"結果",null,null,{"$f":"IF(IM68=\"\",\"\",IE68)","v":""},1,null,null,{"$f":"IF(IQ68=\"\",\"\",IE68)","v":""},15]
[null,"",null,null,"",null,null,null,null,null,null,"打者",null,{"$f":"IF($C$7=\"\",\"\",VLOOKUP(S69,$B$40:$D$73,2,FALSE))","v":""},null,null,null,null,{"$f":"E11","v":0},{"$f":"IF(N69=\"\",\"\",VLOOKUP(S69,$B$40:$D$73,3,FALSE))","v":""},"得点",null,null,{"$f":"IF(AA69=\"\",\"\",X68)","v":""},{"$f":"Y68+1","v":2},null,null,{"$f":"IF(AE69=\"\",\"\",AB68)","v":""},{"$f":"AC68+1","v":16},null,null,"打者",null,{"$f":"IF($C$7=\"\",\"\",VLOOKUP(AM69,$B$40:$D$73,2,FALSE))","v":""},null,null,null,null,{"$f":"S69","v":0},{"$f":"IF(AH69=\"\",\"\",VLOOKUP(AM69,$B$40:$D$73,3,FALSE))","v":""},"得点",null,null,{"$f":"IF(AU69=\"\",\"\",AR68)","v":""},{"$f":"AS68+1","v":2},null,null,{"$f":"IF(AY69=\"\",\"\",AV68)","v":""},{"$f":"AW68+1","v":16},null,null,"打者",null,{"$f":"IF($C$7=\"\",\"\",VLOOKUP(BG69,$B$40:$D$73,2,FALSE))","v":""},null,null,null,null,{"$f":"AM69","v":0},{"$f":"IF(BB69=\"\",\"\",VLOOKUP(BG69,$B$40:$D$73,3,FALSE))","v":""},"得点",null,null,{"$f":"IF(BO69=\"\",\"\",BL68)","v":""},{"$f":"BM68+1","v":2},null,null,{"$f":"IF(BS69=\"\",\"\",BP68)","v":""},{"$f":"BQ68+1","v":16},null,null,"打者",null,{"$f":"IF($C$7=\"\",\"\",VLOOKUP(CA69,$B$40:$D$73,2,FALSE))","v":""},null,null,null,null,{"$f":"BG69","v":0},{"$f":"IF(BV69=\"\",\"\",VLOOKUP(CA69,$B$40:$D$73,3,FALSE))","v":""},null,null,null,{"$f":"IF(CI69=\"\",\"\",CF68)","v":""},{"$f":"CG68+1","v":2},null,null,{"$f":"IF(CM69=\"\",\"\",CJ68)","v":""},{"$f":"CK68+1","v":16},null,null,"打者",null,{"$f":"IF($C$7=\"\",\"\",VLOOKUP(CU69,$B$40:$D$73,2,FALSE))","v":""},null,null,null,null,{"$f":"CA69","v":0},{"$f":"IF(CP69=\"\",\"\",VLOOKUP(CU69,$B$40:$D$73,3,FALSE))","v":""},null,null,null,{"$f":"IF(DC69=\"\",\"\",CZ68)","v":""},{"$f":"DA68+1","v":2},null,null,{"$f":"IF(DG69=\"\",\"\",DD68)","v":""},{"$f":"DE68+1","v":16},null,null,"打者",null,{"$f":"IF($C$7=\"\",\"\",VLOOKUP(DO69,$B$40:$D$73,2,FALSE))","v":""},null,null,null,null,{"$f":"CU69","v":0},{"$f":"IF(DJ69=\"\",\"\",VLOOKUP(DO69,$B$40:$D$73,3,FALSE))","v":""},"得点",null,null,{"$f":"IF(DW69=\"\",\"\",DT68)","v":""},{"$f":"DU68+1","v":2},null,null,{"$f":"IF(EA69=\"\",\"\",DX68)","v":""},{"$f":"DY68+1","v":16},null,null,"打者",null,{"$f":"IF($C$7=\"\",\"\",VLOOKUP(EI69,$B$40:$D$73,2,FALSE))","v":""},null,null,null,null,{"$f":"DO69","v":0},{"$f":"IF(ED69=\"\",\"\",VLOOKUP(EI69,$B$40:$D$73,3,FALSE))","v":""},"得点",null,null,{"$f":"IF(EQ69=\"\",\"\",EN68)","v":""},{"$f":"EO68+1","v":2},null,null,{"$f":"IF(EU69=\"\",\"\",ER68)","v":""},{"$f":"ES68+1","v":16},null,null,"打者",null,{"$f":"IF($C$7=\"\",\"\",VLOOKUP(FC69,$B$40:$D$73,2,FALSE))","v":""},null,null,null,null,{"$f":"EI69","v":0},{"$f":"IF(EX69=\"\",\"\",VLOOKUP(FC69,$B$40:$D$73,3,FALSE))","v":""},"得点",null,null,{"$f":"IF(FK69=\"\",\"\",FH68)","v":""},{"$f":"FI68+1","v":2},null,null,{"$f":"IF(FO69=\"\",\"\",FL68)","v":""},{"$f":"FM68+1","v":16},null,null,"打者",null,{"$f":"IF($C$7=\"\",\"\",VLOOKUP(FW69,$B$40:$D$73,2,FALSE))","v":""},null,null,null,null,{"$f":"FC69","v":0},{"$f":"IF(FR69=\"\",\"\",VLOOKUP(FW69,$B$40:$D$73,3,FALSE))","v":""},"得点",null,null,{"$f":"IF(GE69=\"\",\"\",GB68)","v":""},{"$f":"GC68+1","v":2},null,null,{"$f":"IF(GI69=\"\",\"\",GF68)","v":""},{"$f":"GG68+1","v":16},null,null,"打者",null,{"$f":"IF($C$7=\"\",\"\",VLOOKUP(GQ69,$B$40:$D$73,2,FALSE))","v":""},null,null,null,null,{"$f":"FW69","v":0},{"$f":"IF(GL69=\"\",\"\",VLOOKUP(GQ69,$B$40:$D$73,3,FALSE))","v":""},"得点",null,null,{"$f":"IF(GY69=\"\",\"\",GV68)","v":""},{"$f":"GW68+1","v":2},null,null,{"$f":"IF(HC69=\"\",\"\",GZ68)","v":""},{"$f":"HA68+1","v":16},null,null,"打者",null,{"$f":"IF($C$7=\"\",\"\",VLOOKUP(HK69,$B$40:$D$73,2,FALSE))","v":""},null,null,null,null,{"$f":"GQ69","v":0},{"$f":"IF(HF69=\"\",\"\",VLOOKUP(HK69,$B$40:$D$73,3,FALSE))","v":""},"得点",null,null,{"$f":"IF(HS69=\"\",\"\",HP68)","v":""},{"$f":"HQ68+1","v":2},null,null,{"$f":"IF(HW69=\"\",\"\",HT68)","v":""},{"$f":"HU68+1","v":16},null,null,"打者",null,{"$f":"IF($C$7=\"\",\"\",VLOOKUP(IE69,$B$40:$D$73,2,FALSE))","v":""},null,null,null,null,{"$f":"HK69","v":0},{"$f":"IF(HZ69=\"\",\"\",VLOOKUP(IE69,$B$40:$D$73,3,FALSE))","v":""},"得点",null,null,{"$f":"IF(IM69=\"\",\"\",IJ68)","v":""},{"$f":"IK68+1","v":2},null,null,{"$f":"IF(IQ69=\"\",\"\",IN68)","v":""},{"$f":"IO68+1","v":16}]
[null,"",null,null,"",null,null,null,null,null,null,{"$f":"IF(S68=\"\",\"\",S68)","v":""},{"$f":"L70","v":""},{"$f":"M70","v":""},{"$f":"N70","v":""},{"$f":"O70","v":""},{"$f":"P70","v":""},{"$f":"Q70","v":""},{"$f":"R70","v":""},{"$f":"S70","v":""},{"$f":"T70","v":""},{"$f":"U70","v":""},null,{"$f":"IF(AA70=\"\",\"\",X69)","v":""},{"$f":"Y69+1","v":3},null,null,"",17,null,null,{"$f":"IF(AM68=\"\",\"\",AM68)","v":""},{"$f":"AF70","v":""},{"$f":"AG70","v":""},{"$f":"AH70","v":""},{"$f":"AI70","v":""},{"$f":"AJ70","v":""},{"$f":"AK70","v":""},{"$f":"AL70","v":""},{"$f":"AM70","v":""},{"$f":"AN70","v":""},{"$f":"AO70","v":""},null,{"$f":"IF(AU70=\"\",\"\",AR69)","v":""},{"$f":"AS69+1","v":3},null,null,"",17,null,null,{"$f":"IF(BG68=\"\",\"\",BG68)","v":""},{"$f":"AZ70","v":""},{"$f":"BA70","v":""},{"$f":"BB70","v":""},{"$f":"BC70","v":""},{"$f":"BD70","v":""},{"$f":"BE70","v":""},{"$f":"BF70","v":""},{"$f":"BG70","v":""},{"$f":"BH70","v":""},{"$f":"BI70","v":""},null,{"$f":"IF(BO70=\"\",\"\",BL69)","v":""},{"$f":"BM69+1","v":3},null,null,"",17,null,null,{"$f":"IF(CA68=\"\",\"\",CA68)","v":""},{"$f":"BT70","v":""},{"$f":"BU70","v":""},{"$f":"BV70","v":""},{"$f":"BW70","v":""},{"$f":"BX70","v":""},{"$f":"BY70","v":""},{"$f":"BZ70","v":""},{"$f":"CA70","v":""},{"$f":"CB70","v":""},{"$f":"CC70","v":""},null,{"$f":"IF(CI70=\"\",\"\",CF69)","v":""},{"$f":"CG69+1","v":3},null,null,"",17,null,null,{"$f":"IF(CU68=\"\",\"\",CU68)","v":""},{"$f":"CN70","v":""},{"$f":"CO70","v":""},{"$f":"CP70","v":""},{"$f":"CQ70","v":""},{"$f":"CR70","v":""},{"$f":"CS70","v":""},{"$f":"CT70","v":""},{"$f":"CU70","v":""},{"$f":"CV70","v":""},{"$f":"CW70","v":""},null,{"$f":"IF(DC70=\"\",\"\",CZ69)","v":""},{"$f":"DA69+1","v":3},null,null,"",17,null,null,{"$f":"IF(DO68=\"\",\"\",DO68)","v":""},{"$f":"DH70","v":""},{"$f":"DI70","v":""},{"$f":"DJ70","v":""},{"$f":"DK70","v":""},{"$f":"DL70","v":""},{"$f":"DM70","v":""},{"$f":"DN70","v":""},{"$f":"DO70","v":""},{"$f":"DP70","v":""},{"$f":"DQ70","v":""},null,{"$f":"IF(DW70=\"\",\"\",DT69)","v":""},{"$f":"DU69+1","v":3},null,null,"",17,null,null,{"$f":"IF(EI68=\"\",\"\",EI68)","v":""},{"$f":"EB70","v":""},{"$f":"EC70","v":""},{"$f":"ED70","v":""},{"$f":"EE70","v":""},{"$f":"EF70","v":""},{"$f":"EG70","v":""},{"$f":"EH70","v":""},{"$f":"EI70","v":""},{"$f":"EJ70","v":""},{"$f":"EK70","v":""},null,{"$f":"IF(EQ70=\"\",\"\",EN69)","v":""},{"$f":"EO69+1","v":3},null,null,"",17,null,null,{"$f":"IF(FC68=\"\",\"\",FC68)","v":""},{"$f":"EV70","v":""},{"$f":"EW70","v":""},{"$f":"EX70","v":""},{"$f":"EY70","v":""},{"$f":"EZ70","v":""},{"$f":"FA70","v":""},{"$f":"FB70","v":""},{"$f":"FC70","v":""},{"$f":"FD70","v":""},{"$f":"FE70","v":""},null,{"$f":"IF(FK70=\"\",\"\",FH69)","v":""},{"$f":"FI69+1","v":3},null,null,"",17,null,null,{"$f":"IF(FW68=\"\",\"\",FW68)","v":""},{"$f":"FP70","v":""},{"$f":"FQ70","v":""},{"$f":"FR70","v":""},{"$f":"FS70","v":""},{"$f":"FT70","v":""},{"$f":"FU70","v":""},{"$f":"FV70","v":""},{"$f":"FW70","v":""},{"$f":"FX70","v":""},{"$f":"FY70","v":""},null,{"$f":"IF(GE70=\"\",\"\",GB69)","v":""},{"$f":"GC69+1","v":3},null,null,"",17,null,null,{"$f":"IF(GQ68=\"\",\"\",GQ68)","v":""},{"$f":"GJ70","v":""},{"$f":"GK70","v":""},{"$f":"GL70","v":""},{"$f":"GM70","v":""},{"$f":"GN70","v":""},{"$f":"GO70","v":""},{"$f":"GP70","v":""},{"$f":"GQ70","v":""},{"$f":"GR70","v":""},{"$f":"GS70","v":""},null,{"$f":"IF(GY70=\"\",\"\",GV69)","v":""},{"$f":"GW69+1","v":3},null,null,"",17,null,null,{"$f":"IF(HK68=\"\",\"\",HK68)","v":""},{"$f":"HD70","v":""},{"$f":"HE70","v":""},{"$f":"HF70","v":""},{"$f":"HG70","v":""},{"$f":"HH70","v":""},{"$f":"HI70","v":""},{"$f":"HJ70","v":""},{"$f":"HK70","v":""},{"$f":"HL70","v":""},{"$f":"HM70","v":""},null,{"$f":"IF(HS70=\"\",\"\",HP69)","v":""},{"$f":"HQ69+1","v":3},null,null,"",17,null,null,{"$f":"IF(IE68=\"\",\"\",IE68)","v":""},{"$f":"HX70","v":""},{"$f":"HY70","v":""},{"$f":"HZ70","v":""},{"$f":"IA70","v":""},{"$f":"IB70","v":""},{"$f":"IC70","v":""},{"$f":"ID70","v":""},{"$f":"IE70","v":""},{"$f":"IF70","v":""},{"$f":"IG70","v":""},null,{"$f":"IF(IM70=\"\",\"\",IJ69)","v":""},{"$f":"IK69+1","v":3},null,null,"",17]
[null,"",null,null,"",null,null,null,null,null,null,null,"O","O","O","O","M","M","I","I","I","I",null,"",4,null,null,"",18,null,null,null,"O","O","O","O","M","M","I","I","I","I",null,"",4,null,null,"",18,null,null,null,"O","O","O","O","M","M","I","I","I","I",null,"",4,null,null,"",18,null,null,null,"O","O","O","O","M","M","I","I","I","I",null,"",4,null,null,"",18,null,null,null,"O","O","O","O","M","M","I","I","I","I",null,"",4,null,null,"",18,null,null,null,"O","O","O","O","M","M","I","I","I","I",null,"",4,null,null,"",18,null,null,null,"O","O","O","O","M","M","I","I","I","I",null,"",4,null,null,"",18,null,null,null,"O","O","O","O","M","M","I","I","I","I",null,"",4,null,null,"",18,null,null,null,"O","O","O","O","M","M","I","I","I","I",null,"",4,null,null,"",18,null,null,null,"O","O","O","O","M","M","I","I","I","I",null,"",4,null,null,"",18,null,null,null,"O","O","O","O","M","M","I","I","I","I",null,"",4,null,null,"",18,null,null,null,"O","O","O","O","M","M","I","I","I","I",null,"",4,null,null,"",18]
[null,"",null,null,"",null,null,null,null,null,null,null,null,null,null,null,null,null,null,null,null,null,null,"",5,null,null,"",19,null,null,null,null,null,null,null,null,null,null,null,null,null,null,"",5,null,null,"",19,null,null,null,null,null,null,null,null,null,null,null,null,null,null,"",5,null,null,"",19,null,null,null,null,null,null,null,null,null,null,null,null,null,null,"",5,null,null,"",19,null,null,null,null,null,null,null,null,null,null,null,null,null,null,"",5,null,null,"",19,null,null,null,null,null,null,null,null,null,null,null,null,null,null,"",5,null,null,"",19,null,null,null,null,null,null,null,null,null,null,null,null,null,null,"",5,null,null,"",19,null,null,null,null,null,null,null,null,null,null,null,null,null,null,"",5,null,null,"",19,null,null,null,null,null,null,null,null,null,null,null,null,null,null,"",5,null,null,"",19,null,null,null,null,null,null,null,null,null,null,null,null,null,null,"",5,null,null,"",19,null,null,null,null,null,null,null,null,null,null,null,null,null,null,"",5,null,null,"",19,null,null,null,null,null,null,null,null,null,null,null,null,null,null,"",5,null,null,"",19]
[null,"",null,null,"",null,null,null,null,null,null,null,null,null,null,null,null,null,null,null,null,null,null,"",6,null,null,"",20,null,null,null,null,null,null,null,null,null,null,null,null,null,null,"",6,null,null,"",20,null,null,null,null,null,null,null,null,null,null,null,null,null,null,"",6,null,null,"",20,null,null,null,null,null,null,null,null,null,null,null,null,null,null,"",6,null,null,"",20,null,null,null,null,null,null,null,null,null,null,null,null,null,null,"",6,null,null,"",20,null,null,null,null,null,null,null,null,null,null,null,null,null,null,"",6,null,null,"",20,null,null,null,null,null,null,null,null,null,null,null,null,null,null,"",6,null,null,"",20,null,null,null,null,null,null,null,null,null,null,null,null,null,null,"",6,null,null,"",20,null,null,null,null,null,null,null,null,null,null,null,null,null,null,"",6,null,null,"",20,null,null,null,null,null,null,null,null,null,null,null,null,null,null,"",6,null,null,"",20,null,null,null,null,null,null,null,null,null,null,null,null,null,null,"",6,null,null,"",20,null,null,null,null,null,null,null,null,null,null,null,null,null,null,"",6,null,null,"",20]
[null,"守備T登録選手",null,null,null,null,null,null,null,null,null,null,null,null,null,null,null,null,null,null,null,null,null,"",7,null,null,"",21,null,null,null,null,null,null,null,null,null,null,null,null,null,null,"",7,null,null,"",21,null,null,null,null,null,null,null,null,null,null,null,null,null,null,"",7,null,null,"",21,null,null,null,null,null,null,null,null,null,null,null,null,null,null,"",7,null,null,"",21,null,null,null,null,null,null,null,null,null,null,null,null,null,null,"",7,null,null,"",21,null,null,null,null,null,null,null,null,null,null,null,null,null,null,"",7,null,null,"",21,null,null,null,null,null,null,null,null,null,null,null,null,null,null,"",7,null,null,"",21,null,null,null,null,null,null,null,null,null,null,null,null,null,null,"",7,null,null,"",21,null,null,null,null,null,null,null,null,null,null,null,null,null,null,"",7,null,null,"",21,null,null,null,null,null,null,null,null,null,null,null,null,null,null,"",7,null,null,"",21,null,null,null,null,null,null,null,null,null,null,null,null,null,null,"",7,null,null,"",21,null,null,null,null,null,null,null,null,null,null,null,null,null,null,"",7,null,null,"",21]
[null,null,null,null,null,null,null,null,null,null,null,null,null,null,null,null,null,null,null,null,null,null,null,"",8,null,null,"",22,null,null,null,null,null,null,null,null,null,null,null,null,null,null,"",8,null,null,"",22,null,null,null,null,null,null,null,null,null,null,null,null,null,null,"",8,null,null,"",22,null,null,null,null,null,null,null,null,null,null,null,null,null,null,"",8,null,null,"",22,null,null,null,null,null,null,null,null,null,null,null,null,null,null,"",8,null,null,"",22,null,null,null,null,null,null,null,null,null,null,null,null,null,null,"",8,null,null,"",22,null,null,null,null,null,null,null,null,null,null,null,null,null,null,"",8,null,null,"",22,null,null,null,null,null,null,null,null,null,null,null,null,null,null,"",8,null,null,"",22,null,null,null,null,null,null,null,null,null,null,null,null,null,null,"",8,null,null,"",22,null,null,null,null,null,null,null,null,null,null,null,null,null,null,"",8,null,null,"",22,null,null,null,null,null,null,null,null,null,null,null,null,null,null,"",8,null,null,"",22,null,null,null,null,null,null,null,null,null,null,null,null,null,null,"",8,null,null,"",22]
[null,"＊","選手名","PS","番",null,null,null,null,null,null,null,null,null,null,null,null,null,null,null,null,null,null,"",9,null,null,"",23,null,null,null,null,null,null,null,null,null,null,null,null,null,null,"",9,null,null,"",23,null,null,null,null,null,null,null,null,null,null,null,null,null,null,"",9,null,null,"",23,null,null,null,null,null,null,null,null,null,null,null,null,null,null,"",9,null,null,"",23,null,null,null,null,null,null,null,null,null,null,null,null,null,null,"",9,null,null,"",23,null,null,null,null,null,null,null,null,null,null,null,null,null,null,"",9,null,null,"",23,null,null,null,null,null,null,null,null,null,null,null,null,null,null,"",9,null,null,"",23,null,null,null,null,null,null,null,null,null,null,null,null,null,null,"",9,null,null,"",23,null,null,null,null,null,null,null,null,null,null,null,null,null,null,"",9,null,null,"",23,null,null,null,null,null,null,null,null,null,null,null,null,null,null,"",9,null,null,"",23,null,null,null,null,null,null,null,null,null,null,null,null,null,null,"",9,null,null,"",23,null,null,null,null,null,null,null,null,null,null,null,null,null,null,"",9,null,null,"",23]
[null,{"$f":"IF(E77=\"\",\"\",E77)","v":""},null,null,null,null,null,null,null,null,null,null,null,null,null,null,null,null,null,null,null,null,null,"",10,null,null,"",24,null,null,null,null,null,null,null,null,null,null,null,null,null,null,"",10,null,null,"",24,null,null,null,null,null,null,null,null,null,null,null,null,null,null,"",10,null,null,"",24,null,null,null,null,null,null,null,null,null,null,null,null,null,null,"",10,null,null,"",24,null,null,null,null,null,null,null,null,null,null,null,null,null,null,"",10,null,null,"",24,null,null,null,null,null,null,null,null,null,null,null,null,null,null,"",10,null,null,"",24,null,null,null,null,null,null,null,null,null,null,null,null,null,null,"",10,null,null,"",24,null,null,null,null,null,null,null,null,null,null,null,null,null,null,"",10,null,null,"",24,null,null,null,null,null,null,null,null,null,null,null,null,null,null,"",10,null,null,"",24,null,null,null,null,null,null,null,null,null,null,null,null,null,null,"",10,null,null,"",24,null,null,null,null,null,null,null,null,null,null,null,null,null,null,"",10,null,null,"",24,null,null,null,null,null,null,null,null,null,null,null,null,null,null,"",10,null,null,"",24]
[null,{"$f":"IF(E78=\"\",\"\",E78)","v":""},null,null,null,null,null,null,null,null,null,null,null,null,null,null,null,null,null,null,null,null,null,"",11,null,null,"",25,null,null,null,null,null,null,null,null,null,null,null,null,null,null,"",11,null,null,"",25,null,null,null,null,null,null,null,null,null,null,null,null,null,null,"",11,null,null,"",25,null,null,null,null,null,null,null,null,null,null,null,null,null,null,"",11,null,null,"",25,null,null,null,null,null,null,null,null,null,null,null,null,null,null,"",11,null,null,"",25,null,null,null,null,null,null,null,null,null,null,null,null,null,null,"",11,null,null,"",25,null,null,null,null,null,null,null,null,null,null,null,null,null,null,"",11,null,null,"",25,null,null,null,null,null,null,null,null,null,null,null,null,null,null,"",11,null,null,"",25,null,null,null,null,null,null,null,null,null,null,null,null,null,null,"",11,null,null,"",25,null,null,null,null,null,null,null,null,null,null,null,null,null,null,"",11,null,null,"",25,null,null,null,null,null,null,null,null,null,null,null,null,null,null,"",11,null,null,"",25,null,null,null,null,null,null,null,null,null,null,null,null,null,null,"",11,null,null,"",25]
[null,"",null,null,null,null,null,null,null,null,null,null,null,null,null,null,null,null,null,null,null,null,null,"",12,null,null,"",26,null,null,null,null,null,null,null,null,null,null,null,null,null,null,"",12,null,null,"",26,null,null,null,null,null,null,null,null,null,null,null,null,null,null,"",12,null,null,"",26,null,null,null,null,null,null,null,null,null,null,null,null,null,null,"",12,null,null,"",26,null,null,null,null,null,null,null,null,null,null,null,null,null,null,"",12,null,null,"",26,null,null,null,null,null,null,null,null,null,null,null,null,null,null,"",12,null,null,"",26,null,null,null,null,null,null,null,null,null,null,null,null,null,null,"",12,null,null,"",26,null,null,null,null,null,null,null,null,null,null,null,null,null,null,"",12,null,null,"",26,null,null,null,null,null,null,null,null,null,null,null,null,null,null,"",12,null,null,"",26,null,null,null,null,null,null,null,null,null,null,null,null,null,null,"",12,null,null,"",26,null,null,null,null,null,null,null,null,null,null,null,null,null,null,"",12,null,null,"",26,null,null,null,null,null,null,null,null,null,null,null,null,null,null,"",12,null,null,"",26]
[null,"",null,null,null,null,null,null,null,null,null,null,null,null,null,null,null,null,null,null,null,null,null,"",13,null,null,"",27,null,null,null,null,null,null,null,null,null,null,null,null,null,null,"",13,null,null,"",27,null,null,null,null,null,null,null,null,null,null,null,null,null,null,"",13,null,null,"",27,null,null,null,null,null,null,null,null,null,null,null,null,null,null,"",13,null,null,"",27,null,null,null,null,null,null,null,null,null,null,null,null,null,null,"",13,null,null,"",27,null,null,null,null,null,null,null,null,null,null,null,null,null,null,"",13,null,null,"",27,null,null,null,null,null,null,null,null,null,null,null,null,null,null,"",13,null,null,"",27,null,null,null,null,null,null,null,null,null,null,null,null,null,null,"",13,null,null,"",27,null,null,null,null,null,null,null,null,null,null,null,null,null,null,"",13,null,null,"",27,null,null,null,null,null,null,null,null,null,null,null,null,null,null,"",13,null,null,"",27,null,null,null,null,null,null,null,null,null,null,null,null,null,null,"",13,null,null,"",27,null,null,null,null,null,null,null,null,null,null,null,null,null,null,"",13,null,null,"",27]
[null,"",null,null,null,null,null,null,null,null,null,null,null,null,null,null,null,null,null,null,null,null,null,{"$f":"IF(AA81=\"\",\"\",X80)","v":""},14,null,null,"",28,null,null,null,null,null,null,null,null,null,null,null,null,null,null,{"$f":"IF(AU81=\"\",\"\",AR80)","v":""},14,null,null,"",28,null,null,null,null,null,null,null,null,null,null,null,null,null,null,{"$f":"IF(BO81=\"\",\"\",BL80)","v":""},14,null,null,"",28,null,null,null,null,null,null,null,null,null,null,null,null,null,null,{"$f":"IF(CI81=\"\",\"\",CF80)","v":""},14,null,null,"",28,null,null,null,null,null,null,null,null,null,null,null,null,null,null,{"$f":"IF(DC81=\"\",\"\",CZ80)","v":""},14,null,null,"",28,null,null,null,null,null,null,null,null,null,null,null,null,null,null,{"$f":"IF(DW81=\"\",\"\",DT80)","v":""},14,null,null,"",28,null,null,null,null,null,null,null,null,null,null,null,null,null,null,{"$f":"IF(EQ81=\"\",\"\",EN80)","v":""},14,null,null,"",28,null,null,null,null,null,null,null,null,null,null,null,null,null,null,{"$f":"IF(FK81=\"\",\"\",FH80)","v":""},14,null,null,"",28,null,null,null,null,null,null,null,null,null,null,null,null,null,null,{"$f":"IF(GE81=\"\",\"\",GB80)","v":""},14,null,null,"",28,null,null,null,null,null,null,null,null,null,null,null,null,null,null,{"$f":"IF(GY81=\"\",\"\",GV80)","v":""},14,null,null,"",28,null,null,null,null,null,null,null,null,null,null,null,null,null,null,{"$f":"IF(HS81=\"\",\"\",HP80)","v":""},14,null,null,"",28,null,null,null,null,null,null,null,null,null,null,null,null,null,null,{"$f":"IF(IM81=\"\",\"\",IJ80)","v":""},14,null,null,"",28]
[null,"",null,null,null,null,null,null,null,null,null,"⑥",null,"1回",null,null,null,null,null,null,null,null,null,"P","N","種","判","P","N","種","判","⑥",null,"2回",null,null,null,null,null,null,null,null,null,"P","N","種","判","P","N","種","判","⑥",null,"3回",null,null,null,null,null,null,null,null,null,"P","N","種","判","P","N","種","判","⑥",null,"4回",null,null,null,null,null,null,null,null,null,"P","N","種","判","P","N","種","判","⑥",null,"5回",null,null,null,null,null,null,null,null,null,"P","N","種","判","P","N","種","判","⑥",null,"6回",null,null,null,null,null,null,null,null,null,"P","N","種","判","P","N","種","判","⑥",null,"7回",null,null,null,null,null,null,null,null,null,null,"N","種","判","P","N","種","判","⑥",null,"8回",null,null,null,null,null,null,null,null,null,"P","N","種","判","P","N","種","判","⑥",null,"9回",null,null,null,null,null,null,null,null,null,"P","N","種","判","P","N","種","判","⑥",null,"10回",null,null,null,null,null,null,null,null,null,"P","N","種","判","P","N","種","判","⑥",null,"11回",null,null,null,null,null,null,null,null,null,"P","N","種","判","P","N","種","判","⑥",null,"12回",null,null,null,null,null,null,null,null,null,"P","N","種","判","P","N","種","判"]
[null,"",null,null,null,null,null,null,null,null,null,"投手",null,{"$f":"IF($C$28=\"\",\"\",VLOOKUP(S83,$B$77:$E$110,2,FALSE))","v":""},null,null,null,null,{"$f":"S68","v":""},{"$f":"IF($C$28=\"\",\"\",VLOOKUP(S83,$A$28:$D$35,4,FALSE))","v":""},"結果",null,null,{"$f":"IF(AA83=\"\",\"\",S83)","v":""},1,null,null,{"$f":"IF(AE83=\"\",\"\",S83)","v":""},15,null,null,"投手",null,{"$f":"IF($C$28=\"\",\"\",VLOOKUP(AM83,$B$77:$E$110,2,FALSE))","v":""},null,null,null,null,{"$f":"AM68","v":""},{"$f":"IF($C$28=\"\",\"\",VLOOKUP(AM83,$A$28:$D$35,4,FALSE))","v":""},"結果",null,null,{"$f":"IF(AU83=\"\",\"\",AM83)","v":""},1,null,null,{"$f":"IF(AY83=\"\",\"\",AM83)","v":""},15,null,null,"投手",null,{"$f":"IF($C$28=\"\",\"\",VLOOKUP(BG83,$B$77:$E$110,2,FALSE))","v":""},null,null,null,null,{"$f":"BG68","v":""},{"$f":"IF($C$28=\"\",\"\",VLOOKUP(BG83,$A$28:$D$35,4,FALSE))","v":""},"結果",null,null,{"$f":"IF(BO83=\"\",\"\",BG83)","v":""},1,null,null,{"$f":"IF(BS83=\"\",\"\",BG83)","v":""},15,null,null,"投手",null,{"$f":"IF($C$28=\"\",\"\",VLOOKUP(CA83,$B$77:$E$110,2,FALSE))","v":""},null,null,null,null,{"$f":"CA68","v":""},{"$f":"IF($C$28=\"\",\"\",VLOOKUP(CA83,$A$28:$D$35,4,FALSE))","v":""},"結果",null,null,{"$f":"IF(CI83=\"\",\"\",CA83)","v":""},1,null,null,{"$f":"IF(CM83=\"\",\"\",CA83)","v":""},15,null,null,"投手",null,{"$f":"IF($C$28=\"\",\"\",VLOOKUP(CU83,$B$77:$E$110,2,FALSE))","v":""},null,null,null,null,{"$f":"CU68","v":""},{"$f":"IF($C$28=\"\",\"\",VLOOKUP(CU83,$A$28:$D$35,4,FALSE))","v":""},"結果",null,null,{"$f":"IF(DC83=\"\",\"\",CU83)","v":""},1,null,null,{"$f":"IF(DG83=\"\",\"\",CU83)","v":""},15,null,null,"投手",null,{"$f":"IF($C$28=\"\",\"\",VLOOKUP(DO83,$B$77:$E$110,2,FALSE))","v":""},null,null,null,null,{"$f":"DO68","v":""},{"$f":"IF($C$28=\"\",\"\",VLOOKUP(DO83,$A$28:$D$35,4,FALSE))","v":""},"結果",null,null,{"$f":"IF(DW83=\"\",\"\",DO83)","v":""},1,null,null,{"$f":"IF(EA83=\"\",\"\",DO83)","v":""},15,null,null,"投手",null,{"$f":"IF($C$28=\"\",\"\",VLOOKUP(EI83,$B$77:$E$110,2,FALSE))","v":""},null,null,null,null,{"$f":"EI68","v":""},{"$f":"IF($C$28=\"\",\"\",VLOOKUP(EI83,$A$28:$D$35,4,FALSE))","v":""},"結果",null,null,{"$f":"IF(EQ83=\"\",\"\",EI83)","v":""},1,null,null,{"$f":"IF(EU83=\"\",\"\",EI83)","v":""},15,null,null,"投手",null,{"$f":"IF($C$28=\"\",\"\",VLOOKUP(FC83,$B$77:$E$110,2,FALSE))","v":""},null,null,null,null,{"$f":"FC68","v":""},{"$f":"IF($C$28=\"\",\"\",VLOOKUP(FC83,$A$28:$D$35,4,FALSE))","v":""},"結果",null,null,{"$f":"IF(FK83=\"\",\"\",FC83)","v":""},1,null,null,{"$f":"IF(FO83=\"\",\"\",FC83)","v":""},15,null,null,"投手",null,{"$f":"IF($C$28=\"\",\"\",VLOOKUP(FW83,$B$77:$E$110,2,FALSE))","v":""},null,null,null,null,{"$f":"FW68","v":""},{"$f":"IF($C$28=\"\",\"\",VLOOKUP(FW83,$A$28:$D$35,4,FALSE))","v":""},"結果",null,null,{"$f":"IF(GE83=\"\",\"\",FW83)","v":""},1,null,null,{"$f":"IF(GI83=\"\",\"\",FW83)","v":""},15,null,null,"投手",null,{"$f":"IF($C$28=\"\",\"\",VLOOKUP(GQ83,$B$77:$E$110,2,FALSE))","v":""},null,null,null,null,{"$f":"GQ68","v":""},{"$f":"IF($C$28=\"\",\"\",VLOOKUP(GQ83,$A$28:$D$35,4,FALSE))","v":""},"結果",null,null,{"$f":"IF(GY83=\"\",\"\",GQ83)","v":""},1,null,null,{"$f":"IF(HC83=\"\",\"\",GQ83)","v":""},15,null,null,"投手",null,{"$f":"IF($C$28=\"\",\"\",VLOOKUP(HK83,$B$77:$E$110,2,FALSE))","v":""},null,null,null,null,{"$f":"HK68","v":""},{"$f":"IF($C$28=\"\",\"\",VLOOKUP(HK83,$A$28:$D$35,4,FALSE))","v":""},"結果",null,null,{"$f":"IF(HS83=\"\",\"\",HK83)","v":""},1,null,null,{"$f":"IF(HW83=\"\",\"\",HK83)","v":""},15,null,null,"投手",null,{"$f":"IF($C$28=\"\",\"\",VLOOKUP(IE83,$B$77:$E$110,2,FALSE))","v":""},null,null,null,null,{"$f":"IE68","v":""},{"$f":"IF($C$28=\"\",\"\",VLOOKUP(IE83,$A$28:$D$35,4,FALSE))","v":""},"結果",null,null,{"$f":"IF(IM83=\"\",\"\",IE83)","v":""},1,null,null,{"$f":"IF(IQ83=\"\",\"\",IE83)","v":""},15]
[null,"",null,null,null,null,null,null,null,null,null,"打者",null,{"$f":"IF($C$7=\"\",\"\",VLOOKUP(S84,$B$40:$D$73,2,FALSE))","v":""},null,null,null,null,{"$f":"E12","v":0},{"$f":"IF(N84=\"\",\"\",VLOOKUP(S84,$B$40:$D$73,3,FALSE))","v":""},"得点",null,null,{"$f":"IF(AA84=\"\",\"\",X83)","v":""},{"$f":"Y83+1","v":2},null,null,{"$f":"IF(AE84=\"\",\"\",AB83)","v":""},{"$f":"AC83+1","v":16},null,null,"打者",null,{"$f":"IF($C$7=\"\",\"\",VLOOKUP(AM84,$B$40:$D$73,2,FALSE))","v":""},null,null,null,null,{"$f":"S84","v":0},{"$f":"IF(AH84=\"\",\"\",VLOOKUP(AM84,$B$40:$D$73,3,FALSE))","v":""},"得点",null,null,{"$f":"IF(AU84=\"\",\"\",AR83)","v":""},{"$f":"AS83+1","v":2},null,null,{"$f":"IF(AY84=\"\",\"\",AV83)","v":""},{"$f":"AW83+1","v":16},null,null,"打者",null,{"$f":"IF($C$7=\"\",\"\",VLOOKUP(BG84,$B$40:$D$73,2,FALSE))","v":""},null,null,null,null,{"$f":"AM84","v":0},{"$f":"IF(BB84=\"\",\"\",VLOOKUP(BG84,$B$40:$D$73,3,FALSE))","v":""},"得点",null,null,{"$f":"IF(BO84=\"\",\"\",BL83)","v":""},{"$f":"BM83+1","v":2},null,null,{"$f":"IF(BS84=\"\",\"\",BP83)","v":""},{"$f":"BQ83+1","v":16},null,null,"打者",null,{"$f":"IF($C$7=\"\",\"\",VLOOKUP(CA84,$B$40:$D$73,2,FALSE))","v":""},null,null,null,null,{"$f":"BG84","v":0},{"$f":"IF(BV84=\"\",\"\",VLOOKUP(CA84,$B$40:$D$73,3,FALSE))","v":""},"得点",null,null,{"$f":"IF(CI84=\"\",\"\",CF83)","v":""},{"$f":"CG83+1","v":2},null,null,{"$f":"IF(CM84=\"\",\"\",CJ83)","v":""},{"$f":"CK83+1","v":16},null,null,"打者",null,{"$f":"IF($C$7=\"\",\"\",VLOOKUP(CU84,$B$40:$D$73,2,FALSE))","v":""},null,null,null,null,{"$f":"CA84","v":0},{"$f":"IF(CP84=\"\",\"\",VLOOKUP(CU84,$B$40:$D$73,3,FALSE))","v":""},"得点",null,null,{"$f":"IF(DC84=\"\",\"\",CZ83)","v":""},{"$f":"DA83+1","v":2},null,null,{"$f":"IF(DG84=\"\",\"\",DD83)","v":""},{"$f":"DE83+1","v":16},null,null,"打者",null,{"$f":"IF($C$7=\"\",\"\",VLOOKUP(DO84,$B$40:$D$73,2,FALSE))","v":""},null,null,null,null,{"$f":"CU84","v":0},{"$f":"IF(DJ84=\"\",\"\",VLOOKUP(DO84,$B$40:$D$73,3,FALSE))","v":""},"得点",null,null,{"$f":"IF(DW84=\"\",\"\",DT83)","v":""},{"$f":"DU83+1","v":2},null,null,{"$f":"IF(EA84=\"\",\"\",DX83)","v":""},{"$f":"DY83+1","v":16},null,null,"打者",null,{"$f":"IF($C$7=\"\",\"\",VLOOKUP(EI84,$B$40:$D$73,2,FALSE))","v":""},null,null,null,null,{"$f":"DO84","v":0},{"$f":"IF(ED84=\"\",\"\",VLOOKUP(EI84,$B$40:$D$73,3,FALSE))","v":""},"得点",null,null,{"$f":"IF(EQ84=\"\",\"\",EN83)","v":""},{"$f":"EO83+1","v":2},null,null,{"$f":"IF(EU84=\"\",\"\",ER83)","v":""},{"$f":"ES83+1","v":16},null,null,"打者",null,{"$f":"IF($C$7=\"\",\"\",VLOOKUP(FC84,$B$40:$D$73,2,FALSE))","v":""},null,null,null,null,{"$f":"EI84","v":0},{"$f":"IF(EX84=\"\",\"\",VLOOKUP(FC84,$B$40:$D$73,3,FALSE))","v":""},"得点",null,null,{"$f":"IF(FK84=\"\",\"\",FH83)","v":""},{"$f":"FI83+1","v":2},null,null,{"$f":"IF(FO84=\"\",\"\",FL83)","v":""},{"$f":"FM83+1","v":16},null,null,"打者",null,{"$f":"IF($C$7=\"\",\"\",VLOOKUP(FW84,$B$40:$D$73,2,FALSE))","v":""},null,null,null,null,{"$f":"FC84","v":0},{"$f":"IF(FR84=\"\",\"\",VLOOKUP(FW84,$B$40:$D$73,3,FALSE))","v":""},"得点",null,null,{"$f":"IF(GE84=\"\",\"\",GB83)","v":""},{"$f":"GC83+1","v":2},null,null,{"$f":"IF(GI84=\"\",\"\",GF83)","v":""},{"$f":"GG83+1","v":16},null,null,"打者",null,{"$f":"IF($C$7=\"\",\"\",VLOOKUP(GQ84,$B$40:$D$73,2,FALSE))","v":""},null,null,null,null,{"$f":"FW84","v":0},{"$f":"IF(GL84=\"\",\"\",VLOOKUP(GQ84,$B$40:$D$73,3,FALSE))","v":""},"得点",null,null,{"$f":"IF(GY84=\"\",\"\",GV83)","v":""},{"$f":"GW83+1","v":2},null,null,{"$f":"IF(HC84=\"\",\"\",GZ83)","v":""},{"$f":"HA83+1","v":16},null,null,"打者",null,{"$f":"IF($C$7=\"\",\"\",VLOOKUP(HK84,$B$40:$D$73,2,FALSE))","v":""},null,null,null,null,{"$f":"GQ84","v":0},{"$f":"IF(HF84=\"\",\"\",VLOOKUP(HK84,$B$40:$D$73,3,FALSE))","v":""},"得点",null,null,{"$f":"IF(HS84=\"\",\"\",HP83)","v":""},{"$f":"HQ83+1","v":2},null,null,{"$f":"IF(HW84=\"\",\"\",HT83)","v":""},{"$f":"HU83+1","v":16},null,null,"打者",null,{"$f":"IF($C$7=\"\",\"\",VLOOKUP(IE84,$B$40:$D$73,2,FALSE))","v":""},null,null,null,null,{"$f":"HK84","v":0},{"$f":"IF(HZ84=\"\",\"\",VLOOKUP(IE84,$B$40:$D$73,3,FALSE))","v":""},"得点",null,null,{"$f":"IF(IM84=\"\",\"\",IJ83)","v":""},{"$f":"IK83+1","v":2},null,null,{"$f":"IF(IQ84=\"\",\"\",IN83)","v":""},{"$f":"IO83+1","v":16}]
[null,"",null,null,null,null,null,null,null,null,null,{"$f":"IF(S83=\"\",\"\",S83)","v":""},{"$f":"L85","v":""},{"$f":"M85","v":""},{"$f":"N85","v":""},{"$f":"O85","v":""},{"$f":"P85","v":""},{"$f":"Q85","v":""},{"$f":"R85","v":""},{"$f":"S85","v":""},{"$f":"T85","v":""},{"$f":"U85","v":""},null,"",3,null,null,"",17,null,null,{"$f":"IF(AM83=\"\",\"\",AM83)","v":""},{"$f":"AF85","v":""},{"$f":"AG85","v":""},{"$f":"AH85","v":""},{"$f":"AI85","v":""},{"$f":"AJ85","v":""},{"$f":"AK85","v":""},{"$f":"AL85","v":""},{"$f":"AM85","v":""},{"$f":"AN85","v":""},{"$f":"AO85","v":""},null,"",3,null,null,"",17,null,null,{"$f":"IF(BG83=\"\",\"\",BG83)","v":""},{"$f":"AZ85","v":""},{"$f":"BA85","v":""},{"$f":"BB85","v":""},{"$f":"BC85","v":""},{"$f":"BD85","v":""},{"$f":"BE85","v":""},{"$f":"BF85","v":""},{"$f":"BG85","v":""},{"$f":"BH85","v":""},{"$f":"BI85","v":""},null,"",3,null,null,"",17,null,null,{"$f":"IF(CA83=\"\",\"\",CA83)","v":""},{"$f":"BT85","v":""},{"$f":"BU85","v":""},{"$f":"BV85","v":""},{"$f":"BW85","v":""},{"$f":"BX85","v":""},{"$f":"BY85","v":""},{"$f":"BZ85","v":""},{"$f":"CA85","v":""},{"$f":"CB85","v":""},{"$f":"CC85","v":""},null,"",3,null,null,"",17,null,null,{"$f":"IF(CU83=\"\",\"\",CU83)","v":""},{"$f":"CN85","v":""},{"$f":"CO85","v":""},{"$f":"CP85","v":""},{"$f":"CQ85","v":""},{"$f":"CR85","v":""},{"$f":"CS85","v":""},{"$f":"CT85","v":""},{"$f":"CU85","v":""},{"$f":"CV85","v":""},{"$f":"CW85","v":""},null,"",3,null,null,"",17,null,null,{"$f":"IF(DO83=\"\",\"\",DO83)","v":""},{"$f":"DH85","v":""},{"$f":"DI85","v":""},{"$f":"DJ85","v":""},{"$f":"DK85","v":""},{"$f":"DL85","v":""},{"$f":"DM85","v":""},{"$f":"DN85","v":""},{"$f":"DO85","v":""},{"$f":"DP85","v":""},{"$f":"DQ85","v":""},null,"",3,null,null,"",17,null,null,{"$f":"IF(EI83=\"\",\"\",EI83)","v":""},{"$f":"EB85","v":""},{"$f":"EC85","v":""},{"$f":"ED85","v":""},{"$f":"EE85","v":""},{"$f":"EF85","v":""},{"$f":"EG85","v":""},{"$f":"EH85","v":""},{"$f":"EI85","v":""},{"$f":"EJ85","v":""},{"$f":"EK85","v":""},null,"",3,null,null,"",17,null,null,{"$f":"IF(FC83=\"\",\"\",FC83)","v":""},{"$f":"EV85","v":""},{"$f":"EW85","v":""},{"$f":"EX85","v":""},{"$f":"EY85","v":""},{"$f":"EZ85","v":""},{"$f":"FA85","v":""},{"$f":"FB85","v":""},{"$f":"FC85","v":""},{"$f":"FD85","v":""},{"$f":"FE85","v":""},null,"",3,null,null,"",17,null,null,{"$f":"IF(FW83=\"\",\"\",FW83)","v":""},{"$f":"FP85","v":""},{"$f":"FQ85","v":""},{"$f":"FR85","v":""},{"$f":"FS85","v":""},{"$f":"FT85","v":""},{"$f":"FU85","v":""},{"$f":"FV85","v":""},{"$f":"FW85","v":""},{"$f":"FX85","v":""},{"$f":"FY85","v":""},null,"",3,null,null,"",17,null,null,{"$f":"IF(GQ83=\"\",\"\",GQ83)","v":""},{"$f":"GJ85","v":""},{"$f":"GK85","v":""},{"$f":"GL85","v":""},{"$f":"GM85","v":""},{"$f":"GN85","v":""},{"$f":"GO85","v":""},{"$f":"GP85","v":""},{"$f":"GQ85","v":""},{"$f":"GR85","v":""},{"$f":"GS85","v":""},null,"",3,null,null,"",17,null,null,{"$f":"IF(HK83=\"\",\"\",HK83)","v":""},{"$f":"HD85","v":""},{"$f":"HE85","v":""},{"$f":"HF85","v":""},{"$f":"HG85","v":""},{"$f":"HH85","v":""},{"$f":"HI85","v":""},{"$f":"HJ85","v":""},{"$f":"HK85","v":""},{"$f":"HL85","v":""},{"$f":"HM85","v":""},null,"",3,null,null,"",17,null,null,{"$f":"IF(IE83=\"\",\"\",IE83)","v":""},{"$f":"HX85","v":""},{"$f":"HY85","v":""},{"$f":"HZ85","v":""},{"$f":"IA85","v":""},{"$f":"IB85","v":""},{"$f":"IC85","v":""},{"$f":"ID85","v":""},{"$f":"IE85","v":""},{"$f":"IF85","v":""},{"$f":"IG85","v":""},null,"",3,null,null,"",17]
[null,"",null,null,null,null,null,null,null,null,null,null,"O","O","O","O","M","M","I","I","I","I",null,"",4,null,null,"",18,null,null,null,"O","O","O","O","M","M","I","I","I","I",null,"",4,null,null,"",18,null,null,null,"O","O","O","O","M","M","I","I","I","I",null,"",4,null,null,"",18,null,null,null,"O","O","O","O","M","M","I","I","I","I",null,"",4,null,null,"",18,null,null,null,"O","O","O","O","M","M","I","I","I","I",null,"",4,null,null,"",18,null,null,null,"O","O","O","O","M","M","I","I","I","I",null,"",4,null,null,"",18,null,null,null,"O","O","O","O","M","M","I","I","I","I",null,"",4,null,null,"",18,null,null,null,"O","O","O","O","M","M","I","I","I","I",null,"",4,null,null,"",18,null,null,null,"O","O","O","O","M","M","I","I","I","I",null,"",4,null,null,"",18,null,null,null,"O","O","O","O","M","M","I","I","I","I",null,"",4,null,null,"",18,null,null,null,"O","O","O","O","M","M","I","I","I","I",null,"",4,null,null,"",18,null,null,null,"O","O","O","O","M","M","I","I","I","I",null,"",4,null,null,"",18]
[null,"",null,null,null,null,null,null,null,null,null,null,null,null,null,null,null,null,null,null,null,null,null,"",5,null,null,"",19,null,null,null,null,null,null,null,null,null,null,null,null,null,null,"",5,null,null,"",19,null,null,null,null,null,null,null,null,null,null,null,null,null,null,"",5,null,null,"",19,null,null,null,null,null,null,null,null,null,null,null,null,null,null,"",5,null,null,"",19,null,null,null,null,null,null,null,null,null,null,null,null,null,null,"",5,null,null,"",19,null,null,null,null,null,null,null,null,null,null,null,null,null,null,"",5,null,null,"",19,null,null,null,null,null,null,null,null,null,null,null,null,null,null,"",5,null,null,"",19,null,null,null,null,null,null,null,null,null,null,null,null,null,null,"",5,null,null,"",19,null,null,null,null,null,null,null,null,null,null,null,null,null,null,"",5,null,null,"",19,null,null,null,null,null,null,null,null,null,null,null,null,null,null,"",5,null,null,"",19,null,null,null,null,null,null,null,null,null,null,null,null,null,null,"",5,null,null,"",19,null,null,null,null,null,null,null,null,null,null,null,null,null,null,"",5,null,null,"",19]
[null,"",null,null,null,null,null,null,null,null,null,null,null,null,null,null,null,null,null,null,null,null,null,"",6,null,null,"",20,null,null,null,null,null,null,null,null,null,null,null,null,null,null,"",6,null,null,"",20,null,null,null,null,null,null,null,null,null,null,null,null,null,null,"",6,null,null,"",20,null,null,null,null,null,null,null,null,null,null,null,null,null,null,"",6,null,null,"",20,null,null,null,null,null,null,null,null,null,null,null,null,null,null,"",6,null,null,"",20,null,null,null,null,null,null,null,null,null,null,null,null,null,null,"",6,null,null,"",20,null,null,null,null,null,null,null,null,null,null,null,null,null,null,"",6,null,null,"",20,null,null,null,null,null,null,null,null,null,null,null,null,null,null,"",6,null,null,"",20,null,null,null,null,null,null,null,null,null,null,null,null,null,null,"",6,null,null,"",20,null,null,null,null,null,null,null,null,null,null,null,null,null,null,"",6,null,null,"",20,null,null,null,null,null,null,null,null,null,null,null,null,null,null,"",6,null,null,"",20,null,null,null,null,null,null,null,null,null,null,null,null,null,null,"",6,null,null,"",20]
[null,"",null,null,null,null,null,null,null,null,null,null,null,null,null,null,null,null,null,null,null,null,null,"",7,null,null,"",{"$f":"AC88+1","v":21},null,null,null,null,null,null,null,null,null,null,null,null,null,null,"",7,null,null,"",{"$f":"AW88+1","v":21},null,null,null,null,null,null,null,null,null,null,null,null,null,null,"",7,null,null,"",{"$f":"BQ88+1","v":21},null,null,null,null,null,null,null,null,null,null,null,null,null,null,"",7,null,null,"",{"$f":"CK88+1","v":21},null,null,null,null,null,null,null,null,null,null,null,null,null,null,"",7,null,null,"",{"$f":"DE88+1","v":21},null,null,null,null,null,null,null,null,null,null,null,null,null,null,"",7,null,null,"",{"$f":"DY88+1","v":21},null,null,null,null,null,null,null,null,null,null,null,null,null,null,"",7,null,null,"",{"$f":"ES88+1","v":21},null,null,null,null,null,null,null,null,null,null,null,null,null,null,"",7,null,null,"",{"$f":"FM88+1","v":21},null,null,null,null,null,null,null,null,null,null,null,null,null,null,"",7,null,null,"",{"$f":"GG88+1","v":21},null,null,null,null,null,null,null,null,null,null,null,null,null,null,"",7,null,null,"",{"$f":"HA88+1","v":21},null,null,null,null,null,null,null,null,null,null,null,null,null,null,"",7,null,null,"",{"$f":"HU88+1","v":21},null,null,null,null,null,null,null,null,null,null,null,null,null,null,"",7,null,null,"",{"$f":"IO88+1","v":21}]
[null,"",null,null,null,null,null,null,null,null,null,null,null,null,null,null,null,null,null,null,null,null,null,"",8,null,null,"",22,null,null,null,null,null,null,null,null,null,null,null,null,null,null,"",8,null,null,"",22,null,null,null,null,null,null,null,null,null,null,null,null,null,null,"",8,null,null,"",22,null,null,null,null,null,null,null,null,null,null,null,null,null,null,"",8,null,null,"",22,null,null,null,null,null,null,null,null,null,null,null,null,null,null,"",8,null,null,"",22,null,null,null,null,null,null,null,null,null,null,null,null,null,null,"",8,null,null,"",22,null,null,null,null,null,null,null,null,null,null,null,null,null,null,"",8,null,null,"",22,null,null,null,null,null,null,null,null,null,null,null,null,null,null,"",8,null,null,"",22,null,null,null,null,null,null,null,null,null,null,null,null,null,null,"",8,null,null,"",22,null,null,null,null,null,null,null,null,null,null,null,null,null,null,"",8,null,null,"",22,null,null,null,null,null,null,null,null,null,null,null,null,null,null,"",8,null,null,"",22,null,null,null,null,null,null,null,null,null,null,null,null,null,null,"",8,null,null,"",22]
[null,"",null,null,null,null,null,null,null,null,null,null,null,null,null,null,null,null,null,null,null,null,null,"",9,null,null,"",23,null,null,null,null,null,null,null,null,null,null,null,null,null,null,"",9,null,null,"",23,null,null,null,null,null,null,null,null,null,null,null,null,null,null,"",9,null,null,"",23,null,null,null,null,null,null,null,null,null,null,null,null,null,null,"",9,null,null,"",23,null,null,null,null,null,null,null,null,null,null,null,null,null,null,"",9,null,null,"",23,null,null,null,null,null,null,null,null,null,null,null,null,null,null,"",9,null,null,"",23,null,null,null,null,null,null,null,null,null,null,null,null,null,null,"",9,null,null,"",23,null,null,null,null,null,null,null,null,null,null,null,null,null,null,"",9,null,null,"",23,null,null,null,null,null,null,null,null,null,null,null,null,null,null,"",9,null,null,"",23,null,null,null,null,null,null,null,null,null,null,null,null,null,null,"",9,null,null,"",23,null,null,null,null,null,null,null,null,null,null,null,null,null,null,"",9,null,null,"",23,null,null,null,null,null,null,null,null,null,null,null,null,null,null,"",9,null,null,"",23]
[null,"",null,null,null,null,null,null,null,null,null,null,null,null,null,null,null,null,null,null,null,null,null,"",10,null,null,"",24,null,null,null,null,null,null,null,null,null,null,null,null,null,null,"",10,null,null,"",24,null,null,null,null,null,null,null,null,null,null,null,null,null,null,"",10,null,null,"",24,null,null,null,null,null,null,null,null,null,null,null,null,null,null,"",10,null,null,"",24,null,null,null,null,null,null,null,null,null,null,null,null,null,null,"",10,null,null,"",24,null,null,null,null,null,null,null,null,null,null,null,null,null,null,"",10,null,null,"",24,null,null,null,null,null,null,null,null,null,null,null,null,null,null,"",10,null,null,"",24,null,null,null,null,null,null,null,null,null,null,null,null,null,null,"",10,null,null,"",24,null,null,null,null,null,null,null,null,null,null,null,null,null,null,"",10,null,null,"",24,null,null,null,null,null,null,null,null,null,null,null,null,null,null,"",10,null,null,"",24,null,null,null,null,null,null,null,null,null,null,null,null,null,null,"",10,null,null,"",24,null,null,null,null,null,null,null,null,null,null,null,null,null,null,"",10,null,null,"",24]
[null,"",null,null,null,null,null,null,null,null,null,null,null,null,null,null,null,null,null,null,null,null,null,"",11,null,null,"",25,null,null,null,null,null,null,null,null,null,null,null,null,null,null,"",11,null,null,"",25,null,null,null,null,null,null,null,null,null,null,null,null,null,null,"",11,null,null,"",25,null,null,null,null,null,null,null,null,null,null,null,null,null,null,"",11,null,null,"",25,null,null,null,null,null,null,null,null,null,null,null,null,null,null,"",11,null,null,"",25,null,null,null,null,null,null,null,null,null,null,null,null,null,null,"",11,null,null,"",25,null,null,null,null,null,null,null,null,null,null,null,null,null,null,"",11,null,null,"",25,null,null,null,null,null,null,null,null,null,null,null,null,null,null,"",11,null,null,"",25,null,null,null,null,null,null,null,null,null,null,null,null,null,null,"",11,null,null,"",25,null,null,null,null,null,null,null,null,null,null,null,null,null,null,"",11,null,null,"",25,null,null,null,null,null,null,null,null,null,null,null,null,null,null,"",11,null,null,"",25,null,null,null,null,null,null,null,null,null,null,null,null,null,null,"",11,null,null,"",25]
[null,"",null,null,null,null,null,null,null,null,null,null,null,null,null,null,null,null,null,null,null,null,null,"",12,null,null,"",26,null,null,null,null,null,null,null,null,null,null,null,null,null,null,"",12,null,null,"",26,null,null,null,null,null,null,null,null,null,null,null,null,null,null,"",12,null,null,"",26,null,null,null,null,null,null,null,null,null,null,null,null,null,null,"",12,null,null,"",26,null,null,null,null,null,null,null,null,null,null,null,null,null,null,"",12,null,null,"",26,null,null,null,null,null,null,null,null,null,null,null,null,null,null,"",12,null,null,"",26,null,null,null,null,null,null,null,null,null,null,null,null,null,null,"",12,null,null,"",26,null,null,null,null,null,null,null,null,null,null,null,null,null,null,"",12,null,null,"",26,null,null,null,null,null,null,null,null,null,null,null,null,null,null,"",12,null,null,"",26,null,null,null,null,null,null,null,null,null,null,null,null,null,null,"",12,null,null,"",26,null,null,null,null,null,null,null,null,null,null,null,null,null,null,"",12,null,null,"",26,null,null,null,null,null,null,null,null,null,null,null,null,null,null,"",12,null,null,"",26]
[null,"",null,null,null,null,null,null,null,null,null,null,null,null,null,null,null,null,null,null,null,null,null,"",13,null,null,"",27,null,null,null,null,null,null,null,null,null,null,null,null,null,null,"",13,null,null,"",27,null,null,null,null,null,null,null,null,null,null,null,null,null,null,"",13,null,null,"",27,null,null,null,null,null,null,null,null,null,null,null,null,null,null,"",13,null,null,"",27,null,null,null,null,null,null,null,null,null,null,null,null,null,null,"",13,null,null,"",27,null,null,null,null,null,null,null,null,null,null,null,null,null,null,"",13,null,null,"",27,null,null,null,null,null,null,null,null,null,null,null,null,null,null,"",13,null,null,"",27,null,null,null,null,null,null,null,null,null,null,null,null,null,null,"",13,null,null,"",27,null,null,null,null,null,null,null,null,null,null,null,null,null,null,"",13,null,null,"",27,null,null,null,null,null,null,null,null,null,null,null,null,null,null,"",13,null,null,"",27,null,null,null,null,null,null,null,null,null,null,null,null,null,null,"",13,null,null,"",27,null,null,null,null,null,null,null,null,null,null,null,null,null,null,"",13,null,null,"",27]
[null,"",null,null,null,null,null,null,null,null,null,null,null,null,null,null,null,null,null,null,null,null,null,"",14,null,null,"",28,null,null,null,null,null,null,null,null,null,null,null,null,null,null,"",14,null,null,"",28,null,null,null,null,null,null,null,null,null,null,null,null,null,null,"",14,null,null,"",28,null,null,null,null,null,null,null,null,null,null,null,null,null,null,"",14,null,null,"",28,null,null,null,null,null,null,null,null,null,null,null,null,null,null,"",14,null,null,"",28,null,null,null,null,null,null,null,null,null,null,null,null,null,null,"",14,null,null,"",28,null,null,null,null,null,null,null,null,null,null,null,null,null,null,"",14,null,null,"",28,null,null,null,null,null,null,null,null,null,null,null,null,null,null,"",14,null,null,"",28,null,null,null,null,null,null,null,null,null,null,null,null,null,null,"",14,null,null,"",28,null,null,null,null,null,null,null,null,null,null,null,null,null,null,"",14,null,null,"",28,null,null,null,null,null,null,null,null,null,null,null,null,null,null,"",14,null,null,"",28,null,null,null,null,null,null,null,null,null,null,null,null,null,null,"",14,null,null,"",28]
[null,"",null,null,"",null,null,null,null,null,null,"⑦",null,"1回",null,null,null,null,null,null,null,null,null,"P","N","種","判","P","N","種","判","⑦",null,"2回",null,null,null,null,null,null,null,null,null,"P","N","種","判","P","N","種","判","⑦",null,"3回",null,null,null,null,null,null,null,null,null,"P","N","種","判","P","N","種","判","⑦",null,"4回",null,null,null,null,null,null,null,null,null,"P","N","種","判","P","N","種","判","⑦",null,"5回",null,null,null,null,null,null,null,null,null,"P","N","種","判","P","N","種","判","⑦",null,"6回",null,null,null,null,null,null,null,null,null,"P","N","種","判","P","N","種","判","⑦",null,"7回",null,null,null,null,null,null,null,null,null,"P","N","種","判","P","N","種","判","⑦",null,"8回",null,null,null,null,null,null,null,null,null,"P","N","種","判","P","N","種","判","⑦",null,"9回",null,null,null,null,null,null,null,null,null,"P","N","種","判","P","N","種","判","⑦",null,"10回",null,null,null,null,null,null,null,null,null,"P","N","種","判","P","N","種","判","⑦",null,"11回",null,null,null,null,null,null,null,null,null,"P","N","種","判","P","N","種","判","⑦",null,"12回",null,null,null,null,null,null,null,null,null,"P","N","種","判","P","N","種","判"]
[null,"",null,null,"",null,null,null,null,null,null,"投手",null,{"$f":"IF($C$28=\"\",\"\",VLOOKUP(S98,$B$77:$E$110,2,FALSE))","v":""},null,null,null,null,{"$f":"S83","v":""},{"$f":"IF($C$28=\"\",\"\",VLOOKUP(S98,$A$28:$D$35,4,FALSE))","v":""},"結果",null,null,{"$f":"IF(AA98=\"\",\"\",S98)","v":""},1,null,null,{"$f":"IF(AE98=\"\",\"\",S98)","v":""},15,null,null,"投手",null,{"$f":"IF($C$28=\"\",\"\",VLOOKUP(AM98,$B$77:$E$110,2,FALSE))","v":""},null,null,null,null,{"$f":"AM83","v":""},{"$f":"IF($C$28=\"\",\"\",VLOOKUP(AM98,$A$28:$D$35,4,FALSE))","v":""},"結果",null,null,{"$f":"IF(AU98=\"\",\"\",AM98)","v":""},1,null,null,{"$f":"IF(AY98=\"\",\"\",AM98)","v":""},15,null,null,"投手",null,{"$f":"IF($C$28=\"\",\"\",VLOOKUP(BG98,$B$77:$E$110,2,FALSE))","v":""},null,null,null,null,{"$f":"BG83","v":""},{"$f":"IF($C$28=\"\",\"\",VLOOKUP(BG98,$A$28:$D$35,4,FALSE))","v":""},"結果",null,null,{"$f":"IF(BO98=\"\",\"\",BG98)","v":""},1,null,null,{"$f":"IF(BS98=\"\",\"\",BG98)","v":""},15,null,null,"投手",null,{"$f":"IF($C$28=\"\",\"\",VLOOKUP(CA98,$B$77:$E$110,2,FALSE))","v":""},null,null,null,null,{"$f":"CA83","v":""},{"$f":"IF($C$28=\"\",\"\",VLOOKUP(CA98,$A$28:$D$35,4,FALSE))","v":""},"結果",null,null,{"$f":"IF(CI98=\"\",\"\",CA98)","v":""},1,null,null,{"$f":"IF(CM98=\"\",\"\",CA98)","v":""},15,null,null,"投手",null,{"$f":"IF($C$28=\"\",\"\",VLOOKUP(CU98,$B$77:$E$110,2,FALSE))","v":""},null,null,null,null,{"$f":"CU83","v":""},{"$f":"IF($C$28=\"\",\"\",VLOOKUP(CU98,$A$28:$D$35,4,FALSE))","v":""},"結果",null,null,{"$f":"IF(DC98=\"\",\"\",CU98)","v":""},1,null,null,{"$f":"IF(DG98=\"\",\"\",CU98)","v":""},15,null,null,"投手",null,{"$f":"IF($C$28=\"\",\"\",VLOOKUP(DO98,$B$77:$E$110,2,FALSE))","v":""},null,null,null,null,{"$f":"DO83","v":""},{"$f":"IF($C$28=\"\",\"\",VLOOKUP(DO98,$A$28:$D$35,4,FALSE))","v":""},"結果",null,null,{"$f":"IF(DW98=\"\",\"\",DO98)","v":""},1,null,null,{"$f":"IF(EA98=\"\",\"\",DO98)","v":""},15,null,null,"投手",null,{"$f":"IF($C$28=\"\",\"\",VLOOKUP(EI98,$B$77:$E$110,2,FALSE))","v":""},null,null,null,null,{"$f":"EI83","v":""},{"$f":"IF($C$28=\"\",\"\",VLOOKUP(EI98,$A$28:$D$35,4,FALSE))","v":""},"結果",null,null,{"$f":"IF(EQ98=\"\",\"\",EI98)","v":""},1,null,null,{"$f":"IF(EU98=\"\",\"\",EI98)","v":""},15,null,null,"投手",null,{"$f":"IF($C$28=\"\",\"\",VLOOKUP(FC98,$B$77:$E$110,2,FALSE))","v":""},null,null,null,null,{"$f":"FC83","v":""},{"$f":"IF($C$28=\"\",\"\",VLOOKUP(FC98,$A$28:$D$35,4,FALSE))","v":""},"結果",null,null,{"$f":"IF(FK98=\"\",\"\",FC98)","v":""},1,null,null,{"$f":"IF(FO98=\"\",\"\",FC98)","v":""},15,null,null,"投手",null,{"$f":"IF($C$28=\"\",\"\",VLOOKUP(FW98,$B$77:$E$110,2,FALSE))","v":""},null,null,null,null,{"$f":"FW83","v":""},{"$f":"IF($C$28=\"\",\"\",VLOOKUP(FW98,$A$28:$D$35,4,FALSE))","v":""},"結果",null,null,{"$f":"IF(GE98=\"\",\"\",FW98)","v":""},1,null,null,{"$f":"IF(GI98=\"\",\"\",FW98)","v":""},15,null,null,"投手",null,{"$f":"IF($C$28=\"\",\"\",VLOOKUP(GQ98,$B$77:$E$110,2,FALSE))","v":""},null,null,null,null,{"$f":"GQ83","v":""},{"$f":"IF($C$28=\"\",\"\",VLOOKUP(GQ98,$A$28:$D$35,4,FALSE))","v":""},"結果",null,null,{"$f":"IF(GY98=\"\",\"\",GQ98)","v":""},1,null,null,{"$f":"IF(HC98=\"\",\"\",GQ98)","v":""},15,null,null,"投手",null,{"$f":"IF($C$28=\"\",\"\",VLOOKUP(HK98,$B$77:$E$110,2,FALSE))","v":""},null,null,null,null,{"$f":"HK83","v":""},{"$f":"IF($C$28=\"\",\"\",VLOOKUP(HK98,$A$28:$D$35,4,FALSE))","v":""},"結果",null,null,{"$f":"IF(HS98=\"\",\"\",HK98)","v":""},1,null,null,{"$f":"IF(HW98=\"\",\"\",HK98)","v":""},15,null,null,"投手",null,{"$f":"IF($C$28=\"\",\"\",VLOOKUP(IE98,$B$77:$E$110,2,FALSE))","v":""},null,null,null,null,{"$f":"IE83","v":""},{"$f":"IF($C$28=\"\",\"\",VLOOKUP(IE98,$A$28:$D$35,4,FALSE))","v":""},"結果",null,null,{"$f":"IF(IM98=\"\",\"\",IE98)","v":""},1,null,null,{"$f":"IF(IQ98=\"\",\"\",IE98)","v":""},15]
[null,"",null,null,"",null,null,null,null,null,null,"打者",null,{"$f":"IF($C$7=\"\",\"\",VLOOKUP(S99,$B$40:$D$73,2,FALSE))","v":""},null,null,null,null,{"$f":"E13","v":0},{"$f":"IF(N99=\"\",\"\",VLOOKUP(S99,$B$40:$D$73,3,FALSE))","v":""},"得点",null,null,{"$f":"IF(AA99=\"\",\"\",X98)","v":""},{"$f":"Y98+1","v":2},null,null,{"$f":"IF(AE99=\"\",\"\",AB98)","v":""},{"$f":"AC98+1","v":16},null,null,"打者",null,{"$f":"IF($C$7=\"\",\"\",VLOOKUP(AM99,$B$40:$D$73,2,FALSE))","v":""},null,null,null,null,{"$f":"S99","v":0},{"$f":"IF(AH99=\"\",\"\",VLOOKUP(AM99,$B$40:$D$73,3,FALSE))","v":""},"得点",null,null,{"$f":"IF(AU99=\"\",\"\",AR98)","v":""},{"$f":"AS98+1","v":2},null,null,{"$f":"IF(AY99=\"\",\"\",AV98)","v":""},{"$f":"AW98+1","v":16},null,null,"打者",null,{"$f":"IF($C$7=\"\",\"\",VLOOKUP(BG99,$B$40:$D$73,2,FALSE))","v":""},null,null,null,null,{"$f":"AM99","v":0},{"$f":"IF(BB99=\"\",\"\",VLOOKUP(BG99,$B$40:$D$73,3,FALSE))","v":""},"得点",null,null,{"$f":"IF(BO99=\"\",\"\",BL98)","v":""},{"$f":"BM98+1","v":2},null,null,{"$f":"IF(BS99=\"\",\"\",BP98)","v":""},{"$f":"BQ98+1","v":16},null,null,"打者",null,{"$f":"IF($C$7=\"\",\"\",VLOOKUP(CA99,$B$40:$D$73,2,FALSE))","v":""},null,null,null,null,{"$f":"BG99","v":0},{"$f":"IF(BV99=\"\",\"\",VLOOKUP(CA99,$B$40:$D$73,3,FALSE))","v":""},"得点",null,null,{"$f":"IF(CI99=\"\",\"\",CF98)","v":""},{"$f":"CG98+1","v":2},null,null,{"$f":"IF(CM99=\"\",\"\",CJ98)","v":""},{"$f":"CK98+1","v":16},null,null,"打者",null,{"$f":"IF($C$7=\"\",\"\",VLOOKUP(CU99,$B$40:$D$73,2,FALSE))","v":""},null,null,null,null,{"$f":"CA99","v":0},{"$f":"IF(CP99=\"\",\"\",VLOOKUP(CU99,$B$40:$D$73,3,FALSE))","v":""},"得点",null,null,{"$f":"IF(DC99=\"\",\"\",CZ98)","v":""},{"$f":"DA98+1","v":2},null,null,{"$f":"IF(DG99=\"\",\"\",DD98)","v":""},{"$f":"DE98+1","v":16},null,null,"打者",null,{"$f":"IF($C$7=\"\",\"\",VLOOKUP(DO99,$B$40:$D$73,2,FALSE))","v":""},null,null,null,null,{"$f":"CU99","v":0},{"$f":"IF(DJ99=\"\",\"\",VLOOKUP(DO99,$B$40:$D$73,3,FALSE))","v":""},"得点",null,null,{"$f":"IF(DW99=\"\",\"\",DT98)","v":""},{"$f":"DU98+1","v":2},null,null,{"$f":"IF(EA99=\"\",\"\",DX98)","v":""},{"$f":"DY98+1","v":16},null,null,"打者",null,{"$f":"IF($C$7=\"\",\"\",VLOOKUP(EI99,$B$40:$D$73,2,FALSE))","v":""},null,null,null,null,{"$f":"DO99","v":0},{"$f":"IF(ED99=\"\",\"\",VLOOKUP(EI99,$B$40:$D$73,3,FALSE))","v":""},"得点",null,null,{"$f":"IF(EQ99=\"\",\"\",EN98)","v":""},{"$f":"EO98+1","v":2},null,null,{"$f":"IF(EU99=\"\",\"\",ER98)","v":""},{"$f":"ES98+1","v":16},null,null,"打者",null,{"$f":"IF($C$7=\"\",\"\",VLOOKUP(FC99,$B$40:$D$73,2,FALSE))","v":""},null,null,null,null,{"$f":"EI99","v":0},{"$f":"IF(EX99=\"\",\"\",VLOOKUP(FC99,$B$40:$D$73,3,FALSE))","v":""},"得点",null,null,{"$f":"IF(FK99=\"\",\"\",FH98)","v":""},{"$f":"FI98+1","v":2},null,null,{"$f":"IF(FO99=\"\",\"\",FL98)","v":""},{"$f":"FM98+1","v":16},null,null,"打者",null,{"$f":"IF($C$7=\"\",\"\",VLOOKUP(FW99,$B$40:$D$73,2,FALSE))","v":""},null,null,null,null,{"$f":"FC99","v":0},{"$f":"IF(FR99=\"\",\"\",VLOOKUP(FW99,$B$40:$D$73,3,FALSE))","v":""},"得点",null,null,{"$f":"IF(GE99=\"\",\"\",GB98)","v":""},{"$f":"GC98+1","v":2},null,null,{"$f":"IF(GI99=\"\",\"\",GF98)","v":""},{"$f":"GG98+1","v":16},null,null,"打者",null,{"$f":"IF($C$7=\"\",\"\",VLOOKUP(GQ99,$B$40:$D$73,2,FALSE))","v":""},null,null,null,null,{"$f":"FW99","v":0},{"$f":"IF(GL99=\"\",\"\",VLOOKUP(GQ99,$B$40:$D$73,3,FALSE))","v":""},"得点",null,null,{"$f":"IF(GY99=\"\",\"\",GV98)","v":""},{"$f":"GW98+1","v":2},null,null,{"$f":"IF(HC99=\"\",\"\",GZ98)","v":""},{"$f":"HA98+1","v":16},null,null,"打者",null,{"$f":"IF($C$7=\"\",\"\",VLOOKUP(HK99,$B$40:$D$73,2,FALSE))","v":""},null,null,null,null,{"$f":"GQ99","v":0},{"$f":"IF(HF99=\"\",\"\",VLOOKUP(HK99,$B$40:$D$73,3,FALSE))","v":""},"得点",null,null,{"$f":"IF(HS99=\"\",\"\",HP98)","v":""},{"$f":"HQ98+1","v":2},null,null,{"$f":"IF(HW99=\"\",\"\",HT98)","v":""},{"$f":"HU98+1","v":16},null,null,"打者",null,{"$f":"IF($C$7=\"\",\"\",VLOOKUP(IE99,$B$40:$D$73,2,FALSE))","v":""},null,null,null,null,{"$f":"HK99","v":0},{"$f":"IF(HZ99=\"\",\"\",VLOOKUP(IE99,$B$40:$D$73,3,FALSE))","v":""},"得点",null,null,{"$f":"IF(IM99=\"\",\"\",IJ98)","v":""},{"$f":"IK98+1","v":2},null,null,{"$f":"IF(IQ99=\"\",\"\",IN98)","v":""},{"$f":"IO98+1","v":16}]
[null,"",null,null,"",null,null,null,null,null,null,{"$f":"IF(S98=\"\",\"\",S98)","v":""},{"$f":"L100","v":""},{"$f":"M100","v":""},{"$f":"N100","v":""},{"$f":"O100","v":""},{"$f":"P100","v":""},{"$f":"Q100","v":""},{"$f":"R100","v":""},{"$f":"S100","v":""},{"$f":"T100","v":""},{"$f":"U100","v":""},null,"",3,null,null,"",17,null,null,{"$f":"IF(AM98=\"\",\"\",AM98)","v":""},{"$f":"AF100","v":""},{"$f":"AG100","v":""},{"$f":"AH100","v":""},{"$f":"AI100","v":""},{"$f":"AJ100","v":""},{"$f":"AK100","v":""},{"$f":"AL100","v":""},{"$f":"AM100","v":""},{"$f":"AN100","v":""},{"$f":"AO100","v":""},null,"",3,null,null,"",17,null,null,{"$f":"IF(BG98=\"\",\"\",BG98)","v":""},{"$f":"AZ100","v":""},{"$f":"BA100","v":""},{"$f":"BB100","v":""},{"$f":"BC100","v":""},{"$f":"BD100","v":""},{"$f":"BE100","v":""},{"$f":"BF100","v":""},{"$f":"BG100","v":""},{"$f":"BH100","v":""},{"$f":"BI100","v":""},null,"",3,null,null,"",17,null,null,{"$f":"IF(CA98=\"\",\"\",CA98)","v":""},{"$f":"BT100","v":""},{"$f":"BU100","v":""},{"$f":"BV100","v":""},{"$f":"BW100","v":""},{"$f":"BX100","v":""},{"$f":"BY100","v":""},{"$f":"BZ100","v":""},{"$f":"CA100","v":""},{"$f":"CB100","v":""},{"$f":"CC100","v":""},null,"",3,null,null,"",17,null,null,{"$f":"IF(CU98=\"\",\"\",CU98)","v":""},{"$f":"CN100","v":""},{"$f":"CO100","v":""},{"$f":"CP100","v":""},{"$f":"CQ100","v":""},{"$f":"CR100","v":""},{"$f":"CS100","v":""},{"$f":"CT100","v":""},{"$f":"CU100","v":""},{"$f":"CV100","v":""},{"$f":"CW100","v":""},null,"",3,null,null,"",17,null,null,{"$f":"IF(DO98=\"\",\"\",DO98)","v":""},{"$f":"DH100","v":""},{"$f":"DI100","v":""},{"$f":"DJ100","v":""},{"$f":"DK100","v":""},{"$f":"DL100","v":""},{"$f":"DM100","v":""},{"$f":"DN100","v":""},{"$f":"DO100","v":""},{"$f":"DP100","v":""},{"$f":"DQ100","v":""},null,"",3,null,null,"",17,null,null,{"$f":"IF(EI98=\"\",\"\",EI98)","v":""},{"$f":"EB100","v":""},{"$f":"EC100","v":""},{"$f":"ED100","v":""},{"$f":"EE100","v":""},{"$f":"EF100","v":""},{"$f":"EG100","v":""},{"$f":"EH100","v":""},{"$f":"EI100","v":""},{"$f":"EJ100","v":""},{"$f":"EK100","v":""},null,"",3,null,null,"",17,null,null,{"$f":"IF(FC98=\"\",\"\",FC98)","v":""},{"$f":"EV100","v":""},{"$f":"EW100","v":""},{"$f":"EX100","v":""},{"$f":"EY100","v":""},{"$f":"EZ100","v":""},{"$f":"FA100","v":""},{"$f":"FB100","v":""},{"$f":"FC100","v":""},{"$f":"FD100","v":""},{"$f":"FE100","v":""},null,"",3,null,null,"",17,null,null,{"$f":"IF(FW98=\"\",\"\",FW98)","v":""},{"$f":"FP100","v":""},{"$f":"FQ100","v":""},{"$f":"FR100","v":""},{"$f":"FS100","v":""},{"$f":"FT100","v":""},{"$f":"FU100","v":""},{"$f":"FV100","v":""},{"$f":"FW100","v":""},{"$f":"FX100","v":""},{"$f":"FY100","v":""},null,"",3,null,null,"",17,null,null,{"$f":"IF(GQ98=\"\",\"\",GQ98)","v":""},{"$f":"GJ100","v":""},{"$f":"GK100","v":""},{"$f":"GL100","v":""},{"$f":"GM100","v":""},{"$f":"GN100","v":""},{"$f":"GO100","v":""},{"$f":"GP100","v":""},{"$f":"GQ100","v":""},{"$f":"GR100","v":""},{"$f":"GS100","v":""},null,"",3,null,null,"",17,null,null,{"$f":"IF(HK98=\"\",\"\",HK98)","v":""},{"$f":"HD100","v":""},{"$f":"HE100","v":""},{"$f":"HF100","v":""},{"$f":"HG100","v":""},{"$f":"HH100","v":""},{"$f":"HI100","v":""},{"$f":"HJ100","v":""},{"$f":"HK100","v":""},{"$f":"HL100","v":""},{"$f":"HM100","v":""},null,"",3,null,null,"",17,null,null,{"$f":"IF(IE98=\"\",\"\",IE98)","v":""},{"$f":"HX100","v":""},{"$f":"HY100","v":""},{"$f":"HZ100","v":""},{"$f":"IA100","v":""},{"$f":"IB100","v":""},{"$f":"IC100","v":""},{"$f":"ID100","v":""},{"$f":"IE100","v":""},{"$f":"IF100","v":""},{"$f":"IG100","v":""},null,"",3,null,null,"",17]
[null,"",null,null,"",null,null,null,null,null,null,null,"O","O","O","O","M","M","I","I","I","I",null,"",4,null,null,"",18,null,null,null,"O","O","O","O","M","M","I","I","I","I",null,"",4,null,null,"",18,null,null,null,"O","O","O","O","M","M","I","I","I","I",null,"",4,null,null,"",18,null,null,null,"O","O","O","O","M","M","I","I","I","I",null,"",4,null,null,"",18,null,null,null,"O","O","O","O","M","M","I","I","I","I",null,"",4,null,null,"",18,null,null,null,"O","O","O","O","M","M","I","I","I","I",null,"",4,null,null,"",18,null,null,null,"O","O","O","O","M","M","I","I","I","I",null,"",4,null,null,"",18,null,null,null,"O","O","O","O","M","M","I","I","I","I",null,"",4,null,null,"",18,null,null,null,"O","O","O","O","M","M","I","I","I","I",null,"",4,null,null,"",18,null,null,null,"O","O","O","O","M","M","I","I","I","I",null,"",4,null,null,"",18,null,null,null,"O","O","O","O","M","M","I","I","I","I",null,"",4,null,null,"",18,null,null,null,"O","O","O","O","M","M","I","I","I","I",null,"",4,null,null,"",18]
[null,"",null,null,"",null,null,null,null,null,null,null,null,null,null,null,null,null,null,null,null,null,null,"",5,null,null,"",19,null,null,null,null,null,null,null,null,null,null,null,null,null,null,"",5,null,null,"",19,null,null,null,null,null,null,null,null,null,null,null,null,null,null,"",5,null,null,"",19,null,null,null,null,null,null,null,null,null,null,null,null,null,null,"",5,null,null,"",19,null,null,null,null,null,null,null,null,null,null,null,null,null,null,"",5,null,null,"",19,null,null,null,null,null,null,null,null,null,null,null,null,null,null,"",5,null,null,"",19,null,null,null,null,null,null,null,null,null,null,null,null,null,null,"",5,null,null,"",19,null,null,null,null,null,null,null,null,null,null,null,null,null,null,"",5,null,null,"",19,null,null,null,null,null,null,null,null,null,null,null,null,null,null,"",5,null,null,"",19,null,null,null,null,null,null,null,null,null,null,null,null,null,null,"",5,null,null,"",19,null,null,null,null,null,null,null,null,null,null,null,null,null,null,"",5,null,null,"",19,null,null,null,null,null,null,null,null,null,null,null,null,null,null,"",5,null,null,"",19]
[null,"",null,null,"",null,null,null,null,null,null,null,null,null,null,null,null,null,null,null,null,null,null,"",6,null,null,"",20,null,null,null,null,null,null,null,null,null,null,null,null,null,null,"",6,null,null,"",20,null,null,null,null,null,null,null,null,null,null,null,null,null,null,"",6,null,null,"",20,null,null,null,null,null,null,null,null,null,null,null,null,null,null,"",6,null,null,"",20,null,null,null,null,null,null,null,null,null,null,null,null,null,null,"",6,null,null,"",20,null,null,null,null,null,null,null,null,null,null,null,null,null,null,"",6,null,null,"",20,null,null,null,null,null,null,null,null,null,null,null,null,null,null,"",6,null,null,"",20,null,null,null,null,null,null,null,null,null,null,null,null,null,null,"",6,null,null,"",20,null,null,null,null,null,null,null,null,null,null,null,null,null,null,"",6,null,null,"",20,null,null,null,null,null,null,null,null,null,null,null,null,null,null,"",6,null,null,"",20,null,null,null,null,null,null,null,null,null,null,null,null,null,null,"",6,null,null,"",20,null,null,null,null,null,null,null,null,null,null,null,null,null,null,"",6,null,null,"",20]
[null,"",null,null,"",null,null,null,null,null,null,null,null,null,null,null,null,null,null,null,null,null,null,"",7,null,null,"",21,null,null,null,null,null,null,null,null,null,null,null,null,null,null,"",7,null,null,"",21,null,null,null,null,null,null,null,null,null,null,null,null,null,null,"",7,null,null,"",21,null,null,null,null,null,null,null,null,null,null,null,null,null,null,"",7,null,null,"",21,null,null,null,null,null,null,null,null,null,null,null,null,null,null,"",7,null,null,"",21,null,null,null,null,null,null,null,null,null,null,null,null,null,null,"",7,null,null,"",21,null,null,null,null,null,null,null,null,null,null,null,null,null,null,"",7,null,null,"",21,null,null,null,null,null,null,null,null,null,null,null,null,null,null,"",7,null,null,"",21,null,null,null,null,null,null,null,null,null,null,null,null,null,null,"",7,null,null,"",21,null,null,null,null,null,null,null,null,null,null,null,null,null,null,"",7,null,null,"",21,null,null,null,null,null,null,null,null,null,null,null,null,null,null,"",7,null,null,"",21,null,null,null,null,null,null,null,null,null,null,null,null,null,null,"",7,null,null,"",21]
[null,"",null,null,"",null,null,null,null,null,null,null,null,null,null,null,null,null,null,null,null,null,null,"",8,null,null,"",22,null,null,null,null,null,null,null,null,null,null,null,null,null,null,"",8,null,null,"",22,null,null,null,null,null,null,null,null,null,null,null,null,null,null,"",8,null,null,"",22,null,null,null,null,null,null,null,null,null,null,null,null,null,null,"",8,null,null,"",22,null,null,null,null,null,null,null,null,null,null,null,null,null,null,"",8,null,null,"",22,null,null,null,null,null,null,null,null,null,null,null,null,null,null,"",8,null,null,"",22,null,null,null,null,null,null,null,null,null,null,null,null,null,null,"",8,null,null,"",22,null,null,null,null,null,null,null,null,null,null,null,null,null,null,"",8,null,null,"",22,null,null,null,null,null,null,null,null,null,null,null,null,null,null,"",8,null,null,"",22,null,null,null,null,null,null,null,null,null,null,null,null,null,null,"",8,null,null,"",22,null,null,null,null,null,null,null,null,null,null,null,null,null,null,"",8,null,null,"",22,null,null,null,null,null,null,null,null,null,null,null,null,null,null,"",8,null,null,"",22]
[null,"",null,null,"",null,null,null,null,null,null,null,null,null,null,null,null,null,null,null,null,null,null,"",9,null,null,"",23,null,null,null,null,null,null,null,null,null,null,null,null,null,null,"",9,null,null,"",23,null,null,null,null,null,null,null,null,null,null,null,null,null,null,"",9,null,null,"",23,null,null,null,null,null,null,null,null,null,null,null,null,null,null,"",9,null,null,"",23,null,null,null,null,null,null,null,null,null,null,null,null,null,null,"",9,null,null,"",23,null,null,null,null,null,null,null,null,null,null,null,null,null,null,"",9,null,null,"",23,null,null,null,null,null,null,null,null,null,null,null,null,null,null,"",9,null,null,"",23,null,null,null,null,null,null,null,null,null,null,null,null,null,null,"",9,null,null,"",23,null,null,null,null,null,null,null,null,null,null,null,null,null,null,"",9,null,null,"",23,null,null,null,null,null,null,null,null,null,null,null,null,null,null,"",9,null,null,"",23,null,null,null,null,null,null,null,null,null,null,null,null,null,null,"",9,null,null,"",23,null,null,null,null,null,null,null,null,null,null,null,null,null,null,"",9,null,null,"",23]
[null,"",null,null,"",null,null,null,null,null,null,null,null,null,null,null,null,null,null,null,null,null,null,"",10,null,null,"",24,null,null,null,null,null,null,null,null,null,null,null,null,null,null,"",10,null,null,"",24,null,null,null,null,null,null,null,null,null,null,null,null,null,null,"",10,null,null,"",24,null,null,null,null,null,null,null,null,null,null,null,null,null,null,"",10,null,null,"",24,null,null,null,null,null,null,null,null,null,null,null,null,null,null,"",10,null,null,"",24,null,null,null,null,null,null,null,null,null,null,null,null,null,null,"",10,null,null,"",24,null,null,null,null,null,null,null,null,null,null,null,null,null,null,"",10,null,null,"",24,null,null,null,null,null,null,null,null,null,null,null,null,null,null,"",10,null,null,"",24,null,null,null,null,null,null,null,null,null,null,null,null,null,null,"",10,null,null,"",24,null,null,null,null,null,null,null,null,null,null,null,null,null,null,"",10,null,null,"",24,null,null,null,null,null,null,null,null,null,null,null,null,null,null,"",10,null,null,"",24,null,null,null,null,null,null,null,null,null,null,null,null,null,null,"",10,null,null,"",24]
[null,"",null,null,"",null,null,null,null,null,null,null,null,null,null,null,null,null,null,null,null,null,null,"",11,null,null,"",25,null,null,null,null,null,null,null,null,null,null,null,null,null,null,"",11,null,null,"",25,null,null,null,null,null,null,null,null,null,null,null,null,null,null,"",11,null,null,"",25,null,null,null,null,null,null,null,null,null,null,null,null,null,null,"",11,null,null,"",25,null,null,null,null,null,null,null,null,null,null,null,null,null,null,"",11,null,null,"",25,null,null,null,null,null,null,null,null,null,null,null,null,null,null,"",11,null,null,"",25,null,null,null,null,null,null,null,null,null,null,null,null,null,null,"",11,null,null,"",25,null,null,null,null,null,null,null,null,null,null,null,null,null,null,"",11,null,null,"",25,null,null,null,null,null,null,null,null,null,null,null,null,null,null,"",11,null,null,"",25,null,null,null,null,null,null,null,null,null,null,null,null,null,null,"",11,null,null,"",25,null,null,null,null,null,null,null,null,null,null,null,null,null,null,"",11,null,null,"",25,null,null,null,null,null,null,null,null,null,null,null,null,null,null,"",11,null,null,"",25]
[null,{"$f":"IF(E109=\"\",\"\",E109)","v":""},null,null,"",null,null,null,null,null,null,null,null,null,null,null,null,null,null,null,null,null,null,"",12,null,null,"",26,null,null,null,null,null,null,null,null,null,null,null,null,null,null,"",12,null,null,"",26,null,null,null,null,null,null,null,null,null,null,null,null,null,null,"",12,null,null,"",26,null,null,null,null,null,null,null,null,null,null,null,null,null,null,"",12,null,null,"",26,null,null,null,null,null,null,null,null,null,null,null,null,null,null,"",12,null,null,"",26,null,null,null,null,null,null,null,null,null,null,null,null,null,null,"",12,null,null,"",26,null,null,null,null,null,null,null,null,null,null,null,null,null,null,"",12,null,null,"",26,null,null,null,null,null,null,null,null,null,null,null,null,null,null,"",12,null,null,"",26,null,null,null,null,null,null,null,null,null,null,null,null,null,null,"",12,null,null,"",26,null,null,null,null,null,null,null,null,null,null,null,null,null,null,"",12,null,null,"",26,null,null,null,null,null,null,null,null,null,null,null,null,null,null,"",12,null,null,"",26,null,null,null,null,null,null,null,null,null,null,null,null,null,null,"",12,null,null,"",26]
[null,{"$f":"IF(E110=\"\",\"\",E110)","v":""},null,null,"",null,null,null,null,null,null,null,null,null,null,null,null,null,null,null,null,null,null,"",13,null,null,"",27,null,null,null,null,null,null,null,null,null,null,null,null,null,null,"",13,null,null,"",27,null,null,null,null,null,null,null,null,null,null,null,null,null,null,"",13,null,null,"",27,null,null,null,null,null,null,null,null,null,null,null,null,null,null,"",13,null,null,"",27,null,null,null,null,null,null,null,null,null,null,null,null,null,null,"",13,null,null,"",27,null,null,null,null,null,null,null,null,null,null,null,null,null,null,"",13,null,null,"",27,null,null,null,null,null,null,null,null,null,null,null,null,null,null,"",13,null,null,"",27,null,null,null,null,null,null,null,null,null,null,null,null,null,null,"",13,null,null,"",27,null,null,null,null,null,null,null,null,null,null,null,null,null,null,"",13,null,null,"",27,null,null,null,null,null,null,null,null,null,null,null,null,null,null,"",13,null,null,"",27,null,null,null,null,null,null,null,null,null,null,null,null,null,null,"",13,null,null,"",27,null,null,null,null,null,null,null,null,null,null,null,null,null,null,"",13,null,null,"",27]
[null,null,null,null,null,null,null,null,null,null,null,null,null,null,null,null,null,null,null,null,null,null,null,"",14,null,null,"",28,null,null,null,null,null,null,null,null,null,null,null,null,null,null,"",14,null,null,"",28,null,null,null,null,null,null,null,null,null,null,null,null,null,null,"",14,null,null,"",28,null,null,null,null,null,null,null,null,null,null,null,null,null,null,"",14,null,null,"",28,null,null,null,null,null,null,null,null,null,null,null,null,null,null,"",14,null,null,"",28,null,null,null,null,null,null,null,null,null,null,null,null,null,null,"",14,null,null,"",28,null,null,null,null,null,null,null,null,null,null,null,null,null,null,"",14,null,null,"",28,null,null,null,null,null,null,null,null,null,null,null,null,null,null,"",14,null,null,"",28,null,null,null,null,null,null,null,null,null,null,null,null,null,null,"",14,null,null,"",28,null,null,null,null,null,null,null,null,null,null,null,null,null,null,"",14,null,null,"",28,null,null,null,null,null,null,null,null,null,null,null,null,null,null,"",14,null,null,"",28,null,null,null,null,null,null,null,null,null,null,null,null,null,null,"",14,null,null,"",28]
[null,null,null,null,null,null,null,null,null,null,null,"⑧",null,"1回",null,null,null,null,null,null,null,null,null,"P","N","種","判","P","N","種","判","⑧",null,"2回",null,null,null,null,null,null,null,null,null,"P","N","種","判","P","N","種","判","⑧",null,"3回",null,null,null,null,null,null,null,null,null,"P","N","種","判","P","N","種","判","⑧",null,"4回",null,null,null,null,null,null,null,null,null,"P","N","種","判","P","N","種","判","⑧",null,"5回",null,null,null,null,null,null,null,null,null,"P","N","種","判","P","N","種","判","⑧",null,"6回",null,null,null,null,null,null,null,null,null,"P","N","種","判","P","N","種","判","⑧",null,"7回",null,null,null,null,null,null,null,null,null,"P","N","種","判","P","N","種","判","⑧",null,"8回",null,null,null,null,null,null,null,null,null,"P","N","種","判","P","N","種","判","⑧",null,"9回",null,null,null,null,null,null,null,null,null,"P","N","種","判","P","N","種","判","⑧",null,"10回",null,null,null,null,null,null,null,null,null,"P","N","種","判","P","N","種","判","⑧",null,"11回",null,null,null,null,null,null,null,null,null,"P","N","種","判","P","N","種","判","⑧",null,"12回",null,null,null,null,null,null,null,null,null,"P","N","種","判","P","N","種","判"]
[null,null,null,null,null,null,null,null,null,null,null,"投手",null,{"$f":"IF($C$28=\"\",\"\",VLOOKUP(S113,$B$77:$E$110,2,FALSE))","v":""},null,null,null,null,{"$f":"S98","v":""},{"$f":"IF($C$28=\"\",\"\",VLOOKUP(S113,$A$28:$D$35,4,FALSE))","v":""},"結果",null,null,{"$f":"IF(AA113=\"\",\"\",S113)","v":""},1,null,null,{"$f":"IF(AE113=\"\",\"\",S113)","v":""},15,null,null,"投手",null,{"$f":"IF($C$28=\"\",\"\",VLOOKUP(AM113,$B$77:$E$110,2,FALSE))","v":""},null,null,null,null,{"$f":"AM98","v":""},{"$f":"IF($C$28=\"\",\"\",VLOOKUP(AM113,$A$28:$D$35,4,FALSE))","v":""},"結果",null,null,{"$f":"IF(AU113=\"\",\"\",AM113)","v":""},1,null,null,{"$f":"IF(AY113=\"\",\"\",AM113)","v":""},15,null,null,"投手",null,{"$f":"IF($C$28=\"\",\"\",VLOOKUP(BG113,$B$77:$E$110,2,FALSE))","v":""},null,null,null,null,{"$f":"BG98","v":""},{"$f":"IF($C$28=\"\",\"\",VLOOKUP(BG113,$A$28:$D$35,4,FALSE))","v":""},"結果",null,null,{"$f":"IF(BO113=\"\",\"\",BG113)","v":""},1,null,null,{"$f":"IF(BS113=\"\",\"\",BG113)","v":""},15,null,null,"投手",null,{"$f":"IF($C$28=\"\",\"\",VLOOKUP(CA113,$B$77:$E$110,2,FALSE))","v":""},null,null,null,null,{"$f":"CA98","v":""},{"$f":"IF($C$28=\"\",\"\",VLOOKUP(CA113,$A$28:$D$35,4,FALSE))","v":""},"結果",null,null,{"$f":"IF(CI113=\"\",\"\",CA113)","v":""},1,null,null,{"$f":"IF(CM113=\"\",\"\",CA113)","v":""},15,null,null,"投手",null,{"$f":"IF($C$28=\"\",\"\",VLOOKUP(CU113,$B$77:$E$110,2,FALSE))","v":""},null,null,null,null,{"$f":"CU98","v":""},{"$f":"IF($C$28=\"\",\"\",VLOOKUP(CU113,$A$28:$D$35,4,FALSE))","v":""},"結果",null,null,{"$f":"IF(DC113=\"\",\"\",CU113)","v":""},1,null,null,{"$f":"IF(DG113=\"\",\"\",CU113)","v":""},15,null,null,"投手",null,{"$f":"IF($C$28=\"\",\"\",VLOOKUP(DO113,$B$77:$E$110,2,FALSE))","v":""},null,null,null,null,{"$f":"DO98","v":""},{"$f":"IF($C$28=\"\",\"\",VLOOKUP(DO113,$A$28:$D$35,4,FALSE))","v":""},"結果",null,null,{"$f":"IF(DW113=\"\",\"\",DO113)","v":""},1,null,null,{"$f":"IF(EA113=\"\",\"\",DO113)","v":""},15,null,null,"投手",null,{"$f":"IF($C$28=\"\",\"\",VLOOKUP(EI113,$B$77:$E$110,2,FALSE))","v":""},null,null,null,null,{"$f":"EI98","v":""},{"$f":"IF($C$28=\"\",\"\",VLOOKUP(EI113,$A$28:$D$35,4,FALSE))","v":""},"結果",null,null,{"$f":"IF(EQ113=\"\",\"\",EI113)","v":""},1,null,null,{"$f":"IF(EU113=\"\",\"\",EI113)","v":""},15,null,null,"投手",null,{"$f":"IF($C$28=\"\",\"\",VLOOKUP(FC113,$B$77:$E$110,2,FALSE))","v":""},null,null,null,null,{"$f":"FC98","v":""},{"$f":"IF($C$28=\"\",\"\",VLOOKUP(FC113,$A$28:$D$35,4,FALSE))","v":""},"結果",null,null,{"$f":"IF(FK113=\"\",\"\",FC113)","v":""},1,null,null,{"$f":"IF(FO113=\"\",\"\",FC113)","v":""},15,null,null,"投手",null,{"$f":"IF($C$28=\"\",\"\",VLOOKUP(FW113,$B$77:$E$110,2,FALSE))","v":""},null,null,null,null,{"$f":"FW98","v":""},{"$f":"IF($C$28=\"\",\"\",VLOOKUP(FW113,$A$28:$D$35,4,FALSE))","v":""},"結果",null,null,{"$f":"IF(GE113=\"\",\"\",FW113)","v":""},1,null,null,{"$f":"IF(GI113=\"\",\"\",FW113)","v":""},15,null,null,"投手",null,{"$f":"IF($C$28=\"\",\"\",VLOOKUP(GQ113,$B$77:$E$110,2,FALSE))","v":""},null,null,null,null,{"$f":"GQ98","v":""},{"$f":"IF($C$28=\"\",\"\",VLOOKUP(GQ113,$A$28:$D$35,4,FALSE))","v":""},"結果",null,null,{"$f":"IF(GY113=\"\",\"\",GQ113)","v":""},1,null,null,{"$f":"IF(HC113=\"\",\"\",GQ113)","v":""},15,null,null,"投手",null,{"$f":"IF($C$28=\"\",\"\",VLOOKUP(HK113,$B$77:$E$110,2,FALSE))","v":""},null,null,null,null,{"$f":"HK98","v":""},{"$f":"IF($C$28=\"\",\"\",VLOOKUP(HK113,$A$28:$D$35,4,FALSE))","v":""},"結果",null,null,{"$f":"IF(HS113=\"\",\"\",HK113)","v":""},1,null,null,{"$f":"IF(HW113=\"\",\"\",HK113)","v":""},15,null,null,"投手",null,{"$f":"IF($C$28=\"\",\"\",VLOOKUP(IE113,$B$77:$E$110,2,FALSE))","v":""},null,null,null,null,{"$f":"IE98","v":""},{"$f":"IF($C$28=\"\",\"\",VLOOKUP(IE113,$A$28:$D$35,4,FALSE))","v":""},"結果",null,null,{"$f":"IF(IM113=\"\",\"\",IE113)","v":""},1,null,null,{"$f":"IF(IQ113=\"\",\"\",IE113)","v":""},15]
[null,null,null,null,null,null,null,null,null,null,null,"打者",null,{"$f":"IF($C$7=\"\",\"\",VLOOKUP(S114,$B$40:$D$73,2,FALSE))","v":""},null,null,null,null,{"$f":"E14","v":0},{"$f":"IF(N114=\"\",\"\",VLOOKUP(S114,$B$40:$D$73,3,FALSE))","v":""},"得点",null,null,{"$f":"IF(AA114=\"\",\"\",X113)","v":""},{"$f":"Y113+1","v":2},null,null,{"$f":"IF(AE114=\"\",\"\",AB113)","v":""},{"$f":"AC113+1","v":16},null,null,"打者",null,{"$f":"IF($C$7=\"\",\"\",VLOOKUP(AM114,$B$40:$D$73,2,FALSE))","v":""},null,null,null,null,{"$f":"S114","v":0},{"$f":"IF(AH114=\"\",\"\",VLOOKUP(AM114,$B$40:$D$73,3,FALSE))","v":""},"得点",null,null,{"$f":"IF(AU114=\"\",\"\",AR113)","v":""},{"$f":"AS113+1","v":2},null,null,{"$f":"IF(AY114=\"\",\"\",AV113)","v":""},{"$f":"AW113+1","v":16},null,null,"打者",null,{"$f":"IF($C$7=\"\",\"\",VLOOKUP(BG114,$B$40:$D$73,2,FALSE))","v":""},null,null,null,null,{"$f":"AM114","v":0},{"$f":"IF(BB114=\"\",\"\",VLOOKUP(BG114,$B$40:$D$73,3,FALSE))","v":""},"得点",null,null,{"$f":"IF(BO114=\"\",\"\",BL113)","v":""},{"$f":"BM113+1","v":2},null,null,{"$f":"IF(BS114=\"\",\"\",BP113)","v":""},{"$f":"BQ113+1","v":16},null,null,"打者",null,{"$f":"IF($C$7=\"\",\"\",VLOOKUP(CA114,$B$40:$D$73,2,FALSE))","v":""},null,null,null,null,{"$f":"BG114","v":0},{"$f":"IF(BV114=\"\",\"\",VLOOKUP(CA114,$B$40:$D$73,3,FALSE))","v":""},"得点",null,null,{"$f":"IF(CI114=\"\",\"\",CF113)","v":""},{"$f":"CG113+1","v":2},null,null,{"$f":"IF(CM114=\"\",\"\",CJ113)","v":""},{"$f":"CK113+1","v":16},null,null,"打者",null,{"$f":"IF($C$7=\"\",\"\",VLOOKUP(CU114,$B$40:$D$73,2,FALSE))","v":""},null,null,null,null,{"$f":"CA114","v":0},{"$f":"IF(CP114=\"\",\"\",VLOOKUP(CU114,$B$40:$D$73,3,FALSE))","v":""},"得点",null,null,{"$f":"IF(DC114=\"\",\"\",CZ113)","v":""},{"$f":"DA113+1","v":2},null,null,{"$f":"IF(DG114=\"\",\"\",DD113)","v":""},{"$f":"DE113+1","v":16},null,null,"打者",null,{"$f":"IF($C$7=\"\",\"\",VLOOKUP(DO114,$B$40:$D$73,2,FALSE))","v":""},null,null,null,null,{"$f":"CU114","v":0},{"$f":"IF(DJ114=\"\",\"\",VLOOKUP(DO114,$B$40:$D$73,3,FALSE))","v":""},"得点",null,null,{"$f":"IF(DW114=\"\",\"\",DT113)","v":""},{"$f":"DU113+1","v":2},null,null,{"$f":"IF(EA114=\"\",\"\",DX113)","v":""},{"$f":"DY113+1","v":16},null,null,"打者",null,{"$f":"IF($C$7=\"\",\"\",VLOOKUP(EI114,$B$40:$D$73,2,FALSE))","v":""},null,null,null,null,{"$f":"DO114","v":0},{"$f":"IF(ED114=\"\",\"\",VLOOKUP(EI114,$B$40:$D$73,3,FALSE))","v":""},"得点",null,null,{"$f":"IF(EQ114=\"\",\"\",EN113)","v":""},{"$f":"EO113+1","v":2},null,null,{"$f":"IF(EU114=\"\",\"\",ER113)","v":""},{"$f":"ES113+1","v":16},null,null,"打者",null,{"$f":"IF($C$7=\"\",\"\",VLOOKUP(FC114,$B$40:$D$73,2,FALSE))","v":""},null,null,null,null,{"$f":"EI114","v":0},{"$f":"IF(EX114=\"\",\"\",VLOOKUP(FC114,$B$40:$D$73,3,FALSE))","v":""},"得点",null,null,{"$f":"IF(FK114=\"\",\"\",FH113)","v":""},{"$f":"FI113+1","v":2},null,null,{"$f":"IF(FO114=\"\",\"\",FL113)","v":""},{"$f":"FM113+1","v":16},null,null,"打者",null,{"$f":"IF($C$7=\"\",\"\",VLOOKUP(FW114,$B$40:$D$73,2,FALSE))","v":""},null,null,null,null,{"$f":"FC114","v":0},{"$f":"IF(FR114=\"\",\"\",VLOOKUP(FW114,$B$40:$D$73,3,FALSE))","v":""},"得点",null,null,{"$f":"IF(GE114=\"\",\"\",GB113)","v":""},{"$f":"GC113+1","v":2},null,null,{"$f":"IF(GI114=\"\",\"\",GF113)","v":""},{"$f":"GG113+1","v":16},null,null,"打者",null,{"$f":"IF($C$7=\"\",\"\",VLOOKUP(GQ114,$B$40:$D$73,2,FALSE))","v":""},null,null,null,null,{"$f":"FW114","v":0},{"$f":"IF(GL114=\"\",\"\",VLOOKUP(GQ114,$B$40:$D$73,3,FALSE))","v":""},"得点",null,null,{"$f":"IF(GY114=\"\",\"\",GV113)","v":""},{"$f":"GW113+1","v":2},null,null,{"$f":"IF(HC114=\"\",\"\",GZ113)","v":""},{"$f":"HA113+1","v":16},null,null,"打者",null,{"$f":"IF($C$7=\"\",\"\",VLOOKUP(HK114,$B$40:$D$73,2,FALSE))","v":""},null,null,null,null,{"$f":"GQ114","v":0},{"$f":"IF(HF114=\"\",\"\",VLOOKUP(HK114,$B$40:$D$73,3,FALSE))","v":""},"得点",null,null,{"$f":"IF(HS114=\"\",\"\",HP113)","v":""},{"$f":"HQ113+1","v":2},null,null,{"$f":"IF(HW114=\"\",\"\",HT113)","v":""},{"$f":"HU113+1","v":16},null,null,"打者",null,{"$f":"IF($C$7=\"\",\"\",VLOOKUP(IE114,$B$40:$D$73,2,FALSE))","v":""},null,null,null,null,{"$f":"HK114","v":0},{"$f":"IF(HZ114=\"\",\"\",VLOOKUP(IE114,$B$40:$D$73,3,FALSE))","v":""},"得点",null,null,{"$f":"IF(IM114=\"\",\"\",IJ113)","v":""},{"$f":"IK113+1","v":2},null,null,{"$f":"IF(IQ114=\"\",\"\",IN113)","v":""},{"$f":"IO113+1","v":16}]
[null,null,null,null,null,null,null,null,null,null,null,{"$f":"IF(S113=\"\",\"\",S113)","v":""},{"$f":"L115","v":""},{"$f":"M115","v":""},{"$f":"N115","v":""},{"$f":"O115","v":""},{"$f":"P115","v":""},{"$f":"Q115","v":""},{"$f":"R115","v":""},{"$f":"S115","v":""},{"$f":"T115","v":""},{"$f":"U115","v":""},null,"",3,null,null,"",17,null,null,{"$f":"IF(AM113=\"\",\"\",AM113)","v":""},{"$f":"AF115","v":""},{"$f":"AG115","v":""},{"$f":"AH115","v":""},{"$f":"AI115","v":""},{"$f":"AJ115","v":""},{"$f":"AK115","v":""},{"$f":"AL115","v":""},{"$f":"AM115","v":""},{"$f":"AN115","v":""},{"$f":"AO115","v":""},null,"",3,null,null,"",17,null,null,{"$f":"IF(BG113=\"\",\"\",BG113)","v":""},{"$f":"AZ115","v":""},{"$f":"BA115","v":""},{"$f":"BB115","v":""},{"$f":"BC115","v":""},{"$f":"BD115","v":""},{"$f":"BE115","v":""},{"$f":"BF115","v":""},{"$f":"BG115","v":""},{"$f":"BH115","v":""},{"$f":"BI115","v":""},null,"",3,null,null,"",17,null,null,{"$f":"IF(CA113=\"\",\"\",CA113)","v":""},{"$f":"BT115","v":""},{"$f":"BU115","v":""},{"$f":"BV115","v":""},{"$f":"BW115","v":""},{"$f":"BX115","v":""},{"$f":"BY115","v":""},{"$f":"BZ115","v":""},{"$f":"CA115","v":""},{"$f":"CB115","v":""},{"$f":"CC115","v":""},null,"",3,null,null,"",17,null,null,{"$f":"IF(CU113=\"\",\"\",CU113)","v":""},{"$f":"CN115","v":""},{"$f":"CO115","v":""},{"$f":"CP115","v":""},{"$f":"CQ115","v":""},{"$f":"CR115","v":""},{"$f":"CS115","v":""},{"$f":"CT115","v":""},{"$f":"CU115","v":""},{"$f":"CV115","v":""},{"$f":"CW115","v":""},null,"",3,null,null,"",17,null,null,{"$f":"IF(DO113=\"\",\"\",DO113)","v":""},{"$f":"DH115","v":""},{"$f":"DI115","v":""},{"$f":"DJ115","v":""},{"$f":"DK115","v":""},{"$f":"DL115","v":""},{"$f":"DM115","v":""},{"$f":"DN115","v":""},{"$f":"DO115","v":""},{"$f":"DP115","v":""},{"$f":"DQ115","v":""},null,"",3,null,null,"",17,null,null,{"$f":"IF(EI113=\"\",\"\",EI113)","v":""},{"$f":"EB115","v":""},{"$f":"EC115","v":""},{"$f":"ED115","v":""},{"$f":"EE115","v":""},{"$f":"EF115","v":""},{"$f":"EG115","v":""},{"$f":"EH115","v":""},{"$f":"EI115","v":""},{"$f":"EJ115","v":""},{"$f":"EK115","v":""},null,"",3,null,null,"",17,null,null,{"$f":"IF(FC113=\"\",\"\",FC113)","v":""},{"$f":"EV115","v":""},{"$f":"EW115","v":""},{"$f":"EX115","v":""},{"$f":"EY115","v":""},{"$f":"EZ115","v":""},{"$f":"FA115","v":""},{"$f":"FB115","v":""},{"$f":"FC115","v":""},{"$f":"FD115","v":""},{"$f":"FE115","v":""},null,"",3,null,null,"",17,null,null,{"$f":"IF(FW113=\"\",\"\",FW113)","v":""},{"$f":"FP115","v":""},{"$f":"FQ115","v":""},{"$f":"FR115","v":""},{"$f":"FS115","v":""},{"$f":"FT115","v":""},{"$f":"FU115","v":""},{"$f":"FV115","v":""},{"$f":"FW115","v":""},{"$f":"FX115","v":""},{"$f":"FY115","v":""},null,"",3,null,null,"",17,null,null,{"$f":"IF(GQ113=\"\",\"\",GQ113)","v":""},{"$f":"GJ115","v":""},{"$f":"GK115","v":""},{"$f":"GL115","v":""},{"$f":"GM115","v":""},{"$f":"GN115","v":""},{"$f":"GO115","v":""},{"$f":"GP115","v":""},{"$f":"GQ115","v":""},{"$f":"GR115","v":""},{"$f":"GS115","v":""},null,"",3,null,null,"",17,null,null,{"$f":"IF(HK113=\"\",\"\",HK113)","v":""},{"$f":"HD115","v":""},{"$f":"HE115","v":""},{"$f":"HF115","v":""},{"$f":"HG115","v":""},{"$f":"HH115","v":""},{"$f":"HI115","v":""},{"$f":"HJ115","v":""},{"$f":"HK115","v":""},{"$f":"HL115","v":""},{"$f":"HM115","v":""},null,"",3,null,null,"",17,null,null,{"$f":"IF(IE113=\"\",\"\",IE113)","v":""},{"$f":"HX115","v":""},{"$f":"HY115","v":""},{"$f":"HZ115","v":""},{"$f":"IA115","v":""},{"$f":"IB115","v":""},{"$f":"IC115","v":""},{"$f":"ID115","v":""},{"$f":"IE115","v":""},{"$f":"IF115","v":""},{"$f":"IG115","v":""},null,"",3,null,null,"",17]
[null,null,null,null,null,null,null,null,null,null,null,null,"O","O","O","O","M","M","I","I","I","I",null,"",4,null,null,"",18,null,null,null,"O","O","O","O","M","M","I","I","I","I",null,"",4,null,null,"",18,null,null,null,"O","O","O","O","M","M","I","I","I","I",null,"",4,null,null,"",18,null,null,null,"O","O","O","O","M","M","I","I","I","I",null,"",4,null,null,"",18,null,null,null,"O","O","O","O","M","M","I","I","I","I",null,"",4,null,null,"",18,null,null,null,"O","O","O","O","M","M","I","I","I","I",null,"",4,null,null,"",18,null,null,null,"O","O","O","O","M","M","I","I","I","I",null,"",4,null,null,"",18,null,null,null,"O","O","O","O","M","M","I","I","I","I",null,"",4,null,null,"",18,null,null,null,"O","O","O","O","M","M","I","I","I","I",null,"",4,null,null,"",18,null,null,null,"O","O","O","O","M","M","I","I","I","I",null,"",4,null,null,"",18,null,null,null,"O","O","O","O","M","M","I","I","I","I",null,"",4,null,null,"",18,null,null,null,"O","O","O","O","M","M","I","I","I","I",null,"",4,null,null,"",18]
[null,null,null,null,null,null,null,null,null,null,null,null,null,null,null,null,null,null,null,null,null,null,null,"",5,null,null,"",19,null,null,null,null,null,null,null,null,null,null,null,null,null,null,"",5,null,null,"",19,null,null,null,null,null,null,null,null,null,null,null,null,null,null,"",5,null,null,"",19,null,null,null,null,null,null,null,null,null,null,null,null,null,null,"",5,null,null,"",19,null,null,null,null,null,null,null,null,null,null,null,null,null,null,"",5,null,null,"",19,null,null,null,null,null,null,null,null,null,null,null,null,null,null,"",5,null,null,"",19,null,null,null,null,null,null,null,null,null,null,null,null,null,null,"",5,null,null,"",19,null,null,null,null,null,null,null,null,null,null,null,null,null,null,"",5,null,null,"",19,null,null,null,null,null,null,null,null,null,null,null,null,null,null,"",5,null,null,"",19,null,null,null,null,null,null,null,null,null,null,null,null,null,null,"",5,null,null,"",19,null,null,null,null,null,null,null,null,null,null,null,null,null,null,"",5,null,null,"",19,null,null,null,null,null,null,null,null,null,null,null,null,null,null,"",5,null,null,"",19]
[null,null,null,null,null,null,null,null,null,null,null,null,null,null,null,null,null,null,null,null,null,null,null,"",6,null,null,"",20,null,null,null,null,null,null,null,null,null,null,null,null,null,null,"",6,null,null,"",20,null,null,null,null,null,null,null,null,null,null,null,null,null,null,"",6,null,null,"",20,null,null,null,null,null,null,null,null,null,null,null,null,null,null,"",6,null,null,"",20,null,null,null,null,null,null,null,null,null,null,null,null,null,null,"",6,null,null,"",20,null,null,null,null,null,null,null,null,null,null,null,null,null,null,"",6,null,null,"",20,null,null,null,null,null,null,null,null,null,null,null,null,null,null,"",6,null,null,"",20,null,null,null,null,null,null,null,null,null,null,null,null,null,null,"",6,null,null,"",20,null,null,null,null,null,null,null,null,null,null,null,null,null,null,"",6,null,null,"",20,null,null,null,null,null,null,null,null,null,null,null,null,null,null,"",6,null,null,"",20,null,null,null,null,null,null,null,null,null,null,null,null,null,null,"",6,null,null,"",20,null,null,null,null,null,null,null,null,null,null,null,null,null,null,"",6,null,null,"",20]
[null,null,null,null,null,null,null,null,null,null,null,null,null,null,null,null,null,null,null,null,null,null,null,"",7,null,null,"",21,null,null,null,null,null,null,null,null,null,null,null,null,null,null,"",7,null,null,"",21,null,null,null,null,null,null,null,null,null,null,null,null,null,null,"",7,null,null,"",21,null,null,null,null,null,null,null,null,null,null,null,null,null,null,"",7,null,null,"",21,null,null,null,null,null,null,null,null,null,null,null,null,null,null,"",7,null,null,"",21,null,null,null,null,null,null,null,null,null,null,null,null,null,null,"",7,null,null,"",21,null,null,null,null,null,null,null,null,null,null,null,null,null,null,"",7,null,null,"",21,null,null,null,null,null,null,null,null,null,null,null,null,null,null,"",7,null,null,"",21,null,null,null,null,null,null,null,null,null,null,null,null,null,null,"",7,null,null,"",21,null,null,null,null,null,null,null,null,null,null,null,null,null,null,"",7,null,null,"",21,null,null,null,null,null,null,null,null,null,null,null,null,null,null,"",7,null,null,"",21,null,null,null,null,null,null,null,null,null,null,null,null,null,null,"",7,null,null,"",21]
[null,null,null,null,null,null,null,null,null,null,null,null,null,null,null,null,null,null,null,null,null,null,null,"",8,null,null,"",22,null,null,null,null,null,null,null,null,null,null,null,null,null,null,"",8,null,null,"",22,null,null,null,null,null,null,null,null,null,null,null,null,null,null,"",8,null,null,"",22,null,null,null,null,null,null,null,null,null,null,null,null,null,null,"",8,null,null,"",22,null,null,null,null,null,null,null,null,null,null,null,null,null,null,"",8,null,null,"",22,null,null,null,null,null,null,null,null,null,null,null,null,null,null,"",8,null,null,"",22,null,null,null,null,null,null,null,null,null,null,null,null,null,null,"",8,null,null,"",22,null,null,null,null,null,null,null,null,null,null,null,null,null,null,"",8,null,null,"",22,null,null,null,null,null,null,null,null,null,null,null,null,null,null,"",8,null,null,"",22,null,null,null,null,null,null,null,null,null,null,null,null,null,null,"",8,null,null,"",22,null,null,null,null,null,null,null,null,null,null,null,null,null,null,"",8,null,null,"",22,null,null,null,null,null,null,null,null,null,null,null,null,null,null,"",8,null,null,"",22]
[null,null,null,null,null,null,null,null,null,null,null,null,null,null,null,null,null,null,null,null,null,null,null,"",9,null,null,"",23,null,null,null,null,null,null,null,null,null,null,null,null,null,null,"",9,null,null,"",23,null,null,null,null,null,null,null,null,null,null,null,null,null,null,"",9,null,null,"",23,null,null,null,null,null,null,null,null,null,null,null,null,null,null,"",9,null,null,"",23,null,null,null,null,null,null,null,null,null,null,null,null,null,null,"",9,null,null,"",23,null,null,null,null,null,null,null,null,null,null,null,null,null,null,"",9,null,null,"",23,null,null,null,null,null,null,null,null,null,null,null,null,null,null,"",9,null,null,"",23,null,null,null,null,null,null,null,null,null,null,null,null,null,null,"",9,null,null,"",23,null,null,null,null,null,null,null,null,null,null,null,null,null,null,"",9,null,null,"",23,null,null,null,null,null,null,null,null,null,null,null,null,null,null,"",9,null,null,"",23,null,null,null,null,null,null,null,null,null,null,null,null,null,null,"",9,null,null,"",23,null,null,null,null,null,null,null,null,null,null,null,null,null,null,"",9,null,null,"",23]
[null,null,null,null,null,null,null,null,null,null,null,null,null,null,null,null,null,null,null,null,null,null,null,"",10,null,null,"",24,null,null,null,null,null,null,null,null,null,null,null,null,null,null,"",10,null,null,"",24,null,null,null,null,null,null,null,null,null,null,null,null,null,null,"",10,null,null,"",24,null,null,null,null,null,null,null,null,null,null,null,null,null,null,"",10,null,null,"",24,null,null,null,null,null,null,null,null,null,null,null,null,null,null,"",10,null,null,"",24,null,null,null,null,null,null,null,null,null,null,null,null,null,null,"",10,null,null,"",24,null,null,null,null,null,null,null,null,null,null,null,null,null,null,"",10,null,null,"",24,null,null,null,null,null,null,null,null,null,null,null,null,null,null,"",10,null,null,"",24,null,null,null,null,null,null,null,null,null,null,null,null,null,null,"",10,null,null,"",24,null,null,null,null,null,null,null,null,null,null,null,null,null,null,"",10,null,null,"",24,null,null,null,null,null,null,null,null,null,null,null,null,null,null,"",10,null,null,"",24,null,null,null,null,null,null,null,null,null,null,null,null,null,null,"",10,null,null,"",24]
[null,null,null,null,null,null,null,null,null,null,null,null,null,null,null,null,null,null,null,null,null,null,null,"",11,null,null,"",25,null,null,null,null,null,null,null,null,null,null,null,null,null,null,"",11,null,null,"",25,null,null,null,null,null,null,null,null,null,null,null,null,null,null,"",11,null,null,"",25,null,null,null,null,null,null,null,null,null,null,null,null,null,null,"",11,null,null,"",25,null,null,null,null,null,null,null,null,null,null,null,null,null,null,"",11,null,null,"",25,null,null,null,null,null,null,null,null,null,null,null,null,null,null,"",11,null,null,"",25,null,null,null,null,null,null,null,null,null,null,null,null,null,null,"",11,null,null,"",25,null,null,null,null,null,null,null,null,null,null,null,null,null,null,"",11,null,null,"",25,null,null,null,null,null,null,null,null,null,null,null,null,null,null,"",11,null,null,"",25,null,null,null,null,null,null,null,null,null,null,null,null,null,null,"",11,null,null,"",25,null,null,null,null,null,null,null,null,null,null,null,null,null,null,"",11,null,null,"",25,null,null,null,null,null,null,null,null,null,null,null,null,null,null,"",11,null,null,"",25]
[null,null,null,null,null,null,null,null,null,null,null,null,null,null,null,null,null,null,null,null,null,null,null,"",12,null,null,"",26,null,null,null,null,null,null,null,null,null,null,null,null,null,null,"",12,null,null,"",26,null,null,null,null,null,null,null,null,null,null,null,null,null,null,"",12,null,null,"",26,null,null,null,null,null,null,null,null,null,null,null,null,null,null,"",12,null,null,"",26,null,null,null,null,null,null,null,null,null,null,null,null,null,null,"",12,null,null,"",26,null,null,null,null,null,null,null,null,null,null,null,null,null,null,"",12,null,null,"",26,null,null,null,null,null,null,null,null,null,null,null,null,null,null,"",12,null,null,"",26,null,null,null,null,null,null,null,null,null,null,null,null,null,null,"",12,null,null,"",26,null,null,null,null,null,null,null,null,null,null,null,null,null,null,"",12,null,null,"",26,null,null,null,null,null,null,null,null,null,null,null,null,null,null,"",12,null,null,"",26,null,null,null,null,null,null,null,null,null,null,null,null,null,null,"",12,null,null,"",26,null,null,null,null,null,null,null,null,null,null,null,null,null,null,"",12,null,null,"",26]
[null,null,null,null,null,null,null,null,null,null,null,null,null,null,null,null,null,null,null,null,null,null,null,"",13,null,null,"",27,null,null,null,null,null,null,null,null,null,null,null,null,null,null,"",13,null,null,"",27,null,null,null,null,null,null,null,null,null,null,null,null,null,null,"",13,null,null,"",27,null,null,null,null,null,null,null,null,null,null,null,null,null,null,"",13,null,null,"",27,null,null,null,null,null,null,null,null,null,null,null,null,null,null,"",13,null,null,"",27,null,null,null,null,null,null,null,null,null,null,null,null,null,null,"",13,null,null,"",27,null,null,null,null,null,null,null,null,null,null,null,null,null,null,"",13,null,null,"",27,null,null,null,null,null,null,null,null,null,null,null,null,null,null,"",13,null,null,"",27,null,null,null,null,null,null,null,null,null,null,null,null,null,null,"",13,null,null,"",27,null,null,null,null,null,null,null,null,null,null,null,null,null,null,"",13,null,null,"",27,null,null,null,null,null,null,null,null,null,null,null,null,null,null,"",13,null,null,"",27,null,null,null,null,null,null,null,null,null,null,null,null,null,null,"",13,null,null,"",27]
[null,null,null,null,null,null,null,null,null,null,null,null,null,null,null,null,null,null,null,null,null,null,null,"",14,null,null,"",28,null,null,null,null,null,null,null,null,null,null,null,null,null,null,"",14,null,null,"",28,null,null,null,null,null,null,null,null,null,null,null,null,null,null,"",14,null,null,"",28,null,null,null,null,null,null,null,null,null,null,null,null,null,null,"",14,null,null,"",28,null,null,null,null,null,null,null,null,null,null,null,null,null,null,"",14,null,null,"",28,null,null,null,null,null,null,null,null,null,null,null,null,null,null,"",14,null,null,"",28,null,null,null,null,null,null,null,null,null,null,null,null,null,null,"",14,null,null,"",28,null,null,null,null,null,null,null,null,null,null,null,null,null,null,"",14,null,null,"",28,null,null,null,null,null,null,null,null,null,null,null,null,null,null,"",14,null,null,"",28,null,null,null,null,null,null,null,null,null,null,null,null,null,null,"",14,null,null,"",28,null,null,null,null,null,null,null,null,null,null,null,null,null,null,"",14,null,null,"",28,null,null,null,null,null,null,null,null,null,null,null,null,null,null,"",14,null,null,"",28]
[null,null,null,null,null,null,null,null,null,null,null,"⑨",null,"1回",null,null,null,null,null,null,null,null,null,"P","N","種","判","P","N","種","判","⑨",null,"2回",null,null,null,null,null,null,null,null,null,"P","N","種","判","P","N","種","判","⑨",null,"3回",null,null,null,null,null,null,null,null,null,"P","N","種","判","P","N","種","判","⑨",null,"4回",null,null,null,null,null,null,null,null,null,"P","N","種","判","P","N","種","判","⑨",null,"5回",null,null,null,null,null,null,null,null,null,"P","N","種","判","P","N","種","判","⑨",null,"6回",null,null,null,null,null,null,null,null,null,"P","N","種","判","P","N","種","判","⑨",null,"7回",null,null,null,null,null,null,null,null,null,"P","N","種","判","P","N","種","判","⑨",null,"8回",null,null,null,null,null,null,null,null,null,"P","N","種","判","P","N","種","判","⑨",null,"9回",null,null,null,null,null,null,null,null,null,"P","N","種","判","P","N","種","判","⑨",null,"10回",null,null,null,null,null,null,null,null,null,"P","N","種","判","P","N","種","判","⑨",null,"11回",null,null,null,null,null,null,null,null,null,"P","N","種","判","P","N","種","判","⑨",null,"12回",null,null,null,null,null,null,null,null,null,"P","N","種","判","P","N","種","判"]
[null,null,null,null,null,null,null,null,null,null,null,"投手",null,{"$f":"IF($C$28=\"\",\"\",VLOOKUP(S128,$B$77:$E$110,2,FALSE))","v":""},null,null,null,null,{"$f":"S113","v":""},{"$f":"IF($C$28=\"\",\"\",VLOOKUP(S128,$A$28:$D$35,4,FALSE))","v":""},"結果",null,null,{"$f":"IF(AA128=\"\",\"\",S128)","v":""},1,null,null,{"$f":"IF(AE128=\"\",\"\",S128)","v":""},15,null,null,"投手",null,{"$f":"IF($C$28=\"\",\"\",VLOOKUP(AM128,$B$77:$E$110,2,FALSE))","v":""},null,null,null,null,{"$f":"AM113","v":""},{"$f":"IF($C$28=\"\",\"\",VLOOKUP(AM128,$A$28:$D$35,4,FALSE))","v":""},"結果",null,null,{"$f":"IF(AU128=\"\",\"\",AM128)","v":""},1,null,null,{"$f":"IF(AY128=\"\",\"\",AM128)","v":""},15,null,null,"投手",null,{"$f":"IF($C$28=\"\",\"\",VLOOKUP(BG128,$B$77:$E$110,2,FALSE))","v":""},null,null,null,null,{"$f":"BG113","v":""},{"$f":"IF($C$28=\"\",\"\",VLOOKUP(BG128,$A$28:$D$35,4,FALSE))","v":""},"結果",null,null,{"$f":"IF(BO128=\"\",\"\",BG128)","v":""},1,null,null,{"$f":"IF(BS128=\"\",\"\",BG128)","v":""},15,null,null,"投手",null,{"$f":"IF($C$28=\"\",\"\",VLOOKUP(CA128,$B$77:$E$110,2,FALSE))","v":""},null,null,null,null,{"$f":"CA113","v":""},{"$f":"IF($C$28=\"\",\"\",VLOOKUP(CA128,$A$28:$D$35,4,FALSE))","v":""},"結果",null,null,{"$f":"IF(CI128=\"\",\"\",CA128)","v":""},1,null,null,{"$f":"IF(CM128=\"\",\"\",CA128)","v":""},15,null,null,"投手",null,{"$f":"IF($C$28=\"\",\"\",VLOOKUP(CU128,$B$77:$E$110,2,FALSE))","v":""},null,null,null,null,{"$f":"CU113","v":""},{"$f":"IF($C$28=\"\",\"\",VLOOKUP(CU128,$A$28:$D$35,4,FALSE))","v":""},"結果",null,null,{"$f":"IF(DC128=\"\",\"\",CU128)","v":""},1,null,null,{"$f":"IF(DG128=\"\",\"\",CU128)","v":""},15,null,null,"投手",null,{"$f":"IF($C$28=\"\",\"\",VLOOKUP(DO128,$B$77:$E$110,2,FALSE))","v":""},null,null,null,null,{"$f":"DO113","v":""},{"$f":"IF($C$28=\"\",\"\",VLOOKUP(DO128,$A$28:$D$35,4,FALSE))","v":""},"結果",null,null,{"$f":"IF(DW128=\"\",\"\",DO128)","v":""},1,null,null,{"$f":"IF(EA128=\"\",\"\",DO128)","v":""},15,null,null,"投手",null,{"$f":"IF($C$28=\"\",\"\",VLOOKUP(EI128,$B$77:$E$110,2,FALSE))","v":""},null,null,null,null,{"$f":"EI113","v":""},{"$f":"IF($C$28=\"\",\"\",VLOOKUP(EI128,$A$28:$D$35,4,FALSE))","v":""},"結果",null,null,{"$f":"IF(EQ128=\"\",\"\",EI128)","v":""},1,null,null,{"$f":"IF(EU128=\"\",\"\",EI128)","v":""},15,null,null,"投手",null,{"$f":"IF($C$28=\"\",\"\",VLOOKUP(FC128,$B$77:$E$110,2,FALSE))","v":""},null,null,null,null,{"$f":"FC113","v":""},{"$f":"IF($C$28=\"\",\"\",VLOOKUP(FC128,$A$28:$D$35,4,FALSE))","v":""},"結果",null,null,{"$f":"IF(FK128=\"\",\"\",FC128)","v":""},1,null,null,{"$f":"IF(FO128=\"\",\"\",FC128)","v":""},15,null,null,"投手",null,{"$f":"IF($C$28=\"\",\"\",VLOOKUP(FW128,$B$77:$E$110,2,FALSE))","v":""},null,null,null,null,{"$f":"FW113","v":""},{"$f":"IF($C$28=\"\",\"\",VLOOKUP(FW128,$A$28:$D$35,4,FALSE))","v":""},"結果",null,null,{"$f":"IF(GE128=\"\",\"\",FW128)","v":""},1,null,null,{"$f":"IF(GI128=\"\",\"\",FW128)","v":""},15,null,null,"投手",null,{"$f":"IF($C$28=\"\",\"\",VLOOKUP(GQ128,$B$77:$E$110,2,FALSE))","v":""},null,null,null,null,{"$f":"GQ113","v":""},{"$f":"IF($C$28=\"\",\"\",VLOOKUP(GQ128,$A$28:$D$35,4,FALSE))","v":""},"結果",null,null,{"$f":"IF(GY128=\"\",\"\",GQ128)","v":""},1,null,null,{"$f":"IF(HC128=\"\",\"\",GQ128)","v":""},15,null,null,"投手",null,{"$f":"IF($C$28=\"\",\"\",VLOOKUP(HK128,$B$77:$E$110,2,FALSE))","v":""},null,null,null,null,{"$f":"HK113","v":""},{"$f":"IF($C$28=\"\",\"\",VLOOKUP(HK128,$A$28:$D$35,4,FALSE))","v":""},"結果",null,null,{"$f":"IF(HS128=\"\",\"\",HK128)","v":""},1,null,null,{"$f":"IF(HW128=\"\",\"\",HK128)","v":""},15,null,null,"投手",null,{"$f":"IF($C$28=\"\",\"\",VLOOKUP(IE128,$B$77:$E$110,2,FALSE))","v":""},null,null,null,null,{"$f":"IE113","v":""},{"$f":"IF($C$28=\"\",\"\",VLOOKUP(IE128,$A$28:$D$35,4,FALSE))","v":""},"結果",null,null,{"$f":"IF(IM128=\"\",\"\",IE128)","v":""},1,null,null,{"$f":"IF(IQ128=\"\",\"\",IE128)","v":""},15]
[null,null,null,null,null,null,null,null,null,null,null,"打者",null,{"$f":"IF($C$7=\"\",\"\",VLOOKUP(S129,$B$40:$D$73,2,FALSE))","v":""},null,null,null,null,{"$f":"E15","v":0},{"$f":"IF(N129=\"\",\"\",VLOOKUP(S129,$B$40:$D$73,3,FALSE))","v":""},"得点",null,null,{"$f":"IF(AA129=\"\",\"\",X128)","v":""},{"$f":"Y128+1","v":2},null,null,{"$f":"IF(AE129=\"\",\"\",AB128)","v":""},{"$f":"AC128+1","v":16},null,null,"打者",null,{"$f":"IF($C$7=\"\",\"\",VLOOKUP(AM129,$B$40:$D$73,2,FALSE))","v":""},null,null,null,null,{"$f":"S129","v":0},{"$f":"IF(AH129=\"\",\"\",VLOOKUP(AM129,$B$40:$D$73,3,FALSE))","v":""},"得点",null,null,{"$f":"IF(AU129=\"\",\"\",AR128)","v":""},{"$f":"AS128+1","v":2},null,null,{"$f":"IF(AY129=\"\",\"\",AV128)","v":""},{"$f":"AW128+1","v":16},null,null,"打者",null,{"$f":"IF($C$7=\"\",\"\",VLOOKUP(BG129,$B$40:$D$73,2,FALSE))","v":""},null,null,null,null,{"$f":"AM129","v":0},{"$f":"IF(BB129=\"\",\"\",VLOOKUP(BG129,$B$40:$D$73,3,FALSE))","v":""},"得点",null,null,{"$f":"IF(BO129=\"\",\"\",BL128)","v":""},{"$f":"BM128+1","v":2},null,null,{"$f":"IF(BS129=\"\",\"\",BP128)","v":""},{"$f":"BQ128+1","v":16},null,null,"打者",null,{"$f":"IF($C$7=\"\",\"\",VLOOKUP(CA129,$B$40:$D$73,2,FALSE))","v":""},null,null,null,null,{"$f":"BG129","v":0},{"$f":"IF(BV129=\"\",\"\",VLOOKUP(CA129,$B$40:$D$73,3,FALSE))","v":""},"得点",null,null,{"$f":"IF(CI129=\"\",\"\",CF128)","v":""},{"$f":"CG128+1","v":2},null,null,{"$f":"IF(CM129=\"\",\"\",CJ128)","v":""},{"$f":"CK128+1","v":16},null,null,"打者",null,{"$f":"IF($C$7=\"\",\"\",VLOOKUP(CU129,$B$40:$D$73,2,FALSE))","v":""},null,null,null,null,{"$f":"CA129","v":0},{"$f":"IF(CP129=\"\",\"\",VLOOKUP(CU129,$B$40:$D$73,3,FALSE))","v":""},"得点",null,null,{"$f":"IF(DC129=\"\",\"\",CZ128)","v":""},{"$f":"DA128+1","v":2},null,null,{"$f":"IF(DG129=\"\",\"\",DD128)","v":""},{"$f":"DE128+1","v":16},null,null,"打者",null,{"$f":"IF($C$7=\"\",\"\",VLOOKUP(DO129,$B$40:$D$73,2,FALSE))","v":""},null,null,null,null,{"$f":"CU129","v":0},{"$f":"IF(DJ129=\"\",\"\",VLOOKUP(DO129,$B$40:$D$73,3,FALSE))","v":""},"得点",null,null,{"$f":"IF(DW129=\"\",\"\",DT128)","v":""},{"$f":"DU128+1","v":2},null,null,{"$f":"IF(EA129=\"\",\"\",DX128)","v":""},{"$f":"DY128+1","v":16},null,null,"打者",null,{"$f":"IF($C$7=\"\",\"\",VLOOKUP(EI129,$B$40:$D$73,2,FALSE))","v":""},null,null,null,null,{"$f":"DO129","v":0},{"$f":"IF(ED129=\"\",\"\",VLOOKUP(EI129,$B$40:$D$73,3,FALSE))","v":""},"得点",null,null,{"$f":"IF(EQ129=\"\",\"\",EN128)","v":""},{"$f":"EO128+1","v":2},null,null,{"$f":"IF(EU129=\"\",\"\",ER128)","v":""},{"$f":"ES128+1","v":16},null,null,"打者",null,{"$f":"IF($C$7=\"\",\"\",VLOOKUP(FC129,$B$40:$D$73,2,FALSE))","v":""},null,null,null,null,{"$f":"EI129","v":0},{"$f":"IF(EX129=\"\",\"\",VLOOKUP(FC129,$B$40:$D$73,3,FALSE))","v":""},"得点",null,null,{"$f":"IF(FK129=\"\",\"\",FH128)","v":""},{"$f":"FI128+1","v":2},null,null,{"$f":"IF(FO129=\"\",\"\",FL128)","v":""},{"$f":"FM128+1","v":16},null,null,"打者",null,{"$f":"IF($C$7=\"\",\"\",VLOOKUP(FW129,$B$40:$D$73,2,FALSE))","v":""},null,null,null,null,{"$f":"FC129","v":0},{"$f":"IF(FR129=\"\",\"\",VLOOKUP(FW129,$B$40:$D$73,3,FALSE))","v":""},"得点",null,null,{"$f":"IF(GE129=\"\",\"\",GB128)","v":""},{"$f":"GC128+1","v":2},null,null,{"$f":"IF(GI129=\"\",\"\",GF128)","v":""},{"$f":"GG128+1","v":16},null,null,"打者",null,{"$f":"IF($C$7=\"\",\"\",VLOOKUP(GQ129,$B$40:$D$73,2,FALSE))","v":""},null,null,null,null,{"$f":"FW129","v":0},{"$f":"IF(GL129=\"\",\"\",VLOOKUP(GQ129,$B$40:$D$73,3,FALSE))","v":""},"得点",null,null,{"$f":"IF(GY129=\"\",\"\",GV128)","v":""},{"$f":"GW128+1","v":2},null,null,{"$f":"IF(HC129=\"\",\"\",GZ128)","v":""},{"$f":"HA128+1","v":16},null,null,"打者",null,{"$f":"IF($C$7=\"\",\"\",VLOOKUP(HK129,$B$40:$D$73,2,FALSE))","v":""},null,null,null,null,{"$f":"GQ129","v":0},{"$f":"IF(HF129=\"\",\"\",VLOOKUP(HK129,$B$40:$D$73,3,FALSE))","v":""},"得点",null,null,{"$f":"IF(HS129=\"\",\"\",HP128)","v":""},{"$f":"HQ128+1","v":2},null,null,{"$f":"IF(HW129=\"\",\"\",HT128)","v":""},{"$f":"HU128+1","v":16},null,null,"打者",null,{"$f":"IF($C$7=\"\",\"\",VLOOKUP(IE129,$B$40:$D$73,2,FALSE))","v":""},null,null,null,null,{"$f":"HK129","v":0},{"$f":"IF(HZ129=\"\",\"\",VLOOKUP(IE129,$B$40:$D$73,3,FALSE))","v":""},"得点",null,null,{"$f":"IF(IM129=\"\",\"\",IJ128)","v":""},{"$f":"IK128+1","v":2},null,null,{"$f":"IF(IQ129=\"\",\"\",IN128)","v":""},{"$f":"IO128+1","v":16}]
[null,null,null,null,null,null,null,null,null,null,null,{"$f":"IF(S128=\"\",\"\",S128)","v":""},{"$f":"L130","v":""},{"$f":"M130","v":""},{"$f":"N130","v":""},{"$f":"O130","v":""},{"$f":"P130","v":""},{"$f":"Q130","v":""},{"$f":"R130","v":""},{"$f":"S130","v":""},{"$f":"T130","v":""},{"$f":"U130","v":""},null,"",3,null,null,"",17,null,null,{"$f":"IF(AM128=\"\",\"\",AM128)","v":""},{"$f":"AF130","v":""},{"$f":"AG130","v":""},{"$f":"AH130","v":""},{"$f":"AI130","v":""},{"$f":"AJ130","v":""},{"$f":"AK130","v":""},{"$f":"AL130","v":""},{"$f":"AM130","v":""},{"$f":"AN130","v":""},{"$f":"AO130","v":""},null,"",3,null,null,"",17,null,null,{"$f":"IF(BG128=\"\",\"\",BG128)","v":""},{"$f":"AZ130","v":""},{"$f":"BA130","v":""},{"$f":"BB130","v":""},{"$f":"BC130","v":""},{"$f":"BD130","v":""},{"$f":"BE130","v":""},{"$f":"BF130","v":""},{"$f":"BG130","v":""},{"$f":"BH130","v":""},{"$f":"BI130","v":""},null,"",3,null,null,"",17,null,null,{"$f":"IF(CA128=\"\",\"\",CA128)","v":""},{"$f":"BT130","v":""},{"$f":"BU130","v":""},{"$f":"BV130","v":""},{"$f":"BW130","v":""},{"$f":"BX130","v":""},{"$f":"BY130","v":""},{"$f":"BZ130","v":""},{"$f":"CA130","v":""},{"$f":"CB130","v":""},{"$f":"CC130","v":""},null,"",3,null,null,"",17,null,null,{"$f":"IF(CU128=\"\",\"\",CU128)","v":""},{"$f":"CN130","v":""},{"$f":"CO130","v":""},{"$f":"CP130","v":""},{"$f":"CQ130","v":""},{"$f":"CR130","v":""},{"$f":"CS130","v":""},{"$f":"CT130","v":""},{"$f":"CU130","v":""},{"$f":"CV130","v":""},{"$f":"CW130","v":""},null,"",3,null,null,"",17,null,null,{"$f":"IF(DO128=\"\",\"\",DO128)","v":""},{"$f":"DH130","v":""},{"$f":"DI130","v":""},{"$f":"DJ130","v":""},{"$f":"DK130","v":""},{"$f":"DL130","v":""},{"$f":"DM130","v":""},{"$f":"DN130","v":""},{"$f":"DO130","v":""},{"$f":"DP130","v":""},{"$f":"DQ130","v":""},null,"",3,null,null,"",17,null,null,{"$f":"IF(EI128=\"\",\"\",EI128)","v":""},{"$f":"EB130","v":""},{"$f":"EC130","v":""},{"$f":"ED130","v":""},{"$f":"EE130","v":""},{"$f":"EF130","v":""},{"$f":"EG130","v":""},{"$f":"EH130","v":""},{"$f":"EI130","v":""},{"$f":"EJ130","v":""},{"$f":"EK130","v":""},null,"",3,null,null,"",17,null,null,{"$f":"IF(FC128=\"\",\"\",FC128)","v":""},{"$f":"EV130","v":""},{"$f":"EW130","v":""},{"$f":"EX130","v":""},{"$f":"EY130","v":""},{"$f":"EZ130","v":""},{"$f":"FA130","v":""},{"$f":"FB130","v":""},{"$f":"FC130","v":""},{"$f":"FD130","v":""},{"$f":"FE130","v":""},null,"",3,null,null,"",17,null,null,{"$f":"IF(FW128=\"\",\"\",FW128)","v":""},{"$f":"FP130","v":""},{"$f":"FQ130","v":""},{"$f":"FR130","v":""},{"$f":"FS130","v":""},{"$f":"FT130","v":""},{"$f":"FU130","v":""},{"$f":"FV130","v":""},{"$f":"FW130","v":""},{"$f":"FX130","v":""},{"$f":"FY130","v":""},null,"",3,null,null,"",17,null,null,{"$f":"IF(GQ128=\"\",\"\",GQ128)","v":""},{"$f":"GJ130","v":""},{"$f":"GK130","v":""},{"$f":"GL130","v":""},{"$f":"GM130","v":""},{"$f":"GN130","v":""},{"$f":"GO130","v":""},{"$f":"GP130","v":""},{"$f":"GQ130","v":""},{"$f":"GR130","v":""},{"$f":"GS130","v":""},null,"",3,null,null,"",17,null,null,{"$f":"IF(HK128=\"\",\"\",HK128)","v":""},{"$f":"HD130","v":""},{"$f":"HE130","v":""},{"$f":"HF130","v":""},{"$f":"HG130","v":""},{"$f":"HH130","v":""},{"$f":"HI130","v":""},{"$f":"HJ130","v":""},{"$f":"HK130","v":""},{"$f":"HL130","v":""},{"$f":"HM130","v":""},null,"",3,null,null,"",17,null,null,{"$f":"IF(IE128=\"\",\"\",IE128)","v":""},{"$f":"HX130","v":""},{"$f":"HY130","v":""},{"$f":"HZ130","v":""},{"$f":"IA130","v":""},{"$f":"IB130","v":""},{"$f":"IC130","v":""},{"$f":"ID130","v":""},{"$f":"IE130","v":""},{"$f":"IF130","v":""},{"$f":"IG130","v":""},null,"",3,null,null,"",17]
[null,null,null,null,null,null,null,null,null,null,null,null,"O","O","O","O","M","M","I","I","I","I",null,"",4,null,null,"",18,null,null,null,"O","O","O","O","M","M","I","I","I","I",null,"",4,null,null,"",18,null,null,null,"O","O","O","O","M","M","I","I","I","I",null,"",4,null,null,"",18,null,null,null,"O","O","O","O","M","M","I","I","I","I",null,"",4,null,null,"",18,null,null,null,"O","O","O","O","M","M","I","I","I","I",null,"",4,null,null,"",18,null,null,null,"O","O","O","O","M","M","I","I","I","I",null,"",4,null,null,"",18,null,null,null,"O","O","O","O","M","M","I","I","I","I",null,"",4,null,null,"",18,null,null,null,"O","O","O","O","M","M","I","I","I","I",null,"",4,null,null,"",18,null,null,null,"O","O","O","O","M","M","I","I","I","I",null,"",4,null,null,"",18,null,null,null,"O","O","O","O","M","M","I","I","I","I",null,"",4,null,null,"",18,null,null,null,"O","O","O","O","M","M","I","I","I","I",null,"",4,null,null,"",18,null,null,null,"O","O","O","O","M","M","I","I","I","I",null,"",4,null,null,"",18]
[null,null,null,null,null,null,null,null,null,null,null,null,null,null,null,null,null,null,null,null,null,null,null,"",5,null,null,"",19,null,null,null,null,null,null,null,null,null,null,null,null,null,null,"",5,null,null,"",19,null,null,null,null,null,null,null,null,null,null,null,null,null,null,"",5,null,null,"",19,null,null,null,null,null,null,null,null,null,null,null,null,null,null,"",5,null,null,"",19,null,null,null,null,null,null,null,null,null,null,null,null,null,null,"",5,null,null,"",19,null,null,null,null,null,null,null,null,null,null,null,null,null,null,"",5,null,null,"",19,null,null,null,null,null,null,null,null,null,null,null,null,null,null,"",5,null,null,"",19,null,null,null,null,null,null,null,null,null,null,null,null,null,null,"",5,null,null,"",19,null,null,null,null,null,null,null,null,null,null,null,null,null,null,"",5,null,null,"",19,null,null,null,null,null,null,null,null,null,null,null,null,null,null,"",5,null,null,"",19,null,null,null,null,null,null,null,null,null,null,null,null,null,null,"",5,null,null,"",19,null,null,null,null,null,null,null,null,null,null,null,null,null,null,"",5,null,null,"",19]
[null,null,null,null,null,null,null,null,null,null,null,null,null,null,null,null,null,null,null,null,null,null,null,"",6,null,null,"",20,null,null,null,null,null,null,null,null,null,null,null,null,null,null,"",6,null,null,"",20,null,null,null,null,null,null,null,null,null,null,null,null,null,null,"",6,null,null,"",20,null,null,null,null,null,null,null,null,null,null,null,null,null,null,"",6,null,null,"",20,null,null,null,null,null,null,null,null,null,null,null,null,null,null,"",6,null,null,"",20,null,null,null,null,null,null,null,null,null,null,null,null,null,null,"",6,null,null,"",20,null,null,null,null,null,null,null,null,null,null,null,null,null,null,"",6,null,null,"",20,null,null,null,null,null,null,null,null,null,null,null,null,null,null,"",6,null,null,"",20,null,null,null,null,null,null,null,null,null,null,null,null,null,null,"",6,null,null,"",20,null,null,null,null,null,null,null,null,null,null,null,null,null,null,"",6,null,null,"",20,null,null,null,null,null,null,null,null,null,null,null,null,null,null,"",6,null,null,"",20,null,null,null,null,null,null,null,null,null,null,null,null,null,null,"",6,null,null,"",20]
[null,null,null,null,null,null,null,null,null,null,null,null,null,null,null,null,null,null,null,null,null,null,null,"",7,null,null,"",21,null,null,null,null,null,null,null,null,null,null,null,null,null,null,"",7,null,null,"",21,null,null,null,null,null,null,null,null,null,null,null,null,null,null,"",7,null,null,"",21,null,null,null,null,null,null,null,null,null,null,null,null,null,null,"",7,null,null,"",21,null,null,null,null,null,null,null,null,null,null,null,null,null,null,"",7,null,null,"",21,null,null,null,null,null,null,null,null,null,null,null,null,null,null,"",7,null,null,"",21,null,null,null,null,null,null,null,null,null,null,null,null,null,null,"",7,null,null,"",21,null,null,null,null,null,null,null,null,null,null,null,null,null,null,"",7,null,null,"",21,null,null,null,null,null,null,null,null,null,null,null,null,null,null,"",7,null,null,"",21,null,null,null,null,null,null,null,null,null,null,null,null,null,null,"",7,null,null,"",21,null,null,null,null,null,null,null,null,null,null,null,null,null,null,"",7,null,null,"",21,null,null,null,null,null,null,null,null,null,null,null,null,null,null,"",7,null,null,"",21]
[null,null,null,null,null,null,null,null,null,null,null,null,null,null,null,null,null,null,null,null,null,null,null,"",8,null,null,"",22,null,null,null,null,null,null,null,null,null,null,null,null,null,null,"",8,null,null,"",22,null,null,null,null,null,null,null,null,null,null,null,null,null,null,"",8,null,null,"",22,null,null,null,null,null,null,null,null,null,null,null,null,null,null,"",8,null,null,"",22,null,null,null,null,null,null,null,null,null,null,null,null,null,null,"",8,null,null,"",22,null,null,null,null,null,null,null,null,null,null,null,null,null,null,"",8,null,null,"",22,null,null,null,null,null,null,null,null,null,null,null,null,null,null,"",8,null,null,"",22,null,null,null,null,null,null,null,null,null,null,null,null,null,null,"",8,null,null,"",22,null,null,null,null,null,null,null,null,null,null,null,null,null,null,"",8,null,null,"",22,null,null,null,null,null,null,null,null,null,null,null,null,null,null,"",8,null,null,"",22,null,null,null,null,null,null,null,null,null,null,null,null,null,null,"",8,null,null,"",22,null,null,null,null,null,null,null,null,null,null,null,null,null,null,"",8,null,null,"",22]
[null,null,null,null,null,null,null,null,null,null,null,null,null,null,null,null,null,null,null,null,null,null,null,"",9,null,null,"",23,null,null,null,null,null,null,null,null,null,null,null,null,null,null,"",9,null,null,"",23,null,null,null,null,null,null,null,null,null,null,null,null,null,null,"",9,null,null,"",23,null,null,null,null,null,null,null,null,null,null,null,null,null,null,"",9,null,null,"",23,null,null,null,null,null,null,null,null,null,null,null,null,null,null,"",9,null,null,"",23,null,null,null,null,null,null,null,null,null,null,null,null,null,null,"",9,null,null,"",23,null,null,null,null,null,null,null,null,null,null,null,null,null,null,"",9,null,null,"",23,null,null,null,null,null,null,null,null,null,null,null,null,null,null,"",9,null,null,"",23,null,null,null,null,null,null,null,null,null,null,null,null,null,null,"",9,null,null,"",23,null,null,null,null,null,null,null,null,null,null,null,null,null,null,"",9,null,null,"",23,null,null,null,null,null,null,null,null,null,null,null,null,null,null,"",9,null,null,"",23,null,null,null,null,null,null,null,null,null,null,null,null,null,null,"",9,null,null,"",23]
[null,null,null,null,null,null,null,null,null,null,null,null,null,null,null,null,null,null,null,null,null,null,null,"",10,null,null,"",24,null,null,null,null,null,null,null,null,null,null,null,null,null,null,"",10,null,null,"",24,null,null,null,null,null,null,null,null,null,null,null,null,null,null,"",10,null,null,"",24,null,null,null,null,null,null,null,null,null,null,null,null,null,null,"",10,null,null,"",24,null,null,null,null,null,null,null,null,null,null,null,null,null,null,"",10,null,null,"",24,null,null,null,null,null,null,null,null,null,null,null,null,null,null,"",10,null,null,"",24,null,null,null,null,null,null,null,null,null,null,null,null,null,null,"",10,null,null,"",24,null,null,null,null,null,null,null,null,null,null,null,null,null,null,"",10,null,null,"",24,null,null,null,null,null,null,null,null,null,null,null,null,null,null,"",10,null,null,"",24,null,null,null,null,null,null,null,null,null,null,null,null,null,null,"",10,null,null,"",24,null,null,null,null,null,null,null,null,null,null,null,null,null,null,"",10,null,null,"",24,null,null,null,null,null,null,null,null,null,null,null,null,null,null,"",10,null,null,"",24]
[null,null,null,null,null,null,null,null,null,null,null,null,null,null,null,null,null,null,null,null,null,null,null,"",11,null,null,"",25,null,null,null,null,null,null,null,null,null,null,null,null,null,null,"",11,null,null,"",25,null,null,null,null,null,null,null,null,null,null,null,null,null,null,"",11,null,null,"",25,null,null,null,null,null,null,null,null,null,null,null,null,null,null,"",11,null,null,"",25,null,null,null,null,null,null,null,null,null,null,null,null,null,null,"",11,null,null,"",25,null,null,null,null,null,null,null,null,null,null,null,null,null,null,"",11,null,null,"",25,null,null,null,null,null,null,null,null,null,null,null,null,null,null,"",11,null,null,"",25,null,null,null,null,null,null,null,null,null,null,null,null,null,null,"",11,null,null,"",25,null,null,null,null,null,null,null,null,null,null,null,null,null,null,"",11,null,null,"",25,null,null,null,null,null,null,null,null,null,null,null,null,null,null,"",11,null,null,"",25,null,null,null,null,null,null,null,null,null,null,null,null,null,null,"",11,null,null,"",25,null,null,null,null,null,null,null,null,null,null,null,null,null,null,"",11,null,null,"",25]
[null,null,null,null,null,null,null,null,null,null,null,null,null,null,null,null,null,null,null,null,null,null,null,"",12,null,null,"",26,null,null,null,null,null,null,null,null,null,null,null,null,null,null,"",12,null,null,"",26,null,null,null,null,null,null,null,null,null,null,null,null,null,null,"",12,null,null,"",26,null,null,null,null,null,null,null,null,null,null,null,null,null,null,"",12,null,null,"",26,null,null,null,null,null,null,null,null,null,null,null,null,null,null,"",12,null,null,"",26,null,null,null,null,null,null,null,null,null,null,null,null,null,null,"",12,null,null,"",26,null,null,null,null,null,null,null,null,null,null,null,null,null,null,"",12,null,null,"",26,null,null,null,null,null,null,null,null,null,null,null,null,null,null,"",12,null,null,"",26,null,null,null,null,null,null,null,null,null,null,null,null,null,null,"",12,null,null,"",26,null,null,null,null,null,null,null,null,null,null,null,null,null,null,"",12,null,null,"",26,null,null,null,null,null,null,null,null,null,null,null,null,null,null,"",12,null,null,"",26,null,null,null,null,null,null,null,null,null,null,null,null,null,null,"",12,null,null,"",26]
[null,null,null,null,null,null,null,null,null,null,null,null,null,null,null,null,null,null,null,null,null,null,null,"",13,null,null,"",27,null,null,null,null,null,null,null,null,null,null,null,null,null,null,"",13,null,null,"",27,null,null,null,null,null,null,null,null,null,null,null,null,null,null,"",13,null,null,"",27,null,null,null,null,null,null,null,null,null,null,null,null,null,null,"",13,null,null,"",27,null,null,null,null,null,null,null,null,null,null,null,null,null,null,"",13,null,null,"",27,null,null,null,null,null,null,null,null,null,null,null,null,null,null,"",13,null,null,"",27,null,null,null,null,null,null,null,null,null,null,null,null,null,null,"",13,null,null,"",27,null,null,null,null,null,null,null,null,null,null,null,null,null,null,"",13,null,null,"",27,null,null,null,null,null,null,null,null,null,null,null,null,null,null,"",13,null,null,"",27,null,null,null,null,null,null,null,null,null,null,null,null,null,null,"",13,null,null,"",27,null,null,null,null,null,null,null,null,null,null,null,null,null,null,"",13,null,null,"",27,null,null,null,null,null,null,null,null,null,null,null,null,null,null,"",13,null,null,"",27]
[null,null,null,null,null,null,null,null,null,null,null,null,null,null,null,null,null,null,null,null,null,null,null,"",14,null,null,"",28,null,null,null,null,null,null,null,null,null,null,null,null,null,null,"",14,null,null,"",28,null,null,null,null,null,null,null,null,null,null,null,null,null,null,"",14,null,null,"",28,null,null,null,null,null,null,null,null,null,null,null,null,null,null,"",14,null,null,"",28,null,null,null,null,null,null,null,null,null,null,null,null,null,null,"",14,null,null,"",28,null,null,null,null,null,null,null,null,null,null,null,null,null,null,"",14,null,null,"",28,null,null,null,null,null,null,null,null,null,null,null,null,null,null,"",14,null,null,"",28,null,null,null,null,null,null,null,null,null,null,null,null,null,null,"",14,null,null,"",28,null,null,null,null,null,null,null,null,null,null,null,null,null,null,"",14,null,null,"",28,null,null,null,null,null,null,null,null,null,null,null,null,null,null,"",14,null,null,"",28,null,null,null,null,null,null,null,null,null,null,null,null,null,null,"",14,null,null,"",28,null,null,null,null,null,null,null,null,null,null,null,null,null,null,"",14,null,null,"",28]

{"sheet":"成績","index":3,"n_rows":120,"n_cols":85,"rows_kept":120,"cut":false,"hidden":false,"merged":[[23,35,27,35],[32,35,36,35],[86,69,90,69],[95,69,99,69],[104,69,108,69],[41,69,45,69],[50,69,54,69],[59,69,63,69],[68,69,72,69],[77,69,81,69],[113,69,117,69],[4,7,4,10],[4,11,4,15],[4,16,4,27],[5,35,9,35],[14,35,18,35],[41,35,45,35],[5,52,9,52],[14,52,18,52],[23,52,27,52],[32,52,36,52],[41,52,45,52],[5,69,9,69],[14,69,18,69],[23,69,27,69],[32,69,36,69]]}
[]
[]
[]
[null,null,null,null,null,null,null,null,null,null,null,null,null,null,null,null,null,null,null,null,null,null,null,null,null,null,null,null,null,null,null,null,null,null,null,"投球数",null,null,{"$f":"AM15+AM24+AM33+AM42","v":0},null,null,null,null,null,null,null,null,null,null,null,null,null,"ボール",null,null,{"$f":"BD6+BD15+BD24+BD33+BD42","v":0},null,null,null,null,null,null,null,null,null,null,null,null,null,"凡打"]
[null,null,null,null,null,null,null,"球種内訳",null,null,null,"投球判定内訳",null,null,null,null,"打撃結果",null,null,null,null,null,null,null,null,null,null,null,null,null,null,null,null,null,null,"種分","投手名","背番","合計","1回","2回","3回","4回","5回","6回","7回","8回","9回","10回","11回","12回",null,"種分","投手名","背番","合計","1回","2回","3回","4回","5回","6回","7回","8回","9回","10回","11回","12回",null,"種分","投手名","背番","合計","1回","2回","3回","4回","5回","6回","7回","8回","9回","10回","11回","12回"]
[null,"コード","チーム名","投順","投手名","背番","投球数","↑","→","←","↓","●","◯","△","□","◎","O","H","２H","３H","４H","B","B’","K","K’","G","DP","TP","E","合計","対戦チーム",null,null,null,null,"N",{"$f":"IF($AL$6=\"\",\"\",VLOOKUP($AL$6,入力!$A$28:$C$34,3,FALSE))","v":""},{"$f":"IF(入力!$E$28=\"\",\"\",入力!$E$28)","v":""},{"$f":"SUM(AN6:AY6)","v":0},{"$f":"COUNTIFS(入力!$X$7:$X$141,AL6,入力!$AA$7:$AA$141,\".*\")+COUNTIFS(入力!$AB$7:$AB$141,AL6,入力!$AE$7:$AE$141,\".*\")","v":0},{"$f":"COUNTIFS(入力!$AR$7:$AR$141,AL6,入力!$AU$7:$AU$141,\".*\")+COUNTIFS(入力!$AV$7:$AV$141,AL6,入力!$AY$7:$AY$141,\".*\")","v":0},{"$f":"COUNTIFS(入力!$BL$7:$BL$141,AL6,入力!$BO$7:$BO$141,\".*\")+COUNTIFS(入力!$BP$7:$BP$141,AL6,入力!$BS$7:$BS$141,\".*\")","v":0},{"$f":"COUNTIFS(入力!$CF$7:$CF$141,AL6,入力!$CI$7:$CI$141,\".*\")+COUNTIFS(入力!$CJ$7:$CJ$141,AL6,入力!$CM$7:$CM$141,\".*\")","v":0},{"$f":"COUNTIFS(入力!$CZ$7:$CZ$141,AL6,入力!$DC$7:$DC$141,\".*\")+COUNTIFS(入力!$DD$7:$DD$141,AL6,入力!$DG$7:$DG$141,\".*\")","v":0},{"$f":"COUNTIFS(入力!$DT$7:$DT$141,AL6,入力!$DW$7:$DW$141,\".*\")+COUNTIFS(入力!$DX$7:$DX$141,AL6,入力!$EA$7:$EA$141,\".*\")","v":0},{"$f":"COUNTIFS(入力!$EN$7:$EN$141,AL6,入力!$EQ$7:$EQ$141,\".*\")+COUNTIFS(入力!$ER$7:$ER$141,AL6,入力!$EU$7:$EU$141,\".*\")","v":0},{"$f":"COUNTIFS(入力!$FH$7:$FH$141,AL6,入力!$FK$7:$FK$141,\".*\")+COUNTIFS(入力!$FL$7:$FL$141,AL6,入力!$FO$7:$FO$141,\".*\")","v":0},{"$f":"COUNTIFS(入力!$GB$7:$GB$141,AL6,入力!$GE$7:$GE$141,\".*\")+COUNTIFS(入力!$GF$7:$GF$141,AL6,入力!$GI$7:$GI$141,\".*\")","v":0},{"$f":"COUNTIFS(入力!$GV$7:$GV$141,AL6,入力!$GY$7:$GY$141,\".*\")+COUNTIFS(入力!$GZ$7:$GZ$141,AL6,入力!$HC$7:$HC$141,\".*\")","v":0},{"$f":"COUNTIFS(入力!$HP$7:$HP$141,AL6,入力!$HS$7:$HS$141,\".*\")+COUNTIFS(入力!$HT$7:$HT$141,AL6,入力!$HW$7:$HW$141,\".*\")","v":0},{"$f":"COUNTIFS(入力!$IJ$7:$IJ$141,AL6,入力!$IM$7:$IM$141,\".*\")+COUNTIFS(入力!$IN$7:$IN$141,AL6,入力!$IQ$7:$IQ$141,\".*\")","v":0},null,"●",{"$f":"IF($AL$6=\"\",\"\",VLOOKUP($AL$6,入力!$A$28:$C$34,3,FALSE))","v":""},{"$f":"IF(入力!$E$28=\"\",\"\",入力!$E$28)","v":""},{"$f":"SUM(BE6:BP6)","v":0},{"$f":"COUNTIFS(入力!$X$7:$X$141,入力!E28,入力!$AA$7:$AA$141,情報!$AH$5)+COUNTIFS(入力!$AB$7:$AB$141,入力!E28,入力!$AE$7:$AE$141,情報!$AH$5)","v":0},{"$f":"COUNTIFS(入力!$AR$7:$AR$141,入力!E28,入力!$AU$7:$AU$141,情報!$AH$5)+COUNTIFS(入力!$AV$7:$AV$141,入力!E28,入力!$AY$7:$AY$141,情報!$AH$5)","v":0},{"$f":"COUNTIFS(入力!$BL$7:$BL$141,入力!E28,入力!$BO$7:$BO$141,情報!$AH$5)+COUNTIFS(入力!$BP$7:$BP$141,入力!E28,入力!$BS$7:$BS$141,情報!$AH$5)","v":0},{"$f":"COUNTIFS(入力!$CF$7:$CF$141,入力!E28,入力!$CI$7:$CI$141,情報!$AH$5)+COUNTIFS(入力!$CJ$7:$CJ$141,入力!E28,入力!$CM$7:$CM$141,情報!$AH$5)","v":0},{"$f":"COUNTIFS(入力!$CZ$7:$CZ$141,入力!E28,入力!$DC$7:$DC$141,情報!$AH$5)+COUNTIFS(入力!$DD$7:$DD$141,入力!E28,入力!$DG$7:$DG$141,情報!$AH$5)","v":0},{"$f":"COUNTIFS(入力!$DT$7:$DT$141,入力!E28,入力!$DW$7:$DW$141,情報!$AH$5)+COUNTIFS(入力!$DX$7:$DX$141,入力!E28,入力!$EA$7:$EA$141,情報!$AH$5)","v":0},{"$f":"COUNTIFS(入力!$EN$7:$EN$141,入力!E28,入力!$EQ$7:$EQ$141,情報!$AH$5)+COUNTIFS(入力!$ER$7:$ER$141,入力!E28,入力!$EU$7:$EU$141,情報!$AH$5)","v":0},{"$f":"COUNTIFS(入力!$FH$7:$FH$141,入力!E28,入力!$FK$7:$FK$141,情報!$AH$5)+COUNTIFS(入力!$FL$7:$FL$141,入力!E28,入力!$FO$7:$FO$141,情報!$AH$5)","v":0},{"$f":"COUNTIFS(入力!$GB$7:$GB$141,入力!E28,入力!$GE$7:$GE$141,情報!$AH$5)+COUNTIFS(入力!$GF$7:$GF$141,入力!E28,入力!$GI$7:$GI$141,情報!$AH$5)","v":0},{"$f":"COUNTIFS(入力!$GV$7:$GV$141,入力!E28,入力!$GY$7:$GY$141,情報!$AH$5)+COUNTIFS(入力!$GZ$7:$GZ$141,入力!E28,入力!$HC$7:$HC$141,情報!$AH$5)","v":0},{"$f":"COUNTIFS(入力!$HP$7:$HP$141,入力!E28,入力!$HS$7:$HS$141,情報!$AH$5)+COUNTIFS(入力!$HT$7:$HT$141,入力!E28,入力!$HW$7:$HW$141,情報!$AH$5)","v":0},{"$f":"COUNTIFS(入力!$IJ$7:$IJ$141,入力!E28,入力!$IM$7:$IM$141,情報!$AH$5)+COUNTIFS(入力!$IN$7:$IN$141,入力!E28,入力!$IQ$7:$IQ$141,情報!$AH$5)","v":0},null,{"$f":"情報!AK5","v":"O"},{"$f":"IF($AL$6=\"\",\"\",VLOOKUP($AL$6,入力!$A$28:$C$34,3,FALSE))","v":""},{"$f":"IF(入力!$E$28=\"\",\"\",入力!$E$28)","v":""},{"$f":"IF(BS6=\"\",\"\",SUM(BV6:CG6))","v":""},{"$f":"COUNTIFS(入力!$X$7:$X$141,入力!$E$28,入力!$W$7:$W$141,情報!$AK$5)","v":0},{"$f":"COUNTIFS(入力!$AR$7:$AR$141,入力!$E$28,入力!$AQ$7:$AQ$141,情報!$AK$5)","v":0},{"$f":"COUNTIFS(入力!$BL$7:$BL$141,入力!$E$28,入力!$BK$7:$BK$141,情報!$AK$5)","v":0},{"$f":"COUNTIFS(入力!$CF$7:$CF$141,入力!$E$28,入力!$CE$7:$CE$141,情報!$AK$5)","v":0},{"$f":"COUNTIFS(入力!$CZ$7:$CZ$141,入力!$E$28,入力!$CY$7:$CY$141,情報!$AK$5)","v":0},{"$f":"COUNTIFS(入力!$DT$7:$DT$141,入力!$E$28,入力!$DS$7:$DS$141,情報!$AK$5)","v":0},{"$f":"COUNTIFS(入力!$EN$7:$EN$141,入力!$E$28,入力!$EM$7:$EM$141,情報!$AK$5)","v":0},{"$f":"COUNTIFS(入力!$FH$7:$FH$141,入力!$E$28,入力!$FG$7:$FG$141,情報!$AK$5)","v":0},{"$f":"COUNTIFS(入力!$GB$7:$GB$141,入力!$E$28,入力!$GA$7:$GA$141,情報!$AK$5)","v":0},{"$f":"COUNTIFS(入力!$GV$7:$GV$141,入力!$E$28,入力!$GU$7:$GU$141,情報!$AK$5)","v":0},{"$f":"COUNTIFS(入力!$HP$7:$HP$141,入力!$E$28,入力!$HO$7:$HO$141,情報!$AK$5)","v":0},{"$f":"COUNTIFS(入力!$IJ$7:$IJ$141,入力!$E$28,入力!$II$7:$II$141,情報!$AK$5)","v":0}]
[null,{"$f":"IF(C7=\"\",\"\",VLOOKUP(C7,情報!$D$5:$E$39,2,FALSE))","v":""},{"$f":"IF(E7=\"\",\"\",入力!$C$75)","v":""},"先",{"$f":"IF(入力!C28=\"\",\"\",VLOOKUP(D7,入力!$B$28:$C$35,2,FALSE))","v":""},{"$f":"IF(入力!C28=\"\",\"\",VLOOKUP(D7,入力!$B$28:$E$35,4,FALSE))","v":""},{"$f":"IF(E7=\"\",\"\",AM6)","v":""},{"$f":"IF(E7=\"\",\"\",AM15)","v":""},{"$f":"IF(E7=\"\",\"\",AM24)","v":""},{"$f":"IF(E7=\"\",\"\",AM33)","v":""},{"$f":"IF(E7=\"\",\"\",AM42)","v":""},{"$f":"IF(E7=\"\",\"\",BD6)","v":""},{"$f":"IF(E7=\"\",\"\",BD15)","v":""},{"$f":"IF(E7=\"\",\"\",BD24)","v":""},{"$f":"IF(E7=\"\",\"\",BD33)","v":""},{"$f":"IF(E7=\"\",\"\",BD42)","v":""},{"$f":"IF(E7=\"\",\"\",BU6)","v":""},{"$f":"IF(E7=\"\",\"\",BU15)","v":""},{"$f":"IF(E7=\"\",\"\",BU24)","v":""},{"$f":"IF(E7=\"\",\"\",BU33)","v":""},{"$f":"IF(E7=\"\",\"\",BU42)","v":""},{"$f":"IF(E7=\"\",\"\",BU51)","v":""},{"$f":"IF(E7=\"\",\"\",BU60)","v":""},{"$f":"IF(E7=\"\",\"\",BU69)","v":""},{"$f":"IF(E7=\"\",\"\",BU78)","v":""},{"$f":"IF(E7=\"\",\"\",BU87)","v":""},{"$f":"IF(E7=\"\",\"\",BU96)","v":""},{"$f":"IF(E7=\"\",\"\",BU105)","v":""},{"$f":"IF(F7=\"\",\"\",BU114)","v":""},{"$f":"IF(E7=\"\",\"\",SUM(Q7:AC7))","v":""},{"$f":"IF(E7=\"\",\"\",入力!$C$38)","v":""},null,null,null,null,null,{"$f":"IF($AL$7=\"\",\"\",VLOOKUP($AL$7,入力!$A$28:$C$34,3,FALSE))","v":""},{"$f":"IF(入力!$E$29=\"\",\"\",入力!$E$29)","v":""},{"$f":"SUM(AN7:AY7)","v":0},{"$f":"COUNTIFS(入力!$X$7:$X$141,AL7,入力!$AA$7:$AA$141,\".*\")+COUNTIFS(入力!$AB$7:$AB$141,AL7,入力!$AE$7:$AE$141,\".*\")","v":0},{"$f":"COUNTIFS(入力!$AR$7:$AR$141,AL7,入力!$AU$7:$AU$141,\".*\")+COUNTIFS(入力!$AV$7:$AV$141,AL7,入力!$AY$7:$AY$141,\".*\")","v":0},{"$f":"COUNTIFS(入力!$BL$7:$BL$141,AL7,入力!$BO$7:$BO$141,\".*\")+COUNTIFS(入力!$BP$7:$BP$141,AL7,入力!$BS$7:$BS$141,\".*\")","v":0},{"$f":"COUNTIFS(入力!$CF$7:$CF$141,AL7,入力!$CI$7:$CI$141,\".*\")+COUNTIFS(入力!$CJ$7:$CJ$141,AL7,入力!$CM$7:$CM$141,\".*\")","v":0},{"$f":"COUNTIFS(入力!$CZ$7:$CZ$141,AL7,入力!$DC$7:$DC$141,\".*\")+COUNTIFS(入力!$DD$7:$DD$141,AL7,入力!$DG$7:$DG$141,\".*\")","v":0},{"$f":"COUNTIFS(入力!$DT$7:$DT$141,AL7,入力!$DW$7:$DW$141,\".*\")+COUNTIFS(入力!$DX$7:$DX$141,AL7,入力!$EA$7:$EA$141,\".*\")","v":0},{"$f":"COUNTIFS(入力!$EN$7:$EN$141,AL7,入力!$EQ$7:$EQ$141,\".*\")+COUNTIFS(入力!$ER$7:$ER$141,AL7,入力!$EU$7:$EU$141,\".*\")","v":0},{"$f":"COUNTIFS(入力!$FH$7:$FH$141,AL7,入力!$FK$7:$FK$141,\".*\")+COUNTIFS(入力!$FL$7:$FL$141,AL7,入力!$FO$7:$FO$141,\".*\")","v":0},{"$f":"COUNTIFS(入力!$GB$7:$GB$141,AL7,入力!$GE$7:$GE$141,\".*\")+COUNTIFS(入力!$GF$7:$GF$141,AL7,入力!$GI$7:$GI$141,\".*\")","v":0},{"$f":"COUNTIFS(入力!$GV$7:$GV$141,AL7,入力!$GY$7:$GY$141,\".*\")+COUNTIFS(入力!$GZ$7:$GZ$141,AL7,入力!$HC$7:$HC$141,\".*\")","v":0},{"$f":"COUNTIFS(入力!$HP$7:$HP$141,AL7,入力!$HS$7:$HS$141,\".*\")+COUNTIFS(入力!$HT$7:$HT$141,AL7,入力!$HW$7:$HW$141,\".*\")","v":0},{"$f":"COUNTIFS(入力!$IJ$7:$IJ$141,AL7,入力!$IM$7:$IM$141,\".*\")+COUNTIFS(入力!$IN$7:$IN$141,AL7,入力!$IQ$7:$IQ$141,\".*\")","v":0},null,null,{"$f":"IF($AL$7=\"\",\"\",VLOOKUP($AL$7,入力!$A$28:$C$34,3,FALSE))","v":""},{"$f":"IF(入力!$E$29=\"\",\"\",入力!$E$29)","v":""},{"$f":"SUM(BE7:BP7)","v":0},{"$f":"COUNTIFS(入力!$X$7:$X$141,入力!E29,入力!$AA$7:$AA$141,情報!$AH$5)+COUNTIFS(入力!$AB$7:$AB$141,入力!E29,入力!$AE$7:$AE$141,情報!$AH$5)","v":0},{"$f":"COUNTIFS(入力!$AR$7:$AR$141,入力!E29,入力!$AU$7:$AU$141,情報!$AH$5)+COUNTIFS(入力!$AV$7:$AV$141,入力!E29,入力!$AY$7:$AY$141,情報!$AH$5)","v":0},{"$f":"COUNTIFS(入力!$BL$7:$BL$141,入力!E29,入力!$BO$7:$BO$141,情報!$AH$5)+COUNTIFS(入力!$BP$7:$BP$141,入力!E29,入力!$BS$7:$BS$141,情報!$AH$5)","v":0},{"$f":"COUNTIFS(入力!$CF$7:$CF$141,入力!E29,入力!$CI$7:$CI$141,情報!$AH$5)+COUNTIFS(入力!$CJ$7:$CJ$141,入力!E29,入力!$CM$7:$CM$141,情報!$AH$5)","v":0},{"$f":"COUNTIFS(入力!$CZ$7:$CZ$141,入力!E29,入力!$DC$7:$DC$141,情報!$AH$5)+COUNTIFS(入力!$DD$7:$DD$141,入力!E29,入力!$DG$7:$DG$141,情報!$AH$5)","v":0},{"$f":"COUNTIFS(入力!$DT$7:$DT$141,入力!E29,入力!$DW$7:$DW$141,情報!$AH$5)+COUNTIFS(入力!$DX$7:$DX$141,入力!E29,入力!$EA$7:$EA$141,情報!$AH$5)","v":0},{"$f":"COUNTIFS(入力!$EN$7:$EN$141,入力!E29,入力!$EQ$7:$EQ$141,情報!$AH$5)+COUNTIFS(入力!$ER$7:$ER$141,入力!E29,入力!$EU$7:$EU$141,情報!$AH$5)","v":0},{"$f":"COUNTIFS(入力!$FH$7:$FH$141,入力!E29,入力!$FK$7:$FK$141,情報!$AH$5)+COUNTIFS(入力!$FL$7:$FL$141,入力!E29,入力!$FO$7:$FO$141,情報!$AH$5)","v":0},{"$f":"COUNTIFS(入力!$GB$7:$GB$141,入力!E29,入力!$GE$7:$GE$141,情報!$AH$5)+COUNTIFS(入力!$GF$7:$GF$141,入力!E29,入力!$GI$7:$GI$141,情報!$AH$5)","v":0},{"$f":"COUNTIFS(入力!$GV$7:$GV$141,入力!E29,入力!$GY$7:$GY$141,情報!$AH$5)+COUNTIFS(入力!$GZ$7:$GZ$141,入力!E29,入力!$HC$7:$HC$141,情報!$AH$5)","v":0},{"$f":"COUNTIFS(入力!$HP$7:$HP$141,入力!E29,入力!$HS$7:$HS$141,情報!$AH$5)+COUNTIFS(入力!$HT$7:$HT$141,入力!E29,入力!$HW$7:$HW$141,情報!$AH$5)","v":0},{"$f":"COUNTIFS(入力!$IJ$7:$IJ$141,入力!E29,入力!$IM$7:$IM$141,情報!$AH$5)+COUNTIFS(入力!$IN$7:$IN$141,入力!E29,入力!$IQ$7:$IQ$141,情報!$AH$5)","v":0},null,null,{"$f":"IF($AL$7=\"\",\"\",VLOOKUP($AL$7,入力!$A$28:$C$34,3,FALSE))","v":""},{"$f":"IF(入力!$E$29=\"\",\"\",入力!$E$29)","v":""},{"$f":"IF(BS7=\"\",\"\",SUM(BV7:CG7))","v":""},{"$f":"COUNTIFS(入力!$X$7:$X$141,入力!E29,入力!$W$7:$W$141,情報!$AK$5)","v":0},{"$f":"COUNTIFS(入力!$AR$7:$AR$141,入力!E29,入力!$AQ$7:$AQ$141,情報!$AK$5)","v":0},{"$f":"COUNTIFS(入力!$BL$7:$BL$141,入力!E29,入力!$BK$7:$BK$141,情報!$AK$5)","v":0},{"$f":"COUNTIFS(入力!$CF$7:$CF$141,入力!E29,入力!$CE$7:$CE$141,情報!$AK$5)","v":0},{"$f":"COUNTIFS(入力!$CZ$7:$CZ$141,入力!E29,入力!$CY$7:$CY$141,情報!$AK$5)","v":0},{"$f":"COUNTIFS(入力!$DT$7:$DT$141,入力!E29,入力!$DS$7:$DS$141,情報!$AK$5)","v":0},{"$f":"COUNTIFS(入力!$EN$7:$EN$141,入力!E29,入力!$EM$7:$EM$141,情報!$AK$5)","v":0},{"$f":"COUNTIFS(入力!$FH$7:$FH$141,入力!E29,入力!$FG$7:$FG$141,情報!$AK$5)","v":0},{"$f":"COUNTIFS(入力!$GB$7:$GB$141,入力!E29,入力!$GA$7:$GA$141,情報!$AK$5)","v":0},{"$f":"COUNTIFS(入力!$GV$7:$GV$141,入力!E29,入力!$GU$7:$GU$141,情報!$AK$5)","v":0},{"$f":"COUNTIFS(入力!$HP$7:$HP$141,入力!E29,入力!$HO$7:$HO$141,情報!$AK$5)","v":0},{"$f":"COUNTIFS(入力!$IJ$7:$IJ$141,入力!E29,入力!$II$7:$II$141,情報!$AK$5)","v":0}]
[null,{"$f":"IF(C8=\"\",\"\",VLOOKUP(C8,情報!$D$5:$E$39,2,FALSE))","v":""},{"$f":"IF(E8=\"\",\"\",入力!$C$75)","v":""},2,{"$f":"IF(入力!C29=\"\",\"\",VLOOKUP(D8,入力!$B$28:$C$35,2,FALSE))","v":""},{"$f":"IF(入力!C29=\"\",\"\",VLOOKUP(D8,入力!$B$28:$E$35,4,FALSE))","v":""},{"$f":"IF(E8=\"\",\"\",AM7)","v":""},{"$f":"IF(E8=\"\",\"\",AM16)","v":""},"","","","","","","","","","","","","","","","","","","","",{"$f":"IF(F8=\"\",\"\",BU115)","v":""},{"$f":"IF(E8=\"\",\"\",SUM(Q8:AC8))","v":""},{"$f":"IF(E8=\"\",\"\",入力!$C$38)","v":""},null,null,null,null,null,{"$f":"IF($AL$8=\"\",\"\",VLOOKUP($AL$8,入力!$A$28:$C$34,3,FALSE))","v":""},{"$f":"IF(入力!$E$30=\"\",\"\",入力!$E$30)","v":""},{"$f":"SUM(AN8:AY8)","v":0},{"$f":"COUNTIFS(入力!$X$7:$X$141,AL8,入力!$AA$7:$AA$141,\".*\")+COUNTIFS(入力!$AB$7:$AB$141,AL8,入力!$AE$7:$AE$141,\".*\")","v":0},{"$f":"COUNTIFS(入力!$AR$7:$AR$141,AL8,入力!$AU$7:$AU$141,\".*\")+COUNTIFS(入力!$AV$7:$AV$141,AL8,入力!$AY$7:$AY$141,\".*\")","v":0},{"$f":"COUNTIFS(入力!$BL$7:$BL$141,AL8,入力!$BO$7:$BO$141,\".*\")+COUNTIFS(入力!$BP$7:$BP$141,AL8,入力!$BS$7:$BS$141,\".*\")","v":0},{"$f":"COUNTIFS(入力!$CF$7:$CF$141,AL8,入力!$CI$7:$CI$141,\".*\")+COUNTIFS(入力!$CJ$7:$CJ$141,AL8,入力!$CM$7:$CM$141,\".*\")","v":0},{"$f":"COUNTIFS(入力!$CZ$7:$CZ$141,AL8,入力!$DC$7:$DC$141,\".*\")+COUNTIFS(入力!$DD$7:$DD$141,AL8,入力!$DG$7:$DG$141,\".*\")","v":0},{"$f":"COUNTIFS(入力!$DT$7:$DT$141,AL8,入力!$DW$7:$DW$141,\".*\")+COUNTIFS(入力!$DX$7:$DX$141,AL8,入力!$EA$7:$EA$141,\".*\")","v":0},{"$f":"COUNTIFS(入力!$EN$7:$EN$141,AL8,入力!$EQ$7:$EQ$141,\".*\")+COUNTIFS(入力!$ER$7:$ER$141,AL8,入力!$EU$7:$EU$141,\".*\")","v":0},{"$f":"COUNTIFS(入力!$FH$7:$FH$141,AL8,入力!$FK$7:$FK$141,\".*\")+COUNTIFS(入力!$FL$7:$FL$141,AL8,入力!$FO$7:$FO$141,\".*\")","v":0},{"$f":"COUNTIFS(入力!$GB$7:$GB$141,AL8,入力!$GE$7:$GE$141,\".*\")+COUNTIFS(入力!$GF$7:$GF$141,AL8,入力!$GI$7:$GI$141,\".*\")","v":0},{"$f":"COUNTIFS(入力!$GV$7:$GV$141,AL8,入力!$GY$7:$GY$141,\".*\")+COUNTIFS(入力!$GZ$7:$GZ$141,AL8,入力!$HC$7:$HC$141,\".*\")","v":0},{"$f":"COUNTIFS(入力!$HP$7:$HP$141,AL8,入力!$HS$7:$HS$141,\".*\")+COUNTIFS(入力!$HT$7:$HT$141,AL8,入力!$HW$7:$HW$141,\".*\")","v":0},{"$f":"COUNTIFS(入力!$IJ$7:$IJ$141,AL8,入力!$IM$7:$IM$141,\".*\")+COUNTIFS(入力!$IN$7:$IN$141,AL8,入力!$IQ$7:$IQ$141,\".*\")","v":0},null,null,{"$f":"IF($AL$8=\"\",\"\",VLOOKUP($AL$8,入力!$A$28:$C$34,3,FALSE))","v":""},{"$f":"IF(入力!$E$30=\"\",\"\",入力!$E$30)","v":""},0,{"$f":"COUNTIFS(入力!$X$7:$X$141,入力!E30,入力!$AA$7:$AA$141,情報!$AH$5)+COUNTIFS(入力!$AB$7:$AB$141,入力!E30,入力!$AE$7:$AE$141,情報!$AH$5)","v":0},{"$f":"COUNTIFS(入力!$AR$7:$AR$141,入力!E30,入力!$AU$7:$AU$141,情報!$AH$5)+COUNTIFS(入力!$AV$7:$AV$141,入力!E30,入力!$AY$7:$AY$141,情報!$AH$5)","v":0},{"$f":"COUNTIFS(入力!$BL$7:$BL$141,入力!E30,入力!$BO$7:$BO$141,情報!$AH$5)+COUNTIFS(入力!$BP$7:$BP$141,入力!E30,入力!$BS$7:$BS$141,情報!$AH$5)","v":0},{"$f":"COUNTIFS(入力!$CF$7:$CF$141,入力!E30,入力!$CI$7:$CI$141,情報!$AH$5)+COUNTIFS(入力!$CJ$7:$CJ$141,入力!E30,入力!$CM$7:$CM$141,情報!$AH$5)","v":0},{"$f":"COUNTIFS(入力!$CZ$7:$CZ$141,入力!E30,入力!$DC$7:$DC$141,情報!$AH$5)+COUNTIFS(入力!$DD$7:$DD$141,入力!E30,入力!$DG$7:$DG$141,情報!$AH$5)","v":0},{"$f":"COUNTIFS(入力!$DT$7:$DT$141,入力!E30,入力!$DW$7:$DW$141,情報!$AH$5)+COUNTIFS(入力!$DX$7:$DX$141,入力!E30,入力!$EA$7:$EA$141,情報!$AH$5)","v":0},{"$f":"COUNTIFS(入力!$EN$7:$EN$141,入力!E30,入力!$EQ$7:$EQ$141,情報!$AH$5)+COUNTIFS(入力!$ER$7:$ER$141,入力!E30,入力!$EU$7:$EU$141,情報!$AH$5)","v":0},{"$f":"COUNTIFS(入力!$FH$7:$FH$141,入力!E30,入力!$FK$7:$FK$141,情報!$AH$5)+COUNTIFS(入力!$FL$7:$FL$141,入力!E30,入力!$FO$7:$FO$141,情報!$AH$5)","v":0},{"$f":"COUNTIFS(入力!$GB$7:$GB$141,入力!E30,入力!$GE$7:$GE$141,情報!$AH$5)+COUNTIFS(入力!$GF$7:$GF$141,入力!E30,入力!$GI$7:$GI$141,情報!$AH$5)","v":0},{"$f":"COUNTIFS(入力!$GV$7:$GV$141,入力!E30,入力!$GY$7:$GY$141,情報!$AH$5)+COUNTIFS(入力!$GZ$7:$GZ$141,入力!E30,入力!$HC$7:$HC$141,情報!$AH$5)","v":0},{"$f":"COUNTIFS(入力!$HP$7:$HP$141,入力!E30,入力!$HS$7:$HS$141,情報!$AH$5)+COUNTIFS(入力!$HT$7:$HT$141,入力!E30,入力!$HW$7:$HW$141,情報!$AH$5)","v":0},{"$f":"COUNTIFS(入力!$IJ$7:$IJ$141,入力!E30,入力!$IM$7:$IM$141,情報!$AH$5)+COUNTIFS(入力!$IN$7:$IN$141,入力!E30,入力!$IQ$7:$IQ$141,情報!$AH$5)","v":0},null,null,{"$f":"IF($AL$8=\"\",\"\",VLOOKUP($AL$8,入力!$A$28:$C$34,3,FALSE))","v":""},{"$f":"IF(入力!$E$30=\"\",\"\",入力!$E$30)","v":""},"",{"$f":"COUNTIFS(入力!$X$7:$X$141,入力!E30,入力!$W$7:$W$141,情報!$AK$5)","v":0},{"$f":"COUNTIFS(入力!$AR$7:$AR$141,入力!E30,入力!$AQ$7:$AQ$141,情報!$AK$5)","v":0},{"$f":"COUNTIFS(入力!$BL$7:$BL$141,入力!E30,入力!$BK$7:$BK$141,情報!$AK$5)","v":0},{"$f":"COUNTIFS(入力!$CF$7:$CF$141,入力!E30,入力!$CE$7:$CE$141,情報!$AK$5)","v":0},{"$f":"COUNTIFS(入力!$CZ$7:$CZ$141,入力!E30,入力!$CY$7:$CY$141,情報!$AK$5)","v":0},{"$f":"COUNTIFS(入力!$DT$7:$DT$141,入力!E30,入力!$DS$7:$DS$141,情報!$AK$5)","v":0},{"$f":"COUNTIFS(入力!$EN$7:$EN$141,入力!E30,入力!$EM$7:$EM$141,情報!$AK$5)","v":0},{"$f":"COUNTIFS(入力!$FH$7:$FH$141,入力!E30,入力!$FG$7:$FG$141,情報!$AK$5)","v":0},{"$f":"COUNTIFS(入力!$GB$7:$GB$141,入力!E30,入力!$GA$7:$GA$141,情報!$AK$5)","v":0},{"$f":"COUNTIFS(入力!$GV$7:$GV$141,入力!E30,入力!$GU$7:$GU$141,情報!$AK$5)","v":0},{"$f":"COUNTIFS(入力!$HP$7:$HP$141,入力!E30,入力!$HO$7:$HO$141,情報!$AK$5)","v":0},{"$f":"COUNTIFS(入力!$IJ$7:$IJ$141,入力!E30,入力!$II$7:$II$141,情報!$AK$5)","v":0}]
[null,{"$f":"IF(C9=\"\",\"\",VLOOKUP(C9,情報!$D$5:$E$39,2,FALSE))","v":""},{"$f":"IF(E9=\"\",\"\",入力!$C$75)","v":""},3,{"$f":"IF(入力!C30=\"\",\"\",VLOOKUP(D9,入力!$B$28:$C$35,2,FALSE))","v":""},{"$f":"IF(入力!C30=\"\",\"\",VLOOKUP(D9,入力!$B$28:$E$35,4,FALSE))","v":""},"","","","","","","","","","","","","","","","","","","","","","","","",{"$f":"IF(E9=\"\",\"\",入力!$C$38)","v":""},null,null,null,null,null,{"$f":"IF($AL$9=\"\",\"\",VLOOKUP($AL$9,入力!$A$28:$C$34,3,FALSE))","v":""},{"$f":"IF(入力!$E$31=\"\",\"\",入力!E31)","v":""},0,{"$f":"COUNTIFS(入力!$X$7:$X$141,AL9,入力!$AA$7:$AA$141,\".*\")+COUNTIFS(入力!$AB$7:$AB$141,AL9,入力!$AE$7:$AE$141,\".*\")","v":0},{"$f":"COUNTIFS(入力!$AR$7:$AR$141,AL9,入力!$AU$7:$AU$141,\".*\")+COUNTIFS(入力!$AV$7:$AV$141,AL9,入力!$AY$7:$AY$141,\".*\")","v":0},{"$f":"COUNTIFS(入力!$BL$7:$BL$141,AL9,入力!$BO$7:$BO$141,\".*\")+COUNTIFS(入力!$BP$7:$BP$141,AL9,入力!$BS$7:$BS$141,\".*\")","v":0},{"$f":"COUNTIFS(入力!$CF$7:$CF$141,AL9,入力!$CI$7:$CI$141,\".*\")+COUNTIFS(入力!$CJ$7:$CJ$141,AL9,入力!$CM$7:$CM$141,\".*\")","v":0},{"$f":"COUNTIFS(入力!$CZ$7:$CZ$141,AL9,入力!$DC$7:$DC$141,\".*\")+COUNTIFS(入力!$DD$7:$DD$141,AL9,入力!$DG$7:$DG$141,\".*\")","v":0},{"$f":"COUNTIFS(入力!$DT$7:$DT$141,AL9,入力!$DW$7:$DW$141,\".*\")+COUNTIFS(入力!$DX$7:$DX$141,AL9,入力!$EA$7:$EA$141,\".*\")","v":0},{"$f":"COUNTIFS(入力!$EN$7:$EN$141,AL9,入力!$EQ$7:$EQ$141,\".*\")+COUNTIFS(入力!$ER$7:$ER$141,AL9,入力!$EU$7:$EU$141,\".*\")","v":0},{"$f":"COUNTIFS(入力!$FH$7:$FH$141,AL9,入力!$FK$7:$FK$141,\".*\")+COUNTIFS(入力!$FL$7:$FL$141,AL9,入力!$FO$7:$FO$141,\".*\")","v":0},{"$f":"COUNTIFS(入力!$GB$7:$GB$141,AL9,入力!$GE$7:$GE$141,\".*\")+COUNTIFS(入力!$GF$7:$GF$141,AL9,入力!$GI$7:$GI$141,\".*\")","v":0},{"$f":"COUNTIFS(入力!$GV$7:$GV$141,AL9,入力!$GY$7:$GY$141,\".*\")+COUNTIFS(入力!$GZ$7:$GZ$141,AL9,入力!$HC$7:$HC$141,\".*\")","v":0},{"$f":"COUNTIFS(入力!$HP$7:$HP$141,AL9,入力!$HS$7:$HS$141,\".*\")+COUNTIFS(入力!$HT$7:$HT$141,AL9,入力!$HW$7:$HW$141,\".*\")","v":0},{"$f":"COUNTIFS(入力!$IJ$7:$IJ$141,AL9,入力!$IM$7:$IM$141,\".*\")+COUNTIFS(入力!$IN$7:$IN$141,AL9,入力!$IQ$7:$IQ$141,\".*\")","v":0},null,null,{"$f":"IF($AL$9=\"\",\"\",VLOOKUP($AL$9,入力!$A$28:$C$34,3,FALSE))","v":""},{"$f":"IF(入力!$E$31=\"\",\"\",入力!V31)","v":""},0,{"$f":"COUNTIFS(入力!$X$7:$X$141,入力!E31,入力!$AA$7:$AA$141,情報!$AH$5)+COUNTIFS(入力!$AB$7:$AB$141,入力!E31,入力!$AE$7:$AE$141,情報!$AH$5)","v":0},{"$f":"COUNTIFS(入力!$AR$7:$AR$141,入力!E31,入力!$AU$7:$AU$141,情報!$AH$5)+COUNTIFS(入力!$AV$7:$AV$141,入力!E31,入力!$AY$7:$AY$141,情報!$AH$5)","v":0},{"$f":"COUNTIFS(入力!$BL$7:$BL$141,入力!E31,入力!$BO$7:$BO$141,情報!$AH$5)+COUNTIFS(入力!$BP$7:$BP$141,入力!E31,入力!$BS$7:$BS$141,情報!$AH$5)","v":0},{"$f":"COUNTIFS(入力!$CF$7:$CF$141,入力!E31,入力!$CI$7:$CI$141,情報!$AH$5)+COUNTIFS(入力!$CJ$7:$CJ$141,入力!E31,入力!$CM$7:$CM$141,情報!$AH$5)","v":0},{"$f":"COUNTIFS(入力!$CZ$7:$CZ$141,入力!E31,入力!$DC$7:$DC$141,情報!$AH$5)+COUNTIFS(入力!$DD$7:$DD$141,入力!E31,入力!$DG$7:$DG$141,情報!$AH$5)","v":0},{"$f":"COUNTIFS(入力!$DT$7:$DT$141,入力!E31,入力!$DW$7:$DW$141,情報!$AH$5)+COUNTIFS(入力!$DX$7:$DX$141,入力!E31,入力!$EA$7:$EA$141,情報!$AH$5)","v":0},{"$f":"COUNTIFS(入力!$EN$7:$EN$141,入力!E31,入力!$EQ$7:$EQ$141,情報!$AH$5)+COUNTIFS(入力!$ER$7:$ER$141,入力!E31,入力!$EU$7:$EU$141,情報!$AH$5)","v":0},{"$f":"COUNTIFS(入力!$FH$7:$FH$141,入力!E31,入力!$FK$7:$FK$141,情報!$AH$5)+COUNTIFS(入力!$FL$7:$FL$141,入力!E31,入力!$FO$7:$FO$141,情報!$AH$5)","v":0},{"$f":"COUNTIFS(入力!$GB$7:$GB$141,入力!E31,入力!$GE$7:$GE$141,情報!$AH$5)+COUNTIFS(入力!$GF$7:$GF$141,入力!E31,入力!$GI$7:$GI$141,情報!$AH$5)","v":0},{"$f":"COUNTIFS(入力!$GV$7:$GV$141,入力!E31,入力!$GY$7:$GY$141,情報!$AH$5)+COUNTIFS(入力!$GZ$7:$GZ$141,入力!E31,入力!$HC$7:$HC$141,情報!$AH$5)","v":0},{"$f":"COUNTIFS(入力!$HP$7:$HP$141,入力!E31,入力!$HS$7:$HS$141,情報!$AH$5)+COUNTIFS(入力!$HT$7:$HT$141,入力!E31,入力!$HW$7:$HW$141,情報!$AH$5)","v":0},{"$f":"COUNTIFS(入力!$IJ$7:$IJ$141,入力!E31,入力!$IM$7:$IM$141,情報!$AH$5)+COUNTIFS(入力!$IN$7:$IN$141,入力!E31,入力!$IQ$7:$IQ$141,情報!$AH$5)","v":0},null,null,{"$f":"IF($AL$9=\"\",\"\",VLOOKUP($AL$9,入力!$A$28:$C$34,3,FALSE))","v":""},{"$f":"IF(入力!$E$31=\"\",\"\",入力!AM31)","v":""},"",{"$f":"COUNTIFS(入力!$X$7:$X$141,入力!E31,入力!$W$7:$W$141,情報!$AK$5)","v":0},{"$f":"COUNTIFS(入力!$AR$7:$AR$141,入力!E31,入力!$AQ$7:$AQ$141,情報!$AK$5)","v":0},{"$f":"COUNTIFS(入力!$BL$7:$BL$141,入力!E31,入力!$BK$7:$BK$141,情報!$AK$5)","v":0},{"$f":"COUNTIFS(入力!$CF$7:$CF$141,入力!E31,入力!$CE$7:$CE$141,情報!$AK$5)","v":0},{"$f":"COUNTIFS(入力!$CZ$7:$CZ$141,入力!E31,入力!$CY$7:$CY$141,情報!$AK$5)","v":0},{"$f":"COUNTIFS(入力!$DT$7:$DT$141,入力!E31,入力!$DS$7:$DS$141,情報!$AK$5)","v":0},{"$f":"COUNTIFS(入力!$EN$7:$EN$141,入力!E31,入力!$EM$7:$EM$141,情報!$AK$5)","v":0},{"$f":"COUNTIFS(入力!$FH$7:$FH$141,入力!E31,入力!$FG$7:$FG$141,情報!$AK$5)","v":0},{"$f":"COUNTIFS(入力!$GB$7:$GB$141,入力!E31,入力!$GA$7:$GA$141,情報!$AK$5)","v":0},{"$f":"COUNTIFS(入力!$GV$7:$GV$141,入力!E31,入力!$GU$7:$GU$141,情報!$AK$5)","v":0},{"$f":"COUNTIFS(入力!$HP$7:$HP$141,入力!E31,入力!$HO$7:$HO$141,情報!$AK$5)","v":0},{"$f":"COUNTIFS(入力!$IJ$7:$IJ$141,入力!E31,入力!$II$7:$II$141,情報!$AK$5)","v":0}]
[null,{"$f":"IF(C10=\"\",\"\",VLOOKUP(C10,情報!$D$5:$E$39,2,FALSE))","v":""},{"$f":"IF(E10=\"\",\"\",入力!$C$75)","v":""},4,{"$f":"IF(入力!C31=\"\",\"\",VLOOKUP(D10,入力!$B$28:$C$35,2,FALSE))","v":""},{"$f":"IF(入力!C31=\"\",\"\",VLOOKUP(D10,入力!$B$28:$E$35,4,FALSE))","v":""},"","","","","","","","","","","","","","","","","","","","","","","","",{"$f":"IF(E10=\"\",\"\",入力!$C$38)","v":""},null,null,null,null,null,{"$f":"IF($AL$10=\"\",\"\",VLOOKUP($AL$10,入力!$A$28:$C$34,3,FALSE))","v":""},{"$f":"IF(入力!$E$32=\"\",\"\",入力!$E$32)","v":""},0,{"$f":"COUNTIFS(入力!$X$7:$X$141,AL10,入力!$AA$7:$AA$141,\".*\")+COUNTIFS(入力!$AB$7:$AB$141,AL10,入力!$AE$7:$AE$141,\".*\")","v":0},{"$f":"COUNTIFS(入力!$AR$7:$AR$141,AL10,入力!$AU$7:$AU$141,\".*\")+COUNTIFS(入力!$AV$7:$AV$141,AL10,入力!$AY$7:$AY$141,\".*\")","v":0},{"$f":"COUNTIFS(入力!$BL$7:$BL$141,AL10,入力!$BO$7:$BO$141,\".*\")+COUNTIFS(入力!$BP$7:$BP$141,AL10,入力!$BS$7:$BS$141,\".*\")","v":0},{"$f":"COUNTIFS(入力!$CF$7:$CF$141,AL10,入力!$CI$7:$CI$141,\".*\")+COUNTIFS(入力!$CJ$7:$CJ$141,AL10,入力!$CM$7:$CM$141,\".*\")","v":0},{"$f":"COUNTIFS(入力!$CZ$7:$CZ$141,AL10,入力!$DC$7:$DC$141,\".*\")+COUNTIFS(入力!$DD$7:$DD$141,AL10,入力!$DG$7:$DG$141,\".*\")","v":0},{"$f":"COUNTIFS(入力!$DT$7:$DT$141,AL10,入力!$DW$7:$DW$141,\".*\")+COUNTIFS(入力!$DX$7:$DX$141,AL10,入力!$EA$7:$EA$141,\".*\")","v":0},{"$f":"COUNTIFS(入力!$EN$7:$EN$141,AL10,入力!$EQ$7:$EQ$141,\".*\")+COUNTIFS(入力!$ER$7:$ER$141,AL10,入力!$EU$7:$EU$141,\".*\")","v":0},{"$f":"COUNTIFS(入力!$FH$7:$FH$141,AL10,入力!$FK$7:$FK$141,\".*\")+COUNTIFS(入力!$FL$7:$FL$141,AL10,入力!$FO$7:$FO$141,\".*\")","v":0},{"$f":"COUNTIFS(入力!$GB$7:$GB$141,AL10,入力!$GE$7:$GE$141,\".*\")+COUNTIFS(入力!$GF$7:$GF$141,AL10,入力!$GI$7:$GI$141,\".*\")","v":0},{"$f":"COUNTIFS(入力!$GV$7:$GV$141,AL10,入力!$GY$7:$GY$141,\".*\")+COUNTIFS(入力!$GZ$7:$GZ$141,AL10,入力!$HC$7:$HC$141,\".*\")","v":0},{"$f":"COUNTIFS(入力!$HP$7:$HP$141,AL10,入力!$HS$7:$HS$141,\".*\")+COUNTIFS(入力!$HT$7:$HT$141,AL10,入力!$HW$7:$HW$141,\".*\")","v":0},{"$f":"COUNTIFS(入力!$IJ$7:$IJ$141,AL10,入力!$IM$7:$IM$141,\".*\")+COUNTIFS(入力!$IN$7:$IN$141,AL10,入力!$IQ$7:$IQ$141,\".*\")","v":0},null,null,{"$f":"IF($AL$10=\"\",\"\",VLOOKUP($AL$10,入力!$A$28:$C$34,3,FALSE))","v":""},{"$f":"IF(入力!$E$32=\"\",\"\",入力!$E$32)","v":""},0,{"$f":"COUNTIFS(入力!$X$7:$X$141,入力!E32,入力!$AA$7:$AA$141,情報!$AH$5)+COUNTIFS(入力!$AB$7:$AB$141,入力!E32,入力!$AE$7:$AE$141,情報!$AH$5)","v":0},{"$f":"COUNTIFS(入力!$AR$7:$AR$141,入力!E32,入力!$AU$7:$AU$141,情報!$AH$5)+COUNTIFS(入力!$AV$7:$AV$141,入力!E32,入力!$AY$7:$AY$141,情報!$AH$5)","v":0},{"$f":"COUNTIFS(入力!$BL$7:$BL$141,入力!E32,入力!$BO$7:$BO$141,情報!$AH$5)+COUNTIFS(入力!$BP$7:$BP$141,入力!E32,入力!$BS$7:$BS$141,情報!$AH$5)","v":0},{"$f":"COUNTIFS(入力!$CF$7:$CF$141,入力!E32,入力!$CI$7:$CI$141,情報!$AH$5)+COUNTIFS(入力!$CJ$7:$CJ$141,入力!E32,入力!$CM$7:$CM$141,情報!$AH$5)","v":0},{"$f":"COUNTIFS(入力!$CZ$7:$CZ$141,入力!E32,入力!$DC$7:$DC$141,情報!$AH$5)+COUNTIFS(入力!$DD$7:$DD$141,入力!E32,入力!$DG$7:$DG$141,情報!$AH$5)","v":0},{"$f":"COUNTIFS(入力!$DT$7:$DT$141,入力!E32,入力!$DW$7:$DW$141,情報!$AH$5)+COUNTIFS(入力!$DX$7:$DX$141,入力!E32,入力!$EA$7:$EA$141,情報!$AH$5)","v":0},{"$f":"COUNTIFS(入力!$EN$7:$EN$141,入力!E32,入力!$EQ$7:$EQ$141,情報!$AH$5)+COUNTIFS(入力!$ER$7:$ER$141,入力!E32,入力!$EU$7:$EU$141,情報!$AH$5)","v":0},{"$f":"COUNTIFS(入力!$FH$7:$FH$141,入力!E32,入力!$FK$7:$FK$141,情報!$AH$5)+COUNTIFS(入力!$FL$7:$FL$141,入力!E32,入力!$FO$7:$FO$141,情報!$AH$5)","v":0},{"$f":"COUNTIFS(入力!$GB$7:$GB$141,入力!E32,入力!$GE$7:$GE$141,情報!$AH$5)+COUNTIFS(入力!$GF$7:$GF$141,入力!E32,入力!$GI$7:$GI$141,情報!$AH$5)","v":0},{"$f":"COUNTIFS(入力!$GV$7:$GV$141,入力!E32,入力!$GY$7:$GY$141,情報!$AH$5)+COUNTIFS(入力!$GZ$7:$GZ$141,入力!E32,入力!$HC$7:$HC$141,情報!$AH$5)","v":0},{"$f":"COUNTIFS(入力!$HP$7:$HP$141,入力!E32,入力!$HS$7:$HS$141,情報!$AH$5)+COUNTIFS(入力!$HT$7:$HT$141,入力!E32,入力!$HW$7:$HW$141,情報!$AH$5)","v":0},{"$f":"COUNTIFS(入力!$IJ$7:$IJ$141,入力!E32,入力!$IM$7:$IM$141,情報!$AH$5)+COUNTIFS(入力!$IN$7:$IN$141,入力!E32,入力!$IQ$7:$IQ$141,情報!$AH$5)","v":0},null,null,{"$f":"IF($AL$10=\"\",\"\",VLOOKUP($AL$10,入力!$A$28:$C$34,3,FALSE))","v":""},{"$f":"IF(入力!$E$32=\"\",\"\",入力!$E$32)","v":""},"",{"$f":"COUNTIFS(入力!$X$7:$X$141,入力!E32,入力!$W$7:$W$141,情報!$AK$5)","v":0},{"$f":"COUNTIFS(入力!$AR$7:$AR$141,入力!E32,入力!$AQ$7:$AQ$141,情報!$AK$5)","v":0},{"$f":"COUNTIFS(入力!$BL$7:$BL$141,入力!E32,入力!$BK$7:$BK$141,情報!$AK$5)","v":0},{"$f":"COUNTIFS(入力!$CF$7:$CF$141,入力!E32,入力!$CE$7:$CE$141,情報!$AK$5)","v":0},{"$f":"COUNTIFS(入力!$CZ$7:$CZ$141,入力!E32,入力!$CY$7:$CY$141,情報!$AK$5)","v":0},{"$f":"COUNTIFS(入力!$DT$7:$DT$141,入力!E32,入力!$DS$7:$DS$141,情報!$AK$5)","v":0},{"$f":"COUNTIFS(入力!$EN$7:$EN$141,入力!E32,入力!$EM$7:$EM$141,情報!$AK$5)","v":0},{"$f":"COUNTIFS(入力!$FH$7:$FH$141,入力!E32,入力!$FG$7:$FG$141,情報!$AK$5)","v":0},{"$f":"COUNTIFS(入力!$GB$7:$GB$141,入力!E32,入力!$GA$7:$GA$141,情報!$AK$5)","v":0},{"$f":"COUNTIFS(入力!$GV$7:$GV$141,入力!E32,入力!$GU$7:$GU$141,情報!$AK$5)","v":0},{"$f":"COUNTIFS(入力!$HP$7:$HP$141,入力!E32,入力!$HO$7:$HO$141,情報!$AK$5)","v":0},{"$f":"COUNTIFS(入力!$IJ$7:$IJ$141,入力!E32,入力!$II$7:$II$141,情報!$AK$5)","v":0}]
[null,{"$f":"IF(C11=\"\",\"\",VLOOKUP(C11,情報!$D$5:$E$39,2,FALSE))","v":""},{"$f":"IF(E11=\"\",\"\",入力!$C$75)","v":""},5,{"$f":"IF(入力!C32=\"\",\"\",VLOOKUP(D11,入力!$B$28:$C$35,2,FALSE))","v":""},{"$f":"IF(入力!C32=\"\",\"\",VLOOKUP(D11,入力!$B$28:$E$35,4,FALSE))","v":""},"","","","","","","","","","","","","","","","","","","","","","","","",{"$f":"IF(E11=\"\",\"\",入力!$C$38)","v":""},null,null,null,null,null,{"$f":"IF($AL$11=\"\",\"\",VLOOKUP($AL$11,入力!$A$28:$C$34,3,FALSE))","v":""},{"$f":"IF(入力!$E$33=\"\",\"\",入力!$E$33)","v":""},0,{"$f":"COUNTIFS(入力!$X$7:$X$141,AL11,入力!$AA$7:$AA$141,\".*\")+COUNTIFS(入力!$AB$7:$AB$141,AL11,入力!$AE$7:$AE$141,\".*\")","v":0},{"$f":"COUNTIFS(入力!$AR$7:$AR$141,AL11,入力!$AU$7:$AU$141,\".*\")+COUNTIFS(入力!$AV$7:$AV$141,AL11,入力!$AY$7:$AY$141,\".*\")","v":0},{"$f":"COUNTIFS(入力!$BL$7:$BL$141,AL11,入力!$BO$7:$BO$141,\".*\")+COUNTIFS(入力!$BP$7:$BP$141,AL11,入力!$BS$7:$BS$141,\".*\")","v":0},{"$f":"COUNTIFS(入力!$CF$7:$CF$141,AL11,入力!$CI$7:$CI$141,\".*\")+COUNTIFS(入力!$CJ$7:$CJ$141,AL11,入力!$CM$7:$CM$141,\".*\")","v":0},{"$f":"COUNTIFS(入力!$CZ$7:$CZ$141,AL11,入力!$DC$7:$DC$141,\".*\")+COUNTIFS(入力!$DD$7:$DD$141,AL11,入力!$DG$7:$DG$141,\".*\")","v":0},{"$f":"COUNTIFS(入力!$DT$7:$DT$141,AL11,入力!$DW$7:$DW$141,\".*\")+COUNTIFS(入力!$DX$7:$DX$141,AL11,入力!$EA$7:$EA$141,\".*\")","v":0},{"$f":"COUNTIFS(入力!$EN$7:$EN$141,AL11,入力!$EQ$7:$EQ$141,\".*\")+COUNTIFS(入力!$ER$7:$ER$141,AL11,入力!$EU$7:$EU$141,\".*\")","v":0},{"$f":"COUNTIFS(入力!$FH$7:$FH$141,AL11,入力!$FK$7:$FK$141,\".*\")+COUNTIFS(入力!$FL$7:$FL$141,AL11,入力!$FO$7:$FO$141,\".*\")","v":0},{"$f":"COUNTIFS(入力!$GB$7:$GB$141,AL11,入力!$GE$7:$GE$141,\".*\")+COUNTIFS(入力!$GF$7:$GF$141,AL11,入力!$GI$7:$GI$141,\".*\")","v":0},{"$f":"COUNTIFS(入力!$GV$7:$GV$141,AL11,入力!$GY$7:$GY$141,\".*\")+COUNTIFS(入力!$GZ$7:$GZ$141,AL11,入力!$HC$7:$HC$141,\".*\")","v":0},{"$f":"COUNTIFS(入力!$HP$7:$HP$141,AL11,入力!$HS$7:$HS$141,\".*\")+COUNTIFS(入力!$HT$7:$HT$141,AL11,入力!$HW$7:$HW$141,\".*\")","v":0},{"$f":"COUNTIFS(入力!$IJ$7:$IJ$141,AL11,入力!$IM$7:$IM$141,\".*\")+COUNTIFS(入力!$IN$7:$IN$141,AL11,入力!$IQ$7:$IQ$141,\".*\")","v":0},null,null,{"$f":"IF($AL$11=\"\",\"\",VLOOKUP($AL$11,入力!$A$28:$C$34,3,FALSE))","v":""},{"$f":"IF(入力!$E$33=\"\",\"\",入力!$E$33)","v":""},{"$f":"SUM(BE11:BP11)","v":0},{"$f":"COUNTIFS(入力!$X$7:$X$141,入力!E33,入力!$AA$7:$AA$141,情報!$AH$5)+COUNTIFS(入力!$AB$7:$AB$141,入力!E33,入力!$AE$7:$AE$141,情報!$AH$5)","v":0},{"$f":"COUNTIFS(入力!$AR$7:$AR$141,入力!E33,入力!$AU$7:$AU$141,情報!$AH$5)+COUNTIFS(入力!$AV$7:$AV$141,入力!E33,入力!$AY$7:$AY$141,情報!$AH$5)","v":0},{"$f":"COUNTIFS(入力!$BL$7:$BL$141,入力!E33,入力!$BO$7:$BO$141,情報!$AH$5)+COUNTIFS(入力!$BP$7:$BP$141,入力!E33,入力!$BS$7:$BS$141,情報!$AH$5)","v":0},{"$f":"COUNTIFS(入力!$CF$7:$CF$141,入力!E33,入力!$CI$7:$CI$141,情報!$AH$5)+COUNTIFS(入力!$CJ$7:$CJ$141,入力!E33,入力!$CM$7:$CM$141,情報!$AH$5)","v":0},{"$f":"COUNTIFS(入力!$CZ$7:$CZ$141,入力!E33,入力!$DC$7:$DC$141,情報!$AH$5)+COUNTIFS(入力!$DD$7:$DD$141,入力!E33,入力!$DG$7:$DG$141,情報!$AH$5)","v":0},{"$f":"COUNTIFS(入力!$DT$7:$DT$141,入力!E33,入力!$DW$7:$DW$141,情報!$AH$5)+COUNTIFS(入力!$DX$7:$DX$141,入力!E33,入力!$EA$7:$EA$141,情報!$AH$5)","v":0},{"$f":"COUNTIFS(入力!$EN$7:$EN$141,入力!E33,入力!$EQ$7:$EQ$141,情報!$AH$5)+COUNTIFS(入力!$ER$7:$ER$141,入力!E33,入力!$EU$7:$EU$141,情報!$AH$5)","v":0},{"$f":"COUNTIFS(入力!$FH$7:$FH$141,入力!E33,入力!$FK$7:$FK$141,情報!$AH$5)+COUNTIFS(入力!$FL$7:$FL$141,入力!E33,入力!$FO$7:$FO$141,情報!$AH$5)","v":0},{"$f":"COUNTIFS(入力!$GB$7:$GB$141,入力!E33,入力!$GE$7:$GE$141,情報!$AH$5)+COUNTIFS(入力!$GF$7:$GF$141,入力!E33,入力!$GI$7:$GI$141,情報!$AH$5)","v":0},{"$f":"COUNTIFS(入力!$GV$7:$GV$141,入力!E33,入力!$GY$7:$GY$141,情報!$AH$5)+COUNTIFS(入力!$GZ$7:$GZ$141,入力!E33,入力!$HC$7:$HC$141,情報!$AH$5)","v":0},{"$f":"COUNTIFS(入力!$HP$7:$HP$141,入力!E33,入力!$HS$7:$HS$141,情報!$AH$5)+COUNTIFS(入力!$HT$7:$HT$141,入力!E33,入力!$HW$7:$HW$141,情報!$AH$5)","v":0},{"$f":"COUNTIFS(入力!$IJ$7:$IJ$141,入力!E33,入力!$IM$7:$IM$141,情報!$AH$5)+COUNTIFS(入力!$IN$7:$IN$141,入力!E33,入力!$IQ$7:$IQ$141,情報!$AH$5)","v":0},null,null,{"$f":"IF($AL$11=\"\",\"\",VLOOKUP($AL$11,入力!$A$28:$C$34,3,FALSE))","v":""},{"$f":"IF(入力!$E$33=\"\",\"\",入力!$E$33)","v":""},{"$f":"IF(BS11=\"\",\"\",SUM(BV11:CG11))","v":""},{"$f":"COUNTIFS(入力!$X$7:$X$141,入力!E33,入力!$W$7:$W$141,情報!$AK$5)","v":0},{"$f":"COUNTIFS(入力!$AR$7:$AR$141,入力!E33,入力!$AQ$7:$AQ$141,情報!$AK$5)","v":0},{"$f":"COUNTIFS(入力!$BL$7:$BL$141,入力!E33,入力!$BK$7:$BK$141,情報!$AK$5)","v":0},{"$f":"COUNTIFS(入力!$CF$7:$CF$141,入力!E33,入力!$CE$7:$CE$141,情報!$AK$5)","v":0},{"$f":"COUNTIFS(入力!$CZ$7:$CZ$141,入力!E33,入力!$CY$7:$CY$141,情報!$AK$5)","v":0},{"$f":"COUNTIFS(入力!$DT$7:$DT$141,入力!E33,入力!$DS$7:$DS$141,情報!$AK$5)","v":0},{"$f":"COUNTIFS(入力!$EN$7:$EN$141,入力!E33,入力!$EM$7:$EM$141,情報!$AK$5)","v":0},{"$f":"COUNTIFS(入力!$FH$7:$FH$141,入力!E33,入力!$FG$7:$FG$141,情報!$AK$5)","v":0},{"$f":"COUNTIFS(入力!$GB$7:$GB$141,入力!E33,入力!$GA$7:$GA$141,情報!$AK$5)","v":0},{"$f":"COUNTIFS(入力!$GV$7:$GV$141,入力!E33,入力!$GU$7:$GU$141,情報!$AK$5)","v":0},{"$f":"COUNTIFS(入力!$HP$7:$HP$141,入力!E33,入力!$HO$7:$HO$141,情報!$AK$5)","v":0},{"$f":"COUNTIFS(入力!$IJ$7:$IJ$141,入力!E33,入力!$II$7:$II$141,情報!$AK$5)","v":0}]
[null,{"$f":"IF(C12=\"\",\"\",VLOOKUP(C12,情報!$D$5:$E$39,2,FALSE))","v":""},{"$f":"IF(E12=\"\",\"\",入力!$C$75)","v":""},6,{"$f":"IF(入力!C33=\"\",\"\",VLOOKUP(D12,入力!$B$28:$C$35,2,FALSE))","v":""},{"$f":"IF(入力!C33=\"\",\"\",VLOOKUP(D12,入力!$B$28:$E$35,4,FALSE))","v":""},"","","","","","","","","","","","","","","","","","","","","","","","",{"$f":"IF(E12=\"\",\"\",入力!$C$38)","v":""},null,null,null,null,null,{"$f":"IF($AL$12=\"\",\"\",VLOOKUP($AL$12,入力!$A$28:$C$34,3,FALSE))","v":""},{"$f":"IF(入力!$E$34=\"\",\"\",入力!$E$34)","v":""},0,{"$f":"COUNTIFS(入力!$X$7:$X$141,AL12,入力!$AA$7:$AA$141,\".*\")+COUNTIFS(入力!$AB$7:$AB$141,AL12,入力!$AE$7:$AE$141,\".*\")","v":0},{"$f":"COUNTIFS(入力!$AR$7:$AR$141,AL12,入力!$AU$7:$AU$141,\".*\")+COUNTIFS(入力!$AV$7:$AV$141,AL12,入力!$AY$7:$AY$141,\".*\")","v":0},{"$f":"COUNTIFS(入力!$BL$7:$BL$141,AL12,入力!$BO$7:$BO$141,\".*\")+COUNTIFS(入力!$BP$7:$BP$141,AL12,入力!$BS$7:$BS$141,\".*\")","v":0},{"$f":"COUNTIFS(入力!$CF$7:$CF$141,AL12,入力!$CI$7:$CI$141,\".*\")+COUNTIFS(入力!$CJ$7:$CJ$141,AL12,入力!$CM$7:$CM$141,\".*\")","v":0},{"$f":"COUNTIFS(入力!$CZ$7:$CZ$141,AL12,入力!$DC$7:$DC$141,\".*\")+COUNTIFS(入力!$DD$7:$DD$141,AL12,入力!$DG$7:$DG$141,\".*\")","v":0},{"$f":"COUNTIFS(入力!$DT$7:$DT$141,AL12,入力!$DW$7:$DW$141,\".*\")+COUNTIFS(入力!$DX$7:$DX$141,AL12,入力!$EA$7:$EA$141,\".*\")","v":0},{"$f":"COUNTIFS(入力!$EN$7:$EN$141,AL12,入力!$EQ$7:$EQ$141,\".*\")+COUNTIFS(入力!$ER$7:$ER$141,AL12,入力!$EU$7:$EU$141,\".*\")","v":0},{"$f":"COUNTIFS(入力!$FH$7:$FH$141,AL12,入力!$FK$7:$FK$141,\".*\")+COUNTIFS(入力!$FL$7:$FL$141,AL12,入力!$FO$7:$FO$141,\".*\")","v":0},{"$f":"COUNTIFS(入力!$GB$7:$GB$141,AL12,入力!$GE$7:$GE$141,\".*\")+COUNTIFS(入力!$GF$7:$GF$141,AL12,入力!$GI$7:$GI$141,\".*\")","v":0},{"$f":"COUNTIFS(入力!$GV$7:$GV$141,AL12,入力!$GY$7:$GY$141,\".*\")+COUNTIFS(入力!$GZ$7:$GZ$141,AL12,入力!$HC$7:$HC$141,\".*\")","v":0},{"$f":"COUNTIFS(入力!$HP$7:$HP$141,AL12,入力!$HS$7:$HS$141,\".*\")+COUNTIFS(入力!$HT$7:$HT$141,AL12,入力!$HW$7:$HW$141,\".*\")","v":0},{"$f":"COUNTIFS(入力!$IJ$7:$IJ$141,AL12,入力!$IM$7:$IM$141,\".*\")+COUNTIFS(入力!$IN$7:$IN$141,AL12,入力!$IQ$7:$IQ$141,\".*\")","v":0},null,null,{"$f":"IF($AL$12=\"\",\"\",VLOOKUP($AL$12,入力!$A$28:$C$34,3,FALSE))","v":""},{"$f":"IF(入力!$E$34=\"\",\"\",入力!$E$34)","v":""},0,{"$f":"COUNTIFS(入力!$X$7:$X$141,入力!E34,入力!$AA$7:$AA$141,情報!$AH$5)+COUNTIFS(入力!$AB$7:$AB$141,入力!E34,入力!$AE$7:$AE$141,情報!$AH$5)","v":0},{"$f":"COUNTIFS(入力!$AR$7:$AR$141,入力!E34,入力!$AU$7:$AU$141,情報!$AH$5)+COUNTIFS(入力!$AV$7:$AV$141,入力!E34,入力!$AY$7:$AY$141,情報!$AH$5)","v":0},{"$f":"COUNTIFS(入力!$BL$7:$BL$141,入力!E34,入力!$BO$7:$BO$141,情報!$AH$5)+COUNTIFS(入力!$BP$7:$BP$141,入力!E34,入力!$BS$7:$BS$141,情報!$AH$5)","v":0},{"$f":"COUNTIFS(入力!$CF$7:$CF$141,入力!E34,入力!$CI$7:$CI$141,情報!$AH$5)+COUNTIFS(入力!$CJ$7:$CJ$141,入力!E34,入力!$CM$7:$CM$141,情報!$AH$5)","v":0},{"$f":"COUNTIFS(入力!$CZ$7:$CZ$141,入力!E34,入力!$DC$7:$DC$141,情報!$AH$5)+COUNTIFS(入力!$DD$7:$DD$141,入力!E34,入力!$DG$7:$DG$141,情報!$AH$5)","v":0},{"$f":"COUNTIFS(入力!$DT$7:$DT$141,入力!E34,入力!$DW$7:$DW$141,情報!$AH$5)+COUNTIFS(入力!$DX$7:$DX$141,入力!E34,入力!$EA$7:$EA$141,情報!$AH$5)","v":0},{"$f":"COUNTIFS(入力!$EN$7:$EN$141,入力!E34,入力!$EQ$7:$EQ$141,情報!$AH$5)+COUNTIFS(入力!$ER$7:$ER$141,入力!E34,入力!$EU$7:$EU$141,情報!$AH$5)","v":0},{"$f":"COUNTIFS(入力!$FH$7:$FH$141,入力!E34,入力!$FK$7:$FK$141,情報!$AH$5)+COUNTIFS(入力!$FL$7:$FL$141,入力!E34,入力!$FO$7:$FO$141,情報!$AH$5)","v":0},{"$f":"COUNTIFS(入力!$GB$7:$GB$141,入力!E34,入力!$GE$7:$GE$141,情報!$AH$5)+COUNTIFS(入力!$GF$7:$GF$141,入力!E34,入力!$GI$7:$GI$141,情報!$AH$5)","v":0},{"$f":"COUNTIFS(入力!$GV$7:$GV$141,入力!E34,入力!$GY$7:$GY$141,情報!$AH$5)+COUNTIFS(入力!$GZ$7:$GZ$141,入力!E34,入力!$HC$7:$HC$141,情報!$AH$5)","v":0},{"$f":"COUNTIFS(入力!$HP$7:$HP$141,入力!E34,入力!$HS$7:$HS$141,情報!$AH$5)+COUNTIFS(入力!$HT$7:$HT$141,入力!E34,入力!$HW$7:$HW$141,情報!$AH$5)","v":0},{"$f":"COUNTIFS(入力!$IJ$7:$IJ$141,入力!E34,入力!$IM$7:$IM$141,情報!$AH$5)+COUNTIFS(入力!$IN$7:$IN$141,入力!E34,入力!$IQ$7:$IQ$141,情報!$AH$5)","v":0},null,null,{"$f":"IF($AL$12=\"\",\"\",VLOOKUP($AL$12,入力!$A$28:$C$34,3,FALSE))","v":""},{"$f":"IF(入力!$E$34=\"\",\"\",入力!$E$34)","v":""},"",{"$f":"COUNTIFS(入力!$X$7:$X$141,入力!E34,入力!$W$7:$W$141,情報!$AK$5)","v":0},{"$f":"COUNTIFS(入力!$AR$7:$AR$141,入力!E34,入力!$AQ$7:$AQ$141,情報!$AK$5)","v":0},{"$f":"COUNTIFS(入力!$BL$7:$BL$141,入力!E34,入力!$BK$7:$BK$141,情報!$AK$5)","v":0},{"$f":"COUNTIFS(入力!$CF$7:$CF$141,入力!E34,入力!$CE$7:$CE$141,情報!$AK$5)","v":0},{"$f":"COUNTIFS(入力!$CZ$7:$CZ$141,入力!E34,入力!$CY$7:$CY$141,情報!$AK$5)","v":0},{"$f":"COUNTIFS(入力!$DT$7:$DT$141,入力!E34,入力!$DS$7:$DS$141,情報!$AK$5)","v":0},{"$f":"COUNTIFS(入力!$EN$7:$EN$141,入力!E34,入力!$EM$7:$EM$141,情報!$AK$5)","v":0},{"$f":"COUNTIFS(入力!$FH$7:$FH$141,入力!E34,入力!$FG$7:$FG$141,情報!$AK$5)","v":0},{"$f":"COUNTIFS(入力!$GB$7:$GB$141,入力!E34,入力!$GA$7:$GA$141,情報!$AK$5)","v":0},{"$f":"COUNTIFS(入力!$GV$7:$GV$141,入力!E34,入力!$GU$7:$GU$141,情報!$AK$5)","v":0},{"$f":"COUNTIFS(入力!$HP$7:$HP$141,入力!E34,入力!$HO$7:$HO$141,情報!$AK$5)","v":0},{"$f":"COUNTIFS(入力!$IJ$7:$IJ$141,入力!E34,入力!$II$7:$II$141,情報!$AK$5)","v":0}]
[null,{"$f":"IF(C13=\"\",\"\",VLOOKUP(C13,情報!$D$5:$E$39,2,FALSE))","v":""},{"$f":"IF(E13=\"\",\"\",入力!$C$75)","v":""},7,{"$f":"IF(入力!C34=\"\",\"\",VLOOKUP(D13,入力!$B$28:$C$35,2,FALSE))","v":""},{"$f":"IF(入力!C34=\"\",\"\",VLOOKUP(D13,入力!$B$28:$E$35,4,FALSE))","v":""},"","","","","","","","","","","","","","","","","","","","","","","","",{"$f":"IF(E13=\"\",\"\",入力!$C$38)","v":""},null,null,null,null,"ストレート系",null,null,null,null,null,null,null,null,null,null,null,null,null,null,null,null,"ストライク",null,null,null,null,null,null,null,null,null,null,null,null,null,null,null,null,"ヒット"]
[null,null,null,null,null,null,null,null,null,null,null,null,null,null,null,null,null,null,null,null,null,null,null,null,null,null,null,null,null,null,null,null,null,null,null,"種分","投手名","背番","合計","1回","2回","3回","4回","5回","6回","7回","8回","9回","10回","11回","12回",null,"種分","投手名","背番","合計","1回","2回","3回","4回","5回","6回","7回","8回","9回","10回","11回","12回",null,"種分","投手名","背番","合計","1回","2回","3回","4回","5回","6回","7回","8回","9回","10回","11回","12回"]
[null,null,null,null,null,null,null,null,null,null,null,null,null,null,null,null,null,null,null,null,null,null,null,null,null,null,null,null,null,null,null,null,null,null,null,"↑",{"$f":"IF($AL$6=\"\",\"\",VLOOKUP($AL$6,入力!$A$28:$C$34,3,FALSE))","v":""},{"$f":"IF(入力!$E$28=\"\",\"\",入力!$E$28)","v":""},{"$f":"SUM(AN15:AY15)","v":0},{"$f":"COUNTIFS(入力!$X$7:$X$141,入力!E28,入力!$Z$7:$Z$141,情報!$AE$5)+COUNTIFS(入力!$AB$7:$AB$141,入力!E28,入力!$AD$7:$AD$141,情報!$AE$5)","v":0},{"$f":"COUNTIFS(入力!$AR$7:$AR$141,入力!E28,入力!$AT$7:$AT$141,情報!$AE$5)+COUNTIFS(入力!$AV$7:$AV$141,入力!E28,入力!$AX$7:$AX$141,情報!$AE$5)","v":0},{"$f":"COUNTIFS(入力!$BL$7:$BL$141,入力!E28,入力!$BN$7:$BN$141,情報!$AE$5)+COUNTIFS(入力!$BP$7:$BP$141,入力!E28,入力!$BR$7:$BR$141,情報!$AE$5)","v":0},{"$f":"COUNTIFS(入力!$CF$7:$CF$141,入力!E28,入力!$CH$7:$CH$141,情報!$AE$5)+COUNTIFS(入力!$CJ$7:$CJ$141,入力!E28,入力!$CL$7:$CL$141,情報!$AE$5)","v":0},{"$f":"COUNTIFS(入力!$CZ$7:$CZ$141,入力!E28,入力!$DB$7:$DB$141,情報!$AE$5)+COUNTIFS(入力!$DD$7:$DD$141,入力!E28,入力!$DF$7:$DF$141,情報!$AE$5)","v":0},{"$f":"COUNTIFS(入力!$DT$7:$DT$141,入力!E28,入力!$DV$7:$DV$141,情報!$AE$5)+COUNTIFS(入力!$DX$7:$DX$141,入力!E28,入力!$DZ$7:$DZ$141,情報!$AE$5)","v":0},{"$f":"COUNTIFS(入力!$EN$7:$EN$141,入力!E28,入力!$EP$7:$EP$141,情報!$AE$5)+COUNTIFS(入力!$ER$7:$ER$141,入力!E28,入力!$ET$7:$ET$141,情報!$AE$5)","v":0},{"$f":"COUNTIFS(入力!$FH$7:$FH$141,入力!E28,入力!$FJ$7:$FJ$141,情報!$AE$5)+COUNTIFS(入力!$FL$7:$FL$141,入力!E28,入力!$FN$7:$FN$141,情報!$AE$5)","v":0},{"$f":"COUNTIFS(入力!$GB$7:$GB$141,入力!E28,入力!$GD$7:$GD$141,情報!$AE$5)+COUNTIFS(入力!$GF$7:$GF$141,入力!E28,入力!$GH$7:$GH$141,情報!$AE$5)","v":0},{"$f":"COUNTIFS(入力!$GV$7:$GV$141,入力!E28,入力!$GX$7:$GX$141,情報!$AE$5)+COUNTIFS(入力!$GH$7:$GH$141,入力!E28,入力!$HB$7:$HB$141,情報!$AE$5)","v":0},{"$f":"COUNTIFS(入力!$HP$7:$HP$141,入力!E28,入力!$HR$7:$HR$141,情報!$AE$5)+COUNTIFS(入力!$HT$7:$HT$141,入力!E28,入力!$HV$7:$HV$141,情報!$AE$5)","v":0},{"$f":"COUNTIFS(入力!$IJ$7:$IJ$141,入力!E28,入力!$IL$7:$IL$141,情報!$AE$5)+COUNTIFS(入力!$IN$7:$IN$141,入力!E28,入力!$IP$7:$IP$141,情報!$AE$5)","v":0},null,"◯",{"$f":"IF($AL$6=\"\",\"\",VLOOKUP($AL$6,入力!$A$28:$C$34,3,FALSE))","v":""},{"$f":"IF(入力!$E$28=\"\",\"\",入力!$E$28)","v":""},{"$f":"SUM(BE15:BP15)","v":0},{"$f":"COUNTIFS(入力!$X$7:$X$141,入力!E28,入力!$AA$7:$AA$141,情報!$AH$6)+COUNTIFS(入力!$AB$7:$AB$141,入力!E28,入力!$AE$7:$AE$141,情報!$AH$6)","v":0},{"$f":"COUNTIFS(入力!$AR$7:$AR$141,入力!E28,入力!$AU$7:$AU$141,情報!$AH$6)+COUNTIFS(入力!$AV$7:$AV$141,入力!E28,入力!$AY$7:$AY$141,情報!$AH$6)","v":0},{"$f":"COUNTIFS(入力!$BL$7:$BL$141,入力!E28,入力!$BO$7:$BO$141,情報!$AH$6)+COUNTIFS(入力!$BP$7:$BP$141,入力!E28,入力!$BS$7:$BS$141,情報!$AH$6)","v":0},{"$f":"COUNTIFS(入力!$CF$7:$CF$141,入力!E28,入力!$CI$7:$CI$141,情報!$AH$6)+COUNTIFS(入力!$CJ$7:$CJ$141,入力!E28,入力!$CM$7:$CM$141,情報!$AH$6)","v":0},{"$f":"COUNTIFS(入力!$CZ$7:$CZ$141,入力!E28,入力!$DC$7:$DC$141,情報!$AH$6)+COUNTIFS(入力!$DD$7:$DD$141,入力!E28,入力!$DG$7:$DG$141,情報!$AH$6)","v":0},{"$f":"COUNTIFS(入力!$DT$7:$DT$141,入力!E28,入力!$DW$7:$DW$141,情報!$AH$6)+COUNTIFS(入力!$DX$7:$DX$141,入力!E28,入力!$EA$7:$EA$141,情報!$AH$6)","v":0},{"$f":"COUNTIFS(入力!$EN$7:$EN$141,入力!E28,入力!$EQ$7:$EQ$141,情報!$AH$6)+COUNTIFS(入力!$ER$7:$ER$141,入力!E28,入力!$EU$7:$EU$141,情報!$AH$6)","v":0},{"$f":"COUNTIFS(入力!$FH$7:$FH$141,入力!E28,入力!$FK$7:$FK$141,情報!$AH$6)+COUNTIFS(入力!$FL$7:$FL$141,入力!E28,入力!$FO$7:$FO$141,情報!$AH$6)","v":0},{"$f":"COUNTIFS(入力!$GB$7:$GB$141,入力!E28,入力!$GE$7:$GE$141,情報!$AH$6)+COUNTIFS(入力!$GF$7:$GF$141,入力!E28,入力!$GI$7:$GI$141,情報!$AH$6)","v":0},{"$f":"COUNTIFS(入力!$GV$7:$GV$141,入力!E28,入力!$GY$7:$GY$141,情報!$AH$6)+COUNTIFS(入力!$GZ$7:$GZ$141,入力!E28,入力!$HC$7:$HC$141,情報!$AH$6)","v":0},{"$f":"COUNTIFS(入力!$HP$7:$HP$141,入力!E28,入力!$HS$7:$HS$141,情報!$AH$6)+COUNTIFS(入力!$HT$7:$HT$141,入力!E28,入力!$HW$7:$HW$141,情報!$AH$6)","v":0},{"$f":"COUNTIFS(入力!$IJ$7:$IJ$141,入力!E28,入力!$IM$7:$IM$141,情報!$AH$6)+COUNTIFS(入力!$IN$7:$IN$141,入力!E28,入力!$IQ$7:$IQ$141,情報!$AH$6)","v":0},null,{"$f":"情報!AK6","v":"H"},{"$f":"IF($AL$6=\"\",\"\",VLOOKUP($AL$6,入力!$A$28:$C$34,3,FALSE))","v":""},{"$f":"IF(入力!$E$28=\"\",\"\",入力!$E$28)","v":""},{"$f":"SUM(BV15:CG15)","v":0},{"$f":"COUNTIFS(入力!$X$7:$X$141,入力!E28,入力!$W$7:$W$141,情報!$AK$6)","v":0},{"$f":"COUNTIFS(入力!$AR$7:$AR$141,入力!E28,入力!$AQ$7:$AQ$141,情報!$AK$6)","v":0},{"$f":"COUNTIFS(入力!$BL$7:$BL$141,入力!E28,入力!$BK$7:$BK$141,情報!$AK$6)","v":0},{"$f":"COUNTIFS(入力!$CF$7:$CF$141,入力!E28,入力!$CE$7:$CE$141,情報!$AK$6)","v":0},{"$f":"COUNTIFS(入力!$CZ$7:$CZ$141,入力!E28,入力!$CY$7:$CY$141,情報!$AK$6)","v":0},{"$f":"COUNTIFS(入力!$DT$7:$DT$141,入力!E28,入力!$DS$7:$DS$141,情報!$AK$6)","v":0},{"$f":"COUNTIFS(入力!$EN$7:$EN$141,入力!E28,入力!$EM$7:$EM$141,情報!$AK$6)","v":0},{"$f":"COUNTIFS(入力!$FH$7:$FH$141,入力!E28,入力!$FG$7:$FG$141,情報!$AK$6)","v":0},{"$f":"COUNTIFS(入力!$GB$7:$GB$141,入力!E28,入力!$GA$7:$GA$141,情報!$AK$6)","v":0},{"$f":"COUNTIFS(入力!$GV$7:$GV$141,入力!E28,入力!$GU$7:$GU$141,情報!$AK$6)","v":0},{"$f":"COUNTIFS(入力!$HP$7:$HP$141,入力!E28,入力!$HO$7:$HO$141,情報!$AK$6)","v":0},{"$f":"COUNTIFS(入力!$IJ$7:$IJ$141,入力!E28,入力!$II$7:$II$141,情報!$AK$6)","v":0}]
[null,null,null,null,"↓リストB",null,"投球数","↑","→","←","↓","●","◯","△","□","◎","O","H","２H","３H","４H","B","B’","K","K’","G","DP","TP",null,null,null,null,null,null,null,null,{"$f":"IF($AL$7=\"\",\"\",VLOOKUP($AL$7,入力!$A$28:$C$34,3,FALSE))","v":""},{"$f":"IF(入力!$E$29=\"\",\"\",入力!$E$29)","v":""},{"$f":"SUM(AN16:AY16)","v":0},{"$f":"COUNTIFS(入力!$X$7:$X$141,入力!E29,入力!$Z$7:$Z$141,情報!$AE$5)+COUNTIFS(入力!$AB$7:$AB$141,入力!E29,入力!$AD$7:$AD$141,情報!$AE$5)","v":0},{"$f":"COUNTIFS(入力!$AR$7:$AR$141,入力!E29,入力!$AT$7:$AT$141,情報!$AE$5)+COUNTIFS(入力!$AV$7:$AV$141,入力!E29,入力!$AX$7:$AX$141,情報!$AE$5)","v":0},{"$f":"COUNTIFS(入力!$BL$7:$BL$141,入力!E29,入力!$BN$7:$BN$141,情報!$AE$5)+COUNTIFS(入力!$BP$7:$BP$141,入力!E29,入力!$BR$7:$BR$141,情報!$AE$5)","v":0},{"$f":"COUNTIFS(入力!$CF$7:$CF$141,入力!E29,入力!$CH$7:$CH$141,情報!$AE$5)+COUNTIFS(入力!$CJ$7:$CJ$141,入力!E29,入力!$CL$7:$CL$141,情報!$AE$5)","v":0},{"$f":"COUNTIFS(入力!$CZ$7:$CZ$141,入力!E29,入力!$DB$7:$DB$141,情報!$AE$5)+COUNTIFS(入力!$DD$7:$DD$141,入力!E29,入力!$DF$7:$DF$141,情報!$AE$5)","v":0},{"$f":"COUNTIFS(入力!$DT$7:$DT$141,入力!E29,入力!$DV$7:$DV$141,情報!$AE$5)+COUNTIFS(入力!$DX$7:$DX$141,入力!E29,入力!$DZ$7:$DZ$141,情報!$AE$5)","v":0},{"$f":"COUNTIFS(入力!$EN$7:$EN$141,入力!E29,入力!$EP$7:$EP$141,情報!$AE$5)+COUNTIFS(入力!$ER$7:$ER$141,入力!E29,入力!$ET$7:$ET$141,情報!$AE$5)","v":0},{"$f":"COUNTIFS(入力!$FH$7:$FH$141,入力!E29,入力!$FJ$7:$FJ$141,情報!$AE$5)+COUNTIFS(入力!$FL$7:$FL$141,入力!E29,入力!$FN$7:$FN$141,情報!$AE$5)","v":0},{"$f":"COUNTIFS(入力!$GB$7:$GB$141,入力!E29,入力!$GD$7:$GD$141,情報!$AE$5)+COUNTIFS(入力!$GF$7:$GF$141,入力!E29,入力!$GH$7:$GH$141,情報!$AE$5)","v":0},{"$f":"COUNTIFS(入力!$GV$7:$GV$141,入力!E29,入力!$GX$7:$GX$141,情報!$AE$5)+COUNTIFS(入力!$GH$7:$GH$141,入力!E29,入力!$HB$7:$HB$141,情報!$AE$5)","v":0},{"$f":"COUNTIFS(入力!$HP$7:$HP$141,入力!E29,入力!$HR$7:$HR$141,情報!$AE$5)+COUNTIFS(入力!$HT$7:$HT$141,入力!E29,入力!$HV$7:$HV$141,情報!$AE$5)","v":0},{"$f":"COUNTIFS(入力!$IJ$7:$IJ$141,入力!E29,入力!$IL$7:$IL$141,情報!$AE$5)+COUNTIFS(入力!$IN$7:$IN$141,入力!E29,入力!$IP$7:$IP$141,情報!$AE$5)","v":0},null,null,{"$f":"IF($AL$7=\"\",\"\",VLOOKUP($AL$7,入力!$A$28:$C$34,3,FALSE))","v":""},{"$f":"IF(入力!$E$29=\"\",\"\",入力!$E$29)","v":""},{"$f":"SUM(BE16:BP16)","v":0},{"$f":"COUNTIFS(入力!$X$7:$X$141,入力!E29,入力!$AA$7:$AA$141,情報!$AH$6)+COUNTIFS(入力!$AB$7:$AB$141,入力!E29,入力!$AE$7:$AE$141,情報!$AH$6)","v":0},{"$f":"COUNTIFS(入力!$AR$7:$AR$141,入力!E29,入力!$AU$7:$AU$141,情報!$AH$6)+COUNTIFS(入力!$AV$7:$AV$141,入力!E29,入力!$AY$7:$AY$141,情報!$AH$6)","v":0},{"$f":"COUNTIFS(入力!$BL$7:$BL$141,入力!E29,入力!$BO$7:$BO$141,情報!$AH$6)+COUNTIFS(入力!$BP$7:$BP$141,入力!E29,入力!$BS$7:$BS$141,情報!$AH$6)","v":0},{"$f":"COUNTIFS(入力!$CF$7:$CF$141,入力!E29,入力!$CI$7:$CI$141,情報!$AH$6)+COUNTIFS(入力!$CJ$7:$CJ$141,入力!E29,入力!$CM$7:$CM$141,情報!$AH$6)","v":0},{"$f":"COUNTIFS(入力!$CZ$7:$CZ$141,入力!E29,入力!$DC$7:$DC$141,情報!$AH$6)+COUNTIFS(入力!$DD$7:$DD$141,入力!E29,入力!$DG$7:$DG$141,情報!$AH$6)","v":0},{"$f":"COUNTIFS(入力!$DT$7:$DT$141,入力!E29,入力!$DW$7:$DW$141,情報!$AH$6)+COUNTIFS(入力!$DX$7:$DX$141,入力!E29,入力!$EA$7:$EA$141,情報!$AH$6)","v":0},{"$f":"COUNTIFS(入力!$EN$7:$EN$141,入力!E29,入力!$EQ$7:$EQ$141,情報!$AH$6)+COUNTIFS(入力!$ER$7:$ER$141,入力!E29,入力!$EU$7:$EU$141,情報!$AH$6)","v":0},{"$f":"COUNTIFS(入力!$FH$7:$FH$141,入力!E29,入力!$FK$7:$FK$141,情報!$AH$6)+COUNTIFS(入力!$FL$7:$FL$141,入力!E29,入力!$FO$7:$FO$141,情報!$AH$6)","v":0},{"$f":"COUNTIFS(入力!$GB$7:$GB$141,入力!E29,入力!$GE$7:$GE$141,情報!$AH$6)+COUNTIFS(入力!$GF$7:$GF$141,入力!E29,入力!$GI$7:$GI$141,情報!$AH$6)","v":0},{"$f":"COUNTIFS(入力!$GV$7:$GV$141,入力!E29,入力!$GY$7:$GY$141,情報!$AH$6)+COUNTIFS(入力!$GZ$7:$GZ$141,入力!E29,入力!$HC$7:$HC$141,情報!$AH$6)","v":0},{"$f":"COUNTIFS(入力!$HP$7:$HP$141,入力!E29,入力!$HS$7:$HS$141,情報!$AH$6)+COUNTIFS(入力!$HT$7:$HT$141,入力!E29,入力!$HW$7:$HW$141,情報!$AH$6)","v":0},{"$f":"COUNTIFS(入力!$IJ$7:$IJ$141,入力!E29,入力!$IM$7:$IM$141,情報!$AH$6)+COUNTIFS(入力!$IN$7:$IN$141,入力!E29,入力!$IQ$7:$IQ$141,情報!$AH$6)","v":0},null,null,{"$f":"IF($AL$7=\"\",\"\",VLOOKUP($AL$7,入力!$A$28:$C$34,3,FALSE))","v":""},{"$f":"IF(入力!$E$29=\"\",\"\",入力!$E$29)","v":""},{"$f":"SUM(BV16:CG16)","v":0},{"$f":"COUNTIFS(入力!$X$7:$X$141,入力!E29,入力!$W$7:$W$141,情報!$AK$6)","v":0},{"$f":"COUNTIFS(入力!$AR$7:$AR$141,入力!E29,入力!$AQ$7:$AQ$141,情報!$AK$6)","v":0},{"$f":"COUNTIFS(入力!$BL$7:$BL$141,入力!E29,入力!$BK$7:$BK$141,情報!$AK$6)","v":0},{"$f":"COUNTIFS(入力!$CF$7:$CF$141,入力!E29,入力!$CE$7:$CE$141,情報!$AK$6)","v":0},{"$f":"COUNTIFS(入力!$CZ$7:$CZ$141,入力!E29,入力!$CY$7:$CY$141,情報!$AK$6)","v":0},{"$f":"COUNTIFS(入力!$DT$7:$DT$141,入力!E29,入力!$DS$7:$DS$141,情報!$AK$6)","v":0},{"$f":"COUNTIFS(入力!$EN$7:$EN$141,入力!E29,入力!$EM$7:$EM$141,情報!$AK$6)","v":0},{"$f":"COUNTIFS(入力!$FH$7:$FH$141,入力!E29,入力!$FG$7:$FG$141,情報!$AK$6)","v":0},{"$f":"COUNTIFS(入力!$GB$7:$GB$141,入力!E29,入力!$GA$7:$GA$141,情報!$AK$6)","v":0},{"$f":"COUNTIFS(入力!$GV$7:$GV$141,入力!E29,入力!$GU$7:$GU$141,情報!$AK$6)","v":0},{"$f":"COUNTIFS(入力!$HP$7:$HP$141,入力!E29,入力!$HO$7:$HO$141,情報!$AK$6)","v":0},{"$f":"COUNTIFS(入力!$IJ$7:$IJ$141,入力!E29,入力!$II$7:$II$141,情報!$AK$6)","v":0}]
[null,null,null,null,"",null,{"$f":"IF($E$17=\"\",\"\",VLOOKUP($E$17,$E$7:$P$13,3,FALSE))","v":""},{"$f":"IF($E$17=\"\",\"\",VLOOKUP($E$17,$E$7:$P$13,4,FALSE))","v":""},{"$f":"IF($E$17=\"\",\"\",VLOOKUP($E$17,$E$7:$P$13,5,FALSE))","v":""},{"$f":"IF($E$17=\"\",\"\",VLOOKUP($E$17,$E$7:$P$13,6,FALSE))","v":""},{"$f":"IF($E$17=\"\",\"\",VLOOKUP($E$17,$E$7:$P$13,7,FALSE))","v":""},{"$f":"IF($E$17=\"\",\"\",VLOOKUP($E$17,$E$7:$P$13,8,FALSE))","v":""},{"$f":"IF($E$17=\"\",\"\",VLOOKUP($E$17,$E$7:$P$13,9,FALSE))","v":""},{"$f":"IF($E$17=\"\",\"\",VLOOKUP($E$17,$E$7:$P$13,10,FALSE))","v":""},{"$f":"IF($E$17=\"\",\"\",VLOOKUP($E$17,$E$7:$P$13,11,FALSE))","v":""},{"$f":"IF($E$17=\"\",\"\",VLOOKUP($E$17,$E$7:$P$13,12,FALSE))","v":""},{"$f":"IF($E$17=\"\",\"\",VLOOKUP($E$17,$E$7:$AB$13,13,FALSE))","v":""},{"$f":"IF($E$17=\"\",\"\",VLOOKUP($E$17,$E$7:$AB$13,14,FALSE))","v":""},{"$f":"IF($E$17=\"\",\"\",VLOOKUP($E$17,$E$7:$AB$13,15,FALSE))","v":""},{"$f":"IF($E$17=\"\",\"\",VLOOKUP($E$17,$E$7:$AB$13,16,FALSE))","v":""},{"$f":"IF($E$17=\"\",\"\",VLOOKUP($E$17,$E$7:$AB$13,17,FALSE))","v":""},{"$f":"IF($E$17=\"\",\"\",VLOOKUP($E$17,$E$7:$AB$13,18,FALSE))","v":""},{"$f":"IF($E$17=\"\",\"\",VLOOKUP($E$17,$E$7:$AB$13,19,FALSE))","v":""},{"$f":"IF($E$17=\"\",\"\",VLOOKUP($E$17,$E$7:$AB$13,20,FALSE))","v":""},{"$f":"IF($E$17=\"\",\"\",VLOOKUP($E$17,$E$7:$AB$13,21,FALSE))","v":""},{"$f":"IF($E$17=\"\",\"\",VLOOKUP($E$17,$E$7:$AB$13,22,FALSE))","v":""},{"$f":"IF($E$17=\"\",\"\",VLOOKUP($E$17,$E$7:$AB$13,23,FALSE))","v":""},{"$f":"IF($E$17=\"\",\"\",VLOOKUP($E$17,$E$7:$AB$13,24,FALSE))","v":""},null,null,null,null,null,null,null,null,{"$f":"IF($AL$8=\"\",\"\",VLOOKUP($AL$8,入力!$A$28:$C$34,3,FALSE))","v":""},{"$f":"IF(入力!$E$30=\"\",\"\",入力!$E$30)","v":""},0,{"$f":"COUNTIFS(入力!$X$7:$X$141,入力!E30,入力!$Z$7:$Z$141,情報!$AE$5)+COUNTIFS(入力!$AB$7:$AB$141,入力!E30,入力!$AD$7:$AD$141,情報!$AE$5)","v":0},{"$f":"COUNTIFS(入力!$AR$7:$AR$141,入力!E30,入力!$AT$7:$AT$141,情報!$AE$5)+COUNTIFS(入力!$AV$7:$AV$141,入力!E30,入力!$AX$7:$AX$141,情報!$AE$5)","v":0},{"$f":"COUNTIFS(入力!$BL$7:$BL$141,入力!E30,入力!$BN$7:$BN$141,情報!$AE$5)+COUNTIFS(入力!$BP$7:$BP$141,入力!E30,入力!$BR$7:$BR$141,情報!$AE$5)","v":0},{"$f":"COUNTIFS(入力!$CF$7:$CF$141,入力!E30,入力!$CH$7:$CH$141,情報!$AE$5)+COUNTIFS(入力!$CJ$7:$CJ$141,入力!E30,入力!$CL$7:$CL$141,情報!$AE$5)","v":0},{"$f":"COUNTIFS(入力!$CZ$7:$CZ$141,入力!E30,入力!$DB$7:$DB$141,情報!$AE$5)+COUNTIFS(入力!$DD$7:$DD$141,入力!E30,入力!$DF$7:$DF$141,情報!$AE$5)","v":0},{"$f":"COUNTIFS(入力!$DT$7:$DT$141,入力!E30,入力!$DV$7:$DV$141,情報!$AE$5)+COUNTIFS(入力!$DX$7:$DX$141,入力!E30,入力!$DZ$7:$DZ$141,情報!$AE$5)","v":0},{"$f":"COUNTIFS(入力!$EN$7:$EN$141,入力!E30,入力!$EP$7:$EP$141,情報!$AE$5)+COUNTIFS(入力!$ER$7:$ER$141,入力!E30,入力!$ET$7:$ET$141,情報!$AE$5)","v":0},{"$f":"COUNTIFS(入力!$FH$7:$FH$141,入力!E30,入力!$FJ$7:$FJ$141,情報!$AE$5)+COUNTIFS(入力!$FL$7:$FL$141,入力!E30,入力!$FN$7:$FN$141,情報!$AE$5)","v":0},{"$f":"COUNTIFS(入力!$GB$7:$GB$141,入力!E30,入力!$GD$7:$GD$141,情報!$AE$5)+COUNTIFS(入力!$GF$7:$GF$141,入力!E30,入力!$GH$7:$GH$141,情報!$AE$5)","v":0},{"$f":"COUNTIFS(入力!$GV$7:$GV$141,入力!E30,入力!$GX$7:$GX$141,情報!$AE$5)+COUNTIFS(入力!$GH$7:$GH$141,入力!E30,入力!$HB$7:$HB$141,情報!$AE$5)","v":0},{"$f":"COUNTIFS(入力!$HP$7:$HP$141,入力!E30,入力!$HR$7:$HR$141,情報!$AE$5)+COUNTIFS(入力!$HT$7:$HT$141,入力!E30,入力!$HV$7:$HV$141,情報!$AE$5)","v":0},{"$f":"COUNTIFS(入力!$IJ$7:$IJ$141,入力!E30,入力!$IL$7:$IL$141,情報!$AE$5)+COUNTIFS(入力!$IN$7:$IN$141,入力!E30,入力!$IP$7:$IP$141,情報!$AE$5)","v":0},null,null,{"$f":"IF($AL$8=\"\",\"\",VLOOKUP($AL$8,入力!$A$28:$C$34,3,FALSE))","v":""},{"$f":"IF(入力!$E$30=\"\",\"\",入力!$E$30)","v":""},0,{"$f":"COUNTIFS(入力!$X$7:$X$141,入力!E30,入力!$AA$7:$AA$141,情報!$AH$6)+COUNTIFS(入力!$AB$7:$AB$141,入力!E30,入力!$AE$7:$AE$141,情報!$AH$6)","v":0},{"$f":"COUNTIFS(入力!$AR$7:$AR$141,入力!E30,入力!$AU$7:$AU$141,情報!$AH$6)+COUNTIFS(入力!$AV$7:$AV$141,入力!E30,入力!$AY$7:$AY$141,情報!$AH$6)","v":0},{"$f":"COUNTIFS(入力!$BL$7:$BL$141,入力!E30,入力!$BO$7:$BO$141,情報!$AH$6)+COUNTIFS(入力!$BP$7:$BP$141,入力!E30,入力!$BS$7:$BS$141,情報!$AH$6)","v":0},{"$f":"COUNTIFS(入力!$CF$7:$CF$141,入力!E30,入力!$CI$7:$CI$141,情報!$AH$6)+COUNTIFS(入力!$CJ$7:$CJ$141,入力!E30,入力!$CM$7:$CM$141,情報!$AH$6)","v":0},{"$f":"COUNTIFS(入力!$CZ$7:$CZ$141,入力!E30,入力!$DC$7:$DC$141,情報!$AH$6)+COUNTIFS(入力!$DD$7:$DD$141,入力!E30,入力!$DG$7:$DG$141,情報!$AH$6)","v":0},{"$f":"COUNTIFS(入力!$DT$7:$DT$141,入力!E30,入力!$DW$7:$DW$141,情報!$AH$6)+COUNTIFS(入力!$DX$7:$DX$141,入力!E30,入力!$EA$7:$EA$141,情報!$AH$6)","v":0},{"$f":"COUNTIFS(入力!$EN$7:$EN$141,入力!E30,入力!$EQ$7:$EQ$141,情報!$AH$6)+COUNTIFS(入力!$ER$7:$ER$141,入力!E30,入力!$EU$7:$EU$141,情報!$AH$6)","v":0},{"$f":"COUNTIFS(入力!$FH$7:$FH$141,入力!E30,入力!$FK$7:$FK$141,情報!$AH$6)+COUNTIFS(入力!$FL$7:$FL$141,入力!E30,入力!$FO$7:$FO$141,情報!$AH$6)","v":0},{"$f":"COUNTIFS(入力!$GB$7:$GB$141,入力!E30,入力!$GE$7:$GE$141,情報!$AH$6)+COUNTIFS(入力!$GF$7:$GF$141,入力!E30,入力!$GI$7:$GI$141,情報!$AH$6)","v":0},{"$f":"COUNTIFS(入力!$GV$7:$GV$141,入力!E30,入力!$GY$7:$GY$141,情報!$AH$6)+COUNTIFS(入力!$GZ$7:$GZ$141,入力!E30,入力!$HC$7:$HC$141,情報!$AH$6)","v":0},{"$f":"COUNTIFS(入力!$HP$7:$HP$141,入力!E30,入力!$HS$7:$HS$141,情報!$AH$6)+COUNTIFS(入力!$HT$7:$HT$141,入力!E30,入力!$HW$7:$HW$141,情報!$AH$6)","v":0},{"$f":"COUNTIFS(入力!$IJ$7:$IJ$141,入力!E30,入力!$IM$7:$IM$141,情報!$AH$6)+COUNTIFS(入力!$IN$7:$IN$141,入力!E30,入力!$IQ$7:$IQ$141,情報!$AH$6)","v":0},null,null,{"$f":"IF($AL$8=\"\",\"\",VLOOKUP($AL$8,入力!$A$28:$C$34,3,FALSE))","v":""},{"$f":"IF(入力!$E$30=\"\",\"\",入力!$E$30)","v":""},0,{"$f":"COUNTIFS(入力!$X$7:$X$141,入力!E30,入力!$W$7:$W$141,情報!$AK$6)","v":0},{"$f":"COUNTIFS(入力!$AR$7:$AR$141,入力!E30,入力!$AQ$7:$AQ$141,情報!$AK$6)","v":0},{"$f":"COUNTIFS(入力!$BL$7:$BL$141,入力!E30,入力!$BK$7:$BK$141,情報!$AK$6)","v":0},{"$f":"COUNTIFS(入力!$CF$7:$CF$141,入力!E30,入力!$CE$7:$CE$141,情報!$AK$6)","v":0},{"$f":"COUNTIFS(入力!$CZ$7:$CZ$141,入力!E30,入力!$CY$7:$CY$141,情報!$AK$6)","v":0},{"$f":"COUNTIFS(入力!$DT$7:$DT$141,入力!E30,入力!$DS$7:$DS$141,情報!$AK$6)","v":0},{"$f":"COUNTIFS(入力!$EN$7:$EN$141,入力!E30,入力!$EM$7:$EM$141,情報!$AK$6)","v":0},{"$f":"COUNTIFS(入力!$FH$7:$FH$141,入力!E30,入力!$FG$7:$FG$141,情報!$AK$6)","v":0},{"$f":"COUNTIFS(入力!$GB$7:$GB$141,入力!E30,入力!$GA$7:$GA$141,情報!$AK$6)","v":0},{"$f":"COUNTIFS(入力!$GV$7:$GV$141,入力!E30,入力!$GU$7:$GU$141,情報!$AK$6)","v":0},{"$f":"COUNTIFS(入力!$HP$7:$HP$141,入力!E30,入力!$HO$7:$HO$141,情報!$AK$6)","v":0},{"$f":"COUNTIFS(入力!$IJ$7:$IJ$141,入力!E30,入力!$II$7:$II$141,情報!$AK$6)","v":0}]
[null,null,null,null,null,null,null,{"$f":"IF(E18=\"\",\"\",AM26)","v":""},{"$f":"IF(E18=\"\",\"\",AM35)","v":""},{"$f":"IF(E18=\"\",\"\",AM44)","v":""},{"$f":"IF(E18=\"\",\"\",AM53)","v":""},{"$f":"IF(E18=\"\",\"\",BD17)","v":""},{"$f":"IF(E18=\"\",\"\",BD26)","v":""},{"$f":"IF(E18=\"\",\"\",BD35)","v":""},{"$f":"IF(E18=\"\",\"\",BD44)","v":""},{"$f":"IF(E18=\"\",\"\",BD53)","v":""},null,null,null,null,null,null,null,null,null,null,null,null,null,null,null,null,null,null,null,null,{"$f":"IF($AL$9=\"\",\"\",VLOOKUP($AL$9,入力!$A$28:$C$34,3,FALSE))","v":""},{"$f":"IF(入力!$E$31=\"\",\"\",入力!E40)","v":""},0,{"$f":"COUNTIFS(入力!$X$7:$X$141,入力!E31,入力!$Z$7:$Z$141,情報!$AE$5)+COUNTIFS(入力!$AB$7:$AB$141,入力!E31,入力!$AD$7:$AD$141,情報!$AE$5)","v":0},{"$f":"COUNTIFS(入力!$AR$7:$AR$141,入力!E31,入力!$AT$7:$AT$141,情報!$AE$5)+COUNTIFS(入力!$AV$7:$AV$141,入力!E31,入力!$AX$7:$AX$141,情報!$AE$5)","v":0},{"$f":"COUNTIFS(入力!$BL$7:$BL$141,入力!E31,入力!$BN$7:$BN$141,情報!$AE$5)+COUNTIFS(入力!$BP$7:$BP$141,入力!E31,入力!$BR$7:$BR$141,情報!$AE$5)","v":0},{"$f":"COUNTIFS(入力!$CF$7:$CF$141,入力!E31,入力!$CH$7:$CH$141,情報!$AE$5)+COUNTIFS(入力!$CJ$7:$CJ$141,入力!E31,入力!$CL$7:$CL$141,情報!$AE$5)","v":0},{"$f":"COUNTIFS(入力!$CZ$7:$CZ$141,入力!E31,入力!$DB$7:$DB$141,情報!$AE$5)+COUNTIFS(入力!$DD$7:$DD$141,入力!E31,入力!$DF$7:$DF$141,情報!$AE$5)","v":0},{"$f":"COUNTIFS(入力!$DT$7:$DT$141,入力!E31,入力!$DV$7:$DV$141,情報!$AE$5)+COUNTIFS(入力!$DX$7:$DX$141,入力!E31,入力!$DZ$7:$DZ$141,情報!$AE$5)","v":0},{"$f":"COUNTIFS(入力!$EN$7:$EN$141,入力!E31,入力!$EP$7:$EP$141,情報!$AE$5)+COUNTIFS(入力!$ER$7:$ER$141,入力!E31,入力!$ET$7:$ET$141,情報!$AE$5)","v":0},{"$f":"COUNTIFS(入力!$FH$7:$FH$141,入力!E31,入力!$FJ$7:$FJ$141,情報!$AE$5)+COUNTIFS(入力!$FL$7:$FL$141,入力!E31,入力!$FN$7:$FN$141,情報!$AE$5)","v":0},{"$f":"COUNTIFS(入力!$GB$7:$GB$141,入力!E31,入力!$GD$7:$GD$141,情報!$AE$5)+COUNTIFS(入力!$GF$7:$GF$141,入力!E31,入力!$GH$7:$GH$141,情報!$AE$5)","v":0},{"$f":"COUNTIFS(入力!$GV$7:$GV$141,入力!E31,入力!$GX$7:$GX$141,情報!$AE$5)+COUNTIFS(入力!$GH$7:$GH$141,入力!E31,入力!$HB$7:$HB$141,情報!$AE$5)","v":0},{"$f":"COUNTIFS(入力!$HP$7:$HP$141,入力!E31,入力!$HR$7:$HR$141,情報!$AE$5)+COUNTIFS(入力!$HT$7:$HT$141,入力!E31,入力!$HV$7:$HV$141,情報!$AE$5)","v":0},{"$f":"COUNTIFS(入力!$IJ$7:$IJ$141,入力!E31,入力!$IL$7:$IL$141,情報!$AE$5)+COUNTIFS(入力!$IN$7:$IN$141,入力!E31,入力!$IP$7:$IP$141,情報!$AE$5)","v":0},null,null,{"$f":"IF($AL$9=\"\",\"\",VLOOKUP($AL$9,入力!$A$28:$C$34,3,FALSE))","v":""},{"$f":"IF(入力!$E$31=\"\",\"\",入力!V40)","v":""},0,{"$f":"COUNTIFS(入力!$X$7:$X$141,入力!E31,入力!$AA$7:$AA$141,情報!$AH$6)+COUNTIFS(入力!$AB$7:$AB$141,入力!E31,入力!$AE$7:$AE$141,情報!$AH$6)","v":0},{"$f":"COUNTIFS(入力!$AR$7:$AR$141,入力!E31,入力!$AU$7:$AU$141,情報!$AH$6)+COUNTIFS(入力!$AV$7:$AV$141,入力!E31,入力!$AY$7:$AY$141,情報!$AH$6)","v":0},{"$f":"COUNTIFS(入力!$BL$7:$BL$141,入力!E31,入力!$BO$7:$BO$141,情報!$AH$6)+COUNTIFS(入力!$BP$7:$BP$141,入力!E31,入力!$BS$7:$BS$141,情報!$AH$6)","v":0},{"$f":"COUNTIFS(入力!$CF$7:$CF$141,入力!E31,入力!$CI$7:$CI$141,情報!$AH$6)+COUNTIFS(入力!$CJ$7:$CJ$141,入力!E31,入力!$CM$7:$CM$141,情報!$AH$6)","v":0},{"$f":"COUNTIFS(入力!$CZ$7:$CZ$141,入力!E31,入力!$DC$7:$DC$141,情報!$AH$6)+COUNTIFS(入力!$DD$7:$DD$141,入力!E31,入力!$DG$7:$DG$141,情報!$AH$6)","v":0},{"$f":"COUNTIFS(入力!$DT$7:$DT$141,入力!E31,入力!$DW$7:$DW$141,情報!$AH$6)+COUNTIFS(入力!$DX$7:$DX$141,入力!E31,入力!$EA$7:$EA$141,情報!$AH$6)","v":0},{"$f":"COUNTIFS(入力!$EN$7:$EN$141,入力!E31,入力!$EQ$7:$EQ$141,情報!$AH$6)+COUNTIFS(入力!$ER$7:$ER$141,入力!E31,入力!$EU$7:$EU$141,情報!$AH$6)","v":0},{"$f":"COUNTIFS(入力!$FH$7:$FH$141,入力!E31,入力!$FK$7:$FK$141,情報!$AH$6)+COUNTIFS(入力!$FL$7:$FL$141,入力!E31,入力!$FO$7:$FO$141,情報!$AH$6)","v":0},{"$f":"COUNTIFS(入力!$GB$7:$GB$141,入力!E31,入力!$GE$7:$GE$141,情報!$AH$6)+COUNTIFS(入力!$GF$7:$GF$141,入力!E31,入力!$GI$7:$GI$141,情報!$AH$6)","v":0},{"$f":"COUNTIFS(入力!$GV$7:$GV$141,入力!E31,入力!$GY$7:$GY$141,情報!$AH$6)+COUNTIFS(入力!$GZ$7:$GZ$141,入力!E31,入力!$HC$7:$HC$141,情報!$AH$6)","v":0},{"$f":"COUNTIFS(入力!$HP$7:$HP$141,入力!E31,入力!$HS$7:$HS$141,情報!$AH$6)+COUNTIFS(入力!$HT$7:$HT$141,入力!E31,入力!$HW$7:$HW$141,情報!$AH$6)","v":0},{"$f":"COUNTIFS(入力!$IJ$7:$IJ$141,入力!E31,入力!$IM$7:$IM$141,情報!$AH$6)+COUNTIFS(入力!$IN$7:$IN$141,入力!E31,入力!$IQ$7:$IQ$141,情報!$AH$6)","v":0},null,null,{"$f":"IF($AL$9=\"\",\"\",VLOOKUP($AL$9,入力!$A$28:$C$34,3,FALSE))","v":""},{"$f":"IF(入力!$E$31=\"\",\"\",入力!AM40)","v":""},0,{"$f":"COUNTIFS(入力!$X$7:$X$141,入力!E31,入力!$W$7:$W$141,情報!$AK$6)","v":0},{"$f":"COUNTIFS(入力!$AR$7:$AR$141,入力!E31,入力!$AQ$7:$AQ$141,情報!$AK$6)","v":0},{"$f":"COUNTIFS(入力!$BL$7:$BL$141,入力!E31,入力!$BK$7:$BK$141,情報!$AK$6)","v":0},{"$f":"COUNTIFS(入力!$CF$7:$CF$141,入力!E31,入力!$CE$7:$CE$141,情報!$AK$6)","v":0},{"$f":"COUNTIFS(入力!$CZ$7:$CZ$141,入力!E31,入力!$CY$7:$CY$141,情報!$AK$6)","v":0},{"$f":"COUNTIFS(入力!$DT$7:$DT$141,入力!E31,入力!$DS$7:$DS$141,情報!$AK$6)","v":0},{"$f":"COUNTIFS(入力!$EN$7:$EN$141,入力!E31,入力!$EM$7:$EM$141,情報!$AK$6)","v":0},{"$f":"COUNTIFS(入力!$FH$7:$FH$141,入力!E31,入力!$FG$7:$FG$141,情報!$AK$6)","v":0},{"$f":"COUNTIFS(入力!$GB$7:$GB$141,入力!E31,入力!$GA$7:$GA$141,情報!$AK$6)","v":0},{"$f":"COUNTIFS(入力!$GV$7:$GV$141,入力!E31,入力!$GU$7:$GU$141,情報!$AK$6)","v":0},{"$f":"COUNTIFS(入力!$HP$7:$HP$141,入力!E31,入力!$HO$7:$HO$141,情報!$AK$6)","v":0},{"$f":"COUNTIFS(入力!$IJ$7:$IJ$141,入力!E31,入力!$II$7:$II$141,情報!$AK$6)","v":0}]
[null,null,null,null,null,null,null,"","","","","","","","","",null,null,null,null,null,null,null,null,null,null,null,null,null,null,null,null,null,null,null,null,{"$f":"IF($AL$10=\"\",\"\",VLOOKUP($AL$10,入力!$A$28:$C$34,3,FALSE))","v":""},{"$f":"IF(入力!$E$32=\"\",\"\",入力!$E$32)","v":""},0,{"$f":"COUNTIFS(入力!$X$7:$X$141,入力!E32,入力!$Z$7:$Z$141,情報!$AE$5)+COUNTIFS(入力!$AB$7:$AB$141,入力!E32,入力!$AD$7:$AD$141,情報!$AE$5)","v":0},{"$f":"COUNTIFS(入力!$AR$7:$AR$141,入力!E32,入力!$AT$7:$AT$141,情報!$AE$5)+COUNTIFS(入力!$AV$7:$AV$141,入力!E32,入力!$AX$7:$AX$141,情報!$AE$5)","v":0},{"$f":"COUNTIFS(入力!$BL$7:$BL$141,入力!E32,入力!$BN$7:$BN$141,情報!$AE$5)+COUNTIFS(入力!$BP$7:$BP$141,入力!E32,入力!$BR$7:$BR$141,情報!$AE$5)","v":0},{"$f":"COUNTIFS(入力!$CF$7:$CF$141,入力!E32,入力!$CH$7:$CH$141,情報!$AE$5)+COUNTIFS(入力!$CJ$7:$CJ$141,入力!E32,入力!$CL$7:$CL$141,情報!$AE$5)","v":0},{"$f":"COUNTIFS(入力!$CZ$7:$CZ$141,入力!E32,入力!$DB$7:$DB$141,情報!$AE$5)+COUNTIFS(入力!$DD$7:$DD$141,入力!E32,入力!$DF$7:$DF$141,情報!$AE$5)","v":0},{"$f":"COUNTIFS(入力!$DT$7:$DT$141,入力!E32,入力!$DV$7:$DV$141,情報!$AE$5)+COUNTIFS(入力!$DX$7:$DX$141,入力!E32,入力!$DZ$7:$DZ$141,情報!$AE$5)","v":0},{"$f":"COUNTIFS(入力!$EN$7:$EN$141,入力!E32,入力!$EP$7:$EP$141,情報!$AE$5)+COUNTIFS(入力!$ER$7:$ER$141,入力!E32,入力!$ET$7:$ET$141,情報!$AE$5)","v":0},{"$f":"COUNTIFS(入力!$FH$7:$FH$141,入力!E32,入力!$FJ$7:$FJ$141,情報!$AE$5)+COUNTIFS(入力!$FL$7:$FL$141,入力!E32,入力!$FN$7:$FN$141,情報!$AE$5)","v":0},{"$f":"COUNTIFS(入力!$GB$7:$GB$141,入力!E32,入力!$GD$7:$GD$141,情報!$AE$5)+COUNTIFS(入力!$GF$7:$GF$141,入力!E32,入力!$GH$7:$GH$141,情報!$AE$5)","v":0},{"$f":"COUNTIFS(入力!$GV$7:$GV$141,入力!E32,入力!$GX$7:$GX$141,情報!$AE$5)+COUNTIFS(入力!$GH$7:$GH$141,入力!E32,入力!$HB$7:$HB$141,情報!$AE$5)","v":0},{"$f":"COUNTIFS(入力!$HP$7:$HP$141,入力!E32,入力!$HR$7:$HR$141,情報!$AE$5)+COUNTIFS(入力!$HT$7:$HT$141,入力!E32,入力!$HV$7:$HV$141,情報!$AE$5)","v":0},{"$f":"COUNTIFS(入力!$IJ$7:$IJ$141,入力!E32,入力!$IL$7:$IL$141,情報!$AE$5)+COUNTIFS(入力!$IN$7:$IN$141,入力!E32,入力!$IP$7:$IP$141,情報!$AE$5)","v":0},null,null,{"$f":"IF($AL$10=\"\",\"\",VLOOKUP($AL$10,入力!$A$28:$C$34,3,FALSE))","v":""},{"$f":"IF(入力!$E$32=\"\",\"\",入力!$E$32)","v":""},0,{"$f":"COUNTIFS(入力!$X$7:$X$141,入力!E32,入力!$AA$7:$AA$141,情報!$AH$6)+COUNTIFS(入力!$AB$7:$AB$141,入力!E32,入力!$AE$7:$AE$141,情報!$AH$6)","v":0},{"$f":"COUNTIFS(入力!$AR$7:$AR$141,入力!E32,入力!$AU$7:$AU$141,情報!$AH$6)+COUNTIFS(入力!$AV$7:$AV$141,入力!E32,入力!$AY$7:$AY$141,情報!$AH$6)","v":0},{"$f":"COUNTIFS(入力!$BL$7:$BL$141,入力!E32,入力!$BO$7:$BO$141,情報!$AH$6)+COUNTIFS(入力!$BP$7:$BP$141,入力!E32,入力!$BS$7:$BS$141,情報!$AH$6)","v":0},{"$f":"COUNTIFS(入力!$CF$7:$CF$141,入力!E32,入力!$CI$7:$CI$141,情報!$AH$6)+COUNTIFS(入力!$CJ$7:$CJ$141,入力!E32,入力!$CM$7:$CM$141,情報!$AH$6)","v":0},{"$f":"COUNTIFS(入力!$CZ$7:$CZ$141,入力!E32,入力!$DC$7:$DC$141,情報!$AH$6)+COUNTIFS(入力!$DD$7:$DD$141,入力!E32,入力!$DG$7:$DG$141,情報!$AH$6)","v":0},{"$f":"COUNTIFS(入力!$DT$7:$DT$141,入力!E32,入力!$DW$7:$DW$141,情報!$AH$6)+COUNTIFS(入力!$DX$7:$DX$141,入力!E32,入力!$EA$7:$EA$141,情報!$AH$6)","v":0},{"$f":"COUNTIFS(入力!$EN$7:$EN$141,入力!E32,入力!$EQ$7:$EQ$141,情報!$AH$6)+COUNTIFS(入力!$ER$7:$ER$141,入力!E32,入力!$EU$7:$EU$141,情報!$AH$6)","v":0},{"$f":"COUNTIFS(入力!$FH$7:$FH$141,入力!E32,入力!$FK$7:$FK$141,情報!$AH$6)+COUNTIFS(入力!$FL$7:$FL$141,入力!E32,入力!$FO$7:$FO$141,情報!$AH$6)","v":0},{"$f":"COUNTIFS(入力!$GB$7:$GB$141,入力!E32,入力!$GE$7:$GE$141,情報!$AH$6)+COUNTIFS(入力!$GF$7:$GF$141,入力!E32,入力!$GI$7:$GI$141,情報!$AH$6)","v":0},{"$f":"COUNTIFS(入力!$GV$7:$GV$141,入力!E32,入力!$GY$7:$GY$141,情報!$AH$6)+COUNTIFS(入力!$GZ$7:$GZ$141,入力!E32,入力!$HC$7:$HC$141,情報!$AH$6)","v":0},{"$f":"COUNTIFS(入力!$HP$7:$HP$141,入力!E32,入力!$HS$7:$HS$141,情報!$AH$6)+COUNTIFS(入力!$HT$7:$HT$141,入力!E32,入力!$HW$7:$HW$141,情報!$AH$6)","v":0},{"$f":"COUNTIFS(入力!$IJ$7:$IJ$141,入力!E32,入力!$IM$7:$IM$141,情報!$AH$6)+COUNTIFS(入力!$IN$7:$IN$141,入力!E32,入力!$IQ$7:$IQ$141,情報!$AH$6)","v":0},null,null,{"$f":"IF($AL$10=\"\",\"\",VLOOKUP($AL$10,入力!$A$28:$C$34,3,FALSE))","v":""},{"$f":"IF(入力!$E$32=\"\",\"\",入力!$E$32)","v":""},0,{"$f":"COUNTIFS(入力!$X$7:$X$141,入力!E32,入力!$W$7:$W$141,情報!$AK$6)","v":0},{"$f":"COUNTIFS(入力!$AR$7:$AR$141,入力!E32,入力!$AQ$7:$AQ$141,情報!$AK$6)","v":0},{"$f":"COUNTIFS(入力!$BL$7:$BL$141,入力!E32,入力!$BK$7:$BK$141,情報!$AK$6)","v":0},{"$f":"COUNTIFS(入力!$CF$7:$CF$141,入力!E32,入力!$CE$7:$CE$141,情報!$AK$6)","v":0},{"$f":"COUNTIFS(入力!$CZ$7:$CZ$141,入力!E32,入力!$CY$7:$CY$141,情報!$AK$6)","v":0},{"$f":"COUNTIFS(入力!$DT$7:$DT$141,入力!E32,入力!$DS$7:$DS$141,情報!$AK$6)","v":0},{"$f":"COUNTIFS(入力!$EN$7:$EN$141,入力!E32,入力!$EM$7:$EM$141,情報!$AK$6)","v":0},{"$f":"COUNTIFS(入力!$FH$7:$FH$141,入力!E32,入力!$FG$7:$FG$141,情報!$AK$6)","v":0},{"$f":"COUNTIFS(入力!$GB$7:$GB$141,入力!E32,入力!$GA$7:$GA$141,情報!$AK$6)","v":0},{"$f":"COUNTIFS(入力!$GV$7:$GV$141,入力!E32,入力!$GU$7:$GU$141,情報!$AK$6)","v":0},{"$f":"COUNTIFS(入力!$HP$7:$HP$141,入力!E32,入力!$HO$7:$HO$141,情報!$AK$6)","v":0},{"$f":"COUNTIFS(入力!$IJ$7:$IJ$141,入力!E32,入力!$II$7:$II$141,情報!$AK$6)","v":0}]
[null,null,null,null,null,null,null,"","","","","","","","","",null,null,null,null,null,null,null,null,null,null,null,null,null,null,null,null,null,null,null,null,{"$f":"IF($AL$11=\"\",\"\",VLOOKUP($AL$11,入力!$A$28:$C$34,3,FALSE))","v":""},{"$f":"IF(入力!$E$33=\"\",\"\",入力!$E$33)","v":""},{"$f":"SUM(AN20:AY20)","v":0},{"$f":"COUNTIFS(入力!$X$7:$X$141,入力!E33,入力!$Z$7:$Z$141,情報!$AE$5)+COUNTIFS(入力!$AB$7:$AB$141,入力!E33,入力!$AD$7:$AD$141,情報!$AE$5)","v":0},{"$f":"COUNTIFS(入力!$AR$7:$AR$141,入力!E33,入力!$AT$7:$AT$141,情報!$AE$5)+COUNTIFS(入力!$AV$7:$AV$141,入力!E33,入力!$AX$7:$AX$141,情報!$AE$5)","v":0},{"$f":"COUNTIFS(入力!$BL$7:$BL$141,入力!E33,入力!$BN$7:$BN$141,情報!$AE$5)+COUNTIFS(入力!$BP$7:$BP$141,入力!E33,入力!$BR$7:$BR$141,情報!$AE$5)","v":0},{"$f":"COUNTIFS(入力!$CF$7:$CF$141,入力!E33,入力!$CH$7:$CH$141,情報!$AE$5)+COUNTIFS(入力!$CJ$7:$CJ$141,入力!E33,入力!$CL$7:$CL$141,情報!$AE$5)","v":0},{"$f":"COUNTIFS(入力!$CZ$7:$CZ$141,入力!E33,入力!$DB$7:$DB$141,情報!$AE$5)+COUNTIFS(入力!$DD$7:$DD$141,入力!E33,入力!$DF$7:$DF$141,情報!$AE$5)","v":0},{"$f":"COUNTIFS(入力!$DT$7:$DT$141,入力!E33,入力!$DV$7:$DV$141,情報!$AE$5)+COUNTIFS(入力!$DX$7:$DX$141,入力!E33,入力!$DZ$7:$DZ$141,情報!$AE$5)","v":0},{"$f":"COUNTIFS(入力!$EN$7:$EN$141,入力!E33,入力!$EP$7:$EP$141,情報!$AE$5)+COUNTIFS(入力!$ER$7:$ER$141,入力!E33,入力!$ET$7:$ET$141,情報!$AE$5)","v":0},{"$f":"COUNTIFS(入力!$FH$7:$FH$141,入力!E33,入力!$FJ$7:$FJ$141,情報!$AE$5)+COUNTIFS(入力!$FL$7:$FL$141,入力!E33,入力!$FN$7:$FN$141,情報!$AE$5)","v":0},{"$f":"COUNTIFS(入力!$GB$7:$GB$141,入力!E33,入力!$GD$7:$GD$141,情報!$AE$5)+COUNTIFS(入力!$GF$7:$GF$141,入力!E33,入力!$GH$7:$GH$141,情報!$AE$5)","v":0},{"$f":"COUNTIFS(入力!$GV$7:$GV$141,入力!E33,入力!$GX$7:$GX$141,情報!$AE$5)+COUNTIFS(入力!$GH$7:$GH$141,入力!E33,入力!$HB$7:$HB$141,情報!$AE$5)","v":0},{"$f":"COUNTIFS(入力!$HP$7:$HP$141,入力!E33,入力!$HR$7:$HR$141,情報!$AE$5)+COUNTIFS(入力!$HT$7:$HT$141,入力!E33,入力!$HV$7:$HV$141,情報!$AE$5)","v":0},{"$f":"COUNTIFS(入力!$IJ$7:$IJ$141,入力!E33,入力!$IL$7:$IL$141,情報!$AE$5)+COUNTIFS(入力!$IN$7:$IN$141,入力!E33,入力!$IP$7:$IP$141,情報!$AE$5)","v":0},null,null,{"$f":"IF($AL$11=\"\",\"\",VLOOKUP($AL$11,入力!$A$28:$C$34,3,FALSE))","v":""},{"$f":"IF(入力!$E$33=\"\",\"\",入力!$E$33)","v":""},{"$f":"SUM(BE20:BP20)","v":0},{"$f":"COUNTIFS(入力!$X$7:$X$141,入力!E33,入力!$AA$7:$AA$141,情報!$AH$6)+COUNTIFS(入力!$AB$7:$AB$141,入力!E33,入力!$AE$7:$AE$141,情報!$AH$6)","v":0},{"$f":"COUNTIFS(入力!$AR$7:$AR$141,入力!E33,入力!$AU$7:$AU$141,情報!$AH$6)+COUNTIFS(入力!$AV$7:$AV$141,入力!E33,入力!$AY$7:$AY$141,情報!$AH$6)","v":0},{"$f":"COUNTIFS(入力!$BL$7:$BL$141,入力!E33,入力!$BO$7:$BO$141,情報!$AH$6)+COUNTIFS(入力!$BP$7:$BP$141,入力!E33,入力!$BS$7:$BS$141,情報!$AH$6)","v":0},{"$f":"COUNTIFS(入力!$CF$7:$CF$141,入力!E33,入力!$CI$7:$CI$141,情報!$AH$6)+COUNTIFS(入力!$CJ$7:$CJ$141,入力!E33,入力!$CM$7:$CM$141,情報!$AH$6)","v":0},{"$f":"COUNTIFS(入力!$CZ$7:$CZ$141,入力!E33,入力!$DC$7:$DC$141,情報!$AH$6)+COUNTIFS(入力!$DD$7:$DD$141,入力!E33,入力!$DG$7:$DG$141,情報!$AH$6)","v":0},{"$f":"COUNTIFS(入力!$DT$7:$DT$141,入力!E33,入力!$DW$7:$DW$141,情報!$AH$6)+COUNTIFS(入力!$DX$7:$DX$141,入力!E33,入力!$EA$7:$EA$141,情報!$AH$6)","v":0},{"$f":"COUNTIFS(入力!$EN$7:$EN$141,入力!E33,入力!$EQ$7:$EQ$141,情報!$AH$6)+COUNTIFS(入力!$ER$7:$ER$141,入力!E33,入力!$EU$7:$EU$141,情報!$AH$6)","v":0},{"$f":"COUNTIFS(入力!$FH$7:$FH$141,入力!E33,入力!$FK$7:$FK$141,情報!$AH$6)+COUNTIFS(入力!$FL$7:$FL$141,入力!E33,入力!$FO$7:$FO$141,情報!$AH$6)","v":0},{"$f":"COUNTIFS(入力!$GB$7:$GB$141,入力!E33,入力!$GE$7:$GE$141,情報!$AH$6)+COUNTIFS(入力!$GF$7:$GF$141,入力!E33,入力!$GI$7:$GI$141,情報!$AH$6)","v":0},{"$f":"COUNTIFS(入力!$GV$7:$GV$141,入力!E33,入力!$GY$7:$GY$141,情報!$AH$6)+COUNTIFS(入力!$GZ$7:$GZ$141,入力!E33,入力!$HC$7:$HC$141,情報!$AH$6)","v":0},{"$f":"COUNTIFS(入力!$HP$7:$HP$141,入力!E33,入力!$HS$7:$HS$141,情報!$AH$6)+COUNTIFS(入力!$HT$7:$HT$141,入力!E33,入力!$HW$7:$HW$141,情報!$AH$6)","v":0},{"$f":"COUNTIFS(入力!$IJ$7:$IJ$141,入力!E33,入力!$IM$7:$IM$141,情報!$AH$6)+COUNTIFS(入力!$IN$7:$IN$141,入力!E33,入力!$IQ$7:$IQ$141,情報!$AH$6)","v":0},null,null,{"$f":"IF($AL$11=\"\",\"\",VLOOKUP($AL$11,入力!$A$28:$C$34,3,FALSE))","v":""},{"$f":"IF(入力!$E$33=\"\",\"\",入力!$E$33)","v":""},{"$f":"SUM(BV20:CG20)","v":0},{"$f":"COUNTIFS(入力!$X$7:$X$141,入力!E33,入力!$W$7:$W$141,情報!$AK$6)","v":0},{"$f":"COUNTIFS(入力!$AR$7:$AR$141,入力!E33,入力!$AQ$7:$AQ$141,情報!$AK$6)","v":0},{"$f":"COUNTIFS(入力!$BL$7:$BL$141,入力!E33,入力!$BK$7:$BK$141,情報!$AK$6)","v":0},{"$f":"COUNTIFS(入力!$CF$7:$CF$141,入力!E33,入力!$CE$7:$CE$141,情報!$AK$6)","v":0},{"$f":"COUNTIFS(入力!$CZ$7:$CZ$141,入力!E33,入力!$CY$7:$CY$141,情報!$AK$6)","v":0},{"$f":"COUNTIFS(入力!$DT$7:$DT$141,入力!E33,入力!$DS$7:$DS$141,情報!$AK$6)","v":0},{"$f":"COUNTIFS(入力!$EN$7:$EN$141,入力!E33,入力!$EM$7:$EM$141,情報!$AK$6)","v":0},{"$f":"COUNTIFS(入力!$FH$7:$FH$141,入力!E33,入力!$FG$7:$FG$141,情報!$AK$6)","v":0},{"$f":"COUNTIFS(入力!$GB$7:$GB$141,入力!E33,入力!$GA$7:$GA$141,情報!$AK$6)","v":0},{"$f":"COUNTIFS(入力!$GV$7:$GV$141,入力!E33,入力!$GU$7:$GU$141,情報!$AK$6)","v":0},{"$f":"COUNTIFS(入力!$HP$7:$HP$141,入力!E33,入力!$HO$7:$HO$141,情報!$AK$6)","v":0},{"$f":"COUNTIFS(入力!$IJ$7:$IJ$141,入力!E33,入力!$II$7:$II$141,情報!$AK$6)","v":0}]
[null,null,null,null,null,null,null,"","","","","","","","","",null,null,null,null,null,null,null,null,null,null,null,null,null,null,null,null,null,null,null,null,{"$f":"IF($AL$12=\"\",\"\",VLOOKUP($AL$12,入力!$A$28:$C$34,3,FALSE))","v":""},{"$f":"IF(入力!$E$34=\"\",\"\",入力!$E$34)","v":""},0,{"$f":"COUNTIFS(入力!$X$7:$X$141,入力!E34,入力!$Z$7:$Z$141,情報!$AE$5)+COUNTIFS(入力!$AB$7:$AB$141,入力!E34,入力!$AD$7:$AD$141,情報!$AE$5)","v":0},{"$f":"COUNTIFS(入力!$AR$7:$AR$141,入力!E34,入力!$AT$7:$AT$141,情報!$AE$5)+COUNTIFS(入力!$AV$7:$AV$141,入力!E34,入力!$AX$7:$AX$141,情報!$AE$5)","v":0},{"$f":"COUNTIFS(入力!$BL$7:$BL$141,入力!E34,入力!$BN$7:$BN$141,情報!$AE$5)+COUNTIFS(入力!$BP$7:$BP$141,入力!E34,入力!$BR$7:$BR$141,情報!$AE$5)","v":0},{"$f":"COUNTIFS(入力!$CF$7:$CF$141,入力!E34,入力!$CH$7:$CH$141,情報!$AE$5)+COUNTIFS(入力!$CJ$7:$CJ$141,入力!E34,入力!$CL$7:$CL$141,情報!$AE$5)","v":0},{"$f":"COUNTIFS(入力!$CZ$7:$CZ$141,入力!E34,入力!$DB$7:$DB$141,情報!$AE$5)+COUNTIFS(入力!$DD$7:$DD$141,入力!E34,入力!$DF$7:$DF$141,情報!$AE$5)","v":0},{"$f":"COUNTIFS(入力!$DT$7:$DT$141,入力!E34,入力!$DV$7:$DV$141,情報!$AE$5)+COUNTIFS(入力!$DX$7:$DX$141,入力!E34,入力!$DZ$7:$DZ$141,情報!$AE$5)","v":0},{"$f":"COUNTIFS(入力!$EN$7:$EN$141,入力!E34,入力!$EP$7:$EP$141,情報!$AE$5)+COUNTIFS(入力!$ER$7:$ER$141,入力!E34,入力!$ET$7:$ET$141,情報!$AE$5)","v":0},{"$f":"COUNTIFS(入力!$FH$7:$FH$141,入力!E34,入力!$FJ$7:$FJ$141,情報!$AE$5)+COUNTIFS(入力!$FL$7:$FL$141,入力!E34,入力!$FN$7:$FN$141,情報!$AE$5)","v":0},{"$f":"COUNTIFS(入力!$GB$7:$GB$141,入力!E34,入力!$GD$7:$GD$141,情報!$AE$5)+COUNTIFS(入力!$GF$7:$GF$141,入力!E34,入力!$GH$7:$GH$141,情報!$AE$5)","v":0},{"$f":"COUNTIFS(入力!$GV$7:$GV$141,入力!E34,入力!$GX$7:$GX$141,情報!$AE$5)+COUNTIFS(入力!$GH$7:$GH$141,入力!E34,入力!$HB$7:$HB$141,情報!$AE$5)","v":0},{"$f":"COUNTIFS(入力!$HP$7:$HP$141,入力!E34,入力!$HR$7:$HR$141,情報!$AE$5)+COUNTIFS(入力!$HT$7:$HT$141,入力!E34,入力!$HV$7:$HV$141,情報!$AE$5)","v":0},{"$f":"COUNTIFS(入力!$IJ$7:$IJ$141,入力!E34,入力!$IL$7:$IL$141,情報!$AE$5)+COUNTIFS(入力!$IN$7:$IN$141,入力!E34,入力!$IP$7:$IP$141,情報!$AE$5)","v":0},null,null,{"$f":"IF($AL$12=\"\",\"\",VLOOKUP($AL$12,入力!$A$28:$C$34,3,FALSE))","v":""},{"$f":"IF(入力!$E$34=\"\",\"\",入力!$E$34)","v":""},0,{"$f":"COUNTIFS(入力!$X$7:$X$141,入力!E34,入力!$AA$7:$AA$141,情報!$AH$6)+COUNTIFS(入力!$AB$7:$AB$141,入力!E34,入力!$AE$7:$AE$141,情報!$AH$6)","v":0},{"$f":"COUNTIFS(入力!$AR$7:$AR$141,入力!E34,入力!$AU$7:$AU$141,情報!$AH$6)+COUNTIFS(入力!$AV$7:$AV$141,入力!E34,入力!$AY$7:$AY$141,情報!$AH$6)","v":0},{"$f":"COUNTIFS(入力!$BL$7:$BL$141,入力!E34,入力!$BO$7:$BO$141,情報!$AH$6)+COUNTIFS(入力!$BP$7:$BP$141,入力!E34,入力!$BS$7:$BS$141,情報!$AH$6)","v":0},{"$f":"COUNTIFS(入力!$CF$7:$CF$141,入力!E34,入力!$CI$7:$CI$141,情報!$AH$6)+COUNTIFS(入力!$CJ$7:$CJ$141,入力!E34,入力!$CM$7:$CM$141,情報!$AH$6)","v":0},{"$f":"COUNTIFS(入力!$CZ$7:$CZ$141,入力!E34,入力!$DC$7:$DC$141,情報!$AH$6)+COUNTIFS(入力!$DD$7:$DD$141,入力!E34,入力!$DG$7:$DG$141,情報!$AH$6)","v":0},{"$f":"COUNTIFS(入力!$DT$7:$DT$141,入力!E34,入力!$DW$7:$DW$141,情報!$AH$6)+COUNTIFS(入力!$DX$7:$DX$141,入力!E34,入力!$EA$7:$EA$141,情報!$AH$6)","v":0},{"$f":"COUNTIFS(入力!$EN$7:$EN$141,入力!E34,入力!$EQ$7:$EQ$141,情報!$AH$6)+COUNTIFS(入力!$ER$7:$ER$141,入力!E34,入力!$EU$7:$EU$141,情報!$AH$6)","v":0},{"$f":"COUNTIFS(入力!$FH$7:$FH$141,入力!E34,入力!$FK$7:$FK$141,情報!$AH$6)+COUNTIFS(入力!$FL$7:$FL$141,入力!E34,入力!$FO$7:$FO$141,情報!$AH$6)","v":0},{"$f":"COUNTIFS(入力!$GB$7:$GB$141,入力!E34,入力!$GE$7:$GE$141,情報!$AH$6)+COUNTIFS(入力!$GF$7:$GF$141,入力!E34,入力!$GI$7:$GI$141,情報!$AH$6)","v":0},{"$f":"COUNTIFS(入力!$GV$7:$GV$141,入力!E34,入力!$GY$7:$GY$141,情報!$AH$6)+COUNTIFS(入力!$GZ$7:$GZ$141,入力!E34,入力!$HC$7:$HC$141,情報!$AH$6)","v":0},{"$f":"COUNTIFS(入力!$HP$7:$HP$141,入力!E34,入力!$HS$7:$HS$141,情報!$AH$6)+COUNTIFS(入力!$HT$7:$HT$141,入力!E34,入力!$HW$7:$HW$141,情報!$AH$6)","v":0},{"$f":"COUNTIFS(入力!$IJ$7:$IJ$141,入力!E34,入力!$IM$7:$IM$141,情報!$AH$6)+COUNTIFS(入力!$IN$7:$IN$141,入力!E34,入力!$IQ$7:$IQ$141,情報!$AH$6)","v":0},null,null,{"$f":"IF($AL$12=\"\",\"\",VLOOKUP($AL$12,入力!$A$28:$C$34,3,FALSE))","v":""},{"$f":"IF(入力!$E$34=\"\",\"\",入力!$E$34)","v":""},0,{"$f":"COUNTIFS(入力!$X$7:$X$141,入力!E34,入力!$W$7:$W$141,情報!$AK$6)","v":0},{"$f":"COUNTIFS(入力!$AR$7:$AR$141,入力!E34,入力!$AQ$7:$AQ$141,情報!$AK$6)","v":0},{"$f":"COUNTIFS(入力!$BL$7:$BL$141,入力!E34,入力!$BK$7:$BK$141,情報!$AK$6)","v":0},{"$f":"COUNTIFS(入力!$CF$7:$CF$141,入力!E34,入力!$CE$7:$CE$141,情報!$AK$6)","v":0},{"$f":"COUNTIFS(入力!$CZ$7:$CZ$141,入力!E34,入力!$CY$7:$CY$141,情報!$AK$6)","v":0},{"$f":"COUNTIFS(入力!$DT$7:$DT$141,入力!E34,入力!$DS$7:$DS$141,情報!$AK$6)","v":0},{"$f":"COUNTIFS(入力!$EN$7:$EN$141,入力!E34,入力!$EM$7:$EM$141,情報!$AK$6)","v":0},{"$f":"COUNTIFS(入力!$FH$7:$FH$141,入力!E34,入力!$FG$7:$FG$141,情報!$AK$6)","v":0},{"$f":"COUNTIFS(入力!$GB$7:$GB$141,入力!E34,入力!$GA$7:$GA$141,情報!$AK$6)","v":0},{"$f":"COUNTIFS(入力!$GV$7:$GV$141,入力!E34,入力!$GU$7:$GU$141,情報!$AK$6)","v":0},{"$f":"COUNTIFS(入力!$HP$7:$HP$141,入力!E34,入力!$HO$7:$HO$141,情報!$AK$6)","v":0},{"$f":"COUNTIFS(入力!$IJ$7:$IJ$141,入力!E34,入力!$II$7:$II$141,情報!$AK$6)","v":0}]
[null,null,null,null,null,null,null,"","","","","","","","","",null,null,null,null,null,null,null,null,null,null,null,null,null,null,null,null,null,null,null,"シンカー系",null,null,null,null,null,null,null,null,null,null,null,null,null,null,null,null,"ファール",null,null,null,null,null,null,null,null,null,null,null,null,null,null,null,null,"2塁打"]
[null,null,null,null,null,null,null,"","","","","","","","","",null,null,null,null,null,null,null,null,null,null,null,null,null,null,null,null,null,null,null,"種分","投手名","背番","合計","1回","2回","3回","4回","5回","6回","7回","8回","9回","10回","11回","12回",null,"種分","投手名","背番","合計","1回","2回","3回","4回","5回","6回","7回","8回","9回","10回","11回","12回",null,"種分","投手名","背番","合計","1回","2回","3回","4回","5回","6回","7回","8回","9回","10回","11回","12回"]
[null,null,null,null,null,null,null,null,null,null,null,null,null,null,null,null,null,null,null,null,null,null,null,null,null,null,null,null,null,null,null,null,null,null,null,"→",{"$f":"IF($AL$6=\"\",\"\",VLOOKUP($AL$6,入力!$A$28:$C$34,3,FALSE))","v":""},{"$f":"IF(入力!$E$28=\"\",\"\",入力!$E$28)","v":""},{"$f":"SUM(AN24:AY24)","v":0},{"$f":"COUNTIFS(入力!$X$7:$X$141,入力!E28,入力!$Z$7:$Z$141,情報!$AE$6)+COUNTIFS(入力!$AB$7:$AB$141,入力!E28,入力!$AD$7:$AD$141,情報!$AE$6)","v":0},{"$f":"COUNTIFS(入力!$AR$7:$AR$141,入力!E28,入力!$AT$7:$AT$141,情報!$AE$6)+COUNTIFS(入力!$AV$7:$AV$141,入力!E28,入力!$AX$7:$AX$141,情報!$AE$6)","v":0},{"$f":"COUNTIFS(入力!$BL$7:$BL$141,入力!E28,入力!$BN$7:$BN$141,情報!$AE$6)+COUNTIFS(入力!$BP$7:$BP$141,入力!E28,入力!$BR$7:$BR$141,情報!$AE$6)","v":0},{"$f":"COUNTIFS(入力!$CF$7:$CF$141,入力!E28,入力!$CH$7:$CH$141,情報!$AE$6)+COUNTIFS(入力!$CJ$7:$CJ$141,入力!E28,入力!$CL$7:$CL$141,情報!$AE$6)","v":0},{"$f":"COUNTIFS(入力!$CZ$7:$CZ$141,入力!E28,入力!$DB$7:$DB$141,情報!$AE$6)+COUNTIFS(入力!$DD$7:$DD$141,入力!E28,入力!$DF$7:$DF$141,情報!$AE$6)","v":0},{"$f":"COUNTIFS(入力!$DT$7:$DT$141,入力!E28,入力!$DV$7:$DV$141,情報!$AE$6)+COUNTIFS(入力!$DX$7:$DX$141,入力!E28,入力!$DZ$7:$DZ$141,情報!$AE$6)","v":0},{"$f":"COUNTIFS(入力!$EN$7:$EN$141,入力!E28,入力!$EP$7:$EP$141,情報!$AE$6)+COUNTIFS(入力!$ER$7:$ER$141,入力!E28,入力!$ET$7:$ET$141,情報!$AE$6)","v":0},{"$f":"COUNTIFS(入力!$FH$7:$FH$141,入力!E28,入力!$FJ$7:$FJ$141,情報!$AE$6)+COUNTIFS(入力!$FL$7:$FL$141,入力!E28,入力!$FN$7:$FN$141,情報!$AE$6)","v":0},{"$f":"COUNTIFS(入力!$GB$7:$GB$141,入力!E28,入力!$GD$7:$GD$141,情報!$AE$6)+COUNTIFS(入力!$GF$7:$GF$141,入力!E28,入力!$GH$7:$GH$141,情報!$AE$6)","v":0},{"$f":"COUNTIFS(入力!$GV$7:$GV$141,入力!E28,入力!$GX$7:$GX$141,情報!$AE$6)+COUNTIFS(入力!$GH$7:$GH$141,入力!E28,入力!$HB$7:$HB$141,情報!$AE$6)","v":0},{"$f":"COUNTIFS(入力!$HP$7:$HP$141,入力!E28,入力!$HR$7:$HR$141,情報!$AE$6)+COUNTIFS(入力!$HT$7:$HT$141,入力!E28,入力!$HV$7:$HV$141,情報!$AE$6)","v":0},{"$f":"COUNTIFS(入力!$IJ$7:$IJ$141,入力!E28,入力!$IL$7:$IL$141,情報!$AE$6)+COUNTIFS(入力!$IN$7:$IN$141,入力!E28,入力!$IP$7:$IP$141,情報!$AE$6)","v":0},null,"△",{"$f":"IF($AL$6=\"\",\"\",VLOOKUP($AL$6,入力!$A$28:$C$34,3,FALSE))","v":""},{"$f":"IF(入力!$E$28=\"\",\"\",入力!$E$28)","v":""},{"$f":"SUM(BE24:BP24)","v":0},{"$f":"COUNTIFS(入力!$X$7:$X$141,入力!E28,入力!$AA$7:$AA$141,情報!$AH$7)+COUNTIFS(入力!$AB$7:$AB$141,入力!E28,入力!$AE$7:$AE$141,情報!$AH$7)","v":0},{"$f":"COUNTIFS(入力!$AR$7:$AR$141,入力!E28,入力!$AU$7:$AU$141,情報!$AH$7)+COUNTIFS(入力!$AV$7:$AV$141,入力!E28,入力!$AY$7:$AY$141,情報!$AH$7)","v":0},{"$f":"COUNTIFS(入力!$BL$7:$BL$141,入力!E28,入力!$BO$7:$BO$141,情報!$AH$7)+COUNTIFS(入力!$BP$7:$BP$141,入力!E28,入力!$BS$7:$BS$141,情報!$AH$7)","v":0},{"$f":"COUNTIFS(入力!$CF$7:$CF$141,入力!E28,入力!$CI$7:$CI$141,情報!$AH$7)+COUNTIFS(入力!$CJ$7:$CJ$141,入力!E28,入力!$CM$7:$CM$141,情報!$AH$7)","v":0},{"$f":"COUNTIFS(入力!$CZ$7:$CZ$141,入力!E28,入力!$DC$7:$DC$141,情報!$AH$7)+COUNTIFS(入力!$DD$7:$DD$141,入力!E28,入力!$DG$7:$DG$141,情報!$AH$7)","v":0},{"$f":"COUNTIFS(入力!$DT$7:$DT$141,入力!E28,入力!$DW$7:$DW$141,情報!$AH$7)+COUNTIFS(入力!$DX$7:$DX$141,入力!E28,入力!$EA$7:$EA$141,情報!$AH$7)","v":0},{"$f":"COUNTIFS(入力!$EN$7:$EN$141,入力!E28,入力!$EQ$7:$EQ$141,情報!$AH$7)+COUNTIFS(入力!$ER$7:$ER$141,入力!E28,入力!$EU$7:$EU$141,情報!$AH$7)","v":0},{"$f":"COUNTIFS(入力!$FH$7:$FH$141,入力!E28,入力!$FK$7:$FK$141,情報!$AH$7)+COUNTIFS(入力!$FL$7:$FL$141,入力!E28,入力!$FO$7:$FO$141,情報!$AH$7)","v":0},{"$f":"COUNTIFS(入力!$GB$7:$GB$141,入力!E28,入力!$GE$7:$GE$141,情報!$AH$7)+COUNTIFS(入力!$GF$7:$GF$141,入力!E28,入力!$GI$7:$GI$141,情報!$AH$7)","v":0},{"$f":"COUNTIFS(入力!$GV$7:$GV$141,入力!E28,入力!$GY$7:$GY$141,情報!$AH$7)+COUNTIFS(入力!$GZ$7:$GZ$141,入力!E28,入力!$HC$7:$HC$141,情報!$AH$7)","v":0},{"$f":"COUNTIFS(入力!$HP$7:$HP$141,入力!E28,入力!$HS$7:$HS$141,情報!$AH$7)+COUNTIFS(入力!$HT$7:$HT$141,入力!E28,入力!$HW$7:$HW$141,情報!$AH$7)","v":0},{"$f":"COUNTIFS(入力!$IJ$7:$IJ$141,入力!E28,入力!$IM$7:$IM$141,情報!$AH$7)+COUNTIFS(入力!$IN$7:$IN$141,入力!$E$28,入力!$IQ$7:$IQ$141,情報!$AH$7)","v":0},null,{"$f":"情報!AK7","v":"2H"},{"$f":"IF($AL$6=\"\",\"\",VLOOKUP($AL$6,入力!$A$28:$C$34,3,FALSE))","v":""},{"$f":"IF(入力!$E$28=\"\",\"\",入力!$E$28)","v":""},{"$f":"SUM(BV24:CG24)","v":0},{"$f":"COUNTIFS(入力!$X$7:$X$141,入力!E28,入力!$W$7:$W$141,情報!$AK$7)","v":0},{"$f":"COUNTIFS(入力!$AR$7:$AR$141,入力!E28,入力!$AQ$7:$AQ$141,情報!$AK$7)","v":0},{"$f":"COUNTIFS(入力!$BL$7:$BL$141,入力!E28,入力!$BK$7:$BK$141,情報!$AK$7)","v":0},{"$f":"COUNTIFS(入力!$CF$7:$CF$141,入力!E28,入力!$CE$7:$CE$141,情報!$AK$7)","v":0},{"$f":"COUNTIFS(入力!$CZ$7:$CZ$141,入力!E28,入力!$CY$7:$CY$141,情報!$AK$7)","v":0},{"$f":"COUNTIFS(入力!$DT$7:$DT$141,入力!E28,入力!$DS$7:$DS$141,情報!$AK$7)","v":0},{"$f":"COUNTIFS(入力!$EN$7:$EN$141,入力!E28,入力!$EM$7:$EM$141,情報!$AK$7)","v":0},{"$f":"COUNTIFS(入力!$FH$7:$FH$141,入力!E28,入力!$FG$7:$FG$141,情報!$AK$7)","v":0},{"$f":"COUNTIFS(入力!$GB$7:$GB$141,入力!E28,入力!$GA$7:$GA$141,情報!$AK$7)","v":0},{"$f":"COUNTIFS(入力!$GV$7:$GV$141,入力!E28,入力!$GU$7:$GU$141,情報!$AK$7)","v":0},{"$f":"COUNTIFS(入力!$HP$7:$HP$141,入力!E28,入力!$HO$7:$HO$141,情報!$AK$7)","v":0},{"$f":"COUNTIFS(入力!$IJ$7:$IJ$141,入力!E28,入力!$II$7:$II$141,情報!$AK$7)","v":0}]
[null,null,null,null,null,null,null,null,null,null,null,null,null,null,null,null,null,null,null,null,null,null,null,null,null,null,null,null,null,null,null,null,null,null,null,null,{"$f":"IF($AL$7=\"\",\"\",VLOOKUP($AL$7,入力!$A$28:$C$34,3,FALSE))","v":""},{"$f":"IF(入力!$E$29=\"\",\"\",入力!$E$29)","v":""},{"$f":"SUM(AN25:AY25)","v":0},{"$f":"COUNTIFS(入力!$X$7:$X$141,入力!E29,入力!$Z$7:$Z$141,情報!$AE$6)+COUNTIFS(入力!$AB$7:$AB$141,入力!E29,入力!$AD$7:$AD$141,情報!$AE$6)","v":0},{"$f":"COUNTIFS(入力!$AR$7:$AR$141,入力!E29,入力!$AT$7:$AT$141,情報!$AE$6)+COUNTIFS(入力!$AV$7:$AV$141,入力!E29,入力!$AX$7:$AX$141,情報!$AE$6)","v":0},{"$f":"COUNTIFS(入力!$BL$7:$BL$141,入力!E29,入力!$BN$7:$BN$141,情報!$AE$6)+COUNTIFS(入力!$BP$7:$BP$141,入力!E29,入力!$BR$7:$BR$141,情報!$AE$6)","v":0},{"$f":"COUNTIFS(入力!$CF$7:$CF$141,入力!E29,入力!$CH$7:$CH$141,情報!$AE$6)+COUNTIFS(入力!$CJ$7:$CJ$141,入力!E29,入力!$CL$7:$CL$141,情報!$AE$6)","v":0},{"$f":"COUNTIFS(入力!$CZ$7:$CZ$141,入力!E29,入力!$DB$7:$DB$141,情報!$AE$6)+COUNTIFS(入力!$DD$7:$DD$141,入力!E29,入力!$DF$7:$DF$141,情報!$AE$6)","v":0},{"$f":"COUNTIFS(入力!$DT$7:$DT$141,入力!E29,入力!$DV$7:$DV$141,情報!$AE$6)+COUNTIFS(入力!$DX$7:$DX$141,入力!E29,入力!$DZ$7:$DZ$141,情報!$AE$6)","v":0},{"$f":"COUNTIFS(入力!$EN$7:$EN$141,入力!E29,入力!$EP$7:$EP$141,情報!$AE$6)+COUNTIFS(入力!$ER$7:$ER$141,入力!E29,入力!$ET$7:$ET$141,情報!$AE$6)","v":0},{"$f":"COUNTIFS(入力!$FH$7:$FH$141,入力!E29,入力!$FJ$7:$FJ$141,情報!$AE$6)+COUNTIFS(入力!$FL$7:$FL$141,入力!E29,入力!$FN$7:$FN$141,情報!$AE$6)","v":0},{"$f":"COUNTIFS(入力!$GB$7:$GB$141,入力!E29,入力!$GD$7:$GD$141,情報!$AE$6)+COUNTIFS(入力!$GF$7:$GF$141,入力!E29,入力!$GH$7:$GH$141,情報!$AE$6)","v":0},{"$f":"COUNTIFS(入力!$GV$7:$GV$141,入力!E29,入力!$GX$7:$GX$141,情報!$AE$6)+COUNTIFS(入力!$GH$7:$GH$141,入力!E29,入力!$HB$7:$HB$141,情報!$AE$6)","v":0},{"$f":"COUNTIFS(入力!$HP$7:$HP$141,入力!E29,入力!$HR$7:$HR$141,情報!$AE$6)+COUNTIFS(入力!$HT$7:$HT$141,入力!E29,入力!$HV$7:$HV$141,情報!$AE$6)","v":0},{"$f":"COUNTIFS(入力!$IJ$7:$IJ$141,入力!E29,入力!$IL$7:$IL$141,情報!$AE$6)+COUNTIFS(入力!$IN$7:$IN$141,入力!E29,入力!$IP$7:$IP$141,情報!$AE$6)","v":0},null,null,{"$f":"IF($AL$7=\"\",\"\",VLOOKUP($AL$7,入力!$A$28:$C$34,3,FALSE))","v":""},{"$f":"IF(入力!$E$29=\"\",\"\",入力!$E$29)","v":""},{"$f":"SUM(BE25:BP25)","v":0},{"$f":"COUNTIFS(入力!$X$7:$X$141,入力!E29,入力!$AA$7:$AA$141,情報!$AH$7)+COUNTIFS(入力!$AB$7:$AB$141,入力!E29,入力!$AE$7:$AE$141,情報!$AH$7)","v":0},{"$f":"COUNTIFS(入力!$AR$7:$AR$141,入力!E29,入力!$AU$7:$AU$141,情報!$AH$7)+COUNTIFS(入力!$AV$7:$AV$141,入力!E29,入力!$AY$7:$AY$141,情報!$AH$7)","v":0},{"$f":"COUNTIFS(入力!$BL$7:$BL$141,入力!E29,入力!$BO$7:$BO$141,情報!$AH$7)+COUNTIFS(入力!$BP$7:$BP$141,入力!E29,入力!$BS$7:$BS$141,情報!$AH$7)","v":0},{"$f":"COUNTIFS(入力!$CF$7:$CF$141,入力!E29,入力!$CI$7:$CI$141,情報!$AH$7)+COUNTIFS(入力!$CJ$7:$CJ$141,入力!E29,入力!$CM$7:$CM$141,情報!$AH$7)","v":0},{"$f":"COUNTIFS(入力!$CZ$7:$CZ$141,入力!E29,入力!$DC$7:$DC$141,情報!$AH$7)+COUNTIFS(入力!$DD$7:$DD$141,入力!E29,入力!$DG$7:$DG$141,情報!$AH$7)","v":0},{"$f":"COUNTIFS(入力!$DT$7:$DT$141,入力!E29,入力!$DW$7:$DW$141,情報!$AH$7)+COUNTIFS(入力!$DX$7:$DX$141,入力!E29,入力!$EA$7:$EA$141,情報!$AH$7)","v":0},{"$f":"COUNTIFS(入力!$EN$7:$EN$141,入力!E29,入力!$EQ$7:$EQ$141,情報!$AH$7)+COUNTIFS(入力!$ER$7:$ER$141,入力!E29,入力!$EU$7:$EU$141,情報!$AH$7)","v":0},{"$f":"COUNTIFS(入力!$FH$7:$FH$141,入力!E29,入力!$FK$7:$FK$141,情報!$AH$7)+COUNTIFS(入力!$FL$7:$FL$141,入力!E29,入力!$FO$7:$FO$141,情報!$AH$7)","v":0},{"$f":"COUNTIFS(入力!$GB$7:$GB$141,入力!E29,入力!$GE$7:$GE$141,情報!$AH$7)+COUNTIFS(入力!$GF$7:$GF$141,入力!E29,入力!$GI$7:$GI$141,情報!$AH$7)","v":0},{"$f":"COUNTIFS(入力!$GV$7:$GV$141,入力!E29,入力!$GY$7:$GY$141,情報!$AH$7)+COUNTIFS(入力!$GZ$7:$GZ$141,入力!E29,入力!$HC$7:$HC$141,情報!$AH$7)","v":0},{"$f":"COUNTIFS(入力!$HP$7:$HP$141,入力!E29,入力!$HS$7:$HS$141,情報!$AH$7)+COUNTIFS(入力!$HT$7:$HT$141,入力!E29,入力!$HW$7:$HW$141,情報!$AH$7)","v":0},{"$f":"COUNTIFS(入力!$IJ$7:$IJ$141,入力!E29,入力!$IM$7:$IM$141,情報!$AH$7)+COUNTIFS(入力!$IN$7:$IN$141,入力!$E$28,入力!$IQ$7:$IQ$141,情報!$AH$7)","v":0},null,null,{"$f":"IF($AL$7=\"\",\"\",VLOOKUP($AL$7,入力!$A$28:$C$34,3,FALSE))","v":""},{"$f":"IF(入力!$E$29=\"\",\"\",入力!$E$29)","v":""},{"$f":"SUM(BV25:CG25)","v":0},{"$f":"COUNTIFS(入力!$X$7:$X$141,入力!E29,入力!$W$7:$W$141,情報!$AK$7)","v":0},{"$f":"COUNTIFS(入力!$AR$7:$AR$141,入力!E29,入力!$AQ$7:$AQ$141,情報!$AK$7)","v":0},{"$f":"COUNTIFS(入力!$BL$7:$BL$141,入力!E29,入力!$BK$7:$BK$141,情報!$AK$7)","v":0},{"$f":"COUNTIFS(入力!$CF$7:$CF$141,入力!E29,入力!$CE$7:$CE$141,情報!$AK$7)","v":0},{"$f":"COUNTIFS(入力!$CZ$7:$CZ$141,入力!E29,入力!$CY$7:$CY$141,情報!$AK$7)","v":0},{"$f":"COUNTIFS(入力!$DT$7:$DT$141,入力!E29,入力!$DS$7:$DS$141,情報!$AK$7)","v":0},{"$f":"COUNTIFS(入力!$EN$7:$EN$141,入力!E29,入力!$EM$7:$EM$141,情報!$AK$7)","v":0},{"$f":"COUNTIFS(入力!$FH$7:$FH$141,入力!E29,入力!$FG$7:$FG$141,情報!$AK$7)","v":0},{"$f":"COUNTIFS(入力!$GB$7:$GB$141,入力!E29,入力!$GA$7:$GA$141,情報!$AK$7)","v":0},{"$f":"COUNTIFS(入力!$GV$7:$GV$141,入力!E29,入力!$GU$7:$GU$141,情報!$AK$7)","v":0},{"$f":"COUNTIFS(入力!$HP$7:$HP$141,入力!E29,入力!$HO$7:$HO$141,情報!$AK$7)","v":0},{"$f":"COUNTIFS(入力!$IJ$7:$IJ$141,入力!E29,入力!$II$7:$II$141,情報!$AK$7)","v":0}]
[null,null,null,null,null,null,null,null,null,null,null,null,null,null,null,null,null,null,null,null,null,null,null,null,null,null,null,null,null,null,null,null,null,null,null,null,{"$f":"IF($AL$8=\"\",\"\",VLOOKUP($AL$8,入力!$A$28:$C$34,3,FALSE))","v":""},{"$f":"IF(入力!$E$30=\"\",\"\",入力!$E$30)","v":""},0,{"$f":"COUNTIFS(入力!$X$7:$X$141,入力!E30,入力!$Z$7:$Z$141,情報!$AE$6)+COUNTIFS(入力!$AB$7:$AB$141,入力!E30,入力!$AD$7:$AD$141,情報!$AE$6)","v":0},{"$f":"COUNTIFS(入力!$AR$7:$AR$141,入力!E30,入力!$AT$7:$AT$141,情報!$AE$6)+COUNTIFS(入力!$AV$7:$AV$141,入力!E30,入力!$AX$7:$AX$141,情報!$AE$6)","v":0},{"$f":"COUNTIFS(入力!$BL$7:$BL$141,入力!E30,入力!$BN$7:$BN$141,情報!$AE$6)+COUNTIFS(入力!$BP$7:$BP$141,入力!E30,入力!$BR$7:$BR$141,情報!$AE$6)","v":0},{"$f":"COUNTIFS(入力!$CF$7:$CF$141,入力!E30,入力!$CH$7:$CH$141,情報!$AE$6)+COUNTIFS(入力!$CJ$7:$CJ$141,入力!E30,入力!$CL$7:$CL$141,情報!$AE$6)","v":0},{"$f":"COUNTIFS(入力!$CZ$7:$CZ$141,入力!E30,入力!$DB$7:$DB$141,情報!$AE$6)+COUNTIFS(入力!$DD$7:$DD$141,入力!E30,入力!$DF$7:$DF$141,情報!$AE$6)","v":0},{"$f":"COUNTIFS(入力!$DT$7:$DT$141,入力!E30,入力!$DV$7:$DV$141,情報!$AE$6)+COUNTIFS(入力!$DX$7:$DX$141,入力!E30,入力!$DZ$7:$DZ$141,情報!$AE$6)","v":0},{"$f":"COUNTIFS(入力!$EN$7:$EN$141,入力!E30,入力!$EP$7:$EP$141,情報!$AE$6)+COUNTIFS(入力!$ER$7:$ER$141,入力!E30,入力!$ET$7:$ET$141,情報!$AE$6)","v":0},{"$f":"COUNTIFS(入力!$FH$7:$FH$141,入力!E30,入力!$FJ$7:$FJ$141,情報!$AE$6)+COUNTIFS(入力!$FL$7:$FL$141,入力!E30,入力!$FN$7:$FN$141,情報!$AE$6)","v":0},{"$f":"COUNTIFS(入力!$GB$7:$GB$141,入力!E30,入力!$GD$7:$GD$141,情報!$AE$6)+COUNTIFS(入力!$GF$7:$GF$141,入力!E30,入力!$GH$7:$GH$141,情報!$AE$6)","v":0},{"$f":"COUNTIFS(入力!$GV$7:$GV$141,入力!E30,入力!$GX$7:$GX$141,情報!$AE$6)+COUNTIFS(入力!$GH$7:$GH$141,入力!E30,入力!$HB$7:$HB$141,情報!$AE$6)","v":0},{"$f":"COUNTIFS(入力!$HP$7:$HP$141,入力!E30,入力!$HR$7:$HR$141,情報!$AE$6)+COUNTIFS(入力!$HT$7:$HT$141,入力!E30,入力!$HV$7:$HV$141,情報!$AE$6)","v":0},{"$f":"COUNTIFS(入力!$IJ$7:$IJ$141,入力!E30,入力!$IL$7:$IL$141,情報!$AE$6)+COUNTIFS(入力!$IN$7:$IN$141,入力!E30,入力!$IP$7:$IP$141,情報!$AE$6)","v":0},null,null,{"$f":"IF($AL$8=\"\",\"\",VLOOKUP($AL$8,入力!$A$28:$C$34,3,FALSE))","v":""},{"$f":"IF(入力!$E$30=\"\",\"\",入力!$E$30)","v":""},0,{"$f":"COUNTIFS(入力!$X$7:$X$141,入力!E30,入力!$AA$7:$AA$141,情報!$AH$7)+COUNTIFS(入力!$AB$7:$AB$141,入力!E30,入力!$AE$7:$AE$141,情報!$AH$7)","v":0},{"$f":"COUNTIFS(入力!$AR$7:$AR$141,入力!E30,入力!$AU$7:$AU$141,情報!$AH$7)+COUNTIFS(入力!$AV$7:$AV$141,入力!E30,入力!$AY$7:$AY$141,情報!$AH$7)","v":0},{"$f":"COUNTIFS(入力!$BL$7:$BL$141,入力!E30,入力!$BO$7:$BO$141,情報!$AH$7)+COUNTIFS(入力!$BP$7:$BP$141,入力!E30,入力!$BS$7:$BS$141,情報!$AH$7)","v":0},{"$f":"COUNTIFS(入力!$CF$7:$CF$141,入力!E30,入力!$CI$7:$CI$141,情報!$AH$7)+COUNTIFS(入力!$CJ$7:$CJ$141,入力!E30,入力!$CM$7:$CM$141,情報!$AH$7)","v":0},{"$f":"COUNTIFS(入力!$CZ$7:$CZ$141,入力!E30,入力!$DC$7:$DC$141,情報!$AH$7)+COUNTIFS(入力!$DD$7:$DD$141,入力!E30,入力!$DG$7:$DG$141,情報!$AH$7)","v":0},{"$f":"COUNTIFS(入力!$DT$7:$DT$141,入力!E30,入力!$DW$7:$DW$141,情報!$AH$7)+COUNTIFS(入力!$DX$7:$DX$141,入力!E30,入力!$EA$7:$EA$141,情報!$AH$7)","v":0},{"$f":"COUNTIFS(入力!$EN$7:$EN$141,入力!E30,入力!$EQ$7:$EQ$141,情報!$AH$7)+COUNTIFS(入力!$ER$7:$ER$141,入力!E30,入力!$EU$7:$EU$141,情報!$AH$7)","v":0},{"$f":"COUNTIFS(入力!$FH$7:$FH$141,入力!E30,入力!$FK$7:$FK$141,情報!$AH$7)+COUNTIFS(入力!$FL$7:$FL$141,入力!E30,入力!$FO$7:$FO$141,情報!$AH$7)","v":0},{"$f":"COUNTIFS(入力!$GB$7:$GB$141,入力!E30,入力!$GE$7:$GE$141,情報!$AH$7)+COUNTIFS(入力!$GF$7:$GF$141,入力!E30,入力!$GI$7:$GI$141,情報!$AH$7)","v":0},{"$f":"COUNTIFS(入力!$GV$7:$GV$141,入力!E30,入力!$GY$7:$GY$141,情報!$AH$7)+COUNTIFS(入力!$GZ$7:$GZ$141,入力!E30,入力!$HC$7:$HC$141,情報!$AH$7)","v":0},{"$f":"COUNTIFS(入力!$HP$7:$HP$141,入力!E30,入力!$HS$7:$HS$141,情報!$AH$7)+COUNTIFS(入力!$HT$7:$HT$141,入力!E30,入力!$HW$7:$HW$141,情報!$AH$7)","v":0},{"$f":"COUNTIFS(入力!$IJ$7:$IJ$141,入力!E30,入力!$IM$7:$IM$141,情報!$AH$7)+COUNTIFS(入力!$IN$7:$IN$141,入力!$E$28,入力!$IQ$7:$IQ$141,情報!$AH$7)","v":0},null,null,{"$f":"IF($AL$8=\"\",\"\",VLOOKUP($AL$8,入力!$A$28:$C$34,3,FALSE))","v":""},{"$f":"IF(入力!$E$30=\"\",\"\",入力!$E$30)","v":""},0,{"$f":"COUNTIFS(入力!$X$7:$X$141,入力!E30,入力!$W$7:$W$141,情報!$AK$7)","v":0},{"$f":"COUNTIFS(入力!$AR$7:$AR$141,入力!E30,入力!$AQ$7:$AQ$141,情報!$AK$7)","v":0},{"$f":"COUNTIFS(入力!$BL$7:$BL$141,入力!E30,入力!$BK$7:$BK$141,情報!$AK$7)","v":0},{"$f":"COUNTIFS(入力!$CF$7:$CF$141,入力!E30,入力!$CE$7:$CE$141,情報!$AK$7)","v":0},{"$f":"COUNTIFS(入力!$CZ$7:$CZ$141,入力!E30,入力!$CY$7:$CY$141,情報!$AK$7)","v":0},{"$f":"COUNTIFS(入力!$DT$7:$DT$141,入力!E30,入力!$DS$7:$DS$141,情報!$AK$7)","v":0},{"$f":"COUNTIFS(入力!$EN$7:$EN$141,入力!E30,入力!$EM$7:$EM$141,情報!$AK$7)","v":0},{"$f":"COUNTIFS(入力!$FH$7:$FH$141,入力!E30,入力!$FG$7:$FG$141,情報!$AK$7)","v":0},{"$f":"COUNTIFS(入力!$GB$7:$GB$141,入力!E30,入力!$GA$7:$GA$141,情報!$AK$7)","v":0},{"$f":"COUNTIFS(入力!$GV$7:$GV$141,入力!E30,入力!$GU$7:$GU$141,情報!$AK$7)","v":0},{"$f":"COUNTIFS(入力!$HP$7:$HP$141,入力!E30,入力!$HO$7:$HO$141,情報!$AK$7)","v":0},{"$f":"COUNTIFS(入力!$IJ$7:$IJ$141,入力!E30,入力!$II$7:$II$141,情報!$AK$7)","v":0}]
[null,null,null,null,null,null,null,null,null,null,null,null,null,null,null,null,null,null,null,null,null,null,null,null,null,null,null,null,null,null,null,null,null,null,null,null,{"$f":"IF($AL$9=\"\",\"\",VLOOKUP($AL$9,入力!$A$28:$C$34,3,FALSE))","v":""},{"$f":"IF(入力!$E$31=\"\",\"\",入力!E49)","v":""},0,{"$f":"COUNTIFS(入力!$X$7:$X$141,入力!E31,入力!$Z$7:$Z$141,情報!$AE$6)+COUNTIFS(入力!$AB$7:$AB$141,入力!E31,入力!$AD$7:$AD$141,情報!$AE$6)","v":0},{"$f":"COUNTIFS(入力!$AR$7:$AR$141,入力!E31,入力!$AT$7:$AT$141,情報!$AE$6)+COUNTIFS(入力!$AV$7:$AV$141,入力!E31,入力!$AX$7:$AX$141,情報!$AE$6)","v":0},{"$f":"COUNTIFS(入力!$BL$7:$BL$141,入力!E31,入力!$BN$7:$BN$141,情報!$AE$6)+COUNTIFS(入力!$BP$7:$BP$141,入力!E31,入力!$BR$7:$BR$141,情報!$AE$6)","v":0},{"$f":"COUNTIFS(入力!$CF$7:$CF$141,入力!E31,入力!$CH$7:$CH$141,情報!$AE$6)+COUNTIFS(入力!$CJ$7:$CJ$141,入力!E31,入力!$CL$7:$CL$141,情報!$AE$6)","v":0},{"$f":"COUNTIFS(入力!$CZ$7:$CZ$141,入力!E31,入力!$DB$7:$DB$141,情報!$AE$6)+COUNTIFS(入力!$DD$7:$DD$141,入力!E31,入力!$DF$7:$DF$141,情報!$AE$6)","v":0},{"$f":"COUNTIFS(入力!$DT$7:$DT$141,入力!E31,入力!$DV$7:$DV$141,情報!$AE$6)+COUNTIFS(入力!$DX$7:$DX$141,入力!E31,入力!$DZ$7:$DZ$141,情報!$AE$6)","v":0},{"$f":"COUNTIFS(入力!$EN$7:$EN$141,入力!E31,入力!$EP$7:$EP$141,情報!$AE$6)+COUNTIFS(入力!$ER$7:$ER$141,入力!E31,入力!$ET$7:$ET$141,情報!$AE$6)","v":0},{"$f":"COUNTIFS(入力!$FH$7:$FH$141,入力!E31,入力!$FJ$7:$FJ$141,情報!$AE$6)+COUNTIFS(入力!$FL$7:$FL$141,入力!E31,入力!$FN$7:$FN$141,情報!$AE$6)","v":0},{"$f":"COUNTIFS(入力!$GB$7:$GB$141,入力!E31,入力!$GD$7:$GD$141,情報!$AE$6)+COUNTIFS(入力!$GF$7:$GF$141,入力!E31,入力!$GH$7:$GH$141,情報!$AE$6)","v":0},{"$f":"COUNTIFS(入力!$GV$7:$GV$141,入力!E31,入力!$GX$7:$GX$141,情報!$AE$6)+COUNTIFS(入力!$GH$7:$GH$141,入力!E31,入力!$HB$7:$HB$141,情報!$AE$6)","v":0},{"$f":"COUNTIFS(入力!$HP$7:$HP$141,入力!E31,入力!$HR$7:$HR$141,情報!$AE$6)+COUNTIFS(入力!$HT$7:$HT$141,入力!E31,入力!$HV$7:$HV$141,情報!$AE$6)","v":0},{"$f":"COUNTIFS(入力!$IJ$7:$IJ$141,入力!E31,入力!$IL$7:$IL$141,情報!$AE$6)+COUNTIFS(入力!$IN$7:$IN$141,入力!E31,入力!$IP$7:$IP$141,情報!$AE$6)","v":0},null,null,{"$f":"IF($AL$9=\"\",\"\",VLOOKUP($AL$9,入力!$A$28:$C$34,3,FALSE))","v":""},{"$f":"IF(入力!$E$31=\"\",\"\",入力!V49)","v":""},0,{"$f":"COUNTIFS(入力!$X$7:$X$141,入力!E31,入力!$AA$7:$AA$141,情報!$AH$7)+COUNTIFS(入力!$AB$7:$AB$141,入力!E31,入力!$AE$7:$AE$141,情報!$AH$7)","v":0},{"$f":"COUNTIFS(入力!$AR$7:$AR$141,入力!E31,入力!$AU$7:$AU$141,情報!$AH$7)+COUNTIFS(入力!$AV$7:$AV$141,入力!E31,入力!$AY$7:$AY$141,情報!$AH$7)","v":0},{"$f":"COUNTIFS(入力!$BL$7:$BL$141,入力!E31,入力!$BO$7:$BO$141,情報!$AH$7)+COUNTIFS(入力!$BP$7:$BP$141,入力!E31,入力!$BS$7:$BS$141,情報!$AH$7)","v":0},{"$f":"COUNTIFS(入力!$CF$7:$CF$141,入力!E31,入力!$CI$7:$CI$141,情報!$AH$7)+COUNTIFS(入力!$CJ$7:$CJ$141,入力!E31,入力!$CM$7:$CM$141,情報!$AH$7)","v":0},{"$f":"COUNTIFS(入力!$CZ$7:$CZ$141,入力!E31,入力!$DC$7:$DC$141,情報!$AH$7)+COUNTIFS(入力!$DD$7:$DD$141,入力!E31,入力!$DG$7:$DG$141,情報!$AH$7)","v":0},{"$f":"COUNTIFS(入力!$DT$7:$DT$141,入力!E31,入力!$DW$7:$DW$141,情報!$AH$7)+COUNTIFS(入力!$DX$7:$DX$141,入力!E31,入力!$EA$7:$EA$141,情報!$AH$7)","v":0},{"$f":"COUNTIFS(入力!$EN$7:$EN$141,入力!E31,入力!$EQ$7:$EQ$141,情報!$AH$7)+COUNTIFS(入力!$ER$7:$ER$141,入力!E31,入力!$EU$7:$EU$141,情報!$AH$7)","v":0},{"$f":"COUNTIFS(入力!$FH$7:$FH$141,入力!E31,入力!$FK$7:$FK$141,情報!$AH$7)+COUNTIFS(入力!$FL$7:$FL$141,入力!E31,入力!$FO$7:$FO$141,情報!$AH$7)","v":0},{"$f":"COUNTIFS(入力!$GB$7:$GB$141,入力!E31,入力!$GE$7:$GE$141,情報!$AH$7)+COUNTIFS(入力!$GF$7:$GF$141,入力!E31,入力!$GI$7:$GI$141,情報!$AH$7)","v":0},{"$f":"COUNTIFS(入力!$GV$7:$GV$141,入力!E31,入力!$GY$7:$GY$141,情報!$AH$7)+COUNTIFS(入力!$GZ$7:$GZ$141,入力!E31,入力!$HC$7:$HC$141,情報!$AH$7)","v":0},{"$f":"COUNTIFS(入力!$HP$7:$HP$141,入力!E31,入力!$HS$7:$HS$141,情報!$AH$7)+COUNTIFS(入力!$HT$7:$HT$141,入力!E31,入力!$HW$7:$HW$141,情報!$AH$7)","v":0},{"$f":"COUNTIFS(入力!$IJ$7:$IJ$141,入力!E31,入力!$IM$7:$IM$141,情報!$AH$7)+COUNTIFS(入力!$IN$7:$IN$141,入力!$E$28,入力!$IQ$7:$IQ$141,情報!$AH$7)","v":0},null,null,{"$f":"IF($AL$9=\"\",\"\",VLOOKUP($AL$9,入力!$A$28:$C$34,3,FALSE))","v":""},{"$f":"IF(入力!$E$31=\"\",\"\",入力!AM49)","v":""},0,{"$f":"COUNTIFS(入力!$X$7:$X$141,入力!E31,入力!$W$7:$W$141,情報!$AK$7)","v":0},{"$f":"COUNTIFS(入力!$AR$7:$AR$141,入力!E31,入力!$AQ$7:$AQ$141,情報!$AK$7)","v":0},{"$f":"COUNTIFS(入力!$BL$7:$BL$141,入力!E31,入力!$BK$7:$BK$141,情報!$AK$7)","v":0},{"$f":"COUNTIFS(入力!$CF$7:$CF$141,入力!E31,入力!$CE$7:$CE$141,情報!$AK$7)","v":0},{"$f":"COUNTIFS(入力!$CZ$7:$CZ$141,入力!E31,入力!$CY$7:$CY$141,情報!$AK$7)","v":0},{"$f":"COUNTIFS(入力!$DT$7:$DT$141,入力!E31,入力!$DS$7:$DS$141,情報!$AK$7)","v":0},{"$f":"COUNTIFS(入力!$EN$7:$EN$141,入力!E31,入力!$EM$7:$EM$141,情報!$AK$7)","v":0},{"$f":"COUNTIFS(入力!$FH$7:$FH$141,入力!E31,入力!$FG$7:$FG$141,情報!$AK$7)","v":0},{"$f":"COUNTIFS(入力!$GB$7:$GB$141,入力!E31,入力!$GA$7:$GA$141,情報!$AK$7)","v":0},{"$f":"COUNTIFS(入力!$GV$7:$GV$141,入力!E31,入力!$GU$7:$GU$141,情報!$AK$7)","v":0},{"$f":"COUNTIFS(入力!$HP$7:$HP$141,入力!E31,入力!$HO$7:$HO$141,情報!$AK$7)","v":0},{"$f":"COUNTIFS(入力!$IJ$7:$IJ$141,入力!E31,入力!$II$7:$II$141,情報!$AK$7)","v":0}]
[null,null,null,null,null,null,null,null,null,null,null,null,null,null,null,null,null,null,null,null,null,null,null,null,null,null,null,null,null,null,null,null,null,null,null,null,{"$f":"IF($AL$10=\"\",\"\",VLOOKUP($AL$10,入力!$A$28:$C$34,3,FALSE))","v":""},{"$f":"IF(入力!$E$32=\"\",\"\",入力!$E$32)","v":""},0,{"$f":"COUNTIFS(入力!$X$7:$X$141,入力!E32,入力!$Z$7:$Z$141,情報!$AE$6)+COUNTIFS(入力!$AB$7:$AB$141,入力!E32,入力!$AD$7:$AD$141,情報!$AE$6)","v":0},{"$f":"COUNTIFS(入力!$AR$7:$AR$141,入力!E32,入力!$AT$7:$AT$141,情報!$AE$6)+COUNTIFS(入力!$AV$7:$AV$141,入力!E32,入力!$AX$7:$AX$141,情報!$AE$6)","v":0},{"$f":"COUNTIFS(入力!$BL$7:$BL$141,入力!E32,入力!$BN$7:$BN$141,情報!$AE$6)+COUNTIFS(入力!$BP$7:$BP$141,入力!E32,入力!$BR$7:$BR$141,情報!$AE$6)","v":0},{"$f":"COUNTIFS(入力!$CF$7:$CF$141,入力!E32,入力!$CH$7:$CH$141,情報!$AE$6)+COUNTIFS(入力!$CJ$7:$CJ$141,入力!E32,入力!$CL$7:$CL$141,情報!$AE$6)","v":0},{"$f":"COUNTIFS(入力!$CZ$7:$CZ$141,入力!E32,入力!$DB$7:$DB$141,情報!$AE$6)+COUNTIFS(入力!$DD$7:$DD$141,入力!E32,入力!$DF$7:$DF$141,情報!$AE$6)","v":0},{"$f":"COUNTIFS(入力!$DT$7:$DT$141,入力!E32,入力!$DV$7:$DV$141,情報!$AE$6)+COUNTIFS(入力!$DX$7:$DX$141,入力!E32,入力!$DZ$7:$DZ$141,情報!$AE$6)","v":0},{"$f":"COUNTIFS(入力!$EN$7:$EN$141,入力!E32,入力!$EP$7:$EP$141,情報!$AE$6)+COUNTIFS(入力!$ER$7:$ER$141,入力!E32,入力!$ET$7:$ET$141,情報!$AE$6)","v":0},{"$f":"COUNTIFS(入力!$FH$7:$FH$141,入力!E32,入力!$FJ$7:$FJ$141,情報!$AE$6)+COUNTIFS(入力!$FL$7:$FL$141,入力!E32,入力!$FN$7:$FN$141,情報!$AE$6)","v":0},{"$f":"COUNTIFS(入力!$GB$7:$GB$141,入力!E32,入力!$GD$7:$GD$141,情報!$AE$6)+COUNTIFS(入力!$GF$7:$GF$141,入力!E32,入力!$GH$7:$GH$141,情報!$AE$6)","v":0},{"$f":"COUNTIFS(入力!$GV$7:$GV$141,入力!E32,入力!$GX$7:$GX$141,情報!$AE$6)+COUNTIFS(入力!$GH$7:$GH$141,入力!E32,入力!$HB$7:$HB$141,情報!$AE$6)","v":0},{"$f":"COUNTIFS(入力!$HP$7:$HP$141,入力!E32,入力!$HR$7:$HR$141,情報!$AE$6)+COUNTIFS(入力!$HT$7:$HT$141,入力!E32,入力!$HV$7:$HV$141,情報!$AE$6)","v":0},{"$f":"COUNTIFS(入力!$IJ$7:$IJ$141,入力!E32,入力!$IL$7:$IL$141,情報!$AE$6)+COUNTIFS(入力!$IN$7:$IN$141,入力!E32,入力!$IP$7:$IP$141,情報!$AE$6)","v":0},null,null,{"$f":"IF($AL$10=\"\",\"\",VLOOKUP($AL$10,入力!$A$28:$C$34,3,FALSE))","v":""},{"$f":"IF(入力!$E$32=\"\",\"\",入力!$E$32)","v":""},0,{"$f":"COUNTIFS(入力!$X$7:$X$141,入力!E32,入力!$AA$7:$AA$141,情報!$AH$7)+COUNTIFS(入力!$AB$7:$AB$141,入力!E32,入力!$AE$7:$AE$141,情報!$AH$7)","v":0},{"$f":"COUNTIFS(入力!$AR$7:$AR$141,入力!E32,入力!$AU$7:$AU$141,情報!$AH$7)+COUNTIFS(入力!$AV$7:$AV$141,入力!E32,入力!$AY$7:$AY$141,情報!$AH$7)","v":0},{"$f":"COUNTIFS(入力!$BL$7:$BL$141,入力!E32,入力!$BO$7:$BO$141,情報!$AH$7)+COUNTIFS(入力!$BP$7:$BP$141,入力!E32,入力!$BS$7:$BS$141,情報!$AH$7)","v":0},{"$f":"COUNTIFS(入力!$CF$7:$CF$141,入力!E32,入力!$CI$7:$CI$141,情報!$AH$7)+COUNTIFS(入力!$CJ$7:$CJ$141,入力!E32,入力!$CM$7:$CM$141,情報!$AH$7)","v":0},{"$f":"COUNTIFS(入力!$CZ$7:$CZ$141,入力!E32,入力!$DC$7:$DC$141,情報!$AH$7)+COUNTIFS(入力!$DD$7:$DD$141,入力!E32,入力!$DG$7:$DG$141,情報!$AH$7)","v":0},{"$f":"COUNTIFS(入力!$DT$7:$DT$141,入力!E32,入力!$DW$7:$DW$141,情報!$AH$7)+COUNTIFS(入力!$DX$7:$DX$141,入力!E32,入力!$EA$7:$EA$141,情報!$AH$7)","v":0},{"$f":"COUNTIFS(入力!$EN$7:$EN$141,入力!E32,入力!$EQ$7:$EQ$141,情報!$AH$7)+COUNTIFS(入力!$ER$7:$ER$141,入力!E32,入力!$EU$7:$EU$141,情報!$AH$7)","v":0},{"$f":"COUNTIFS(入力!$FH$7:$FH$141,入力!E32,入力!$FK$7:$FK$141,情報!$AH$7)+COUNTIFS(入力!$FL$7:$FL$141,入力!E32,入力!$FO$7:$FO$141,情報!$AH$7)","v":0},{"$f":"COUNTIFS(入力!$GB$7:$GB$141,入力!E32,入力!$GE$7:$GE$141,情報!$AH$7)+COUNTIFS(入力!$GF$7:$GF$141,入力!E32,入力!$GI$7:$GI$141,情報!$AH$7)","v":0},{"$f":"COUNTIFS(入力!$GV$7:$GV$141,入力!E32,入力!$GY$7:$GY$141,情報!$AH$7)+COUNTIFS(入力!$GZ$7:$GZ$141,入力!E32,入力!$HC$7:$HC$141,情報!$AH$7)","v":0},{"$f":"COUNTIFS(入力!$HP$7:$HP$141,入力!E32,入力!$HS$7:$HS$141,情報!$AH$7)+COUNTIFS(入力!$HT$7:$HT$141,入力!E32,入力!$HW$7:$HW$141,情報!$AH$7)","v":0},{"$f":"COUNTIFS(入力!$IJ$7:$IJ$141,入力!E32,入力!$IM$7:$IM$141,情報!$AH$7)+COUNTIFS(入力!$IN$7:$IN$141,入力!$E$28,入力!$IQ$7:$IQ$141,情報!$AH$7)","v":0},null,null,{"$f":"IF($AL$10=\"\",\"\",VLOOKUP($AL$10,入力!$A$28:$C$34,3,FALSE))","v":""},{"$f":"IF(入力!$E$32=\"\",\"\",入力!$E$32)","v":""},0,{"$f":"COUNTIFS(入力!$X$7:$X$141,入力!E32,入力!$W$7:$W$141,情報!$AK$7)","v":0},{"$f":"COUNTIFS(入力!$AR$7:$AR$141,入力!E32,入力!$AQ$7:$AQ$141,情報!$AK$7)","v":0},{"$f":"COUNTIFS(入力!$BL$7:$BL$141,入力!E32,入力!$BK$7:$BK$141,情報!$AK$7)","v":0},{"$f":"COUNTIFS(入力!$CF$7:$CF$141,入力!E32,入力!$CE$7:$CE$141,情報!$AK$7)","v":0},{"$f":"COUNTIFS(入力!$CZ$7:$CZ$141,入力!E32,入力!$CY$7:$CY$141,情報!$AK$7)","v":0},{"$f":"COUNTIFS(入力!$DT$7:$DT$141,入力!E32,入力!$DS$7:$DS$141,情報!$AK$7)","v":0},{"$f":"COUNTIFS(入力!$EN$7:$EN$141,入力!E32,入力!$EM$7:$EM$141,情報!$AK$7)","v":0},{"$f":"COUNTIFS(入力!$FH$7:$FH$141,入力!E32,入力!$FG$7:$FG$141,情報!$AK$7)","v":0},{"$f":"COUNTIFS(入力!$GB$7:$GB$141,入力!E32,入力!$GA$7:$GA$141,情報!$AK$7)","v":0},{"$f":"COUNTIFS(入力!$GV$7:$GV$141,入力!E32,入力!$GU$7:$GU$141,情報!$AK$7)","v":0},{"$f":"COUNTIFS(入力!$HP$7:$HP$141,入力!E32,入力!$HO$7:$HO$141,情報!$AK$7)","v":0},{"$f":"COUNTIFS(入力!$IJ$7:$IJ$141,入力!E32,入力!$II$7:$II$141,情報!$AK$7)","v":0}]
[null,null,null,null,null,null,null,null,null,null,null,null,null,null,null,null,null,null,null,null,null,null,null,null,null,null,null,null,null,null,null,null,null,null,null,null,{"$f":"IF($AL$11=\"\",\"\",VLOOKUP($AL$11,入力!$A$28:$C$34,3,FALSE))","v":""},{"$f":"IF(入力!$E$33=\"\",\"\",入力!$E$33)","v":""},{"$f":"SUM(AN29:AY29)","v":0},{"$f":"COUNTIFS(入力!$X$7:$X$141,入力!E33,入力!$Z$7:$Z$141,情報!$AE$6)+COUNTIFS(入力!$AB$7:$AB$141,入力!E33,入力!$AD$7:$AD$141,情報!$AE$6)","v":0},{"$f":"COUNTIFS(入力!$AR$7:$AR$141,入力!E33,入力!$AT$7:$AT$141,情報!$AE$6)+COUNTIFS(入力!$AV$7:$AV$141,入力!E33,入力!$AX$7:$AX$141,情報!$AE$6)","v":0},{"$f":"COUNTIFS(入力!$BL$7:$BL$141,入力!E33,入力!$BN$7:$BN$141,情報!$AE$6)+COUNTIFS(入力!$BP$7:$BP$141,入力!E33,入力!$BR$7:$BR$141,情報!$AE$6)","v":0},{"$f":"COUNTIFS(入力!$CF$7:$CF$141,入力!E33,入力!$CH$7:$CH$141,情報!$AE$6)+COUNTIFS(入力!$CJ$7:$CJ$141,入力!E33,入力!$CL$7:$CL$141,情報!$AE$6)","v":0},{"$f":"COUNTIFS(入力!$CZ$7:$CZ$141,入力!E33,入力!$DB$7:$DB$141,情報!$AE$6)+COUNTIFS(入力!$DD$7:$DD$141,入力!E33,入力!$DF$7:$DF$141,情報!$AE$6)","v":0},{"$f":"COUNTIFS(入力!$DT$7:$DT$141,入力!E33,入力!$DV$7:$DV$141,情報!$AE$6)+COUNTIFS(入力!$DX$7:$DX$141,入力!E33,入力!$DZ$7:$DZ$141,情報!$AE$6)","v":0},{"$f":"COUNTIFS(入力!$EN$7:$EN$141,入力!E33,入力!$EP$7:$EP$141,情報!$AE$6)+COUNTIFS(入力!$ER$7:$ER$141,入力!E33,入力!$ET$7:$ET$141,情報!$AE$6)","v":0},{"$f":"COUNTIFS(入力!$FH$7:$FH$141,入力!E33,入力!$FJ$7:$FJ$141,情報!$AE$6)+COUNTIFS(入力!$FL$7:$FL$141,入力!E33,入力!$FN$7:$FN$141,情報!$AE$6)","v":0},{"$f":"COUNTIFS(入力!$GB$7:$GB$141,入力!E33,入力!$GD$7:$GD$141,情報!$AE$6)+COUNTIFS(入力!$GF$7:$GF$141,入力!E33,入力!$GH$7:$GH$141,情報!$AE$6)","v":0},{"$f":"COUNTIFS(入力!$GV$7:$GV$141,入力!E33,入力!$GX$7:$GX$141,情報!$AE$6)+COUNTIFS(入力!$GH$7:$GH$141,入力!E33,入力!$HB$7:$HB$141,情報!$AE$6)","v":0},{"$f":"COUNTIFS(入力!$HP$7:$HP$141,入力!E33,入力!$HR$7:$HR$141,情報!$AE$6)+COUNTIFS(入力!$HT$7:$HT$141,入力!E33,入力!$HV$7:$HV$141,情報!$AE$6)","v":0},{"$f":"COUNTIFS(入力!$IJ$7:$IJ$141,入力!E33,入力!$IL$7:$IL$141,情報!$AE$6)+COUNTIFS(入力!$IN$7:$IN$141,入力!E33,入力!$IP$7:$IP$141,情報!$AE$6)","v":0},null,null,{"$f":"IF($AL$11=\"\",\"\",VLOOKUP($AL$11,入力!$A$28:$C$34,3,FALSE))","v":""},{"$f":"IF(入力!$E$33=\"\",\"\",入力!$E$33)","v":""},{"$f":"SUM(BE29:BP29)","v":0},{"$f":"COUNTIFS(入力!$X$7:$X$141,入力!E33,入力!$AA$7:$AA$141,情報!$AH$7)+COUNTIFS(入力!$AB$7:$AB$141,入力!E33,入力!$AE$7:$AE$141,情報!$AH$7)","v":0},{"$f":"COUNTIFS(入力!$AR$7:$AR$141,入力!E33,入力!$AU$7:$AU$141,情報!$AH$7)+COUNTIFS(入力!$AV$7:$AV$141,入力!E33,入力!$AY$7:$AY$141,情報!$AH$7)","v":0},{"$f":"COUNTIFS(入力!$BL$7:$BL$141,入力!E33,入力!$BO$7:$BO$141,情報!$AH$7)+COUNTIFS(入力!$BP$7:$BP$141,入力!E33,入力!$BS$7:$BS$141,情報!$AH$7)","v":0},{"$f":"COUNTIFS(入力!$CF$7:$CF$141,入力!E33,入力!$CI$7:$CI$141,情報!$AH$7)+COUNTIFS(入力!$CJ$7:$CJ$141,入力!E33,入力!$CM$7:$CM$141,情報!$AH$7)","v":0},{"$f":"COUNTIFS(入力!$CZ$7:$CZ$141,入力!E33,入力!$DC$7:$DC$141,情報!$AH$7)+COUNTIFS(入力!$DD$7:$DD$141,入力!E33,入力!$DG$7:$DG$141,情報!$AH$7)","v":0},{"$f":"COUNTIFS(入力!$DT$7:$DT$141,入力!E33,入力!$DW$7:$DW$141,情報!$AH$7)+COUNTIFS(入力!$DX$7:$DX$141,入力!E33,入力!$EA$7:$EA$141,情報!$AH$7)","v":0},{"$f":"COUNTIFS(入力!$EN$7:$EN$141,入力!E33,入力!$EQ$7:$EQ$141,情報!$AH$7)+COUNTIFS(入力!$ER$7:$ER$141,入力!E33,入力!$EU$7:$EU$141,情報!$AH$7)","v":0},{"$f":"COUNTIFS(入力!$FH$7:$FH$141,入力!E33,入力!$FK$7:$FK$141,情報!$AH$7)+COUNTIFS(入力!$FL$7:$FL$141,入力!E33,入力!$FO$7:$FO$141,情報!$AH$7)","v":0},{"$f":"COUNTIFS(入力!$GB$7:$GB$141,入力!E33,入力!$GE$7:$GE$141,情報!$AH$7)+COUNTIFS(入力!$GF$7:$GF$141,入力!E33,入力!$GI$7:$GI$141,情報!$AH$7)","v":0},{"$f":"COUNTIFS(入力!$GV$7:$GV$141,入力!E33,入力!$GY$7:$GY$141,情報!$AH$7)+COUNTIFS(入力!$GZ$7:$GZ$141,入力!E33,入力!$HC$7:$HC$141,情報!$AH$7)","v":0},{"$f":"COUNTIFS(入力!$HP$7:$HP$141,入力!E33,入力!$HS$7:$HS$141,情報!$AH$7)+COUNTIFS(入力!$HT$7:$HT$141,入力!E33,入力!$HW$7:$HW$141,情報!$AH$7)","v":0},{"$f":"COUNTIFS(入力!$IJ$7:$IJ$141,入力!E33,入力!$IM$7:$IM$141,情報!$AH$7)+COUNTIFS(入力!$IN$7:$IN$141,入力!$E$28,入力!$IQ$7:$IQ$141,情報!$AH$7)","v":0},null,null,{"$f":"IF($AL$11=\"\",\"\",VLOOKUP($AL$11,入力!$A$28:$C$34,3,FALSE))","v":""},{"$f":"IF(入力!$E$33=\"\",\"\",入力!$E$33)","v":""},{"$f":"SUM(BV29:CG29)","v":0},{"$f":"COUNTIFS(入力!$X$7:$X$141,入力!E33,入力!$W$7:$W$141,情報!$AK$7)","v":0},{"$f":"COUNTIFS(入力!$AR$7:$AR$141,入力!E33,入力!$AQ$7:$AQ$141,情報!$AK$7)","v":0},{"$f":"COUNTIFS(入力!$BL$7:$BL$141,入力!E33,入力!$BK$7:$BK$141,情報!$AK$7)","v":0},{"$f":"COUNTIFS(入力!$CF$7:$CF$141,入力!E33,入力!$CE$7:$CE$141,情報!$AK$7)","v":0},{"$f":"COUNTIFS(入力!$CZ$7:$CZ$141,入力!E33,入力!$CY$7:$CY$141,情報!$AK$7)","v":0},{"$f":"COUNTIFS(入力!$DT$7:$DT$141,入力!E33,入力!$DS$7:$DS$141,情報!$AK$7)","v":0},{"$f":"COUNTIFS(入力!$EN$7:$EN$141,入力!E33,入力!$EM$7:$EM$141,情報!$AK$7)","v":0},{"$f":"COUNTIFS(入力!$FH$7:$FH$141,入力!E33,入力!$FG$7:$FG$141,情報!$AK$7)","v":0},{"$f":"COUNTIFS(入力!$GB$7:$GB$141,入力!E33,入力!$GA$7:$GA$141,情報!$AK$7)","v":0},{"$f":"COUNTIFS(入力!$GV$7:$GV$141,入力!E33,入力!$GU$7:$GU$141,情報!$AK$7)","v":0},{"$f":"COUNTIFS(入力!$HP$7:$HP$141,入力!E33,入力!$HO$7:$HO$141,情報!$AK$7)","v":0},{"$f":"COUNTIFS(入力!$IJ$7:$IJ$141,入力!E33,入力!$II$7:$II$141,情報!$AK$7)","v":0}]
[null,null,null,null,null,null,null,null,null,null,null,null,null,null,null,null,null,null,null,null,null,null,null,null,null,null,null,null,null,null,null,null,null,null,null,null,{"$f":"IF($AL$12=\"\",\"\",VLOOKUP($AL$12,入力!$A$28:$C$34,3,FALSE))","v":""},{"$f":"IF(入力!$E$34=\"\",\"\",入力!$E$34)","v":""},0,{"$f":"COUNTIFS(入力!$X$7:$X$141,入力!E34,入力!$Z$7:$Z$141,情報!$AE$6)+COUNTIFS(入力!$AB$7:$AB$141,入力!E34,入力!$AD$7:$AD$141,情報!$AE$6)","v":0},{"$f":"COUNTIFS(入力!$AR$7:$AR$141,入力!E34,入力!$AT$7:$AT$141,情報!$AE$6)+COUNTIFS(入力!$AV$7:$AV$141,入力!E34,入力!$AX$7:$AX$141,情報!$AE$6)","v":0},{"$f":"COUNTIFS(入力!$BL$7:$BL$141,入力!E34,入力!$BN$7:$BN$141,情報!$AE$6)+COUNTIFS(入力!$BP$7:$BP$141,入力!E34,入力!$BR$7:$BR$141,情報!$AE$6)","v":0},{"$f":"COUNTIFS(入力!$CF$7:$CF$141,入力!E34,入力!$CH$7:$CH$141,情報!$AE$6)+COUNTIFS(入力!$CJ$7:$CJ$141,入力!E34,入力!$CL$7:$CL$141,情報!$AE$6)","v":0},{"$f":"COUNTIFS(入力!$CZ$7:$CZ$141,入力!E34,入力!$DB$7:$DB$141,情報!$AE$6)+COUNTIFS(入力!$DD$7:$DD$141,入力!E34,入力!$DF$7:$DF$141,情報!$AE$6)","v":0},{"$f":"COUNTIFS(入力!$DT$7:$DT$141,入力!E34,入力!$DV$7:$DV$141,情報!$AE$6)+COUNTIFS(入力!$DX$7:$DX$141,入力!E34,入力!$DZ$7:$DZ$141,情報!$AE$6)","v":0},{"$f":"COUNTIFS(入力!$EN$7:$EN$141,入力!E34,入力!$EP$7:$EP$141,情報!$AE$6)+COUNTIFS(入力!$ER$7:$ER$141,入力!E34,入力!$ET$7:$ET$141,情報!$AE$6)","v":0},{"$f":"COUNTIFS(入力!$FH$7:$FH$141,入力!E34,入力!$FJ$7:$FJ$141,情報!$AE$6)+COUNTIFS(入力!$FL$7:$FL$141,入力!E34,入力!$FN$7:$FN$141,情報!$AE$6)","v":0},{"$f":"COUNTIFS(入力!$GB$7:$GB$141,入力!E34,入力!$GD$7:$GD$141,情報!$AE$6)+COUNTIFS(入力!$GF$7:$GF$141,入力!E34,入力!$GH$7:$GH$141,情報!$AE$6)","v":0},{"$f":"COUNTIFS(入力!$GV$7:$GV$141,入力!E34,入力!$GX$7:$GX$141,情報!$AE$6)+COUNTIFS(入力!$GH$7:$GH$141,入力!E34,入力!$HB$7:$HB$141,情報!$AE$6)","v":0},{"$f":"COUNTIFS(入力!$HP$7:$HP$141,入力!E34,入力!$HR$7:$HR$141,情報!$AE$6)+COUNTIFS(入力!$HT$7:$HT$141,入力!E34,入力!$HV$7:$HV$141,情報!$AE$6)","v":0},{"$f":"COUNTIFS(入力!$IJ$7:$IJ$141,入力!E34,入力!$IL$7:$IL$141,情報!$AE$6)+COUNTIFS(入力!$IN$7:$IN$141,入力!E34,入力!$IP$7:$IP$141,情報!$AE$6)","v":0},null,null,{"$f":"IF($AL$12=\"\",\"\",VLOOKUP($AL$12,入力!$A$28:$C$34,3,FALSE))","v":""},{"$f":"IF(入力!$E$34=\"\",\"\",入力!$E$34)","v":""},0,{"$f":"COUNTIFS(入力!$X$7:$X$141,入力!E34,入力!$AA$7:$AA$141,情報!$AH$7)+COUNTIFS(入力!$AB$7:$AB$141,入力!E34,入力!$AE$7:$AE$141,情報!$AH$7)","v":0},{"$f":"COUNTIFS(入力!$AR$7:$AR$141,入力!E34,入力!$AU$7:$AU$141,情報!$AH$7)+COUNTIFS(入力!$AV$7:$AV$141,入力!E34,入力!$AY$7:$AY$141,情報!$AH$7)","v":0},{"$f":"COUNTIFS(入力!$BL$7:$BL$141,入力!E34,入力!$BO$7:$BO$141,情報!$AH$7)+COUNTIFS(入力!$BP$7:$BP$141,入力!E34,入力!$BS$7:$BS$141,情報!$AH$7)","v":0},{"$f":"COUNTIFS(入力!$CF$7:$CF$141,入力!E34,入力!$CI$7:$CI$141,情報!$AH$7)+COUNTIFS(入力!$CJ$7:$CJ$141,入力!E34,入力!$CM$7:$CM$141,情報!$AH$7)","v":0},{"$f":"COUNTIFS(入力!$CZ$7:$CZ$141,入力!E34,入力!$DC$7:$DC$141,情報!$AH$7)+COUNTIFS(入力!$DD$7:$DD$141,入力!E34,入力!$DG$7:$DG$141,情報!$AH$7)","v":0},{"$f":"COUNTIFS(入力!$DT$7:$DT$141,入力!E34,入力!$DW$7:$DW$141,情報!$AH$7)+COUNTIFS(入力!$DX$7:$DX$141,入力!E34,入力!$EA$7:$EA$141,情報!$AH$7)","v":0},{"$f":"COUNTIFS(入力!$EN$7:$EN$141,入力!E34,入力!$EQ$7:$EQ$141,情報!$AH$7)+COUNTIFS(入力!$ER$7:$ER$141,入力!E34,入力!$EU$7:$EU$141,情報!$AH$7)","v":0},{"$f":"COUNTIFS(入力!$FH$7:$FH$141,入力!E34,入力!$FK$7:$FK$141,情報!$AH$7)+COUNTIFS(入力!$FL$7:$FL$141,入力!E34,入力!$FO$7:$FO$141,情報!$AH$7)","v":0},{"$f":"COUNTIFS(入力!$GB$7:$GB$141,入力!E34,入力!$GE$7:$GE$141,情報!$AH$7)+COUNTIFS(入力!$GF$7:$GF$141,入力!E34,入力!$GI$7:$GI$141,情報!$AH$7)","v":0},{"$f":"COUNTIFS(入力!$GV$7:$GV$141,入力!E34,入力!$GY$7:$GY$141,情報!$AH$7)+COUNTIFS(入力!$GZ$7:$GZ$141,入力!E34,入力!$HC$7:$HC$141,情報!$AH$7)","v":0},{"$f":"COUNTIFS(入力!$HP$7:$HP$141,入力!E34,入力!$HS$7:$HS$141,情報!$AH$7)+COUNTIFS(入力!$HT$7:$HT$141,入力!E34,入力!$HW$7:$HW$141,情報!$AH$7)","v":0},{"$f":"COUNTIFS(入力!$IJ$7:$IJ$141,入力!E34,入力!$IM$7:$IM$141,情報!$AH$7)+COUNTIFS(入力!$IN$7:$IN$141,入力!$E$28,入力!$IQ$7:$IQ$141,情報!$AH$7)","v":0},null,null,{"$f":"IF($AL$12=\"\",\"\",VLOOKUP($AL$12,入力!$A$28:$C$34,3,FALSE))","v":""},{"$f":"IF(入力!$E$34=\"\",\"\",入力!$E$34)","v":""},0,{"$f":"COUNTIFS(入力!$X$7:$X$141,入力!E34,入力!$W$7:$W$141,情報!$AK$7)","v":0},{"$f":"COUNTIFS(入力!$AR$7:$AR$141,入力!E34,入力!$AQ$7:$AQ$141,情報!$AK$7)","v":0},{"$f":"COUNTIFS(入力!$BL$7:$BL$141,入力!E34,入力!$BK$7:$BK$141,情報!$AK$7)","v":0},{"$f":"COUNTIFS(入力!$CF$7:$CF$141,入力!E34,入力!$CE$7:$CE$141,情報!$AK$7)","v":0},{"$f":"COUNTIFS(入力!$CZ$7:$CZ$141,入力!E34,入力!$CY$7:$CY$141,情報!$AK$7)","v":0},{"$f":"COUNTIFS(入力!$DT$7:$DT$141,入力!E34,入力!$DS$7:$DS$141,情報!$AK$7)","v":0},{"$f":"COUNTIFS(入力!$EN$7:$EN$141,入力!E34,入力!$EM$7:$EM$141,情報!$AK$7)","v":0},{"$f":"COUNTIFS(入力!$FH$7:$FH$141,入力!E34,入力!$FG$7:$FG$141,情報!$AK$7)","v":0},{"$f":"COUNTIFS(入力!$GB$7:$GB$141,入力!E34,入力!$GA$7:$GA$141,情報!$AK$7)","v":0},{"$f":"COUNTIFS(入力!$GV$7:$GV$141,入力!E34,入力!$GU$7:$GU$141,情報!$AK$7)","v":0},{"$f":"COUNTIFS(入力!$HP$7:$HP$141,入力!E34,入力!$HO$7:$HO$141,情報!$AK$7)","v":0},{"$f":"COUNTIFS(入力!$IJ$7:$IJ$141,入力!E34,入力!$II$7:$II$141,情報!$AK$7)","v":0}]
[null,null,null,null,null,null,null,null,null,null,null,null,null,null,null,null,null,null,null,null,null,null,null,null,null,null,null,null,null,null,null,null,null,null,null,"カーブ系",null,null,null,null,null,null,null,null,null,null,null,null,null,null,null,null,"空振り",null,null,null,null,null,null,null,null,null,null,null,null,null,null,null,null,"3塁打"]
[null,null,null,null,null,null,null,null,null,null,null,null,null,null,null,null,null,null,null,null,null,null,null,null,null,null,null,null,null,null,null,null,null,null,null,"種分","投手名","背番","合計","1回","2回","3回","4回","5回","6回","7回","8回","9回","10回","11回","12回",null,"種分","投手名","背番","合計","1回","2回","3回","4回","5回","6回","7回","8回","9回","10回","11回","12回",null,"種分","投手名","背番","合計","1回","2回","3回","4回","5回","6回","7回","8回","9回","10回","11回","12回"]
[null,null,null,null,null,null,null,null,null,null,null,null,null,null,null,null,null,null,null,null,null,null,null,null,null,null,null,null,null,null,null,null,null,null,null,"←",{"$f":"IF($AL$6=\"\",\"\",VLOOKUP($AL$6,入力!$A$28:$C$34,3,FALSE))","v":""},{"$f":"IF(入力!$E$28=\"\",\"\",入力!$E$28)","v":""},{"$f":"SUM(AN33:AY33)","v":0},{"$f":"COUNTIFS(入力!$X$7:$X$141,入力!E28,入力!$Z$7:$Z$141,情報!$AE$7)+COUNTIFS(入力!$AB$7:$AB$141,入力!E28,入力!$AD$7:$AD$141,情報!$AE$7)","v":0},{"$f":"COUNTIFS(入力!$AR$7:$AR$141,入力!E28,入力!$AT$7:$AT$141,情報!$AE$7)+COUNTIFS(入力!$AV$7:$AV$141,入力!E28,入力!$AX$7:$AX$141,情報!$AE$7)","v":0},{"$f":"COUNTIFS(入力!$BL$7:$BL$141,入力!E28,入力!$BN$7:$BN$141,情報!$AE$7)+COUNTIFS(入力!$BP$7:$BP$141,入力!E28,入力!$BR$7:$BR$141,情報!$AE$7)","v":0},{"$f":"COUNTIFS(入力!$CF$7:$CF$141,入力!E28,入力!$CH$7:$CH$141,情報!$AE$7)+COUNTIFS(入力!$CJ$7:$CJ$141,入力!E28,入力!$CL$7:$CL$141,情報!$AE$7)","v":0},{"$f":"COUNTIFS(入力!$CZ$7:$CZ$141,入力!E28,入力!$DB$7:$DB$141,情報!$AE$7)+COUNTIFS(入力!$DD$7:$DD$141,入力!E28,入力!$DF$7:$DF$141,情報!$AE$7)","v":0},{"$f":"COUNTIFS(入力!$DT$7:$DT$141,入力!E28,入力!$DV$7:$DV$141,情報!$AE$7)+COUNTIFS(入力!$DX$7:$DX$141,入力!E28,入力!$DZ$7:$DZ$141,情報!$AE$7)","v":0},{"$f":"COUNTIFS(入力!$EN$7:$EN$141,入力!E28,入力!$EP$7:$EP$141,情報!$AE$7)+COUNTIFS(入力!$ER$7:$ER$141,入力!E28,入力!$ET$7:$ET$141,情報!$AE$7)","v":0},{"$f":"COUNTIFS(入力!$FH$7:$FH$141,入力!E28,入力!$FJ$7:$FJ$141,情報!$AE$7)+COUNTIFS(入力!$FL$7:$FL$141,入力!E28,入力!$FN$7:$FN$141,情報!$AE$7)","v":0},{"$f":"COUNTIFS(入力!$GB$7:$GB$141,入力!E28,入力!$GD$7:$GD$141,情報!$AE$7)+COUNTIFS(入力!$GF$7:$GF$141,入力!E28,入力!$GH$7:$GH$141,情報!$AE$7)","v":0},{"$f":"COUNTIFS(入力!$GV$7:$GV$141,入力!E28,入力!$GX$7:$GX$141,情報!$AE$7)+COUNTIFS(入力!$GH$7:$GH$141,入力!E28,入力!$HB$7:$HB$141,情報!$AE$7)","v":0},{"$f":"COUNTIFS(入力!$HP$7:$HP$141,入力!E28,入力!$HR$7:$HR$141,情報!$AE$7)+COUNTIFS(入力!$HT$7:$HT$141,入力!E28,入力!$HV$7:$HV$141,情報!$AE$7)","v":0},{"$f":"COUNTIFS(入力!$IJ$7:$IJ$141,入力!E28,入力!$IL$7:$IL$141,情報!$AE$7)+COUNTIFS(入力!$IN$7:$IN$141,入力!E28,入力!$IP$7:$IP$141,情報!$AE$7)","v":0},null,"□",{"$f":"IF($AL$6=\"\",\"\",VLOOKUP($AL$6,入力!$A$28:$C$34,3,FALSE))","v":""},{"$f":"IF(入力!$E$28=\"\",\"\",入力!$E$28)","v":""},{"$f":"SUM(BE33:BP33)","v":0},{"$f":"COUNTIFS(入力!$X$7:$X$141,入力!E28,入力!$AA$7:$AA$141,情報!$AH$8)+COUNTIFS(入力!$AB$7:$AB$141,入力!E28,入力!$AE$7:$AE$141,情報!$AH$8)","v":0},{"$f":"COUNTIFS(入力!$AR$7:$AR$141,入力!E28,入力!$AU$7:$AU$141,情報!$AH$8)+COUNTIFS(入力!$AV$7:$AV$141,入力!E28,入力!$AY$7:$AY$141,情報!$AH$8)","v":0},{"$f":"COUNTIFS(入力!$BL$7:$BL$141,入力!E28,入力!$BO$7:$BO$141,情報!$AH$8)+COUNTIFS(入力!$BP$7:$BP$141,入力!E28,入力!$BS$7:$BS$141,情報!$AH$8)","v":0},{"$f":"COUNTIFS(入力!$CF$7:$CF$141,入力!E28,入力!$CI$7:$CI$141,情報!$AH$8)+COUNTIFS(入力!$CJ$7:$CJ$141,入力!E28,入力!$CM$7:$CM$141,情報!$AH$8)","v":0},{"$f":"COUNTIFS(入力!$CZ$7:$CZ$141,入力!E28,入力!$DC$7:$DC$141,情報!$AH$8)+COUNTIFS(入力!$DD$7:$DD$141,入力!E28,入力!$DG$7:$DG$141,情報!$AH$8)","v":0},{"$f":"COUNTIFS(入力!$DT$7:$DT$141,入力!E28,入力!$DW$7:$DW$141,情報!$AH$8)+COUNTIFS(入力!$DX$7:$DX$141,入力!E28,入力!$EA$7:$EA$141,情報!$AH$8)","v":0},{"$f":"COUNTIFS(入力!$EN$7:$EN$141,入力!E28,入力!$EQ$7:$EQ$141,情報!$AH$8)+COUNTIFS(入力!$ER$7:$ER$141,入力!E28,入力!$EU$7:$EU$141,情報!$AH$8)","v":0},{"$f":"COUNTIFS(入力!$FH$7:$FH$141,入力!E28,入力!$FK$7:$FK$141,情報!$AH$8)+COUNTIFS(入力!$FL$7:$FL$141,入力!E28,入力!$FO$7:$FO$141,情報!$AH$8)","v":0},{"$f":"COUNTIFS(入力!$GB$7:$GB$141,入力!E28,入力!$GE$7:$GE$141,情報!$AH$8)+COUNTIFS(入力!$GF$7:$GF$141,入力!E28,入力!$GI$7:$GI$141,情報!$AH$8)","v":0},{"$f":"COUNTIFS(入力!$GV$7:$GV$141,入力!E28,入力!$GY$7:$GY$141,情報!$AH$8)+COUNTIFS(入力!$GZ$7:$GZ$141,入力!E28,入力!$HC$7:$HC$141,情報!$AH$8)","v":0},{"$f":"COUNTIFS(入力!$HP$7:$HP$141,入力!E28,入力!$HS$7:$HS$141,情報!$AH$8)+COUNTIFS(入力!$HT$7:$HT$141,入力!E28,入力!$HW$7:$HW$141,情報!$AH$8)","v":0},{"$f":"COUNTIFS(入力!$IJ$7:$IJ$141,入力!E28,入力!$IM$7:$IM$141,情報!$AH$8)+COUNTIFS(入力!$IN$7:$IN$141,入力!E28,入力!$IQ$7:$IQ$141,情報!$AH$8)","v":0},null,{"$f":"情報!AK8","v":"3H"},{"$f":"IF($AL$6=\"\",\"\",VLOOKUP($AL$6,入力!$A$28:$C$34,3,FALSE))","v":""},{"$f":"IF(入力!$E$28=\"\",\"\",入力!$E$28)","v":""},{"$f":"SUM(BV33:CG33)","v":0},{"$f":"COUNTIFS(入力!$X$7:$X$141,入力!E28,入力!$W$7:$W$141,情報!$AK$8)","v":0},{"$f":"COUNTIFS(入力!$AR$7:$AR$141,入力!E28,入力!$AQ$7:$AQ$141,情報!$AK$8)","v":0},{"$f":"COUNTIFS(入力!$BL$7:$BL$141,入力!E28,入力!$BK$7:$BK$141,情報!$AK$8)","v":0},{"$f":"COUNTIFS(入力!$CF$7:$CF$141,入力!E28,入力!$CE$7:$CE$141,情報!$AK$8)","v":0},{"$f":"COUNTIFS(入力!$CZ$7:$CZ$141,入力!E28,入力!$CY$7:$CY$141,情報!$AK$8)","v":0},{"$f":"COUNTIFS(入力!$DT$7:$DT$141,入力!E28,入力!$DS$7:$DS$141,情報!$AK$8)","v":0},{"$f":"COUNTIFS(入力!$EN$7:$EN$141,入力!E28,入力!$EM$7:$EM$141,情報!$AK$8)","v":0},{"$f":"COUNTIFS(入力!$FH$7:$FH$141,入力!E28,入力!$FG$7:$FG$141,情報!$AK$8)","v":0},{"$f":"COUNTIFS(入力!$GB$7:$GB$141,入力!E28,入力!$GA$7:$GA$141,情報!$AK$8)","v":0},{"$f":"COUNTIFS(入力!$GV$7:$GV$141,入力!E28,入力!$GU$7:$GU$141,情報!$AK$8)","v":0},{"$f":"COUNTIFS(入力!$HP$7:$HP$141,入力!E28,入力!$HO$7:$HO$141,情報!$AK$8)","v":0},{"$f":"COUNTIFS(入力!$IJ$7:$IJ$141,入力!E28,入力!$II$7:$II$141,情報!$AK$8)","v":0}]
[null,null,null,null,null,null,null,null,null,null,null,null,null,null,null,null,null,null,null,null,null,null,null,null,null,null,null,null,null,null,null,null,null,null,null,null,{"$f":"IF($AL$7=\"\",\"\",VLOOKUP($AL$7,入力!$A$28:$C$34,3,FALSE))","v":""},{"$f":"IF(入力!$E$29=\"\",\"\",入力!$E$29)","v":""},{"$f":"SUM(AN34:AY34)","v":0},{"$f":"COUNTIFS(入力!$X$7:$X$141,入力!E29,入力!$Z$7:$Z$141,情報!$AE$7)+COUNTIFS(入力!$AB$7:$AB$141,入力!E29,入力!$AD$7:$AD$141,情報!$AE$7)","v":0},{"$f":"COUNTIFS(入力!$AR$7:$AR$141,入力!E29,入力!$AT$7:$AT$141,情報!$AE$7)+COUNTIFS(入力!$AV$7:$AV$141,入力!E29,入力!$AX$7:$AX$141,情報!$AE$7)","v":0},{"$f":"COUNTIFS(入力!$BL$7:$BL$141,入力!E29,入力!$BN$7:$BN$141,情報!$AE$7)+COUNTIFS(入力!$BP$7:$BP$141,入力!E29,入力!$BR$7:$BR$141,情報!$AE$7)","v":0},{"$f":"COUNTIFS(入力!$CF$7:$CF$141,入力!E29,入力!$CH$7:$CH$141,情報!$AE$7)+COUNTIFS(入力!$CJ$7:$CJ$141,入力!E29,入力!$CL$7:$CL$141,情報!$AE$7)","v":0},{"$f":"COUNTIFS(入力!$CZ$7:$CZ$141,入力!E29,入力!$DB$7:$DB$141,情報!$AE$7)+COUNTIFS(入力!$DD$7:$DD$141,入力!E29,入力!$DF$7:$DF$141,情報!$AE$7)","v":0},{"$f":"COUNTIFS(入力!$DT$7:$DT$141,入力!E29,入力!$DV$7:$DV$141,情報!$AE$7)+COUNTIFS(入力!$DX$7:$DX$141,入力!E29,入力!$DZ$7:$DZ$141,情報!$AE$7)","v":0},{"$f":"COUNTIFS(入力!$EN$7:$EN$141,入力!E29,入力!$EP$7:$EP$141,情報!$AE$7)+COUNTIFS(入力!$ER$7:$ER$141,入力!E29,入力!$ET$7:$ET$141,情報!$AE$7)","v":0},{"$f":"COUNTIFS(入力!$FH$7:$FH$141,入力!E29,入力!$FJ$7:$FJ$141,情報!$AE$7)+COUNTIFS(入力!$FL$7:$FL$141,入力!E29,入力!$FN$7:$FN$141,情報!$AE$7)","v":0},{"$f":"COUNTIFS(入力!$GB$7:$GB$141,入力!E29,入力!$GD$7:$GD$141,情報!$AE$7)+COUNTIFS(入力!$GF$7:$GF$141,入力!E29,入力!$GH$7:$GH$141,情報!$AE$7)","v":0},{"$f":"COUNTIFS(入力!$GV$7:$GV$141,入力!E29,入力!$GX$7:$GX$141,情報!$AE$7)+COUNTIFS(入力!$GH$7:$GH$141,入力!E29,入力!$HB$7:$HB$141,情報!$AE$7)","v":0},{"$f":"COUNTIFS(入力!$HP$7:$HP$141,入力!E29,入力!$HR$7:$HR$141,情報!$AE$7)+COUNTIFS(入力!$HT$7:$HT$141,入力!E29,入力!$HV$7:$HV$141,情報!$AE$7)","v":0},{"$f":"COUNTIFS(入力!$IJ$7:$IJ$141,入力!E29,入力!$IL$7:$IL$141,情報!$AE$7)+COUNTIFS(入力!$IN$7:$IN$141,入力!E29,入力!$IP$7:$IP$141,情報!$AE$7)","v":0},null,null,{"$f":"IF($AL$7=\"\",\"\",VLOOKUP($AL$7,入力!$A$28:$C$34,3,FALSE))","v":""},{"$f":"IF(入力!$E$29=\"\",\"\",入力!$E$29)","v":""},0,{"$f":"COUNTIFS(入力!$X$7:$X$141,入力!E29,入力!$AA$7:$AA$141,情報!$AH$8)+COUNTIFS(入力!$AB$7:$AB$141,入力!E29,入力!$AE$7:$AE$141,情報!$AH$8)","v":0},{"$f":"COUNTIFS(入力!$AR$7:$AR$141,入力!E29,入力!$AU$7:$AU$141,情報!$AH$8)+COUNTIFS(入力!$AV$7:$AV$141,入力!E29,入力!$AY$7:$AY$141,情報!$AH$8)","v":0},{"$f":"COUNTIFS(入力!$BL$7:$BL$141,入力!E29,入力!$BO$7:$BO$141,情報!$AH$8)+COUNTIFS(入力!$BP$7:$BP$141,入力!E29,入力!$BS$7:$BS$141,情報!$AH$8)","v":0},{"$f":"COUNTIFS(入力!$CF$7:$CF$141,入力!E29,入力!$CI$7:$CI$141,情報!$AH$8)+COUNTIFS(入力!$CJ$7:$CJ$141,入力!E29,入力!$CM$7:$CM$141,情報!$AH$8)","v":0},{"$f":"COUNTIFS(入力!$CZ$7:$CZ$141,入力!E29,入力!$DC$7:$DC$141,情報!$AH$8)+COUNTIFS(入力!$DD$7:$DD$141,入力!E29,入力!$DG$7:$DG$141,情報!$AH$8)","v":0},{"$f":"COUNTIFS(入力!$DT$7:$DT$141,入力!E29,入力!$DW$7:$DW$141,情報!$AH$8)+COUNTIFS(入力!$DX$7:$DX$141,入力!E29,入力!$EA$7:$EA$141,情報!$AH$8)","v":0},{"$f":"COUNTIFS(入力!$EN$7:$EN$141,入力!E29,入力!$EQ$7:$EQ$141,情報!$AH$8)+COUNTIFS(入力!$ER$7:$ER$141,入力!E29,入力!$EU$7:$EU$141,情報!$AH$8)","v":0},{"$f":"COUNTIFS(入力!$FH$7:$FH$141,入力!E29,入力!$FK$7:$FK$141,情報!$AH$8)+COUNTIFS(入力!$FL$7:$FL$141,入力!E29,入力!$FO$7:$FO$141,情報!$AH$8)","v":0},{"$f":"COUNTIFS(入力!$GB$7:$GB$141,入力!E29,入力!$GE$7:$GE$141,情報!$AH$8)+COUNTIFS(入力!$GF$7:$GF$141,入力!E29,入力!$GI$7:$GI$141,情報!$AH$8)","v":0},{"$f":"COUNTIFS(入力!$GV$7:$GV$141,入力!E29,入力!$GY$7:$GY$141,情報!$AH$8)+COUNTIFS(入力!$GZ$7:$GZ$141,入力!E29,入力!$HC$7:$HC$141,情報!$AH$8)","v":0},{"$f":"COUNTIFS(入力!$HP$7:$HP$141,入力!E29,入力!$HS$7:$HS$141,情報!$AH$8)+COUNTIFS(入力!$HT$7:$HT$141,入力!E29,入力!$HW$7:$HW$141,情報!$AH$8)","v":0},{"$f":"COUNTIFS(入力!$IJ$7:$IJ$141,入力!E29,入力!$IM$7:$IM$141,情報!$AH$8)+COUNTIFS(入力!$IN$7:$IN$141,入力!E29,入力!$IQ$7:$IQ$141,情報!$AH$8)","v":0},null,null,{"$f":"IF($AL$7=\"\",\"\",VLOOKUP($AL$7,入力!$A$28:$C$34,3,FALSE))","v":""},{"$f":"IF(入力!$E$29=\"\",\"\",入力!$E$29)","v":""},{"$f":"SUM(BV34:CG34)","v":0},{"$f":"COUNTIFS(入力!$X$7:$X$141,入力!E29,入力!$W$7:$W$141,情報!$AK$8)","v":0},{"$f":"COUNTIFS(入力!$AR$7:$AR$141,入力!E29,入力!$AQ$7:$AQ$141,情報!$AK$8)","v":0},{"$f":"COUNTIFS(入力!$BL$7:$BL$141,入力!E29,入力!$BK$7:$BK$141,情報!$AK$8)","v":0},{"$f":"COUNTIFS(入力!$CF$7:$CF$141,入力!E29,入力!$CE$7:$CE$141,情報!$AK$8)","v":0},{"$f":"COUNTIFS(入力!$CZ$7:$CZ$141,入力!E29,入力!$CY$7:$CY$141,情報!$AK$8)","v":0},{"$f":"COUNTIFS(入力!$DT$7:$DT$141,入力!E29,入力!$DS$7:$DS$141,情報!$AK$8)","v":0},{"$f":"COUNTIFS(入力!$EN$7:$EN$141,入力!E29,入力!$EM$7:$EM$141,情報!$AK$8)","v":0},{"$f":"COUNTIFS(入力!$FH$7:$FH$141,入力!E29,入力!$FG$7:$FG$141,情報!$AK$8)","v":0},{"$f":"COUNTIFS(入力!$GB$7:$GB$141,入力!E29,入力!$GA$7:$GA$141,情報!$AK$8)","v":0},{"$f":"COUNTIFS(入力!$GV$7:$GV$141,入力!E29,入力!$GU$7:$GU$141,情報!$AK$8)","v":0},{"$f":"COUNTIFS(入力!$HP$7:$HP$141,入力!E29,入力!$HO$7:$HO$141,情報!$AK$8)","v":0},{"$f":"COUNTIFS(入力!$IJ$7:$IJ$141,入力!E29,入力!$II$7:$II$141,情報!$AK$8)","v":0}]
[null,null,null,null,null,null,null,null,null,null,null,null,null,null,null,null,null,null,null,null,null,null,null,null,null,null,null,null,null,null,null,null,null,null,null,null,{"$f":"IF($AL$8=\"\",\"\",VLOOKUP($AL$8,入力!$A$28:$C$34,3,FALSE))","v":""},{"$f":"IF(入力!$E$30=\"\",\"\",入力!$E$30)","v":""},0,{"$f":"COUNTIFS(入力!$X$7:$X$141,入力!E30,入力!$Z$7:$Z$141,情報!$AE$7)+COUNTIFS(入力!$AB$7:$AB$141,入力!E30,入力!$AD$7:$AD$141,情報!$AE$7)","v":0},{"$f":"COUNTIFS(入力!$AR$7:$AR$141,入力!E30,入力!$AT$7:$AT$141,情報!$AE$7)+COUNTIFS(入力!$AV$7:$AV$141,入力!E30,入力!$AX$7:$AX$141,情報!$AE$7)","v":0},{"$f":"COUNTIFS(入力!$BL$7:$BL$141,入力!E30,入力!$BN$7:$BN$141,情報!$AE$7)+COUNTIFS(入力!$BP$7:$BP$141,入力!E30,入力!$BR$7:$BR$141,情報!$AE$7)","v":0},{"$f":"COUNTIFS(入力!$CF$7:$CF$141,入力!E30,入力!$CH$7:$CH$141,情報!$AE$7)+COUNTIFS(入力!$CJ$7:$CJ$141,入力!E30,入力!$CL$7:$CL$141,情報!$AE$7)","v":0},{"$f":"COUNTIFS(入力!$CZ$7:$CZ$141,入力!E30,入力!$DB$7:$DB$141,情報!$AE$7)+COUNTIFS(入力!$DD$7:$DD$141,入力!E30,入力!$DF$7:$DF$141,情報!$AE$7)","v":0},{"$f":"COUNTIFS(入力!$DT$7:$DT$141,入力!E30,入力!$DV$7:$DV$141,情報!$AE$7)+COUNTIFS(入力!$DX$7:$DX$141,入力!E30,入力!$DZ$7:$DZ$141,情報!$AE$7)","v":0},{"$f":"COUNTIFS(入力!$EN$7:$EN$141,入力!E30,入力!$EP$7:$EP$141,情報!$AE$7)+COUNTIFS(入力!$ER$7:$ER$141,入力!E30,入力!$ET$7:$ET$141,情報!$AE$7)","v":0},{"$f":"COUNTIFS(入力!$FH$7:$FH$141,入力!E30,入力!$FJ$7:$FJ$141,情報!$AE$7)+COUNTIFS(入力!$FL$7:$FL$141,入力!E30,入力!$FN$7:$FN$141,情報!$AE$7)","v":0},{"$f":"COUNTIFS(入力!$GB$7:$GB$141,入力!E30,入力!$GD$7:$GD$141,情報!$AE$7)+COUNTIFS(入力!$GF$7:$GF$141,入力!E30,入力!$GH$7:$GH$141,情報!$AE$7)","v":0},{"$f":"COUNTIFS(入力!$GV$7:$GV$141,入力!E30,入力!$GX$7:$GX$141,情報!$AE$7)+COUNTIFS(入力!$GH$7:$GH$141,入力!E30,入力!$HB$7:$HB$141,情報!$AE$7)","v":0},{"$f":"COUNTIFS(入力!$HP$7:$HP$141,入力!E30,入力!$HR$7:$HR$141,情報!$AE$7)+COUNTIFS(入力!$HT$7:$HT$141,入力!E30,入力!$HV$7:$HV$141,情報!$AE$7)","v":0},{"$f":"COUNTIFS(入力!$IJ$7:$IJ$141,入力!E30,入力!$IL$7:$IL$141,情報!$AE$7)+COUNTIFS(入力!$IN$7:$IN$141,入力!E30,入力!$IP$7:$IP$141,情報!$AE$7)","v":0},null,null,{"$f":"IF($AL$8=\"\",\"\",VLOOKUP($AL$8,入力!$A$28:$C$34,3,FALSE))","v":""},{"$f":"IF(入力!$E$30=\"\",\"\",入力!$E$30)","v":""},0,{"$f":"COUNTIFS(入力!$X$7:$X$141,入力!E30,入力!$AA$7:$AA$141,情報!$AH$8)+COUNTIFS(入力!$AB$7:$AB$141,入力!E30,入力!$AE$7:$AE$141,情報!$AH$8)","v":0},{"$f":"COUNTIFS(入力!$AR$7:$AR$141,入力!E30,入力!$AU$7:$AU$141,情報!$AH$8)+COUNTIFS(入力!$AV$7:$AV$141,入力!E30,入力!$AY$7:$AY$141,情報!$AH$8)","v":0},{"$f":"COUNTIFS(入力!$BL$7:$BL$141,入力!E30,入力!$BO$7:$BO$141,情報!$AH$8)+COUNTIFS(入力!$BP$7:$BP$141,入力!E30,入力!$BS$7:$BS$141,情報!$AH$8)","v":0},{"$f":"COUNTIFS(入力!$CF$7:$CF$141,入力!E30,入力!$CI$7:$CI$141,情報!$AH$8)+COUNTIFS(入力!$CJ$7:$CJ$141,入力!E30,入力!$CM$7:$CM$141,情報!$AH$8)","v":0},{"$f":"COUNTIFS(入力!$CZ$7:$CZ$141,入力!E30,入力!$DC$7:$DC$141,情報!$AH$8)+COUNTIFS(入力!$DD$7:$DD$141,入力!E30,入力!$DG$7:$DG$141,情報!$AH$8)","v":0},{"$f":"COUNTIFS(入力!$DT$7:$DT$141,入力!E30,入力!$DW$7:$DW$141,情報!$AH$8)+COUNTIFS(入力!$DX$7:$DX$141,入力!E30,入力!$EA$7:$EA$141,情報!$AH$8)","v":0},{"$f":"COUNTIFS(入力!$EN$7:$EN$141,入力!E30,入力!$EQ$7:$EQ$141,情報!$AH$8)+COUNTIFS(入力!$ER$7:$ER$141,入力!E30,入力!$EU$7:$EU$141,情報!$AH$8)","v":0},{"$f":"COUNTIFS(入力!$FH$7:$FH$141,入力!E30,入力!$FK$7:$FK$141,情報!$AH$8)+COUNTIFS(入力!$FL$7:$FL$141,入力!E30,入力!$FO$7:$FO$141,情報!$AH$8)","v":0},{"$f":"COUNTIFS(入力!$GB$7:$GB$141,入力!E30,入力!$GE$7:$GE$141,情報!$AH$8)+COUNTIFS(入力!$GF$7:$GF$141,入力!E30,入力!$GI$7:$GI$141,情報!$AH$8)","v":0},{"$f":"COUNTIFS(入力!$GV$7:$GV$141,入力!E30,入力!$GY$7:$GY$141,情報!$AH$8)+COUNTIFS(入力!$GZ$7:$GZ$141,入力!E30,入力!$HC$7:$HC$141,情報!$AH$8)","v":0},{"$f":"COUNTIFS(入力!$HP$7:$HP$141,入力!E30,入力!$HS$7:$HS$141,情報!$AH$8)+COUNTIFS(入力!$HT$7:$HT$141,入力!E30,入力!$HW$7:$HW$141,情報!$AH$8)","v":0},{"$f":"COUNTIFS(入力!$IJ$7:$IJ$141,入力!E30,入力!$IM$7:$IM$141,情報!$AH$8)+COUNTIFS(入力!$IN$7:$IN$141,入力!E30,入力!$IQ$7:$IQ$141,情報!$AH$8)","v":0},null,null,{"$f":"IF($AL$8=\"\",\"\",VLOOKUP($AL$8,入力!$A$28:$C$34,3,FALSE))","v":""},{"$f":"IF(入力!$E$30=\"\",\"\",入力!$E$30)","v":""},0,{"$f":"COUNTIFS(入力!$X$7:$X$141,入力!E30,入力!$W$7:$W$141,情報!$AK$8)","v":0},{"$f":"COUNTIFS(入力!$AR$7:$AR$141,入力!E30,入力!$AQ$7:$AQ$141,情報!$AK$8)","v":0},{"$f":"COUNTIFS(入力!$BL$7:$BL$141,入力!E30,入力!$BK$7:$BK$141,情報!$AK$8)","v":0},{"$f":"COUNTIFS(入力!$CF$7:$CF$141,入力!E30,入力!$CE$7:$CE$141,情報!$AK$8)","v":0},{"$f":"COUNTIFS(入力!$CZ$7:$CZ$141,入力!E30,入力!$CY$7:$CY$141,情報!$AK$8)","v":0},{"$f":"COUNTIFS(入力!$DT$7:$DT$141,入力!E30,入力!$DS$7:$DS$141,情報!$AK$8)","v":0},{"$f":"COUNTIFS(入力!$EN$7:$EN$141,入力!E30,入力!$EM$7:$EM$141,情報!$AK$8)","v":0},{"$f":"COUNTIFS(入力!$FH$7:$FH$141,入力!E30,入力!$FG$7:$FG$141,情報!$AK$8)","v":0},{"$f":"COUNTIFS(入力!$GB$7:$GB$141,入力!E30,入力!$GA$7:$GA$141,情報!$AK$8)","v":0},{"$f":"COUNTIFS(入力!$GV$7:$GV$141,入力!E30,入力!$GU$7:$GU$141,情報!$AK$8)","v":0},{"$f":"COUNTIFS(入力!$HP$7:$HP$141,入力!E30,入力!$HO$7:$HO$141,情報!$AK$8)","v":0},{"$f":"COUNTIFS(入力!$IJ$7:$IJ$141,入力!E30,入力!$II$7:$II$141,情報!$AK$8)","v":0}]
[null,null,null,null,null,null,null,null,null,null,null,null,null,null,null,null,null,null,null,null,null,null,null,null,null,null,null,null,null,null,null,null,null,null,null,null,{"$f":"IF($AL$9=\"\",\"\",VLOOKUP($AL$9,入力!$A$28:$C$34,3,FALSE))","v":""},{"$f":"IF(入力!$E$31=\"\",\"\",入力!E58)","v":""},0,{"$f":"COUNTIFS(入力!$X$7:$X$141,入力!E31,入力!$Z$7:$Z$141,情報!$AE$7)+COUNTIFS(入力!$AB$7:$AB$141,入力!E31,入力!$AD$7:$AD$141,情報!$AE$7)","v":0},{"$f":"COUNTIFS(入力!$AR$7:$AR$141,入力!E31,入力!$AT$7:$AT$141,情報!$AE$7)+COUNTIFS(入力!$AV$7:$AV$141,入力!E31,入力!$AX$7:$AX$141,情報!$AE$7)","v":0},{"$f":"COUNTIFS(入力!$BL$7:$BL$141,入力!E31,入力!$BN$7:$BN$141,情報!$AE$7)+COUNTIFS(入力!$BP$7:$BP$141,入力!E31,入力!$BR$7:$BR$141,情報!$AE$7)","v":0},{"$f":"COUNTIFS(入力!$CF$7:$CF$141,入力!E31,入力!$CH$7:$CH$141,情報!$AE$7)+COUNTIFS(入力!$CJ$7:$CJ$141,入力!E31,入力!$CL$7:$CL$141,情報!$AE$7)","v":0},{"$f":"COUNTIFS(入力!$CZ$7:$CZ$141,入力!E31,入力!$DB$7:$DB$141,情報!$AE$7)+COUNTIFS(入力!$DD$7:$DD$141,入力!E31,入力!$DF$7:$DF$141,情報!$AE$7)","v":0},{"$f":"COUNTIFS(入力!$DT$7:$DT$141,入力!E31,入力!$DV$7:$DV$141,情報!$AE$7)+COUNTIFS(入力!$DX$7:$DX$141,入力!E31,入力!$DZ$7:$DZ$141,情報!$AE$7)","v":0},{"$f":"COUNTIFS(入力!$EN$7:$EN$141,入力!E31,入力!$EP$7:$EP$141,情報!$AE$7)+COUNTIFS(入力!$ER$7:$ER$141,入力!E31,入力!$ET$7:$ET$141,情報!$AE$7)","v":0},{"$f":"COUNTIFS(入力!$FH$7:$FH$141,入力!E31,入力!$FJ$7:$FJ$141,情報!$AE$7)+COUNTIFS(入力!$FL$7:$FL$141,入力!E31,入力!$FN$7:$FN$141,情報!$AE$7)","v":0},{"$f":"COUNTIFS(入力!$GB$7:$GB$141,入力!E31,入力!$GD$7:$GD$141,情報!$AE$7)+COUNTIFS(入力!$GF$7:$GF$141,入力!E31,入力!$GH$7:$GH$141,情報!$AE$7)","v":0},{"$f":"COUNTIFS(入力!$GV$7:$GV$141,入力!E31,入力!$GX$7:$GX$141,情報!$AE$7)+COUNTIFS(入力!$GH$7:$GH$141,入力!E31,入力!$HB$7:$HB$141,情報!$AE$7)","v":0},{"$f":"COUNTIFS(入力!$HP$7:$HP$141,入力!E31,入力!$HR$7:$HR$141,情報!$AE$7)+COUNTIFS(入力!$HT$7:$HT$141,入力!E31,入力!$HV$7:$HV$141,情報!$AE$7)","v":0},{"$f":"COUNTIFS(入力!$IJ$7:$IJ$141,入力!E31,入力!$IL$7:$IL$141,情報!$AE$7)+COUNTIFS(入力!$IN$7:$IN$141,入力!E31,入力!$IP$7:$IP$141,情報!$AE$7)","v":0},null,null,{"$f":"IF($AL$9=\"\",\"\",VLOOKUP($AL$9,入力!$A$28:$C$34,3,FALSE))","v":""},{"$f":"IF(入力!$E$31=\"\",\"\",入力!V58)","v":""},0,{"$f":"COUNTIFS(入力!$X$7:$X$141,入力!E31,入力!$AA$7:$AA$141,情報!$AH$8)+COUNTIFS(入力!$AB$7:$AB$141,入力!E31,入力!$AE$7:$AE$141,情報!$AH$8)","v":0},{"$f":"COUNTIFS(入力!$AR$7:$AR$141,入力!E31,入力!$AU$7:$AU$141,情報!$AH$8)+COUNTIFS(入力!$AV$7:$AV$141,入力!E31,入力!$AY$7:$AY$141,情報!$AH$8)","v":0},{"$f":"COUNTIFS(入力!$BL$7:$BL$141,入力!E31,入力!$BO$7:$BO$141,情報!$AH$8)+COUNTIFS(入力!$BP$7:$BP$141,入力!E31,入力!$BS$7:$BS$141,情報!$AH$8)","v":0},{"$f":"COUNTIFS(入力!$CF$7:$CF$141,入力!E31,入力!$CI$7:$CI$141,情報!$AH$8)+COUNTIFS(入力!$CJ$7:$CJ$141,入力!E31,入力!$CM$7:$CM$141,情報!$AH$8)","v":0},{"$f":"COUNTIFS(入力!$CZ$7:$CZ$141,入力!E31,入力!$DC$7:$DC$141,情報!$AH$8)+COUNTIFS(入力!$DD$7:$DD$141,入力!E31,入力!$DG$7:$DG$141,情報!$AH$8)","v":0},{"$f":"COUNTIFS(入力!$DT$7:$DT$141,入力!E31,入力!$DW$7:$DW$141,情報!$AH$8)+COUNTIFS(入力!$DX$7:$DX$141,入力!E31,入力!$EA$7:$EA$141,情報!$AH$8)","v":0},{"$f":"COUNTIFS(入力!$EN$7:$EN$141,入力!E31,入力!$EQ$7:$EQ$141,情報!$AH$8)+COUNTIFS(入力!$ER$7:$ER$141,入力!E31,入力!$EU$7:$EU$141,情報!$AH$8)","v":0},{"$f":"COUNTIFS(入力!$FH$7:$FH$141,入力!E31,入力!$FK$7:$FK$141,情報!$AH$8)+COUNTIFS(入力!$FL$7:$FL$141,入力!E31,入力!$FO$7:$FO$141,情報!$AH$8)","v":0},{"$f":"COUNTIFS(入力!$GB$7:$GB$141,入力!E31,入力!$GE$7:$GE$141,情報!$AH$8)+COUNTIFS(入力!$GF$7:$GF$141,入力!E31,入力!$GI$7:$GI$141,情報!$AH$8)","v":0},{"$f":"COUNTIFS(入力!$GV$7:$GV$141,入力!E31,入力!$GY$7:$GY$141,情報!$AH$8)+COUNTIFS(入力!$GZ$7:$GZ$141,入力!E31,入力!$HC$7:$HC$141,情報!$AH$8)","v":0},{"$f":"COUNTIFS(入力!$HP$7:$HP$141,入力!E31,入力!$HS$7:$HS$141,情報!$AH$8)+COUNTIFS(入力!$HT$7:$HT$141,入力!E31,入力!$HW$7:$HW$141,情報!$AH$8)","v":0},{"$f":"COUNTIFS(入力!$IJ$7:$IJ$141,入力!E31,入力!$IM$7:$IM$141,情報!$AH$8)+COUNTIFS(入力!$IN$7:$IN$141,入力!E31,入力!$IQ$7:$IQ$141,情報!$AH$8)","v":0},null,null,{"$f":"IF($AL$9=\"\",\"\",VLOOKUP($AL$9,入力!$A$28:$C$34,3,FALSE))","v":""},{"$f":"IF(入力!$E$31=\"\",\"\",入力!AM58)","v":""},0,{"$f":"COUNTIFS(入力!$X$7:$X$141,入力!E31,入力!$W$7:$W$141,情報!$AK$8)","v":0},{"$f":"COUNTIFS(入力!$AR$7:$AR$141,入力!E31,入力!$AQ$7:$AQ$141,情報!$AK$8)","v":0},{"$f":"COUNTIFS(入力!$BL$7:$BL$141,入力!E31,入力!$BK$7:$BK$141,情報!$AK$8)","v":0},{"$f":"COUNTIFS(入力!$CF$7:$CF$141,入力!E31,入力!$CE$7:$CE$141,情報!$AK$8)","v":0},{"$f":"COUNTIFS(入力!$CZ$7:$CZ$141,入力!E31,入力!$CY$7:$CY$141,情報!$AK$8)","v":0},{"$f":"COUNTIFS(入力!$DT$7:$DT$141,入力!E31,入力!$DS$7:$DS$141,情報!$AK$8)","v":0},{"$f":"COUNTIFS(入力!$EN$7:$EN$141,入力!E31,入力!$EM$7:$EM$141,情報!$AK$8)","v":0},{"$f":"COUNTIFS(入力!$FH$7:$FH$141,入力!E31,入力!$FG$7:$FG$141,情報!$AK$8)","v":0},{"$f":"COUNTIFS(入力!$GB$7:$GB$141,入力!E31,入力!$GA$7:$GA$141,情報!$AK$8)","v":0},{"$f":"COUNTIFS(入力!$GV$7:$GV$141,入力!E31,入力!$GU$7:$GU$141,情報!$AK$8)","v":0},{"$f":"COUNTIFS(入力!$HP$7:$HP$141,入力!E31,入力!$HO$7:$HO$141,情報!$AK$8)","v":0},{"$f":"COUNTIFS(入力!$IJ$7:$IJ$141,入力!E31,入力!$II$7:$II$141,情報!$AK$8)","v":0}]
[null,null,null,null,null,null,null,null,null,null,null,null,null,null,null,null,null,null,null,null,null,null,null,null,null,null,null,null,null,null,null,null,null,null,null,null,{"$f":"IF($AL$10=\"\",\"\",VLOOKUP($AL$10,入力!$A$28:$C$34,3,FALSE))","v":""},{"$f":"IF(入力!$E$32=\"\",\"\",入力!$E$32)","v":""},0,{"$f":"COUNTIFS(入力!$X$7:$X$141,入力!E32,入力!$Z$7:$Z$141,情報!$AE$7)+COUNTIFS(入力!$AB$7:$AB$141,入力!E32,入力!$AD$7:$AD$141,情報!$AE$7)","v":0},{"$f":"COUNTIFS(入力!$AR$7:$AR$141,入力!E32,入力!$AT$7:$AT$141,情報!$AE$7)+COUNTIFS(入力!$AV$7:$AV$141,入力!E32,入力!$AX$7:$AX$141,情報!$AE$7)","v":0},{"$f":"COUNTIFS(入力!$BL$7:$BL$141,入力!E32,入力!$BN$7:$BN$141,情報!$AE$7)+COUNTIFS(入力!$BP$7:$BP$141,入力!E32,入力!$BR$7:$BR$141,情報!$AE$7)","v":0},{"$f":"COUNTIFS(入力!$CF$7:$CF$141,入力!E32,入力!$CH$7:$CH$141,情報!$AE$7)+COUNTIFS(入力!$CJ$7:$CJ$141,入力!E32,入力!$CL$7:$CL$141,情報!$AE$7)","v":0},{"$f":"COUNTIFS(入力!$CZ$7:$CZ$141,入力!E32,入力!$DB$7:$DB$141,情報!$AE$7)+COUNTIFS(入力!$DD$7:$DD$141,入力!E32,入力!$DF$7:$DF$141,情報!$AE$7)","v":0},{"$f":"COUNTIFS(入力!$DT$7:$DT$141,入力!E32,入力!$DV$7:$DV$141,情報!$AE$7)+COUNTIFS(入力!$DX$7:$DX$141,入力!E32,入力!$DZ$7:$DZ$141,情報!$AE$7)","v":0},{"$f":"COUNTIFS(入力!$EN$7:$EN$141,入力!E32,入力!$EP$7:$EP$141,情報!$AE$7)+COUNTIFS(入力!$ER$7:$ER$141,入力!E32,入力!$ET$7:$ET$141,情報!$AE$7)","v":0},{"$f":"COUNTIFS(入力!$FH$7:$FH$141,入力!E32,入力!$FJ$7:$FJ$141,情報!$AE$7)+COUNTIFS(入力!$FL$7:$FL$141,入力!E32,入力!$FN$7:$FN$141,情報!$AE$7)","v":0},{"$f":"COUNTIFS(入力!$GB$7:$GB$141,入力!E32,入力!$GD$7:$GD$141,情報!$AE$7)+COUNTIFS(入力!$GF$7:$GF$141,入力!E32,入力!$GH$7:$GH$141,情報!$AE$7)","v":0},{"$f":"COUNTIFS(入力!$GV$7:$GV$141,入力!E32,入力!$GX$7:$GX$141,情報!$AE$7)+COUNTIFS(入力!$GH$7:$GH$141,入力!E32,入力!$HB$7:$HB$141,情報!$AE$7)","v":0},{"$f":"COUNTIFS(入力!$HP$7:$HP$141,入力!E32,入力!$HR$7:$HR$141,情報!$AE$7)+COUNTIFS(入力!$HT$7:$HT$141,入力!E32,入力!$HV$7:$HV$141,情報!$AE$7)","v":0},{"$f":"COUNTIFS(入力!$IJ$7:$IJ$141,入力!E32,入力!$IL$7:$IL$141,情報!$AE$7)+COUNTIFS(入力!$IN$7:$IN$141,入力!E32,入力!$IP$7:$IP$141,情報!$AE$7)","v":0},null,null,{"$f":"IF($AL$10=\"\",\"\",VLOOKUP($AL$10,入力!$A$28:$C$34,3,FALSE))","v":""},{"$f":"IF(入力!$E$32=\"\",\"\",入力!$E$32)","v":""},0,{"$f":"COUNTIFS(入力!$X$7:$X$141,入力!E32,入力!$AA$7:$AA$141,情報!$AH$8)+COUNTIFS(入力!$AB$7:$AB$141,入力!E32,入力!$AE$7:$AE$141,情報!$AH$8)","v":0},{"$f":"COUNTIFS(入力!$AR$7:$AR$141,入力!E32,入力!$AU$7:$AU$141,情報!$AH$8)+COUNTIFS(入力!$AV$7:$AV$141,入力!E32,入力!$AY$7:$AY$141,情報!$AH$8)","v":0},{"$f":"COUNTIFS(入力!$BL$7:$BL$141,入力!E32,入力!$BO$7:$BO$141,情報!$AH$8)+COUNTIFS(入力!$BP$7:$BP$141,入力!E32,入力!$BS$7:$BS$141,情報!$AH$8)","v":0},{"$f":"COUNTIFS(入力!$CF$7:$CF$141,入力!E32,入力!$CI$7:$CI$141,情報!$AH$8)+COUNTIFS(入力!$CJ$7:$CJ$141,入力!E32,入力!$CM$7:$CM$141,情報!$AH$8)","v":0},{"$f":"COUNTIFS(入力!$CZ$7:$CZ$141,入力!E32,入力!$DC$7:$DC$141,情報!$AH$8)+COUNTIFS(入力!$DD$7:$DD$141,入力!E32,入力!$DG$7:$DG$141,情報!$AH$8)","v":0},{"$f":"COUNTIFS(入力!$DT$7:$DT$141,入力!E32,入力!$DW$7:$DW$141,情報!$AH$8)+COUNTIFS(入力!$DX$7:$DX$141,入力!E32,入力!$EA$7:$EA$141,情報!$AH$8)","v":0},{"$f":"COUNTIFS(入力!$EN$7:$EN$141,入力!E32,入力!$EQ$7:$EQ$141,情報!$AH$8)+COUNTIFS(入力!$ER$7:$ER$141,入力!E32,入力!$EU$7:$EU$141,情報!$AH$8)","v":0},{"$f":"COUNTIFS(入力!$FH$7:$FH$141,入力!E32,入力!$FK$7:$FK$141,情報!$AH$8)+COUNTIFS(入力!$FL$7:$FL$141,入力!E32,入力!$FO$7:$FO$141,情報!$AH$8)","v":0},{"$f":"COUNTIFS(入力!$GB$7:$GB$141,入力!E32,入力!$GE$7:$GE$141,情報!$AH$8)+COUNTIFS(入力!$GF$7:$GF$141,入力!E32,入力!$GI$7:$GI$141,情報!$AH$8)","v":0},{"$f":"COUNTIFS(入力!$GV$7:$GV$141,入力!E32,入力!$GY$7:$GY$141,情報!$AH$8)+COUNTIFS(入力!$GZ$7:$GZ$141,入力!E32,入力!$HC$7:$HC$141,情報!$AH$8)","v":0},{"$f":"COUNTIFS(入力!$HP$7:$HP$141,入力!E32,入力!$HS$7:$HS$141,情報!$AH$8)+COUNTIFS(入力!$HT$7:$HT$141,入力!E32,入力!$HW$7:$HW$141,情報!$AH$8)","v":0},{"$f":"COUNTIFS(入力!$IJ$7:$IJ$141,入力!E32,入力!$IM$7:$IM$141,情報!$AH$8)+COUNTIFS(入力!$IN$7:$IN$141,入力!E32,入力!$IQ$7:$IQ$141,情報!$AH$8)","v":0},null,null,{"$f":"IF($AL$10=\"\",\"\",VLOOKUP($AL$10,入力!$A$28:$C$34,3,FALSE))","v":""},{"$f":"IF(入力!$E$32=\"\",\"\",入力!$E$32)","v":""},0,{"$f":"COUNTIFS(入力!$X$7:$X$141,入力!E32,入力!$W$7:$W$141,情報!$AK$8)","v":0},{"$f":"COUNTIFS(入力!$AR$7:$AR$141,入力!E32,入力!$AQ$7:$AQ$141,情報!$AK$8)","v":0},{"$f":"COUNTIFS(入力!$BL$7:$BL$141,入力!E32,入力!$BK$7:$BK$141,情報!$AK$8)","v":0},{"$f":"COUNTIFS(入力!$CF$7:$CF$141,入力!E32,入力!$CE$7:$CE$141,情報!$AK$8)","v":0},{"$f":"COUNTIFS(入力!$CZ$7:$CZ$141,入力!E32,入力!$CY$7:$CY$141,情報!$AK$8)","v":0},{"$f":"COUNTIFS(入力!$DT$7:$DT$141,入力!E32,入力!$DS$7:$DS$141,情報!$AK$8)","v":0},{"$f":"COUNTIFS(入力!$EN$7:$EN$141,入力!E32,入力!$EM$7:$EM$141,情報!$AK$8)","v":0},{"$f":"COUNTIFS(入力!$FH$7:$FH$141,入力!E32,入力!$FG$7:$FG$141,情報!$AK$8)","v":0},{"$f":"COUNTIFS(入力!$GB$7:$GB$141,入力!E32,入力!$GA$7:$GA$141,情報!$AK$8)","v":0},{"$f":"COUNTIFS(入力!$GV$7:$GV$141,入力!E32,入力!$GU$7:$GU$141,情報!$AK$8)","v":0},{"$f":"COUNTIFS(入力!$HP$7:$HP$141,入力!E32,入力!$HO$7:$HO$141,情報!$AK$8)","v":0},{"$f":"COUNTIFS(入力!$IJ$7:$IJ$141,入力!E32,入力!$II$7:$II$141,情報!$AK$8)","v":0}]
[null,null,null,null,null,null,null,null,null,null,null,null,null,null,null,null,null,null,null,null,null,null,null,null,null,null,null,null,null,null,null,null,null,null,null,null,{"$f":"IF($AL$11=\"\",\"\",VLOOKUP($AL$11,入力!$A$28:$C$34,3,FALSE))","v":""},{"$f":"IF(入力!$E$33=\"\",\"\",入力!$E$33)","v":""},{"$f":"SUM(AN38:AY38)","v":0},{"$f":"COUNTIFS(入力!$X$7:$X$141,入力!E33,入力!$Z$7:$Z$141,情報!$AE$7)+COUNTIFS(入力!$AB$7:$AB$141,入力!E33,入力!$AD$7:$AD$141,情報!$AE$7)","v":0},{"$f":"COUNTIFS(入力!$AR$7:$AR$141,入力!E33,入力!$AT$7:$AT$141,情報!$AE$7)+COUNTIFS(入力!$AV$7:$AV$141,入力!E33,入力!$AX$7:$AX$141,情報!$AE$7)","v":0},{"$f":"COUNTIFS(入力!$BL$7:$BL$141,入力!E33,入力!$BN$7:$BN$141,情報!$AE$7)+COUNTIFS(入力!$BP$7:$BP$141,入力!E33,入力!$BR$7:$BR$141,情報!$AE$7)","v":0},{"$f":"COUNTIFS(入力!$CF$7:$CF$141,入力!E33,入力!$CH$7:$CH$141,情報!$AE$7)+COUNTIFS(入力!$CJ$7:$CJ$141,入力!E33,入力!$CL$7:$CL$141,情報!$AE$7)","v":0},{"$f":"COUNTIFS(入力!$CZ$7:$CZ$141,入力!E33,入力!$DB$7:$DB$141,情報!$AE$7)+COUNTIFS(入力!$DD$7:$DD$141,入力!E33,入力!$DF$7:$DF$141,情報!$AE$7)","v":0},{"$f":"COUNTIFS(入力!$DT$7:$DT$141,入力!E33,入力!$DV$7:$DV$141,情報!$AE$7)+COUNTIFS(入力!$DX$7:$DX$141,入力!E33,入力!$DZ$7:$DZ$141,情報!$AE$7)","v":0},{"$f":"COUNTIFS(入力!$EN$7:$EN$141,入力!E33,入力!$EP$7:$EP$141,情報!$AE$7)+COUNTIFS(入力!$ER$7:$ER$141,入力!E33,入力!$ET$7:$ET$141,情報!$AE$7)","v":0},{"$f":"COUNTIFS(入力!$FH$7:$FH$141,入力!E33,入力!$FJ$7:$FJ$141,情報!$AE$7)+COUNTIFS(入力!$FL$7:$FL$141,入力!E33,入力!$FN$7:$FN$141,情報!$AE$7)","v":0},{"$f":"COUNTIFS(入力!$GB$7:$GB$141,入力!E33,入力!$GD$7:$GD$141,情報!$AE$7)+COUNTIFS(入力!$GF$7:$GF$141,入力!E33,入力!$GH$7:$GH$141,情報!$AE$7)","v":0},{"$f":"COUNTIFS(入力!$GV$7:$GV$141,入力!E33,入力!$GX$7:$GX$141,情報!$AE$7)+COUNTIFS(入力!$GH$7:$GH$141,入力!E33,入力!$HB$7:$HB$141,情報!$AE$7)","v":0},{"$f":"COUNTIFS(入力!$HP$7:$HP$141,入力!E33,入力!$HR$7:$HR$141,情報!$AE$7)+COUNTIFS(入力!$HT$7:$HT$141,入力!E33,入力!$HV$7:$HV$141,情報!$AE$7)","v":0},{"$f":"COUNTIFS(入力!$IJ$7:$IJ$141,入力!E33,入力!$IL$7:$IL$141,情報!$AE$7)+COUNTIFS(入力!$IN$7:$IN$141,入力!E33,入力!$IP$7:$IP$141,情報!$AE$7)","v":0},null,null,{"$f":"IF($AL$11=\"\",\"\",VLOOKUP($AL$11,入力!$A$28:$C$34,3,FALSE))","v":""},{"$f":"IF(入力!$E$33=\"\",\"\",入力!$E$33)","v":""},{"$f":"SUM(BE38:BP38)","v":0},{"$f":"COUNTIFS(入力!$X$7:$X$141,入力!E33,入力!$AA$7:$AA$141,情報!$AH$8)+COUNTIFS(入力!$AB$7:$AB$141,入力!E33,入力!$AE$7:$AE$141,情報!$AH$8)","v":0},{"$f":"COUNTIFS(入力!$AR$7:$AR$141,入力!E33,入力!$AU$7:$AU$141,情報!$AH$8)+COUNTIFS(入力!$AV$7:$AV$141,入力!E33,入力!$AY$7:$AY$141,情報!$AH$8)","v":0},{"$f":"COUNTIFS(入力!$BL$7:$BL$141,入力!E33,入力!$BO$7:$BO$141,情報!$AH$8)+COUNTIFS(入力!$BP$7:$BP$141,入力!E33,入力!$BS$7:$BS$141,情報!$AH$8)","v":0},{"$f":"COUNTIFS(入力!$CF$7:$CF$141,入力!E33,入力!$CI$7:$CI$141,情報!$AH$8)+COUNTIFS(入力!$CJ$7:$CJ$141,入力!E33,入力!$CM$7:$CM$141,情報!$AH$8)","v":0},{"$f":"COUNTIFS(入力!$CZ$7:$CZ$141,入力!E33,入力!$DC$7:$DC$141,情報!$AH$8)+COUNTIFS(入力!$DD$7:$DD$141,入力!E33,入力!$DG$7:$DG$141,情報!$AH$8)","v":0},{"$f":"COUNTIFS(入力!$DT$7:$DT$141,入力!E33,入力!$DW$7:$DW$141,情報!$AH$8)+COUNTIFS(入力!$DX$7:$DX$141,入力!E33,入力!$EA$7:$EA$141,情報!$AH$8)","v":0},{"$f":"COUNTIFS(入力!$EN$7:$EN$141,入力!E33,入力!$EQ$7:$EQ$141,情報!$AH$8)+COUNTIFS(入力!$ER$7:$ER$141,入力!E33,入力!$EU$7:$EU$141,情報!$AH$8)","v":0},{"$f":"COUNTIFS(入力!$FH$7:$FH$141,入力!E33,入力!$FK$7:$FK$141,情報!$AH$8)+COUNTIFS(入力!$FL$7:$FL$141,入力!E33,入力!$FO$7:$FO$141,情報!$AH$8)","v":0},{"$f":"COUNTIFS(入力!$GB$7:$GB$141,入力!E33,入力!$GE$7:$GE$141,情報!$AH$8)+COUNTIFS(入力!$GF$7:$GF$141,入力!E33,入力!$GI$7:$GI$141,情報!$AH$8)","v":0},{"$f":"COUNTIFS(入力!$GV$7:$GV$141,入力!E33,入力!$GY$7:$GY$141,情報!$AH$8)+COUNTIFS(入力!$GZ$7:$GZ$141,入力!E33,入力!$HC$7:$HC$141,情報!$AH$8)","v":0},{"$f":"COUNTIFS(入力!$HP$7:$HP$141,入力!E33,入力!$HS$7:$HS$141,情報!$AH$8)+COUNTIFS(入力!$HT$7:$HT$141,入力!E33,入力!$HW$7:$HW$141,情報!$AH$8)","v":0},{"$f":"COUNTIFS(入力!$IJ$7:$IJ$141,入力!E33,入力!$IM$7:$IM$141,情報!$AH$8)+COUNTIFS(入力!$IN$7:$IN$141,入力!E33,入力!$IQ$7:$IQ$141,情報!$AH$8)","v":0},null,null,{"$f":"IF($AL$11=\"\",\"\",VLOOKUP($AL$11,入力!$A$28:$C$34,3,FALSE))","v":""},{"$f":"IF(入力!$E$33=\"\",\"\",入力!$E$33)","v":""},{"$f":"SUM(BV38:CG38)","v":0},{"$f":"COUNTIFS(入力!$X$7:$X$141,入力!E33,入力!$W$7:$W$141,情報!$AK$8)","v":0},{"$f":"COUNTIFS(入力!$AR$7:$AR$141,入力!E33,入力!$AQ$7:$AQ$141,情報!$AK$8)","v":0},{"$f":"COUNTIFS(入力!$BL$7:$BL$141,入力!E33,入力!$BK$7:$BK$141,情報!$AK$8)","v":0},{"$f":"COUNTIFS(入力!$CF$7:$CF$141,入力!E33,入力!$CE$7:$CE$141,情報!$AK$8)","v":0},{"$f":"COUNTIFS(入力!$CZ$7:$CZ$141,入力!E33,入力!$CY$7:$CY$141,情報!$AK$8)","v":0},{"$f":"COUNTIFS(入力!$DT$7:$DT$141,入力!E33,入力!$DS$7:$DS$141,情報!$AK$8)","v":0},{"$f":"COUNTIFS(入力!$EN$7:$EN$141,入力!E33,入力!$EM$7:$EM$141,情報!$AK$8)","v":0},{"$f":"COUNTIFS(入力!$FH$7:$FH$141,入力!E33,入力!$FG$7:$FG$141,情報!$AK$8)","v":0},{"$f":"COUNTIFS(入力!$GB$7:$GB$141,入力!E33,入力!$GA$7:$GA$141,情報!$AK$8)","v":0},{"$f":"COUNTIFS(入力!$GV$7:$GV$141,入力!E33,入力!$GU$7:$GU$141,情報!$AK$8)","v":0},{"$f":"COUNTIFS(入力!$HP$7:$HP$141,入力!E33,入力!$HO$7:$HO$141,情報!$AK$8)","v":0},{"$f":"COUNTIFS(入力!$IJ$7:$IJ$141,入力!E33,入力!$II$7:$II$141,情報!$AK$8)","v":0}]
[null,null,null,null,null,null,null,null,null,null,null,null,null,null,null,null,null,null,null,null,null,null,null,null,null,null,null,null,null,null,null,null,null,null,null,null,{"$f":"IF($AL$12=\"\",\"\",VLOOKUP($AL$12,入力!$A$28:$C$34,3,FALSE))","v":""},{"$f":"IF(入力!$E$34=\"\",\"\",入力!$E$34)","v":""},0,{"$f":"COUNTIFS(入力!$X$7:$X$141,入力!E34,入力!$Z$7:$Z$141,情報!$AE$7)+COUNTIFS(入力!$AB$7:$AB$141,入力!E34,入力!$AD$7:$AD$141,情報!$AE$7)","v":0},{"$f":"COUNTIFS(入力!$AR$7:$AR$141,入力!E34,入力!$AT$7:$AT$141,情報!$AE$7)+COUNTIFS(入力!$AV$7:$AV$141,入力!E34,入力!$AX$7:$AX$141,情報!$AE$7)","v":0},{"$f":"COUNTIFS(入力!$BL$7:$BL$141,入力!E34,入力!$BN$7:$BN$141,情報!$AE$7)+COUNTIFS(入力!$BP$7:$BP$141,入力!E34,入力!$BR$7:$BR$141,情報!$AE$7)","v":0},{"$f":"COUNTIFS(入力!$CF$7:$CF$141,入力!E34,入力!$CH$7:$CH$141,情報!$AE$7)+COUNTIFS(入力!$CJ$7:$CJ$141,入力!E34,入力!$CL$7:$CL$141,情報!$AE$7)","v":0},{"$f":"COUNTIFS(入力!$CZ$7:$CZ$141,入力!E34,入力!$DB$7:$DB$141,情報!$AE$7)+COUNTIFS(入力!$DD$7:$DD$141,入力!E34,入力!$DF$7:$DF$141,情報!$AE$7)","v":0},{"$f":"COUNTIFS(入力!$DT$7:$DT$141,入力!E34,入力!$DV$7:$DV$141,情報!$AE$7)+COUNTIFS(入力!$DX$7:$DX$141,入力!E34,入力!$DZ$7:$DZ$141,情報!$AE$7)","v":0},{"$f":"COUNTIFS(入力!$EN$7:$EN$141,入力!E34,入力!$EP$7:$EP$141,情報!$AE$7)+COUNTIFS(入力!$ER$7:$ER$141,入力!E34,入力!$ET$7:$ET$141,情報!$AE$7)","v":0},{"$f":"COUNTIFS(入力!$FH$7:$FH$141,入力!E34,入力!$FJ$7:$FJ$141,情報!$AE$7)+COUNTIFS(入力!$FL$7:$FL$141,入力!E34,入力!$FN$7:$FN$141,情報!$AE$7)","v":0},{"$f":"COUNTIFS(入力!$GB$7:$GB$141,入力!E34,入力!$GD$7:$GD$141,情報!$AE$7)+COUNTIFS(入力!$GF$7:$GF$141,入力!E34,入力!$GH$7:$GH$141,情報!$AE$7)","v":0},{"$f":"COUNTIFS(入力!$GV$7:$GV$141,入力!E34,入力!$GX$7:$GX$141,情報!$AE$7)+COUNTIFS(入力!$GH$7:$GH$141,入力!E34,入力!$HB$7:$HB$141,情報!$AE$7)","v":0},{"$f":"COUNTIFS(入力!$HP$7:$HP$141,入力!E34,入力!$HR$7:$HR$141,情報!$AE$7)+COUNTIFS(入力!$HT$7:$HT$141,入力!E34,入力!$HV$7:$HV$141,情報!$AE$7)","v":0},{"$f":"COUNTIFS(入力!$IJ$7:$IJ$141,入力!E34,入力!$IL$7:$IL$141,情報!$AE$7)+COUNTIFS(入力!$IN$7:$IN$141,入力!E34,入力!$IP$7:$IP$141,情報!$AE$7)","v":0},null,null,{"$f":"IF($AL$12=\"\",\"\",VLOOKUP($AL$12,入力!$A$28:$C$34,3,FALSE))","v":""},{"$f":"IF(入力!$E$34=\"\",\"\",入力!$E$34)","v":""},0,{"$f":"COUNTIFS(入力!$X$7:$X$141,入力!E34,入力!$AA$7:$AA$141,情報!$AH$8)+COUNTIFS(入力!$AB$7:$AB$141,入力!E34,入力!$AE$7:$AE$141,情報!$AH$8)","v":0},{"$f":"COUNTIFS(入力!$AR$7:$AR$141,入力!E34,入力!$AU$7:$AU$141,情報!$AH$8)+COUNTIFS(入力!$AV$7:$AV$141,入力!E34,入力!$AY$7:$AY$141,情報!$AH$8)","v":0},{"$f":"COUNTIFS(入力!$BL$7:$BL$141,入力!E34,入力!$BO$7:$BO$141,情報!$AH$8)+COUNTIFS(入力!$BP$7:$BP$141,入力!E34,入力!$BS$7:$BS$141,情報!$AH$8)","v":0},{"$f":"COUNTIFS(入力!$CF$7:$CF$141,入力!E34,入力!$CI$7:$CI$141,情報!$AH$8)+COUNTIFS(入力!$CJ$7:$CJ$141,入力!E34,入力!$CM$7:$CM$141,情報!$AH$8)","v":0},{"$f":"COUNTIFS(入力!$CZ$7:$CZ$141,入力!E34,入力!$DC$7:$DC$141,情報!$AH$8)+COUNTIFS(入力!$DD$7:$DD$141,入力!E34,入力!$DG$7:$DG$141,情報!$AH$8)","v":0},{"$f":"COUNTIFS(入力!$DT$7:$DT$141,入力!E34,入力!$DW$7:$DW$141,情報!$AH$8)+COUNTIFS(入力!$DX$7:$DX$141,入力!E34,入力!$EA$7:$EA$141,情報!$AH$8)","v":0},{"$f":"COUNTIFS(入力!$EN$7:$EN$141,入力!E34,入力!$EQ$7:$EQ$141,情報!$AH$8)+COUNTIFS(入力!$ER$7:$ER$141,入力!E34,入力!$EU$7:$EU$141,情報!$AH$8)","v":0},{"$f":"COUNTIFS(入力!$FH$7:$FH$141,入力!E34,入力!$FK$7:$FK$141,情報!$AH$8)+COUNTIFS(入力!$FL$7:$FL$141,入力!E34,入力!$FO$7:$FO$141,情報!$AH$8)","v":0},{"$f":"COUNTIFS(入力!$GB$7:$GB$141,入力!E34,入力!$GE$7:$GE$141,情報!$AH$8)+COUNTIFS(入力!$GF$7:$GF$141,入力!E34,入力!$GI$7:$GI$141,情報!$AH$8)","v":0},{"$f":"COUNTIFS(入力!$GV$7:$GV$141,入力!E34,入力!$GY$7:$GY$141,情報!$AH$8)+COUNTIFS(入力!$GZ$7:$GZ$141,入力!E34,入力!$HC$7:$HC$141,情報!$AH$8)","v":0},{"$f":"COUNTIFS(入力!$HP$7:$HP$141,入力!E34,入力!$HS$7:$HS$141,情報!$AH$8)+COUNTIFS(入力!$HT$7:$HT$141,入力!E34,入力!$HW$7:$HW$141,情報!$AH$8)","v":0},{"$f":"COUNTIFS(入力!$IJ$7:$IJ$141,入力!E34,入力!$IM$7:$IM$141,情報!$AH$8)+COUNTIFS(入力!$IN$7:$IN$141,入力!E34,入力!$IQ$7:$IQ$141,情報!$AH$8)","v":0},null,null,{"$f":"IF($AL$12=\"\",\"\",VLOOKUP($AL$12,入力!$A$28:$C$34,3,FALSE))","v":""},{"$f":"IF(入力!$E$34=\"\",\"\",入力!$E$34)","v":""},0,{"$f":"COUNTIFS(入力!$X$7:$X$141,入力!E34,入力!$W$7:$W$141,情報!$AK$8)","v":0},{"$f":"COUNTIFS(入力!$AR$7:$AR$141,入力!E34,入力!$AQ$7:$AQ$141,情報!$AK$8)","v":0},{"$f":"COUNTIFS(入力!$BL$7:$BL$141,入力!E34,入力!$BK$7:$BK$141,情報!$AK$8)","v":0},{"$f":"COUNTIFS(入力!$CF$7:$CF$141,入力!E34,入力!$CE$7:$CE$141,情報!$AK$8)","v":0},{"$f":"COUNTIFS(入力!$CZ$7:$CZ$141,入力!E34,入力!$CY$7:$CY$141,情報!$AK$8)","v":0},{"$f":"COUNTIFS(入力!$DT$7:$DT$141,入力!E34,入力!$DS$7:$DS$141,情報!$AK$8)","v":0},{"$f":"COUNTIFS(入力!$EN$7:$EN$141,入力!E34,入力!$EM$7:$EM$141,情報!$AK$8)","v":0},{"$f":"COUNTIFS(入力!$FH$7:$FH$141,入力!E34,入力!$FG$7:$FG$141,情報!$AK$8)","v":0},{"$f":"COUNTIFS(入力!$GB$7:$GB$141,入力!E34,入力!$GA$7:$GA$141,情報!$AK$8)","v":0},{"$f":"COUNTIFS(入力!$GV$7:$GV$141,入力!E34,入力!$GU$7:$GU$141,情報!$AK$8)","v":0},{"$f":"COUNTIFS(入力!$HP$7:$HP$141,入力!E34,入力!$HO$7:$HO$141,情報!$AK$8)","v":0},{"$f":"COUNTIFS(入力!$IJ$7:$IJ$141,入力!E34,入力!$II$7:$II$141,情報!$AK$8)","v":0}]
[null,null,null,null,null,null,null,null,null,null,null,null,null,null,null,null,null,null,null,null,null,null,null,null,null,null,null,null,null,null,null,null,null,null,null,"フォーク系",null,null,null,null,null,null,null,null,null,null,null,null,null,null,null,null,"打撃",null,null,null,null,null,null,null,null,null,null,null,null,null,null,null,null,"ホームラン"]
[null,null,null,null,null,null,null,null,null,null,null,null,null,null,null,null,null,null,null,null,null,null,null,null,null,null,null,null,null,null,null,null,null,null,null,"種分","投手名","背番","合計","1回","2回","3回","4回","5回","6回","7回","8回","9回","10回","11回","12回",null,"種分","投手名","背番","合計","1回","2回","3回","4回","5回","6回","7回","8回","9回","10回","11回","12回",null,"種分","投手名","背番","合計","1回","2回","3回","4回","5回","6回","7回","8回","9回","10回","11回","12回"]
[null,null,null,null,null,null,null,null,null,null,null,null,null,null,null,null,null,null,null,null,null,null,null,null,null,null,null,null,null,null,null,null,null,null,null,"↓",{"$f":"IF($AL$6=\"\",\"\",VLOOKUP($AL$6,入力!$A$28:$C$34,3,FALSE))","v":""},{"$f":"IF(入力!$E$28=\"\",\"\",入力!$E$28)","v":""},{"$f":"SUM(AN42:AY42)","v":0},{"$f":"COUNTIFS(入力!$X$7:$X$141,入力!E28,入力!$Z$7:$Z$141,情報!$AE$8)+COUNTIFS(入力!$AB$7:$AB$141,入力!E28,入力!$AD$7:$AD$141,情報!$AE$8)","v":0},{"$f":"COUNTIFS(入力!$AR$7:$AR$141,入力!E28,入力!$AT$7:$AT$141,情報!$AE$8)+COUNTIFS(入力!$AV$7:$AV$141,入力!E28,入力!$AX$7:$AX$141,情報!$AE$8)","v":0},{"$f":"COUNTIFS(入力!$BL$7:$BL$141,入力!E28,入力!$BN$7:$BN$141,情報!$AE$8)+COUNTIFS(入力!$BP$7:$BP$141,入力!E28,入力!$BR$7:$BR$141,情報!$AE$8)","v":0},{"$f":"COUNTIFS(入力!$CF$7:$CF$141,入力!E28,入力!$CH$7:$CH$141,情報!$AE$8)+COUNTIFS(入力!$CJ$7:$CJ$141,入力!E28,入力!$CL$7:$CL$141,情報!$AE$8)","v":0},{"$f":"COUNTIFS(入力!$CZ$7:$CZ$141,入力!E28,入力!$DB$7:$DB$141,情報!$AE$8)+COUNTIFS(入力!$DD$7:$DD$141,入力!E28,入力!$DF$7:$DF$141,情報!$AE$8)","v":0},{"$f":"COUNTIFS(入力!$DT$7:$DT$141,入力!E28,入力!$DV$7:$DV$141,情報!$AE$8)+COUNTIFS(入力!$DX$7:$DX$141,入力!E28,入力!$DZ$7:$DZ$141,情報!$AE$8)","v":0},{"$f":"COUNTIFS(入力!$EN$7:$EN$141,入力!E28,入力!$EP$7:$EP$141,情報!$AE$8)+COUNTIFS(入力!$ER$7:$ER$141,入力!E28,入力!$ET$7:$ET$141,情報!$AE$8)","v":0},{"$f":"COUNTIFS(入力!$FH$7:$FH$141,入力!E28,入力!$FJ$7:$FJ$141,情報!$AE$8)+COUNTIFS(入力!$FL$7:$FL$141,入力!E28,入力!$FN$7:$FN$141,情報!$AE$8)","v":0},{"$f":"COUNTIFS(入力!$GB$7:$GB$141,入力!E28,入力!$GD$7:$GD$141,情報!$AE$8)+COUNTIFS(入力!$GF$7:$GF$141,入力!E28,入力!$GH$7:$GH$141,情報!$AE$8)","v":0},{"$f":"COUNTIFS(入力!$GV$7:$GV$141,入力!E28,入力!$GX$7:$GX$141,情報!$AE$8)+COUNTIFS(入力!$GH$7:$GH$141,入力!E28,入力!$HB$7:$HB$141,情報!$AE$8)","v":0},{"$f":"COUNTIFS(入力!$HP$7:$HP$141,入力!E28,入力!$HR$7:$HR$141,情報!$AE$8)+COUNTIFS(入力!$HT$7:$HT$141,入力!E28,入力!$HV$7:$HV$141,情報!$AE$8)","v":0},{"$f":"COUNTIFS(入力!$IJ$7:$IJ$141,入力!E28,入力!$IL$7:$IL$141,情報!$AE$8)+COUNTIFS(入力!$IN$7:$IN$141,入力!E28,入力!$IP$7:$IP$141,情報!$AE$8)","v":0},null,"◎",{"$f":"IF($AL$6=\"\",\"\",VLOOKUP($AL$6,入力!$A$28:$C$34,3,FALSE))","v":""},{"$f":"IF(入力!$E$28=\"\",\"\",入力!$E$28)","v":""},{"$f":"SUM(BE42:BP42)","v":0},{"$f":"COUNTIFS(入力!$X$7:$X$141,入力!E28,入力!$AA$7:$AA$141,情報!$AH$9)+COUNTIFS(入力!$AB$7:$AB$141,入力!E28,入力!$AE$7:$AE$141,情報!$AH$9)","v":0},{"$f":"COUNTIFS(入力!$AR$7:$AR$141,入力!E28,入力!$AU$7:$AU$141,情報!$AH$9)+COUNTIFS(入力!$AV$7:$AV$141,入力!E28,入力!$AY$7:$AY$141,情報!$AH$9)","v":0},{"$f":"COUNTIFS(入力!$BL$7:$BL$141,入力!E28,入力!$BO$7:$BO$141,情報!$AH$9)+COUNTIFS(入力!$BP$7:$BP$141,入力!E28,入力!$BS$7:$BS$141,情報!$AH$9)","v":0},{"$f":"COUNTIFS(入力!$CF$7:$CF$141,入力!E28,入力!$CI$7:$CI$141,情報!$AH$9)+COUNTIFS(入力!$CJ$7:$CJ$141,入力!E28,入力!$CM$7:$CM$141,情報!$AH$9)","v":0},{"$f":"COUNTIFS(入力!$CZ$7:$CZ$141,入力!E28,入力!$DC$7:$DC$141,情報!$AH$9)+COUNTIFS(入力!$DD$7:$DD$141,入力!E28,入力!$DG$7:$DG$141,情報!$AH$5)","v":0},{"$f":"COUNTIFS(入力!$DT$7:$DT$141,入力!$E$28,入力!$DW$7:$DW$141,情報!$AH$5)+COUNTIFS(入力!$DX$7:$DX$141,入力!$E$28,入力!$EA$7:$EA$141,情報!$AH$9)","v":0},{"$f":"COUNTIFS(入力!$EN$7:$EN$141,入力!E28,入力!$EQ$7:$EQ$141,情報!$AH$9)+COUNTIFS(入力!$ER$7:$ER$141,入力!E28,入力!$EU$7:$EU$141,情報!$AH$9)","v":0},{"$f":"COUNTIFS(入力!$FH$7:$FH$141,入力!E28,入力!$FK$7:$FK$141,情報!$AH$9)+COUNTIFS(入力!$FL$7:$FL$141,入力!E28,入力!$FO$7:$FO$141,情報!$AH$9)","v":0},{"$f":"COUNTIFS(入力!$GB$7:$GB$141,入力!E28,入力!$GE$7:$GE$141,情報!$AH$9)+COUNTIFS(入力!$GF$7:$GF$141,入力!E28,入力!$GI$7:$GI$141,情報!$AH$9)","v":0},{"$f":"COUNTIFS(入力!$GV$7:$GV$141,入力!E28,入力!$GY$7:$GY$141,情報!$AH$9)+COUNTIFS(入力!$GZ$7:$GZ$141,入力!E28,入力!$HC$7:$HC$141,情報!$AH$9)","v":0},{"$f":"COUNTIFS(入力!$HP$7:$HP$141,入力!E28,入力!$HS$7:$HS$141,情報!$AH$9)+COUNTIFS(入力!$HT$7:$HT$141,入力!E28,入力!$HW$7:$HW$141,情報!$AH$9)","v":0},{"$f":"COUNTIFS(入力!$IJ$7:$IJ$141,入力!E28,入力!$IM$7:$IM$141,情報!$AH$9)+COUNTIFS(入力!$IN$7:$IN$141,入力!E28,入力!$IQ$7:$IQ$141,情報!$AH$9)","v":0},null,{"$f":"情報!AK9","v":"4H"},{"$f":"IF($AL$6=\"\",\"\",VLOOKUP($AL$6,入力!$A$28:$C$34,3,FALSE))","v":""},{"$f":"IF(入力!$E$28=\"\",\"\",入力!$E$28)","v":""},{"$f":"SUM(BV42:CG42)","v":0},{"$f":"COUNTIFS(入力!$X$7:$X$141,入力!E28,入力!$W$7:$W$141,情報!$AK$9)","v":0},{"$f":"COUNTIFS(入力!$AR$7:$AR$141,入力!E28,入力!$AQ$7:$AQ$141,情報!$AK$9)","v":0},{"$f":"COUNTIFS(入力!$BL$7:$BL$141,入力!E28,入力!$BK$7:$BK$141,情報!$AK$9)","v":0},{"$f":"COUNTIFS(入力!$CF$7:$CF$141,入力!E28,入力!$CE$7:$CE$141,情報!$AK$9)","v":0},{"$f":"COUNTIFS(入力!$CZ$7:$CZ$141,入力!E28,入力!$CY$7:$CY$141,情報!$AK$9)","v":0},{"$f":"COUNTIFS(入力!$DT$7:$DT$141,入力!E28,入力!$DS$7:$DS$141,情報!$AK$9)","v":0},{"$f":"COUNTIFS(入力!$EN$7:$EN$141,入力!E28,入力!$EM$7:$EM$141,情報!$AK$9)","v":0},{"$f":"COUNTIFS(入力!$FH$7:$FH$141,入力!E28,入力!$FG$7:$FG$141,情報!$AK$9)","v":0},{"$f":"COUNTIFS(入力!$GB$7:$GB$141,入力!E28,入力!$GA$7:$GA$141,情報!$AK$9)","v":0},{"$f":"COUNTIFS(入力!$GV$7:$GV$141,入力!E28,入力!$GU$7:$GU$141,情報!$AK$9)","v":0},{"$f":"COUNTIFS(入力!$HP$7:$HP$141,入力!E28,入力!$HO$7:$HO$141,情報!$AK$9)","v":0},{"$f":"COUNTIFS(入力!$IJ$7:$IJ$141,入力!E28,入力!$II$7:$II$141,情報!$AK$9)","v":0}]
[null,null,null,null,null,null,null,null,null,null,null,null,null,null,null,null,null,null,null,null,null,null,null,null,null,null,null,null,null,null,null,null,null,null,null,null,{"$f":"IF($AL$7=\"\",\"\",VLOOKUP($AL$7,入力!$A$28:$C$34,3,FALSE))","v":""},{"$f":"IF(入力!$E$29=\"\",\"\",入力!$E$29)","v":""},{"$f":"SUM(AN43:AY43)","v":0},{"$f":"COUNTIFS(入力!$X$7:$X$141,入力!E29,入力!$Z$7:$Z$141,情報!$AE$8)+COUNTIFS(入力!$AB$7:$AB$141,入力!E29,入力!$AD$7:$AD$141,情報!$AE$8)","v":0},{"$f":"COUNTIFS(入力!$AR$7:$AR$141,入力!E29,入力!$AT$7:$AT$141,情報!$AE$8)+COUNTIFS(入力!$AV$7:$AV$141,入力!E29,入力!$AX$7:$AX$141,情報!$AE$8)","v":0},{"$f":"COUNTIFS(入力!$BL$7:$BL$141,入力!E29,入力!$BN$7:$BN$141,情報!$AE$8)+COUNTIFS(入力!$BP$7:$BP$141,入力!E29,入力!$BR$7:$BR$141,情報!$AE$8)","v":0},{"$f":"COUNTIFS(入力!$CF$7:$CF$141,入力!E29,入力!$CH$7:$CH$141,情報!$AE$8)+COUNTIFS(入力!$CJ$7:$CJ$141,入力!E29,入力!$CL$7:$CL$141,情報!$AE$8)","v":0},{"$f":"COUNTIFS(入力!$CZ$7:$CZ$141,入力!E29,入力!$DB$7:$DB$141,情報!$AE$8)+COUNTIFS(入力!$DD$7:$DD$141,入力!E29,入力!$DF$7:$DF$141,情報!$AE$8)","v":0},{"$f":"COUNTIFS(入力!$DT$7:$DT$141,入力!E29,入力!$DV$7:$DV$141,情報!$AE$8)+COUNTIFS(入力!$DX$7:$DX$141,入力!E29,入力!$DZ$7:$DZ$141,情報!$AE$8)","v":0},{"$f":"COUNTIFS(入力!$EN$7:$EN$141,入力!E29,入力!$EP$7:$EP$141,情報!$AE$8)+COUNTIFS(入力!$ER$7:$ER$141,入力!E29,入力!$ET$7:$ET$141,情報!$AE$8)","v":0},{"$f":"COUNTIFS(入力!$FH$7:$FH$141,入力!E29,入力!$FJ$7:$FJ$141,情報!$AE$8)+COUNTIFS(入力!$FL$7:$FL$141,入力!E29,入力!$FN$7:$FN$141,情報!$AE$8)","v":0},{"$f":"COUNTIFS(入力!$GB$7:$GB$141,入力!E29,入力!$GD$7:$GD$141,情報!$AE$8)+COUNTIFS(入力!$GF$7:$GF$141,入力!E29,入力!$GH$7:$GH$141,情報!$AE$8)","v":0},{"$f":"COUNTIFS(入力!$GV$7:$GV$141,入力!E29,入力!$GX$7:$GX$141,情報!$AE$8)+COUNTIFS(入力!$GH$7:$GH$141,入力!E29,入力!$HB$7:$HB$141,情報!$AE$8)","v":0},{"$f":"COUNTIFS(入力!$HP$7:$HP$141,入力!E29,入力!$HR$7:$HR$141,情報!$AE$8)+COUNTIFS(入力!$HT$7:$HT$141,入力!E29,入力!$HV$7:$HV$141,情報!$AE$8)","v":0},{"$f":"COUNTIFS(入力!$IJ$7:$IJ$141,入力!E29,入力!$IL$7:$IL$141,情報!$AE$8)+COUNTIFS(入力!$IN$7:$IN$141,入力!E29,入力!$IP$7:$IP$141,情報!$AE$8)","v":0},null,null,{"$f":"IF($AL$7=\"\",\"\",VLOOKUP($AL$7,入力!$A$28:$C$34,3,FALSE))","v":""},{"$f":"IF(入力!$E$29=\"\",\"\",入力!$E$29)","v":""},{"$f":"SUM(BE43:BP43)","v":0},{"$f":"COUNTIFS(入力!$X$7:$X$141,入力!E29,入力!$AA$7:$AA$141,情報!$AH$9)+COUNTIFS(入力!$AB$7:$AB$141,入力!E29,入力!$AE$7:$AE$141,情報!$AH$9)","v":0},{"$f":"COUNTIFS(入力!$AR$7:$AR$141,入力!E29,入力!$AU$7:$AU$141,情報!$AH$9)+COUNTIFS(入力!$AV$7:$AV$141,入力!E29,入力!$AY$7:$AY$141,情報!$AH$9)","v":0},{"$f":"COUNTIFS(入力!$BL$7:$BL$141,入力!E29,入力!$BO$7:$BO$141,情報!$AH$9)+COUNTIFS(入力!$BP$7:$BP$141,入力!E29,入力!$BS$7:$BS$141,情報!$AH$9)","v":0},{"$f":"COUNTIFS(入力!$CF$7:$CF$141,入力!E29,入力!$CI$7:$CI$141,情報!$AH$9)+COUNTIFS(入力!$CJ$7:$CJ$141,入力!E29,入力!$CM$7:$CM$141,情報!$AH$9)","v":0},{"$f":"COUNTIFS(入力!$CZ$7:$CZ$141,入力!E29,入力!$DC$7:$DC$141,情報!$AH$9)+COUNTIFS(入力!$DD$7:$DD$141,入力!E29,入力!$DG$7:$DG$141,情報!$AH$5)","v":0},{"$f":"COUNTIFS(入力!$DT$7:$DT$141,入力!$E$28,入力!$DW$7:$DW$141,情報!$AH$5)+COUNTIFS(入力!$DX$7:$DX$141,入力!$E$28,入力!$EA$7:$EA$141,情報!$AH$9)","v":0},{"$f":"COUNTIFS(入力!$EN$7:$EN$141,入力!E29,入力!$EQ$7:$EQ$141,情報!$AH$9)+COUNTIFS(入力!$ER$7:$ER$141,入力!E29,入力!$EU$7:$EU$141,情報!$AH$9)","v":0},{"$f":"COUNTIFS(入力!$FH$7:$FH$141,入力!E29,入力!$FK$7:$FK$141,情報!$AH$9)+COUNTIFS(入力!$FL$7:$FL$141,入力!E29,入力!$FO$7:$FO$141,情報!$AH$9)","v":0},{"$f":"COUNTIFS(入力!$GB$7:$GB$141,入力!E29,入力!$GE$7:$GE$141,情報!$AH$9)+COUNTIFS(入力!$GF$7:$GF$141,入力!E29,入力!$GI$7:$GI$141,情報!$AH$9)","v":0},{"$f":"COUNTIFS(入力!$GV$7:$GV$141,入力!E29,入力!$GY$7:$GY$141,情報!$AH$9)+COUNTIFS(入力!$GZ$7:$GZ$141,入力!E29,入力!$HC$7:$HC$141,情報!$AH$9)","v":0},{"$f":"COUNTIFS(入力!$HP$7:$HP$141,入力!E29,入力!$HS$7:$HS$141,情報!$AH$9)+COUNTIFS(入力!$HT$7:$HT$141,入力!E29,入力!$HW$7:$HW$141,情報!$AH$9)","v":0},{"$f":"COUNTIFS(入力!$IJ$7:$IJ$141,入力!E29,入力!$IM$7:$IM$141,情報!$AH$9)+COUNTIFS(入力!$IN$7:$IN$141,入力!E29,入力!$IQ$7:$IQ$141,情報!$AH$9)","v":0},null,null,{"$f":"IF($AL$7=\"\",\"\",VLOOKUP($AL$7,入力!$A$28:$C$34,3,FALSE))","v":""},{"$f":"IF(入力!$E$29=\"\",\"\",入力!$E$29)","v":""},{"$f":"SUM(BV43:CG43)","v":0},{"$f":"COUNTIFS(入力!$X$7:$X$141,入力!E29,入力!$W$7:$W$141,情報!$AK$9)","v":0},{"$f":"COUNTIFS(入力!$AR$7:$AR$141,入力!E29,入力!$AQ$7:$AQ$141,情報!$AK$9)","v":0},{"$f":"COUNTIFS(入力!$BL$7:$BL$141,入力!E29,入力!$BK$7:$BK$141,情報!$AK$9)","v":0},{"$f":"COUNTIFS(入力!$CF$7:$CF$141,入力!E29,入力!$CE$7:$CE$141,情報!$AK$9)","v":0},{"$f":"COUNTIFS(入力!$CZ$7:$CZ$141,入力!E29,入力!$CY$7:$CY$141,情報!$AK$9)","v":0},{"$f":"COUNTIFS(入力!$DT$7:$DT$141,入力!E29,入力!$DS$7:$DS$141,情報!$AK$9)","v":0},{"$f":"COUNTIFS(入力!$EN$7:$EN$141,入力!E29,入力!$EM$7:$EM$141,情報!$AK$9)","v":0},{"$f":"COUNTIFS(入力!$FH$7:$FH$141,入力!E29,入力!$FG$7:$FG$141,情報!$AK$9)","v":0},{"$f":"COUNTIFS(入力!$GB$7:$GB$141,入力!E29,入力!$GA$7:$GA$141,情報!$AK$9)","v":0},{"$f":"COUNTIFS(入力!$GV$7:$GV$141,入力!E29,入力!$GU$7:$GU$141,情報!$AK$9)","v":0},{"$f":"COUNTIFS(入力!$HP$7:$HP$141,入力!E29,入力!$HO$7:$HO$141,情報!$AK$9)","v":0},{"$f":"COUNTIFS(入力!$IJ$7:$IJ$141,入力!E29,入力!$II$7:$II$141,情報!$AK$9)","v":0}]
[null,null,null,null,null,null,null,null,null,null,null,null,null,null,null,null,null,null,null,null,null,null,null,null,null,null,null,null,null,null,null,null,null,null,null,null,{"$f":"IF($AL$8=\"\",\"\",VLOOKUP($AL$8,入力!$A$28:$C$34,3,FALSE))","v":""},{"$f":"IF(入力!$E$30=\"\",\"\",入力!$E$30)","v":""},0,{"$f":"COUNTIFS(入力!$X$7:$X$141,入力!E30,入力!$Z$7:$Z$141,情報!$AE$8)+COUNTIFS(入力!$AB$7:$AB$141,入力!E30,入力!$AD$7:$AD$141,情報!$AE$8)","v":0},{"$f":"COUNTIFS(入力!$AR$7:$AR$141,入力!E30,入力!$AT$7:$AT$141,情報!$AE$8)+COUNTIFS(入力!$AV$7:$AV$141,入力!E30,入力!$AX$7:$AX$141,情報!$AE$8)","v":0},{"$f":"COUNTIFS(入力!$BL$7:$BL$141,入力!E30,入力!$BN$7:$BN$141,情報!$AE$8)+COUNTIFS(入力!$BP$7:$BP$141,入力!E30,入力!$BR$7:$BR$141,情報!$AE$8)","v":0},{"$f":"COUNTIFS(入力!$CF$7:$CF$141,入力!E30,入力!$CH$7:$CH$141,情報!$AE$8)+COUNTIFS(入力!$CJ$7:$CJ$141,入力!E30,入力!$CL$7:$CL$141,情報!$AE$8)","v":0},{"$f":"COUNTIFS(入力!$CZ$7:$CZ$141,入力!E30,入力!$DB$7:$DB$141,情報!$AE$8)+COUNTIFS(入力!$DD$7:$DD$141,入力!E30,入力!$DF$7:$DF$141,情報!$AE$8)","v":0},{"$f":"COUNTIFS(入力!$DT$7:$DT$141,入力!E30,入力!$DV$7:$DV$141,情報!$AE$8)+COUNTIFS(入力!$DX$7:$DX$141,入力!E30,入力!$DZ$7:$DZ$141,情報!$AE$8)","v":0},{"$f":"COUNTIFS(入力!$EN$7:$EN$141,入力!E30,入力!$EP$7:$EP$141,情報!$AE$8)+COUNTIFS(入力!$ER$7:$ER$141,入力!E30,入力!$ET$7:$ET$141,情報!$AE$8)","v":0},{"$f":"COUNTIFS(入力!$FH$7:$FH$141,入力!E30,入力!$FJ$7:$FJ$141,情報!$AE$8)+COUNTIFS(入力!$FL$7:$FL$141,入力!E30,入力!$FN$7:$FN$141,情報!$AE$8)","v":0},{"$f":"COUNTIFS(入力!$GB$7:$GB$141,入力!E30,入力!$GD$7:$GD$141,情報!$AE$8)+COUNTIFS(入力!$GF$7:$GF$141,入力!E30,入力!$GH$7:$GH$141,情報!$AE$8)","v":0},{"$f":"COUNTIFS(入力!$GV$7:$GV$141,入力!E30,入力!$GX$7:$GX$141,情報!$AE$8)+COUNTIFS(入力!$GH$7:$GH$141,入力!E30,入力!$HB$7:$HB$141,情報!$AE$8)","v":0},{"$f":"COUNTIFS(入力!$HP$7:$HP$141,入力!E30,入力!$HR$7:$HR$141,情報!$AE$8)+COUNTIFS(入力!$HT$7:$HT$141,入力!E30,入力!$HV$7:$HV$141,情報!$AE$8)","v":0},{"$f":"COUNTIFS(入力!$IJ$7:$IJ$141,入力!E30,入力!$IL$7:$IL$141,情報!$AE$8)+COUNTIFS(入力!$IN$7:$IN$141,入力!E30,入力!$IP$7:$IP$141,情報!$AE$8)","v":0},null,null,{"$f":"IF($AL$8=\"\",\"\",VLOOKUP($AL$8,入力!$A$28:$C$34,3,FALSE))","v":""},{"$f":"IF(入力!$E$30=\"\",\"\",入力!$E$30)","v":""},0,{"$f":"COUNTIFS(入力!$X$7:$X$141,入力!E30,入力!$AA$7:$AA$141,情報!$AH$9)+COUNTIFS(入力!$AB$7:$AB$141,入力!E30,入力!$AE$7:$AE$141,情報!$AH$9)","v":0},{"$f":"COUNTIFS(入力!$AR$7:$AR$141,入力!E30,入力!$AU$7:$AU$141,情報!$AH$9)+COUNTIFS(入力!$AV$7:$AV$141,入力!E30,入力!$AY$7:$AY$141,情報!$AH$9)","v":0},{"$f":"COUNTIFS(入力!$BL$7:$BL$141,入力!E30,入力!$BO$7:$BO$141,情報!$AH$9)+COUNTIFS(入力!$BP$7:$BP$141,入力!E30,入力!$BS$7:$BS$141,情報!$AH$9)","v":0},{"$f":"COUNTIFS(入力!$CF$7:$CF$141,入力!E30,入力!$CI$7:$CI$141,情報!$AH$9)+COUNTIFS(入力!$CJ$7:$CJ$141,入力!E30,入力!$CM$7:$CM$141,情報!$AH$9)","v":0},{"$f":"COUNTIFS(入力!$CZ$7:$CZ$141,入力!E30,入力!$DC$7:$DC$141,情報!$AH$9)+COUNTIFS(入力!$DD$7:$DD$141,入力!E30,入力!$DG$7:$DG$141,情報!$AH$5)","v":0},{"$f":"COUNTIFS(入力!$DT$7:$DT$141,入力!$E$28,入力!$DW$7:$DW$141,情報!$AH$5)+COUNTIFS(入力!$DX$7:$DX$141,入力!$E$28,入力!$EA$7:$EA$141,情報!$AH$9)","v":0},{"$f":"COUNTIFS(入力!$EN$7:$EN$141,入力!E30,入力!$EQ$7:$EQ$141,情報!$AH$9)+COUNTIFS(入力!$ER$7:$ER$141,入力!E30,入力!$EU$7:$EU$141,情報!$AH$9)","v":0},{"$f":"COUNTIFS(入力!$FH$7:$FH$141,入力!E30,入力!$FK$7:$FK$141,情報!$AH$9)+COUNTIFS(入力!$FL$7:$FL$141,入力!E30,入力!$FO$7:$FO$141,情報!$AH$9)","v":0},{"$f":"COUNTIFS(入力!$GB$7:$GB$141,入力!E30,入力!$GE$7:$GE$141,情報!$AH$9)+COUNTIFS(入力!$GF$7:$GF$141,入力!E30,入力!$GI$7:$GI$141,情報!$AH$9)","v":0},{"$f":"COUNTIFS(入力!$GV$7:$GV$141,入力!E30,入力!$GY$7:$GY$141,情報!$AH$9)+COUNTIFS(入力!$GZ$7:$GZ$141,入力!E30,入力!$HC$7:$HC$141,情報!$AH$9)","v":0},{"$f":"COUNTIFS(入力!$HP$7:$HP$141,入力!E30,入力!$HS$7:$HS$141,情報!$AH$9)+COUNTIFS(入力!$HT$7:$HT$141,入力!E30,入力!$HW$7:$HW$141,情報!$AH$9)","v":0},{"$f":"COUNTIFS(入力!$IJ$7:$IJ$141,入力!E30,入力!$IM$7:$IM$141,情報!$AH$9)+COUNTIFS(入力!$IN$7:$IN$141,入力!E30,入力!$IQ$7:$IQ$141,情報!$AH$9)","v":0},null,null,{"$f":"IF($AL$8=\"\",\"\",VLOOKUP($AL$8,入力!$A$28:$C$34,3,FALSE))","v":""},{"$f":"IF(入力!$E$30=\"\",\"\",入力!$E$30)","v":""},0,{"$f":"COUNTIFS(入力!$X$7:$X$141,入力!E30,入力!$W$7:$W$141,情報!$AK$9)","v":0},{"$f":"COUNTIFS(入力!$AR$7:$AR$141,入力!E30,入力!$AQ$7:$AQ$141,情報!$AK$9)","v":0},{"$f":"COUNTIFS(入力!$BL$7:$BL$141,入力!E30,入力!$BK$7:$BK$141,情報!$AK$9)","v":0},{"$f":"COUNTIFS(入力!$CF$7:$CF$141,入力!E30,入力!$CE$7:$CE$141,情報!$AK$9)","v":0},{"$f":"COUNTIFS(入力!$CZ$7:$CZ$141,入力!E30,入力!$CY$7:$CY$141,情報!$AK$9)","v":0},{"$f":"COUNTIFS(入力!$DT$7:$DT$141,入力!E30,入力!$DS$7:$DS$141,情報!$AK$9)","v":0},{"$f":"COUNTIFS(入力!$EN$7:$EN$141,入力!E30,入力!$EM$7:$EM$141,情報!$AK$9)","v":0},{"$f":"COUNTIFS(入力!$FH$7:$FH$141,入力!E30,入力!$FG$7:$FG$141,情報!$AK$9)","v":0},{"$f":"COUNTIFS(入力!$GB$7:$GB$141,入力!E30,入力!$GA$7:$GA$141,情報!$AK$9)","v":0},{"$f":"COUNTIFS(入力!$GV$7:$GV$141,入力!E30,入力!$GU$7:$GU$141,情報!$AK$9)","v":0},{"$f":"COUNTIFS(入力!$HP$7:$HP$141,入力!E30,入力!$HO$7:$HO$141,情報!$AK$9)","v":0},{"$f":"COUNTIFS(入力!$IJ$7:$IJ$141,入力!E30,入力!$II$7:$II$141,情報!$AK$9)","v":0}]
[null,null,null,null,null,null,null,null,null,null,null,null,null,null,null,null,null,null,null,null,null,null,null,null,null,null,null,null,null,null,null,null,null,null,null,null,{"$f":"IF($AL$9=\"\",\"\",VLOOKUP($AL$9,入力!$A$28:$C$34,3,FALSE))","v":""},{"$f":"IF(入力!$E$31=\"\",\"\",入力!E67)","v":""},0,{"$f":"COUNTIFS(入力!$X$7:$X$141,入力!E31,入力!$Z$7:$Z$141,情報!$AE$8)+COUNTIFS(入力!$AB$7:$AB$141,入力!E31,入力!$AD$7:$AD$141,情報!$AE$8)","v":0},{"$f":"COUNTIFS(入力!$AR$7:$AR$141,入力!E31,入力!$AT$7:$AT$141,情報!$AE$8)+COUNTIFS(入力!$AV$7:$AV$141,入力!E31,入力!$AX$7:$AX$141,情報!$AE$8)","v":0},{"$f":"COUNTIFS(入力!$BL$7:$BL$141,入力!E31,入力!$BN$7:$BN$141,情報!$AE$8)+COUNTIFS(入力!$BP$7:$BP$141,入力!E31,入力!$BR$7:$BR$141,情報!$AE$8)","v":0},{"$f":"COUNTIFS(入力!$CF$7:$CF$141,入力!E31,入力!$CH$7:$CH$141,情報!$AE$8)+COUNTIFS(入力!$CJ$7:$CJ$141,入力!E31,入力!$CL$7:$CL$141,情報!$AE$8)","v":0},{"$f":"COUNTIFS(入力!$CZ$7:$CZ$141,入力!E31,入力!$DB$7:$DB$141,情報!$AE$8)+COUNTIFS(入力!$DD$7:$DD$141,入力!E31,入力!$DF$7:$DF$141,情報!$AE$8)","v":0},{"$f":"COUNTIFS(入力!$DT$7:$DT$141,入力!E31,入力!$DV$7:$DV$141,情報!$AE$8)+COUNTIFS(入力!$DX$7:$DX$141,入力!E31,入力!$DZ$7:$DZ$141,情報!$AE$8)","v":0},{"$f":"COUNTIFS(入力!$EN$7:$EN$141,入力!E31,入力!$EP$7:$EP$141,情報!$AE$8)+COUNTIFS(入力!$ER$7:$ER$141,入力!E31,入力!$ET$7:$ET$141,情報!$AE$8)","v":0},{"$f":"COUNTIFS(入力!$FH$7:$FH$141,入力!E31,入力!$FJ$7:$FJ$141,情報!$AE$8)+COUNTIFS(入力!$FL$7:$FL$141,入力!E31,入力!$FN$7:$FN$141,情報!$AE$8)","v":0},{"$f":"COUNTIFS(入力!$GB$7:$GB$141,入力!E31,入力!$GD$7:$GD$141,情報!$AE$8)+COUNTIFS(入力!$GF$7:$GF$141,入力!E31,入力!$GH$7:$GH$141,情報!$AE$8)","v":0},{"$f":"COUNTIFS(入力!$GV$7:$GV$141,入力!E31,入力!$GX$7:$GX$141,情報!$AE$8)+COUNTIFS(入力!$GH$7:$GH$141,入力!E31,入力!$HB$7:$HB$141,情報!$AE$8)","v":0},{"$f":"COUNTIFS(入力!$HP$7:$HP$141,入力!E31,入力!$HR$7:$HR$141,情報!$AE$8)+COUNTIFS(入力!$HT$7:$HT$141,入力!E31,入力!$HV$7:$HV$141,情報!$AE$8)","v":0},{"$f":"COUNTIFS(入力!$IJ$7:$IJ$141,入力!E31,入力!$IL$7:$IL$141,情報!$AE$8)+COUNTIFS(入力!$IN$7:$IN$141,入力!E31,入力!$IP$7:$IP$141,情報!$AE$8)","v":0},null,null,{"$f":"IF($AL$9=\"\",\"\",VLOOKUP($AL$9,入力!$A$28:$C$34,3,FALSE))","v":""},{"$f":"IF(入力!$E$31=\"\",\"\",入力!V67)","v":""},0,{"$f":"COUNTIFS(入力!$X$7:$X$141,入力!E31,入力!$AA$7:$AA$141,情報!$AH$9)+COUNTIFS(入力!$AB$7:$AB$141,入力!E31,入力!$AE$7:$AE$141,情報!$AH$9)","v":0},{"$f":"COUNTIFS(入力!$AR$7:$AR$141,入力!E31,入力!$AU$7:$AU$141,情報!$AH$9)+COUNTIFS(入力!$AV$7:$AV$141,入力!E31,入力!$AY$7:$AY$141,情報!$AH$9)","v":0},{"$f":"COUNTIFS(入力!$BL$7:$BL$141,入力!E31,入力!$BO$7:$BO$141,情報!$AH$9)+COUNTIFS(入力!$BP$7:$BP$141,入力!E31,入力!$BS$7:$BS$141,情報!$AH$9)","v":0},{"$f":"COUNTIFS(入力!$CF$7:$CF$141,入力!E31,入力!$CI$7:$CI$141,情報!$AH$9)+COUNTIFS(入力!$CJ$7:$CJ$141,入力!E31,入力!$CM$7:$CM$141,情報!$AH$9)","v":0},{"$f":"COUNTIFS(入力!$CZ$7:$CZ$141,入力!E31,入力!$DC$7:$DC$141,情報!$AH$9)+COUNTIFS(入力!$DD$7:$DD$141,入力!E31,入力!$DG$7:$DG$141,情報!$AH$5)","v":0},{"$f":"COUNTIFS(入力!$DT$7:$DT$141,入力!$E$28,入力!$DW$7:$DW$141,情報!$AH$5)+COUNTIFS(入力!$DX$7:$DX$141,入力!$E$28,入力!$EA$7:$EA$141,情報!$AH$9)","v":0},{"$f":"COUNTIFS(入力!$EN$7:$EN$141,入力!E31,入力!$EQ$7:$EQ$141,情報!$AH$9)+COUNTIFS(入力!$ER$7:$ER$141,入力!E31,入力!$EU$7:$EU$141,情報!$AH$9)","v":0},{"$f":"COUNTIFS(入力!$FH$7:$FH$141,入力!E31,入力!$FK$7:$FK$141,情報!$AH$9)+COUNTIFS(入力!$FL$7:$FL$141,入力!E31,入力!$FO$7:$FO$141,情報!$AH$9)","v":0},{"$f":"COUNTIFS(入力!$GB$7:$GB$141,入力!E31,入力!$GE$7:$GE$141,情報!$AH$9)+COUNTIFS(入力!$GF$7:$GF$141,入力!E31,入力!$GI$7:$GI$141,情報!$AH$9)","v":0},{"$f":"COUNTIFS(入力!$GV$7:$GV$141,入力!E31,入力!$GY$7:$GY$141,情報!$AH$9)+COUNTIFS(入力!$GZ$7:$GZ$141,入力!E31,入力!$HC$7:$HC$141,情報!$AH$9)","v":0},{"$f":"COUNTIFS(入力!$HP$7:$HP$141,入力!E31,入力!$HS$7:$HS$141,情報!$AH$9)+COUNTIFS(入力!$HT$7:$HT$141,入力!E31,入力!$HW$7:$HW$141,情報!$AH$9)","v":0},{"$f":"COUNTIFS(入力!$IJ$7:$IJ$141,入力!E31,入力!$IM$7:$IM$141,情報!$AH$9)+COUNTIFS(入力!$IN$7:$IN$141,入力!E31,入力!$IQ$7:$IQ$141,情報!$AH$9)","v":0},null,null,{"$f":"IF($AL$9=\"\",\"\",VLOOKUP($AL$9,入力!$A$28:$C$34,3,FALSE))","v":""},{"$f":"IF(入力!$E$31=\"\",\"\",入力!AM67)","v":""},0,{"$f":"COUNTIFS(入力!$X$7:$X$141,入力!E31,入力!$W$7:$W$141,情報!$AK$9)","v":0},{"$f":"COUNTIFS(入力!$AR$7:$AR$141,入力!E31,入力!$AQ$7:$AQ$141,情報!$AK$9)","v":0},{"$f":"COUNTIFS(入力!$BL$7:$BL$141,入力!E31,入力!$BK$7:$BK$141,情報!$AK$9)","v":0},{"$f":"COUNTIFS(入力!$CF$7:$CF$141,入力!E31,入力!$CE$7:$CE$141,情報!$AK$9)","v":0},{"$f":"COUNTIFS(入力!$CZ$7:$CZ$141,入力!E31,入力!$CY$7:$CY$141,情報!$AK$9)","v":0},{"$f":"COUNTIFS(入力!$DT$7:$DT$141,入力!E31,入力!$DS$7:$DS$141,情報!$AK$9)","v":0},{"$f":"COUNTIFS(入力!$EN$7:$EN$141,入力!E31,入力!$EM$7:$EM$141,情報!$AK$9)","v":0},{"$f":"COUNTIFS(入力!$FH$7:$FH$141,入力!E31,入力!$FG$7:$FG$141,情報!$AK$9)","v":0},{"$f":"COUNTIFS(入力!$GB$7:$GB$141,入力!E31,入力!$GA$7:$GA$141,情報!$AK$9)","v":0},{"$f":"COUNTIFS(入力!$GV$7:$GV$141,入力!E31,入力!$GU$7:$GU$141,情報!$AK$9)","v":0},{"$f":"COUNTIFS(入力!$HP$7:$HP$141,入力!E31,入力!$HO$7:$HO$141,情報!$AK$9)","v":0},{"$f":"COUNTIFS(入力!$IJ$7:$IJ$141,入力!E31,入力!$II$7:$II$141,情報!$AK$9)","v":0}]
[null,null,null,null,null,null,null,null,null,null,null,null,null,null,null,null,null,null,null,null,null,null,null,null,null,null,null,null,null,null,null,null,null,null,null,null,{"$f":"IF($AL$10=\"\",\"\",VLOOKUP($AL$10,入力!$A$28:$C$34,3,FALSE))","v":""},{"$f":"IF(入力!$E$32=\"\",\"\",入力!$E$32)","v":""},0,{"$f":"COUNTIFS(入力!$X$7:$X$141,入力!E32,入力!$Z$7:$Z$141,情報!$AE$8)+COUNTIFS(入力!$AB$7:$AB$141,入力!E32,入力!$AD$7:$AD$141,情報!$AE$8)","v":0},{"$f":"COUNTIFS(入力!$AR$7:$AR$141,入力!E32,入力!$AT$7:$AT$141,情報!$AE$8)+COUNTIFS(入力!$AV$7:$AV$141,入力!E32,入力!$AX$7:$AX$141,情報!$AE$8)","v":0},{"$f":"COUNTIFS(入力!$BL$7:$BL$141,入力!E32,入力!$BN$7:$BN$141,情報!$AE$8)+COUNTIFS(入力!$BP$7:$BP$141,入力!E32,入力!$BR$7:$BR$141,情報!$AE$8)","v":0},{"$f":"COUNTIFS(入力!$CF$7:$CF$141,入力!E32,入力!$CH$7:$CH$141,情報!$AE$8)+COUNTIFS(入力!$CJ$7:$CJ$141,入力!E32,入力!$CL$7:$CL$141,情報!$AE$8)","v":0},{"$f":"COUNTIFS(入力!$CZ$7:$CZ$141,入力!E32,入力!$DB$7:$DB$141,情報!$AE$8)+COUNTIFS(入力!$DD$7:$DD$141,入力!E32,入力!$DF$7:$DF$141,情報!$AE$8)","v":0},{"$f":"COUNTIFS(入力!$DT$7:$DT$141,入力!E32,入力!$DV$7:$DV$141,情報!$AE$8)+COUNTIFS(入力!$DX$7:$DX$141,入力!E32,入力!$DZ$7:$DZ$141,情報!$AE$8)","v":0},{"$f":"COUNTIFS(入力!$EN$7:$EN$141,入力!E32,入力!$EP$7:$EP$141,情報!$AE$8)+COUNTIFS(入力!$ER$7:$ER$141,入力!E32,入力!$ET$7:$ET$141,情報!$AE$8)","v":0},{"$f":"COUNTIFS(入力!$FH$7:$FH$141,入力!E32,入力!$FJ$7:$FJ$141,情報!$AE$8)+COUNTIFS(入力!$FL$7:$FL$141,入力!E32,入力!$FN$7:$FN$141,情報!$AE$8)","v":0},{"$f":"COUNTIFS(入力!$GB$7:$GB$141,入力!E32,入力!$GD$7:$GD$141,情報!$AE$8)+COUNTIFS(入力!$GF$7:$GF$141,入力!E32,入力!$GH$7:$GH$141,情報!$AE$8)","v":0},{"$f":"COUNTIFS(入力!$GV$7:$GV$141,入力!E32,入力!$GX$7:$GX$141,情報!$AE$8)+COUNTIFS(入力!$GH$7:$GH$141,入力!E32,入力!$HB$7:$HB$141,情報!$AE$8)","v":0},{"$f":"COUNTIFS(入力!$HP$7:$HP$141,入力!E32,入力!$HR$7:$HR$141,情報!$AE$8)+COUNTIFS(入力!$HT$7:$HT$141,入力!E32,入力!$HV$7:$HV$141,情報!$AE$8)","v":0},{"$f":"COUNTIFS(入力!$IJ$7:$IJ$141,入力!E32,入力!$IL$7:$IL$141,情報!$AE$8)+COUNTIFS(入力!$IN$7:$IN$141,入力!E32,入力!$IP$7:$IP$141,情報!$AE$8)","v":0},null,null,{"$f":"IF($AL$10=\"\",\"\",VLOOKUP($AL$10,入力!$A$28:$C$34,3,FALSE))","v":""},{"$f":"IF(入力!$E$32=\"\",\"\",入力!$E$32)","v":""},0,{"$f":"COUNTIFS(入力!$X$7:$X$141,入力!E32,入力!$AA$7:$AA$141,情報!$AH$9)+COUNTIFS(入力!$AB$7:$AB$141,入力!E32,入力!$AE$7:$AE$141,情報!$AH$9)","v":0},{"$f":"COUNTIFS(入力!$AR$7:$AR$141,入力!E32,入力!$AU$7:$AU$141,情報!$AH$9)+COUNTIFS(入力!$AV$7:$AV$141,入力!E32,入力!$AY$7:$AY$141,情報!$AH$9)","v":0},{"$f":"COUNTIFS(入力!$BL$7:$BL$141,入力!E32,入力!$BO$7:$BO$141,情報!$AH$9)+COUNTIFS(入力!$BP$7:$BP$141,入力!E32,入力!$BS$7:$BS$141,情報!$AH$9)","v":0},{"$f":"COUNTIFS(入力!$CF$7:$CF$141,入力!E32,入力!$CI$7:$CI$141,情報!$AH$9)+COUNTIFS(入力!$CJ$7:$CJ$141,入力!E32,入力!$CM$7:$CM$141,情報!$AH$9)","v":0},{"$f":"COUNTIFS(入力!$CZ$7:$CZ$141,入力!E32,入力!$DC$7:$DC$141,情報!$AH$9)+COUNTIFS(入力!$DD$7:$DD$141,入力!E32,入力!$DG$7:$DG$141,情報!$AH$5)","v":0},{"$f":"COUNTIFS(入力!$DT$7:$DT$141,入力!$E$28,入力!$DW$7:$DW$141,情報!$AH$5)+COUNTIFS(入力!$DX$7:$DX$141,入力!$E$28,入力!$EA$7:$EA$141,情報!$AH$9)","v":0},{"$f":"COUNTIFS(入力!$EN$7:$EN$141,入力!E32,入力!$EQ$7:$EQ$141,情報!$AH$9)+COUNTIFS(入力!$ER$7:$ER$141,入力!E32,入力!$EU$7:$EU$141,情報!$AH$9)","v":0},{"$f":"COUNTIFS(入力!$FH$7:$FH$141,入力!E32,入力!$FK$7:$FK$141,情報!$AH$9)+COUNTIFS(入力!$FL$7:$FL$141,入力!E32,入力!$FO$7:$FO$141,情報!$AH$9)","v":0},{"$f":"COUNTIFS(入力!$GB$7:$GB$141,入力!E32,入力!$GE$7:$GE$141,情報!$AH$9)+COUNTIFS(入力!$GF$7:$GF$141,入力!E32,入力!$GI$7:$GI$141,情報!$AH$9)","v":0},{"$f":"COUNTIFS(入力!$GV$7:$GV$141,入力!E32,入力!$GY$7:$GY$141,情報!$AH$9)+COUNTIFS(入力!$GZ$7:$GZ$141,入力!E32,入力!$HC$7:$HC$141,情報!$AH$9)","v":0},{"$f":"COUNTIFS(入力!$HP$7:$HP$141,入力!E32,入力!$HS$7:$HS$141,情報!$AH$9)+COUNTIFS(入力!$HT$7:$HT$141,入力!E32,入力!$HW$7:$HW$141,情報!$AH$9)","v":0},{"$f":"COUNTIFS(入力!$IJ$7:$IJ$141,入力!E32,入力!$IM$7:$IM$141,情報!$AH$9)+COUNTIFS(入力!$IN$7:$IN$141,入力!E32,入力!$IQ$7:$IQ$141,情報!$AH$9)","v":0},null,null,{"$f":"IF($AL$10=\"\",\"\",VLOOKUP($AL$10,入力!$A$28:$C$34,3,FALSE))","v":""},{"$f":"IF(入力!$E$32=\"\",\"\",入力!$E$32)","v":""},0,{"$f":"COUNTIFS(入力!$X$7:$X$141,入力!E32,入力!$W$7:$W$141,情報!$AK$9)","v":0},{"$f":"COUNTIFS(入力!$AR$7:$AR$141,入力!E32,入力!$AQ$7:$AQ$141,情報!$AK$9)","v":0},{"$f":"COUNTIFS(入力!$BL$7:$BL$141,入力!E32,入力!$BK$7:$BK$141,情報!$AK$9)","v":0},{"$f":"COUNTIFS(入力!$CF$7:$CF$141,入力!E32,入力!$CE$7:$CE$141,情報!$AK$9)","v":0},{"$f":"COUNTIFS(入力!$CZ$7:$CZ$141,入力!E32,入力!$CY$7:$CY$141,情報!$AK$9)","v":0},{"$f":"COUNTIFS(入力!$DT$7:$DT$141,入力!E32,入力!$DS$7:$DS$141,情報!$AK$9)","v":0},{"$f":"COUNTIFS(入力!$EN$7:$EN$141,入力!E32,入力!$EM$7:$EM$141,情報!$AK$9)","v":0},{"$f":"COUNTIFS(入力!$FH$7:$FH$141,入力!E32,入力!$FG$7:$FG$141,情報!$AK$9)","v":0},{"$f":"COUNTIFS(入力!$GB$7:$GB$141,入力!E32,入力!$GA$7:$GA$141,情報!$AK$9)","v":0},{"$f":"COUNTIFS(入力!$GV$7:$GV$141,入力!E32,入力!$GU$7:$GU$141,情報!$AK$9)","v":0},{"$f":"COUNTIFS(入力!$HP$7:$HP$141,入力!E32,入力!$HO$7:$HO$141,情報!$AK$9)","v":0},{"$f":"COUNTIFS(入力!$IJ$7:$IJ$141,入力!E32,入力!$II$7:$II$141,情報!$AK$9)","v":0}]
[null,null,null,null,null,null,null,null,null,null,null,null,null,null,null,null,null,null,null,null,null,null,null,null,null,null,null,null,null,null,null,null,null,null,null,null,{"$f":"IF($AL$11=\"\",\"\",VLOOKUP($AL$11,入力!$A$28:$C$34,3,FALSE))","v":""},{"$f":"IF(入力!$E$33=\"\",\"\",入力!$E$33)","v":""},{"$f":"SUM(AN47:AY47)","v":0},{"$f":"COUNTIFS(入力!$X$7:$X$141,入力!E33,入力!$Z$7:$Z$141,情報!$AE$8)+COUNTIFS(入力!$AB$7:$AB$141,入力!E33,入力!$AD$7:$AD$141,情報!$AE$8)","v":0},{"$f":"COUNTIFS(入力!$AR$7:$AR$141,入力!E33,入力!$AT$7:$AT$141,情報!$AE$8)+COUNTIFS(入力!$AV$7:$AV$141,入力!E33,入力!$AX$7:$AX$141,情報!$AE$8)","v":0},{"$f":"COUNTIFS(入力!$BL$7:$BL$141,入力!E33,入力!$BN$7:$BN$141,情報!$AE$8)+COUNTIFS(入力!$BP$7:$BP$141,入力!E33,入力!$BR$7:$BR$141,情報!$AE$8)","v":0},{"$f":"COUNTIFS(入力!$CF$7:$CF$141,入力!E33,入力!$CH$7:$CH$141,情報!$AE$8)+COUNTIFS(入力!$CJ$7:$CJ$141,入力!E33,入力!$CL$7:$CL$141,情報!$AE$8)","v":0},{"$f":"COUNTIFS(入力!$CZ$7:$CZ$141,入力!E33,入力!$DB$7:$DB$141,情報!$AE$8)+COUNTIFS(入力!$DD$7:$DD$141,入力!E33,入力!$DF$7:$DF$141,情報!$AE$8)","v":0},{"$f":"COUNTIFS(入力!$DT$7:$DT$141,入力!E33,入力!$DV$7:$DV$141,情報!$AE$8)+COUNTIFS(入力!$DX$7:$DX$141,入力!E33,入力!$DZ$7:$DZ$141,情報!$AE$8)","v":0},{"$f":"COUNTIFS(入力!$EN$7:$EN$141,入力!E33,入力!$EP$7:$EP$141,情報!$AE$8)+COUNTIFS(入力!$ER$7:$ER$141,入力!E33,入力!$ET$7:$ET$141,情報!$AE$8)","v":0},{"$f":"COUNTIFS(入力!$FH$7:$FH$141,入力!E33,入力!$FJ$7:$FJ$141,情報!$AE$8)+COUNTIFS(入力!$FL$7:$FL$141,入力!E33,入力!$FN$7:$FN$141,情報!$AE$8)","v":0},{"$f":"COUNTIFS(入力!$GB$7:$GB$141,入力!E33,入力!$GD$7:$GD$141,情報!$AE$8)+COUNTIFS(入力!$GF$7:$GF$141,入力!E33,入力!$GH$7:$GH$141,情報!$AE$8)","v":0},{"$f":"COUNTIFS(入力!$GV$7:$GV$141,入力!E33,入力!$GX$7:$GX$141,情報!$AE$8)+COUNTIFS(入力!$GH$7:$GH$141,入力!E33,入力!$HB$7:$HB$141,情報!$AE$8)","v":0},{"$f":"COUNTIFS(入力!$HP$7:$HP$141,入力!E33,入力!$HR$7:$HR$141,情報!$AE$8)+COUNTIFS(入力!$HT$7:$HT$141,入力!E33,入力!$HV$7:$HV$141,情報!$AE$8)","v":0},{"$f":"COUNTIFS(入力!$IJ$7:$IJ$141,入力!E33,入力!$IL$7:$IL$141,情報!$AE$8)+COUNTIFS(入力!$IN$7:$IN$141,入力!E33,入力!$IP$7:$IP$141,情報!$AE$8)","v":0},null,null,{"$f":"IF($AL$11=\"\",\"\",VLOOKUP($AL$11,入力!$A$28:$C$34,3,FALSE))","v":""},{"$f":"IF(入力!$E$33=\"\",\"\",入力!$E$33)","v":""},{"$f":"SUM(BE47:BP47)","v":0},{"$f":"COUNTIFS(入力!$X$7:$X$141,入力!E33,入力!$AA$7:$AA$141,情報!$AH$9)+COUNTIFS(入力!$AB$7:$AB$141,入力!E33,入力!$AE$7:$AE$141,情報!$AH$9)","v":0},{"$f":"COUNTIFS(入力!$AR$7:$AR$141,入力!E33,入力!$AU$7:$AU$141,情報!$AH$9)+COUNTIFS(入力!$AV$7:$AV$141,入力!E33,入力!$AY$7:$AY$141,情報!$AH$9)","v":0},{"$f":"COUNTIFS(入力!$BL$7:$BL$141,入力!E33,入力!$BO$7:$BO$141,情報!$AH$9)+COUNTIFS(入力!$BP$7:$BP$141,入力!E33,入力!$BS$7:$BS$141,情報!$AH$9)","v":0},{"$f":"COUNTIFS(入力!$CF$7:$CF$141,入力!E33,入力!$CI$7:$CI$141,情報!$AH$9)+COUNTIFS(入力!$CJ$7:$CJ$141,入力!E33,入力!$CM$7:$CM$141,情報!$AH$9)","v":0},{"$f":"COUNTIFS(入力!$CZ$7:$CZ$141,入力!E33,入力!$DC$7:$DC$141,情報!$AH$9)+COUNTIFS(入力!$DD$7:$DD$141,入力!E33,入力!$DG$7:$DG$141,情報!$AH$5)","v":0},{"$f":"COUNTIFS(入力!$DT$7:$DT$141,入力!$E$28,入力!$DW$7:$DW$141,情報!$AH$5)+COUNTIFS(入力!$DX$7:$DX$141,入力!$E$28,入力!$EA$7:$EA$141,情報!$AH$9)","v":0},{"$f":"COUNTIFS(入力!$EN$7:$EN$141,入力!E33,入力!$EQ$7:$EQ$141,情報!$AH$9)+COUNTIFS(入力!$ER$7:$ER$141,入力!E33,入力!$EU$7:$EU$141,情報!$AH$9)","v":0},{"$f":"COUNTIFS(入力!$FH$7:$FH$141,入力!E33,入力!$FK$7:$FK$141,情報!$AH$9)+COUNTIFS(入力!$FL$7:$FL$141,入力!E33,入力!$FO$7:$FO$141,情報!$AH$9)","v":0},{"$f":"COUNTIFS(入力!$GB$7:$GB$141,入力!E33,入力!$GE$7:$GE$141,情報!$AH$9)+COUNTIFS(入力!$GF$7:$GF$141,入力!E33,入力!$GI$7:$GI$141,情報!$AH$9)","v":0},{"$f":"COUNTIFS(入力!$GV$7:$GV$141,入力!E33,入力!$GY$7:$GY$141,情報!$AH$9)+COUNTIFS(入力!$GZ$7:$GZ$141,入力!E33,入力!$HC$7:$HC$141,情報!$AH$9)","v":0},{"$f":"COUNTIFS(入力!$HP$7:$HP$141,入力!E33,入力!$HS$7:$HS$141,情報!$AH$9)+COUNTIFS(入力!$HT$7:$HT$141,入力!E33,入力!$HW$7:$HW$141,情報!$AH$9)","v":0},{"$f":"COUNTIFS(入力!$IJ$7:$IJ$141,入力!E33,入力!$IM$7:$IM$141,情報!$AH$9)+COUNTIFS(入力!$IN$7:$IN$141,入力!E33,入力!$IQ$7:$IQ$141,情報!$AH$9)","v":0},null,null,{"$f":"IF($AL$11=\"\",\"\",VLOOKUP($AL$11,入力!$A$28:$C$34,3,FALSE))","v":""},{"$f":"IF(入力!$E$33=\"\",\"\",入力!$E$33)","v":""},{"$f":"SUM(BV47:CG47)","v":0},{"$f":"COUNTIFS(入力!$X$7:$X$141,入力!E33,入力!$W$7:$W$141,情報!$AK$9)","v":0},{"$f":"COUNTIFS(入力!$AR$7:$AR$141,入力!E33,入力!$AQ$7:$AQ$141,情報!$AK$9)","v":0},{"$f":"COUNTIFS(入力!$BL$7:$BL$141,入力!E33,入力!$BK$7:$BK$141,情報!$AK$9)","v":0},{"$f":"COUNTIFS(入力!$CF$7:$CF$141,入力!E33,入力!$CE$7:$CE$141,情報!$AK$9)","v":0},{"$f":"COUNTIFS(入力!$CZ$7:$CZ$141,入力!E33,入力!$CY$7:$CY$141,情報!$AK$9)","v":0},{"$f":"COUNTIFS(入力!$DT$7:$DT$141,入力!E33,入力!$DS$7:$DS$141,情報!$AK$9)","v":0},{"$f":"COUNTIFS(入力!$EN$7:$EN$141,入力!E33,入力!$EM$7:$EM$141,情報!$AK$9)","v":0},{"$f":"COUNTIFS(入力!$FH$7:$FH$141,入力!E33,入力!$FG$7:$FG$141,情報!$AK$9)","v":0},{"$f":"COUNTIFS(入力!$GB$7:$GB$141,入力!E33,入力!$GA$7:$GA$141,情報!$AK$9)","v":0},{"$f":"COUNTIFS(入力!$GV$7:$GV$141,入力!E33,入力!$GU$7:$GU$141,情報!$AK$9)","v":0},{"$f":"COUNTIFS(入力!$HP$7:$HP$141,入力!E33,入力!$HO$7:$HO$141,情報!$AK$9)","v":0},{"$f":"COUNTIFS(入力!$IJ$7:$IJ$141,入力!E33,入力!$II$7:$II$141,情報!$AK$9)","v":0}]
[null,null,null,null,null,null,null,null,null,null,null,null,null,null,null,null,null,null,null,null,null,null,null,null,null,null,null,null,null,null,null,null,null,null,null,null,{"$f":"IF($AL$12=\"\",\"\",VLOOKUP($AL$12,入力!$A$28:$C$34,3,FALSE))","v":""},{"$f":"IF(入力!$E$34=\"\",\"\",入力!$E$34)","v":""},0,{"$f":"COUNTIFS(入力!$X$7:$X$141,入力!E34,入力!$Z$7:$Z$141,情報!$AE$8)+COUNTIFS(入力!$AB$7:$AB$141,入力!E34,入力!$AD$7:$AD$141,情報!$AE$8)","v":0},{"$f":"COUNTIFS(入力!$AR$7:$AR$141,入力!E34,入力!$AT$7:$AT$141,情報!$AE$8)+COUNTIFS(入力!$AV$7:$AV$141,入力!E34,入力!$AX$7:$AX$141,情報!$AE$8)","v":0},{"$f":"COUNTIFS(入力!$BL$7:$BL$141,入力!E34,入力!$BN$7:$BN$141,情報!$AE$8)+COUNTIFS(入力!$BP$7:$BP$141,入力!E34,入力!$BR$7:$BR$141,情報!$AE$8)","v":0},{"$f":"COUNTIFS(入力!$CF$7:$CF$141,入力!E34,入力!$CH$7:$CH$141,情報!$AE$8)+COUNTIFS(入力!$CJ$7:$CJ$141,入力!E34,入力!$CL$7:$CL$141,情報!$AE$8)","v":0},{"$f":"COUNTIFS(入力!$CZ$7:$CZ$141,入力!E34,入力!$DB$7:$DB$141,情報!$AE$8)+COUNTIFS(入力!$DD$7:$DD$141,入力!E34,入力!$DF$7:$DF$141,情報!$AE$8)","v":0},{"$f":"COUNTIFS(入力!$DT$7:$DT$141,入力!E34,入力!$DV$7:$DV$141,情報!$AE$8)+COUNTIFS(入力!$DX$7:$DX$141,入力!E34,入力!$DZ$7:$DZ$141,情報!$AE$8)","v":0},{"$f":"COUNTIFS(入力!$EN$7:$EN$141,入力!E34,入力!$EP$7:$EP$141,情報!$AE$8)+COUNTIFS(入力!$ER$7:$ER$141,入力!E34,入力!$ET$7:$ET$141,情報!$AE$8)","v":0},{"$f":"COUNTIFS(入力!$FH$7:$FH$141,入力!E34,入力!$FJ$7:$FJ$141,情報!$AE$8)+COUNTIFS(入力!$FL$7:$FL$141,入力!E34,入力!$FN$7:$FN$141,情報!$AE$8)","v":0},{"$f":"COUNTIFS(入力!$GB$7:$GB$141,入力!E34,入力!$GD$7:$GD$141,情報!$AE$8)+COUNTIFS(入力!$GF$7:$GF$141,入力!E34,入力!$GH$7:$GH$141,情報!$AE$8)","v":0},{"$f":"COUNTIFS(入力!$GV$7:$GV$141,入力!E34,入力!$GX$7:$GX$141,情報!$AE$8)+COUNTIFS(入力!$GH$7:$GH$141,入力!E34,入力!$HB$7:$HB$141,情報!$AE$8)","v":0},{"$f":"COUNTIFS(入力!$HP$7:$HP$141,入力!E34,入力!$HR$7:$HR$141,情報!$AE$8)+COUNTIFS(入力!$HT$7:$HT$141,入力!E34,入力!$HV$7:$HV$141,情報!$AE$8)","v":0},{"$f":"COUNTIFS(入力!$IJ$7:$IJ$141,入力!E34,入力!$IL$7:$IL$141,情報!$AE$8)+COUNTIFS(入力!$IN$7:$IN$141,入力!E34,入力!$IP$7:$IP$141,情報!$AE$8)","v":0},null,null,{"$f":"IF($AL$12=\"\",\"\",VLOOKUP($AL$12,入力!$A$28:$C$34,3,FALSE))","v":""},{"$f":"IF(入力!$E$34=\"\",\"\",入力!$E$34)","v":""},0,{"$f":"COUNTIFS(入力!$X$7:$X$141,入力!E34,入力!$AA$7:$AA$141,情報!$AH$9)+COUNTIFS(入力!$AB$7:$AB$141,入力!E34,入力!$AE$7:$AE$141,情報!$AH$9)","v":0},{"$f":"COUNTIFS(入力!$AR$7:$AR$141,入力!E34,入力!$AU$7:$AU$141,情報!$AH$9)+COUNTIFS(入力!$AV$7:$AV$141,入力!E34,入力!$AY$7:$AY$141,情報!$AH$9)","v":0},{"$f":"COUNTIFS(入力!$BL$7:$BL$141,入力!E34,入力!$BO$7:$BO$141,情報!$AH$9)+COUNTIFS(入力!$BP$7:$BP$141,入力!E34,入力!$BS$7:$BS$141,情報!$AH$9)","v":0},{"$f":"COUNTIFS(入力!$CF$7:$CF$141,入力!E34,入力!$CI$7:$CI$141,情報!$AH$9)+COUNTIFS(入力!$CJ$7:$CJ$141,入力!E34,入力!$CM$7:$CM$141,情報!$AH$9)","v":0},{"$f":"COUNTIFS(入力!$CZ$7:$CZ$141,入力!E34,入力!$DC$7:$DC$141,情報!$AH$9)+COUNTIFS(入力!$DD$7:$DD$141,入力!E34,入力!$DG$7:$DG$141,情報!$AH$5)","v":0},{"$f":"COUNTIFS(入力!$DT$7:$DT$141,入力!$E$28,入力!$DW$7:$DW$141,情報!$AH$5)+COUNTIFS(入力!$DX$7:$DX$141,入力!$E$28,入力!$EA$7:$EA$141,情報!$AH$9)","v":0},{"$f":"COUNTIFS(入力!$EN$7:$EN$141,入力!E34,入力!$EQ$7:$EQ$141,情報!$AH$9)+COUNTIFS(入力!$ER$7:$ER$141,入力!E34,入力!$EU$7:$EU$141,情報!$AH$9)","v":0},{"$f":"COUNTIFS(入力!$FH$7:$FH$141,入力!E34,入力!$FK$7:$FK$141,情報!$AH$9)+COUNTIFS(入力!$FL$7:$FL$141,入力!E34,入力!$FO$7:$FO$141,情報!$AH$9)","v":0},{"$f":"COUNTIFS(入力!$GB$7:$GB$141,入力!E34,入力!$GE$7:$GE$141,情報!$AH$9)+COUNTIFS(入力!$GF$7:$GF$141,入力!E34,入力!$GI$7:$GI$141,情報!$AH$9)","v":0},{"$f":"COUNTIFS(入力!$GV$7:$GV$141,入力!E34,入力!$GY$7:$GY$141,情報!$AH$9)+COUNTIFS(入力!$GZ$7:$GZ$141,入力!E34,入力!$HC$7:$HC$141,情報!$AH$9)","v":0},{"$f":"COUNTIFS(入力!$HP$7:$HP$141,入力!E34,入力!$HS$7:$HS$141,情報!$AH$9)+COUNTIFS(入力!$HT$7:$HT$141,入力!E34,入力!$HW$7:$HW$141,情報!$AH$9)","v":0},{"$f":"COUNTIFS(入力!$IJ$7:$IJ$141,入力!E34,入力!$IM$7:$IM$141,情報!$AH$9)+COUNTIFS(入力!$IN$7:$IN$141,入力!E34,入力!$IQ$7:$IQ$141,情報!$AH$9)","v":0},null,null,{"$f":"IF($AL$12=\"\",\"\",VLOOKUP($AL$12,入力!$A$28:$C$34,3,FALSE))","v":""},{"$f":"IF(入力!$E$34=\"\",\"\",入力!$E$34)","v":""},0,{"$f":"COUNTIFS(入力!$X$7:$X$141,入力!E34,入力!$W$7:$W$141,情報!$AK$9)","v":0},{"$f":"COUNTIFS(入力!$AR$7:$AR$141,入力!E34,入力!$AQ$7:$AQ$141,情報!$AK$9)","v":0},{"$f":"COUNTIFS(入力!$BL$7:$BL$141,入力!E34,入力!$BK$7:$BK$141,情報!$AK$9)","v":0},{"$f":"COUNTIFS(入力!$CF$7:$CF$141,入力!E34,入力!$CE$7:$CE$141,情報!$AK$9)","v":0},{"$f":"COUNTIFS(入力!$CZ$7:$CZ$141,入力!E34,入力!$CY$7:$CY$141,情報!$AK$9)","v":0},{"$f":"COUNTIFS(入力!$DT$7:$DT$141,入力!E34,入力!$DS$7:$DS$141,情報!$AK$9)","v":0},{"$f":"COUNTIFS(入力!$EN$7:$EN$141,入力!E34,入力!$EM$7:$EM$141,情報!$AK$9)","v":0},{"$f":"COUNTIFS(入力!$FH$7:$FH$141,入力!E34,入力!$FG$7:$FG$141,情報!$AK$9)","v":0},{"$f":"COUNTIFS(入力!$GB$7:$GB$141,入力!E34,入力!$GA$7:$GA$141,情報!$AK$9)","v":0},{"$f":"COUNTIFS(入力!$GV$7:$GV$141,入力!E34,入力!$GU$7:$GU$141,情報!$AK$9)","v":0},{"$f":"COUNTIFS(入力!$HP$7:$HP$141,入力!E34,入力!$HO$7:$HO$141,情報!$AK$9)","v":0},{"$f":"COUNTIFS(入力!$IJ$7:$IJ$141,入力!E34,入力!$II$7:$II$141,情報!$AK$9)","v":0}]
[null,null,null,null,null,null,null,null,null,null,null,null,null,null,null,null,null,null,null,null,null,null,null,null,null,null,null,null,null,null,null,null,null,null,null,null,null,null,null,null,null,null,null,null,null,null,null,null,null,null,null,null,null,null,null,null,null,null,null,null,null,null,null,null,null,null,null,null,null,"四球"]
[null,null,null,null,null,null,null,null,null,null,null,null,null,null,null,null,null,null,null,null,null,null,null,null,null,null,null,null,null,null,null,null,null,null,null,null,null,null,null,null,null,null,null,null,null,null,null,null,null,null,null,null,null,null,null,null,null,null,null,null,null,null,null,null,null,null,null,null,null,"種分","投手名","背番","合計","1回","2回","3回","4回","5回","6回","7回","8回","9回","10回","11回","12回"]
[null,null,null,null,null,null,null,null,null,null,null,null,null,null,null,null,null,null,null,null,null,null,null,null,null,null,null,null,null,null,null,null,null,null,null,null,null,null,null,null,null,null,null,null,null,null,null,null,null,null,null,null,null,null,null,null,null,null,null,null,null,null,null,null,null,null,null,null,null,{"$f":"情報!AK10","v":"B"},{"$f":"IF($AL$6=\"\",\"\",VLOOKUP($AL$6,入力!$A$28:$C$34,3,FALSE))","v":""},{"$f":"IF(入力!$E$28=\"\",\"\",入力!$E$28)","v":""},{"$f":"SUM(BV51:CG51)","v":0},{"$f":"COUNTIFS(入力!$X$7:$X$141,入力!E28,入力!$W$7:$W$141,情報!$AK$10)","v":0},{"$f":"COUNTIFS(入力!$AR$7:$AR$141,入力!E28,入力!$AQ$7:$AQ$141,情報!$AK$10)","v":0},{"$f":"COUNTIFS(入力!$BL$7:$BL$141,入力!E28,入力!$BK$7:$BK$141,情報!$AK$10)","v":0},{"$f":"COUNTIFS(入力!$CF$7:$CF$141,入力!E28,入力!$CE$7:$CE$141,情報!$AK$10)","v":0},{"$f":"COUNTIFS(入力!$CZ$7:$CZ$141,入力!E28,入力!$CY$7:$CY$141,情報!$AK$10)","v":0},{"$f":"COUNTIFS(入力!$DT$7:$DT$141,入力!E28,入力!$DS$7:$DS$141,情報!$AK$10)","v":0},{"$f":"COUNTIFS(入力!$EN$7:$EN$141,入力!E28,入力!$EM$7:$EM$141,情報!$AK$10)","v":0},{"$f":"COUNTIFS(入力!$FH$7:$FH$141,入力!E28,入力!$FG$7:$FG$141,情報!$AK$10)","v":0},{"$f":"COUNTIFS(入力!$GB$7:$GB$141,入力!E28,入力!$GA$7:$GA$141,情報!$AK$10)","v":0},{"$f":"COUNTIFS(入力!$GV$7:$GV$141,入力!E28,入力!$GU$7:$GU$141,情報!$AK$10)","v":0},{"$f":"COUNTIFS(入力!$HP$7:$HP$141,入力!E28,入力!$HO$7:$HO$141,情報!$AK$10)","v":0},{"$f":"COUNTIFS(入力!$IJ$7:$IJ$141,入力!E28,入力!$II$7:$II$141,情報!$AK$10)","v":0}]
[null,null,null,null,null,null,null,null,null,null,null,null,null,null,null,null,null,null,null,null,null,null,null,null,null,null,null,null,null,null,null,null,null,null,null,null,null,null,null,null,null,null,null,null,null,null,null,null,null,null,null,null,null,null,null,null,null,null,null,null,null,null,null,null,null,null,null,null,null,null,{"$f":"IF($AL$7=\"\",\"\",VLOOKUP($AL$7,入力!$A$28:$C$34,3,FALSE))","v":""},{"$f":"IF(入力!$E$29=\"\",\"\",入力!$E$29)","v":""},{"$f":"SUM(BV52:CG52)","v":0},{"$f":"COUNTIFS(入力!$X$7:$X$141,入力!E29,入力!$W$7:$W$141,情報!$AK$10)","v":0},{"$f":"COUNTIFS(入力!$AR$7:$AR$141,入力!E29,入力!$AQ$7:$AQ$141,情報!$AK$10)","v":0},{"$f":"COUNTIFS(入力!$BL$7:$BL$141,入力!E29,入力!$BK$7:$BK$141,情報!$AK$10)","v":0},{"$f":"COUNTIFS(入力!$CF$7:$CF$141,入力!E29,入力!$CE$7:$CE$141,情報!$AK$10)","v":0},{"$f":"COUNTIFS(入力!$CZ$7:$CZ$141,入力!E29,入力!$CY$7:$CY$141,情報!$AK$10)","v":0},{"$f":"COUNTIFS(入力!$DT$7:$DT$141,入力!E29,入力!$DS$7:$DS$141,情報!$AK$10)","v":0},{"$f":"COUNTIFS(入力!$EN$7:$EN$141,入力!E29,入力!$EM$7:$EM$141,情報!$AK$10)","v":0},{"$f":"COUNTIFS(入力!$FH$7:$FH$141,入力!E29,入力!$FG$7:$FG$141,情報!$AK$10)","v":0},{"$f":"COUNTIFS(入力!$GB$7:$GB$141,入力!E29,入力!$GA$7:$GA$141,情報!$AK$10)","v":0},{"$f":"COUNTIFS(入力!$GV$7:$GV$141,入力!E29,入力!$GU$7:$GU$141,情報!$AK$10)","v":0},{"$f":"COUNTIFS(入力!$HP$7:$HP$141,入力!E29,入力!$HO$7:$HO$141,情報!$AK$10)","v":0},{"$f":"COUNTIFS(入力!$IJ$7:$IJ$141,入力!E29,入力!$II$7:$II$141,情報!$AK$10)","v":0}]
[null,null,null,null,null,null,null,null,null,null,null,null,null,null,null,null,null,null,null,null,null,null,null,null,null,null,null,null,null,null,null,null,null,null,null,null,null,null,null,null,null,null,null,null,null,null,null,null,null,null,null,null,null,null,null,null,null,null,null,null,null,null,null,null,null,null,null,null,null,null,{"$f":"IF($AL$8=\"\",\"\",VLOOKUP($AL$8,入力!$A$28:$C$34,3,FALSE))","v":""},{"$f":"IF(入力!$E$30=\"\",\"\",入力!$E$30)","v":""},0,{"$f":"COUNTIFS(入力!$X$7:$X$141,入力!E30,入力!$W$7:$W$141,情報!$AK$10)","v":0},{"$f":"COUNTIFS(入力!$AR$7:$AR$141,入力!E30,入力!$AQ$7:$AQ$141,情報!$AK$10)","v":0},{"$f":"COUNTIFS(入力!$BL$7:$BL$141,入力!E30,入力!$BK$7:$BK$141,情報!$AK$10)","v":0},{"$f":"COUNTIFS(入力!$CF$7:$CF$141,入力!E30,入力!$CE$7:$CE$141,情報!$AK$10)","v":0},{"$f":"COUNTIFS(入力!$CZ$7:$CZ$141,入力!E30,入力!$CY$7:$CY$141,情報!$AK$10)","v":0},{"$f":"COUNTIFS(入力!$DT$7:$DT$141,入力!E30,入力!$DS$7:$DS$141,情報!$AK$10)","v":0},{"$f":"COUNTIFS(入力!$EN$7:$EN$141,入力!E30,入力!$EM$7:$EM$141,情報!$AK$10)","v":0},{"$f":"COUNTIFS(入力!$FH$7:$FH$141,入力!E30,入力!$FG$7:$FG$141,情報!$AK$10)","v":0},{"$f":"COUNTIFS(入力!$GB$7:$GB$141,入力!E30,入力!$GA$7:$GA$141,情報!$AK$10)","v":0},{"$f":"COUNTIFS(入力!$GV$7:$GV$141,入力!E30,入力!$GU$7:$GU$141,情報!$AK$10)","v":0},{"$f":"COUNTIFS(入力!$HP$7:$HP$141,入力!E30,入力!$HO$7:$HO$141,情報!$AK$10)","v":0},{"$f":"COUNTIFS(入力!$IJ$7:$IJ$141,入力!E30,入力!$II$7:$II$141,情報!$AK$10)","v":0}]
[null,null,null,null,null,null,null,null,null,null,null,null,null,null,null,null,null,null,null,null,null,null,null,null,null,null,null,null,null,null,null,null,null,null,null,null,null,null,null,null,null,null,null,null,null,null,null,null,null,null,null,null,null,null,null,null,null,null,null,null,null,null,null,null,null,null,null,null,null,null,{"$f":"IF($AL$9=\"\",\"\",VLOOKUP($AL$9,入力!$A$28:$C$34,3,FALSE))","v":""},{"$f":"IF(入力!$E$31=\"\",\"\",入力!AM76)","v":""},0,{"$f":"COUNTIFS(入力!$X$7:$X$141,入力!E31,入力!$W$7:$W$141,情報!$AK$10)","v":0},{"$f":"COUNTIFS(入力!$AR$7:$AR$141,入力!E31,入力!$AQ$7:$AQ$141,情報!$AK$10)","v":0},{"$f":"COUNTIFS(入力!$BL$7:$BL$141,入力!E31,入力!$BK$7:$BK$141,情報!$AK$10)","v":0},{"$f":"COUNTIFS(入力!$CF$7:$CF$141,入力!E31,入力!$CE$7:$CE$141,情報!$AK$10)","v":0},{"$f":"COUNTIFS(入力!$CZ$7:$CZ$141,入力!E31,入力!$CY$7:$CY$141,情報!$AK$10)","v":0},{"$f":"COUNTIFS(入力!$DT$7:$DT$141,入力!E31,入力!$DS$7:$DS$141,情報!$AK$10)","v":0},{"$f":"COUNTIFS(入力!$EN$7:$EN$141,入力!E31,入力!$EM$7:$EM$141,情報!$AK$10)","v":0},{"$f":"COUNTIFS(入力!$FH$7:$FH$141,入力!E31,入力!$FG$7:$FG$141,情報!$AK$10)","v":0},{"$f":"COUNTIFS(入力!$GB$7:$GB$141,入力!E31,入力!$GA$7:$GA$141,情報!$AK$10)","v":0},{"$f":"COUNTIFS(入力!$GV$7:$GV$141,入力!E31,入力!$GU$7:$GU$141,情報!$AK$10)","v":0},{"$f":"COUNTIFS(入力!$HP$7:$HP$141,入力!E31,入力!$HO$7:$HO$141,情報!$AK$10)","v":0},{"$f":"COUNTIFS(入力!$IJ$7:$IJ$141,入力!E31,入力!$II$7:$II$141,情報!$AK$10)","v":0}]
[null,null,null,null,null,null,null,null,null,null,null,null,null,null,null,null,null,null,null,null,null,null,null,null,null,null,null,null,null,null,null,null,null,null,null,null,null,null,null,null,null,null,null,null,null,null,null,null,null,null,null,null,null,null,null,null,null,null,null,null,null,null,null,null,null,null,null,null,null,null,{"$f":"IF($AL$10=\"\",\"\",VLOOKUP($AL$10,入力!$A$28:$C$34,3,FALSE))","v":""},{"$f":"IF(入力!$E$32=\"\",\"\",入力!$E$32)","v":""},0,{"$f":"COUNTIFS(入力!$X$7:$X$141,入力!E32,入力!$W$7:$W$141,情報!$AK$10)","v":0},{"$f":"COUNTIFS(入力!$AR$7:$AR$141,入力!E32,入力!$AQ$7:$AQ$141,情報!$AK$10)","v":0},{"$f":"COUNTIFS(入力!$BL$7:$BL$141,入力!E32,入力!$BK$7:$BK$141,情報!$AK$10)","v":0},{"$f":"COUNTIFS(入力!$CF$7:$CF$141,入力!E32,入力!$CE$7:$CE$141,情報!$AK$10)","v":0},{"$f":"COUNTIFS(入力!$CZ$7:$CZ$141,入力!E32,入力!$CY$7:$CY$141,情報!$AK$10)","v":0},{"$f":"COUNTIFS(入力!$DT$7:$DT$141,入力!E32,入力!$DS$7:$DS$141,情報!$AK$10)","v":0},{"$f":"COUNTIFS(入力!$EN$7:$EN$141,入力!E32,入力!$EM$7:$EM$141,情報!$AK$10)","v":0},{"$f":"COUNTIFS(入力!$FH$7:$FH$141,入力!E32,入力!$FG$7:$FG$141,情報!$AK$10)","v":0},{"$f":"COUNTIFS(入力!$GB$7:$GB$141,入力!E32,入力!$GA$7:$GA$141,情報!$AK$10)","v":0},{"$f":"COUNTIFS(入力!$GV$7:$GV$141,入力!E32,入力!$GU$7:$GU$141,情報!$AK$10)","v":0},{"$f":"COUNTIFS(入力!$HP$7:$HP$141,入力!E32,入力!$HO$7:$HO$141,情報!$AK$10)","v":0},{"$f":"COUNTIFS(入力!$IJ$7:$IJ$141,入力!E32,入力!$II$7:$II$141,情報!$AK$10)","v":0}]
[null,null,null,null,null,null,null,null,null,null,null,null,null,null,null,null,null,null,null,null,null,null,null,null,null,null,null,null,null,null,null,null,null,null,null,null,null,null,null,null,null,null,null,null,null,null,null,null,null,null,null,null,null,null,null,null,null,null,null,null,null,null,null,null,null,null,null,null,null,null,{"$f":"IF($AL$11=\"\",\"\",VLOOKUP($AL$11,入力!$A$28:$C$34,3,FALSE))","v":""},{"$f":"IF(入力!$E$33=\"\",\"\",入力!$E$33)","v":""},{"$f":"SUM(BV56:CG56)","v":0},{"$f":"COUNTIFS(入力!$X$7:$X$141,入力!E33,入力!$W$7:$W$141,情報!$AK$10)","v":0},{"$f":"COUNTIFS(入力!$AR$7:$AR$141,入力!E33,入力!$AQ$7:$AQ$141,情報!$AK$10)","v":0},{"$f":"COUNTIFS(入力!$BL$7:$BL$141,入力!E33,入力!$BK$7:$BK$141,情報!$AK$10)","v":0},{"$f":"COUNTIFS(入力!$CF$7:$CF$141,入力!E33,入力!$CE$7:$CE$141,情報!$AK$10)","v":0},{"$f":"COUNTIFS(入力!$CZ$7:$CZ$141,入力!E33,入力!$CY$7:$CY$141,情報!$AK$10)","v":0},{"$f":"COUNTIFS(入力!$DT$7:$DT$141,入力!E33,入力!$DS$7:$DS$141,情報!$AK$10)","v":0},{"$f":"COUNTIFS(入力!$EN$7:$EN$141,入力!E33,入力!$EM$7:$EM$141,情報!$AK$10)","v":0},{"$f":"COUNTIFS(入力!$FH$7:$FH$141,入力!E33,入力!$FG$7:$FG$141,情報!$AK$10)","v":0},{"$f":"COUNTIFS(入力!$GB$7:$GB$141,入力!E33,入力!$GA$7:$GA$141,情報!$AK$10)","v":0},{"$f":"COUNTIFS(入力!$GV$7:$GV$141,入力!E33,入力!$GU$7:$GU$141,情報!$AK$10)","v":0},{"$f":"COUNTIFS(入力!$HP$7:$HP$141,入力!E33,入力!$HO$7:$HO$141,情報!$AK$10)","v":0},{"$f":"COUNTIFS(入力!$IJ$7:$IJ$141,入力!E33,入力!$II$7:$II$141,情報!$AK$10)","v":0}]
[null,null,null,null,null,null,null,null,null,null,null,null,null,null,null,null,null,null,null,null,null,null,null,null,null,null,null,null,null,null,null,null,null,null,null,null,null,null,null,null,null,null,null,null,null,null,null,null,null,null,null,null,null,null,null,null,null,null,null,null,null,null,null,null,null,null,null,null,null,null,{"$f":"IF($AL$12=\"\",\"\",VLOOKUP($AL$12,入力!$A$28:$C$34,3,FALSE))","v":""},{"$f":"IF(入力!$E$34=\"\",\"\",入力!$E$34)","v":""},0,{"$f":"COUNTIFS(入力!$X$7:$X$141,入力!E34,入力!$W$7:$W$141,情報!$AK$10)","v":0},{"$f":"COUNTIFS(入力!$AR$7:$AR$141,入力!E34,入力!$AQ$7:$AQ$141,情報!$AK$10)","v":0},{"$f":"COUNTIFS(入力!$BL$7:$BL$141,入力!E34,入力!$BK$7:$BK$141,情報!$AK$10)","v":0},{"$f":"COUNTIFS(入力!$CF$7:$CF$141,入力!E34,入力!$CE$7:$CE$141,情報!$AK$10)","v":0},{"$f":"COUNTIFS(入力!$CZ$7:$CZ$141,入力!E34,入力!$CY$7:$CY$141,情報!$AK$10)","v":0},{"$f":"COUNTIFS(入力!$DT$7:$DT$141,入力!E34,入力!$DS$7:$DS$141,情報!$AK$10)","v":0},{"$f":"COUNTIFS(入力!$EN$7:$EN$141,入力!E34,入力!$EM$7:$EM$141,情報!$AK$10)","v":0},{"$f":"COUNTIFS(入力!$FH$7:$FH$141,入力!E34,入力!$FG$7:$FG$141,情報!$AK$10)","v":0},{"$f":"COUNTIFS(入力!$GB$7:$GB$141,入力!E34,入力!$GA$7:$GA$141,情報!$AK$10)","v":0},{"$f":"COUNTIFS(入力!$GV$7:$GV$141,入力!E34,入力!$GU$7:$GU$141,情報!$AK$10)","v":0},{"$f":"COUNTIFS(入力!$HP$7:$HP$141,入力!E34,入力!$HO$7:$HO$141,情報!$AK$10)","v":0},{"$f":"COUNTIFS(入力!$IJ$7:$IJ$141,入力!E34,入力!$II$7:$II$141,情報!$AK$10)","v":0}]
[null,null,null,null,null,null,null,null,null,null,null,null,null,null,null,null,null,null,null,null,null,null,null,null,null,null,null,null,null,null,null,null,null,null,null,null,null,null,null,null,null,null,null,null,null,null,null,null,null,null,null,null,null,null,null,null,null,null,null,null,null,null,null,null,null,null,null,null,null,"死球"]
[null,null,null,null,null,null,null,null,null,null,null,null,null,null,null,null,null,null,null,null,null,null,null,null,null,null,null,null,null,null,null,null,null,null,null,null,null,null,null,null,null,null,null,null,null,null,null,null,null,null,null,null,null,null,null,null,null,null,null,null,null,null,null,null,null,null,null,null,null,"種分","投手名","背番","合計","1回","2回","3回","4回","5回","6回","7回","8回","9回","10回","11回","12回"]
[null,null,null,null,null,null,null,null,null,null,null,null,null,null,null,null,null,null,null,null,null,null,null,null,null,null,null,null,null,null,null,null,null,null,null,null,null,null,null,null,null,null,null,null,null,null,null,null,null,null,null,null,null,null,null,null,null,null,null,null,null,null,null,null,null,null,null,null,null,{"$f":"情報!AK11","v":"DB"},{"$f":"IF($AL$6=\"\",\"\",VLOOKUP($AL$6,入力!$A$28:$C$34,3,FALSE))","v":""},{"$f":"IF(入力!$E$28=\"\",\"\",入力!$E$28)","v":""},{"$f":"SUM(BV60:CG60)","v":0},{"$f":"COUNTIFS(入力!$X$7:$X$141,入力!E28,入力!$W$7:$W$141,情報!$AK$11)","v":0},{"$f":"COUNTIFS(入力!$AR$7:$AR$141,入力!E28,入力!$AQ$7:$AQ$141,情報!$AK$11)","v":0},{"$f":"COUNTIFS(入力!$BL$7:$BL$141,入力!E28,入力!$BK$7:$BK$141,情報!$AK$11)","v":0},{"$f":"COUNTIFS(入力!$CF$7:$CF$141,入力!E28,入力!$CE$7:$CE$141,情報!$AK$11)","v":0},{"$f":"COUNTIFS(入力!$CZ$7:$CZ$141,入力!E28,入力!$CY$7:$CY$141,情報!$AK$11)","v":0},{"$f":"COUNTIFS(入力!$DT$7:$DT$141,入力!E28,入力!$DS$7:$DS$141,情報!$AK$11)","v":0},{"$f":"COUNTIFS(入力!$EN$7:$EN$141,入力!E28,入力!$EM$7:$EM$141,情報!$AK$11)","v":0},{"$f":"COUNTIFS(入力!$FH$7:$FH$141,入力!E28,入力!$FG$7:$FG$141,情報!$AK$11)","v":0},{"$f":"COUNTIFS(入力!$GB$7:$GB$141,入力!E28,入力!$GA$7:$GA$141,情報!$AK$11)","v":0},{"$f":"COUNTIFS(入力!$GV$7:$GV$141,入力!E28,入力!$GU$7:$GU$141,情報!$AK$11)","v":0},{"$f":"COUNTIFS(入力!$HP$7:$HP$141,入力!E28,入力!$HO$7:$HO$141,情報!$AK$11)","v":0},{"$f":"COUNTIFS(入力!$IJ$7:$IJ$141,入力!E28,入力!$II$7:$II$141,情報!$AK$11)","v":0}]
[null,null,null,null,null,null,null,null,null,null,null,null,null,null,null,null,null,null,null,null,null,null,null,null,null,null,null,null,null,null,null,null,null,null,null,null,null,null,null,null,null,null,null,null,null,null,null,null,null,null,null,null,null,null,null,null,null,null,null,null,null,null,null,null,null,null,null,null,null,null,{"$f":"IF($AL$7=\"\",\"\",VLOOKUP($AL$7,入力!$A$28:$C$34,3,FALSE))","v":""},{"$f":"IF(入力!$E$29=\"\",\"\",入力!$E$29)","v":""},{"$f":"SUM(BV61:CG61)","v":0},{"$f":"COUNTIFS(入力!$X$7:$X$141,入力!E29,入力!$W$7:$W$141,情報!$AK$11)","v":0},{"$f":"COUNTIFS(入力!$AR$7:$AR$141,入力!E29,入力!$AQ$7:$AQ$141,情報!$AK$11)","v":0},{"$f":"COUNTIFS(入力!$BL$7:$BL$141,入力!E29,入力!$BK$7:$BK$141,情報!$AK$11)","v":0},{"$f":"COUNTIFS(入力!$CF$7:$CF$141,入力!E29,入力!$CE$7:$CE$141,情報!$AK$11)","v":0},{"$f":"COUNTIFS(入力!$CZ$7:$CZ$141,入力!E29,入力!$CY$7:$CY$141,情報!$AK$11)","v":0},{"$f":"COUNTIFS(入力!$DT$7:$DT$141,入力!E29,入力!$DS$7:$DS$141,情報!$AK$11)","v":0},{"$f":"COUNTIFS(入力!$EN$7:$EN$141,入力!E29,入力!$EM$7:$EM$141,情報!$AK$11)","v":0},{"$f":"COUNTIFS(入力!$FH$7:$FH$141,入力!E29,入力!$FG$7:$FG$141,情報!$AK$11)","v":0},{"$f":"COUNTIFS(入力!$GB$7:$GB$141,入力!E29,入力!$GA$7:$GA$141,情報!$AK$11)","v":0},{"$f":"COUNTIFS(入力!$GV$7:$GV$141,入力!E29,入力!$GU$7:$GU$141,情報!$AK$11)","v":0},{"$f":"COUNTIFS(入力!$HP$7:$HP$141,入力!E29,入力!$HO$7:$HO$141,情報!$AK$11)","v":0},{"$f":"COUNTIFS(入力!$IJ$7:$IJ$141,入力!E29,入力!$II$7:$II$141,情報!$AK$11)","v":0}]
[null,null,null,null,null,null,null,null,null,null,null,null,null,null,null,null,null,null,null,null,null,null,null,null,null,null,null,null,null,null,null,null,null,null,null,null,null,null,null,null,null,null,null,null,null,null,null,null,null,null,null,null,null,null,null,null,null,null,null,null,null,null,null,null,null,null,null,null,null,null,{"$f":"IF($AL$8=\"\",\"\",VLOOKUP($AL$8,入力!$A$28:$C$34,3,FALSE))","v":""},{"$f":"IF(入力!$E$30=\"\",\"\",入力!$E$30)","v":""},0,{"$f":"COUNTIFS(入力!$X$7:$X$141,入力!E30,入力!$W$7:$W$141,情報!$AK$11)","v":0},{"$f":"COUNTIFS(入力!$AR$7:$AR$141,入力!E30,入力!$AQ$7:$AQ$141,情報!$AK$11)","v":0},{"$f":"COUNTIFS(入力!$BL$7:$BL$141,入力!E30,入力!$BK$7:$BK$141,情報!$AK$11)","v":0},{"$f":"COUNTIFS(入力!$CF$7:$CF$141,入力!E30,入力!$CE$7:$CE$141,情報!$AK$11)","v":0},{"$f":"COUNTIFS(入力!$CZ$7:$CZ$141,入力!E30,入力!$CY$7:$CY$141,情報!$AK$11)","v":0},{"$f":"COUNTIFS(入力!$DT$7:$DT$141,入力!E30,入力!$DS$7:$DS$141,情報!$AK$11)","v":0},{"$f":"COUNTIFS(入力!$EN$7:$EN$141,入力!E30,入力!$EM$7:$EM$141,情報!$AK$11)","v":0},{"$f":"COUNTIFS(入力!$FH$7:$FH$141,入力!E30,入力!$FG$7:$FG$141,情報!$AK$11)","v":0},{"$f":"COUNTIFS(入力!$GB$7:$GB$141,入力!E30,入力!$GA$7:$GA$141,情報!$AK$11)","v":0},{"$f":"COUNTIFS(入力!$GV$7:$GV$141,入力!E30,入力!$GU$7:$GU$141,情報!$AK$11)","v":0},{"$f":"COUNTIFS(入力!$HP$7:$HP$141,入力!E30,入力!$HO$7:$HO$141,情報!$AK$11)","v":0},{"$f":"COUNTIFS(入力!$IJ$7:$IJ$141,入力!E30,入力!$II$7:$II$141,情報!$AK$11)","v":0}]
[null,null,null,null,null,null,null,null,null,null,null,null,null,null,null,null,null,null,null,null,null,null,null,null,null,null,null,null,null,null,null,null,null,null,null,null,null,null,null,null,null,null,null,null,null,null,null,null,null,null,null,null,null,null,null,null,null,null,null,null,null,null,null,null,null,null,null,null,null,null,{"$f":"IF($AL$9=\"\",\"\",VLOOKUP($AL$9,入力!$A$28:$C$34,3,FALSE))","v":""},{"$f":"IF(入力!$E$31=\"\",\"\",入力!AM85)","v":""},0,{"$f":"COUNTIFS(入力!$X$7:$X$141,入力!E31,入力!$W$7:$W$141,情報!$AK$11)","v":0},{"$f":"COUNTIFS(入力!$AR$7:$AR$141,入力!E31,入力!$AQ$7:$AQ$141,情報!$AK$11)","v":0},{"$f":"COUNTIFS(入力!$BL$7:$BL$141,入力!E31,入力!$BK$7:$BK$141,情報!$AK$11)","v":0},{"$f":"COUNTIFS(入力!$CF$7:$CF$141,入力!E31,入力!$CE$7:$CE$141,情報!$AK$11)","v":0},{"$f":"COUNTIFS(入力!$CZ$7:$CZ$141,入力!E31,入力!$CY$7:$CY$141,情報!$AK$11)","v":0},{"$f":"COUNTIFS(入力!$DT$7:$DT$141,入力!E31,入力!$DS$7:$DS$141,情報!$AK$11)","v":0},{"$f":"COUNTIFS(入力!$EN$7:$EN$141,入力!E31,入力!$EM$7:$EM$141,情報!$AK$11)","v":0},{"$f":"COUNTIFS(入力!$FH$7:$FH$141,入力!E31,入力!$FG$7:$FG$141,情報!$AK$11)","v":0},{"$f":"COUNTIFS(入力!$GB$7:$GB$141,入力!E31,入力!$GA$7:$GA$141,情報!$AK$11)","v":0},{"$f":"COUNTIFS(入力!$GV$7:$GV$141,入力!E31,入力!$GU$7:$GU$141,情報!$AK$11)","v":0},{"$f":"COUNTIFS(入力!$HP$7:$HP$141,入力!E31,入力!$HO$7:$HO$141,情報!$AK$11)","v":0},{"$f":"COUNTIFS(入力!$IJ$7:$IJ$141,入力!E31,入力!$II$7:$II$141,情報!$AK$11)","v":0}]
[null,null,null,null,null,null,null,null,null,null,null,null,null,null,null,null,null,null,null,null,null,null,null,null,null,null,null,null,null,null,null,null,null,null,null,null,null,null,null,null,null,null,null,null,null,null,null,null,null,null,null,null,null,null,null,null,null,null,null,null,null,null,null,null,null,null,null,null,null,null,{"$f":"IF($AL$10=\"\",\"\",VLOOKUP($AL$10,入力!$A$28:$C$34,3,FALSE))","v":""},{"$f":"IF(入力!$E$32=\"\",\"\",入力!$E$32)","v":""},0,{"$f":"COUNTIFS(入力!$X$7:$X$141,入力!E32,入力!$W$7:$W$141,情報!$AK$11)","v":0},{"$f":"COUNTIFS(入力!$AR$7:$AR$141,入力!E32,入力!$AQ$7:$AQ$141,情報!$AK$11)","v":0},{"$f":"COUNTIFS(入力!$BL$7:$BL$141,入力!E32,入力!$BK$7:$BK$141,情報!$AK$11)","v":0},{"$f":"COUNTIFS(入力!$CF$7:$CF$141,入力!E32,入力!$CE$7:$CE$141,情報!$AK$11)","v":0},{"$f":"COUNTIFS(入力!$CZ$7:$CZ$141,入力!E32,入力!$CY$7:$CY$141,情報!$AK$11)","v":0},{"$f":"COUNTIFS(入力!$DT$7:$DT$141,入力!E32,入力!$DS$7:$DS$141,情報!$AK$11)","v":0},{"$f":"COUNTIFS(入力!$EN$7:$EN$141,入力!E32,入力!$EM$7:$EM$141,情報!$AK$11)","v":0},{"$f":"COUNTIFS(入力!$FH$7:$FH$141,入力!E32,入力!$FG$7:$FG$141,情報!$AK$11)","v":0},{"$f":"COUNTIFS(入力!$GB$7:$GB$141,入力!E32,入力!$GA$7:$GA$141,情報!$AK$11)","v":0},{"$f":"COUNTIFS(入力!$GV$7:$GV$141,入力!E32,入力!$GU$7:$GU$141,情報!$AK$11)","v":0},{"$f":"COUNTIFS(入力!$HP$7:$HP$141,入力!E32,入力!$HO$7:$HO$141,情報!$AK$11)","v":0},{"$f":"COUNTIFS(入力!$IJ$7:$IJ$141,入力!E32,入力!$II$7:$II$141,情報!$AK$11)","v":0}]
[null,null,null,null,null,null,null,null,null,null,null,null,null,null,null,null,null,null,null,null,null,null,null,null,null,null,null,null,null,null,null,null,null,null,null,null,null,null,null,null,null,null,null,null,null,null,null,null,null,null,null,null,null,null,null,null,null,null,null,null,null,null,null,null,null,null,null,null,null,null,{"$f":"IF($AL$11=\"\",\"\",VLOOKUP($AL$11,入力!$A$28:$C$34,3,FALSE))","v":""},{"$f":"IF(入力!$E$33=\"\",\"\",入力!$E$33)","v":""},{"$f":"SUM(BV65:CG65)","v":0},{"$f":"COUNTIFS(入力!$X$7:$X$141,入力!E33,入力!$W$7:$W$141,情報!$AK$11)","v":0},{"$f":"COUNTIFS(入力!$AR$7:$AR$141,入力!E33,入力!$AQ$7:$AQ$141,情報!$AK$11)","v":0},{"$f":"COUNTIFS(入力!$BL$7:$BL$141,入力!E33,入力!$BK$7:$BK$141,情報!$AK$11)","v":0},{"$f":"COUNTIFS(入力!$CF$7:$CF$141,入力!E33,入力!$CE$7:$CE$141,情報!$AK$11)","v":0},{"$f":"COUNTIFS(入力!$CZ$7:$CZ$141,入力!E33,入力!$CY$7:$CY$141,情報!$AK$11)","v":0},{"$f":"COUNTIFS(入力!$DT$7:$DT$141,入力!E33,入力!$DS$7:$DS$141,情報!$AK$11)","v":0},{"$f":"COUNTIFS(入力!$EN$7:$EN$141,入力!E33,入力!$EM$7:$EM$141,情報!$AK$11)","v":0},{"$f":"COUNTIFS(入力!$FH$7:$FH$141,入力!E33,入力!$FG$7:$FG$141,情報!$AK$11)","v":0},{"$f":"COUNTIFS(入力!$GB$7:$GB$141,入力!E33,入力!$GA$7:$GA$141,情報!$AK$11)","v":0},{"$f":"COUNTIFS(入力!$GV$7:$GV$141,入力!E33,入力!$GU$7:$GU$141,情報!$AK$11)","v":0},{"$f":"COUNTIFS(入力!$HP$7:$HP$141,入力!E33,入力!$HO$7:$HO$141,情報!$AK$11)","v":0},{"$f":"COUNTIFS(入力!$IJ$7:$IJ$141,入力!E33,入力!$II$7:$II$141,情報!$AK$11)","v":0}]
[null,null,null,null,null,null,null,null,null,null,null,null,null,null,null,null,null,null,null,null,null,null,null,null,null,null,null,null,null,null,null,null,null,null,null,null,null,null,null,null,null,null,null,null,null,null,null,null,null,null,null,null,null,null,null,null,null,null,null,null,null,null,null,null,null,null,null,null,null,null,{"$f":"IF($AL$12=\"\",\"\",VLOOKUP($AL$12,入力!$A$28:$C$34,3,FALSE))","v":""},{"$f":"IF(入力!$E$34=\"\",\"\",入力!$E$34)","v":""},0,{"$f":"COUNTIFS(入力!$X$7:$X$141,入力!E34,入力!$W$7:$W$141,情報!$AK$11)","v":0},{"$f":"COUNTIFS(入力!$AR$7:$AR$141,入力!E34,入力!$AQ$7:$AQ$141,情報!$AK$11)","v":0},{"$f":"COUNTIFS(入力!$BL$7:$BL$141,入力!E34,入力!$BK$7:$BK$141,情報!$AK$11)","v":0},{"$f":"COUNTIFS(入力!$CF$7:$CF$141,入力!E34,入力!$CE$7:$CE$141,情報!$AK$11)","v":0},{"$f":"COUNTIFS(入力!$CZ$7:$CZ$141,入力!E34,入力!$CY$7:$CY$141,情報!$AK$11)","v":0},{"$f":"COUNTIFS(入力!$DT$7:$DT$141,入力!E34,入力!$DS$7:$DS$141,情報!$AK$11)","v":0},{"$f":"COUNTIFS(入力!$EN$7:$EN$141,入力!E34,入力!$EM$7:$EM$141,情報!$AK$11)","v":0},{"$f":"COUNTIFS(入力!$FH$7:$FH$141,入力!E34,入力!$FG$7:$FG$141,情報!$AK$11)","v":0},{"$f":"COUNTIFS(入力!$GB$7:$GB$141,入力!E34,入力!$GA$7:$GA$141,情報!$AK$11)","v":0},{"$f":"COUNTIFS(入力!$GV$7:$GV$141,入力!E34,入力!$GU$7:$GU$141,情報!$AK$11)","v":0},{"$f":"COUNTIFS(入力!$HP$7:$HP$141,入力!E34,入力!$HO$7:$HO$141,情報!$AK$11)","v":0},{"$f":"COUNTIFS(入力!$IJ$7:$IJ$141,入力!E34,入力!$II$7:$II$141,情報!$AK$11)","v":0}]
[null,null,null,null,null,null,null,null,null,null,null,null,null,null,null,null,null,null,null,null,null,null,null,null,null,null,null,null,null,null,null,null,null,null,null,null,null,null,null,null,null,null,null,null,null,null,null,null,null,null,null,null,null,null,null,null,null,null,null,null,null,null,null,null,null,null,null,null,null,"見送り三振"]
[null,null,null,null,null,null,null,null,null,null,null,null,null,null,null,null,null,null,null,null,null,null,null,null,null,null,null,null,null,null,null,null,null,null,null,null,null,null,null,null,null,null,null,null,null,null,null,null,null,null,null,null,null,null,null,null,null,null,null,null,null,null,null,null,null,null,null,null,null,"種分","投手名","背番","合計","1回","2回","3回","4回","5回","6回","7回","8回","9回","10回","11回","12回"]
[null,null,null,null,null,null,null,null,null,null,null,null,null,null,null,null,null,null,null,null,null,null,null,null,null,null,null,null,null,null,null,null,null,null,null,null,null,null,null,null,null,null,null,null,null,null,null,null,null,null,null,null,null,null,null,null,null,null,null,null,null,null,null,null,null,null,null,null,null,{"$f":"情報!AK12","v":"K"},{"$f":"IF($AL$6=\"\",\"\",VLOOKUP($AL$6,入力!$A$28:$C$34,3,FALSE))","v":""},{"$f":"IF(入力!$E$28=\"\",\"\",入力!$E$28)","v":""},{"$f":"SUM(BV69:CG69)","v":0},{"$f":"COUNTIFS(入力!$X$7:$X$141,入力!E28,入力!$W$7:$W$141,情報!$AK$12)","v":0},{"$f":"COUNTIFS(入力!$AR$7:$AR$141,入力!E28,入力!$AQ$7:$AQ$141,情報!$AK$12)","v":0},{"$f":"COUNTIFS(入力!$BL$7:$BL$141,入力!E28,入力!$BK$7:$BK$141,情報!$AK$12)","v":0},{"$f":"COUNTIFS(入力!$CF$7:$CF$141,入力!E28,入力!$CE$7:$CE$141,情報!$AK$12)","v":0},{"$f":"COUNTIFS(入力!$CZ$7:$CZ$141,入力!E28,入力!$CY$7:$CY$141,情報!$AK$12)","v":0},{"$f":"COUNTIFS(入力!$DT$7:$DT$141,入力!E28,入力!$DS$7:$DS$141,情報!$AK$12)","v":0},{"$f":"COUNTIFS(入力!$EN$7:$EN$141,入力!E28,入力!$EM$7:$EM$141,情報!$AK$12)","v":0},{"$f":"COUNTIFS(入力!$FH$7:$FH$141,入力!E28,入力!$FG$7:$FG$141,情報!$AK$12)","v":0},{"$f":"COUNTIFS(入力!$GB$7:$GB$141,入力!E28,入力!$GA$7:$GA$141,情報!$AK$12)","v":0},{"$f":"COUNTIFS(入力!$GV$7:$GV$141,入力!E28,入力!$GU$7:$GU$141,情報!$AK$12)","v":0},{"$f":"COUNTIFS(入力!$HP$7:$HP$141,入力!E28,入力!$HO$7:$HO$141,情報!$AK$12)","v":0},{"$f":"COUNTIFS(入力!$IJ$7:$IJ$141,入力!E28,入力!$II$7:$II$141,情報!$AK$12)","v":0}]
[null,null,null,null,null,null,null,null,null,null,null,null,null,null,null,null,null,null,null,null,null,null,null,null,null,null,null,null,null,null,null,null,null,null,null,null,null,null,null,null,null,null,null,null,null,null,null,null,null,null,null,null,null,null,null,null,null,null,null,null,null,null,null,null,null,null,null,null,null,null,{"$f":"IF($AL$7=\"\",\"\",VLOOKUP($AL$7,入力!$A$28:$C$34,3,FALSE))","v":""},{"$f":"IF(入力!$E$29=\"\",\"\",入力!$E$29)","v":""},{"$f":"SUM(BV70:CG70)","v":0},{"$f":"COUNTIFS(入力!$X$7:$X$141,入力!E29,入力!$W$7:$W$141,情報!$AK$12)","v":0},{"$f":"COUNTIFS(入力!$AR$7:$AR$141,入力!E29,入力!$AQ$7:$AQ$141,情報!$AK$12)","v":0},{"$f":"COUNTIFS(入力!$BL$7:$BL$141,入力!E29,入力!$BK$7:$BK$141,情報!$AK$12)","v":0},{"$f":"COUNTIFS(入力!$CF$7:$CF$141,入力!E29,入力!$CE$7:$CE$141,情報!$AK$12)","v":0},{"$f":"COUNTIFS(入力!$CZ$7:$CZ$141,入力!E29,入力!$CY$7:$CY$141,情報!$AK$12)","v":0},{"$f":"COUNTIFS(入力!$DT$7:$DT$141,入力!E29,入力!$DS$7:$DS$141,情報!$AK$12)","v":0},{"$f":"COUNTIFS(入力!$EN$7:$EN$141,入力!E29,入力!$EM$7:$EM$141,情報!$AK$12)","v":0},{"$f":"COUNTIFS(入力!$FH$7:$FH$141,入力!E29,入力!$FG$7:$FG$141,情報!$AK$12)","v":0},{"$f":"COUNTIFS(入力!$GB$7:$GB$141,入力!E29,入力!$GA$7:$GA$141,情報!$AK$12)","v":0},{"$f":"COUNTIFS(入力!$GV$7:$GV$141,入力!E29,入力!$GU$7:$GU$141,情報!$AK$12)","v":0},{"$f":"COUNTIFS(入力!$HP$7:$HP$141,入力!E29,入力!$HO$7:$HO$141,情報!$AK$12)","v":0},{"$f":"COUNTIFS(入力!$IJ$7:$IJ$141,入力!E29,入力!$II$7:$II$141,情報!$AK$12)","v":0}]
[null,null,null,null,null,null,null,null,null,null,null,null,null,null,null,null,null,null,null,null,null,null,null,null,null,null,null,null,null,null,null,null,null,null,null,null,null,null,null,null,null,null,null,null,null,null,null,null,null,null,null,null,null,null,null,null,null,null,null,null,null,null,null,null,null,null,null,null,null,null,{"$f":"IF($AL$8=\"\",\"\",VLOOKUP($AL$8,入力!$A$28:$C$34,3,FALSE))","v":""},{"$f":"IF(入力!$E$30=\"\",\"\",入力!$E$30)","v":""},0,{"$f":"COUNTIFS(入力!$X$7:$X$141,入力!E30,入力!$W$7:$W$141,情報!$AK$12)","v":0},{"$f":"COUNTIFS(入力!$AR$7:$AR$141,入力!E30,入力!$AQ$7:$AQ$141,情報!$AK$12)","v":0},{"$f":"COUNTIFS(入力!$BL$7:$BL$141,入力!E30,入力!$BK$7:$BK$141,情報!$AK$12)","v":0},{"$f":"COUNTIFS(入力!$CF$7:$CF$141,入力!E30,入力!$CE$7:$CE$141,情報!$AK$12)","v":0},{"$f":"COUNTIFS(入力!$CZ$7:$CZ$141,入力!E30,入力!$CY$7:$CY$141,情報!$AK$12)","v":0},{"$f":"COUNTIFS(入力!$DT$7:$DT$141,入力!E30,入力!$DS$7:$DS$141,情報!$AK$12)","v":0},{"$f":"COUNTIFS(入力!$EN$7:$EN$141,入力!E30,入力!$EM$7:$EM$141,情報!$AK$12)","v":0},{"$f":"COUNTIFS(入力!$FH$7:$FH$141,入力!E30,入力!$FG$7:$FG$141,情報!$AK$12)","v":0},{"$f":"COUNTIFS(入力!$GB$7:$GB$141,入力!E30,入力!$GA$7:$GA$141,情報!$AK$12)","v":0},{"$f":"COUNTIFS(入力!$GV$7:$GV$141,入力!E30,入力!$GU$7:$GU$141,情報!$AK$12)","v":0},{"$f":"COUNTIFS(入力!$HP$7:$HP$141,入力!E30,入力!$HO$7:$HO$141,情報!$AK$12)","v":0},{"$f":"COUNTIFS(入力!$IJ$7:$IJ$141,入力!E30,入力!$II$7:$II$141,情報!$AK$12)","v":0}]
[null,null,null,null,null,null,null,null,null,null,null,null,null,null,null,null,null,null,null,null,null,null,null,null,null,null,null,null,null,null,null,null,null,null,null,null,null,null,null,null,null,null,null,null,null,null,null,null,null,null,null,null,null,null,null,null,null,null,null,null,null,null,null,null,null,null,null,null,null,null,{"$f":"IF($AL$9=\"\",\"\",VLOOKUP($AL$9,入力!$A$28:$C$34,3,FALSE))","v":""},{"$f":"IF(入力!$E$31=\"\",\"\",入力!AM94)","v":""},0,{"$f":"COUNTIFS(入力!$X$7:$X$141,入力!E31,入力!$W$7:$W$141,情報!$AK$12)","v":0},{"$f":"COUNTIFS(入力!$AR$7:$AR$141,入力!E31,入力!$AQ$7:$AQ$141,情報!$AK$12)","v":0},{"$f":"COUNTIFS(入力!$BL$7:$BL$141,入力!E31,入力!$BK$7:$BK$141,情報!$AK$12)","v":0},{"$f":"COUNTIFS(入力!$CF$7:$CF$141,入力!E31,入力!$CE$7:$CE$141,情報!$AK$12)","v":0},{"$f":"COUNTIFS(入力!$CZ$7:$CZ$141,入力!E31,入力!$CY$7:$CY$141,情報!$AK$12)","v":0},{"$f":"COUNTIFS(入力!$DT$7:$DT$141,入力!E31,入力!$DS$7:$DS$141,情報!$AK$12)","v":0},{"$f":"COUNTIFS(入力!$EN$7:$EN$141,入力!E31,入力!$EM$7:$EM$141,情報!$AK$12)","v":0},{"$f":"COUNTIFS(入力!$FH$7:$FH$141,入力!E31,入力!$FG$7:$FG$141,情報!$AK$12)","v":0},{"$f":"COUNTIFS(入力!$GB$7:$GB$141,入力!E31,入力!$GA$7:$GA$141,情報!$AK$12)","v":0},{"$f":"COUNTIFS(入力!$GV$7:$GV$141,入力!E31,入力!$GU$7:$GU$141,情報!$AK$12)","v":0},{"$f":"COUNTIFS(入力!$HP$7:$HP$141,入力!E31,入力!$HO$7:$HO$141,情報!$AK$12)","v":0},{"$f":"COUNTIFS(入力!$IJ$7:$IJ$141,入力!E31,入力!$II$7:$II$141,情報!$AK$12)","v":0}]
[null,null,null,null,null,null,null,null,null,null,null,null,null,null,null,null,null,null,null,null,null,null,null,null,null,null,null,null,null,null,null,null,null,null,null,null,null,null,null,null,null,null,null,null,null,null,null,null,null,null,null,null,null,null,null,null,null,null,null,null,null,null,null,null,null,null,null,null,null,null,{"$f":"IF($AL$10=\"\",\"\",VLOOKUP($AL$10,入力!$A$28:$C$34,3,FALSE))","v":""},{"$f":"IF(入力!$E$32=\"\",\"\",入力!$E$32)","v":""},0,{"$f":"COUNTIFS(入力!$X$7:$X$141,入力!E32,入力!$W$7:$W$141,情報!$AK$12)","v":0},{"$f":"COUNTIFS(入力!$AR$7:$AR$141,入力!E32,入力!$AQ$7:$AQ$141,情報!$AK$12)","v":0},{"$f":"COUNTIFS(入力!$BL$7:$BL$141,入力!E32,入力!$BK$7:$BK$141,情報!$AK$12)","v":0},{"$f":"COUNTIFS(入力!$CF$7:$CF$141,入力!E32,入力!$CE$7:$CE$141,情報!$AK$12)","v":0},{"$f":"COUNTIFS(入力!$CZ$7:$CZ$141,入力!E32,入力!$CY$7:$CY$141,情報!$AK$12)","v":0},{"$f":"COUNTIFS(入力!$DT$7:$DT$141,入力!E32,入力!$DS$7:$DS$141,情報!$AK$12)","v":0},{"$f":"COUNTIFS(入力!$EN$7:$EN$141,入力!E32,入力!$EM$7:$EM$141,情報!$AK$12)","v":0},{"$f":"COUNTIFS(入力!$FH$7:$FH$141,入力!E32,入力!$FG$7:$FG$141,情報!$AK$12)","v":0},{"$f":"COUNTIFS(入力!$GB$7:$GB$141,入力!E32,入力!$GA$7:$GA$141,情報!$AK$12)","v":0},{"$f":"COUNTIFS(入力!$GV$7:$GV$141,入力!E32,入力!$GU$7:$GU$141,情報!$AK$12)","v":0},{"$f":"COUNTIFS(入力!$HP$7:$HP$141,入力!E32,入力!$HO$7:$HO$141,情報!$AK$12)","v":0},{"$f":"COUNTIFS(入力!$IJ$7:$IJ$141,入力!E32,入力!$II$7:$II$141,情報!$AK$12)","v":0}]
[null,null,null,null,null,null,null,null,null,null,null,null,null,null,null,null,null,null,null,null,null,null,null,null,null,null,null,null,null,null,null,null,null,null,null,null,null,null,null,null,null,null,null,null,null,null,null,null,null,null,null,null,null,null,null,null,null,null,null,null,null,null,null,null,null,null,null,null,null,null,{"$f":"IF($AL$11=\"\",\"\",VLOOKUP($AL$11,入力!$A$28:$C$34,3,FALSE))","v":""},{"$f":"IF(入力!$E$33=\"\",\"\",入力!$E$33)","v":""},{"$f":"SUM(BV74:CG74)","v":0},{"$f":"COUNTIFS(入力!$X$7:$X$141,入力!E33,入力!$W$7:$W$141,情報!$AK$12)","v":0},{"$f":"COUNTIFS(入力!$AR$7:$AR$141,入力!E33,入力!$AQ$7:$AQ$141,情報!$AK$12)","v":0},{"$f":"COUNTIFS(入力!$BL$7:$BL$141,入力!E33,入力!$BK$7:$BK$141,情報!$AK$12)","v":0},{"$f":"COUNTIFS(入力!$CF$7:$CF$141,入力!E33,入力!$CE$7:$CE$141,情報!$AK$12)","v":0},{"$f":"COUNTIFS(入力!$CZ$7:$CZ$141,入力!E33,入力!$CY$7:$CY$141,情報!$AK$12)","v":0},{"$f":"COUNTIFS(入力!$DT$7:$DT$141,入力!E33,入力!$DS$7:$DS$141,情報!$AK$12)","v":0},{"$f":"COUNTIFS(入力!$EN$7:$EN$141,入力!E33,入力!$EM$7:$EM$141,情報!$AK$12)","v":0},{"$f":"COUNTIFS(入力!$FH$7:$FH$141,入力!E33,入力!$FG$7:$FG$141,情報!$AK$12)","v":0},{"$f":"COUNTIFS(入力!$GB$7:$GB$141,入力!E33,入力!$GA$7:$GA$141,情報!$AK$12)","v":0},{"$f":"COUNTIFS(入力!$GV$7:$GV$141,入力!E33,入力!$GU$7:$GU$141,情報!$AK$12)","v":0},{"$f":"COUNTIFS(入力!$HP$7:$HP$141,入力!E33,入力!$HO$7:$HO$141,情報!$AK$12)","v":0},{"$f":"COUNTIFS(入力!$IJ$7:$IJ$141,入力!E33,入力!$II$7:$II$141,情報!$AK$12)","v":0}]
[null,null,null,null,null,null,null,null,null,null,null,null,null,null,null,null,null,null,null,null,null,null,null,null,null,null,null,null,null,null,null,null,null,null,null,null,null,null,null,null,null,null,null,null,null,null,null,null,null,null,null,null,null,null,null,null,null,null,null,null,null,null,null,null,null,null,null,null,null,null,{"$f":"IF($AL$12=\"\",\"\",VLOOKUP($AL$12,入力!$A$28:$C$34,3,FALSE))","v":""},{"$f":"IF(入力!$E$34=\"\",\"\",入力!$E$34)","v":""},0,{"$f":"COUNTIFS(入力!$X$7:$X$141,入力!E34,入力!$W$7:$W$141,情報!$AK$12)","v":0},{"$f":"COUNTIFS(入力!$AR$7:$AR$141,入力!E34,入力!$AQ$7:$AQ$141,情報!$AK$12)","v":0},{"$f":"COUNTIFS(入力!$BL$7:$BL$141,入力!E34,入力!$BK$7:$BK$141,情報!$AK$12)","v":0},{"$f":"COUNTIFS(入力!$CF$7:$CF$141,入力!E34,入力!$CE$7:$CE$141,情報!$AK$12)","v":0},{"$f":"COUNTIFS(入力!$CZ$7:$CZ$141,入力!E34,入力!$CY$7:$CY$141,情報!$AK$12)","v":0},{"$f":"COUNTIFS(入力!$DT$7:$DT$141,入力!E34,入力!$DS$7:$DS$141,情報!$AK$12)","v":0},{"$f":"COUNTIFS(入力!$EN$7:$EN$141,入力!E34,入力!$EM$7:$EM$141,情報!$AK$12)","v":0},{"$f":"COUNTIFS(入力!$FH$7:$FH$141,入力!E34,入力!$FG$7:$FG$141,情報!$AK$12)","v":0},{"$f":"COUNTIFS(入力!$GB$7:$GB$141,入力!E34,入力!$GA$7:$GA$141,情報!$AK$12)","v":0},{"$f":"COUNTIFS(入力!$GV$7:$GV$141,入力!E34,入力!$GU$7:$GU$141,情報!$AK$12)","v":0},{"$f":"COUNTIFS(入力!$HP$7:$HP$141,入力!E34,入力!$HO$7:$HO$141,情報!$AK$12)","v":0},{"$f":"COUNTIFS(入力!$IJ$7:$IJ$141,入力!E34,入力!$II$7:$II$141,情報!$AK$12)","v":0}]
[null,null,null,null,null,null,null,null,null,null,null,null,null,null,null,null,null,null,null,null,null,null,null,null,null,null,null,null,null,null,null,null,null,null,null,null,null,null,null,null,null,null,null,null,null,null,null,null,null,null,null,null,null,null,null,null,null,null,null,null,null,null,null,null,null,null,null,null,null,"空振り三振"]
[null,null,null,null,null,null,null,null,null,null,null,null,null,null,null,null,null,null,null,null,null,null,null,null,null,null,null,null,null,null,null,null,null,null,null,null,null,null,null,null,null,null,null,null,null,null,null,null,null,null,null,null,null,null,null,null,null,null,null,null,null,null,null,null,null,null,null,null,null,"種分","投手名","背番","合計","1回","2回","3回","4回","5回","6回","7回","8回","9回","10回","11回","12回"]
[null,null,null,null,null,null,null,null,null,null,null,null,null,null,null,null,null,null,null,null,null,null,null,null,null,null,null,null,null,null,null,null,null,null,null,null,null,null,null,null,null,null,null,null,null,null,null,null,null,null,null,null,null,null,null,null,null,null,null,null,null,null,null,null,null,null,null,null,null,{"$f":"情報!AK13","v":"K'"},{"$f":"IF($AL$6=\"\",\"\",VLOOKUP($AL$6,入力!$A$28:$C$34,3,FALSE))","v":""},{"$f":"IF(入力!$E$28=\"\",\"\",入力!$E$28)","v":""},{"$f":"SUM(BV78:CG78)","v":0},{"$f":"COUNTIFS(入力!$X$7:$X$141,入力!E28,入力!$W$7:$W$141,情報!$AK$13)","v":0},{"$f":"COUNTIFS(入力!$AR$7:$AR$141,入力!E28,入力!$AQ$7:$AQ$141,情報!$AK$13)","v":0},{"$f":"COUNTIFS(入力!$BL$7:$BL$141,入力!E28,入力!$BK$7:$BK$141,情報!$AK$13)","v":0},{"$f":"COUNTIFS(入力!$CF$7:$CF$141,入力!E28,入力!$CE$7:$CE$141,情報!$AK$13)","v":0},{"$f":"COUNTIFS(入力!$CZ$7:$CZ$141,入力!E28,入力!$CY$7:$CY$141,情報!$AK$13)","v":0},{"$f":"COUNTIFS(入力!$DT$7:$DT$141,入力!E28,入力!$DS$7:$DS$141,情報!$AK$13)","v":0},{"$f":"COUNTIFS(入力!$EN$7:$EN$141,入力!E28,入力!$EM$7:$EM$141,情報!$AK$13)","v":0},{"$f":"COUNTIFS(入力!$FH$7:$FH$141,入力!E28,入力!$FG$7:$FG$141,情報!$AK$13)","v":0},{"$f":"COUNTIFS(入力!$GB$7:$GB$141,入力!E28,入力!$GA$7:$GA$141,情報!$AK$13)","v":0},{"$f":"COUNTIFS(入力!$GV$7:$GV$141,入力!E28,入力!$GU$7:$GU$141,情報!$AK$13)","v":0},{"$f":"COUNTIFS(入力!$HP$7:$HP$141,入力!E28,入力!$HO$7:$HO$141,情報!$AK$13)","v":0},{"$f":"COUNTIFS(入力!$IJ$7:$IJ$141,入力!E28,入力!$II$7:$II$141,情報!$AK$13)","v":0}]
[null,null,null,null,null,null,null,null,null,null,null,null,null,null,null,null,null,null,null,null,null,null,null,null,null,null,null,null,null,null,null,null,null,null,null,null,null,null,null,null,null,null,null,null,null,null,null,null,null,null,null,null,null,null,null,null,null,null,null,null,null,null,null,null,null,null,null,null,null,null,{"$f":"IF($AL$7=\"\",\"\",VLOOKUP($AL$7,入力!$A$28:$C$34,3,FALSE))","v":""},{"$f":"IF(入力!$E$29=\"\",\"\",入力!$E$29)","v":""},{"$f":"SUM(BV79:CG79)","v":0},{"$f":"COUNTIFS(入力!$X$7:$X$141,入力!E29,入力!$W$7:$W$141,情報!$AK$13)","v":0},{"$f":"COUNTIFS(入力!$AR$7:$AR$141,入力!E29,入力!$AQ$7:$AQ$141,情報!$AK$13)","v":0},{"$f":"COUNTIFS(入力!$BL$7:$BL$141,入力!E29,入力!$BK$7:$BK$141,情報!$AK$13)","v":0},{"$f":"COUNTIFS(入力!$CF$7:$CF$141,入力!E29,入力!$CE$7:$CE$141,情報!$AK$13)","v":0},{"$f":"COUNTIFS(入力!$CZ$7:$CZ$141,入力!E29,入力!$CY$7:$CY$141,情報!$AK$13)","v":0},{"$f":"COUNTIFS(入力!$DT$7:$DT$141,入力!E29,入力!$DS$7:$DS$141,情報!$AK$13)","v":0},{"$f":"COUNTIFS(入力!$EN$7:$EN$141,入力!E29,入力!$EM$7:$EM$141,情報!$AK$13)","v":0},{"$f":"COUNTIFS(入力!$FH$7:$FH$141,入力!E29,入力!$FG$7:$FG$141,情報!$AK$13)","v":0},{"$f":"COUNTIFS(入力!$GB$7:$GB$141,入力!E29,入力!$GA$7:$GA$141,情報!$AK$13)","v":0},{"$f":"COUNTIFS(入力!$GV$7:$GV$141,入力!E29,入力!$GU$7:$GU$141,情報!$AK$13)","v":0},{"$f":"COUNTIFS(入力!$HP$7:$HP$141,入力!E29,入力!$HO$7:$HO$141,情報!$AK$13)","v":0},{"$f":"COUNTIFS(入力!$IJ$7:$IJ$141,入力!E29,入力!$II$7:$II$141,情報!$AK$13)","v":0}]
[null,null,null,null,null,null,null,null,null,null,null,null,null,null,null,null,null,null,null,null,null,null,null,null,null,null,null,null,null,null,null,null,null,null,null,null,null,null,null,null,null,null,null,null,null,null,null,null,null,null,null,null,null,null,null,null,null,null,null,null,null,null,null,null,null,null,null,null,null,null,{"$f":"IF($AL$8=\"\",\"\",VLOOKUP($AL$8,入力!$A$28:$C$34,3,FALSE))","v":""},{"$f":"IF(入力!$E$30=\"\",\"\",入力!$E$30)","v":""},0,{"$f":"COUNTIFS(入力!$X$7:$X$141,入力!E30,入力!$W$7:$W$141,情報!$AK$13)","v":0},{"$f":"COUNTIFS(入力!$AR$7:$AR$141,入力!E30,入力!$AQ$7:$AQ$141,情報!$AK$13)","v":0},{"$f":"COUNTIFS(入力!$BL$7:$BL$141,入力!E30,入力!$BK$7:$BK$141,情報!$AK$13)","v":0},{"$f":"COUNTIFS(入力!$CF$7:$CF$141,入力!E30,入力!$CE$7:$CE$141,情報!$AK$13)","v":0},{"$f":"COUNTIFS(入力!$CZ$7:$CZ$141,入力!E30,入力!$CY$7:$CY$141,情報!$AK$13)","v":0},{"$f":"COUNTIFS(入力!$DT$7:$DT$141,入力!E30,入力!$DS$7:$DS$141,情報!$AK$13)","v":0},{"$f":"COUNTIFS(入力!$EN$7:$EN$141,入力!E30,入力!$EM$7:$EM$141,情報!$AK$13)","v":0},{"$f":"COUNTIFS(入力!$FH$7:$FH$141,入力!E30,入力!$FG$7:$FG$141,情報!$AK$13)","v":0},{"$f":"COUNTIFS(入力!$GB$7:$GB$141,入力!E30,入力!$GA$7:$GA$141,情報!$AK$13)","v":0},{"$f":"COUNTIFS(入力!$GV$7:$GV$141,入力!E30,入力!$GU$7:$GU$141,情報!$AK$13)","v":0},{"$f":"COUNTIFS(入力!$HP$7:$HP$141,入力!E30,入力!$HO$7:$HO$141,情報!$AK$13)","v":0},{"$f":"COUNTIFS(入力!$IJ$7:$IJ$141,入力!E30,入力!$II$7:$II$141,情報!$AK$13)","v":0}]
[null,null,null,null,null,null,null,null,null,null,null,null,null,null,null,null,null,null,null,null,null,null,null,null,null,null,null,null,null,null,null,null,null,null,null,null,null,null,null,null,null,null,null,null,null,null,null,null,null,null,null,null,null,null,null,null,null,null,null,null,null,null,null,null,null,null,null,null,null,null,{"$f":"IF($AL$9=\"\",\"\",VLOOKUP($AL$9,入力!$A$28:$C$34,3,FALSE))","v":""},{"$f":"IF(入力!$E$31=\"\",\"\",入力!AM103)","v":""},0,{"$f":"COUNTIFS(入力!$X$7:$X$141,入力!E31,入力!$W$7:$W$141,情報!$AK$13)","v":0},{"$f":"COUNTIFS(入力!$AR$7:$AR$141,入力!E31,入力!$AQ$7:$AQ$141,情報!$AK$13)","v":0},{"$f":"COUNTIFS(入力!$BL$7:$BL$141,入力!E31,入力!$BK$7:$BK$141,情報!$AK$13)","v":0},{"$f":"COUNTIFS(入力!$CF$7:$CF$141,入力!E31,入力!$CE$7:$CE$141,情報!$AK$13)","v":0},{"$f":"COUNTIFS(入力!$CZ$7:$CZ$141,入力!E31,入力!$CY$7:$CY$141,情報!$AK$13)","v":0},{"$f":"COUNTIFS(入力!$DT$7:$DT$141,入力!E31,入力!$DS$7:$DS$141,情報!$AK$13)","v":0},{"$f":"COUNTIFS(入力!$EN$7:$EN$141,入力!E31,入力!$EM$7:$EM$141,情報!$AK$13)","v":0},{"$f":"COUNTIFS(入力!$FH$7:$FH$141,入力!E31,入力!$FG$7:$FG$141,情報!$AK$13)","v":0},{"$f":"COUNTIFS(入力!$GB$7:$GB$141,入力!E31,入力!$GA$7:$GA$141,情報!$AK$13)","v":0},{"$f":"COUNTIFS(入力!$GV$7:$GV$141,入力!E31,入力!$GU$7:$GU$141,情報!$AK$13)","v":0},{"$f":"COUNTIFS(入力!$HP$7:$HP$141,入力!E31,入力!$HO$7:$HO$141,情報!$AK$13)","v":0},{"$f":"COUNTIFS(入力!$IJ$7:$IJ$141,入力!E31,入力!$II$7:$II$141,情報!$AK$13)","v":0}]
[null,null,null,null,null,null,null,null,null,null,null,null,null,null,null,null,null,null,null,null,null,null,null,null,null,null,null,null,null,null,null,null,null,null,null,null,null,null,null,null,null,null,null,null,null,null,null,null,null,null,null,null,null,null,null,null,null,null,null,null,null,null,null,null,null,null,null,null,null,null,{"$f":"IF($AL$10=\"\",\"\",VLOOKUP($AL$10,入力!$A$28:$C$34,3,FALSE))","v":""},{"$f":"IF(入力!$E$32=\"\",\"\",入力!$E$32)","v":""},0,{"$f":"COUNTIFS(入力!$X$7:$X$141,入力!E32,入力!$W$7:$W$141,情報!$AK$13)","v":0},{"$f":"COUNTIFS(入力!$AR$7:$AR$141,入力!E32,入力!$AQ$7:$AQ$141,情報!$AK$13)","v":0},{"$f":"COUNTIFS(入力!$BL$7:$BL$141,入力!E32,入力!$BK$7:$BK$141,情報!$AK$13)","v":0},{"$f":"COUNTIFS(入力!$CF$7:$CF$141,入力!E32,入力!$CE$7:$CE$141,情報!$AK$13)","v":0},{"$f":"COUNTIFS(入力!$CZ$7:$CZ$141,入力!E32,入力!$CY$7:$CY$141,情報!$AK$13)","v":0},{"$f":"COUNTIFS(入力!$DT$7:$DT$141,入力!E32,入力!$DS$7:$DS$141,情報!$AK$13)","v":0},{"$f":"COUNTIFS(入力!$EN$7:$EN$141,入力!E32,入力!$EM$7:$EM$141,情報!$AK$13)","v":0},{"$f":"COUNTIFS(入力!$FH$7:$FH$141,入力!E32,入力!$FG$7:$FG$141,情報!$AK$13)","v":0},{"$f":"COUNTIFS(入力!$GB$7:$GB$141,入力!E32,入力!$GA$7:$GA$141,情報!$AK$13)","v":0},{"$f":"COUNTIFS(入力!$GV$7:$GV$141,入力!E32,入力!$GU$7:$GU$141,情報!$AK$13)","v":0},{"$f":"COUNTIFS(入力!$HP$7:$HP$141,入力!E32,入力!$HO$7:$HO$141,情報!$AK$13)","v":0},{"$f":"COUNTIFS(入力!$IJ$7:$IJ$141,入力!E32,入力!$II$7:$II$141,情報!$AK$13)","v":0}]
[null,null,null,null,null,null,null,null,null,null,null,null,null,null,null,null,null,null,null,null,null,null,null,null,null,null,null,null,null,null,null,null,null,null,null,null,null,null,null,null,null,null,null,null,null,null,null,null,null,null,null,null,null,null,null,null,null,null,null,null,null,null,null,null,null,null,null,null,null,null,{"$f":"IF($AL$11=\"\",\"\",VLOOKUP($AL$11,入力!$A$28:$C$34,3,FALSE))","v":""},{"$f":"IF(入力!$E$33=\"\",\"\",入力!$E$33)","v":""},{"$f":"SUM(BV83:CG83)","v":0},{"$f":"COUNTIFS(入力!$X$7:$X$141,入力!E33,入力!$W$7:$W$141,情報!$AK$13)","v":0},{"$f":"COUNTIFS(入力!$AR$7:$AR$141,入力!E33,入力!$AQ$7:$AQ$141,情報!$AK$13)","v":0},{"$f":"COUNTIFS(入力!$BL$7:$BL$141,入力!E33,入力!$BK$7:$BK$141,情報!$AK$13)","v":0},{"$f":"COUNTIFS(入力!$CF$7:$CF$141,入力!E33,入力!$CE$7:$CE$141,情報!$AK$13)","v":0},{"$f":"COUNTIFS(入力!$CZ$7:$CZ$141,入力!E33,入力!$CY$7:$CY$141,情報!$AK$13)","v":0},{"$f":"COUNTIFS(入力!$DT$7:$DT$141,入力!E33,入力!$DS$7:$DS$141,情報!$AK$13)","v":0},{"$f":"COUNTIFS(入力!$EN$7:$EN$141,入力!E33,入力!$EM$7:$EM$141,情報!$AK$13)","v":0},{"$f":"COUNTIFS(入力!$FH$7:$FH$141,入力!E33,入力!$FG$7:$FG$141,情報!$AK$13)","v":0},{"$f":"COUNTIFS(入力!$GB$7:$GB$141,入力!E33,入力!$GA$7:$GA$141,情報!$AK$13)","v":0},{"$f":"COUNTIFS(入力!$GV$7:$GV$141,入力!E33,入力!$GU$7:$GU$141,情報!$AK$13)","v":0},{"$f":"COUNTIFS(入力!$HP$7:$HP$141,入力!E33,入力!$HO$7:$HO$141,情報!$AK$13)","v":0},{"$f":"COUNTIFS(入力!$IJ$7:$IJ$141,入力!E33,入力!$II$7:$II$141,情報!$AK$13)","v":0}]
[null,null,null,null,null,null,null,null,null,null,null,null,null,null,null,null,null,null,null,null,null,null,null,null,null,null,null,null,null,null,null,null,null,null,null,null,null,null,null,null,null,null,null,null,null,null,null,null,null,null,null,null,null,null,null,null,null,null,null,null,null,null,null,null,null,null,null,null,null,null,{"$f":"IF($AL$12=\"\",\"\",VLOOKUP($AL$12,入力!$A$28:$C$34,3,FALSE))","v":""},{"$f":"IF(入力!$E$34=\"\",\"\",入力!$E$34)","v":""},0,{"$f":"COUNTIFS(入力!$X$7:$X$141,入力!E34,入力!$W$7:$W$141,情報!$AK$13)","v":0},{"$f":"COUNTIFS(入力!$AR$7:$AR$141,入力!E34,入力!$AQ$7:$AQ$141,情報!$AK$13)","v":0},{"$f":"COUNTIFS(入力!$BL$7:$BL$141,入力!E34,入力!$BK$7:$BK$141,情報!$AK$13)","v":0},{"$f":"COUNTIFS(入力!$CF$7:$CF$141,入力!E34,入力!$CE$7:$CE$141,情報!$AK$13)","v":0},{"$f":"COUNTIFS(入力!$CZ$7:$CZ$141,入力!E34,入力!$CY$7:$CY$141,情報!$AK$13)","v":0},{"$f":"COUNTIFS(入力!$DT$7:$DT$141,入力!E34,入力!$DS$7:$DS$141,情報!$AK$13)","v":0},{"$f":"COUNTIFS(入力!$EN$7:$EN$141,入力!E34,入力!$EM$7:$EM$141,情報!$AK$13)","v":0},{"$f":"COUNTIFS(入力!$FH$7:$FH$141,入力!E34,入力!$FG$7:$FG$141,情報!$AK$13)","v":0},{"$f":"COUNTIFS(入力!$GB$7:$GB$141,入力!E34,入力!$GA$7:$GA$141,情報!$AK$13)","v":0},{"$f":"COUNTIFS(入力!$GV$7:$GV$141,入力!E34,入力!$GU$7:$GU$141,情報!$AK$13)","v":0},{"$f":"COUNTIFS(入力!$HP$7:$HP$141,入力!E34,入力!$HO$7:$HO$141,情報!$AK$13)","v":0},{"$f":"COUNTIFS(入力!$IJ$7:$IJ$141,入力!E34,入力!$II$7:$II$141,情報!$AK$13)","v":0}]
[null,null,null,null,null,null,null,null,null,null,null,null,null,null,null,null,null,null,null,null,null,null,null,null,null,null,null,null,null,null,null,null,null,null,null,null,null,null,null,null,null,null,null,null,null,null,null,null,null,null,null,null,null,null,null,null,null,null,null,null,null,null,null,null,null,null,null,null,null,"犠打"]
[null,null,null,null,null,null,null,null,null,null,null,null,null,null,null,null,null,null,null,null,null,null,null,null,null,null,null,null,null,null,null,null,null,null,null,null,null,null,null,null,null,null,null,null,null,null,null,null,null,null,null,null,null,null,null,null,null,null,null,null,null,null,null,null,null,null,null,null,null,"種分","投手名","背番","合計","1回","2回","3回","4回","5回","6回","7回","8回","9回","10回","11回","12回"]
[null,null,null,null,null,null,null,null,null,null,null,null,null,null,null,null,null,null,null,null,null,null,null,null,null,null,null,null,null,null,null,null,null,null,null,null,null,null,null,null,null,null,null,null,null,null,null,null,null,null,null,null,null,null,null,null,null,null,null,null,null,null,null,null,null,null,null,null,null,{"$f":"情報!AK14","v":"G"},{"$f":"IF($AL$6=\"\",\"\",VLOOKUP($AL$6,入力!$A$28:$C$34,3,FALSE))","v":""},{"$f":"IF(入力!$E$28=\"\",\"\",入力!$E$28)","v":""},{"$f":"SUM(BV87:CG87)","v":0},{"$f":"COUNTIFS(入力!$X$7:$X$141,入力!E28,入力!$W$7:$W$141,情報!$AK$14)","v":0},{"$f":"COUNTIFS(入力!$AR$7:$AR$141,入力!E28,入力!$AQ$7:$AQ$141,情報!$AK$14)","v":0},{"$f":"COUNTIFS(入力!$BL$7:$BL$141,入力!E28,入力!$BK$7:$BK$141,情報!$AK$14)","v":0},{"$f":"COUNTIFS(入力!$CF$7:$CF$141,入力!E28,入力!$CE$7:$CE$141,情報!$AK$14)","v":0},{"$f":"COUNTIFS(入力!$CZ$7:$CZ$141,入力!E28,入力!$CY$7:$CY$141,情報!$AK$14)","v":0},{"$f":"COUNTIFS(入力!$DT$7:$DT$141,入力!E28,入力!$DS$7:$DS$141,情報!$AK$14)","v":0},{"$f":"COUNTIFS(入力!$EN$7:$EN$141,入力!E28,入力!$EM$7:$EM$141,情報!$AK$14)","v":0},{"$f":"COUNTIFS(入力!$FH$7:$FH$141,入力!E28,入力!$FG$7:$FG$141,情報!$AK$14)","v":0},{"$f":"COUNTIFS(入力!$GB$7:$GB$141,入力!E28,入力!$GA$7:$GA$141,情報!$AK$14)","v":0},{"$f":"COUNTIFS(入力!$GV$7:$GV$141,入力!E28,入力!$GU$7:$GU$141,情報!$AK$14)","v":0},{"$f":"COUNTIFS(入力!$HP$7:$HP$141,入力!E28,入力!$HO$7:$HO$141,情報!$AK$14)","v":0},{"$f":"COUNTIFS(入力!$IJ$7:$IJ$141,入力!E28,入力!$II$7:$II$141,情報!$AK$14)","v":0}]
[null,null,null,null,null,null,null,null,null,null,null,null,null,null,null,null,null,null,null,null,null,null,null,null,null,null,null,null,null,null,null,null,null,null,null,null,null,null,null,null,null,null,null,null,null,null,null,null,null,null,null,null,null,null,null,null,null,null,null,null,null,null,null,null,null,null,null,null,null,null,{"$f":"IF($AL$7=\"\",\"\",VLOOKUP($AL$7,入力!$A$28:$C$34,3,FALSE))","v":""},{"$f":"IF(入力!$E$29=\"\",\"\",入力!$E$29)","v":""},{"$f":"SUM(BV88:CG88)","v":0},{"$f":"COUNTIFS(入力!$X$7:$X$141,入力!E29,入力!$W$7:$W$141,情報!$AK$14)","v":0},{"$f":"COUNTIFS(入力!$AR$7:$AR$141,入力!E29,入力!$AQ$7:$AQ$141,情報!$AK$14)","v":0},{"$f":"COUNTIFS(入力!$BL$7:$BL$141,入力!E29,入力!$BK$7:$BK$141,情報!$AK$14)","v":0},{"$f":"COUNTIFS(入力!$CF$7:$CF$141,入力!E29,入力!$CE$7:$CE$141,情報!$AK$14)","v":0},{"$f":"COUNTIFS(入力!$CZ$7:$CZ$141,入力!E29,入力!$CY$7:$CY$141,情報!$AK$14)","v":0},{"$f":"COUNTIFS(入力!$DT$7:$DT$141,入力!E29,入力!$DS$7:$DS$141,情報!$AK$14)","v":0},{"$f":"COUNTIFS(入力!$EN$7:$EN$141,入力!E29,入力!$EM$7:$EM$141,情報!$AK$14)","v":0},{"$f":"COUNTIFS(入力!$FH$7:$FH$141,入力!E29,入力!$FG$7:$FG$141,情報!$AK$14)","v":0},{"$f":"COUNTIFS(入力!$GB$7:$GB$141,入力!E29,入力!$GA$7:$GA$141,情報!$AK$14)","v":0},{"$f":"COUNTIFS(入力!$GV$7:$GV$141,入力!E29,入力!$GU$7:$GU$141,情報!$AK$14)","v":0},{"$f":"COUNTIFS(入力!$HP$7:$HP$141,入力!E29,入力!$HO$7:$HO$141,情報!$AK$14)","v":0},{"$f":"COUNTIFS(入力!$IJ$7:$IJ$141,入力!E29,入力!$II$7:$II$141,情報!$AK$14)","v":0}]
[null,null,null,null,null,null,null,null,null,null,null,null,null,null,null,null,null,null,null,null,null,null,null,null,null,null,null,null,null,null,null,null,null,null,null,null,null,null,null,null,null,null,null,null,null,null,null,null,null,null,null,null,null,null,null,null,null,null,null,null,null,null,null,null,null,null,null,null,null,null,{"$f":"IF($AL$8=\"\",\"\",VLOOKUP($AL$8,入力!$A$28:$C$34,3,FALSE))","v":""},{"$f":"IF(入力!$E$30=\"\",\"\",入力!$E$30)","v":""},0,{"$f":"COUNTIFS(入力!$X$7:$X$141,入力!E30,入力!$W$7:$W$141,情報!$AK$14)","v":0},{"$f":"COUNTIFS(入力!$AR$7:$AR$141,入力!E30,入力!$AQ$7:$AQ$141,情報!$AK$14)","v":0},{"$f":"COUNTIFS(入力!$BL$7:$BL$141,入力!E30,入力!$BK$7:$BK$141,情報!$AK$14)","v":0},{"$f":"COUNTIFS(入力!$CF$7:$CF$141,入力!E30,入力!$CE$7:$CE$141,情報!$AK$14)","v":0},{"$f":"COUNTIFS(入力!$CZ$7:$CZ$141,入力!E30,入力!$CY$7:$CY$141,情報!$AK$14)","v":0},{"$f":"COUNTIFS(入力!$DT$7:$DT$141,入力!E30,入力!$DS$7:$DS$141,情報!$AK$14)","v":0},{"$f":"COUNTIFS(入力!$EN$7:$EN$141,入力!E30,入力!$EM$7:$EM$141,情報!$AK$14)","v":0},{"$f":"COUNTIFS(入力!$FH$7:$FH$141,入力!E30,入力!$FG$7:$FG$141,情報!$AK$14)","v":0},{"$f":"COUNTIFS(入力!$GB$7:$GB$141,入力!E30,入力!$GA$7:$GA$141,情報!$AK$14)","v":0},{"$f":"COUNTIFS(入力!$GV$7:$GV$141,入力!E30,入力!$GU$7:$GU$141,情報!$AK$14)","v":0},{"$f":"COUNTIFS(入力!$HP$7:$HP$141,入力!E30,入力!$HO$7:$HO$141,情報!$AK$14)","v":0},{"$f":"COUNTIFS(入力!$IJ$7:$IJ$141,入力!E30,入力!$II$7:$II$141,情報!$AK$14)","v":0}]
[null,null,null,null,null,null,null,null,null,null,null,null,null,null,null,null,null,null,null,null,null,null,null,null,null,null,null,null,null,null,null,null,null,null,null,null,null,null,null,null,null,null,null,null,null,null,null,null,null,null,null,null,null,null,null,null,null,null,null,null,null,null,null,null,null,null,null,null,null,null,{"$f":"IF($AL$9=\"\",\"\",VLOOKUP($AL$9,入力!$A$28:$C$34,3,FALSE))","v":""},{"$f":"IF(入力!$E$31=\"\",\"\",入力!AM112)","v":""},0,{"$f":"COUNTIFS(入力!$X$7:$X$141,入力!E31,入力!$W$7:$W$141,情報!$AK$14)","v":0},{"$f":"COUNTIFS(入力!$AR$7:$AR$141,入力!E31,入力!$AQ$7:$AQ$141,情報!$AK$14)","v":0},{"$f":"COUNTIFS(入力!$BL$7:$BL$141,入力!E31,入力!$BK$7:$BK$141,情報!$AK$14)","v":0},{"$f":"COUNTIFS(入力!$CF$7:$CF$141,入力!E31,入力!$CE$7:$CE$141,情報!$AK$14)","v":0},{"$f":"COUNTIFS(入力!$CZ$7:$CZ$141,入力!E31,入力!$CY$7:$CY$141,情報!$AK$14)","v":0},{"$f":"COUNTIFS(入力!$DT$7:$DT$141,入力!E31,入力!$DS$7:$DS$141,情報!$AK$14)","v":0},{"$f":"COUNTIFS(入力!$EN$7:$EN$141,入力!E31,入力!$EM$7:$EM$141,情報!$AK$14)","v":0},{"$f":"COUNTIFS(入力!$FH$7:$FH$141,入力!E31,入力!$FG$7:$FG$141,情報!$AK$14)","v":0},{"$f":"COUNTIFS(入力!$GB$7:$GB$141,入力!E31,入力!$GA$7:$GA$141,情報!$AK$14)","v":0},{"$f":"COUNTIFS(入力!$GV$7:$GV$141,入力!E31,入力!$GU$7:$GU$141,情報!$AK$14)","v":0},{"$f":"COUNTIFS(入力!$HP$7:$HP$141,入力!E31,入力!$HO$7:$HO$141,情報!$AK$14)","v":0},{"$f":"COUNTIFS(入力!$IJ$7:$IJ$141,入力!E31,入力!$II$7:$II$141,情報!$AK$14)","v":0}]
[null,null,null,null,null,null,null,null,null,null,null,null,null,null,null,null,null,null,null,null,null,null,null,null,null,null,null,null,null,null,null,null,null,null,null,null,null,null,null,null,null,null,null,null,null,null,null,null,null,null,null,null,null,null,null,null,null,null,null,null,null,null,null,null,null,null,null,null,null,null,{"$f":"IF($AL$10=\"\",\"\",VLOOKUP($AL$10,入力!$A$28:$C$34,3,FALSE))","v":""},{"$f":"IF(入力!$E$32=\"\",\"\",入力!$E$32)","v":""},0,{"$f":"COUNTIFS(入力!$X$7:$X$141,入力!E32,入力!$W$7:$W$141,情報!$AK$14)","v":0},{"$f":"COUNTIFS(入力!$AR$7:$AR$141,入力!E32,入力!$AQ$7:$AQ$141,情報!$AK$14)","v":0},{"$f":"COUNTIFS(入力!$BL$7:$BL$141,入力!E32,入力!$BK$7:$BK$141,情報!$AK$14)","v":0},{"$f":"COUNTIFS(入力!$CF$7:$CF$141,入力!E32,入力!$CE$7:$CE$141,情報!$AK$14)","v":0},{"$f":"COUNTIFS(入力!$CZ$7:$CZ$141,入力!E32,入力!$CY$7:$CY$141,情報!$AK$14)","v":0},{"$f":"COUNTIFS(入力!$DT$7:$DT$141,入力!E32,入力!$DS$7:$DS$141,情報!$AK$14)","v":0},{"$f":"COUNTIFS(入力!$EN$7:$EN$141,入力!E32,入力!$EM$7:$EM$141,情報!$AK$14)","v":0},{"$f":"COUNTIFS(入力!$FH$7:$FH$141,入力!E32,入力!$FG$7:$FG$141,情報!$AK$14)","v":0},{"$f":"COUNTIFS(入力!$GB$7:$GB$141,入力!E32,入力!$GA$7:$GA$141,情報!$AK$14)","v":0},{"$f":"COUNTIFS(入力!$GV$7:$GV$141,入力!E32,入力!$GU$7:$GU$141,情報!$AK$14)","v":0},{"$f":"COUNTIFS(入力!$HP$7:$HP$141,入力!E32,入力!$HO$7:$HO$141,情報!$AK$14)","v":0},{"$f":"COUNTIFS(入力!$IJ$7:$IJ$141,入力!E32,入力!$II$7:$II$141,情報!$AK$14)","v":0}]
[null,null,null,null,null,null,null,null,null,null,null,null,null,null,null,null,null,null,null,null,null,null,null,null,null,null,null,null,null,null,null,null,null,null,null,null,null,null,null,null,null,null,null,null,null,null,null,null,null,null,null,null,null,null,null,null,null,null,null,null,null,null,null,null,null,null,null,null,null,null,{"$f":"IF($AL$11=\"\",\"\",VLOOKUP($AL$11,入力!$A$28:$C$34,3,FALSE))","v":""},{"$f":"IF(入力!$E$33=\"\",\"\",入力!$E$33)","v":""},{"$f":"SUM(BV92:CG92)","v":0},{"$f":"COUNTIFS(入力!$X$7:$X$141,入力!E33,入力!$W$7:$W$141,情報!$AK$14)","v":0},{"$f":"COUNTIFS(入力!$AR$7:$AR$141,入力!E33,入力!$AQ$7:$AQ$141,情報!$AK$14)","v":0},{"$f":"COUNTIFS(入力!$BL$7:$BL$141,入力!E33,入力!$BK$7:$BK$141,情報!$AK$14)","v":0},{"$f":"COUNTIFS(入力!$CF$7:$CF$141,入力!E33,入力!$CE$7:$CE$141,情報!$AK$14)","v":0},{"$f":"COUNTIFS(入力!$CZ$7:$CZ$141,入力!E33,入力!$CY$7:$CY$141,情報!$AK$14)","v":0},{"$f":"COUNTIFS(入力!$DT$7:$DT$141,入力!E33,入力!$DS$7:$DS$141,情報!$AK$14)","v":0},{"$f":"COUNTIFS(入力!$EN$7:$EN$141,入力!E33,入力!$EM$7:$EM$141,情報!$AK$14)","v":0},{"$f":"COUNTIFS(入力!$FH$7:$FH$141,入力!E33,入力!$FG$7:$FG$141,情報!$AK$14)","v":0},{"$f":"COUNTIFS(入力!$GB$7:$GB$141,入力!E33,入力!$GA$7:$GA$141,情報!$AK$14)","v":0},{"$f":"COUNTIFS(入力!$GV$7:$GV$141,入力!E33,入力!$GU$7:$GU$141,情報!$AK$14)","v":0},{"$f":"COUNTIFS(入力!$HP$7:$HP$141,入力!E33,入力!$HO$7:$HO$141,情報!$AK$14)","v":0},{"$f":"COUNTIFS(入力!$IJ$7:$IJ$141,入力!E33,入力!$II$7:$II$141,情報!$AK$14)","v":0}]
[null,null,null,null,null,null,null,null,null,null,null,null,null,null,null,null,null,null,null,null,null,null,null,null,null,null,null,null,null,null,null,null,null,null,null,null,null,null,null,null,null,null,null,null,null,null,null,null,null,null,null,null,null,null,null,null,null,null,null,null,null,null,null,null,null,null,null,null,null,null,{"$f":"IF($AL$12=\"\",\"\",VLOOKUP($AL$12,入力!$A$28:$C$34,3,FALSE))","v":""},{"$f":"IF(入力!$E$34=\"\",\"\",入力!$E$34)","v":""},0,{"$f":"COUNTIFS(入力!$X$7:$X$141,入力!E34,入力!$W$7:$W$141,情報!$AK$14)","v":0},{"$f":"COUNTIFS(入力!$AR$7:$AR$141,入力!E34,入力!$AQ$7:$AQ$141,情報!$AK$14)","v":0},{"$f":"COUNTIFS(入力!$BL$7:$BL$141,入力!E34,入力!$BK$7:$BK$141,情報!$AK$14)","v":0},{"$f":"COUNTIFS(入力!$CF$7:$CF$141,入力!E34,入力!$CE$7:$CE$141,情報!$AK$14)","v":0},{"$f":"COUNTIFS(入力!$CZ$7:$CZ$141,入力!E34,入力!$CY$7:$CY$141,情報!$AK$14)","v":0},{"$f":"COUNTIFS(入力!$DT$7:$DT$141,入力!E34,入力!$DS$7:$DS$141,情報!$AK$14)","v":0},{"$f":"COUNTIFS(入力!$EN$7:$EN$141,入力!E34,入力!$EM$7:$EM$141,情報!$AK$14)","v":0},{"$f":"COUNTIFS(入力!$FH$7:$FH$141,入力!E34,入力!$FG$7:$FG$141,情報!$AK$14)","v":0},{"$f":"COUNTIFS(入力!$GB$7:$GB$141,入力!E34,入力!$GA$7:$GA$141,情報!$AK$14)","v":0},{"$f":"COUNTIFS(入力!$GV$7:$GV$141,入力!E34,入力!$GU$7:$GU$141,情報!$AK$14)","v":0},{"$f":"COUNTIFS(入力!$HP$7:$HP$141,入力!E34,入力!$HO$7:$HO$141,情報!$AK$14)","v":0},{"$f":"COUNTIFS(入力!$IJ$7:$IJ$141,入力!E34,入力!$II$7:$II$141,情報!$AK$14)","v":0}]
[null,null,null,null,null,null,null,null,null,null,null,null,null,null,null,null,null,null,null,null,null,null,null,null,null,null,null,null,null,null,null,null,null,null,null,null,null,null,null,null,null,null,null,null,null,null,null,null,null,null,null,null,null,null,null,null,null,null,null,null,null,null,null,null,null,null,null,null,null,"併殺"]
[null,null,null,null,null,null,null,null,null,null,null,null,null,null,null,null,null,null,null,null,null,null,null,null,null,null,null,null,null,null,null,null,null,null,null,null,null,null,null,null,null,null,null,null,null,null,null,null,null,null,null,null,null,null,null,null,null,null,null,null,null,null,null,null,null,null,null,null,null,"種分","投手名","背番","合計","1回","2回","3回","4回","5回","6回","7回","8回","9回","10回","11回","12回"]
[null,null,null,null,null,null,null,null,null,null,null,null,null,null,null,null,null,null,null,null,null,null,null,null,null,null,null,null,null,null,null,null,null,null,null,null,null,null,null,null,null,null,null,null,null,null,null,null,null,null,null,null,null,null,null,null,null,null,null,null,null,null,null,null,null,null,null,null,null,{"$f":"情報!AK15","v":"D.P"},{"$f":"IF($AL$6=\"\",\"\",VLOOKUP($AL$6,入力!$A$28:$C$34,3,FALSE))","v":""},{"$f":"IF(入力!$E$28=\"\",\"\",入力!$E$28)","v":""},{"$f":"SUM(BV96:CG96)","v":0},{"$f":"COUNTIFS(入力!$X$7:$X$141,入力!E28,入力!$W$7:$W$141,情報!$AK$15)","v":0},{"$f":"COUNTIFS(入力!$AR$7:$AR$141,入力!E28,入力!$AQ$7:$AQ$141,情報!$AK$15)","v":0},{"$f":"COUNTIFS(入力!$BL$7:$BL$141,入力!E28,入力!$BK$7:$BK$141,情報!$AK$15)","v":0},{"$f":"COUNTIFS(入力!$CF$7:$CF$141,入力!E28,入力!$CE$7:$CE$141,情報!$AK$15)","v":0},{"$f":"COUNTIFS(入力!$CZ$7:$CZ$141,入力!E28,入力!$CY$7:$CY$141,情報!$AK$15)","v":0},{"$f":"COUNTIFS(入力!$DT$7:$DT$141,入力!E28,入力!$DS$7:$DS$141,情報!$AK$15)","v":0},{"$f":"COUNTIFS(入力!$EN$7:$EN$141,入力!E28,入力!$EM$7:$EM$141,情報!$AK$15)","v":0},{"$f":"COUNTIFS(入力!$FH$7:$FH$141,入力!E28,入力!$FG$7:$FG$141,情報!$AK$15)","v":0},{"$f":"COUNTIFS(入力!$GB$7:$GB$141,入力!E28,入力!$GA$7:$GA$141,情報!$AK$15)","v":0},{"$f":"COUNTIFS(入力!$GV$7:$GV$141,入力!E28,入力!$GU$7:$GU$141,情報!$AK$15)","v":0},{"$f":"COUNTIFS(入力!$HP$7:$HP$141,入力!E28,入力!$HO$7:$HO$141,情報!$AK$15)","v":0},{"$f":"COUNTIFS(入力!$IJ$7:$IJ$141,入力!E28,入力!$II$7:$II$141,情報!$AK$15)","v":0}]
[null,null,null,null,null,null,null,null,null,null,null,null,null,null,null,null,null,null,null,null,null,null,null,null,null,null,null,null,null,null,null,null,null,null,null,null,null,null,null,null,null,null,null,null,null,null,null,null,null,null,null,null,null,null,null,null,null,null,null,null,null,null,null,null,null,null,null,null,null,null,{"$f":"IF($AL$7=\"\",\"\",VLOOKUP($AL$7,入力!$A$28:$C$34,3,FALSE))","v":""},{"$f":"IF(入力!$E$29=\"\",\"\",入力!$E$29)","v":""},{"$f":"SUM(BV97:CG97)","v":0},{"$f":"COUNTIFS(入力!$X$7:$X$141,入力!E29,入力!$W$7:$W$141,情報!$AK$15)","v":0},{"$f":"COUNTIFS(入力!$AR$7:$AR$141,入力!E29,入力!$AQ$7:$AQ$141,情報!$AK$15)","v":0},{"$f":"COUNTIFS(入力!$BL$7:$BL$141,入力!E29,入力!$BK$7:$BK$141,情報!$AK$15)","v":0},{"$f":"COUNTIFS(入力!$CF$7:$CF$141,入力!E29,入力!$CE$7:$CE$141,情報!$AK$15)","v":0},{"$f":"COUNTIFS(入力!$CZ$7:$CZ$141,入力!E29,入力!$CY$7:$CY$141,情報!$AK$15)","v":0},{"$f":"COUNTIFS(入力!$DT$7:$DT$141,入力!E29,入力!$DS$7:$DS$141,情報!$AK$15)","v":0},{"$f":"COUNTIFS(入力!$EN$7:$EN$141,入力!E29,入力!$EM$7:$EM$141,情報!$AK$15)","v":0},{"$f":"COUNTIFS(入力!$FH$7:$FH$141,入力!E29,入力!$FG$7:$FG$141,情報!$AK$15)","v":0},{"$f":"COUNTIFS(入力!$GB$7:$GB$141,入力!E29,入力!$GA$7:$GA$141,情報!$AK$15)","v":0},{"$f":"COUNTIFS(入力!$GV$7:$GV$141,入力!E29,入力!$GU$7:$GU$141,情報!$AK$15)","v":0},{"$f":"COUNTIFS(入力!$HP$7:$HP$141,入力!E29,入力!$HO$7:$HO$141,情報!$AK$15)","v":0},{"$f":"COUNTIFS(入力!$IJ$7:$IJ$141,入力!E29,入力!$II$7:$II$141,情報!$AK$15)","v":0}]
[null,null,null,null,null,null,null,null,null,null,null,null,null,null,null,null,null,null,null,null,null,null,null,null,null,null,null,null,null,null,null,null,null,null,null,null,null,null,null,null,null,null,null,null,null,null,null,null,null,null,null,null,null,null,null,null,null,null,null,null,null,null,null,null,null,null,null,null,null,null,{"$f":"IF($AL$8=\"\",\"\",VLOOKUP($AL$8,入力!$A$28:$C$34,3,FALSE))","v":""},{"$f":"IF(入力!$E$30=\"\",\"\",入力!$E$30)","v":""},0,{"$f":"COUNTIFS(入力!$X$7:$X$141,入力!E30,入力!$W$7:$W$141,情報!$AK$15)","v":0},{"$f":"COUNTIFS(入力!$AR$7:$AR$141,入力!E30,入力!$AQ$7:$AQ$141,情報!$AK$15)","v":0},{"$f":"COUNTIFS(入力!$BL$7:$BL$141,入力!E30,入力!$BK$7:$BK$141,情報!$AK$15)","v":0},{"$f":"COUNTIFS(入力!$CF$7:$CF$141,入力!E30,入力!$CE$7:$CE$141,情報!$AK$15)","v":0},{"$f":"COUNTIFS(入力!$CZ$7:$CZ$141,入力!E30,入力!$CY$7:$CY$141,情報!$AK$15)","v":0},{"$f":"COUNTIFS(入力!$DT$7:$DT$141,入力!E30,入力!$DS$7:$DS$141,情報!$AK$15)","v":0},{"$f":"COUNTIFS(入力!$EN$7:$EN$141,入力!E30,入力!$EM$7:$EM$141,情報!$AK$15)","v":0},{"$f":"COUNTIFS(入力!$FH$7:$FH$141,入力!E30,入力!$FG$7:$FG$141,情報!$AK$15)","v":0},{"$f":"COUNTIFS(入力!$GB$7:$GB$141,入力!E30,入力!$GA$7:$GA$141,情報!$AK$15)","v":0},{"$f":"COUNTIFS(入力!$GV$7:$GV$141,入力!E30,入力!$GU$7:$GU$141,情報!$AK$15)","v":0},{"$f":"COUNTIFS(入力!$HP$7:$HP$141,入力!E30,入力!$HO$7:$HO$141,情報!$AK$15)","v":0},{"$f":"COUNTIFS(入力!$IJ$7:$IJ$141,入力!E30,入力!$II$7:$II$141,情報!$AK$15)","v":0}]
[null,null,null,null,null,null,null,null,null,null,null,null,null,null,null,null,null,null,null,null,null,null,null,null,null,null,null,null,null,null,null,null,null,null,null,null,null,null,null,null,null,null,null,null,null,null,null,null,null,null,null,null,null,null,null,null,null,null,null,null,null,null,null,null,null,null,null,null,null,null,{"$f":"IF($AL$9=\"\",\"\",VLOOKUP($AL$9,入力!$A$28:$C$34,3,FALSE))","v":""},{"$f":"IF(入力!$E$31=\"\",\"\",入力!AM121)","v":""},0,{"$f":"COUNTIFS(入力!$X$7:$X$141,入力!E31,入力!$W$7:$W$141,情報!$AK$15)","v":0},{"$f":"COUNTIFS(入力!$AR$7:$AR$141,入力!E31,入力!$AQ$7:$AQ$141,情報!$AK$15)","v":0},{"$f":"COUNTIFS(入力!$BL$7:$BL$141,入力!E31,入力!$BK$7:$BK$141,情報!$AK$15)","v":0},{"$f":"COUNTIFS(入力!$CF$7:$CF$141,入力!E31,入力!$CE$7:$CE$141,情報!$AK$15)","v":0},{"$f":"COUNTIFS(入力!$CZ$7:$CZ$141,入力!E31,入力!$CY$7:$CY$141,情報!$AK$15)","v":0},{"$f":"COUNTIFS(入力!$DT$7:$DT$141,入力!E31,入力!$DS$7:$DS$141,情報!$AK$15)","v":0},{"$f":"COUNTIFS(入力!$EN$7:$EN$141,入力!E31,入力!$EM$7:$EM$141,情報!$AK$15)","v":0},{"$f":"COUNTIFS(入力!$FH$7:$FH$141,入力!E31,入力!$FG$7:$FG$141,情報!$AK$15)","v":0},{"$f":"COUNTIFS(入力!$GB$7:$GB$141,入力!E31,入力!$GA$7:$GA$141,情報!$AK$15)","v":0},{"$f":"COUNTIFS(入力!$GV$7:$GV$141,入力!E31,入力!$GU$7:$GU$141,情報!$AK$15)","v":0},{"$f":"COUNTIFS(入力!$HP$7:$HP$141,入力!E31,入力!$HO$7:$HO$141,情報!$AK$15)","v":0},{"$f":"COUNTIFS(入力!$IJ$7:$IJ$141,入力!E31,入力!$II$7:$II$141,情報!$AK$15)","v":0}]
[null,null,null,null,null,null,null,null,null,null,null,null,null,null,null,null,null,null,null,null,null,null,null,null,null,null,null,null,null,null,null,null,null,null,null,null,null,null,null,null,null,null,null,null,null,null,null,null,null,null,null,null,null,null,null,null,null,null,null,null,null,null,null,null,null,null,null,null,null,null,{"$f":"IF($AL$10=\"\",\"\",VLOOKUP($AL$10,入力!$A$28:$C$34,3,FALSE))","v":""},{"$f":"IF(入力!$E$32=\"\",\"\",入力!$E$32)","v":""},0,{"$f":"COUNTIFS(入力!$X$7:$X$141,入力!E32,入力!$W$7:$W$141,情報!$AK$15)","v":0},{"$f":"COUNTIFS(入力!$AR$7:$AR$141,入力!E32,入力!$AQ$7:$AQ$141,情報!$AK$15)","v":0},{"$f":"COUNTIFS(入力!$BL$7:$BL$141,入力!E32,入力!$BK$7:$BK$141,情報!$AK$15)","v":0},{"$f":"COUNTIFS(入力!$CF$7:$CF$141,入力!E32,入力!$CE$7:$CE$141,情報!$AK$15)","v":0},{"$f":"COUNTIFS(入力!$CZ$7:$CZ$141,入力!E32,入力!$CY$7:$CY$141,情報!$AK$15)","v":0},{"$f":"COUNTIFS(入力!$DT$7:$DT$141,入力!E32,入力!$DS$7:$DS$141,情報!$AK$15)","v":0},{"$f":"COUNTIFS(入力!$EN$7:$EN$141,入力!E32,入力!$EM$7:$EM$141,情報!$AK$15)","v":0},{"$f":"COUNTIFS(入力!$FH$7:$FH$141,入力!E32,入力!$FG$7:$FG$141,情報!$AK$15)","v":0},{"$f":"COUNTIFS(入力!$GB$7:$GB$141,入力!E32,入力!$GA$7:$GA$141,情報!$AK$15)","v":0},{"$f":"COUNTIFS(入力!$GV$7:$GV$141,入力!E32,入力!$GU$7:$GU$141,情報!$AK$15)","v":0},{"$f":"COUNTIFS(入力!$HP$7:$HP$141,入力!E32,入力!$HO$7:$HO$141,情報!$AK$15)","v":0},{"$f":"COUNTIFS(入力!$IJ$7:$IJ$141,入力!E32,入力!$II$7:$II$141,情報!$AK$15)","v":0}]
[null,null,null,null,null,null,null,null,null,null,null,null,null,null,null,null,null,null,null,null,null,null,null,null,null,null,null,null,null,null,null,null,null,null,null,null,null,null,null,null,null,null,null,null,null,null,null,null,null,null,null,null,null,null,null,null,null,null,null,null,null,null,null,null,null,null,null,null,null,null,{"$f":"IF($AL$11=\"\",\"\",VLOOKUP($AL$11,入力!$A$28:$C$34,3,FALSE))","v":""},{"$f":"IF(入力!$E$33=\"\",\"\",入力!$E$33)","v":""},{"$f":"SUM(BV101:CG101)","v":0},{"$f":"COUNTIFS(入力!$X$7:$X$141,入力!E33,入力!$W$7:$W$141,情報!$AK$15)","v":0},{"$f":"COUNTIFS(入力!$AR$7:$AR$141,入力!E33,入力!$AQ$7:$AQ$141,情報!$AK$15)","v":0},{"$f":"COUNTIFS(入力!$BL$7:$BL$141,入力!E33,入力!$BK$7:$BK$141,情報!$AK$15)","v":0},{"$f":"COUNTIFS(入力!$CF$7:$CF$141,入力!E33,入力!$CE$7:$CE$141,情報!$AK$15)","v":0},{"$f":"COUNTIFS(入力!$CZ$7:$CZ$141,入力!E33,入力!$CY$7:$CY$141,情報!$AK$15)","v":0},{"$f":"COUNTIFS(入力!$DT$7:$DT$141,入力!E33,入力!$DS$7:$DS$141,情報!$AK$15)","v":0},{"$f":"COUNTIFS(入力!$EN$7:$EN$141,入力!E33,入力!$EM$7:$EM$141,情報!$AK$15)","v":0},{"$f":"COUNTIFS(入力!$FH$7:$FH$141,入力!E33,入力!$FG$7:$FG$141,情報!$AK$15)","v":0},{"$f":"COUNTIFS(入力!$GB$7:$GB$141,入力!E33,入力!$GA$7:$GA$141,情報!$AK$15)","v":0},{"$f":"COUNTIFS(入力!$GV$7:$GV$141,入力!E33,入力!$GU$7:$GU$141,情報!$AK$15)","v":0},{"$f":"COUNTIFS(入力!$HP$7:$HP$141,入力!E33,入力!$HO$7:$HO$141,情報!$AK$15)","v":0},{"$f":"COUNTIFS(入力!$IJ$7:$IJ$141,入力!E33,入力!$II$7:$II$141,情報!$AK$15)","v":0}]
[null,null,null,null,null,null,null,null,null,null,null,null,null,null,null,null,null,null,null,null,null,null,null,null,null,null,null,null,null,null,null,null,null,null,null,null,null,null,null,null,null,null,null,null,null,null,null,null,null,null,null,null,null,null,null,null,null,null,null,null,null,null,null,null,null,null,null,null,null,null,{"$f":"IF($AL$12=\"\",\"\",VLOOKUP($AL$12,入力!$A$28:$C$34,3,FALSE))","v":""},{"$f":"IF(入力!$E$34=\"\",\"\",入力!$E$34)","v":""},0,{"$f":"COUNTIFS(入力!$X$7:$X$141,入力!E34,入力!$W$7:$W$141,情報!$AK$15)","v":0},{"$f":"COUNTIFS(入力!$AR$7:$AR$141,入力!E34,入力!$AQ$7:$AQ$141,情報!$AK$15)","v":0},{"$f":"COUNTIFS(入力!$BL$7:$BL$141,入力!E34,入力!$BK$7:$BK$141,情報!$AK$15)","v":0},{"$f":"COUNTIFS(入力!$CF$7:$CF$141,入力!E34,入力!$CE$7:$CE$141,情報!$AK$15)","v":0},{"$f":"COUNTIFS(入力!$CZ$7:$CZ$141,入力!E34,入力!$CY$7:$CY$141,情報!$AK$15)","v":0},{"$f":"COUNTIFS(入力!$DT$7:$DT$141,入力!E34,入力!$DS$7:$DS$141,情報!$AK$15)","v":0},{"$f":"COUNTIFS(入力!$EN$7:$EN$141,入力!E34,入力!$EM$7:$EM$141,情報!$AK$15)","v":0},{"$f":"COUNTIFS(入力!$FH$7:$FH$141,入力!E34,入力!$FG$7:$FG$141,情報!$AK$15)","v":0},{"$f":"COUNTIFS(入力!$GB$7:$GB$141,入力!E34,入力!$GA$7:$GA$141,情報!$AK$15)","v":0},{"$f":"COUNTIFS(入力!$GV$7:$GV$141,入力!E34,入力!$GU$7:$GU$141,情報!$AK$15)","v":0},{"$f":"COUNTIFS(入力!$HP$7:$HP$141,入力!E34,入力!$HO$7:$HO$141,情報!$AK$15)","v":0},{"$f":"COUNTIFS(入力!$IJ$7:$IJ$141,入力!E34,入力!$II$7:$II$141,情報!$AK$15)","v":0}]
[null,null,null,null,null,null,null,null,null,null,null,null,null,null,null,null,null,null,null,null,null,null,null,null,null,null,null,null,null,null,null,null,null,null,null,null,null,null,null,null,null,null,null,null,null,null,null,null,null,null,null,null,null,null,null,null,null,null,null,null,null,null,null,null,null,null,null,null,null,"３重殺"]
[null,null,null,null,null,null,null,null,null,null,null,null,null,null,null,null,null,null,null,null,null,null,null,null,null,null,null,null,null,null,null,null,null,null,null,null,null,null,null,null,null,null,null,null,null,null,null,null,null,null,null,null,null,null,null,null,null,null,null,null,null,null,null,null,null,null,null,null,null,"種分","投手名","背番","合計","1回","2回","3回","4回","5回","6回","7回","8回","9回","10回","11回","12回"]
[null,null,null,null,null,null,null,null,null,null,null,null,null,null,null,null,null,null,null,null,null,null,null,null,null,null,null,null,null,null,null,null,null,null,null,null,null,null,null,null,null,null,null,null,null,null,null,null,null,null,null,null,null,null,null,null,null,null,null,null,null,null,null,null,null,null,null,null,null,{"$f":"情報!AK16","v":"T.P"},{"$f":"IF($AL$6=\"\",\"\",VLOOKUP($AL$6,入力!$A$28:$C$34,3,FALSE))","v":""},{"$f":"IF(入力!$E$28=\"\",\"\",入力!$E$28)","v":""},{"$f":"SUM(BV105:CG105)","v":0},{"$f":"COUNTIFS(入力!$X$7:$X$141,入力!E28,入力!$W$7:$W$141,情報!$AK$16)","v":0},{"$f":"COUNTIFS(入力!$AR$7:$AR$141,入力!E28,入力!$AQ$7:$AQ$141,情報!$AK$16)","v":0},{"$f":"COUNTIFS(入力!$BL$7:$BL$141,入力!E28,入力!$BK$7:$BK$141,情報!$AK$16)","v":0},{"$f":"COUNTIFS(入力!$CF$7:$CF$141,入力!E28,入力!$CE$7:$CE$141,情報!$AK$16)","v":0},{"$f":"COUNTIFS(入力!$CZ$7:$CZ$141,入力!E28,入力!$CY$7:$CY$141,情報!$AK$16)","v":0},{"$f":"COUNTIFS(入力!$DT$7:$DT$141,入力!E28,入力!$DS$7:$DS$141,情報!$AK$16)","v":0},{"$f":"COUNTIFS(入力!$EN$7:$EN$141,入力!E28,入力!$EM$7:$EM$141,情報!$AK$16)","v":0},{"$f":"COUNTIFS(入力!$FH$7:$FH$141,入力!E28,入力!$FG$7:$FG$141,情報!$AK$16)","v":0},{"$f":"COUNTIFS(入力!$GB$7:$GB$141,入力!E28,入力!$GA$7:$GA$141,情報!$AK$16)","v":0},{"$f":"COUNTIFS(入力!$GV$7:$GV$141,入力!E28,入力!$GU$7:$GU$141,情報!$AK$16)","v":0},{"$f":"COUNTIFS(入力!$HP$7:$HP$141,入力!E28,入力!$HO$7:$HO$141,情報!$AK$16)","v":0},{"$f":"COUNTIFS(入力!$IJ$7:$IJ$141,入力!E28,入力!$II$7:$II$141,情報!$AK$16)","v":0}]
[null,null,null,null,null,null,null,null,null,null,null,null,null,null,null,null,null,null,null,null,null,null,null,null,null,null,null,null,null,null,null,null,null,null,null,null,null,null,null,null,null,null,null,null,null,null,null,null,null,null,null,null,null,null,null,null,null,null,null,null,null,null,null,null,null,null,null,null,null,null,{"$f":"IF($AL$7=\"\",\"\",VLOOKUP($AL$7,入力!$A$28:$C$34,3,FALSE))","v":""},{"$f":"IF(入力!$E$29=\"\",\"\",入力!$E$29)","v":""},{"$f":"SUM(BV106:CG106)","v":0},{"$f":"COUNTIFS(入力!$X$7:$X$141,入力!E29,入力!$W$7:$W$141,情報!$AK$16)","v":0},{"$f":"COUNTIFS(入力!$AR$7:$AR$141,入力!E29,入力!$AQ$7:$AQ$141,情報!$AK$16)","v":0},{"$f":"COUNTIFS(入力!$BL$7:$BL$141,入力!E29,入力!$BK$7:$BK$141,情報!$AK$16)","v":0},{"$f":"COUNTIFS(入力!$CF$7:$CF$141,入力!E29,入力!$CE$7:$CE$141,情報!$AK$16)","v":0},{"$f":"COUNTIFS(入力!$CZ$7:$CZ$141,入力!E29,入力!$CY$7:$CY$141,情報!$AK$16)","v":0},{"$f":"COUNTIFS(入力!$DT$7:$DT$141,入力!E29,入力!$DS$7:$DS$141,情報!$AK$16)","v":0},{"$f":"COUNTIFS(入力!$EN$7:$EN$141,入力!E29,入力!$EM$7:$EM$141,情報!$AK$16)","v":0},{"$f":"COUNTIFS(入力!$FH$7:$FH$141,入力!E29,入力!$FG$7:$FG$141,情報!$AK$16)","v":0},{"$f":"COUNTIFS(入力!$GB$7:$GB$141,入力!E29,入力!$GA$7:$GA$141,情報!$AK$16)","v":0},{"$f":"COUNTIFS(入力!$GV$7:$GV$141,入力!E29,入力!$GU$7:$GU$141,情報!$AK$16)","v":0},{"$f":"COUNTIFS(入力!$HP$7:$HP$141,入力!E29,入力!$HO$7:$HO$141,情報!$AK$16)","v":0},{"$f":"COUNTIFS(入力!$IJ$7:$IJ$141,入力!E29,入力!$II$7:$II$141,情報!$AK$16)","v":0}]
[null,null,null,null,null,null,null,null,null,null,null,null,null,null,null,null,null,null,null,null,null,null,null,null,null,null,null,null,null,null,null,null,null,null,null,null,null,null,null,null,null,null,null,null,null,null,null,null,null,null,null,null,null,null,null,null,null,null,null,null,null,null,null,null,null,null,null,null,null,null,{"$f":"IF($AL$8=\"\",\"\",VLOOKUP($AL$8,入力!$A$28:$C$34,3,FALSE))","v":""},{"$f":"IF(入力!$E$30=\"\",\"\",入力!$E$30)","v":""},0,{"$f":"COUNTIFS(入力!$X$7:$X$141,入力!E30,入力!$W$7:$W$141,情報!$AK$16)","v":0},{"$f":"COUNTIFS(入力!$AR$7:$AR$141,入力!E30,入力!$AQ$7:$AQ$141,情報!$AK$16)","v":0},{"$f":"COUNTIFS(入力!$BL$7:$BL$141,入力!E30,入力!$BK$7:$BK$141,情報!$AK$16)","v":0},{"$f":"COUNTIFS(入力!$CF$7:$CF$141,入力!E30,入力!$CE$7:$CE$141,情報!$AK$16)","v":0},{"$f":"COUNTIFS(入力!$CZ$7:$CZ$141,入力!E30,入力!$CY$7:$CY$141,情報!$AK$16)","v":0},{"$f":"COUNTIFS(入力!$DT$7:$DT$141,入力!E30,入力!$DS$7:$DS$141,情報!$AK$16)","v":0},{"$f":"COUNTIFS(入力!$EN$7:$EN$141,入力!E30,入力!$EM$7:$EM$141,情報!$AK$16)","v":0},{"$f":"COUNTIFS(入力!$FH$7:$FH$141,入力!E30,入力!$FG$7:$FG$141,情報!$AK$16)","v":0},{"$f":"COUNTIFS(入力!$GB$7:$GB$141,入力!E30,入力!$GA$7:$GA$141,情報!$AK$16)","v":0},{"$f":"COUNTIFS(入力!$GV$7:$GV$141,入力!E30,入力!$GU$7:$GU$141,情報!$AK$16)","v":0},{"$f":"COUNTIFS(入力!$HP$7:$HP$141,入力!E30,入力!$HO$7:$HO$141,情報!$AK$16)","v":0},{"$f":"COUNTIFS(入力!$IJ$7:$IJ$141,入力!E30,入力!$II$7:$II$141,情報!$AK$16)","v":0}]
[null,null,null,null,null,null,null,null,null,null,null,null,null,null,null,null,null,null,null,null,null,null,null,null,null,null,null,null,null,null,null,null,null,null,null,null,null,null,null,null,null,null,null,null,null,null,null,null,null,null,null,null,null,null,null,null,null,null,null,null,null,null,null,null,null,null,null,null,null,null,{"$f":"IF($AL$9=\"\",\"\",VLOOKUP($AL$9,入力!$A$28:$C$34,3,FALSE))","v":""},{"$f":"IF(入力!$E$31=\"\",\"\",入力!AM130)","v":""},0,{"$f":"COUNTIFS(入力!$X$7:$X$141,入力!E31,入力!$W$7:$W$141,情報!$AK$16)","v":0},{"$f":"COUNTIFS(入力!$AR$7:$AR$141,入力!E31,入力!$AQ$7:$AQ$141,情報!$AK$16)","v":0},{"$f":"COUNTIFS(入力!$BL$7:$BL$141,入力!E31,入力!$BK$7:$BK$141,情報!$AK$16)","v":0},{"$f":"COUNTIFS(入力!$CF$7:$CF$141,入力!E31,入力!$CE$7:$CE$141,情報!$AK$16)","v":0},{"$f":"COUNTIFS(入力!$CZ$7:$CZ$141,入力!E31,入力!$CY$7:$CY$141,情報!$AK$16)","v":0},{"$f":"COUNTIFS(入力!$DT$7:$DT$141,入力!E31,入力!$DS$7:$DS$141,情報!$AK$16)","v":0},{"$f":"COUNTIFS(入力!$EN$7:$EN$141,入力!E31,入力!$EM$7:$EM$141,情報!$AK$16)","v":0},{"$f":"COUNTIFS(入力!$FH$7:$FH$141,入力!E31,入力!$FG$7:$FG$141,情報!$AK$16)","v":0},{"$f":"COUNTIFS(入力!$GB$7:$GB$141,入力!E31,入力!$GA$7:$GA$141,情報!$AK$16)","v":0},{"$f":"COUNTIFS(入力!$GV$7:$GV$141,入力!E31,入力!$GU$7:$GU$141,情報!$AK$16)","v":0},{"$f":"COUNTIFS(入力!$HP$7:$HP$141,入力!E31,入力!$HO$7:$HO$141,情報!$AK$16)","v":0},{"$f":"COUNTIFS(入力!$IJ$7:$IJ$141,入力!E31,入力!$II$7:$II$141,情報!$AK$16)","v":0}]
[null,null,null,null,null,null,null,null,null,null,null,null,null,null,null,null,null,null,null,null,null,null,null,null,null,null,null,null,null,null,null,null,null,null,null,null,null,null,null,null,null,null,null,null,null,null,null,null,null,null,null,null,null,null,null,null,null,null,null,null,null,null,null,null,null,null,null,null,null,null,{"$f":"IF($AL$10=\"\",\"\",VLOOKUP($AL$10,入力!$A$28:$C$34,3,FALSE))","v":""},{"$f":"IF(入力!$E$32=\"\",\"\",入力!$E$32)","v":""},0,{"$f":"COUNTIFS(入力!$X$7:$X$141,入力!E32,入力!$W$7:$W$141,情報!$AK$16)","v":0},{"$f":"COUNTIFS(入力!$AR$7:$AR$141,入力!E32,入力!$AQ$7:$AQ$141,情報!$AK$16)","v":0},{"$f":"COUNTIFS(入力!$BL$7:$BL$141,入力!E32,入力!$BK$7:$BK$141,情報!$AK$16)","v":0},{"$f":"COUNTIFS(入力!$CF$7:$CF$141,入力!E32,入力!$CE$7:$CE$141,情報!$AK$16)","v":0},{"$f":"COUNTIFS(入力!$CZ$7:$CZ$141,入力!E32,入力!$CY$7:$CY$141,情報!$AK$16)","v":0},{"$f":"COUNTIFS(入力!$DT$7:$DT$141,入力!E32,入力!$DS$7:$DS$141,情報!$AK$16)","v":0},{"$f":"COUNTIFS(入力!$EN$7:$EN$141,入力!E32,入力!$EM$7:$EM$141,情報!$AK$16)","v":0},{"$f":"COUNTIFS(入力!$FH$7:$FH$141,入力!E32,入力!$FG$7:$FG$141,情報!$AK$16)","v":0},{"$f":"COUNTIFS(入力!$GB$7:$GB$141,入力!E32,入力!$GA$7:$GA$141,情報!$AK$16)","v":0},{"$f":"COUNTIFS(入力!$GV$7:$GV$141,入力!E32,入力!$GU$7:$GU$141,情報!$AK$16)","v":0},{"$f":"COUNTIFS(入力!$HP$7:$HP$141,入力!E32,入力!$HO$7:$HO$141,情報!$AK$16)","v":0},{"$f":"COUNTIFS(入力!$IJ$7:$IJ$141,入力!E32,入力!$II$7:$II$141,情報!$AK$16)","v":0}]
[null,null,null,null,null,null,null,null,null,null,null,null,null,null,null,null,null,null,null,null,null,null,null,null,null,null,null,null,null,null,null,null,null,null,null,null,null,null,null,null,null,null,null,null,null,null,null,null,null,null,null,null,null,null,null,null,null,null,null,null,null,null,null,null,null,null,null,null,null,null,{"$f":"IF($AL$11=\"\",\"\",VLOOKUP($AL$11,入力!$A$28:$C$34,3,FALSE))","v":""},{"$f":"IF(入力!$E$33=\"\",\"\",入力!$E$33)","v":""},{"$f":"SUM(BV110:CG110)","v":0},{"$f":"COUNTIFS(入力!$X$7:$X$141,入力!E33,入力!$W$7:$W$141,情報!$AK$16)","v":0},{"$f":"COUNTIFS(入力!$AR$7:$AR$141,入力!E33,入力!$AQ$7:$AQ$141,情報!$AK$16)","v":0},{"$f":"COUNTIFS(入力!$BL$7:$BL$141,入力!E33,入力!$BK$7:$BK$141,情報!$AK$16)","v":0},{"$f":"COUNTIFS(入力!$CF$7:$CF$141,入力!E33,入力!$CE$7:$CE$141,情報!$AK$16)","v":0},{"$f":"COUNTIFS(入力!$CZ$7:$CZ$141,入力!E33,入力!$CY$7:$CY$141,情報!$AK$16)","v":0},{"$f":"COUNTIFS(入力!$DT$7:$DT$141,入力!E33,入力!$DS$7:$DS$141,情報!$AK$16)","v":0},{"$f":"COUNTIFS(入力!$EN$7:$EN$141,入力!E33,入力!$EM$7:$EM$141,情報!$AK$16)","v":0},{"$f":"COUNTIFS(入力!$FH$7:$FH$141,入力!E33,入力!$FG$7:$FG$141,情報!$AK$16)","v":0},{"$f":"COUNTIFS(入力!$GB$7:$GB$141,入力!E33,入力!$GA$7:$GA$141,情報!$AK$16)","v":0},{"$f":"COUNTIFS(入力!$GV$7:$GV$141,入力!E33,入力!$GU$7:$GU$141,情報!$AK$16)","v":0},{"$f":"COUNTIFS(入力!$HP$7:$HP$141,入力!E33,入力!$HO$7:$HO$141,情報!$AK$16)","v":0},{"$f":"COUNTIFS(入力!$IJ$7:$IJ$141,入力!E33,入力!$II$7:$II$141,情報!$AK$16)","v":0}]
[null,null,null,null,null,null,null,null,null,null,null,null,null,null,null,null,null,null,null,null,null,null,null,null,null,null,null,null,null,null,null,null,null,null,null,null,null,null,null,null,null,null,null,null,null,null,null,null,null,null,null,null,null,null,null,null,null,null,null,null,null,null,null,null,null,null,null,null,null,null,{"$f":"IF($AL$12=\"\",\"\",VLOOKUP($AL$12,入力!$A$28:$C$34,3,FALSE))","v":""},{"$f":"IF(入力!$E$34=\"\",\"\",入力!$E$34)","v":""},0,{"$f":"COUNTIFS(入力!$X$7:$X$141,入力!E34,入力!$W$7:$W$141,情報!$AK$16)","v":0},{"$f":"COUNTIFS(入力!$AR$7:$AR$141,入力!E34,入力!$AQ$7:$AQ$141,情報!$AK$16)","v":0},{"$f":"COUNTIFS(入力!$BL$7:$BL$141,入力!E34,入力!$BK$7:$BK$141,情報!$AK$16)","v":0},{"$f":"COUNTIFS(入力!$CF$7:$CF$141,入力!E34,入力!$CE$7:$CE$141,情報!$AK$16)","v":0},{"$f":"COUNTIFS(入力!$CZ$7:$CZ$141,入力!E34,入力!$CY$7:$CY$141,情報!$AK$16)","v":0},{"$f":"COUNTIFS(入力!$DT$7:$DT$141,入力!E34,入力!$DS$7:$DS$141,情報!$AK$16)","v":0},{"$f":"COUNTIFS(入力!$EN$7:$EN$141,入力!E34,入力!$EM$7:$EM$141,情報!$AK$16)","v":0},{"$f":"COUNTIFS(入力!$FH$7:$FH$141,入力!E34,入力!$FG$7:$FG$141,情報!$AK$16)","v":0},{"$f":"COUNTIFS(入力!$GB$7:$GB$141,入力!E34,入力!$GA$7:$GA$141,情報!$AK$16)","v":0},{"$f":"COUNTIFS(入力!$GV$7:$GV$141,入力!E34,入力!$GU$7:$GU$141,情報!$AK$16)","v":0},{"$f":"COUNTIFS(入力!$HP$7:$HP$141,入力!E34,入力!$HO$7:$HO$141,情報!$AK$16)","v":0},{"$f":"COUNTIFS(入力!$IJ$7:$IJ$141,入力!E34,入力!$II$7:$II$141,情報!$AK$16)","v":0}]
[null,null,null,null,null,null,null,null,null,null,null,null,null,null,null,null,null,null,null,null,null,null,null,null,null,null,null,null,null,null,null,null,null,null,null,null,null,null,null,null,null,null,null,null,null,null,null,null,null,null,null,null,null,null,null,null,null,null,null,null,null,null,null,null,null,null,null,null,null,"エラー出塁"]
[null,null,null,null,null,null,null,null,null,null,null,null,null,null,null,null,null,null,null,null,null,null,null,null,null,null,null,null,null,null,null,null,null,null,null,null,null,null,null,null,null,null,null,null,null,null,null,null,null,null,null,null,null,null,null,null,null,null,null,null,null,null,null,null,null,null,null,null,null,"種分","投手名","背番","合計","1回","2回","3回","4回","5回","6回","7回","8回","9回","10回","11回","12回"]
[null,null,null,null,null,null,null,null,null,null,null,null,null,null,null,null,null,null,null,null,null,null,null,null,null,null,null,null,null,null,null,null,null,null,null,null,null,null,null,null,null,null,null,null,null,null,null,null,null,null,null,null,null,null,null,null,null,null,null,null,null,null,null,null,null,null,null,null,null,{"$f":"情報!AK17","v":"E"},{"$f":"IF($AL$6=\"\",\"\",VLOOKUP($AL$6,入力!$A$28:$C$34,3,FALSE))","v":""},{"$f":"IF(入力!$E$28=\"\",\"\",入力!$E$28)","v":""},{"$f":"SUM(BV114:CG114)","v":0},{"$f":"COUNTIFS(入力!$X$7:$X$141,入力!E28,入力!$W$7:$W$141,情報!$AK$17)","v":0},{"$f":"COUNTIFS(入力!$AR$7:$AR$141,入力!E28,入力!$AQ$7:$AQ$141,情報!$AK$17)","v":0},{"$f":"COUNTIFS(入力!$BL$7:$BL$141,入力!E28,入力!$BK$7:$BK$141,情報!$AK$17)","v":0},{"$f":"COUNTIFS(入力!$CF$7:$CF$141,入力!E28,入力!$CE$7:$CE$141,情報!$AK$17)","v":0},{"$f":"COUNTIFS(入力!$CZ$7:$CZ$141,入力!E28,入力!$CY$7:$CY$141,情報!$AK$17)","v":0},{"$f":"COUNTIFS(入力!$DT$7:$DT$141,入力!E28,入力!$DS$7:$DS$141,情報!$AK$17)","v":0},{"$f":"COUNTIFS(入力!$EN$7:$EN$141,入力!E28,入力!$EM$7:$EM$141,情報!$AK$17)","v":0},{"$f":"COUNTIFS(入力!$FH$7:$FH$141,入力!E28,入力!$FG$7:$FG$141,情報!$AK$17)","v":0},{"$f":"COUNTIFS(入力!$GB$7:$GB$141,入力!E28,入力!$GA$7:$GA$141,情報!$AK$17)","v":0},{"$f":"COUNTIFS(入力!$GV$7:$GV$141,入力!E28,入力!$GU$7:$GU$141,情報!$AK$17)","v":0},{"$f":"COUNTIFS(入力!$HP$7:$HP$141,入力!E28,入力!$HO$7:$HO$141,情報!$AK$17)","v":0},{"$f":"COUNTIFS(入力!$IJ$7:$IJ$141,入力!E28,入力!$II$7:$II$141,情報!$AK$17)","v":0}]
[null,null,null,null,null,null,null,null,null,null,null,null,null,null,null,null,null,null,null,null,null,null,null,null,null,null,null,null,null,null,null,null,null,null,null,null,null,null,null,null,null,null,null,null,null,null,null,null,null,null,null,null,null,null,null,null,null,null,null,null,null,null,null,null,null,null,null,null,null,null,{"$f":"IF($AL$7=\"\",\"\",VLOOKUP($AL$7,入力!$A$28:$C$34,3,FALSE))","v":""},{"$f":"IF(入力!$E$29=\"\",\"\",入力!$E$29)","v":""},{"$f":"SUM(BV115:CG115)","v":0},{"$f":"COUNTIFS(入力!$X$7:$X$141,入力!E29,入力!$W$7:$W$141,情報!$AK$17)","v":0},{"$f":"COUNTIFS(入力!$AR$7:$AR$141,入力!E29,入力!$AQ$7:$AQ$141,情報!$AK$17)","v":0},{"$f":"COUNTIFS(入力!$BL$7:$BL$141,入力!E29,入力!$BK$7:$BK$141,情報!$AK$17)","v":0},{"$f":"COUNTIFS(入力!$CF$7:$CF$141,入力!E29,入力!$CE$7:$CE$141,情報!$AK$17)","v":0},{"$f":"COUNTIFS(入力!$CZ$7:$CZ$141,入力!E29,入力!$CY$7:$CY$141,情報!$AK$17)","v":0},{"$f":"COUNTIFS(入力!$DT$7:$DT$141,入力!E29,入力!$DS$7:$DS$141,情報!$AK$17)","v":0},{"$f":"COUNTIFS(入力!$EN$7:$EN$141,入力!E29,入力!$EM$7:$EM$141,情報!$AK$17)","v":0},{"$f":"COUNTIFS(入力!$FH$7:$FH$141,入力!E29,入力!$FG$7:$FG$141,情報!$AK$17)","v":0},{"$f":"COUNTIFS(入力!$GB$7:$GB$141,入力!E29,入力!$GA$7:$GA$141,情報!$AK$17)","v":0},{"$f":"COUNTIFS(入力!$GV$7:$GV$141,入力!E29,入力!$GU$7:$GU$141,情報!$AK$17)","v":0},{"$f":"COUNTIFS(入力!$HP$7:$HP$141,入力!E29,入力!$HO$7:$HO$141,情報!$AK$17)","v":0},{"$f":"COUNTIFS(入力!$IJ$7:$IJ$141,入力!E29,入力!$II$7:$II$141,情報!$AK$17)","v":0}]
[null,null,null,null,null,null,null,null,null,null,null,null,null,null,null,null,null,null,null,null,null,null,null,null,null,null,null,null,null,null,null,null,null,null,null,null,null,null,null,null,null,null,null,null,null,null,null,null,null,null,null,null,null,null,null,null,null,null,null,null,null,null,null,null,null,null,null,null,null,null,{"$f":"IF($AL$8=\"\",\"\",VLOOKUP($AL$8,入力!$A$28:$C$34,3,FALSE))","v":""},{"$f":"IF(入力!$E$30=\"\",\"\",入力!$E$30)","v":""},0,{"$f":"COUNTIFS(入力!$X$7:$X$141,入力!E30,入力!$W$7:$W$141,情報!$AK$17)","v":0},{"$f":"COUNTIFS(入力!$AR$7:$AR$141,入力!E30,入力!$AQ$7:$AQ$141,情報!$AK$17)","v":0},{"$f":"COUNTIFS(入力!$BL$7:$BL$141,入力!E30,入力!$BK$7:$BK$141,情報!$AK$17)","v":0},{"$f":"COUNTIFS(入力!$CF$7:$CF$141,入力!E30,入力!$CE$7:$CE$141,情報!$AK$17)","v":0},{"$f":"COUNTIFS(入力!$CZ$7:$CZ$141,入力!E30,入力!$CY$7:$CY$141,情報!$AK$17)","v":0},{"$f":"COUNTIFS(入力!$DT$7:$DT$141,入力!E30,入力!$DS$7:$DS$141,情報!$AK$17)","v":0},{"$f":"COUNTIFS(入力!$EN$7:$EN$141,入力!E30,入力!$EM$7:$EM$141,情報!$AK$17)","v":0},{"$f":"COUNTIFS(入力!$FH$7:$FH$141,入力!E30,入力!$FG$7:$FG$141,情報!$AK$17)","v":0},{"$f":"COUNTIFS(入力!$GB$7:$GB$141,入力!E30,入力!$GA$7:$GA$141,情報!$AK$17)","v":0},{"$f":"COUNTIFS(入力!$GV$7:$GV$141,入力!E30,入力!$GU$7:$GU$141,情報!$AK$17)","v":0},{"$f":"COUNTIFS(入力!$HP$7:$HP$141,入力!E30,入力!$HO$7:$HO$141,情報!$AK$17)","v":0},{"$f":"COUNTIFS(入力!$IJ$7:$IJ$141,入力!E30,入力!$II$7:$II$141,情報!$AK$17)","v":0}]
[null,null,null,null,null,null,null,null,null,null,null,null,null,null,null,null,null,null,null,null,null,null,null,null,null,null,null,null,null,null,null,null,null,null,null,null,null,null,null,null,null,null,null,null,null,null,null,null,null,null,null,null,null,null,null,null,null,null,null,null,null,null,null,null,null,null,null,null,null,null,{"$f":"IF($AL$9=\"\",\"\",VLOOKUP($AL$9,入力!$A$28:$C$34,3,FALSE))","v":""},{"$f":"IF(入力!$E$31=\"\",\"\",入力!AM139)","v":""},0,{"$f":"COUNTIFS(入力!$X$7:$X$141,入力!E31,入力!$W$7:$W$141,情報!$AK$17)","v":0},{"$f":"COUNTIFS(入力!$AR$7:$AR$141,入力!E31,入力!$AQ$7:$AQ$141,情報!$AK$17)","v":0},{"$f":"COUNTIFS(入力!$BL$7:$BL$141,入力!E31,入力!$BK$7:$BK$141,情報!$AK$17)","v":0},{"$f":"COUNTIFS(入力!$CF$7:$CF$141,入力!E31,入力!$CE$7:$CE$141,情報!$AK$17)","v":0},{"$f":"COUNTIFS(入力!$CZ$7:$CZ$141,入力!E31,入力!$CY$7:$CY$141,情報!$AK$17)","v":0},{"$f":"COUNTIFS(入力!$DT$7:$DT$141,入力!E31,入力!$DS$7:$DS$141,情報!$AK$17)","v":0},{"$f":"COUNTIFS(入力!$EN$7:$EN$141,入力!E31,入力!$EM$7:$EM$141,情報!$AK$17)","v":0},{"$f":"COUNTIFS(入力!$FH$7:$FH$141,入力!E31,入力!$FG$7:$FG$141,情報!$AK$17)","v":0},{"$f":"COUNTIFS(入力!$GB$7:$GB$141,入力!E31,入力!$GA$7:$GA$141,情報!$AK$17)","v":0},{"$f":"COUNTIFS(入力!$GV$7:$GV$141,入力!E31,入力!$GU$7:$GU$141,情報!$AK$17)","v":0},{"$f":"COUNTIFS(入力!$HP$7:$HP$141,入力!E31,入力!$HO$7:$HO$141,情報!$AK$17)","v":0},{"$f":"COUNTIFS(入力!$IJ$7:$IJ$141,入力!E31,入力!$II$7:$II$141,情報!$AK$17)","v":0}]
[null,null,null,null,null,null,null,null,null,null,null,null,null,null,null,null,null,null,null,null,null,null,null,null,null,null,null,null,null,null,null,null,null,null,null,null,null,null,null,null,null,null,null,null,null,null,null,null,null,null,null,null,null,null,null,null,null,null,null,null,null,null,null,null,null,null,null,null,null,null,{"$f":"IF($AL$10=\"\",\"\",VLOOKUP($AL$10,入力!$A$28:$C$34,3,FALSE))","v":""},{"$f":"IF(入力!$E$32=\"\",\"\",入力!$E$32)","v":""},0,{"$f":"COUNTIFS(入力!$X$7:$X$141,入力!E32,入力!$W$7:$W$141,情報!$AK$17)","v":0},{"$f":"COUNTIFS(入力!$AR$7:$AR$141,入力!E32,入力!$AQ$7:$AQ$141,情報!$AK$17)","v":0},{"$f":"COUNTIFS(入力!$BL$7:$BL$141,入力!E32,入力!$BK$7:$BK$141,情報!$AK$17)","v":0},{"$f":"COUNTIFS(入力!$CF$7:$CF$141,入力!E32,入力!$CE$7:$CE$141,情報!$AK$17)","v":0},{"$f":"COUNTIFS(入力!$CZ$7:$CZ$141,入力!E32,入力!$CY$7:$CY$141,情報!$AK$17)","v":0},{"$f":"COUNTIFS(入力!$DT$7:$DT$141,入力!E32,入力!$DS$7:$DS$141,情報!$AK$17)","v":0},{"$f":"COUNTIFS(入力!$EN$7:$EN$141,入力!E32,入力!$EM$7:$EM$141,情報!$AK$17)","v":0},{"$f":"COUNTIFS(入力!$FH$7:$FH$141,入力!E32,入力!$FG$7:$FG$141,情報!$AK$17)","v":0},{"$f":"COUNTIFS(入力!$GB$7:$GB$141,入力!E32,入力!$GA$7:$GA$141,情報!$AK$17)","v":0},{"$f":"COUNTIFS(入力!$GV$7:$GV$141,入力!E32,入力!$GU$7:$GU$141,情報!$AK$17)","v":0},{"$f":"COUNTIFS(入力!$HP$7:$HP$141,入力!E32,入力!$HO$7:$HO$141,情報!$AK$17)","v":0},{"$f":"COUNTIFS(入力!$IJ$7:$IJ$141,入力!E32,入力!$II$7:$II$141,情報!$AK$17)","v":0}]
[null,null,null,null,null,null,null,null,null,null,null,null,null,null,null,null,null,null,null,null,null,null,null,null,null,null,null,null,null,null,null,null,null,null,null,null,null,null,null,null,null,null,null,null,null,null,null,null,null,null,null,null,null,null,null,null,null,null,null,null,null,null,null,null,null,null,null,null,null,null,{"$f":"IF($AL$11=\"\",\"\",VLOOKUP($AL$11,入力!$A$28:$C$34,3,FALSE))","v":""},{"$f":"IF(入力!$E$33=\"\",\"\",入力!$E$33)","v":""},{"$f":"SUM(BV119:CG119)","v":0},{"$f":"COUNTIFS(入力!$X$7:$X$141,入力!E33,入力!$W$7:$W$141,情報!$AK$17)","v":0},{"$f":"COUNTIFS(入力!$AR$7:$AR$141,入力!E33,入力!$AQ$7:$AQ$141,情報!$AK$17)","v":0},{"$f":"COUNTIFS(入力!$BL$7:$BL$141,入力!E33,入力!$BK$7:$BK$141,情報!$AK$17)","v":0},{"$f":"COUNTIFS(入力!$CF$7:$CF$141,入力!E33,入力!$CE$7:$CE$141,情報!$AK$17)","v":0},{"$f":"COUNTIFS(入力!$CZ$7:$CZ$141,入力!E33,入力!$CY$7:$CY$141,情報!$AK$17)","v":0},{"$f":"COUNTIFS(入力!$DT$7:$DT$141,入力!E33,入力!$DS$7:$DS$141,情報!$AK$17)","v":0},{"$f":"COUNTIFS(入力!$EN$7:$EN$141,入力!E33,入力!$EM$7:$EM$141,情報!$AK$17)","v":0},{"$f":"COUNTIFS(入力!$FH$7:$FH$141,入力!E33,入力!$FG$7:$FG$141,情報!$AK$17)","v":0},{"$f":"COUNTIFS(入力!$GB$7:$GB$141,入力!E33,入力!$GA$7:$GA$141,情報!$AK$17)","v":0},{"$f":"COUNTIFS(入力!$GV$7:$GV$141,入力!E33,入力!$GU$7:$GU$141,情報!$AK$17)","v":0},{"$f":"COUNTIFS(入力!$HP$7:$HP$141,入力!E33,入力!$HO$7:$HO$141,情報!$AK$17)","v":0},{"$f":"COUNTIFS(入力!$IJ$7:$IJ$141,入力!E33,入力!$II$7:$II$141,情報!$AK$17)","v":0}]
[null,null,null,null,null,null,null,null,null,null,null,null,null,null,null,null,null,null,null,null,null,null,null,null,null,null,null,null,null,null,null,null,null,null,null,null,null,null,null,null,null,null,null,null,null,null,null,null,null,null,null,null,null,null,null,null,null,null,null,null,null,null,null,null,null,null,null,null,null,null,{"$f":"IF($AL$12=\"\",\"\",VLOOKUP($AL$12,入力!$A$28:$C$34,3,FALSE))","v":""},{"$f":"IF(入力!$E$34=\"\",\"\",入力!$E$34)","v":""},0,{"$f":"COUNTIFS(入力!$X$7:$X$141,入力!E34,入力!$W$7:$W$141,情報!$AK$17)","v":0},{"$f":"COUNTIFS(入力!$AR$7:$AR$141,入力!E34,入力!$AQ$7:$AQ$141,情報!$AK$17)","v":0},{"$f":"COUNTIFS(入力!$BL$7:$BL$141,入力!E34,入力!$BK$7:$BK$141,情報!$AK$17)","v":0},{"$f":"COUNTIFS(入力!$CF$7:$CF$141,入力!E34,入力!$CE$7:$CE$141,情報!$AK$17)","v":0},{"$f":"COUNTIFS(入力!$CZ$7:$CZ$141,入力!E34,入力!$CY$7:$CY$141,情報!$AK$17)","v":0},{"$f":"COUNTIFS(入力!$DT$7:$DT$141,入力!E34,入力!$DS$7:$DS$141,情報!$AK$17)","v":0},{"$f":"COUNTIFS(入力!$EN$7:$EN$141,入力!E34,入力!$EM$7:$EM$141,情報!$AK$17)","v":0},{"$f":"COUNTIFS(入力!$FH$7:$FH$141,入力!E34,入力!$FG$7:$FG$141,情報!$AK$17)","v":0},{"$f":"COUNTIFS(入力!$GB$7:$GB$141,入力!E34,入力!$GA$7:$GA$141,情報!$AK$17)","v":0},{"$f":"COUNTIFS(入力!$GV$7:$GV$141,入力!E34,入力!$GU$7:$GU$141,情報!$AK$17)","v":0},{"$f":"COUNTIFS(入力!$HP$7:$HP$141,入力!E34,入力!$HO$7:$HO$141,情報!$AK$17)","v":0},{"$f":"COUNTIFS(入力!$IJ$7:$IJ$141,入力!E34,入力!$II$7:$II$141,情報!$AK$17)","v":0}]

{"sheet":"評価","index":4,"n_rows":23,"n_cols":28,"rows_kept":23,"cut":false,"hidden":false,"merged":[]}
[]
[]
[null,"チーム名","投順","投手名","背番号",null,null,null,null,null,null,null,null,null,null,null,null,"T失点",{"$f":"SUMIF(入力!$X$5:$IQ$5,\"失\",入力!$X$6:$IQ$6)","v":0},null,null,null,null,null,null,null,null,"判定"]
[null,{"$f":"IF(入力!C75=\"\",\"\",入力!C75)","v":""},"先",{"$f":"IF(C4=\"\",\"\",VLOOKUP(C4,入力!B28:C35,2,FALSE))","v":""},{"$f":"IF(C4=\"\",\"\",VLOOKUP(C4,入力!B28:E35,4,FALSE))","v":0},"OH","MH","IH","OM","MM","IM","OL","ML","IL",{"$f":"SUM(F6:N14)","v":0},"  ←総投球数",null,"順位","投手名","背番号","投球回数","失点","防御率","K/BB","WHIP","奪三振率",null,"WHIP"]
[null,null,null,null,null,{"$f":"SUM(F6:F14)","v":0},{"$f":"SUM(G6:G14)","v":0},0,0,0,0,0,0,0,"計",null,null,"先発",{"$f":"IF(入力!C28=\"\",\"\",入力!C28)","v":""},{"$f":"IF(入力!E28=\"\",\"\",入力!E28)","v":""},{"$f":"IF(S5=\"\",\"\",(成績!Q7+成績!X7+成績!Y7+成績!AA7*2+成績!AB7*3)/3)","v":""},{"$f":"SUMIF(入力!$X$5:$IQ$5,\"先\",入力!$X$6:$IQ$6)","v":0},{"$f":"IFERROR(V5*9*3/(U5*3),\"\")","v":""},{"$f":"IFERROR((成績!BU78+成績!BU69)/(成績!BU51+成績!BU60),\"\")","v":""},{"$f":"IFERROR((成績!BU51+成績!BU15+成績!BU24+成績!BU33+成績!BU42)/評価!U5,\"\")","v":""},{"$f":"IFERROR((成績!BU69+成績!BU78)*9/評価!U5,\"\")","v":""},null,"1.0以下：エース級"]
[null,null,null,null,"①番",{"$f":"COUNTIFS(入力!$M$10:$IH$10,$E$4,入力!$M$11:$IH$11,\"O\",入力!$M$12:$IH$12,\",*\")+COUNTIFS(入力!$M$10:$IH$10,$E$4,入力!$M$11:$IH$11,\"O\",入力!$M$13:$IH$13,\",*\")+COUNTIFS(入力!$M$10:$IH$10,$E$4,入力!$M$11:$IH$11,\"O\",入力!$M$14:$IH$14,\",*\")","v":0},{"$f":"COUNTIFS(入力!$M$10:$IH$10,$E$4,入力!$M$11:$IH$11,\"M\",入力!$M$12:$IH$12,\",*\")+COUNTIFS(入力!$M$10:$IH$10,$E$4,入力!$M$11:$IH$11,\"M\",入力!$M$13:$IH$13,\",*\")+COUNTIFS(入力!$M$10:$IH$10,$E$4,入力!$M$11:$IH$11,\"M\",入力!$M$14:$IH$14,\",*\")","v":0},{"$f":"COUNTIFS(入力!$M$10:$IH$10,$E$4,入力!$M$11:$IH$11,\"I\",入力!$M$12:$IH$12,\",*\")+COUNTIFS(入力!$M$10:$IH$10,$E$4,入力!$M$11:$IH$11,\"I\",入力!$M$13:$IH$13,\",*\")+COUNTIFS(入力!$M$10:$IH$10,$E$4,入力!$M$11:$IH$11,\"I\",入力!$M$14:$IH$14,\",*\")","v":0},{"$f":"COUNTIFS(入力!$M$10:$IH$10,$E$4,入力!$M$11:$IH$11,\"O\",入力!$M$15:$IH$15,\",*\")+COUNTIFS(入力!$M$10:$IH$10,$E$4,入力!$M$11:$IH$11,\"O\",入力!$M$16:$IH$16,\",*\")","v":0},{"$f":"COUNTIFS(入力!$M$10:$IH$10,$E$4,入力!$M$11:$IH$11,\"M\",入力!$M$15:$IH$15,\",*\")+COUNTIFS(入力!$M$10:$IH$10,$E$4,入力!$M$11:$IH$11,\"M\",入力!$M$16:$IH$16,\",*\")","v":0},{"$f":"COUNTIFS(入力!$M$10:$IH$10,$E$4,入力!$M$11:$IH$11,\"I\",入力!$M$15:$IH$15,\",*\")+COUNTIFS(入力!$M$10:$IH$10,$E$4,入力!$M$11:$IH$11,\"I\",入力!$M$16:$IH$16,\",*\")","v":0},{"$f":"COUNTIFS(入力!$M$10:$IH$10,$E$4,入力!$M$11:$IH$11,\"O\",入力!$M$17:$IH$17,\",*\")+COUNTIFS(入力!$M$10:$IH$10,$E$4,入力!$M$11:$IH$11,\"O\",入力!$M$18:$IH$18,\",*\")+COUNTIFS(入力!$M$10:$IH$10,$E$4,入力!$M$11:$IH$11,\"O\",入力!$M$19:$IH$19,\",*\")+COUNTIFS(入力!$M$10:$IH$10,$E$4,入力!$M$11:$IH$11,\"O\",入力!$M$20:$IH$20,\",*\")","v":0},{"$f":"COUNTIFS(入力!$M$10:$IH$10,$E$4,入力!$M$11:$IH$11,\"M\",入力!$M$17:$IH$17,\",*\")+COUNTIFS(入力!$M$10:$IH$10,$E$4,入力!$M$11:$IH$11,\"M\",入力!$M$18:$IH$18,\",*\")+COUNTIFS(入力!$M$10:$IH$10,$E$4,入力!$M$11:$IH$11,\"M\",入力!$M$19:$IH$19,\",*\")+COUNTIFS(入力!$M$10:$IH$10,$E$4,入力!$M$11:$IH$11,\"M\",入力!$M$20:$IH$20,\",*\")","v":0},{"$f":"COUNTIFS(入力!$M$10:$IH$10,$E$4,入力!$M$11:$IH$11,\"I\",入力!$M$17:$IH$17,\",*\")+COUNTIFS(入力!$M$10:$IH$10,$E$4,入力!$M$11:$IH$11,\"I\",入力!$M$18:$IH$18,\",*\")+COUNTIFS(入力!$M$10:$IH$10,$E$4,入力!$M$11:$IH$11,\"I\",入力!$M$19:$IH$19,\",*\")+COUNTIFS(入力!$M$10:$IH$10,$E$4,入力!$M$11:$IH$11,\"I\",入力!$M$20:$IH$20,\",*\")","v":0},{"$f":"SUM(F6:N6)","v":0},null,null,"2",{"$f":"IF(入力!C29=\"\",\"\",入力!C29)","v":""},{"$f":"IF(入力!E29=\"\",\"\",入力!E29)","v":""},{"$f":"IF(S6=\"\",\"\",(成績!Q8+成績!X8+成績!Y8+成績!AA8*2+成績!AB8*3)/3)","v":""},{"$f":"SUMIF(入力!$X$5:$IQ$5,\"2\",入力!$X$6:$IQ$6)","v":0},"",{"$f":"IFERROR((成績!BU79+成績!BU70)/(成績!BU52+成績!BU61),\"\")","v":""},{"$f":"IFERROR((成績!BU52+成績!BU16+成績!BU25+成績!BU34+成績!BU43)/評価!U6,\"\")","v":""},{"$f":"IFERROR((成績!BU70+成績!BU79)*9/評価!U6,\"\")","v":""},null,"1.2以下：エース級"]
[null,null,null,null,"②番",{"$f":"COUNTIFS(入力!$M$25:$IH$25,$E$4,入力!$M$26:$IH$26,\"O\",入力!$M$27:$IH$27,\",*\")+COUNTIFS(入力!$M$25:$IH$25,$E$4,入力!$M$26:$IH$26,\"O\",入力!$M$28:$IH$28,\",*\")+COUNTIFS(入力!$M$25:$IH$25,$E$4,入力!$M$26:$IH$26,\"O\",入力!$M$29:$IH$29,\",*\")","v":0},{"$f":"COUNTIFS(入力!$M$25:$IH$25,$E$4,入力!$M$26:$IH$26,\"M\",入力!$M$27:$IH$27,\",*\")+COUNTIFS(入力!$M$25:$IH$25,$E$4,入力!$M$26:$IH$26,\"M\",入力!$M$28:$IH$28,\",*\")+COUNTIFS(入力!$M$25:$IH$25,$E$4,入力!$M$26:$IH$26,\"M\",入力!$M$29:$IH$29,\",*\")","v":0},{"$f":"COUNTIFS(入力!$M$25:$IH$25,$E$4,入力!$M$26:$IH$26,\"I\",入力!$M$27:$IH$27,\",*\")+COUNTIFS(入力!$M$25:$IH$25,$E$4,入力!$M$26:$IH$26,\"I\",入力!$M$28:$IH$28,\",*\")+COUNTIFS(入力!$M$25:$IH$25,$E$4,入力!$M$26:$IH$26,\"I\",入力!$M$29:$IH$29,\",*\")","v":0},{"$f":"COUNTIFS(入力!$M$25:$IH$25,$E$4,入力!$M$26:$IH$26,\"O\",入力!$M$30:$IH$30,\",*\")+COUNTIFS(入力!$M$25:$IH$25,$E$4,入力!$M$26:$IH$26,\"O\",入力!$M$31:$IH$31,\",*\")","v":0},{"$f":"COUNTIFS(入力!$M$25:$IH$25,$E$4,入力!$M$26:$IH$26,\"M\",入力!$M$30:$IH$30,\",*\")+COUNTIFS(入力!$M$25:$IH$25,$E$4,入力!$M$26:$IH$26,\"M\",入力!$M$31:$IH$31,\",*\")","v":0},{"$f":"COUNTIFS(入力!$M$25:$IH$25,$E$4,入力!$M$26:$IH$26,\"I\",入力!$M$30:$IH$30,\",*\")+COUNTIFS(入力!$M$25:$IH$25,$E$4,入力!$M$26:$IH$26,\"I\",入力!$M$31:$IH$31,\",*\")","v":0},{"$f":"COUNTIFS(入力!$M$25:$IH$25,$E$4,入力!$M$26:$IH$26,\"O\",入力!$M$32:$IH$32,\",*\")+COUNTIFS(入力!$M$25:$IH$25,$E$4,入力!$M$26:$IH$26,\"O\",入力!$M$33:$IH$33,\",*\")+COUNTIFS(入力!$M$25:$IH$25,$E$4,入力!$M$26:$IH$26,\"O\",入力!$M$34:$IH$34,\",*\")+COUNTIFS(入力!$M$25:$IH$25,$E$4,入力!$M$26:$IH$26,\"O\",入力!$M$35:$IH$35,\",*\")","v":0},{"$f":"COUNTIFS(入力!$M$25:$IH$25,$E$4,入力!$M$26:$IH$26,\"M\",入力!$M$32:$IH$32,\",*\")+COUNTIFS(入力!$M$25:$IH$25,$E$4,入力!$M$26:$IH$26,\"M\",入力!$M$33:$IH$33,\",*\")+COUNTIFS(入力!$M$25:$IH$25,$E$4,入力!$M$26:$IH$26,\"M\",入力!$M$34:$IH$34,\",*\")+COUNTIFS(入力!$M$25:$IH$25,$E$4,入力!$M$26:$IH$26,\"M\",入力!$M$35:$IH$35,\",*\")","v":0},{"$f":"COUNTIFS(入力!$M$25:$IH$25,$E$4,入力!$M$26:$IH$26,\"I\",入力!$M$32:$IH$32,\",*\")+COUNTIFS(入力!$M$25:$IH$25,$E$4,入力!$M$26:$IH$26,\"I\",入力!$M$33:$IH$33,\",*\")+COUNTIFS(入力!$M$25:$IH$25,$E$4,入力!$M$26:$IH$26,\"I\",入力!$M$34:$IH$34,\",*\")+COUNTIFS(入力!$M$25:$IH$25,$E$4,入力!$M$26:$IH$26,\"I\",入力!$M$35:$IH$35,\",*\")","v":0},{"$f":"SUM(F7:N7)","v":0},null,null,"3",{"$f":"IF(入力!C30=\"\",\"\",入力!C30)","v":""},{"$f":"IF(入力!E30=\"\",\"\",入力!E30)","v":""},{"$f":"IF(S7=\"\",\"\",(成績!Q9+成績!X9+成績!Y9+成績!AA9*2+成績!AB9*3)/3)","v":""},{"$f":"SUMIF(入力!$X$5:$IQ$5,\"3\",入力!$X$6:$IQ$6)","v":0},"",{"$f":"IFERROR((成績!BU80+成績!BU71)/(成績!BU53+成績!BU62),\"\")","v":""},{"$f":"IFERROR((成績!BU53+成績!BU17+成績!BU26+成績!BU35+成績!BU44)/評価!U7,\"\")","v":""},{"$f":"IFERROR((成績!BU71+成績!BU80)*9/評価!U7,\"\")","v":""},null,"1.4以上：問題あり"]
[null,null,null,null,"③番",{"$f":"COUNTIFS(入力!$M$40:$IH$40,$E$4,入力!$M$41:$IH$41,\"O\",入力!$M$42:$IH$42,\",*\")+COUNTIFS(入力!$M$40:$IH$40,$E$4,入力!$M$41:$IH$41,\"O\",入力!$M$43:$IH$43,\",*\")+COUNTIFS(入力!$M$40:$IH$40,$E$4,入力!$M$41:$IH$41,\"O\",入力!$M$44:$IH$44,\",*\")","v":0},{"$f":"COUNTIFS(入力!$M$40:$IH$40,$E$4,入力!$M$41:$IH$41,\"M\",入力!$M$42:$IH$42,\",*\")+COUNTIFS(入力!$M$40:$IH$40,$E$4,入力!$M$41:$IH$41,\"M\",入力!$M$43:$IH$43,\",*\")+COUNTIFS(入力!$M$40:$IH$40,$E$4,入力!$M$41:$IH$41,\"M\",入力!$M$44:$IH$44,\",*\")","v":0},{"$f":"COUNTIFS(入力!$M$40:$IH$40,$E$4,入力!$M$41:$IH$41,\"I\",入力!$M$42:$IH$42,\",*\")+COUNTIFS(入力!$M$40:$IH$40,$E$4,入力!$M$41:$IH$41,\"I\",入力!$M$43:$IH$43,\",*\")+COUNTIFS(入力!$M$40:$IH$40,$E$4,入力!$M$41:$IH$41,\"I\",入力!$M$44:$IH$44,\",*\")","v":0},{"$f":"COUNTIFS(入力!$M$40:$IH$40,$E$4,入力!$M$41:$IH$41,\"O\",入力!$M$45:$IH$45,\",*\")+COUNTIFS(入力!$M$40:$IH$40,$E$4,入力!$M$41:$IH$41,\"O\",入力!$M$46:$IH$46,\",*\")","v":0},{"$f":"COUNTIFS(入力!$M$40:$IH$40,$E$4,入力!$M$41:$IH$41,\"M\",入力!$M$45:$IH$45,\",*\")+COUNTIFS(入力!$M$40:$IH$40,$E$4,入力!$M$41:$IH$41,\"M\",入力!$M$46:$IH$46,\",*\")","v":0},{"$f":"COUNTIFS(入力!$M$40:$IH$40,$E$4,入力!$M$41:$IH$41,\"I\",入力!$M$45:$IH$45,\",*\")+COUNTIFS(入力!$M$40:$IH$40,$E$4,入力!$M$41:$IH$41,\"I\",入力!$M$46:$IH$46,\",*\")","v":0},{"$f":"COUNTIFS(入力!$M$40:$IH$40,$E$4,入力!$M$41:$IH$41,\"O\",入力!$M$47:$IH$47,\",*\")+COUNTIFS(入力!$M$40:$IH$40,$E$4,入力!$M$41:$IH$41,\"O\",入力!$M$48:$IH$48,\",*\")+COUNTIFS(入力!$M$40:$IH$40,$E$4,入力!$M$41:$IH$41,\"O\",入力!$M$49:$IH$49,\",*\")+COUNTIFS(入力!$M$40:$IH$40,$E$4,入力!$M$41:$IH$41,\"O\",入力!$M$50:$IH$50,\",*\")","v":0},{"$f":"COUNTIFS(入力!$M$40:$IH$40,$E$4,入力!$M$41:$IH$41,\"M\",入力!$M$47:$IH$47,\",*\")+COUNTIFS(入力!$M$40:$IH$40,$E$4,入力!$M$41:$IH$41,\"M\",入力!$M$48:$IH$48,\",*\")+COUNTIFS(入力!$M$40:$IH$40,$E$4,入力!$M$41:$IH$41,\"M\",入力!$M$49:$IH$49,\",*\")+COUNTIFS(入力!$M$40:$IH$40,$E$4,入力!$M$41:$IH$41,\"M\",入力!$M$50:$IH$50,\",*\")","v":0},{"$f":"COUNTIFS(入力!$M$40:$IH$40,$E$4,入力!$M$41:$IH$41,\"I\",入力!$M$47:$IH$47,\",*\")+COUNTIFS(入力!$M$40:$IH$40,$E$4,入力!$M$41:$IH$41,\"I\",入力!$M$48:$IH$48,\",*\")+COUNTIFS(入力!$M$40:$IH$40,$E$4,入力!$M$41:$IH$41,\"I\",入力!$M$49:$IH$49,\",*\")+COUNTIFS(入力!$M$40:$IH$40,$E$4,入力!$M$41:$IH$41,\"I\",入力!$M$50:$IH$50,\",*\")","v":0},{"$f":"SUM(F8:N8)","v":0},null,null,"4",{"$f":"IF(入力!C31=\"\",\"\",入力!C31)","v":""},{"$f":"IF(入力!E31=\"\",\"\",入力!E31)","v":""},{"$f":"IF(S8=\"\",\"\",(成績!Q10+成績!X10+成績!Y10+成績!AA10*2+成績!AB10*3)/3)","v":""},{"$f":"SUMIF(入力!$X$5:$IQ$5,\"4\",入力!$X$6:$IQ$6)","v":0},"",{"$f":"IFERROR((成績!BU81+成績!BU72)/(成績!BU54+成績!BU63),\"\")","v":""},{"$f":"IFERROR((成績!BU54+成績!BU18+成績!BU27+成績!BU36+成績!BU45)/評価!U8,\"\")","v":""},{"$f":"IFERROR((成績!BU72+成績!BU81)*9/評価!U8,\"\")","v":""},null,"K/BB"]
[null,null,null,null,"④番",{"$f":"COUNTIFS(入力!$M$55:$IH$55,$E$4,入力!$M$56:$IH$56,\"O\",入力!$M$57:$IH$57,\",*\")+COUNTIFS(入力!$M$55:$IH$55,$E$4,入力!$M$56:$IH$56,\"O\",入力!$M$58:$IH$58,\",*\")+COUNTIFS(入力!$M$55:$IH$55,$E$4,入力!$M$56:$IH$56,\"O\",入力!$M$59:$IH$59,\",*\")","v":0},{"$f":"COUNTIFS(入力!$M$55:$IH$55,$E$4,入力!$M$56:$IH$56,\"M\",入力!$M$57:$IH$57,\",*\")+COUNTIFS(入力!$M$55:$IH$55,$E$4,入力!$M$56:$IH$56,\"M\",入力!$M$58:$IH$58,\",*\")+COUNTIFS(入力!$M$55:$IH$55,$E$4,入力!$M$56:$IH$56,\"M\",入力!$M$59:$IH$59,\",*\")","v":0},{"$f":"COUNTIFS(入力!$M$55:$IH$55,$E$4,入力!$M$56:$IH$56,\"I\",入力!$M$57:$IH$57,\",*\")+COUNTIFS(入力!$M$55:$IH$55,$E$4,入力!$M$56:$IH$56,\"I\",入力!$M$58:$IH$58,\",*\")+COUNTIFS(入力!$M$55:$IH$55,$E$4,入力!$M$56:$IH$56,\"I\",入力!$M$59:$IH$59,\",*\")","v":0},{"$f":"COUNTIFS(入力!$M$55:$IH$55,$E$4,入力!$M$56:$IH$56,\"O\",入力!$M$60:$IH$60,\",*\")+COUNTIFS(入力!$M$55:$IH$55,$E$4,入力!$M$56:$IH$56,\"O\",入力!$M$61:$IH$61,\",*\")","v":0},{"$f":"COUNTIFS(入力!$M$55:$IH$55,$E$4,入力!$M$56:$IH$56,\"M\",入力!$M$60:$IH$60,\",*\")+COUNTIFS(入力!$M$55:$IH$55,$E$4,入力!$M$56:$IH$56,\"M\",入力!$M$61:$IH$61,\",*\")","v":0},{"$f":"COUNTIFS(入力!$M$55:$IH$55,$E$4,入力!$M$56:$IH$56,\"I\",入力!$M$60:$IH$60,\",*\")+COUNTIFS(入力!$M$55:$IH$55,$E$4,入力!$M$56:$IH$56,\"I\",入力!$M$61:$IH$61,\",*\")","v":0},{"$f":"COUNTIFS(入力!$M$55:$IH$55,$E$4,入力!$M$56:$IH$56,\"O\",入力!$M$62:$IH$62,\",*\")+COUNTIFS(入力!$M$55:$IH$55,$E$4,入力!$M$56:$IH$56,\"O\",入力!$M$63:$IH$63,\",*\")+COUNTIFS(入力!$M$55:$IH$55,$E$4,入力!$M$56:$IH$56,\"O\",入力!$M$64:$IH$64,\",*\")+COUNTIFS(入力!$M$55:$IH$55,$E$4,入力!$M$56:$IH$56,\"O\",入力!$M$65:$IH$65,\",*\")","v":0},{"$f":"COUNTIFS(入力!$M$55:$IH$55,$E$4,入力!$M$56:$IH$56,\"M\",入力!$M$62:$IH$62,\",*\")+COUNTIFS(入力!$M$55:$IH$55,$E$4,入力!$M$56:$IH$56,\"M\",入力!$M$63:$IH$63,\",*\")+COUNTIFS(入力!$M$55:$IH$55,$E$4,入力!$M$56:$IH$56,\"M\",入力!$M$64:$IH$64,\",*\")+COUNTIFS(入力!$M$55:$IH$55,$E$4,入力!$M$56:$IH$56,\"M\",入力!$M$65:$IH$65,\",*\")","v":0},{"$f":"COUNTIFS(入力!$M$55:$IH$55,$E$4,入力!$M$56:$IH$56,\"I\",入力!$M$62:$IH$62,\",*\")+COUNTIFS(入力!$M$55:$IH$55,$E$4,入力!$M$56:$IH$56,\"I\",入力!$M$63:$IH$63,\",*\")+COUNTIFS(入力!$M$55:$IH$55,$E$4,入力!$M$56:$IH$56,\"I\",入力!$M$64:$IH$64,\",*\")+COUNTIFS(入力!$M$55:$IH$55,$E$4,入力!$M$56:$IH$56,\"I\",入力!$M$65:$IH$65,\",*\")","v":0},0,null,null,"5",{"$f":"IF(入力!C32=\"\",\"\",入力!C32)","v":""},{"$f":"IF(入力!E32=\"\",\"\",入力!E32)","v":""},{"$f":"IF(S9=\"\",\"\",(成績!Q11+成績!X11+成績!Y11+成績!AA11*2+成績!AB11*3)/3)","v":""},{"$f":"SUMIF(入力!$X$5:$IQ$5,\"5\",入力!$X$6:$IQ$6)","v":0},"",{"$f":"IFERROR((成績!BU82+成績!BU73)/(成績!BU55+成績!BU64),\"\")","v":""},{"$f":"IFERROR((成績!BU55+成績!BU19+成績!BU28+成績!BU37+成績!BU46)/評価!U9,\"\")","v":""},{"$f":"IFERROR((成績!BU73+成績!BU82)*9/評価!U9,\"\")","v":""},null,"3.5以上：優秀"]
[null,null,null,null,"⑤番",{"$f":"COUNTIFS(入力!$M$70:$IH$70,$E$4,入力!$M$71:$IH$71,\"O\",入力!$M$72:$IH$72,\",*\")+COUNTIFS(入力!$M$70:$IH$70,$E$4,入力!$M$71:$IH$71,\"O\",入力!$M$73:$IH$73,\",*\")+COUNTIFS(入力!$M$70:$IH$70,$E$4,入力!$M$71:$IH$71,\"O\",入力!$M$74:$IH$74,\",*\")","v":0},{"$f":"COUNTIFS(入力!$M$70:$IH$70,$E$4,入力!$M$71:$IH$71,\"M\",入力!$M$72:$IH$72,\",*\")+COUNTIFS(入力!$M$70:$IH$70,$E$4,入力!$M$71:$IH$71,\"M\",入力!$M$73:$IH$73,\",*\")+COUNTIFS(入力!$M$70:$IH$70,$E$4,入力!$M$71:$IH$71,\"M\",入力!$M$74:$IH$74,\",*\")","v":0},{"$f":"COUNTIFS(入力!$M$70:$IH$70,$E$4,入力!$M$71:$IH$71,\"I\",入力!$M$72:$IH$72,\",*\")+COUNTIFS(入力!$M$70:$IH$70,$E$4,入力!$M$71:$IH$71,\"I\",入力!$M$73:$IH$73,\",*\")+COUNTIFS(入力!$M$70:$IH$70,$E$4,入力!$M$71:$IH$71,\"I\",入力!$M$74:$IH$74,\",*\")","v":0},{"$f":"COUNTIFS(入力!$M$70:$IH$70,$E$4,入力!$M$71:$IH$71,\"O\",入力!$M$75:$IH$75,\",*\")+COUNTIFS(入力!$M$70:$IH$70,$E$4,入力!$M$71:$IH$71,\"O\",入力!$M$76:$IH$76,\",*\")","v":0},{"$f":"COUNTIFS(入力!$M$70:$IH$70,$E$4,入力!$M$71:$IH$71,\"M\",入力!$M$75:$IH$75,\",*\")+COUNTIFS(入力!$M$70:$IH$70,$E$4,入力!$M$71:$IH$71,\"M\",入力!$M$76:$IH$76,\",*\")","v":0},{"$f":"COUNTIFS(入力!$M$70:$IH$70,$E$4,入力!$M$71:$IH$71,\"I\",入力!$M$75:$IH$75,\",*\")+COUNTIFS(入力!$M$70:$IH$70,$E$4,入力!$M$71:$IH$71,\"I\",入力!$M$76:$IH$76,\",*\")","v":0},{"$f":"COUNTIFS(入力!$M$70:$IH$70,$E$4,入力!$M$71:$IH$71,\"O\",入力!$M$77:$IH$77,\",*\")+COUNTIFS(入力!$M$70:$IH$70,$E$4,入力!$M$71:$IH$71,\"O\",入力!$M$78:$IH$78,\",*\")+COUNTIFS(入力!$M$70:$IH$70,$E$4,入力!$M$71:$IH$71,\"O\",入力!$M$79:$IH$79,\",*\")+COUNTIFS(入力!$M$70:$IH$70,$E$4,入力!$M$71:$IH$71,\"O\",入力!$M$80:$IH$80,\",*\")","v":0},{"$f":"COUNTIFS(入力!$M$70:$IH$70,$E$4,入力!$M$71:$IH$71,\"M\",入力!$M$77:$IH$77,\",*\")+COUNTIFS(入力!$M$70:$IH$70,$E$4,入力!$M$71:$IH$71,\"M\",入力!$M$78:$IH$78,\",*\")+COUNTIFS(入力!$M$70:$IH$70,$E$4,入力!$M$71:$IH$71,\"M\",入力!$M$79:$IH$79,\",*\")+COUNTIFS(入力!$M$70:$IH$70,$E$4,入力!$M$71:$IH$71,\"M\",入力!$M$80:$IH$80,\",*\")","v":0},{"$f":"COUNTIFS(入力!$M$70:$IH$70,$E$4,入力!$M$71:$IH$71,\"I\",入力!$M$77:$IH$77,\",*\")+COUNTIFS(入力!$M$70:$IH$70,$E$4,入力!$M$71:$IH$71,\"I\",入力!$M$78:$IH$78,\",*\")+COUNTIFS(入力!$M$70:$IH$70,$E$4,入力!$M$71:$IH$71,\"I\",入力!$M$79:$IH$79,\",*\")+COUNTIFS(入力!$M$70:$IH$70,$E$4,入力!$M$71:$IH$71,\"I\",入力!$M$80:$IH$80,\",*\")","v":0},0,null,null,"6",{"$f":"IF(入力!C33=\"\",\"\",入力!C33)","v":""},{"$f":"IF(入力!E33=\"\",\"\",入力!E33)","v":""},{"$f":"IF(S10=\"\",\"\",(成績!Q12+成績!X12+成績!Y12+成績!AA12*2+成績!AB12*3)/3)","v":""},{"$f":"SUMIF(入力!$X$5:$IQ$5,\"6\",入力!$X$6:$IQ$6)","v":0},"",{"$f":"IFERROR((成績!BU83+成績!BU74)/(成績!BU56+成績!BU65),\"\")","v":""},{"$f":"IFERROR((成績!BU56+成績!BU20+成績!BU29+成績!BU38+成績!BU47)/評価!U10,\"\")","v":""},{"$f":"IFERROR((成績!BU74+成績!BU83)*9/評価!U10,\"\")","v":""}]
[null,null,null,null,"⑥番",{"$f":"COUNTIFS(入力!$M$85:$IH$85,$E$4,入力!$M$86:$IH$86,\"O\",入力!$M$87:$IH$87,\",*\")+COUNTIFS(入力!$M$85:$IH$85,$E$4,入力!$M$86:$IH$86,\"O\",入力!$M$88:$IH$88,\",*\")+COUNTIFS(入力!$M$85:$IH$85,$E$4,入力!$M$86:$IH$86,\"O\",入力!$M$89:$IH$89,\",*\")","v":0},{"$f":"COUNTIFS(入力!$M$85:$IH$85,$E$4,入力!$M$86:$IH$86,\"M\",入力!$M$87:$IH$87,\",*\")+COUNTIFS(入力!$M$85:$IH$85,$E$4,入力!$M$86:$IH$86,\"M\",入力!$M$88:$IH$88,\",*\")+COUNTIFS(入力!$M$85:$IH$85,$E$4,入力!$M$86:$IH$86,\"M\",入力!$M$89:$IH$89,\",*\")","v":0},{"$f":"COUNTIFS(入力!$M$85:$IH$85,$E$4,入力!$M$86:$IH$86,\"I\",入力!$M$87:$IH$87,\",*\")+COUNTIFS(入力!$M$85:$IH$85,$E$4,入力!$M$86:$IH$86,\"I\",入力!$M$88:$IH$88,\",*\")+COUNTIFS(入力!$M$85:$IH$85,$E$4,入力!$M$86:$IH$86,\"I\",入力!$M$89:$IH$89,\",*\")","v":0},{"$f":"COUNTIFS(入力!$M$85:$IH$85,$E$4,入力!$M$86:$IH$86,\"O\",入力!$M$90:$IH$90,\",*\")+COUNTIFS(入力!$M$85:$IH$85,$E$4,入力!$M$86:$IH$86,\"O\",入力!$M$91:$IH$91,\",*\")","v":0},{"$f":"COUNTIFS(入力!$M$85:$IH$85,$E$4,入力!$M$86:$IH$86,\"M\",入力!$M$90:$IH$90,\",*\")+COUNTIFS(入力!$M$85:$IH$85,$E$4,入力!$M$86:$IH$86,\"M\",入力!$M$91:$IH$91,\",*\")","v":0},{"$f":"COUNTIFS(入力!$M$85:$IH$85,$E$4,入力!$M$86:$IH$86,\"I\",入力!$M$90:$IH$90,\",*\")+COUNTIFS(入力!$M$85:$IH$85,$E$4,入力!$M$86:$IH$86,\"I\",入力!$M$91:$IH$91,\",*\")","v":0},{"$f":"COUNTIFS(入力!$M$85:$IH$85,$E$4,入力!$M$86:$IH$86,\"O\",入力!$M$92:$IH$92,\",*\")+COUNTIFS(入力!$M$85:$IH$85,$E$4,入力!$M$86:$IH$86,\"O\",入力!$M$93:$IH$93,\",*\")+COUNTIFS(入力!$M$85:$IH$85,$E$4,入力!$M$86:$IH$86,\"O\",入力!$M$94:$IH$94,\",*\")+COUNTIFS(入力!$M$85:$IH$85,$E$4,入力!$M$86:$IH$86,\"O\",入力!$M$95:$IH$95,\",*\")","v":0},{"$f":"COUNTIFS(入力!$M$85:$IH$85,$E$4,入力!$M$86:$IH$86,\"M\",入力!$M$92:$IH$92,\",*\")+COUNTIFS(入力!$M$85:$IH$85,$E$4,入力!$M$86:$IH$86,\"M\",入力!$M$93:$IH$93,\",*\")+COUNTIFS(入力!$M$85:$IH$85,$E$4,入力!$M$86:$IH$86,\"M\",入力!$M$94:$IH$94,\",*\")+COUNTIFS(入力!$M$85:$IH$85,$E$4,入力!$M$86:$IH$86,\"M\",入力!$M$95:$IH$95,\",*\")","v":0},{"$f":"COUNTIFS(入力!$M$85:$IH$85,$E$4,入力!$M$86:$IH$86,\"I\",入力!$M$92:$IH$92,\",*\")+COUNTIFS(入力!$M$85:$IH$85,$E$4,入力!$M$86:$IH$86,\"I\",入力!$M$93:$IH$93,\",*\")+COUNTIFS(入力!$M$85:$IH$85,$E$4,入力!$M$86:$IH$86,\"I\",入力!$M$94:$IH$94,\",*\")+COUNTIFS(入力!$M$85:$IH$85,$E$4,入力!$M$86:$IH$86,\"I\",入力!$M$95:$IH$95,\",*\")","v":0},0,null,null,"7",{"$f":"IF(入力!C34=\"\",\"\",入力!C34)","v":""},{"$f":"IF(入力!E34=\"\",\"\",入力!E34)","v":""},{"$f":"IF(S11=\"\",\"\",(成績!Q13+成績!X13+成績!Y13+成績!AA13*2+成績!AB13*3)/3)","v":""},{"$f":"SUMIF(入力!$X$5:$IQ$5,\"7\",入力!$X$6:$IQ$6)","v":0},"",{"$f":"IFERROR((成績!BU84+成績!BU75)/(成績!BU57+成績!BU66),\"\")","v":""},{"$f":"IFERROR((成績!BU57+成績!BU21+成績!BU30+成績!BU39+成績!BU48)/評価!U11,\"\")","v":""},{"$f":"IFERROR((成績!BU75+成績!BU84)*9/評価!U11,\"\")","v":""}]
[null,null,null,null,"⑦番",{"$f":"COUNTIFS(入力!$M$100:$IH$100,$E$4,入力!$M$101:$IH$101,\"O\",入力!$M$102:$IH$102,\",*\")+COUNTIFS(入力!$M$100:$IH$100,$E$4,入力!$M$101:$IH$101,\"O\",入力!$M$103:$IH$103,\",*\")+COUNTIFS(入力!$M$100:$IH$100,$E$4,入力!$M$101:$IH$101,\"O\",入力!$M$104:$IH$104,\",*\")","v":0},{"$f":"COUNTIFS(入力!$M$100:$IH$100,$E$4,入力!$M$101:$IH$101,\"M\",入力!$M$102:$IH$102,\",*\")+COUNTIFS(入力!$M$100:$IH$100,$E$4,入力!$M$101:$IH$101,\"M\",入力!$M$103:$IH$103,\",*\")+COUNTIFS(入力!$M$100:$IH$100,$E$4,入力!$M$101:$IH$101,\"M\",入力!$M$104:$IH$104,\",*\")","v":0},{"$f":"COUNTIFS(入力!$M$100:$IH$100,$E$4,入力!$M$101:$IH$101,\"I\",入力!$M$102:$IH$102,\",*\")+COUNTIFS(入力!$M$100:$IH$100,$E$4,入力!$M$101:$IH$101,\"I\",入力!$M$103:$IH$103,\",*\")+COUNTIFS(入力!$M$100:$IH$100,$E$4,入力!$M$101:$IH$101,\"I\",入力!$M$104:$IH$104,\",*\")","v":0},{"$f":"COUNTIFS(入力!$M$100:$IH$100,$E$4,入力!$M$101:$IH$101,\"O\",入力!$M$105:$IH$105,\",*\")+COUNTIFS(入力!$M$100:$IH$100,$E$4,入力!$M$101:$IH$101,\"O\",入力!$M$106:$IH$106,\",*\")","v":0},{"$f":"COUNTIFS(入力!$M$100:$IH$100,$E$4,入力!$M$101:$IH$101,\"M\",入力!$M$105:$IH$105,\",*\")+COUNTIFS(入力!$M$100:$IH$100,$E$4,入力!$M$101:$IH$101,\"M\",入力!$M$106:$IH$106,\",*\")","v":0},{"$f":"COUNTIFS(入力!$M$100:$IH$100,$E$4,入力!$M$101:$IH$101,\"I\",入力!$M$105:$IH$105,\",*\")+COUNTIFS(入力!$M$100:$IH$100,$E$4,入力!$M$101:$IH$101,\"I\",入力!$M$106:$IH$106,\",*\")","v":0},{"$f":"COUNTIFS(入力!$M$100:$IH$100,$E$4,入力!$M$101:$IH$101,\"O\",入力!$M$107:$IH$107,\",*\")+COUNTIFS(入力!$M$100:$IH$100,$E$4,入力!$M$101:$IH$101,\"O\",入力!$M$108:$IH$108,\",*\")+COUNTIFS(入力!$M$100:$IH$100,$E$4,入力!$M$101:$IH$101,\"O\",入力!$M$109:$IH$109,\",*\")+COUNTIFS(入力!$M$100:$IH$100,$E$4,入力!$M$101:$IH$101,\"O\",入力!$M$110:$IH$110,\",*\")","v":0},{"$f":"COUNTIFS(入力!$M$100:$IH$100,$E$4,入力!$M$101:$IH$101,\"M\",入力!$M$107:$IH$107,\",*\")+COUNTIFS(入力!$M$100:$IH$100,$E$4,入力!$M$101:$IH$101,\"M\",入力!$M$108:$IH$108,\",*\")+COUNTIFS(入力!$M$100:$IH$100,$E$4,入力!$M$101:$IH$101,\"M\",入力!$M$109:$IH$109,\",*\")+COUNTIFS(入力!$M$100:$IH$100,$E$4,入力!$M$101:$IH$101,\"M\",入力!$M$110:$IH$110,\",*\")","v":0},{"$f":"COUNTIFS(入力!$M$100:$IH$100,$E$4,入力!$M$101:$IH$101,\"I\",入力!$M$107:$IH$107,\",*\")+COUNTIFS(入力!$M$100:$IH$100,$E$4,入力!$M$101:$IH$101,\"I\",入力!$M$108:$IH$108,\",*\")+COUNTIFS(入力!$M$100:$IH$100,$E$4,入力!$M$101:$IH$101,\"I\",入力!$M$109:$IH$109,\",*\")+COUNTIFS(入力!$M$100:$IH$100,$E$4,入力!$M$101:$IH$101,\"I\",入力!$M$110:$IH$110,\",*\")","v":0},{"$f":"SUM(F12:N12)","v":0}]
[null,null,null,null,"⑧番",{"$f":"COUNTIFS(入力!$M$115:$IH$115,$E$4,入力!$M$116:$IH$116,\"O\",入力!$M$117:$IH$117,\",*\")+COUNTIFS(入力!$M$115:$IH$115,$E$4,入力!$M$116:$IH$116,\"O\",入力!$M$118:$IH$118,\",*\")+COUNTIFS(入力!$M$115:$IH$115,$E$4,入力!$M$116:$IH$116,\"O\",入力!$M$119:$IH$119,\",*\")","v":0},{"$f":"COUNTIFS(入力!$M$115:$IH$115,$E$4,入力!$M$116:$IH$116,\"M\",入力!$M$117:$IH$117,\",*\")+COUNTIFS(入力!$M$115:$IH$115,$E$4,入力!$M$116:$IH$116,\"M\",入力!$M$118:$IH$118,\",*\")+COUNTIFS(入力!$M$115:$IH$115,$E$4,入力!$M$116:$IH$116,\"M\",入力!$M$119:$IH$119,\",*\")","v":0},{"$f":"COUNTIFS(入力!$M$115:$IH$115,$E$4,入力!$M$116:$IH$116,\"I\",入力!$M$117:$IH$117,\",*\")+COUNTIFS(入力!$M$115:$IH$115,$E$4,入力!$M$116:$IH$116,\"I\",入力!$M$118:$IH$118,\",*\")+COUNTIFS(入力!$M$115:$IH$115,$E$4,入力!$M$116:$IH$116,\"I\",入力!$M$119:$IH$119,\",*\")","v":0},{"$f":"COUNTIFS(入力!$M$115:$IH$115,$E$4,入力!$M$116:$IH$116,\"O\",入力!$M$120:$IH$120,\",*\")+COUNTIFS(入力!$M$115:$IH$115,$E$4,入力!$M$116:$IH$116,\"O\",入力!$M$121:$IH$121,\",*\")","v":0},{"$f":"COUNTIFS(入力!$M$115:$IH$115,$E$4,入力!$M$116:$IH$116,\"M\",入力!$M$120:$IH$120,\",*\")+COUNTIFS(入力!$M$115:$IH$115,$E$4,入力!$M$116:$IH$116,\"M\",入力!$M$121:$IH$121,\",*\")","v":0},{"$f":"COUNTIFS(入力!$M$115:$IH$115,$E$4,入力!$M$116:$IH$116,\"I\",入力!$M$120:$IH$120,\",*\")+COUNTIFS(入力!$M$115:$IH$115,$E$4,入力!$M$116:$IH$116,\"I\",入力!$M$121:$IH$121,\",*\")","v":0},{"$f":"COUNTIFS(入力!$M$115:$IH$115,$E$4,入力!$M$116:$IH$116,\"O\",入力!$M$122:$IH$122,\",*\")+COUNTIFS(入力!$M$115:$IH$115,$E$4,入力!$M$116:$IH$116,\"O\",入力!$M$123:$IH$123,\",*\")+COUNTIFS(入力!$M$115:$IH$115,$E$4,入力!$M$116:$IH$116,\"O\",入力!$M$124:$IH$124,\",*\")+COUNTIFS(入力!$M$115:$IH$115,$E$4,入力!$M$116:$IH$116,\"O\",入力!$M$125:$IH$125,\",*\")","v":0},{"$f":"COUNTIFS(入力!$M$115:$IH$115,$E$4,入力!$M$116:$IH$116,\"M\",入力!$M$122:$IH$122,\",*\")+COUNTIFS(入力!$M$115:$IH$115,$E$4,入力!$M$116:$IH$116,\"M\",入力!$M$123:$IH$123,\",*\")+COUNTIFS(入力!$M$115:$IH$115,$E$4,入力!$M$116:$IH$116,\"M\",入力!$M$124:$IH$124,\",*\")+COUNTIFS(入力!$M$115:$IH$115,$E$4,入力!$M$116:$IH$116,\"M\",入力!$M$125:$IH$125,\",*\")","v":0},{"$f":"COUNTIFS(入力!$M$115:$IH$115,$E$4,入力!$M$116:$IH$116,\"I\",入力!$M$122:$IH$122,\",*\")+COUNTIFS(入力!$M$115:$IH$115,$E$4,入力!$M$116:$IH$116,\"I\",入力!$M$123:$IH$123,\",*\")+COUNTIFS(入力!$M$115:$IH$115,$E$4,入力!$M$116:$IH$116,\"I\",入力!$M$124:$IH$124,\",*\")+COUNTIFS(入力!$M$115:$IH$115,$E$4,入力!$M$116:$IH$116,\"I\",入力!$M$125:$IH$125,\",*\")","v":0},0]
[null,null,null,null,"⑨番",{"$f":"COUNTIFS(入力!$M$130:$IH$130,$E$4,入力!$M$131:$IH$131,\"O\",入力!$M$132:$IH$132,\",*\")+COUNTIFS(入力!$M$130:$IH$130,$E$4,入力!$M$131:$IH$131,\"O\",入力!$M$133:$IH$133,\",*\")+COUNTIFS(入力!$M$130:$IH$130,$E$4,入力!$M$131:$IH$131,\"O\",入力!$M$134:$IH$134,\",*\")","v":0},{"$f":"COUNTIFS(入力!$M$130:$IH$130,$E$4,入力!$M$131:$IH$131,\"M\",入力!$M$132:$IH$132,\",*\")+COUNTIFS(入力!$M$130:$IH$130,$E$4,入力!$M$131:$IH$131,\"M\",入力!$M$133:$IH$133,\",*\")+COUNTIFS(入力!$M$130:$IH$130,$E$4,入力!$M$131:$IH$131,\"M\",入力!$M$134:$IH$134,\",*\")","v":0},{"$f":"COUNTIFS(入力!$M$130:$IH$130,$E$4,入力!$M$131:$IH$131,\"I\",入力!$M$132:$IH$132,\",*\")+COUNTIFS(入力!$M$130:$IH$130,$E$4,入力!$M$131:$IH$131,\"I\",入力!$M$133:$IH$133,\",*\")+COUNTIFS(入力!$M$130:$IH$130,$E$4,入力!$M$131:$IH$131,\"I\",入力!$M$134:$IH$134,\",*\")","v":0},{"$f":"COUNTIFS(入力!$M$130:$IH$130,$E$4,入力!$M$131:$IH$131,\"O\",入力!$M$135:$IH$135,\",*\")+COUNTIFS(入力!$M$130:$IH$130,$E$4,入力!$M$131:$IH$131,\"O\",入力!$M$136:$IH$136,\",*\")","v":0},{"$f":"COUNTIFS(入力!$M$130:$IH$130,$E$4,入力!$M$131:$IH$131,\"M\",入力!$M$135:$IH$135,\",*\")+COUNTIFS(入力!$M$130:$IH$130,$E$4,入力!$M$131:$IH$131,\"M\",入力!$M$136:$IH$136,\",*\")","v":0},{"$f":"COUNTIFS(入力!$M$130:$IH$130,$E$4,入力!$M$131:$IH$131,\"I\",入力!$M$135:$IH$135,\",*\")+COUNTIFS(入力!$M$130:$IH$130,$E$4,入力!$M$131:$IH$131,\"I\",入力!$M$136:$IH$136,\",*\")","v":0},{"$f":"COUNTIFS(入力!$M$130:$IH$130,$E$4,入力!$M$131:$IH$131,\"O\",入力!$M$137:$IH$137,\",*\")+COUNTIFS(入力!$M$130:$IH$130,$E$4,入力!$M$131:$IH$131,\"O\",入力!$M$138:$IH$138,\",*\")+COUNTIFS(入力!$M$130:$IH$130,$E$4,入力!$M$131:$IH$131,\"O\",入力!$M$139:$IH$139,\",*\")+COUNTIFS(入力!$M$130:$IH$130,$E$4,入力!$M$131:$IH$131,\"O\",入力!$M$140:$IH$140,\",*\")","v":0},{"$f":"COUNTIFS(入力!$M$130:$IH$130,$E$4,入力!$M$131:$IH$131,\"M\",入力!$M$137:$IH$137,\",*\")+COUNTIFS(入力!$M$130:$IH$130,$E$4,入力!$M$131:$IH$131,\"M\",入力!$M$138:$IH$138,\",*\")+COUNTIFS(入力!$M$130:$IH$130,$E$4,入力!$M$131:$IH$131,\"M\",入力!$M$139:$IH$139,\",*\")+COUNTIFS(入力!$M$130:$IH$130,$E$4,入力!$M$131:$IH$131,\"M\",入力!$M$140:$IH$140,\",*\")","v":0},{"$f":"COUNTIFS(入力!$M$130:$IH$130,$E$4,入力!$M$131:$IH$131,\"I\",入力!$M$137:$IH$137,\",*\")+COUNTIFS(入力!$M$130:$IH$130,$E$4,入力!$M$131:$IH$131,\"I\",入力!$M$138:$IH$138,\",*\")+COUNTIFS(入力!$M$130:$IH$130,$E$4,入力!$M$131:$IH$131,\"I\",入力!$M$139:$IH$139,\",*\")+COUNTIFS(入力!$M$130:$IH$130,$E$4,入力!$M$131:$IH$131,\"I\",入力!$M$140:$IH$140,\",*\")","v":0},0]
[]
[]
[null,null,null,"全投球数:",{"$f":"SUM(E20:G22)","v":0}]
[]
[null,null,null,null,"O","M","I"]
[null,null,null,"H",{"$f":"F5","v":0},{"$f":"G5","v":0},{"$f":"H5","v":0},{"$f":"SUM(E20:G20)","v":0}]
[null,null,null,"M",{"$f":"I5","v":0},{"$f":"J5","v":0},{"$f":"K5","v":0},{"$f":"SUM(E21:G21)","v":0}]
[null,null,null,"L",{"$f":"L5","v":0},{"$f":"M5","v":0},{"$f":"N5","v":0},0]
[null,null,null,null,{"$f":"SUM(E20:E22)","v":0},{"$f":"SUM(F20:F22)","v":0},0]