{"text_format":"1","workbook":"xlsx","n_sheets":9,"sheets":["はじめ","使い方","情報","マクロ ","score","打席リンク","先攻T","後攻T","記号"],"not_rendered":{"charts":0,"images":74,"macros":1,"external_links":0,"defined_names":0,"comments":2,"pivot_tables":0},"unopened":[],"bounds":{"document_bytes":16777216,"sheet_cells":100000,"rows_first":2000,"rows_last":500,"rows_between":2000,"halvings":0,"cell_chars":16384,"cell_head_chars":4096},"cells_cut":0,"cells_raw":0,"read":"whole","date_system":"1900"}

{"sheet":"はじめ","index":0,"n_rows":28,"n_cols":2,"rows_kept":28,"cut":false,"hidden":false,"merged":[]}
[]
[]
[]
[]
[null,"本スコアシート作成目的"]
[null,"　score8ファイルでは、記号をリスト入力する事で試合データーを記録する方法でしたが、"]
[null,"この記号を覚えるのに時間を要するとの事で、それでは、和文入力によってこの記号に変換・"]
[null,"転記できれば、この問題は解決するのではと考え、score9を作成しました。"]
[]
[]
[]
[]
[]
[]
[]
[]
[]
[]
[]
[]
[]
[]
[]
[]
[]
[]
[]
[null,"＊score9ファイルの使用にあたっては、”使い方”シートに従ってください。"]

{"sheet":"使い方","index":1,"n_rows":0,"n_cols":0,"rows_kept":0,"cut":false,"hidden":false,"merged":[]}

{"sheet":"情報","index":2,"n_rows":279,"n_cols":34,"rows_kept":279,"cut":false,"hidden":false,"merged":[[2,30,2,31],[40,2,40,3],[2,26,2,27],[25,6,25,7],[25,10,25,11],[25,14,25,15],[25,18,25,19],[25,22,25,23],[31,22,31,23],[2,2,2,3],[2,6,2,7],[2,10,2,11],[2,14,2,15],[2,18,2,19],[2,22,2,23]]}
[]
[]
[null,null,"チーム用",null,null,null,"1塁ベース用",null,null,null,"2，3塁ベース用",null,null,null,"本塁ベース用",null,null,null,"塁間用",null,null,null,"先発ポジション用",null,null,null,"スコア表示用",null,null,null,"打撃成績用",null,null,"試合No"]
[null,null,"コード","チーム名","*",null,"記号","内　　容",null,null,"記号","内　　容",null,null,"記号","内　　容",null,null,"記号","内　　容",null,null,"記号","内　　容",null,null,"記号","内　　容",null,null,"記号","内　　容",null,"試合"]
[null,null,"A","大阪桐蔭","A",null,"O","凡打",null,null,"①","一番",null,null,"①","一番",null,null,1,"投手",null,null,"投","投手",null,null,"*","プレイ",null,null,"1go","投ゴロ",null,"1戦"]
[null,null,"B","高岡商","B",null,"H","安打",null,null,"②","二番",null,null,"②","二番",null,null,2,"捕手",null,null,"捕","捕手",null,null,null,"無",null,null,"2go","補ゴロ",null,"2戦"]
[null,null,"C","日大三高","C",null,"G","犠打",null,null,"③","三番",null,null,"③","三番",null,null,3,"一塁",null,null,"一","一塁",null,null,null,null,null,null,"3go","一ゴロ",null,"3戦"]
[null,null,"D","金足農業","D",null,"K","見逃し三振",null,null,"④","四番",null,null,"④","四番",null,null,4,"二塁",null,null,"二","二塁",null,null,null,null,null,null,"4go","二ゴロ",null,"4戦"]
[null,null,"E",null,"E",null,"K'","空振り三振",null,null,"⑤","五番",null,null,"⑤","五番",null,null,5,"三塁",null,null,"三","三塁",null,null,null,null,null,null,"5go","三ゴロ",null,"5戦"]
[null,null,"F",null,"F",null,"B","四球",null,null,"⑥","六番",null,null,"⑥","六番",null,null,6,"遊撃手",null,null,"遊","遊撃",null,null,null,null,null,null,"6go","遊ゴロ",null,"6戦"]
[null,null,"G",null,"G",null,"B'","死球",null,null,"⑦","七番",null,null,"⑦","七番",null,null,7,"レフト",null,null,"左","左翼",null,null,null,null,null,null,"1ao","投飛",null,"7戦"]
[null,null,"H",null,"H",null,"E","失策出塁",null,null,"⑧","八番",null,null,"⑧","八番",null,null,8,"センター",null,null,"中","中翼",null,null,null,null,null,null,"2ao","補飛",null,"8戦"]
[null,null,"I",null,"I",null,"W","併殺打",null,null,"⑨","九番",null,null,"⑨","九番",null,null,9,"ライト",null,null,"右","右翼",null,null,null,null,null,null,"3ao","一飛",null,"9戦"]
[null,null,"J",null,"J",null,"KE","振り逃げ",null,null,"H2","二塁打",null,null,"S","盗塁成功",null,null,"A","フライ",null,null,"DH",null,null,null,null,null,null,null,"4ao","二飛",null,"1０戦"]
[null,null,"K",null,"K",null,"GF","犠牲飛球",null,null,"H3","三塁打",null,null,"S'","盗塁死",null,null,null,null,null,null,null,null,null,null,null,null,null,null,"5ao","三飛",null,"準々"]
[null,null,"L",null,"L",null,"OD","守備妨害",null,null,"S","盗塁",null,null,"O","アウト",null,null,null,null,null,null,"PH","代打",null,null,null,null,null,null,"6ao","遊飛",null,"準決"]
[null,null,"M",null,"M",null,"DB","打撃妨害",null,null,"S'","盗塁死",null,null,"OR","オーバーラン",null,null,null,null,null,null,"PR","代走",null,null,null,null,null,null,"7ao","左飛",null,"決勝"]
[null,null,"N",null,"N",null,null,null,null,null,"OR","オーバーラン",null,null,"OD","守備妨害",null,null,null,null,null,null,"投2","中継2番手",null,null,null,null,null,null,"8ao","中飛"]
[null,null,"O",null,"O",null,null,null,null,null,"OC","牽制アウト",null,null,"E'","敵失得点",null,null,null,null,null,null,"投3","中継3番手",null,null,null,null,null,null,"9ao","右飛"]
[null,null,"P",null,"P",null,null,null,null,null,"E'","敵失進塁",null,null,"H4","本塁打",null,null,null,null,null,null,"投4","中継4番手",null,null,null,null,null,null,"1gh","投内野安打"]
[null,null,"Q",null,"Q",null,null,null,null,null,"OD","守備妨害",null,null,null,null,null,null,null,null,null,null,"投5","中継5番手",null,null,null,null,null,null,"2gh","補内野安打"]
[null,null,"R",null,"R",null,null,null,null,null,null,null,null,null,null,null,null,null,null,null,null,null,"投6","中継6番手",null,null,"点表",null,null,null,"3gh","一内野安打"]
[null,null,"S",null,"S",null,null,null,null,null,null,null,null,null,null,null,null,null,null,null,null,null,"投7","中継7番手",null,null,"✔",null,null,null,"4gh","二内野安打"]
[null,null,"T",null,"T",null,null,null,null,null,null,null,null,null,null,null,null,null,null,null,null,null,null,null,null,null,null,null,null,null,"5gh","三内野安打"]
[null,null,"U",null,"U",null,null,null,null,null,null,null,null,null,null,null,null,null,null,null,null,null,null,null,null,null,null,null,null,null,"6gh","遊内野安打"]
[null,null,"V",null,"V",null,"イニング結果用",null,null,null,"打点",null,null,null,"投球判定用",null,null,null,"投手順番用",null,null,null,"得点圏関連用",null,null,null,"打球状態",null,null,null,"7gh","ゴロ左安"]
[null,null,"W",null,"W",null,"記号","内　　容",null,null,"記号","内　　容",null,null,"記号","内　　容",null,null,"記号","内　　容",null,null,"記号","内　　容",null,null,"記号","内　　容",null,null,"7ah","飛左安"]
[null,null,"X",null,"X",null,"Ⅰ","1アウト",null,null,"◎","打点",null,null,"・●","ボール",null,null,"先","先発",null,null,"RZ","得点圏打席",null,null,"G","ゴロ",null,null,"8gh","ゴロ中安"]
[null,null,"Y",null,"Y",null,"Ⅱ","2アウト",null,null,null,null,null,null,"・〇","ストライク",null,null,2,"2番手",null,null,null,null,null,null,"A","フライ",null,null,"8ah","飛中安"]
[null,null,"Z",null,"Z",null,"Ⅲ","3アウト",null,null,null,null,null,null,"・△","ファール",null,null,3,"3番手",null,null,"ZH","得点圏ヒット",null,null,null,null,null,null,"9gh","ゴロ右安"]
[null,null,"AA",null,"AA",null,"○","得点",null,null,null,null,null,null,"・□","空振り",null,null,4,"4番手",null,null,null,null,null,null,null,null,null,null,"9ah","飛右安"]
[null,null,"AB",null,"AB",null,"L","残塁",null,null,null,null,null,null,"・◎","ヒッティング",null,null,5,"5番手",null,null,"投手評価用",null,null,null,"プレイスタイル",null,null,null,"7ah2","左2"]
[null,null,"AC",null,"AC",null,null,null,null,null,null,null,null,null,null,null,null,null,null,null,null,null,"記号","内　　容",null,null,"記号","内　　容",null,null,"8ah2","中2"]
[null,null,"AD",null,"AE",null,null,null,null,null,null,null,null,null,null,null,null,null,null,null,null,null,"勝","勝利投手",null,null,"RR","右投右打",null,null,"9ah2","右2"]
[null,null,"AE",null,"AE",null,null,null,null,null,null,null,null,null,null,null,null,null,null,null,null,null,"負","負投手",null,null,"RL","右投左打",null,null,"7ah3","左3"]
[null,null,"AF",null,"AF",null,null,null,null,null,null,null,null,null,null,null,null,null,null,null,null,null,"分","引き分け",null,null,"LL","左投左打",null,null,"8ah3","中3"]
[null,null,"AG",null,"AG",null,null,null,null,null,null,null,null,null,null,null,null,null,null,null,null,null,"H","ホールド",null,null,"LR","左投右打",null,null,"9ah3","右3"]
[null,null,"AH",null,null,null,null,null,null,null,null,null,null,null,null,null,null,null,null,null,null,null,"S","セーブ",null,null,null,null,null,null,"7ah4","左本"]
[null,null,null,null,null,null,null,null,null,null,null,null,null,null,null,null,null,null,null,null,null,null,null,null,null,null,null,null,null,null,"8ah4","中本"]
[null,null,null,null,null,null,null,null,null,null,null,null,null,null,null,null,null,null,null,null,null,null,null,null,null,null,null,null,null,null,"9ah4","右本"]
[null,null,"球場名",null,null,"A",null,{"$f":"VLOOKUP(F41,$C$5:$D$38,2,FALSE)","v":"大阪桐蔭"},null,"B",null,{"$f":"VLOOKUP(J41,$C$5:$D$38,2,FALSE)","v":"高岡商"},null,"C",null,{"$f":"VLOOKUP(N41,$C$5:$D$38,2,FALSE)","v":"日大三高"},null,"D",null,{"$f":"VLOOKUP(R41,$C$5:$D$38,2,FALSE)","v":"金足農業"},null,"E",null,{"$f":"VLOOKUP(V41,$C$5:$D$38,2,FALSE)","v":0},null,"F",null,{"$f":"VLOOKUP(Z41,$C$5:$D$38,2,FALSE)","v":0},null,null,"K","見三振"]
[null,null,"コード","球場名",null,null,"背番","選手名","PS",null,"背番","選手名","PS",null,"背番","選手名","PS",null,"背番","選手名","PS",null,"背番","選手名","PS",null,"背番","選手名","PS",null,"K'","空三振"]
[null,null,"K","甲子園",null,null,1,"柿木　蓮","RR",{"$f":"G43","v":1},1,"山田　龍聖","LL",{"$f":"K43","v":1},1,"中村　奎太","RL",{"$f":"O43","v":1},1,"吉田　輝星","RR",{"$f":"S43","v":1},null,null,null,{"$f":"W43","v":0},null,null,null,{"$f":"AA43","v":0},"B","四球"]
[null,null,null,null,null,null,2,"小泉　航平","RR",{"$f":"G44","v":2},2,"筏　秀生","RR",{"$f":"K44","v":2},2,"斉藤　龍二","RR",{"$f":"O44","v":2},2,"菊池　亮太","RR",{"$f":"S44","v":2},null,null,null,{"$f":"W44","v":0},null,null,null,{"$f":"AA44","v":0},"B'","死球"]
[null,null,null,null,null,null,3,"石川　端貴","RR",3,3,"石黒　優希","RL",3,3,"飯村　昇太","LL",3,3,"高橋　佑輔","RR",3,null,null,null,0,null,null,null,0,"E","エラー出塁"]
[null,null,null,null,null,null,4,"山田　健太","RR",4,4,"鞍田　新","RL",4,4,"木代　　成","RL",4,4,"菅原　天空","RL",4,null,null,null,0,null,null,null,0,"e","エラー進塁"]
[null,null,null,null,null,null,5,"中川　卓也","RL",5,5,"井林　康男","RL",5,5,"金子　　凌","RL",5,5,"打川　和輝","RR",5,null,null,null,0,null,null,null,0,"K'E","三振逃"]
[null,null,null,null,null,null,6,"根尾　昴","RL",6,6,"中村　昂央","RL",6,6,"日置　　航","RR",6,6,"斉藤　璃玖","RL",6,null,null,null,0,null,null,null,0,"W","併殺"]
[null,null,null,null,null,null,7,"宮崎　仁斗","RR",7,7,"森田　朝陽","RL",7,7,"佐藤　コビィ","RR",7,7,"佐々木　大夢","RR",7,null,null,null,0,null,null,null,0,"1G","投犠"]
[null,null,null,null,null,null,8,"藤原　恭大","LL",8,8,"堀　裕貴","RL",8,8,"柳沢　真平","RL",8,8,"大友　朝陽","RR",8,null,null,null,0,null,null,null,0,"2G","補犠"]
[null,null,null,null,null,null,9,"青地　斗舞","LL",9,9,"田島　怜","RR",9,9,"大塚　晃平","RR",9,9,"菊池　彪吾","RR",9,null,null,null,0,null,null,null,0,"3G","一犠"]
[null,null,null,null,null,null,10,"横川　凱","LL",10,10,"大島　嵩輝","RR",10,10,"川村　唯人","LL",10,10,"関　　悠人","RR",10,null,null,null,0,null,null,null,0,"4G","二犠"]
[null,null,null,null,null,null,11,"井坂　太一","RL",11,11,"井上　ビリィ","RR",11,11,"井上　広輝","RR",11,11,"嶋崎　響己","RL",11,null,null,null,0,null,null,null,0,"5G","三犠"]
[null,null,null,null,null,null,12,"飯田　光希","RR",12,12,"木谷　裕斗","RR",12,12,"佐藤　英雄","RR",12,12,"沢石　和也","RR",12,null,null,null,0,null,null,null,0,"6G","遊犠"]
[null,null,null,null,null,null,13,"宮本　亮太","RL",13,13,"木田　　圭祐","RL",13,13,"小沢　優翔","RL",13,13,"小松　雅弥","RR",13,null,null,null,0,null,null,null,0,"SB","セイフティーバンド"]
[null,null,null,null,null,null,14,"佐藤　夏冴","RR",14,14,"越水　透","RL",14,14,"高木　翔己","RL",14,14,"佐々木　大和","RR",14,null,null,null,0,null,null,null,0,"7gf","左犠飛"]
[null,null,null,null,null,null,15,"青木　大地","RL",15,15,"立野　涼介","RR",15,15,"上野　隆成","RR",15,15,"菅原　　大","RR",15,null,null,null,0,null,null,null,0,"8gf","中犠飛"]
[null,null,null,null,null,null,16,"仲野　波来","RR",16,16,"竹島　直宏","RL",16,16,"前田　聖矢","RL",16,16,"工藤　来夢","RR",16,null,null,null,0,null,null,null,0,"9gf","右犠飛"]
[null,null,null,null,null,null,17,"奥田　一聖","RR",17,17,"北岡　駿","LL",17,17,"林　　玲介","RL",17,17,"舟木　　弦","RR",17,null,null,null,0,null,null,null,0]
[null,null,null,null,null,null,18,"森本　昴佑","LL",18,18,"安藤　佑隼","RR",18,18,"広沢　　優","RR",18,18,"池田　　翔","RR",18,null,null,null,0,null,null,null,0]
[null,null,null,null,null,null,null,null,null,0,null,null,null,0,null,null,null,0,null,null,null,0,null,null,null,0,null,null,null,0]
[null,null,null,null,null,null,null,null,null,0,null,null,null,0,null,null,null,0,null,null,null,0,null,null,null,0,null,null,null,0]
[null,null,null,null,null,null,null,null,null,0,null,null,null,0,null,null,null,0,null,null,null,0,null,null,null,0,null,null,null,0]
[null,null,null,null,null,null,null,null,null,0,null,null,null,0,null,null,null,0,null,null,null,0,null,null,null,0,null,null,null,0]
[null,null,null,null,null,null,null,null,null,0,null,null,null,0,null,null,null,0,null,null,null,0,null,null,null,0,null,null,null,0]
[null,null,null,null,null,null,null,null,null,0,null,null,null,0,null,null,null,0,null,null,null,0,null,null,null,0,null,null,null,0]
[null,null,null,null,null,null,null,null,null,0,null,null,null,0,null,null,null,0,null,null,null,0,null,null,null,0,null,null,null,0]
[null,null,null,null,null,null,null,null,null,0,null,null,null,0,null,null,null,0,null,null,null,0,null,null,null,0,null,null,null,0]
[null,null,null,null,null,null,null,null,null,0,null,null,null,0,null,null,null,0,null,null,null,0,null,null,null,0,null,null,null,0]
[null,null,null,null,null,null,null,null,null,0,null,null,null,0,null,null,null,0,null,null,null,0,null,null,null,0,null,null,null,0]
[null,null,null,null,null,null,null,null,null,0,null,null,null,0,null,null,null,0,null,null,null,0,null,null,null,0,null,null,null,0]
[null,null,null,null,null,null,null,null,null,0,null,null,null,0,null,null,null,0,null,null,null,0,null,null,null,0,null,null,null,0]
[null,null,null,null,null,null,null,null,null,0,null,null,null,0,null,null,null,0,null,null,null,0,null,null,null,0,null,null,null,0]
[null,null,null,null,null,null,null,null,null,0,null,null,null,0,null,null,null,0,null,null,null,0,null,null,null,0,null,null,null,0]
[null,null,null,null,null,null,null,null,null,0,null,null,null,0,null,null,null,0,null,null,null,0,null,null,null,0,null,null,null,0]
[null,null,null,null,null,null,null,null,null,0,null,null,null,0,null,null,null,0,null,null,null,0,null,null,null,0,null,null,null,0]
[null,null,null,null,null,null,null,null,null,0,null,null,null,0,null,null,null,0,null,null,null,0,null,null,null,0,null,null,null,0]
[null,null,null,null,null,null,null,null,null,0,null,null,null,0,null,null,null,0,null,null,null,0,null,null,null,0,null,null,null,0]
[null,null,null,null,null,null,null,null,null,0,null,null,null,0,null,null,null,0,null,null,null,0,null,null,null,0,null,null,null,0]
[]
[null,null,null,null,null,"G",null,{"$f":"VLOOKUP(F81,$C$5:$D$38,2,FALSE)","v":0},null,"H",null,{"$f":"VLOOKUP(J81,$C$5:$D$38,2,FALSE)","v":0},null,"I",null,{"$f":"VLOOKUP(N81,$C$5:$D$38,2,FALSE)","v":0},null,"J",null,{"$f":"VLOOKUP(R81,$C$5:$D$38,2,FALSE)","v":0},null,"K",null,{"$f":"VLOOKUP(V81,$C$5:$D$38,2,FALSE)","v":0},null,"L",null,{"$f":"VLOOKUP(Z81,$C$5:$D$38,2,FALSE)","v":0}]
[null,null,null,null,null,null,"背番","選手名","PS",null,"背番","選手名","PS",null,"背番","選手名","PS",null,"背番","選手名","PS",null,"背番","選手名","PS",null,"背番","選手名","PS"]
[null,null,null,null,null,null,null,null,null,{"$f":"G83","v":0},null,null,null,{"$f":"K83","v":0},null,null,null,{"$f":"O83","v":0},null,null,null,{"$f":"S83","v":0},null,null,null,{"$f":"W83","v":0},null,null,null,{"$f":"AA83","v":0}]
[null,null,null,null,null,null,null,null,null,{"$f":"G84","v":0},null,null,null,{"$f":"K84","v":0},null,null,null,{"$f":"O84","v":0},null,null,null,{"$f":"S84","v":0},null,null,null,{"$f":"W84","v":0},null,null,null,{"$f":"AA84","v":0}]
[null,null,null,null,null,null,null,null,null,0,null,null,null,0,null,null,null,0,null,null,null,0,null,null,null,0,null,null,null,0]
[null,null,null,null,null,null,null,null,null,0,null,null,null,0,null,null,null,0,null,null,null,0,null,null,null,0,null,null,null,0]
[null,null,null,null,null,null,null,null,null,0,null,null,null,0,null,null,null,0,null,null,null,0,null,null,null,0,null,null,null,0]
[null,null,null,null,null,null,null,null,null,0,null,null,null,0,null,null,null,0,null,null,null,0,null,null,null,0,null,null,null,0]
[null,null,null,null,null,null,null,null,null,0,null,null,null,0,null,null,null,0,null,null,null,0,null,null,null,0,null,null,null,0]
[null,null,null,null,null,null,null,null,null,0,null,null,null,0,null,null,null,0,null,null,null,0,null,null,null,0,null,null,null,0]
[null,null,null,null,null,null,null,null,null,0,null,null,null,0,null,null,null,0,null,null,null,0,null,null,null,0,null,null,null,0]
[null,null,null,null,null,null,null,null,null,0,null,null,null,0,null,null,null,0,null,null,null,0,null,null,null,0,null,null,null,0]
[null,null,null,null,null,null,null,null,null,0,null,null,null,0,null,null,null,0,null,null,null,0,null,null,null,0,null,null,null,0]
[null,null,null,null,null,null,null,null,null,0,null,null,null,0,null,null,null,0,null,null,null,0,null,null,null,0,null,null,null,0]
[null,null,null,null,null,null,null,null,null,0,null,null,null,0,null,null,null,0,null,null,null,0,null,null,null,0,null,null,null,0]
[null,null,null,null,null,null,null,null,null,0,null,null,null,0,null,null,null,0,null,null,null,0,null,null,null,0,null,null,null,0]
[null,null,null,null,null,null,null,null,null,0,null,null,null,0,null,null,null,0,null,null,null,0,null,null,null,0,null,null,null,0]
[null,null,null,null,null,null,null,null,null,0,null,null,null,0,null,null,null,0,null,null,null,0,null,null,null,0,null,null,null,0]
[null,null,null,null,null,null,null,null,null,0,null,null,null,0,null,null,null,0,null,null,null,0,null,null,null,0,null,null,null,0]
[null,null,null,null,null,null,null,null,null,0,null,null,null,0,null,null,null,0,null,null,null,0,null,null,null,0,null,null,null,0]
[null,null,null,null,null,null,null,null,null,0,null,null,null,0,null,null,null,0,null,null,null,0,null,null,null,0,null,null,null,0]
[null,null,null,null,null,null,null,null,null,0,null,null,null,0,null,null,null,0,null,null,null,0,null,null,null,0,null,null,null,0]
[null,null,null,null,null,null,null,null,null,0,null,null,null,0,null,null,null,0,null,null,null,0,null,null,null,0,null,null,null,0]
[null,null,null,null,null,null,null,null,null,0,null,null,null,0,null,null,null,0,null,null,null,0,null,null,null,0,null,null,null,0]
[null,null,null,null,null,null,null,null,null,0,null,null,null,0,null,null,null,0,null,null,null,0,null,null,null,0,null,null,null,0]
[null,null,null,null,null,null,null,null,null,0,null,null,null,0,null,null,null,0,null,null,null,0,null,null,null,0,null,null,null,0]
[null,null,null,null,null,null,null,null,null,0,null,null,null,0,null,null,null,0,null,null,null,0,null,null,null,0,null,null,null,0]
[null,null,null,null,null,null,null,null,null,0,null,null,null,0,null,null,null,0,null,null,null,0,null,null,null,0,null,null,null,0]
[null,null,null,null,null,null,null,null,null,0,null,null,null,0,null,null,null,0,null,null,null,0,null,null,null,0,null,null,null,0]
[null,null,null,null,null,null,null,null,null,0,null,null,null,0,null,null,null,0,null,null,null,0,null,null,null,0,null,null,null,0]
[null,null,null,null,null,null,null,null,null,0,null,null,null,0,null,null,null,0,null,null,null,0,null,null,null,0,null,null,null,0]
[null,null,null,null,null,null,null,null,null,0,null,null,null,0,null,null,null,0,null,null,null,0,null,null,null,0,null,null,null,0]
[null,null,null,null,null,null,null,null,null,0,null,null,null,0,null,null,null,0,null,null,null,0,null,null,null,0,null,null,null,0]
[null,null,null,null,null,null,null,null,null,0,null,null,null,0,null,null,null,0,null,null,null,0,null,null,null,0,null,null,null,0]
[null,null,null,null,null,null,null,null,null,0,null,null,null,0,null,null,null,0,null,null,null,0,null,null,null,0,null,null,null,0]
[null,null,null,null,null,null,null,null,null,0,null,null,null,0,null,null,null,0,null,null,null,0,null,null,null,0,null,null,null,0]
[null,null,null,null,null,null,null,null,null,0,null,null,null,0,null,null,null,0,null,null,null,0,null,null,null,0,null,null,null,0]
[null,null,null,null,null,null,null,null,null,0,null,null,null,0,null,null,null,0,null,null,null,0,null,null,null,0,null,null,null,0]
[null,null,null,null,null,null,null,null,null,0,null,null,null,0,null,null,null,0,null,null,null,0,null,null,null,0,null,null,null,0]
[]
[null,null,null,null,null,"M",null,null,null,"N",null,null,null,"O",null,null,null,"P",null,null,null,"Q",null,null,null,"R"]
[null,null,null,null,null,null,"背番","選手名","PS",null,"背番","選手名","PS",null,"背番","選手名","PS",null,"背番","選手名","PS",null,"背番","選手名","PS",null,"背番","選手名","PS"]
[null,null,null,null,null,null,null,null,null,{"$f":"G123","v":0},null,null,null,{"$f":"K123","v":0},null,null,null,{"$f":"O123","v":0},null,null,null,{"$f":"S123","v":0},null,null,null,{"$f":"W123","v":0},null,null,null,{"$f":"AA123","v":0}]
[null,null,null,null,null,null,null,null,null,{"$f":"G124","v":0},null,null,null,{"$f":"K124","v":0},null,null,null,{"$f":"O124","v":0},null,null,null,{"$f":"S124","v":0},null,null,null,{"$f":"W124","v":0},null,null,null,{"$f":"AA124","v":0}]
[null,null,null,null,null,null,null,null,null,0,null,null,null,0,null,null,null,0,null,null,null,0,null,null,null,0,null,null,null,0]
[null,null,null,null,null,null,null,null,null,0,null,null,null,0,null,null,null,0,null,null,null,0,null,null,null,0,null,null,null,0]
[null,null,null,null,null,null,null,null,null,0,null,null,null,0,null,null,null,0,null,null,null,0,null,null,null,0,null,null,null,0]
[null,null,null,null,null,null,null,null,null,0,null,null,null,0,null,null,null,0,null,null,null,0,null,null,null,0,null,null,null,0]
[null,null,null,null,null,null,null,null,null,0,null,null,null,0,null,null,null,0,null,null,null,0,null,null,null,0,null,null,null,0]
[null,null,null,null,null,null,null,null,null,0,null,null,null,0,null,null,null,0,null,null,null,0,null,null,null,0,null,null,null,0]
[null,null,null,null,null,null,null,null,null,0,null,null,null,0,null,null,null,0,null,null,null,0,null,null,null,0,null,null,null,0]
[null,null,null,null,null,null,null,null,null,0,null,null,null,0,null,null,null,0,null,null,null,0,null,null,null,0,null,null,null,0]
[null,null,null,null,null,null,null,null,null,0,null,null,null,0,null,null,null,0,null,null,null,0,null,null,null,0,null,null,null,0]
[null,null,null,null,null,null,null,null,null,0,null,null,null,0,null,null,null,0,null,null,null,0,null,null,null,0,null,null,null,0]
[null,null,null,null,null,null,null,null,null,0,null,null,null,0,null,null,null,0,null,null,null,0,null,null,null,0,null,null,null,0]
[null,null,null,null,null,null,null,null,null,0,null,null,null,0,null,null,null,0,null,null,null,0,null,null,null,0,null,null,null,0]
[null,null,null,null,null,null,null,null,null,0,null,null,null,0,null,null,null,0,null,null,null,0,null,null,null,0,null,null,null,0]
[null,null,null,null,null,null,null,null,null,0,null,null,null,0,null,null,null,0,null,null,null,0,null,null,null,0,null,null,null,0]
[null,null,null,null,null,null,null,null,null,0,null,null,null,0,null,null,null,0,null,null,null,0,null,null,null,0,null,null,null,0]
[null,null,null,null,null,null,null,null,null,0,null,null,null,0,null,null,null,0,null,null,null,0,null,null,null,0,null,null,null,0]
[null,null,null,null,null,null,null,null,null,0,null,null,null,0,null,null,null,0,null,null,null,0,null,null,null,0,null,null,null,0]
[null,null,null,null,null,null,null,null,null,0,null,null,null,0,null,null,null,0,null,null,null,0,null,null,null,0,null,null,null,0]
[null,null,null,null,null,null,null,null,null,0,null,null,null,0,null,null,null,0,null,null,null,0,null,null,null,0,null,null,null,0]
[null,null,null,null,null,null,null,null,null,0,null,null,null,0,null,null,null,0,null,null,null,0,null,null,null,0,null,null,null,0]
[null,null,null,null,null,null,null,null,null,0,null,null,null,0,null,null,null,0,null,null,null,0,null,null,null,0,null,null,null,0]
[null,null,null,null,null,null,null,null,null,0,null,null,null,0,null,null,null,0,null,null,null,0,null,null,null,0,null,null,null,0]
[null,null,null,null,null,null,null,null,null,0,null,null,null,0,null,null,null,0,null,null,null,0,null,null,null,0,null,null,null,0]
[null,null,null,null,null,null,null,null,null,0,null,null,null,0,null,null,null,0,null,null,null,0,null,null,null,0,null,null,null,0]
[null,null,null,null,null,null,null,null,null,0,null,null,null,0,null,null,null,0,null,null,null,0,null,null,null,0,null,null,null,0]
[null,null,null,null,null,null,null,null,null,0,null,null,null,0,null,null,null,0,null,null,null,0,null,null,null,0,null,null,null,0]
[null,null,null,null,null,null,null,null,null,0,null,null,null,0,null,null,null,0,null,null,null,0,null,null,null,0,null,null,null,0]
[null,null,null,null,null,null,null,null,null,0,null,null,null,0,null,null,null,0,null,null,null,0,null,null,null,0,null,null,null,0]
[null,null,null,null,null,null,null,null,null,0,null,null,null,0,null,null,null,0,null,null,null,0,null,null,null,0,null,null,null,0]
[null,null,null,null,null,null,null,null,null,0,null,null,null,0,null,null,null,0,null,null,null,0,null,null,null,0,null,null,null,0]
[null,null,null,null,null,null,null,null,null,0,null,null,null,0,null,null,null,0,null,null,null,0,null,null,null,0,null,null,null,0]
[null,null,null,null,null,null,null,null,null,0,null,null,null,0,null,null,null,0,null,null,null,0,null,null,null,0,null,null,null,0]
[null,null,null,null,null,null,null,null,null,0,null,null,null,0,null,null,null,0,null,null,null,0,null,null,null,0,null,null,null,0]
[null,null,null,null,null,null,null,null,null,0,null,null,null,0,null,null,null,0,null,null,null,0,null,null,null,0,null,null,null,0]
[null,null,null,null,null,null,null,null,null,0,null,null,null,0,null,null,null,0,null,null,null,0,null,null,null,0,null,null,null,0]
[]
[null,null,null,null,null,"S",null,{"$f":"VLOOKUP(F161,$C$5:$D$38,2,FALSE)","v":0},null,"T",null,{"$f":"VLOOKUP(J161,$C$5:$D$38,2,FALSE)","v":0},null,"U",null,{"$f":"VLOOKUP(N161,$C$5:$D$38,2,FALSE)","v":0},null,"V",null,{"$f":"VLOOKUP(R161,$C$5:$D$38,2,FALSE)","v":0},null,"W",null,{"$f":"VLOOKUP(V161,$C$5:$D$38,2,FALSE)","v":0},null,"X",null,{"$f":"VLOOKUP(Z161,$C$5:$D$38,2,FALSE)","v":0}]
[null,null,null,null,null,null,"背番","選手名","PS",null,"背番","選手名","PS",null,"背番","選手名","PS",null,"背番","選手名","PS",null,"背番","選手名","PS",null,"背番","選手名","PS"]
[null,null,null,null,null,null,null,null,null,{"$f":"G163","v":0},null,null,null,{"$f":"K163","v":0},null,null,null,{"$f":"O163","v":0},null,null,null,{"$f":"S163","v":0},null,null,null,{"$f":"W163","v":0},null,null,null,{"$f":"AA163","v":0}]
[null,null,null,null,null,null,null,null,null,{"$f":"G164","v":0},null,null,null,{"$f":"K164","v":0},null,null,null,{"$f":"O164","v":0},null,null,null,{"$f":"S164","v":0},null,null,null,{"$f":"W164","v":0},null,null,null,{"$f":"AA164","v":0}]
[null,null,null,null,null,null,null,null,null,0,null,null,null,0,null,null,null,0,null,null,null,0,null,null,null,0,null,null,null,0]
[null,null,null,null,null,null,null,null,null,0,null,null,null,0,null,null,null,0,null,null,null,0,null,null,null,0,null,null,null,0]
[null,null,null,null,null,null,null,null,null,0,null,null,null,0,null,null,null,0,null,null,null,0,null,null,null,0,null,null,null,0]
[null,null,null,null,null,null,null,null,null,0,null,null,null,0,null,null,null,0,null,null,null,0,null,null,null,0,null,null,null,0]
[null,null,null,null,null,null,null,null,null,0,null,null,null,0,null,null,null,0,null,null,null,0,null,null,null,0,null,null,null,0]
[null,null,null,null,null,null,null,null,null,0,null,null,null,0,null,null,null,0,null,null,null,0,null,null,null,0,null,null,null,0]
[null,null,null,null,null,null,null,null,null,0,null,null,null,0,null,null,null,0,null,null,null,0,null,null,null,0,null,null,null,0]
[null,null,null,null,null,null,null,null,null,0,null,null,null,0,null,null,null,0,null,null,null,0,null,null,null,0,null,null,null,0]
[null,null,null,null,null,null,null,null,null,0,null,null,null,0,null,null,null,0,null,null,null,0,null,null,null,0,null,null,null,0]
[null,null,null,null,null,null,null,null,null,0,null,null,null,0,null,null,null,0,null,null,null,0,null,null,null,0,null,null,null,0]
[null,null,null,null,null,null,null,null,null,0,null,null,null,0,null,null,null,0,null,null,null,0,null,null,null,0,null,null,null,0]
[null,null,null,null,null,null,null,null,null,0,null,null,null,0,null,null,null,0,null,null,null,0,null,null,null,0,null,null,null,0]
[null,null,null,null,null,null,null,null,null,0,null,null,null,0,null,null,null,0,null,null,null,0,null,null,null,0,null,null,null,0]
[null,null,null,null,null,null,null,null,null,0,null,null,null,0,null,null,null,0,null,null,null,0,null,null,null,0,null,null,null,0]
[null,null,null,null,null,null,null,null,null,0,null,null,null,0,null,null,null,0,null,null,null,0,null,null,null,0,null,null,null,0]
[null,null,null,null,null,null,null,null,null,0,null,null,null,0,null,null,null,0,null,null,null,0,null,null,null,0,null,null,null,0]
[null,null,null,null,null,null,null,null,null,0,null,null,null,0,null,null,null,0,null,null,null,0,null,null,null,0,null,null,null,0]
[null,null,null,null,null,null,null,null,null,0,null,null,null,0,null,null,null,0,null,null,null,0,null,null,null,0,null,null,null,0]
[null,null,null,null,null,null,null,null,null,0,null,null,null,0,null,null,null,0,null,null,null,0,null,null,null,0,null,null,null,0]
[null,null,null,null,null,null,null,null,null,0,null,null,null,0,null,null,null,0,null,null,null,0,null,null,null,0,null,null,null,0]
[null,null,null,null,null,null,null,null,null,0,null,null,null,0,null,null,null,0,null,null,null,0,null,null,null,0,null,null,null,0]
[null,null,null,null,null,null,null,null,null,0,null,null,null,0,null,null,null,0,null,null,null,0,null,null,null,0,null,null,null,0]
[null,null,null,null,null,null,null,null,null,0,null,null,null,0,null,null,null,0,null,null,null,0,null,null,null,0,null,null,null,0]
[null,null,null,null,null,null,null,null,null,0,null,null,null,0,null,null,null,0,null,null,null,0,null,null,null,0,null,null,null,0]
[null,null,null,null,null,null,null,null,null,0,null,null,null,0,null,null,null,0,null,null,null,0,null,null,null,0,null,null,null,0]
[null,null,null,null,null,null,null,null,null,0,null,null,null,0,null,null,null,0,null,null,null,0,null,null,null,0,null,null,null,0]
[null,null,null,null,null,null,null,null,null,0,null,null,null,0,null,null,null,0,null,null,null,0,null,null,null,0,null,null,null,0]
[null,null,null,null,null,null,null,null,null,0,null,null,null,0,null,null,null,0,null,null,null,0,null,null,null,0,null,null,null,0]
[null,null,null,null,null,null,null,null,null,0,null,null,null,0,null,null,null,0,null,null,null,0,null,null,null,0,null,null,null,0]
[null,null,null,null,null,null,null,null,null,0,null,null,null,0,null,null,null,0,null,null,null,0,null,null,null,0,null,null,null,0]
[null,null,null,null,null,null,null,null,null,0,null,null,null,0,null,null,null,0,null,null,null,0,null,null,null,0,null,null,null,0]
[null,null,null,null,null,null,null,null,null,0,null,null,null,0,null,null,null,0,null,null,null,0,null,null,null,0,null,null,null,0]
[null,null,null,null,null,null,null,null,null,0,null,null,null,0,null,null,null,0,null,null,null,0,null,null,null,0,null,null,null,0]
[null,null,null,null,null,null,null,null,null,0,null,null,null,0,null,null,null,0,null,null,null,0,null,null,null,0,null,null,null,0]
[null,null,null,null,null,null,null,null,null,0,null,null,null,0,null,null,null,0,null,null,null,0,null,null,null,0,null,null,null,0]
[]
[null,null,null,null,null,"Y",null,{"$f":"VLOOKUP(F201,$C$5:$D$38,2,FALSE)","v":0},null,"Z",null,{"$f":"VLOOKUP(J201,$C$5:$D$38,2,FALSE)","v":0},null,"AA",null,{"$f":"VLOOKUP(N201,$C$5:$D$38,2,FALSE)","v":0},null,"AB",null,{"$f":"VLOOKUP(R201,$C$5:$D$38,2,FALSE)","v":0},null,"AC",null,{"$f":"VLOOKUP(V201,$C$5:$D$38,2,FALSE)","v":0},null,"AD",null,{"$f":"VLOOKUP(Z201,$C$5:$D$38,2,FALSE)","v":0}]
[null,null,null,null,null,null,"背番","選手名","PS",null,"背番","選手名","PS",null,"背番","選手名","PS",null,"背番","選手名","PS",null,"背番","選手名","PS",null,"背番","選手名","PS"]
[null,null,null,null,null,null,null,null,null,{"$f":"G203","v":0},null,null,null,{"$f":"K203","v":0},null,null,null,{"$f":"O203","v":0},null,null,null,{"$f":"S203","v":0},null,null,null,{"$f":"W203","v":0},null,null,null,{"$f":"AA203","v":0}]
[null,null,null,null,null,null,null,null,null,{"$f":"G204","v":0},null,null,null,{"$f":"K204","v":0},null,null,null,{"$f":"O204","v":0},null,null,null,{"$f":"S204","v":0},null,null,null,{"$f":"W204","v":0},null,null,null,{"$f":"AA204","v":0}]
[null,null,null,null,null,null,null,null,null,0,null,null,null,0,null,null,null,0,null,null,null,0,null,null,null,0,null,null,null,0]
[null,null,null,null,null,null,null,null,null,0,null,null,null,0,null,null,null,0,null,null,null,0,null,null,null,0,null,null,null,0]
[null,null,null,null,null,null,null,null,null,0,null,null,null,0,null,null,null,0,null,null,null,0,null,null,null,0,null,null,null,0]
[null,null,null,null,null,null,null,null,null,0,null,null,null,0,null,null,null,0,null,null,null,0,null,null,null,0,null,null,null,0]
[null,null,null,null,null,null,null,null,null,0,null,null,null,0,null,null,null,0,null,null,null,0,null,null,null,0,null,null,null,0]
[null,null,null,null,null,null,null,null,null,0,null,null,null,0,null,null,null,0,null,null,null,0,null,null,null,0,null,null,null,0]
[null,null,null,null,null,null,null,null,null,0,null,null,null,0,null,null,null,0,null,null,null,0,null,null,null,0,null,null,null,0]
[null,null,null,null,null,null,null,null,null,0,null,null,null,0,null,null,null,0,null,null,null,0,null,null,null,0,null,null,null,0]
[null,null,null,null,null,null,null,null,null,0,null,null,null,0,null,null,null,0,null,null,null,0,null,null,null,0,null,null,null,0]
[null,null,null,null,null,null,null,null,null,0,null,null,null,0,null,null,null,0,null,null,null,0,null,null,null,0,null,null,null,0]
[null,null,null,null,null,null,null,null,null,0,null,null,null,0,null,null,null,0,null,null,null,0,null,null,null,0,null,null,null,0]
[null,null,null,null,null,null,null,null,null,0,null,null,null,0,null,null,null,0,null,null,null,0,null,null,null,0,null,null,null,0]
[null,null,null,null,null,null,null,null,null,0,null,null,null,0,null,null,null,0,null,null,null,0,null,null,null,0,null,null,null,0]
[null,null,null,null,null,null,null,null,null,0,null,null,null,0,null,null,null,0,null,null,null,0,null,null,null,0,null,null,null,0]
[null,null,null,null,null,null,null,null,null,0,null,null,null,0,null,null,null,0,null,null,null,0,null,null,null,0,null,null,null,0]
[null,null,null,null,null,null,null,null,null,0,null,null,null,0,null,null,null,0,null,null,null,0,null,null,null,0,null,null,null,0]
[null,null,null,null,null,null,null,null,null,0,null,null,null,0,null,null,null,0,null,null,null,0,null,null,null,0,null,null,null,0]
[null,null,null,null,null,null,null,null,null,0,null,null,null,0,null,null,null,0,null,null,null,0,null,null,null,0,null,null,null,0]
[null,null,null,null,null,null,null,null,null,0,null,null,null,0,null,null,null,0,null,null,null,0,null,null,null,0,null,null,null,0]
[null,null,null,null,null,null,null,null,null,0,null,null,null,0,null,null,null,0,null,null,null,0,null,null,null,0,null,null,null,0]
[null,null,null,null,null,null,null,null,null,0,null,null,null,0,null,null,null,0,null,null,null,0,null,null,null,0,null,null,null,0]
[null,null,null,null,null,null,null,null,null,0,null,null,null,0,null,null,null,0,null,null,null,0,null,null,null,0,null,null,null,0]
[null,null,null,null,null,null,null,null,null,0,null,null,null,0,null,null,null,0,null,null,null,0,null,null,null,0,null,null,null,0]
[null,null,null,null,null,null,null,null,null,0,null,null,null,0,null,null,null,0,null,null,null,0,null,null,null,0,null,null,null,0]
[null,null,null,null,null,null,null,null,null,0,null,null,null,0,null,null,null,0,null,null,null,0,null,null,null,0,null,null,null,0]
[null,null,null,null,null,null,null,null,null,0,null,null,null,0,null,null,null,0,null,null,null,0,null,null,null,0,null,null,null,0]
[null,null,null,null,null,null,null,null,null,0,null,null,null,0,null,null,null,0,null,null,null,0,null,null,null,0,null,null,null,0]
[null,null,null,null,null,null,null,null,null,0,null,null,null,0,null,null,null,0,null,null,null,0,null,null,null,0,null,null,null,0]
[null,null,null,null,null,null,null,null,null,0,null,null,null,0,null,null,null,0,null,null,null,0,null,null,null,0,null,null,null,0]
[null,null,null,null,null,null,null,null,null,0,null,null,null,0,null,null,null,0,null,null,null,0,null,null,null,0,null,null,null,0]
[null,null,null,null,null,null,null,null,null,0,null,null,null,0,null,null,null,0,null,null,null,0,null,null,null,0,null,null,null,0]
[null,null,null,null,null,null,null,null,null,0,null,null,null,0,null,null,null,0,null,null,null,0,null,null,null,0,null,null,null,0]
[null,null,null,null,null,null,null,null,null,0,null,null,null,0,null,null,null,0,null,null,null,0,null,null,null,0,null,null,null,0]
[null,null,null,null,null,null,null,null,null,0,null,null,null,0,null,null,null,0,null,null,null,0,null,null,null,0,null,null,null,0]
[null,null,null,null,null,null,null,null,null,0,null,null,null,0,null,null,null,0,null,null,null,0,null,null,null,0,null,null,null,0]
[]
[null,null,null,null,null,"AE",null,{"$f":"VLOOKUP(F241,$C$5:$D$38,2,FALSE)","v":0}]
[null,null,null,null,null,null,"背番","選手名","PS"]
[null,null,null,null,null,null,null,null,null,{"$f":"G243","v":0}]
[null,null,null,null,null,null,null,null,null,{"$f":"G244","v":0}]
[null,null,null,null,null,null,null,null,null,0]
[null,null,null,null,null,null,null,null,null,0]
[null,null,null,null,null,null,null,null,null,0]
[null,null,null,null,null,null,null,null,null,0]
[null,null,null,null,null,null,null,null,null,0]
[null,null,null,null,null,null,null,null,null,0]
[null,null,null,null,null,null,null,null,null,0]
[null,null,null,null,null,null,null,null,null,0]
[null,null,null,null,null,null,null,null,null,0]
[null,null,null,null,null,null,null,null,null,0]
[null,null,null,null,null,null,null,null,null,0]
[null,null,null,null,null,null,null,null,null,0]
[null,null,null,null,null,null,null,null,null,0]
[null,null,null,null,null,null,null,null,null,0]
[null,null,null,null,null,null,null,null,null,0]
[null,null,null,null,null,null,null,null,null,0]
[null,null,null,null,null,null,null,null,null,0]
[null,null,null,null,null,null,null,null,null,0]
[null,null,null,null,null,null,null,null,null,0]
[null,null,null,null,null,null,null,null,null,0]
[null,null,null,null,null,null,null,null,null,0]
[null,null,null,null,null,null,null,null,null,0]
[null,null,null,null,null,null,null,null,null,0]
[null,null,null,null,null,null,null,null,null,0]
[null,null,null,null,null,null,null,null,null,0]
[null,null,null,null,null,null,null,null,null,0]
[null,null,null,null,null,null,null,null,null,0]
[null,null,null,null,null,null,null,null,null,0]
[null,null,null,null,null,null,null,null,null,0]
[null,null,null,null,null,null,null,null,null,0]
[null,null,null,null,null,null,null,null,null,0]
[null,null,null,null,null,null,null,null,null,0]
[null,null,null,null,null,null,null,null,null,0]
[null,null,null,null,null,null,null,null,null,0]
[null,null,null,null,null,null,null,null,null,0]

{"sheet":"マクロ ","index":3,"n_rows":37,"n_cols":5,"rows_kept":37,"cut":false,"hidden":false,"merged":[[4,1,4,2],[4,3,4,4]]}
[]
[]
[]
[]
[null,"先攻チーム",null,"後攻チーム"]
[null,"ボタン","チーム名","ボタン","チーム名"]
[null,null,"大阪桐蔭",null,"大阪桐蔭"]
[null,null,"高岡商",null,"高岡商"]
[null,null,{"$f":"IF(情報!D7=\"\",\"\",情報!D7)","v":"日大三高"},null,{"$f":"IF(情報!D7=\"\",\"\",情報!D7)","v":"日大三高"}]
[null,null,{"$f":"IF(情報!D8=\"\",\"\",情報!D8)","v":"金足農業"},null,{"$f":"IF(情報!D8=\"\",\"\",情報!D8)","v":"金足農業"}]
[null,null,{"$f":"IF(情報!D9=\"\",\"\",情報!D9)","v":""},null,{"$f":"IF(情報!D9=\"\",\"\",情報!D9)","v":""}]
[null,null,{"$f":"IF(情報!D10=\"\",\"\",情報!D10)","v":""},null,{"$f":"IF(情報!D10=\"\",\"\",情報!D10)","v":""}]
[null,null,{"$f":"IF(情報!D11=\"\",\"\",情報!D11)","v":""},null,{"$f":"IF(情報!D11=\"\",\"\",情報!D11)","v":""}]
[null,null,{"$f":"IF(情報!D12=\"\",\"\",情報!D12)","v":""},null,{"$f":"IF(情報!D12=\"\",\"\",情報!D12)","v":""}]
[null,null,{"$f":"IF(情報!D13=\"\",\"\",情報!D13)","v":""},null,{"$f":"IF(情報!D13=\"\",\"\",情報!D13)","v":""}]
[null,null,{"$f":"IF(情報!D14=\"\",\"\",情報!D14)","v":""},null,{"$f":"IF(情報!D14=\"\",\"\",情報!D14)","v":""}]
[null,null,{"$f":"IF(情報!D15=\"\",\"\",情報!D15)","v":""},null,{"$f":"IF(情報!D15=\"\",\"\",情報!D15)","v":""}]
[null,null,{"$f":"IF(情報!D16=\"\",\"\",情報!D16)","v":""},null,{"$f":"IF(情報!D16=\"\",\"\",情報!D16)","v":""}]
[null,null,{"$f":"IF(情報!D17=\"\",\"\",情報!D17)","v":""},null,{"$f":"IF(情報!D17=\"\",\"\",情報!D17)","v":""}]
[null,null,{"$f":"IF(情報!D18=\"\",\"\",情報!D18)","v":""},null,{"$f":"IF(情報!D18=\"\",\"\",情報!D18)","v":""}]
[null,null,{"$f":"IF(情報!D19=\"\",\"\",情報!D19)","v":""},null,{"$f":"IF(情報!D19=\"\",\"\",情報!D19)","v":""}]
[null,null,{"$f":"IF(情報!D20=\"\",\"\",情報!D20)","v":""},null,{"$f":"IF(情報!D20=\"\",\"\",情報!D20)","v":""}]
[null,null,{"$f":"IF(情報!D21=\"\",\"\",情報!D21)","v":""},null,{"$f":"IF(情報!D21=\"\",\"\",情報!D21)","v":""}]
[null,null,{"$f":"IF(情報!D22=\"\",\"\",情報!D22)","v":""},null,{"$f":"IF(情報!D22=\"\",\"\",情報!D22)","v":""}]
[null,null,{"$f":"IF(情報!D23=\"\",\"\",情報!D23)","v":""},null,{"$f":"IF(情報!D23=\"\",\"\",情報!D23)","v":""}]
[null,null,{"$f":"IF(情報!D24=\"\",\"\",情報!D24)","v":""},null,{"$f":"IF(情報!D24=\"\",\"\",情報!D24)","v":""}]
[null,null,{"$f":"IF(情報!D25=\"\",\"\",情報!D25)","v":""},null,{"$f":"IF(情報!D25=\"\",\"\",情報!D25)","v":""}]
[null,null,{"$f":"IF(情報!D26=\"\",\"\",情報!D26)","v":""},null,{"$f":"IF(情報!D26=\"\",\"\",情報!D26)","v":""}]
[null,null,{"$f":"IF(情報!D27=\"\",\"\",情報!D27)","v":""},null,{"$f":"IF(情報!D27=\"\",\"\",情報!D27)","v":""}]
[null,null,{"$f":"IF(情報!D28=\"\",\"\",情報!D28)","v":""},null,{"$f":"IF(情報!D28=\"\",\"\",情報!D28)","v":""}]
[null,null,{"$f":"IF(情報!D29=\"\",\"\",情報!D29)","v":""},null,{"$f":"IF(情報!D29=\"\",\"\",情報!D29)","v":""}]
[null,null,{"$f":"IF(情報!D30=\"\",\"\",情報!D30)","v":""},null,{"$f":"IF(情報!D30=\"\",\"\",情報!D30)","v":""}]
[null,null,{"$f":"IF(情報!D31=\"\",\"\",情報!D31)","v":""},null,{"$f":"IF(情報!D31=\"\",\"\",情報!D31)","v":""}]
[null,null,{"$f":"IF(情報!D32=\"\",\"\",情報!D32)","v":""},null,{"$f":"IF(情報!D32=\"\",\"\",情報!D32)","v":""}]
[null,null,{"$f":"IF(情報!D33=\"\",\"\",情報!D33)","v":""},null,{"$f":"IF(情報!D33=\"\",\"\",情報!D33)","v":""}]
[null,null,{"$f":"IF(情報!D34=\"\",\"\",情報!D34)","v":""},null,{"$f":"IF(情報!D34=\"\",\"\",情報!D34)","v":""}]
[null,null,{"$f":"IF(情報!D35=\"\",\"\",情報!D35)","v":""},null,{"$f":"IF(情報!D35=\"\",\"\",情報!D35)","v":""}]

{"sheet":"score","index":4,"n_rows":123,"n_cols":236,"rows_kept":123,"cut":false,"hidden":false,"merged":[[1,1,1,5],[1,9,1,13],[2,1,3,1],[2,2,3,2],[2,3,3,3],[2,4,3,4],[2,5,3,5],[2,6,3,6],[2,8,3,8],[2,9,3,9],[2,10,3,10],[2,11,3,11],[2,12,3,12],[59,1,59,2],[59,10,59,17],[59,19,59,21],[61,9,61,12],[61,13,61,17],[61,18,61,22],[59,22,59,29],[61,23,61,27],[61,28,61,32],[60,15,60,17],[59,31,59,34],[61,33,61,37],[59,35,59,37],[2,170,2,172],[2,173,2,175],[2,176,2,178],[3,13,3,17],[3,18,3,22],[3,23,3,27],[3,28,3,32],[5,12,9,12],[5,94,5,98],[6,94,6,98],[7,94,7,98],[8,94,8,98],[9,94,9,98],[3,63,3,67],[3,68,3,72],[3,94,3,98],[4,94,4,98],[3,33,3,37],[3,38,3,42],[3,43,3,47],[3,48,3,52],[3,53,3,57],[3,58,3,62],[13,198,13,199],[14,94,14,98],[15,2,15,5],[15,94,15,98],[16,2,17,2],[16,3,17,3],[16,4,17,4],[16,5,17,5],[16,94,16,98],[17,12,21,12],[11,12,15,12],[11,94,11,98],[12,94,12,98],[13,94,13,98],[13,106,21,106],[13,107,21,107],[17,94,17,98],[18,94,18,98],[19,94,19,98],[20,94,20,98],[4,106,12,106],[4,107,12,107],[10,94,10,98],[21,94,21,98],[22,94,22,98],[23,12,27,12],[23,94,23,98],[23,168,23,169],[24,94,24,98],[26,108,27,108],[26,109,27,109],[26,110,27,110],[26,111,27,111],[24,170,24,172],[24,173,24,175],[24,176,24,178],[25,3,25,5],[25,94,25,98],[26,2,27,2],[26,3,27,3],[26,4,27,4],[26,5,27,5],[26,94,26,98],[26,124,27,124],[26,125,27,125],[26,126,27,126],[26,127,27,127],[27,94,27,98],[28,94,28,98],[26,118,27,118],[26,119,27,119],[26,120,27,120],[26,121,27,121],[26,122,27,122],[26,123,27,123],[26,112,27,112],[26,113,27,113],[26,114,27,114],[26,115,27,115],[26,116,27,116],[26,117,27,117],[34,94,34,98],[35,12,39,12],[35,94,35,98],[36,94,36,98],[37,94,37,98],[37,114,37,115],[29,12,33,12],[29,94,29,98],[30,94,30,98],[31,94,31,98],[32,94,32,98],[33,94,33,98],[37,125,37,128],[37,129,37,130],[38,94,38,98],[39,94,39,98],[40,94,40,98],[40,108,41,108],[40,109,41,109],[40,110,41,110],[40,111,41,111],[40,112,41,112],[41,166,41,167],[42,94,42,98],[43,94,43,98],[44,94,44,98],[45,94,45,98],[40,113,41,113],[40,114,41,114],[40,143,41,143],[40,144,41,144],[40,145,41,145],[40,166,40,167],[46,94,46,98],[47,12,51,12],[47,94,47,98],[48,94,48,98],[49,94,49,98],[50,94,50,98],[51,94,51,98],[41,12,45,12],[41,94,41,98],[60,50,60,52],[60,55,60,57],[60,60,60,62],[60,65,60,67],[60,70,60,72],[60,20,60,22],[60,25,60,27],[60,30,60,32],[60,35,60,37],[60,40,60,42],[51,109,51,111],[52,94,52,98],[53,12,57,12],[53,94,53,98],[54,94,54,98],[55,94,55,98],[56,94,56,98],[57,94,57,98],[59,39,59,42],[59,43,59,45],[61,38,61,42],[61,73,61,77],[62,9,62,12],[62,13,62,17],[62,18,62,22],[62,23,62,27],[62,28,62,32],[62,33,62,37],[62,38,62,42],[62,43,62,47],[62,48,62,52],[61,43,61,47],[61,48,61,52],[61,53,61,57],[61,58,61,62],[61,63,61,67],[61,68,61,72],[62,53,62,57],[62,58,62,62],[62,63,62,67],[62,68,62,72],[62,73,62,77],[67,1,68,1],[67,2,68,2],[67,3,68,3],[67,4,68,4],[67,5,68,5],[67,6,68,6],[67,8,68,8],[67,9,68,9],[67,10,68,10],[66,1,66,5],[66,9,66,13],[63,33,63,37],[63,38,63,42],[63,43,63,47],[63,48,63,52],[63,53,63,57],[63,58,63,62],[64,4,64,7],[63,9,63,12],[63,13,63,17],[63,18,63,22],[63,23,63,27],[63,28,63,32],[64,60,64,62],[64,55,64,57],[64,50,64,52],[64,9,64,12],[67,170,67,172],[68,53,68,57],[68,58,68,62],[68,63,68,67],[68,68,68,72],[67,173,67,175],[67,176,67,178],[68,13,68,17],[68,18,68,22],[68,23,68,27],[68,28,68,32],[68,33,68,37],[68,38,68,42],[68,43,68,47],[68,48,68,52],[68,94,68,98],[91,2,92,2],[91,3,92,3],[91,4,92,4],[91,5,92,5],[91,94,91,98],[69,94,69,98],[69,106,77,106],[69,107,77,107],[70,12,74,12],[70,94,70,98],[71,94,71,98],[72,94,72,98],[73,94,73,98],[74,94,74,98],[75,94,75,98],[76,12,80,12],[76,94,76,98],[77,94,77,98],[78,94,78,98],[78,107,86,107],[79,94,79,98],[78,106,86,106],[91,124,92,124],[91,125,92,125],[91,126,92,126],[92,94,92,98],[88,12,92,12],[88,94,88,98],[88,109,88,110],[89,94,89,98],[91,108,92,108],[91,110,92,110],[89,170,89,172],[89,173,89,175],[89,176,89,178],[90,3,90,5],[90,94,90,98],[87,94,87,98],[88,168,88,169],[80,2,80,5],[80,94,80,98],[81,2,82,2],[81,3,82,3],[81,4,82,4],[81,5,82,5],[81,94,81,98],[82,12,86,12],[86,94,86,98],[82,94,82,98],[83,94,83,98],[84,94,84,98],[85,94,85,98],[93,114,93,115],[91,118,92,118],[91,119,92,119],[91,120,92,120],[91,121,92,121],[91,122,92,122],[91,123,92,123],[91,111,92,111],[91,112,92,112],[91,113,92,113],[91,114,92,115],[91,116,92,116],[91,117,92,117],[98,114,98,115],[99,94,99,98],[99,114,99,115],[100,12,104,12],[100,94,100,98],[100,114,100,115],[101,94,101,98],[102,94,102,98],[102,109,102,111],[102,114,102,115],[94,12,98,12],[94,94,94,98],[94,114,94,115],[95,94,95,98],[95,114,95,115],[96,94,96,98],[96,114,96,115],[97,94,97,98],[97,114,97,115],[98,94,98,98],[105,143,106,143],[105,144,106,144],[105,145,106,145],[102,125,102,128],[102,129,102,130],[103,94,103,98],[103,124,103,125],[104,94,104,98],[105,94,105,98],[105,108,106,108],[105,109,106,109],[105,110,106,110],[105,111,106,111],[63,68,63,72],[64,65,64,67],[64,70,64,72],[67,11,68,11],[67,12,68,12],[116,109,116,111],[117,94,117,98],[2,228,3,228],[118,12,122,12],[118,94,118,98],[119,94,119,98],[120,94,120,98],[121,94,121,98],[122,94,122,98],[111,94,111,98],[112,12,116,12],[112,94,112,98],[113,94,113,98],[114,94,114,98],[115,94,115,98],[116,94,116,98],[105,112,106,112],[105,113,106,113],[105,114,106,114],[2,229,3,229],[61,230,61,234],[62,230,62,234],[63,230,63,234],[67,228,68,228],[67,229,68,229],[106,12,110,12],[106,94,106,98],[107,94,107,98],[108,94,108,98],[109,94,109,98],[110,94,110,98],[93,94,93,98],[91,109,92,109],[60,45,60,47],[64,15,64,17],[64,20,64,22],[64,25,64,27],[64,30,64,32],[64,35,64,37],[64,40,64,42],[64,45,64,47],[63,73,63,77],[63,63,63,67]]}
[]
[null,"先発オーダー",null,null,null,null,"代",null,null,"先攻チーム→",null,null,null,null,"金足農業",null,null,null,null,null,null,{"$f":"IFERROR(VLOOKUP(O2,情報!D5:E38,2,FALSE),\"\")","v":"D"},"←チーム番号",null,null,null,null,null,null,null,null,null,null,null,null,null,null,null,null,null,null,null,null,null,null,null,null,null,null,null,null,null,null,null,null,null,null,null,null,null,null,null,null,null,null,null,null,null,null,null,null,null,null,null,null,null,null,null,null,null,null,null,null,null,null,null,null,null,null,null,null,null,null,null,null,null,null,null,null,null,null,null,null,null,null,null,null,null,null,null,null,null,null,null,null,null,null,null,null,null,null,null,null,null,null,null,null,null,null,null,null,null,null,null,null,null,null,null,null,null,null,null,null,null,null,null,"投手PS別打撃結果表",null,null,null,null,null,null,null,null,null,null,null,null,null,null,null,null,null,null,null,null,null,null,null,null,null,null,null,null,null,null,null,null,null,null,null,null,null,null,null,null,null,null,null,null,null,null,null,null,null,null,null,null,null,null,null,null,null,null,null,null,null,null,null,null,null,null,null,null,null,null,null,null,null,null,null,null,null,null,null,null,null,"打者打撃内訳"]
[null,"打　順","守備位置","選手名","PS","背番号","背番号",null,"守備位置","選手名","投手順","背番号","打順",null,null,null,null,null,null,null,null,null,null,null,null,null,null,null,null,null,null,null,null,null,null,null,null,null,null,null,null,null,null,null,null,null,null,null,null,null,null,null,null,null,null,null,null,null,null,null,null,null,null,null,null,null,null,null,null,null,null,null,null,null,null,null,"O","H","H2","H3","H4",null,"○","K*","B","B'","G","GF","S","S'","W","E","・*",null,null,null,null,null,null,null,null,"打球方向",null,null,null,null,null,null,null,null,"本試合打撃成績一覧",null,null,null,null,null,null,null,null,null,null,null,null,null,null,null,null,null,null,null,null,null,null,"得点圏時打撃",null,null,null,null,"得点圏時打撃一覧",null,null,null,null,null,null,null,null,null,null,"O","H","H2","H3","H4",null,"○","K","B","B'","G","GF","S","S'","W","E","・*",null,"打球方向集計表",null,null,"右",null,null,"中",null,null,"左",null,null,null,null,null,"↓本試合投手個人成績表",null,null,null,null,null,null,null,null,null,null,null,null,null,null,null,null,null,null,"↓本試合投手チーム成績表",null,null,null,null,null,null,null,null,null,null,null,null,null,null,null,"↓試合結果表",null,null,null,null,null,null,null,null,null,null,"選手名","背番号","・*","*●*","*〇*","*△*","*□*","*◎*"]
[null,null,null,null,null,null,null,null,null,null,null,null,null,{"$f":"先攻T!B2","v":1},null,null,null,null,{"$f":"先攻T!N2","v":2},null,null,null,null,{"$f":"先攻T!Z2","v":3},null,null,null,null,{"$f":"先攻T!AL2","v":4},null,null,null,null,{"$f":"先攻T!AX2","v":5},null,null,null,null,{"$f":"先攻T!BJ2","v":6},null,null,null,null,{"$f":"先攻T!BV2","v":7},null,null,null,null,{"$f":"先攻T!CH2","v":8},null,null,null,null,{"$f":"先攻T!CT2","v":9},null,null,null,null,{"$f":"先攻T!DF2","v":10},null,null,null,null,{"$f":"先攻T!DR2","v":11},null,null,null,null,{"$f":"先攻T!ED2","v":12},null,null,null,null,"PS","打席","打数","凡打","安打","二打","三打","本打","打点","得点","三振","四球","死球","犠打","犠飛","盗塁","盗死","併殺","敵失","投数","投分","打撃内容",null,null,null,null,"球状","PS","打背","球向","守背","投分",null,null,null,"T番","選手名","背番","打席","打数","凡打","安打","二打","三打","本打","打点","得点","三振","四球","死球","犠打","犠飛","盗塁","盗死","併殺","敵失","投数","回戦",null,"背番","選手名","打数","安打",null,"T番","選手名","背番","打数","安打",null,"T番","選手名","背番","PS","打席","打数","凡打","安打","二打","三打","本打","打点","得点","三振","四球","死球","犠打","犠飛","盗塁","盗死","併殺","敵失","投数",null,"T番","選手名","背番","一","二","右","捕","投","中","三","遊","左","回戦",null,null,"回戦","番号","選手名","背番","投順","O数","投回","被本","被安","四死","伐振","与盗","与点","自点","投数","試数","勝負","対戦相手",null,"番号","チーム名","O数","投回","被本","被安","四死","伐振","与盗","与点","自点","投数","試数","勝負","対戦相手",null,"回戦","試合日","球場名","先攻チーム","得点","与点","勝敗","対戦チーム",null,null,null,null,null,"投数","B","S","F","空振","打撃"]
[null,"①","二","菅原　天空",{"$f":"IF(D5=\"\",\"\",VLOOKUP(D5,$D$29:$F$58,2,FALSE))","v":"RL"},{"$f":"IF(D5=\"\",\"\",VLOOKUP(D5,$D$29:$F$58,3,FALSE))","v":4},null,null,null,null,null,null,"打者背番号を入力➡",{"$f":"先攻T!E2","v":4},{"$f":"N5","v":4},{"$f":"N5","v":4},{"$f":"N5","v":4},{"$f":"N5","v":4},{"$f":"先攻T!Q2","v":4},{"$f":"S5","v":4},{"$f":"S5","v":4},{"$f":"S5","v":4},{"$f":"S5","v":4},{"$f":"先攻T!AC2","v":4},{"$f":"X5","v":4},{"$f":"X5","v":4},{"$f":"X5","v":4},{"$f":"X5","v":4},{"$f":"先攻T!AO2","v":4},{"$f":"AC5","v":4},{"$f":"AC5","v":4},{"$f":"AC5","v":4},{"$f":"AC5","v":4},{"$f":"先攻T!BA2","v":4},{"$f":"AH5","v":4},{"$f":"AH5","v":4},{"$f":"AH5","v":4},{"$f":"AH5","v":4},{"$f":"先攻T!BM2","v":4},{"$f":"AM5","v":4},{"$f":"AM5","v":4},{"$f":"AM5","v":4},{"$f":"AM5","v":4},{"$f":"先攻T!BY2","v":4},{"$f":"AR5","v":4},{"$f":"AR5","v":4},{"$f":"AR5","v":4},{"$f":"AR5","v":4},{"$f":"先攻T!CK2","v":4},{"$f":"AW5","v":4},{"$f":"AW5","v":4},{"$f":"AW5","v":4},{"$f":"AW5","v":4},{"$f":"先攻T!CW2","v":4},{"$f":"BB5","v":4},{"$f":"BB5","v":4},{"$f":"BB5","v":4},{"$f":"BB5","v":4},{"$f":"先攻T!DI2","v":4},{"$f":"BG5","v":4},{"$f":"BG5","v":4},{"$f":"BG5","v":4},{"$f":"BG5","v":4},{"$f":"先攻T!DU2","v":4},{"$f":"BL5","v":4},{"$f":"BL5","v":4},{"$f":"BL5","v":4},{"$f":"BL5","v":4},{"$f":"先攻T!EG2","v":4},{"$f":"BQ5","v":4},{"$f":"BQ5","v":4},{"$f":"BQ5","v":4},{"$f":"BQ5","v":4},null,null,null,null,null,null,null,null,null,null,null,null,null,null,null,null,null,null,null,null,null,null,null,null,null,null,null,null,null,null,null,null,null,"先　　発",null,{"$f":"IF(DF5=\"\",\"\",$V$2)","v":"D"},{"$f":"IFERROR(VLOOKUP(DG5,$C$29:$D$58,2,FALSE),\"\")","v":"菅原　天空"},{"$f":"IF(F5=\"\",\"\",F5)","v":4},{"$f":"IF(DF5=\"\",\"\",SUMIFS($BW$6:$BW$58,$J$6:$J$58,DF5))","v":4},{"$f":"IF(DF5=\"\",\"\",SUMIFS($BX$6:$BX$58,$J$6:$J$58,DF5))","v":3},{"$f":"IF(DF5=\"\",\"\",SUMIFS($BY$6:$BY$58,$J$6:$J$58,DF5))","v":3},{"$f":"IF(DF5=\"\",\"\",SUMIFS($BZ$6:$BZ$58,$J$6:$J$58,DF5))","v":0},{"$f":"IF(DF5=\"\",\"\",SUMIFS($CA$6:$CA$58,$J$6:$J$58,DF5))","v":0},{"$f":"IF(DF5=\"\",\"\",SUMIFS($CB$6:$CB$58,$J$6:$J$58,DF5))","v":0},{"$f":"IF(DF5=\"\",\"\",SUMIFS($CC$6:$CC$58,$J$6:$J$58,DF5))","v":0},{"$f":"IF(DF5=\"\",\"\",SUMIFS($CD$6:$CD$58,$J$6:$J$58,DF5))","v":0},{"$f":"IF(DF5=\"\",\"\",SUMIFS($CE$6:$CE$58,$J$6:$J$58,DF5))","v":0},{"$f":"IF(DF5=\"\",\"\",SUMIFS($CF$6:$CF$58,$J$6:$J$58,DF5))","v":0},{"$f":"IF(DF5=\"\",\"\",SUMIFS($CG$6:$CG$58,$J$6:$J$58,DF5))","v":0},{"$f":"IF(DF5=\"\",\"\",SUMIFS($CH$6:$CH$58,$J$6:$J$58,DF5))","v":0},{"$f":"IF(DF5=\"\",\"\",SUMIFS($CI$6:$CI$58,$J$6:$J$58,DF5))","v":1},{"$f":"IF(DF5=\"\",\"\",SUMIFS($CJ$6:$CJ$58,$J$6:$J$58,DF5))","v":0},{"$f":"IF(DF5=\"\",\"\",SUMIFS($CK$6:$CK$58,$J$6:$J$58,DF5))","v":0},{"$f":"IF(DF5=\"\",\"\",SUMIFS($CL$6:$CL$58,$J$6:$J$58,DF5))","v":0},{"$f":"IF(DF5=\"\",\"\",SUMIFS($CM$6:$CM$58,$J$6:$J$58,DF5))","v":0},{"$f":"IF(DF5=\"\",\"\",SUMIFS($CN$6:$CN$58,$J$6:$J$58,DF5))","v":0},{"$f":"IF(DY5=\"\",\"\",SUMIFS($CO$6:$CO$58,$J$6:$J$58,DF5))","v":11},{"$f":"IF(DF5=\"\",\"\",$D$60)","v":"決勝"},null,null,null,null,null,null,{"$f":"IF(EI5=\"\",\"\",$V$2)","v":"D"},{"$f":"IF(DF5=\"\",\"\",DF5)","v":"菅原　天空"},{"$f":"IF(DG5=\"\",\"\",DG5)","v":4},{"$f":"IF(EI5=\"\",\"\",SUMIFS($EE$5:$EE$58,$ED$5:$ED$58,EI5))","v":1},{"$f":"IF(EI5=\"\",\"\",SUMIFS($EF$5:$EF$58,$ED$5:$ED$58,EI5))","v":0},null,{"$f":"IF(EO5=\"\",\"\",$V$2)","v":"D"},{"$f":"IFERROR(VLOOKUP(EP5,$C$29:$D$58,2,FALSE),\"\")","v":"菅原　天空"},{"$f":"IF(F5=\"\",\"\",F5)","v":4},"RR",{"$f":"IF(EO5=\"\",\"\",SUMIFS($BW$6:$BW$58,$J$6:$J$58,EO5,$BV$6:$BV$58,EQ5))","v":4},{"$f":"IF(EO5=\"\",\"\",SUMIFS($BX$6:$BX$58,$J$6:$J$58,EO5,$BV$6:$BV$58,EQ5))","v":3},{"$f":"IF(EO5=\"\",\"\",SUMIFS($BY$6:$BY$58,$J$6:$J$58,EO5,$BV$6:$BV$58,EQ5))","v":3},{"$f":"IF(EO5=\"\",\"\",SUMIFS($BZ$6:$BZ$58,$J$6:$J$58,EO5,$BV$6:$BV$58,EQ5))","v":0},{"$f":"IF(EO5=\"\",\"\",SUMIFS($CA$6:$CA$58,$J$6:$J$58,EO5,$BV$6:$BV$58,EQ5))","v":0},{"$f":"IF(EO5=\"\",\"\",SUMIFS($CB$6:$CB$58,$J$6:$J$58,EO5,$BV$6:$BV$58,EQ5))","v":0},{"$f":"IF(EO5=\"\",\"\",SUMIFS($CC$6:$CC$58,$J$6:$J$58,EO5,$BV$6:$BV$58,EQ5))","v":0},{"$f":"IF(EO5=\"\",\"\",SUMIFS($CD$6:$CD$58,$J$6:$J$58,EO5,$BV$6:$BV$58,EQ5))","v":0},{"$f":"IF(EO5=\"\",\"\",SUMIFS($CE$6:$CE$58,$J$6:$J$58,EO5,$BV$6:$BV$58,EQ5))","v":0},{"$f":"IF(EO5=\"\",\"\",SUMIFS($CF$6:$CF$58,$J$6:$J$58,EO5,$BV$6:$BV$58,EQ5))","v":0},{"$f":"IF(EO5=\"\",\"\",SUMIFS($CG$6:$CG$58,$J$6:$J$58,EO5,$BV$6:$BV$58,EQ5))","v":0},{"$f":"IF(EO5=\"\",\"\",SUMIFS($CH$6:$CH$58,$J$6:$J$58,EO5,$BV$6:$BV$58,EQ5))","v":0},{"$f":"IF(EO5=\"\",\"\",SUMIFS($CI$6:$CI$58,$J$6:$J$58,EO5,$BV$6:$BV$58,EQ5))","v":1},{"$f":"IF(EO5=\"\",\"\",SUMIFS($CJ$6:$CJ$58,$J$6:$J$58,EO5,$BV$6:$BV$58,EQ5))","v":0},{"$f":"IF(EO5=\"\",\"\",SUMIFS($CK$6:$CK$58,$J$6:$J$58,EO5,$BV$6:$BV$58,EQ5))","v":0},{"$f":"IF(EO5=\"\",\"\",SUMIFS($CL$6:$CL$58,$J$6:$J$58,EO5,$BV$6:$BV$58,EQ5))","v":0},{"$f":"IF(EO5=\"\",\"\",SUMIFS($CM$6:$CM$58,$J$6:$J$58,EO5,$BV$6:$BV$58,EQ5))","v":0},{"$f":"IF(EO5=\"\",\"\",SUMIFS($CN$6:$CN$58,$J$6:$J$58,EO5,$BV$6:$BV$58,EQ5))","v":0},{"$f":"IF(EO5=\"\",\"\",SUMIFS($CO$6:$CO$58,$J$6:$J$58,EO5,$BV$6:$BV$58,EQ5))","v":11},null,{"$f":"IF(FM5=\"\",\"\",$V$2)","v":"D"},{"$f":"IF(DF5=\"\",\"\",DF5)","v":"菅原　天空"},{"$f":"IF(DG5=\"\",\"\",DG5)","v":4},{"$f":"IF(FN5=\"\",\"\",COUNTIFS($CX$6:$CX$58,FN5,$CY$6:$CY$58,$FO$4))","v":1},{"$f":"IF(FN5=\"\",\"\",COUNTIFS($CX$6:$CX$58,FN5,$CY$6:$CY$58,$FP$4))","v":2},{"$f":"IF(FN5=\"\",\"\",COUNTIFS($CX$6:$CX$58,FN5,$CY$6:$CY$58,$FQ$4))","v":0},{"$f":"IF(FN5=\"\",\"\",COUNTIFS($CX$6:$CX$58,FN5,$CY$6:$CY$58,$FR$4))","v":1},{"$f":"IF(FN5=\"\",\"\",COUNTIFS($CX$6:$CX$58,FN5,$CY$6:$CY$58,$FS$4))","v":0},{"$f":"IF(FN5=\"\",\"\",COUNTIFS($CX$6:$CX$58,FN5,$CY$6:$CY$58,$FT$4))","v":0},{"$f":"IF(FN5=\"\",\"\",COUNTIFS($CX$6:$CX$58,FN5,$CY$6:$CY$58,$FU$4))","v":0},{"$f":"IF(FN5=\"\",\"\",COUNTIFS($CX$6:$CX$58,FN5,$CY$6:$CY$58,$FV$4))","v":0},{"$f":"IF(FN5=\"\",\"\",COUNTIFS($CX$6:$CX$58,FN5,$CY$6:$CY$58,$FW$4))","v":0},{"$f":"IF(FM5=\"\",\"\",$D$60)","v":"決勝"},null,null,{"$f":"IF(GC5=\"\",\"\",$D$60)","v":"決勝"},{"$f":"IF(GC5=\"\",\"\",$V$2)","v":"D"},{"$f":"IF(D19=\"\",\"\",D19)","v":"吉田　輝星"},{"$f":"IF(F19=\"\",\"\",F19)","v":1},{"$f":"IF($GB$5=\"\",\"\",C19)","v":"先"},{"$f":"IF(GC5=\"\",\"\",SUMIF($CP$71:$CP$123,GE5,$BY$71:$BY$123)+SUMIF($CP$71:$CP$123,GE5,$CF$71:$CF$123)+SUMIF($CP$71:$CP$123,GE5,$CI$71:$CI$123)+SUMIF($CP$71:$CP$123,GE5,$CJ$71:$CJ$123)+SUMIF($CP$71:$CP$123,GE5,$CL$71:$CL$123)+SUMIF($CP$71:$CP$123,GE5,$CM$71:$CM$123))","v":17},{"$f":"IF(GC5=\"\",\"\",GF5/3)","v":5.666666666666667},{"$f":"IF(GC5=\"\",\"\",SUMIF($CP$71:$CP$123,GE5,$CC$71:$CC$123))","v":2},{"$f":"IF(GC5=\"\",\"\",(SUMIF($CP$71:$CP$123,GE5,$BZ$71:$BZ$123)+SUMIF($CP$71:$CP$123,GE5,$CA$71:$CA$123)+SUMIF($CP$71:$CP$123,GE5,$CB$71:$CB$123)+SUMIF($CP$71:$CP$123,GE5,$CC$71:$CC$123)))","v":13},{"$f":"IF(GC5=\"\",\"\",SUMIF($CP$70:$CP$123,GE5,$DR$70:$DS$87))","v":6},{"$f":"IF(GC5=\"\",\"\",SUMIF($CP$71:$CP$123,GE5,$CF$71:$CF$123))","v":4},{"$f":"IF(GC5=\"\",\"\",SUMIF($CP$71:$CP$123,GE5,$CK$71:$CK$123))","v":1},{"$f":"IF(GC5=\"\",\"\",SUMIF($CP$71:$CP$123,GE5,$CE$71:$CE$123))","v":12},10,{"$f":"IF(GC5=\"\",\"\",SUMIF($CP$71:$CP$123,GE5,CO71:CO123))","v":143},{"$f":"IF(GC5=\"\",\"\",1)","v":1},"負",{"$f":"IF(GC5=\"\",\"\",$O$67)","v":"大阪桐蔭"},null,{"$f":"IF(V2=\"\",\"\",V2)","v":"D"},{"$f":"IF(O2=\"\",\"\",O2)","v":"金足農業"},{"$f":"IF(GU5=\"\",\"\",SUM(GF5:GF10))","v":24},{"$f":"IF(GU5=\"\",\"\",SUM(GG5:GG10))","v":8},{"$f":"IF(GU5=\"\",\"\",SUM(GH5:GH10))","v":2},{"$f":"IF(GU5=\"\",\"\",SUM(GI5:GI10))","v":15},{"$f":"IF(GU5=\"\",\"\",SUM(GJ5:GJ10))","v":6},{"$f":"IF(GU5=\"\",\"\",SUM(GK5:GK10))","v":7},{"$f":"IF(GU5=\"\",\"\",SUM(GL5:GL10))","v":1},{"$f":"IF(GU5=\"\",\"\",SUM(GM5:GM10))","v":13},{"$f":"IF(GU5=\"\",\"\",SUM(GN5:GN10))","v":11},{"$f":"IF(GU5=\"\",\"\",SUM(GO5:GO10))","v":143},{"$f":"IF(GU5=\"\",\"\",1)","v":1},null,{"$f":"IF(GU5=\"\",\"\",O67)","v":"大阪桐蔭"},null,{"$f":"IF($D$60=\"\",\"\",$D$60)","v":"決勝"},{"$f":"IF($K$60=\"\",\"\",$K$60)","v":""},{"$f":"IF($W$60=\"\",\"\",$W$60)","v":"甲子園"},{"$f":"IF($O$2=\"\",\"\",$O$2)","v":"金足農業"},{"$f":"IF(DP24=\"\",\"\",DP24)","v":2},{"$f":"IF(DP89=\"\",\"\",DP89)","v":13},{"$f":"IF(HM5=\"\",\"\",IF(HN5>HO5,\"勝\",IF(HN5<HQ5,\"負\",\"分\")))","v":"負"},{"$f":"IF($O$67=\"\",\"\",$O$67)","v":"大阪桐蔭"}]
[null,"②","左","佐々木　大夢",{"$f":"IF(D6=\"\",\"\",VLOOKUP(D6,$D$29:$F$58,2,FALSE))","v":"RR"},{"$f":"IF(D6=\"\",\"\",VLOOKUP(D6,$D$29:$F$58,3,FALSE))","v":7},null,null,{"$f":"IF(C5=\"\",\"\",C5)","v":"二"},{"$f":"IF(D5=\"\",\"\",D5)","v":"菅原　天空"},{"$f":"IF(D5=\"\",\"\",\"先\")","v":"先"},{"$f":"IF(F5=\"\",\"\",F5)","v":4},"①",{"$f":"IFERROR(VLOOKUP(先攻T!F4,記号!$B$6:$C$10,2,FALSE),\"\")","v":"・〇"},{"$f":"IFERROR(VLOOKUP(先攻T!G4,記号!$B$6:$C$10,2,FALSE),\"\")","v":"・●"},{"$f":"IFERROR(VLOOKUP(先攻T!H4,記号!$B$6:$C$10,2,FALSE),\"\")","v":"・〇"},{"$f":"IFERROR(VLOOKUP(先攻T!I4,記号!$B$6:$C$10,2,FALSE),\"\")","v":"・◎"},{"$f":"IFERROR(VLOOKUP(先攻T!J4,記号!$B$6:$C$10,2,FALSE),\"\")","v":""},{"$f":"IFERROR(VLOOKUP(先攻T!R4,記号!$B$6:$C$10,2,FALSE),\"\")","v":""},{"$f":"IFERROR(VLOOKUP(先攻T!S4,記号!$B$6:$C$10,2,FALSE),\"\")","v":""},{"$f":"IFERROR(VLOOKUP(先攻T!T4,記号!$B$6:$C$10,2,FALSE),\"\")","v":""},{"$f":"IFERROR(VLOOKUP(先攻T!U4,記号!$B$6:$C$10,2,FALSE),\"\")","v":""},{"$f":"IFERROR(VLOOKUP(先攻T!V4,記号!$B$6:$C$10,2,FALSE),\"\")","v":""},{"$f":"IFERROR(VLOOKUP(先攻T!AD4,記号!$B$6:$C$10,2,FALSE),\"\")","v":"・◎"},{"$f":"IFERROR(VLOOKUP(先攻T!AE4,記号!$B$6:$C$10,2,FALSE),\"\")","v":""},{"$f":"IFERROR(VLOOKUP(先攻T!AF4,記号!$B$6:$C$10,2,FALSE),\"\")","v":""},{"$f":"IFERROR(VLOOKUP(先攻T!AG4,記号!$B$6:$C$10,2,FALSE),\"\")","v":""},{"$f":"IFERROR(VLOOKUP(先攻T!AH4,記号!$B$6:$C$10,2,FALSE),\"\")","v":""},{"$f":"IFERROR(VLOOKUP(先攻T!AP4,記号!$B$6:$C$10,2,FALSE),\"\")","v":""},{"$f":"IFERROR(VLOOKUP(先攻T!AQ4,記号!$B$6:$C$10,2,FALSE),\"\")","v":""},{"$f":"IFERROR(VLOOKUP(先攻T!AR4,記号!$B$6:$C$10,2,FALSE),\"\")","v":""},{"$f":"IFERROR(VLOOKUP(先攻T!AS4,記号!$B$6:$C$10,2,FALSE),\"\")","v":""},{"$f":"IFERROR(VLOOKUP(先攻T!AT4,記号!$B$6:$C$10,2,FALSE),\"\")","v":""},{"$f":"IFERROR(VLOOKUP(先攻T!BB4,記号!$B$6:$C$10,2,FALSE),\"\")","v":"・◎"},{"$f":"IFERROR(VLOOKUP(先攻T!BC4,記号!$B$6:$C$10,2,FALSE),\"\")","v":""},{"$f":"IFERROR(VLOOKUP(先攻T!BD4,記号!$B$6:$C$10,2,FALSE),\"\")","v":""},{"$f":"IFERROR(VLOOKUP(先攻T!BE4,記号!$B$6:$C$10,2,FALSE),\"\")","v":""},{"$f":"IFERROR(VLOOKUP(先攻T!BF4,記号!$B$6:$C$10,2,FALSE),\"\")","v":""},{"$f":"IFERROR(VLOOKUP(先攻T!BN4,記号!$B$6:$C$10,2,FALSE),\"\")","v":""},{"$f":"IFERROR(VLOOKUP(先攻T!BO4,記号!$B$6:$C$10,2,FALSE),\"\")","v":""},{"$f":"IFERROR(VLOOKUP(先攻T!BP4,記号!$B$6:$C$10,2,FALSE),\"\")","v":""},{"$f":"IFERROR(VLOOKUP(先攻T!BQ4,記号!$B$6:$C$10,2,FALSE),\"\")","v":""},{"$f":"IFERROR(VLOOKUP(先攻T!BR4,記号!$B$6:$C$10,2,FALSE),\"\")","v":""},{"$f":"IFERROR(VLOOKUP(先攻T!BZ4,記号!$B$6:$C$10,2,FALSE),\"\")","v":"・●"},{"$f":"IFERROR(VLOOKUP(先攻T!CA4,記号!$B$6:$C$10,2,FALSE),\"\")","v":"・●"},{"$f":"IFERROR(VLOOKUP(先攻T!CB4,記号!$B$6:$C$10,2,FALSE),\"\")","v":"・□"},{"$f":"IFERROR(VLOOKUP(先攻T!CC4,記号!$B$6:$C$10,2,FALSE),\"\")","v":"・●"},{"$f":"IFERROR(VLOOKUP(先攻T!CD4,記号!$B$6:$C$10,2,FALSE),\"\")","v":"・◎"},{"$f":"IFERROR(VLOOKUP(先攻T!CL4,記号!$B$6:$C$10,2,FALSE),\"\")","v":""},{"$f":"IFERROR(VLOOKUP(先攻T!CM4,記号!$B$6:$C$10,2,FALSE),\"\")","v":""},{"$f":"IFERROR(VLOOKUP(先攻T!CN4,記号!$B$6:$C$10,2,FALSE),\"\")","v":""},{"$f":"IFERROR(VLOOKUP(先攻T!CO4,記号!$B$6:$C$10,2,FALSE),\"\")","v":""},{"$f":"IFERROR(VLOOKUP(先攻T!CP4,記号!$B$6:$C$10,2,FALSE),\"\")","v":""},{"$f":"IFERROR(VLOOKUP(先攻T!CX4,記号!$B$6:$C$10,2,FALSE),\"\")","v":""},{"$f":"IFERROR(VLOOKUP(先攻T!CY4,記号!$B$6:$C$10,2,FALSE),\"\")","v":""},{"$f":"IFERROR(VLOOKUP(先攻T!CZ4,記号!$B$6:$C$10,2,FALSE),\"\")","v":""},{"$f":"IFERROR(VLOOKUP(先攻T!DA4,記号!$B$6:$C$10,2,FALSE),\"\")","v":""},{"$f":"IFERROR(VLOOKUP(先攻T!DB4,記号!$B$6:$C$10,2,FALSE),\"\")","v":""},{"$f":"IFERROR(VLOOKUP(先攻T!DJ4,記号!$B$6:$C$10,2,FALSE),\"\")","v":""},{"$f":"IFERROR(VLOOKUP(先攻T!DK4,記号!$B$6:$C$10,2,FALSE),\"\")","v":""},{"$f":"IFERROR(VLOOKUP(先攻T!DL4,記号!$B$6:$C$10,2,FALSE),\"\")","v":""},{"$f":"IFERROR(VLOOKUP(先攻T!DM4,記号!$B$6:$C$10,2,FALSE),\"\")","v":""},{"$f":"IFERROR(VLOOKUP(先攻T!DN4,記号!$B$6:$C$10,2,FALSE),\"\")","v":""},{"$f":"IFERROR(VLOOKUP(先攻T!DV4,記号!$B$6:$C$10,2,FALSE),\"\")","v":""},{"$f":"IFERROR(VLOOKUP(先攻T!DW4,記号!$B$6:$C$10,2,FALSE),\"\")","v":""},{"$f":"IFERROR(VLOOKUP(先攻T!DX4,記号!$B$6:$C$10,2,FALSE),\"\")","v":""},{"$f":"IFERROR(VLOOKUP(先攻T!DY4,記号!$B$6:$C$10,2,FALSE),\"\")","v":""},{"$f":"IFERROR(VLOOKUP(先攻T!DZ4,記号!$B$6:$C$10,2,FALSE),\"\")","v":""},{"$f":"IFERROR(VLOOKUP(先攻T!EH4,記号!$B$6:$C$10,2,FALSE),\"\")","v":""},{"$f":"IFERROR(VLOOKUP(先攻T!EI4,記号!$B$6:$C$10,2,FALSE),\"\")","v":""},{"$f":"IFERROR(VLOOKUP(先攻T!EJ4,記号!$B$6:$C$10,2,FALSE),\"\")","v":""},{"$f":"IFERROR(VLOOKUP(先攻T!EK4,記号!$B$6:$C$10,2,FALSE),\"\")","v":""},{"$f":"IFERROR(VLOOKUP(先攻T!EL4,記号!$B$6:$C$10,2,FALSE),\"\")","v":""},{"$f":"IF(K6=\"\",\"\",VLOOKUP(K6,$C$84:$E$89,3,FALSE))","v":"RR"},{"$f":"IF(L6=\"\",\"\",(BX6+CG6+CH6+CI6))","v":4},{"$f":"IF(L6=\"\",\"\",(BY6+BZ6+CA6+CB6+CC6+CF6+CJ6+CM6+CN6))","v":3},{"$f":"IF(L6=\"\",\"\",COUNTIFS($N$5:$BU$5,L6,$N$10:$BU$10,$BY$3))","v":3},{"$f":"IF(L6=\"\",\"\",COUNTIFS($N$5:$BU$5,L6,$N$10:$BU$10,$BZ$3))","v":0},{"$f":"IF(L6=\"\",\"\",COUNTIFS($N$5:$BU$5,L6,$N$8:$BU$8,$CA$3))","v":0},{"$f":"IF(L6=\"\",\"\",COUNTIFS($N$5:$BU$5,L6,$N$8:$BU$8,$CB$3))","v":0},{"$f":"IF(L6=\"\",\"\",COUNTIFS($N$5:$BU$5,L6,$N$10:$BU$10,$CC$3))","v":0},{"$f":"IF(L6=\"\",\"\",SUMIF(N5:BU5,L6,N10:BU10))","v":0},{"$f":"IF(L6=\"\",\"\",COUNTIFS($N$5:$BU$5,L6,$N$9:$BU$9,$CE$3))","v":0},{"$f":"IF(L6=\"\",\"\",COUNTIFS($N$5:$BU$5,L6,$N$10:$BU$10,$CF$3))","v":0},{"$f":"IF(L6=\"\",\"\",COUNTIFS($N$5:$BU$5,L6,$N$10:$BU$10,$CG$3))","v":0},{"$f":"IF(L6=\"\",\"\",COUNTIFS($N$5:$BU$5,L6,$N$10:$BU$10,$CH$3))","v":0},{"$f":"IF(L6=\"\",\"\",COUNTIFS($N$5:$BU$5,L6,$N$10:$BU$10,$CI$3))","v":1},{"$f":"IF(L6=\"\",\"\",COUNTIFS($N$5:$BU$5,L6,$N$10:$BU$10,$CJ$3))","v":0},{"$f":"IF(L6=\"\",\"\",COUNTIFS($N$5:$BU$5,L6,$N$8:$BU$8,$CK$3)+COUNTIFS($N$5:$BU$5,L6,$N$10:$BU$10,$CK$3))","v":0},{"$f":"IF(L6=\"\",\"\",COUNTIFS($N$5:$BU$5,L6,$N$8:$BU$8,$CL$3)+COUNTIFS($N$5:$BU$5,L6,$N$10:$BU$10,$CL$3))","v":0},{"$f":"IF(L6=\"\",\"\",COUNTIFS($N$5:$BU$5,L6,$N$10:$BU$10,$CM$3))","v":0},{"$f":"IF(L6=\"\",\"\",COUNTIFS($N$5:$BU$5,L6,$N$10:$BU$10,$CN$3))","v":0},{"$f":"IF(L6=\"\",\"\",COUNTIFS($N$5:$BU$5,L6,$N$6:$BU$6,$CO$3)+COUNTIFS($N$5:$BU$5,L6,$N$7:$BU$7,$CO$3))","v":11},"先","二ゴロ",null,null,null,null,"G",{"$f":"IF(DA6=\"\",\"\",VLOOKUP(DA6,$C$84:$E$89,3,FALSE))","v":"RR"},4,"二",{"$f":"IF(CY6=\"\",\"\",VLOOKUP(CY6,$C$70:$F$78,4,FALSE))","v":4},"先",null,null,null,{"$f":"IF(DF6=\"\",\"\",$V$2)","v":"D"},{"$f":"IFERROR(VLOOKUP(DG6,$C$29:$D$58,2,FALSE),\"\")","v":"佐々木　大夢"},{"$f":"IF(F6=\"\",\"\",F6)","v":7},{"$f":"IF(DF6=\"\",\"\",SUMIFS($BW$6:$BW$58,$J$6:$J$58,DF6))","v":4},{"$f":"IF(DF6=\"\",\"\",SUMIFS($BX$6:$BX$58,$J$6:$J$58,DF6))","v":4},{"$f":"IF(DF6=\"\",\"\",SUMIFS($BY$6:$BY$58,$J$6:$J$58,DF6))","v":1},{"$f":"IF(DF6=\"\",\"\",SUMIFS($BZ$6:$BZ$58,$J$6:$J$58,DF6))","v":0},{"$f":"IF(DF6=\"\",\"\",SUMIFS($CA$6:$CA$58,$J$6:$J$58,DF6))","v":0},{"$f":"IF(DF6=\"\",\"\",SUMIFS($CB$6:$CB$58,$J$6:$J$58,DF6))","v":0},{"$f":"IF(DF6=\"\",\"\",SUMIFS($CC$6:$CC$58,$J$6:$J$58,DF6))","v":0},{"$f":"IF(DF6=\"\",\"\",SUMIFS($CD$6:$CD$58,$J$6:$J$58,DF6))","v":1},{"$f":"IF(DF6=\"\",\"\",SUMIFS($CE$6:$CE$58,$J$6:$J$58,DF6))","v":0},{"$f":"IF(DF6=\"\",\"\",SUMIFS($CF$6:$CF$58,$J$6:$J$58,DF6))","v":2},{"$f":"IF(DF6=\"\",\"\",SUMIFS($CG$6:$CG$58,$J$6:$J$58,DF6))","v":0},{"$f":"IF(DF6=\"\",\"\",SUMIFS($CH$6:$CH$58,$J$6:$J$58,DF6))","v":0},{"$f":"IF(DF6=\"\",\"\",SUMIFS($CI$6:$CI$58,$J$6:$J$58,DF6))","v":0},{"$f":"IF(DF6=\"\",\"\",SUMIFS($CJ$6:$CJ$58,$J$6:$J$58,DF6))","v":1},{"$f":"IF(DF6=\"\",\"\",SUMIFS($CK$6:$CK$58,$J$6:$J$58,DF6))","v":0},{"$f":"IF(DF6=\"\",\"\",SUMIFS($CL$6:$CL$58,$J$6:$J$58,DF6))","v":0},{"$f":"IF(DF6=\"\",\"\",SUMIFS($CM$6:$CM$58,$J$6:$J$58,DF6))","v":0},{"$f":"IF(DF6=\"\",\"\",SUMIFS($CN$6:$CN$58,$J$6:$J$58,DF6))","v":0},{"$f":"IF(DY6=\"\",\"\",SUMIFS($CO$6:$CO$58,$J$6:$J$58,DF6))","v":16},{"$f":"IF(DF6=\"\",\"\",$D$60)","v":"決勝"},null,{"$f":"IF(L6=\"\",\"\",L6)","v":4},{"$f":"IF(EC6=\"\",\"\",VLOOKUP(EC6,$C$29:$D$58,2,FALSE))","v":"菅原　天空"},{"$f":"IF(EC6=\"\",\"\",COUNTIFS(N5:BU5,EC6,N10:BU10,\"RZ\"))","v":1},{"$f":"IF(ED6=\"\",\"\",COUNTIFS($N$5:$BU$5,EC6,$N$9:$BU$9,\"ZH\"))","v":0},null,{"$f":"IF(EI6=\"\",\"\",$V$2)","v":"D"},{"$f":"IF(DF6=\"\",\"\",DF6)","v":"佐々木　大夢"},7,{"$f":"IF(EI6=\"\",\"\",SUMIFS($EE$5:$EE$58,$ED$5:$ED$58,EI6))","v":1},{"$f":"IF(EI6=\"\",\"\",SUMIFS($EF$5:$EF$58,$ED$5:$ED$58,EI6))","v":0},null,{"$f":"IF(EO6=\"\",\"\",$V$2)","v":"D"},{"$f":"IFERROR(VLOOKUP(EP6,$C$29:$D$58,2,FALSE),\"\")","v":"菅原　天空"},{"$f":"IF(F5=\"\",\"\",F5)","v":4},"LL",{"$f":"IF(EO6=\"\",\"\",SUMIFS($BW$6:$BW$58,$J$6:$J$58,EO6,$BV$6:$BV$58,EQ6))","v":0},{"$f":"IF(EO6=\"\",\"\",SUMIFS($BX$6:$BX$58,$J$6:$J$58,EO6,$BV$6:$BV$58,EQ6))","v":0},{"$f":"IF(EO6=\"\",\"\",SUMIFS($BY$6:$BY$58,$J$6:$J$58,EO6,$BV$6:$BV$58,EQ6))","v":0},{"$f":"IF(EO6=\"\",\"\",SUMIFS($BZ$6:$BZ$58,$J$6:$J$58,EO6,$BV$6:$BV$58,EQ6))","v":0},{"$f":"IF(EO6=\"\",\"\",SUMIFS($CA$6:$CA$58,$J$6:$J$58,EO6,$BV$6:$BV$58,EQ6))","v":0},{"$f":"IF(EO6=\"\",\"\",SUMIFS($CB$6:$CB$58,$J$6:$J$58,EO6,$BV$6:$BV$58,EQ6))","v":0},{"$f":"IF(EO6=\"\",\"\",SUMIFS($CC$6:$CC$58,$J$6:$J$58,EO6,$BV$6:$BV$58,EQ6))","v":0},{"$f":"IF(EO6=\"\",\"\",SUMIFS($CD$6:$CD$58,$J$6:$J$58,EO6,$BV$6:$BV$58,EQ6))","v":0},{"$f":"IF(EO6=\"\",\"\",SUMIFS($CE$6:$CE$58,$J$6:$J$58,EO6,$BV$6:$BV$58,EQ6))","v":0},{"$f":"IF(EO6=\"\",\"\",SUMIFS($CF$6:$CF$58,$J$6:$J$58,EO6,$BV$6:$BV$58,EQ6))","v":0},{"$f":"IF(EO6=\"\",\"\",SUMIFS($CG$6:$CG$58,$J$6:$J$58,EO6,$BV$6:$BV$58,EQ6))","v":0},{"$f":"IF(EO6=\"\",\"\",SUMIFS($CH$6:$CH$58,$J$6:$J$58,EO6,$BV$6:$BV$58,EQ6))","v":0},{"$f":"IF(EO6=\"\",\"\",SUMIFS($CI$6:$CI$58,$J$6:$J$58,EO6,$BV$6:$BV$58,EQ6))","v":0},{"$f":"IF(EO6=\"\",\"\",SUMIFS($CJ$6:$CJ$58,$J$6:$J$58,EO6,$BV$6:$BV$58,EQ6))","v":0},{"$f":"IF(EO6=\"\",\"\",SUMIFS($CK$6:$CK$58,$J$6:$J$58,EO6,$BV$6:$BV$58,EQ6))","v":0},{"$f":"IF(EO6=\"\",\"\",SUMIFS($CL$6:$CL$58,$J$6:$J$58,EO6,$BV$6:$BV$58,EQ6))","v":0},{"$f":"IF(EO6=\"\",\"\",SUMIFS($CM$6:$CM$58,$J$6:$J$58,EO6,$BV$6:$BV$58,EQ6))","v":0},{"$f":"IF(EO6=\"\",\"\",SUMIFS($CN$6:$CN$58,$J$6:$J$58,EO6,$BV$6:$BV$58,EQ6))","v":0},{"$f":"IF(EO6=\"\",\"\",SUMIFS($CO$6:$CO$58,$J$6:$J$58,EO6,$BV$6:$BV$58,EQ6))","v":0},null,{"$f":"IF(FM6=\"\",\"\",$V$2)","v":"D"},{"$f":"IF(DF6=\"\",\"\",DF6)","v":"佐々木　大夢"},7,{"$f":"IF(FN6=\"\",\"\",COUNTIFS($CX$6:$CX$58,FN6,$CY$6:$CY$58,$FO$4))","v":0},{"$f":"IF(FN6=\"\",\"\",COUNTIFS($CX$6:$CX$58,FN6,$CY$6:$CY$58,$FP$4))","v":0},{"$f":"IF(FN6=\"\",\"\",COUNTIFS($CX$6:$CX$58,FN6,$CY$6:$CY$58,$FQ$4))","v":2},{"$f":"IF(FN6=\"\",\"\",COUNTIFS($CX$6:$CX$58,FN6,$CY$6:$CY$58,$FR$4))","v":0},{"$f":"IF(FN6=\"\",\"\",COUNTIFS($CX$6:$CX$58,FN6,$CY$6:$CY$58,$FS$4))","v":0},{"$f":"IF(FN6=\"\",\"\",COUNTIFS($CX$6:$CX$58,FN6,$CY$6:$CY$58,$FT$4))","v":0},{"$f":"IF(FN6=\"\",\"\",COUNTIFS($CX$6:$CX$58,FN6,$CY$6:$CY$58,$FU$4))","v":0},{"$f":"IF(FN6=\"\",\"\",COUNTIFS($CX$6:$CX$58,FN6,$CY$6:$CY$58,$FV$4))","v":0},{"$f":"IF(FN6=\"\",\"\",COUNTIFS($CX$6:$CX$58,FN6,$CY$6:$CY$58,$FW$4))","v":0},{"$f":"IF(FM6=\"\",\"\",$D$60)","v":"決勝"},null,null,"決勝",{"$f":"IF(GC6=\"\",\"\",$V$2)","v":"D"},"打川　和輝",5,2,{"$f":"IF(GC6=\"\",\"\",SUMIF($CP$71:$CP$123,GE6,$BY$71:$BY$123)+SUMIF($CP$71:$CP$123,GE6,$CF$71:$CF$123)+SUMIF($CP$71:$CP$123,GE6,$CI$71:$CI$123)+SUMIF($CP$71:$CP$123,GE6,$CJ$71:$CJ$123)+SUMIF($CP$71:$CP$123,GE6,$CL$71:$CL$123)+SUMIF($CP$71:$CP$123,GE6,$CM$71:$CM$123))","v":7},{"$f":"IF(GC6=\"\",\"\",GF6/3)","v":2.3333333333333335},{"$f":"IF(GC6=\"\",\"\",SUMIF($CP$71:$CP$123,GE6,$CC$71:$CC$123))","v":0},{"$f":"IF(GC6=\"\",\"\",(SUMIF($CP$71:$CP$123,GE6,$BZ$71:$BZ$123)+SUMIF($CP$71:$CP$123,GE6,$CA$71:$CA$123)+SUMIF($CP$71:$CP$123,GE6,$CB$71:$CB$123)+SUMIF($CP$71:$CP$123,GE6,$CC$71:$CC$123)))","v":2},{"$f":"IF(GC6=\"\",\"\",SUMIF($CP$70:$CP$123,GE6,$DR$70:$DS$87))","v":0},{"$f":"IF(GC6=\"\",\"\",SUMIF($CP$71:$CP$123,GE6,$CF$71:$CF$123))","v":3},{"$f":"IF(GC6=\"\",\"\",SUMIF($CP$71:$CP$123,GE6,$CK$71:$CK$123))","v":0},{"$f":"IF(GC6=\"\",\"\",SUMIF($CP$71:$CP$123,GE6,$CE$71:$CE$123))","v":1},1,{"$f":"IF(GC6=\"\",\"\",SUMIF($CP$71:$CP$123,GE6,CO72:CO124))","v":0},{"$f":"IF(GC6=\"\",\"\",1)","v":1},null,"大阪桐蔭",null,null,null,null,null,null,null,null,null,null,null,null,null,null,null,null,null,null,null,null,null,null,null,null,null,null,null,null,{"$f":"IF(J6=\"\",\"\",J6)","v":"菅原　天空"},{"$f":"IF(L6=\"\",\"\",L6)","v":4},{"$f":"IF(HU6=\"\",\"\",COUNTIFS($N$5:$BU$5,HV6,$N$6:BU$6,HW$3)+COUNTIFS($N$5:$BU$5,HV6,$N$7:$BU$7,$HW$3))","v":11},{"$f":"IF(HU6=\"\",\"\",COUNTIFS($N$5:$BU$5,HV6,$N$6:$BU$6,$HX$3)+COUNTIFS($N$5:$BU$5,HV6,$N$7:$BU$7,$HX$3))","v":4},{"$f":"IF(HU6=\"\",\"\",COUNTIFS($N$5:$BU$5,HV6,$N$6:$BU$6,$HY$3)+COUNTIFS($N$5:$BU$5,HV6,$N$7:$BU$7,$HY$3))","v":2},{"$f":"IF(HU6=\"\",\"\",COUNTIFS($N$5:$BU$5,HV6,$N$6:$BU$6,$HZ$3)+COUNTIFS($N$5:$BU$5,HV6,$N$7:$BU$7,$HZ$3))","v":0},{"$f":"IF(HU6=\"\",\"\",COUNTIFS($N$5:$BU$5,HV6,$N$6:$BU$6,$IA$3)+COUNTIFS($N$5:$BU$5,HV6,$N$7:$BU$7,$IA$3))","v":1},{"$f":"IF(HU6=\"\",\"\",COUNTIFS($N$5:$BU$5,HV6,$N$6:$BU$6,$IB$3)+COUNTIFS($N$5:$BU$5,HV6,$N$7:$BU$7,$IB$3))","v":4}]
[null,"③","投","吉田　輝星","RR",1,null,null,null,{"$f":"IF(L7=\"\",\"\",VLOOKUP(L7,$C$29:$D$58,2,FALSE))","v":""},null,null,null,{"$f":"IFERROR(VLOOKUP(先攻T!K4,記号!$B$6:$C$10,2,FALSE),\"\")","v":""},{"$f":"IFERROR(VLOOKUP(先攻T!L4,記号!$B$6:$C$10,2,FALSE),\"\")","v":""},{"$f":"IFERROR(VLOOKUP(先攻T!F6,記号!$B$6:$C$10,2,FALSE),\"\")","v":""},{"$f":"IFERROR(VLOOKUP(先攻T!G6,記号!$B$6:$C$10,2,FALSE),\"\")","v":""},{"$f":"IFERROR(VLOOKUP(先攻T!H6,記号!$B$6:$C$10,2,FALSE),\"\")","v":""},{"$f":"IFERROR(VLOOKUP(先攻T!W4,記号!$B$6:$C$10,2,FALSE),\"\")","v":""},{"$f":"IFERROR(VLOOKUP(先攻T!X4,記号!$B$6:$C$10,2,FALSE),\"\")","v":""},{"$f":"IFERROR(VLOOKUP(先攻T!R6,記号!$B$6:$C$10,2,FALSE),\"\")","v":""},{"$f":"IFERROR(VLOOKUP(先攻T!S6,記号!$B$6:$C$10,2,FALSE),\"\")","v":""},{"$f":"IFERROR(VLOOKUP(先攻T!T6,記号!$B$6:$C$10,2,FALSE),\"\")","v":""},{"$f":"IFERROR(VLOOKUP(先攻T!AI4,記号!$B$6:$C$10,2,FALSE),\"\")","v":""},{"$f":"IFERROR(VLOOKUP(先攻T!AJ4,記号!$B$6:$C$10,2,FALSE),\"\")","v":""},{"$f":"IFERROR(VLOOKUP(先攻T!AD6,記号!$B$6:$C$10,2,FALSE),\"\")","v":""},{"$f":"IFERROR(VLOOKUP(先攻T!AE6,記号!$B$6:$C$10,2,FALSE),\"\")","v":""},{"$f":"IFERROR(VLOOKUP(先攻T!AF6,記号!$B$6:$C$10,2,FALSE),\"\")","v":""},{"$f":"IFERROR(VLOOKUP(先攻T!AU4,記号!$B$6:$C$10,2,FALSE),\"\")","v":""},{"$f":"IFERROR(VLOOKUP(先攻T!AV4,記号!$B$6:$C$10,2,FALSE),\"\")","v":""},{"$f":"IFERROR(VLOOKUP(先攻T!AP6,記号!$B$6:$C$10,2,FALSE),\"\")","v":""},{"$f":"IFERROR(VLOOKUP(先攻T!AQ6,記号!$B$6:$C$10,2,FALSE),\"\")","v":""},{"$f":"IFERROR(VLOOKUP(先攻T!AR6,記号!$B$6:$C$10,2,FALSE),\"\")","v":""},{"$f":"IFERROR(VLOOKUP(先攻T!BG4,記号!$B$6:$C$10,2,FALSE),\"\")","v":""},{"$f":"IFERROR(VLOOKUP(先攻T!BH4,記号!$B$6:$C$10,2,FALSE),\"\")","v":""},{"$f":"IFERROR(VLOOKUP(先攻T!BB6,記号!$B$6:$C$10,2,FALSE),\"\")","v":""},{"$f":"IFERROR(VLOOKUP(先攻T!BC6,記号!$B$6:$C$10,2,FALSE),\"\")","v":""},{"$f":"IFERROR(VLOOKUP(先攻T!BD6,記号!$B$6:$C$10,2,FALSE),\"\")","v":""},{"$f":"IFERROR(VLOOKUP(先攻T!BS4,記号!$B$6:$C$10,2,FALSE),\"\")","v":""},{"$f":"IFERROR(VLOOKUP(先攻T!BT4,記号!$B$6:$C$10,2,FALSE),\"\")","v":""},{"$f":"IFERROR(VLOOKUP(先攻T!BN6,記号!$B$6:$C$10,2,FALSE),\"\")","v":""},{"$f":"IFERROR(VLOOKUP(先攻T!BO6,記号!$B$6:$C$10,2,FALSE),\"\")","v":""},{"$f":"IFERROR(VLOOKUP(先攻T!BP6,記号!$B$6:$C$10,2,FALSE),\"\")","v":""},{"$f":"IFERROR(VLOOKUP(先攻T!CE4,記号!$B$6:$C$10,2,FALSE),\"\")","v":""},{"$f":"IFERROR(VLOOKUP(先攻T!CF4,記号!$B$6:$C$10,2,FALSE),\"\")","v":""},{"$f":"IFERROR(VLOOKUP(先攻T!BZ6,記号!$B$6:$C$10,2,FALSE),\"\")","v":""},{"$f":"IFERROR(VLOOKUP(先攻T!CA6,記号!$B$6:$C$10,2,FALSE),\"\")","v":""},{"$f":"IFERROR(VLOOKUP(先攻T!CB6,記号!$B$6:$C$10,2,FALSE),\"\")","v":""},{"$f":"IFERROR(VLOOKUP(先攻T!CQ4,記号!$B$6:$C$10,2,FALSE),\"\")","v":""},{"$f":"IFERROR(VLOOKUP(先攻T!CR4,記号!$B$6:$C$10,2,FALSE),\"\")","v":""},{"$f":"IFERROR(VLOOKUP(先攻T!CL6,記号!$B$6:$C$10,2,FALSE),\"\")","v":""},{"$f":"IFERROR(VLOOKUP(先攻T!CM6,記号!$B$6:$C$10,2,FALSE),\"\")","v":""},{"$f":"IFERROR(VLOOKUP(先攻T!CN6,記号!$B$6:$C$10,2,FALSE),\"\")","v":""},{"$f":"IFERROR(VLOOKUP(先攻T!DC4,記号!$B$6:$C$10,2,FALSE),\"\")","v":""},{"$f":"IFERROR(VLOOKUP(先攻T!DD4,記号!$B$6:$C$10,2,FALSE),\"\")","v":""},{"$f":"IFERROR(VLOOKUP(先攻T!CX6,記号!$B$6:$C$10,2,FALSE),\"\")","v":""},{"$f":"IFERROR(VLOOKUP(先攻T!CY6,記号!$B$6:$C$10,2,FALSE),\"\")","v":""},{"$f":"IFERROR(VLOOKUP(先攻T!CZ6,記号!$B$6:$C$10,2,FALSE),\"\")","v":""},{"$f":"IFERROR(VLOOKUP(先攻T!DO4,記号!$B$6:$C$10,2,FALSE),\"\")","v":""},{"$f":"IFERROR(VLOOKUP(先攻T!DP4,記号!$B$6:$C$10,2,FALSE),\"\")","v":""},{"$f":"IFERROR(VLOOKUP(先攻T!DJ6,記号!$B$6:$C$10,2,FALSE),\"\")","v":""},{"$f":"IFERROR(VLOOKUP(先攻T!DK6,記号!$B$6:$C$10,2,FALSE),\"\")","v":""},{"$f":"IFERROR(VLOOKUP(先攻T!DL6,記号!$B$6:$C$10,2,FALSE),\"\")","v":""},{"$f":"IFERROR(VLOOKUP(先攻T!EA4,記号!$B$6:$C$10,2,FALSE),\"\")","v":""},{"$f":"IFERROR(VLOOKUP(先攻T!EB4,記号!$B$6:$C$10,2,FALSE),\"\")","v":""},{"$f":"IFERROR(VLOOKUP(先攻T!DV6,記号!$B$6:$C$10,2,FALSE),\"\")","v":""},{"$f":"IFERROR(VLOOKUP(先攻T!DW6,記号!$B$6:$C$10,2,FALSE),\"\")","v":""},{"$f":"IFERROR(VLOOKUP(先攻T!DX6,記号!$B$6:$C$10,2,FALSE),\"\")","v":""},{"$f":"IFERROR(VLOOKUP(先攻T!EM4,記号!$B$6:$C$10,2,FALSE),\"\")","v":""},{"$f":"IFERROR(VLOOKUP(先攻T!EN4,記号!$B$6:$C$10,2,FALSE),\"\")","v":""},{"$f":"IFERROR(VLOOKUP(先攻T!EH6,記号!$B$6:$C$10,2,FALSE),\"\")","v":""},{"$f":"IFERROR(VLOOKUP(先攻T!EI6,記号!$B$6:$C$10,2,FALSE),\"\")","v":""},{"$f":"IFERROR(VLOOKUP(先攻T!EJ6,記号!$B$6:$C$10,2,FALSE),\"\")","v":""},{"$f":"IF(K7=\"\",\"\",VLOOKUP(K7,$C$84:$E$89,3,FALSE))","v":""},{"$f":"IF(L7=\"\",\"\",(BX7+CG7+CH7+CI7))","v":""},{"$f":"IF(L7=\"\",\"\",(BY7+BZ7+CA7+CB7+CC7+CF7+CJ7+CM7+CN7))","v":""},{"$f":"IF(L7=\"\",\"\",COUNTIFS($N$5:$BU$5,L7,$N$10:$BU$10,$BY$3))","v":""},{"$f":"IF(L7=\"\",\"\",COUNTIFS($N$5:$BU$5,L7,$N$10:$BU$10,$BZ$3))","v":""},{"$f":"IF(L7=\"\",\"\",COUNTIFS($N$5:$BU$5,L7,$N$8:$BU$8,$CA$3))","v":""},{"$f":"IF(L7=\"\",\"\",COUNTIFS($N$5:$BU$5,L7,$N$8:$BU$8,$CB$3))","v":""},{"$f":"IF(L7=\"\",\"\",COUNTIFS($N$5:$BU$5,L7,$N$10:$BU$10,$CC$3))","v":""},{"$f":"IF(L7=\"\",\"\",SUMIF($N$5:$BU$5,L7,$N$10:$BU$10))","v":""},{"$f":"IF(L7=\"\",\"\",COUNTIFS($N$5:$BU$5,L7,$N$9:$BU$9,$CE$3))","v":""},{"$f":"IF(L7=\"\",\"\",COUNTIFS($N$5:$BU$5,L7,$N$10:$BU$10,$CF$3))","v":""},{"$f":"IF(L7=\"\",\"\",COUNTIFS($N$5:$BU$5,L7,$N$10:$BU$10,$CG$3))","v":""},{"$f":"IF(L7=\"\",\"\",COUNTIFS($N$5:$BU$5,L7,$N$10:$BU$10,$CH$3))","v":""},{"$f":"IF(L7=\"\",\"\",COUNTIFS($N$5:$BU$5,L7,$N$10:$BU$10,$CI$3))","v":""},{"$f":"IF(L7=\"\",\"\",COUNTIFS($N$5:$BU$5,L7,$N$10:$BU$10,$CJ$3))","v":""},{"$f":"IF(L7=\"\",\"\",COUNTIFS($N$5:$BU$5,L7,$N$8:$BU$8,$CK$3)+COUNTIFS($N$5:$BU$5,L7,$N$10:$BU$10,$CK$3))","v":""},{"$f":"IF(L7=\"\",\"\",COUNTIFS($N$5:$BU$5,L7,$N$8:$BU$8,$CL$3)+COUNTIFS($N$5:$BU$5,L7,$N$10:$BU$10,$CL$3))","v":""},{"$f":"IF(L7=\"\",\"\",COUNTIFS($N$5:$BU$5,L7,$N$10:$BU$10,$CM$3))","v":""},{"$f":"IF(L7=\"\",\"\",COUNTIFS($N$5:$BU$5,L7,$N$10:$BU$10,$CN$3))","v":""},{"$f":"IF(L7=\"\",\"\",COUNTIFS($N$5:$BU$5,L7,$N$6:$BU$6,$CO$3)+COUNTIFS($N$5:$BU$5,L7,$N$7:$BU$7,$CO$3))","v":""},null,"補犠",null,null,null,null,"G",{"$f":"IF(DA7=\"\",\"\",VLOOKUP(DA7,$C$84:$E$89,3,FALSE))","v":"RR"},4,"捕",{"$f":"IF(CY7=\"\",\"\",VLOOKUP(CY7,$C$70:$F$78,4,FALSE))","v":2},"先",null,null,null,"D","吉田　輝星",1,{"$f":"IF(DF7=\"\",\"\",SUMIFS($BW$6:$BW$58,$J$6:$J$58,DF7))","v":4},4,3,0,0,0,0,0,0,1,0,0,0,0,0,0,0,0,8,"決勝",null,{"$f":"IF(L7=\"\",\"\",L7)","v":""},{"$f":"IF(EC7=\"\",\"\",VLOOKUP(EC7,$C$29:$D$58,2,FALSE))","v":""},{"$f":"IF(EC7=\"\",\"\",COUNTIFS($N$5:$BU$5,EC7,$N$10:$BU$10,\"RZ\"))","v":""},{"$f":"IF(ED7=\"\",\"\",COUNTIFS($N$5:$BU$5,EC7,$N$9:$BU$9,\"ZH\"))","v":""},null,"D","吉田　輝星",1,0,0,null,"D","佐々木　大夢",{"$f":"IF(F6=\"\",\"\",F6)","v":7},"RR",4,4,1,0,0,0,0,1,0,2,0,0,0,1,0,0,0,0,16,null,"D","吉田　輝星",1,1,0,0,0,0,0,0,1,1,"決勝",null,null,null,null,null,null,null,null,null,null,null,null,null,null,null,null,null,null,null,null,null,null,null,null,null,null,null,null,null,null,null,null,null,null,null,null,null,null,null,null,null,null,null,null,null,null,null,null,{"$f":"IF(J7=\"\",\"\",J7)","v":""},{"$f":"IF(L7=\"\",\"\",L7)","v":""},{"$f":"IF(HU7=\"\",\"\",COUNTIFS($N$5:$BU$5,HV7,$N$6:BU$6,HW$3)+COUNTIFS($N$5:$BU$5,HV7,$N$7:$BU$7,$HW$3))","v":""},{"$f":"IF(HU7=\"\",\"\",COUNTIFS($N$5:$BU$5,HV7,$N$6:$BU$6,$HX$3)+COUNTIFS($N$5:$BU$5,HV7,$N$7:$BU$7,$HX$3))","v":""},{"$f":"IF(HU7=\"\",\"\",COUNTIFS($N$5:$BU$5,HV7,$N$6:$BU$6,$HY$3)+COUNTIFS($N$5:$BU$5,HV7,$N$7:$BU$7,$HY$3))","v":""},{"$f":"IF(HU7=\"\",\"\",COUNTIFS($N$5:$BU$5,HV7,$N$6:$BU$6,$HZ$3)+COUNTIFS($N$5:$BU$5,HV7,$N$7:$BU$7,$HZ$3))","v":""},{"$f":"IF(HU7=\"\",\"\",COUNTIFS($N$5:$BU$5,HV7,$N$6:$BU$6,$IA$3)+COUNTIFS($N$5:$BU$5,HV7,$N$7:$BU$7,$IA$3))","v":""},{"$f":"IF(HU7=\"\",\"\",COUNTIFS($N$5:$BU$5,HV7,$N$6:$BU$6,$IB$3)+COUNTIFS($N$5:$BU$5,HV7,$N$7:$BU$7,$IB$3))","v":""}]
[null,"④","一","打川　和輝","RR",5,null,null,null,{"$f":"IF(L8=\"\",\"\",VLOOKUP(L8,$C$29:$D$58,2,FALSE))","v":""},null,null,null,{"$f":"IFERROR(VLOOKUP(先攻T!F9,記号!$I$27:$J$30,2,FALSE),\"\")","v":"G"},{"$f":"IFERROR(VLOOKUP(先攻T!H8,記号!$L$5:$M$21,2,FALSE),\"\")","v":""},{"$f":"IFERROR(VLOOKUP(先攻T!H10,記号!$F$27:$G$37,2,FALSE),\"\")","v":""},{"$f":"IFERROR(VLOOKUP(先攻T!G8,記号!$I$5:$J$23,2,FALSE),\"\")","v":""},null,{"$f":"IFERROR(VLOOKUP(先攻T!R9,記号!$I$27:$J$30,2,FALSE),\"\")","v":""},{"$f":"IFERROR(VLOOKUP(先攻T!T8,記号!$L$5:$M$21,2,FALSE),\"\")","v":""},{"$f":"IFERROR(VLOOKUP(先攻T!T10,記号!$F$27:$G$37,2,FALSE),\"\")","v":""},{"$f":"IFERROR(VLOOKUP(先攻T!S8,記号!$I$5:$J$23,2,FALSE),\"\")","v":""},null,{"$f":"IFERROR(VLOOKUP(先攻T!AD9,記号!$I$27:$J$30,2,FALSE),\"\")","v":"G"},{"$f":"IFERROR(VLOOKUP(先攻T!AF8,記号!$L$5:$M$21,2,FALSE),\"\")","v":""},{"$f":"IFERROR(VLOOKUP(先攻T!AF10,記号!$F$27:$G$37,2,FALSE),\"\")","v":""},{"$f":"IFERROR(VLOOKUP(先攻T!AE8,記号!$I$5:$J$23,2,FALSE),\"\")","v":""},null,{"$f":"IFERROR(VLOOKUP(先攻T!AP9,記号!$I$27:$J$30,2,FALSE),\"\")","v":""},{"$f":"IFERROR(VLOOKUP(先攻T!AR8,記号!$L$5:$M$21,2,FALSE),\"\")","v":""},{"$f":"IFERROR(VLOOKUP(先攻T!AR10,記号!$F$27:$G$37,2,FALSE),\"\")","v":""},{"$f":"IFERROR(VLOOKUP(先攻T!AQ8,記号!$I$5:$J$23,2,FALSE),\"\")","v":""},null,{"$f":"IFERROR(VLOOKUP(先攻T!BB9,記号!$I$27:$J$30,2,FALSE),\"\")","v":"G"},{"$f":"IFERROR(VLOOKUP(先攻T!BD8,記号!$L$5:$M$21,2,FALSE),\"\")","v":""},{"$f":"IFERROR(VLOOKUP(先攻T!BD10,記号!$F$27:$G$37,2,FALSE),\"\")","v":""},{"$f":"IFERROR(VLOOKUP(先攻T!BC8,記号!$I$5:$J$23,2,FALSE),\"\")","v":""},null,{"$f":"IFERROR(VLOOKUP(先攻T!BN9,記号!$I$27:$J$30,2,FALSE),\"\")","v":""},{"$f":"IFERROR(VLOOKUP(先攻T!BP8,記号!$L$5:$M$21,2,FALSE),\"\")","v":""},{"$f":"IFERROR(VLOOKUP(先攻T!BP10,記号!$F$27:$G$37,2,FALSE),\"\")","v":""},{"$f":"IFERROR(VLOOKUP(先攻T!BO8,記号!$I$5:$J$23,2,FALSE),\"\")","v":""},null,{"$f":"IFERROR(VLOOKUP(先攻T!BZ9,記号!$I$27:$J$30,2,FALSE),\"\")","v":"G"},{"$f":"IFERROR(VLOOKUP(先攻T!CB8,記号!$L$5:$M$21,2,FALSE),\"\")","v":""},{"$f":"IFERROR(VLOOKUP(先攻T!CB10,記号!$F$27:$G$37,2,FALSE),\"\")","v":""},{"$f":"IFERROR(VLOOKUP(先攻T!CA8,記号!$I$5:$J$23,2,FALSE),\"\")","v":""},null,{"$f":"IFERROR(VLOOKUP(先攻T!CL9,記号!$I$27:$J$30,2,FALSE),\"\")","v":""},{"$f":"IFERROR(VLOOKUP(先攻T!CN8,記号!$L$5:$M$21,2,FALSE),\"\")","v":""},{"$f":"IFERROR(VLOOKUP(先攻T!CN10,記号!$F$27:$G$37,2,FALSE),\"\")","v":""},{"$f":"IFERROR(VLOOKUP(先攻T!CM8,記号!$I$5:$J$23,2,FALSE),\"\")","v":""},null,{"$f":"IFERROR(VLOOKUP(先攻T!CX9,記号!$I$27:$J$30,2,FALSE),\"\")","v":""},{"$f":"IFERROR(VLOOKUP(先攻T!CZ8,記号!$L$5:$M$21,2,FALSE),\"\")","v":""},{"$f":"IFERROR(VLOOKUP(先攻T!CZ10,記号!$F$27:$G$37,2,FALSE),\"\")","v":""},{"$f":"IFERROR(VLOOKUP(先攻T!CY8,記号!$I$5:$J$23,2,FALSE),\"\")","v":""},null,{"$f":"IFERROR(VLOOKUP(先攻T!DJ9,記号!$I$27:$J$30,2,FALSE),\"\")","v":""},{"$f":"IFERROR(VLOOKUP(先攻T!DL8,記号!$L$5:$M$21,2,FALSE),\"\")","v":""},{"$f":"IFERROR(VLOOKUP(先攻T!DL10,記号!$F$27:$G$37,2,FALSE),\"\")","v":""},{"$f":"IFERROR(VLOOKUP(先攻T!DK8,記号!$I$5:$J$23,2,FALSE),\"\")","v":""},null,{"$f":"IFERROR(VLOOKUP(先攻T!DV9,記号!$I$27:$J$30,2,FALSE),\"\")","v":""},{"$f":"IFERROR(VLOOKUP(先攻T!DX8,記号!$L$5:$M$21,2,FALSE),\"\")","v":""},{"$f":"IFERROR(VLOOKUP(先攻T!DX10,記号!$F$27:$G$37,2,FALSE),\"\")","v":""},{"$f":"IFERROR(VLOOKUP(先攻T!DW8,記号!$I$5:$J$23,2,FALSE),\"\")","v":""},null,{"$f":"IFERROR(VLOOKUP(先攻T!EH9,記号!$I$27:$J$30,2,FALSE),\"\")","v":""},{"$f":"IFERROR(VLOOKUP(先攻T!EJ8,記号!$L$5:$M$21,2,FALSE),\"\")","v":""},{"$f":"IFERROR(VLOOKUP(先攻T!EJ10,記号!$F$27:$G$37,2,FALSE),\"\")","v":""},{"$f":"IFERROR(VLOOKUP(先攻T!EI8,記号!$I$5:$J$23,2,FALSE),\"\")","v":""},null,{"$f":"IF(K8=\"\",\"\",VLOOKUP(K8,$C$84:$E$89,3,FALSE))","v":""},{"$f":"IF(L8=\"\",\"\",(BX8+CG8+CH8+CI8))","v":""},"",{"$f":"IF(L8=\"\",\"\",COUNTIFS($N$5:$BU$5,L8,$N$10:$BU$10,$BY$3))","v":""},{"$f":"IF(L8=\"\",\"\",COUNTIFS($N$5:$BU$5,L8,$N$10:$BU$10,$BZ$3))","v":""},{"$f":"IF(L8=\"\",\"\",COUNTIFS($N$5:$BU$5,L8,$N$8:$BU$8,$CA$3))","v":""},{"$f":"IF(L8=\"\",\"\",COUNTIFS($N$5:$BU$5,L8,$N$8:$BU$8,$CB$3))","v":""},{"$f":"IF(L8=\"\",\"\",COUNTIFS($N$5:$BU$5,L8,$N$10:$BU$10,$CC$3))","v":""},{"$f":"IF(L8=\"\",\"\",SUMIF($N$5:$BU$5,L8,$N$10:$BU$10))","v":""},{"$f":"IF(L8=\"\",\"\",COUNTIFS($N$5:$BU$5,L8,$N$9:$BU$9,$CE$3))","v":""},{"$f":"IF(L8=\"\",\"\",COUNTIFS($N$5:$BU$5,L8,$N$10:$BU$10,$CF$3))","v":""},{"$f":"IF(L8=\"\",\"\",COUNTIFS($N$5:$BU$5,L8,$N$10:$BU$10,$CG$3))","v":""},{"$f":"IF(L8=\"\",\"\",COUNTIFS($N$5:$BU$5,L8,$N$10:$BU$10,$CH$3))","v":""},{"$f":"IF(L8=\"\",\"\",COUNTIFS($N$5:$BU$5,L8,$N$10:$BU$10,$CI$3))","v":""},{"$f":"IF(L8=\"\",\"\",COUNTIFS($N$5:$BU$5,L8,$N$10:$BU$10,$CJ$3))","v":""},{"$f":"IF(L8=\"\",\"\",COUNTIFS($N$5:$BU$5,L8,$N$8:$BU$8,$CK$3)+COUNTIFS($N$5:$BU$5,L8,$N$10:$BU$10,$CK$3))","v":""},{"$f":"IF(L8=\"\",\"\",COUNTIFS($N$5:$BU$5,L8,$N$8:$BU$8,$CL$3)+COUNTIFS($N$5:$BU$5,L8,$N$10:$BU$10,$CL$3))","v":""},{"$f":"IF(L8=\"\",\"\",COUNTIFS($N$5:$BU$5,L8,$N$10:$BU$10,$CM$3))","v":""},{"$f":"IF(L8=\"\",\"\",COUNTIFS($N$5:$BU$5,L8,$N$10:$BU$10,$CN$3))","v":""},{"$f":"IF(L8=\"\",\"\",COUNTIFS($N$5:$BU$5,L8,$N$6:$BU$6,$CO$3)+COUNTIFS($N$5:$BU$5,L8,$N$7:$BU$7,$CO$3))","v":""},null,"一ゴロ",null,null,null,null,"G","RR",4,"一",3,"先",null,null,null,"D","打川　和輝",5,4,4,1,2,0,0,0,0,0,1,0,0,0,0,0,1,0,0,13,"決勝",null,"",{"$f":"IF(EC8=\"\",\"\",VLOOKUP(EC8,$C$29:$D$58,2,FALSE))","v":""},{"$f":"IF(EC8=\"\",\"\",COUNTIFS($N$5:$BU$5,EC8,$N$10:$BU$10,\"RZ\"))","v":""},{"$f":"IF(ED8=\"\",\"\",COUNTIFS($N$5:$BU$5,EC8,$N$9:$BU$9,\"ZH\"))","v":""},null,"D","打川　和輝",5,0,0,null,"D","佐々木　大夢",{"$f":"IF(F6=\"\",\"\",F6)","v":7},"LL",0,0,0,0,0,0,0,0,0,0,0,0,0,0,0,0,0,0,0,null,"D","打川　和輝",5,0,0,0,0,0,2,0,1,0,"決勝",null,null,"","","","",4,{"$f":"IF(GC8=\"\",\"\",SUMIF($CP$71:$CP$123,GE8,$BY$71:$BY$123)+SUMIF($CP$71:$CP$123,GE8,$CF$71:$CF$123)+SUMIF($CP$71:$CP$123,GE8,$CI$71:$CI$123)+SUMIF($CP$71:$CP$123,GE8,$CJ$71:$CJ$123)+SUMIF($CP$71:$CP$123,GE8,$CL$71:$CL$123)+SUMIF($CP$71:$CP$123,GE8,$CM$71:$CM$123))","v":""},"","","","","","","",null,"","",null,"",null,null,null,null,null,null,null,null,null,null,null,null,null,null,null,null,null,null,null,null,null,null,null,null,null,null,null,null,"","",{"$f":"IF(HU8=\"\",\"\",COUNTIFS($N$5:$BU$5,HV8,$N$6:BU$6,HW$3)+COUNTIFS($N$5:$BU$5,HV8,$N$7:$BU$7,$HW$3))","v":""},"","","","",""]
[null,"⑤","中","大友　朝陽","RR",8,null,null,null,{"$f":"IF(L9=\"\",\"\",VLOOKUP(L9,$C$29:$D$58,2,FALSE))","v":""},null,null,null,{"$f":"IF(N5=\"\",\"\",IF(N5=L6+0.2,\"2\",IF(N5=L6+0.3,\"3\",IF(N5=L6+0.4,\"4\",IF(N5=L6+0.5,\"5\",\"先\")))))","v":"先"},{"$f":"IFERROR(VLOOKUP(先攻T!I10,記号!$F$27:$G$37,2,FALSE),\"\")","v":""},{"$f":"IFERROR(VLOOKUP(先攻T!J8,記号!$R$5:$S$10,2,FALSE),\"\")","v":"Ⅰ"},{"$f":"IFERROR(VLOOKUP(先攻T!G10,記号!$F$27:$G$37,2,FALSE),\"\")","v":""},{"$f":"IFERROR(VLOOKUP(先攻T!L8,記号!$U$12:$V$13,2,FALSE),\"\")","v":""},{"$f":"IF(S5=\"\",\"\",IF(S5=L6+0.2,\"2\",IF(S5=L6+0.3,\"3\",IF(S5=L6+0.4,\"4\",IF(S5=L6+0.5,\"5\",\"先\")))))","v":"先"},{"$f":"IFERROR(VLOOKUP(先攻T!U10,記号!$F$27:$G$37,2,FALSE),\"\")","v":""},{"$f":"IFERROR(VLOOKUP(先攻T!V8,記号!$R$5:$S$10,2,FALSE),\"\")","v":""},{"$f":"IFERROR(VLOOKUP(先攻T!S10,記号!$F$27:$G$37,2,FALSE),\"\")","v":""},{"$f":"IFERROR(VLOOKUP(先攻T!X8,記号!$U$12:$V$13,2,FALSE),\"\")","v":""},{"$f":"IF(X5=\"\",\"\",IF(X5=L6+0.2,\"2\",IF(X5=L6+0.3,\"3\",IF(X5=L6+0.4,\"4\",IF(X5=L6+0.5,\"5\",\"先\")))))","v":"先"},{"$f":"IFERROR(VLOOKUP(先攻T!AG10,記号!$F$27:$G$37,2,FALSE),\"\")","v":""},{"$f":"IFERROR(VLOOKUP(先攻T!AH8,記号!$R$5:$S$10,2,FALSE),\"\")","v":"Ⅰ"},{"$f":"IFERROR(VLOOKUP(先攻T!AE10,記号!$F$27:$G$37,2,FALSE),\"\")","v":""},{"$f":"IFERROR(VLOOKUP(先攻T!AJ8,記号!$U$12:$V$13,2,FALSE),\"\")","v":""},{"$f":"IF(AC5=\"\",\"\",IF(AC5=L6+0.2,\"2\",IF(AC5=L6+0.3,\"3\",IF(AC5=L6+0.4,\"4\",IF(AC5=L6+0.5,\"5\",\"先\")))))","v":"先"},{"$f":"IFERROR(VLOOKUP(先攻T!AS10,記号!$F$27:$G$37,2,FALSE),\"\")","v":""},{"$f":"IFERROR(VLOOKUP(先攻T!AT8,記号!$R$5:$S$10,2,FALSE),\"\")","v":""},{"$f":"IFERROR(VLOOKUP(先攻T!AQ10,記号!$F$27:$G$37,2,FALSE),\"\")","v":""},{"$f":"IFERROR(VLOOKUP(先攻T!AV8,記号!$U$12:$V$13,2,FALSE),\"\")","v":""},{"$f":"IF(AH5=\"\",\"\",IF(AH5=L6+0.2,\"2\",IF(AH5=L6+0.3,\"3\",IF(AH5=L6+0.4,\"4\",IF(AH5=L6+0.5,\"5\",\"先\")))))","v":"先"},{"$f":"IFERROR(VLOOKUP(先攻T!BE10,記号!$F$27:$G$37,2,FALSE),\"\")","v":""},{"$f":"IFERROR(VLOOKUP(先攻T!BF8,記号!$R$5:$S$10,2,FALSE),\"\")","v":"Ⅱ"},{"$f":"IFERROR(VLOOKUP(先攻T!BC10,記号!$F$27:$G$37,2,FALSE),\"\")","v":""},{"$f":"IFERROR(VLOOKUP(先攻T!BH8,記号!$U$12:$V$13,2,FALSE),\"\")","v":""},{"$f":"IF(AM5=\"\",\"\",IF(AM5=L6+0.2,\"2\",IF(AM5=L6+0.3,\"3\",IF(AM5=L6+0.4,\"4\",IF(AM5=L6+0.5,\"5\",\"先\")))))","v":"先"},{"$f":"IFERROR(VLOOKUP(先攻T!BQ10,記号!$F$27:$G$37,2,FALSE),\"\")","v":""},{"$f":"IFERROR(VLOOKUP(先攻T!BR8,記号!$R$5:$S$10,2,FALSE),\"\")","v":""},{"$f":"IFERROR(VLOOKUP(先攻T!BO10,記号!$F$27:$G$37,2,FALSE),\"\")","v":""},{"$f":"IFERROR(VLOOKUP(先攻T!BT8,記号!$U$12:$V$13,2,FALSE),\"\")","v":""},{"$f":"IF(AR5=\"\",\"\",IF(AR5=L6+0.2,\"2\",IF(AR5=L6+0.3,\"3\",IF(AR5=L6+0.4,\"4\",IF(AR5=L6+0.5,\"5\",\"先\")))))","v":"先"},{"$f":"IFERROR(VLOOKUP(先攻T!CC10,記号!$F$27:$G$37,2,FALSE),\"\")","v":""},{"$f":"IFERROR(VLOOKUP(先攻T!CD8,記号!$R$5:$S$10,2,FALSE),\"\")","v":"Ⅲ"},{"$f":"IFERROR(VLOOKUP(先攻T!CA10,記号!$F$27:$G$37,2,FALSE),\"\")","v":""},{"$f":"IFERROR(VLOOKUP(先攻T!CF8,記号!$U$12:$V$13,2,FALSE),\"\")","v":""},{"$f":"IF(AW5=\"\",\"\",IF(AW5=L6+0.2,\"2\",IF(AW5=L6+0.3,\"3\",IF(AW5=L6+0.4,\"4\",IF(AW5=L6+0.5,\"5\",\"先\")))))","v":"先"},{"$f":"IFERROR(VLOOKUP(先攻T!CO10,記号!$F$27:$G$37,2,FALSE),\"\")","v":""},{"$f":"IFERROR(VLOOKUP(先攻T!CP8,記号!$R$5:$S$10,2,FALSE),\"\")","v":""},{"$f":"IFERROR(VLOOKUP(先攻T!CM10,記号!$F$27:$G$37,2,FALSE),\"\")","v":""},{"$f":"IFERROR(VLOOKUP(先攻T!CR8,記号!$U$12:$V$13,2,FALSE),\"\")","v":""},{"$f":"IF(BB5=\"\",\"\",IF(BB5=L6+0.2,\"2\",IF(BB5=L6+0.3,\"3\",IF(BB5=L6+0.4,\"4\",IF(BB5=L6+0.5,\"5\",\"先\")))))","v":"先"},{"$f":"IFERROR(VLOOKUP(先攻T!DA10,記号!$F$27:$G$37,2,FALSE),\"\")","v":""},{"$f":"IFERROR(VLOOKUP(先攻T!DB8,記号!$R$5:$S$10,2,FALSE),\"\")","v":""},{"$f":"IFERROR(VLOOKUP(先攻T!CY10,記号!$F$27:$G$37,2,FALSE),\"\")","v":""},{"$f":"IFERROR(VLOOKUP(先攻T!DD8,記号!$U$12:$V$13,2,FALSE),\"\")","v":""},{"$f":"IF(BG5=\"\",\"\",IF(BG5=L6+0.2,\"2\",IF(BG5=L6+0.3,\"3\",IF(BG5=L6+0.4,\"4\",IF(BG5=L6+0.5,\"5\",\"先\")))))","v":"先"},{"$f":"IFERROR(VLOOKUP(先攻T!DM10,記号!$F$27:$G$37,2,FALSE),\"\")","v":""},{"$f":"IFERROR(VLOOKUP(先攻T!DN8,記号!$R$5:$S$10,2,FALSE),\"\")","v":""},{"$f":"IFERROR(VLOOKUP(先攻T!DK10,記号!$F$27:$G$37,2,FALSE),\"\")","v":""},{"$f":"IFERROR(VLOOKUP(先攻T!DP8,記号!$U$12:$V$13,2,FALSE),\"\")","v":""},{"$f":"IF(BL5=\"\",\"\",IF(BL5=L6+0.2,\"2\",IF(BL5=L6+0.3,\"3\",IF(BL5=L6+0.4,\"4\",IF(BL5=L6+0.5,\"5\",\"先\")))))","v":"先"},{"$f":"IFERROR(VLOOKUP(先攻T!DY10,記号!$F$27:$G$37,2,FALSE),\"\")","v":""},{"$f":"IFERROR(VLOOKUP(先攻T!DZ8,記号!$R$5:$S$10,2,FALSE),\"\")","v":""},{"$f":"IFERROR(VLOOKUP(先攻T!DW10,記号!$F$27:$G$37,2,FALSE),\"\")","v":""},{"$f":"IFERROR(VLOOKUP(先攻T!EB8,記号!$U$12:$V$13,2,FALSE),\"\")","v":""},{"$f":"IF(BQ5=\"\",\"\",IF(BQ5=L6+0.2,\"2\",IF(BQ5=L6+0.3,\"3\",IF(BQ5=L6+0.4,\"4\",IF(BQ5=L6+0.5,\"5\",\"先\")))))","v":"先"},{"$f":"IFERROR(VLOOKUP(先攻T!EK10,記号!$F$27:$G$37,2,FALSE),\"\")","v":""},{"$f":"IFERROR(VLOOKUP(先攻T!EL8,記号!$R$5:$S$10,2,FALSE),\"\")","v":""},{"$f":"IFERROR(VLOOKUP(先攻T!EI10,記号!$F$27:$G$37,2,FALSE),\"\")","v":""},{"$f":"IFERROR(VLOOKUP(先攻T!EN8,記号!$U$12:$V$13,2,FALSE),\"\")","v":""},{"$f":"IF(K9=\"\",\"\",VLOOKUP(K9,$C$84:$E$89,3,FALSE))","v":""},{"$f":"IF(L9=\"\",\"\",(BX9+CG9+CH9+CI9))","v":""},"",{"$f":"IF(L9=\"\",\"\",COUNTIFS($N$5:$BU$5,L9,$N$10:$BU$10,$BY$3))","v":""},{"$f":"IF(L9=\"\",\"\",COUNTIFS($N$5:$BU$5,L9,$N$10:$BU$10,$BZ$3))","v":""},{"$f":"IF(L9=\"\",\"\",COUNTIFS($N$5:$BU$5,L9,$N$8:$BU$8,$CA$3))","v":""},{"$f":"IF(L9=\"\",\"\",COUNTIFS($N$5:$BU$5,L9,$N$8:$BU$8,$CB$3))","v":""},{"$f":"IF(L9=\"\",\"\",COUNTIFS($N$5:$BU$5,L9,$N$10:$BU$10,$CC$3))","v":""},{"$f":"IF(L9=\"\",\"\",SUMIF($N$5:$BU$5,L9,$N$10:$BU$10))","v":""},{"$f":"IF(L9=\"\",\"\",COUNTIFS($N$5:$BU$5,L9,$N$9:$BU$9,$CE$3))","v":""},{"$f":"IF(L9=\"\",\"\",COUNTIFS($N$5:$BU$5,L9,$N$10:$BU$10,$CF$3))","v":""},{"$f":"IF(L9=\"\",\"\",COUNTIFS($N$5:$BU$5,L9,$N$10:$BU$10,$CG$3))","v":""},{"$f":"IF(L9=\"\",\"\",COUNTIFS($N$5:$BU$5,L9,$N$10:$BU$10,$CH$3))","v":""},{"$f":"IF(L9=\"\",\"\",COUNTIFS($N$5:$BU$5,L9,$N$10:$BU$10,$CI$3))","v":""},{"$f":"IF(L9=\"\",\"\",COUNTIFS($N$5:$BU$5,L9,$N$10:$BU$10,$CJ$3))","v":""},{"$f":"IF(L9=\"\",\"\",COUNTIFS($N$5:$BU$5,L9,$N$8:$BU$8,$CK$3)+COUNTIFS($N$5:$BU$5,L9,$N$10:$BU$10,$CK$3))","v":""},{"$f":"IF(L9=\"\",\"\",COUNTIFS($N$5:$BU$5,L9,$N$8:$BU$8,$CL$3)+COUNTIFS($N$5:$BU$5,L9,$N$10:$BU$10,$CL$3))","v":""},{"$f":"IF(L9=\"\",\"\",COUNTIFS($N$5:$BU$5,L9,$N$10:$BU$10,$CM$3))","v":""},{"$f":"IF(L9=\"\",\"\",COUNTIFS($N$5:$BU$5,L9,$N$10:$BU$10,$CN$3))","v":""},{"$f":"IF(L9=\"\",\"\",COUNTIFS($N$5:$BU$5,L9,$N$6:$BU$6,$CO$3)+COUNTIFS($N$5:$BU$5,L9,$N$7:$BU$7,$CO$3))","v":""},null,"二ゴロ",null,null,null,null,"G","RR",4,"二",4,"先",null,null,null,"D","大友　朝陽",8,4,2,1,0,0,0,0,0,0,1,0,0,2,0,0,0,0,0,9,"決勝",null,"",{"$f":"IF(EC9=\"\",\"\",VLOOKUP(EC9,$C$29:$D$58,2,FALSE))","v":""},{"$f":"IF(EC9=\"\",\"\",COUNTIFS($N$5:$BU$5,EC9,$N$10:$BU$10,\"RZ\"))","v":""},{"$f":"IF(ED9=\"\",\"\",COUNTIFS($N$5:$BU$5,EC9,$N$9:$BU$9,\"ZH\"))","v":""},null,"D","大友　朝陽",8,0,0,null,"D","吉田　輝星",{"$f":"IF(F7=\"\",\"\",F7)","v":1},"RR",4,4,3,0,0,0,0,0,0,1,0,0,0,0,0,0,0,0,8,null,"D","大友　朝陽",8,3,0,0,0,0,0,0,0,0,"決勝",null,null,"","","","",5,"","","","","","","","",null,"","",null,"",null,null,null,null,null,null,null,null,null,null,null,null,null,null,null,null,null,null,null,null,null,null,null,null,null,null,null,null,"","",{"$f":"IF(HU9=\"\",\"\",COUNTIFS($N$5:$BU$5,HV9,$N$6:BU$6,HW$3)+COUNTIFS($N$5:$BU$5,HV9,$N$7:$BU$7,$HW$3))","v":""},"","","","",""]
[null,"⑥","三","高橋　佑輔","RR",3,null,null,null,{"$f":"IF(L10=\"\",\"\",VLOOKUP(L10,$C$29:$D$58,2,FALSE))","v":""},null,null,null,{"$f":"IFERROR(VLOOKUP(先攻T!K8,記号!$R$15:$S$20,2,FALSE),\"\")","v":""},{"$f":"IFERROR(VLOOKUP(先攻T!I8,記号!$O$5:$P$21,2,FALSE),\"\")","v":""},{"$f":"IFERROR(VLOOKUP(先攻T!F10,記号!$F$27:$G$37,2,FALSE),\"\")","v":"4'"},{"$f":"IFERROR(VLOOKUP(先攻T!F8,記号!$F$5:$G$21,2,FALSE),\"\")","v":"O"},{"$f":"IFERROR(VLOOKUP(先攻T!L9,記号!$U$5:$V$6,2,FALSE),\"\")","v":""},{"$f":"IFERROR(VLOOKUP(先攻T!W8,記号!$R$15:$S$20,2,FALSE),\"\")","v":""},{"$f":"IFERROR(VLOOKUP(先攻T!U8,記号!$O$5:$P$21,2,FALSE),\"\")","v":""},{"$f":"IFERROR(VLOOKUP(先攻T!R10,記号!$F$27:$G$37,2,FALSE),\"\")","v":""},{"$f":"IFERROR(VLOOKUP(先攻T!R8,記号!$F$5:$G$21,2,FALSE),\"\")","v":""},{"$f":"IFERROR(VLOOKUP(先攻T!X9,記号!$U$5:$V$6,2,FALSE),\"\")","v":""},{"$f":"IFERROR(VLOOKUP(先攻T!AI8,記号!$R$15:$S$20,2,FALSE),\"\")","v":""},{"$f":"IFERROR(VLOOKUP(先攻T!AG8,記号!$O$5:$P$21,2,FALSE),\"\")","v":""},{"$f":"IFERROR(VLOOKUP(先攻T!AD10,記号!$F$27:$G$37,2,FALSE),\"\")","v":"2'"},{"$f":"IFERROR(VLOOKUP(先攻T!AD8,記号!$F$5:$G$21,2,FALSE),\"\")","v":"G"},{"$f":"IFERROR(VLOOKUP(先攻T!AJ9,記号!$U$5:$V$16,2,FALSE),\"\")","v":""},{"$f":"IFERROR(VLOOKUP(先攻T!AU8,記号!$R$15:$S$20,2,FALSE),\"\")","v":""},{"$f":"IFERROR(VLOOKUP(先攻T!AS8,記号!$O$5:$P$21,2,FALSE),\"\")","v":""},{"$f":"IFERROR(VLOOKUP(先攻T!AP10,記号!$F$27:$G$37,2,FALSE),\"\")","v":""},{"$f":"IFERROR(VLOOKUP(先攻T!AP8,記号!$F$5:$G$21,2,FALSE),\"\")","v":""},{"$f":"IFERROR(VLOOKUP(先攻T!AV9,記号!$U$5:$V$6,2,FALSE),\"\")","v":""},{"$f":"IFERROR(VLOOKUP(先攻T!BG8,記号!$R$15:$S$20,2,FALSE),\"\")","v":""},{"$f":"IFERROR(VLOOKUP(先攻T!BE8,記号!$O$5:$P$21,2,FALSE),\"\")","v":""},{"$f":"IFERROR(VLOOKUP(先攻T!BB10,記号!$F$27:$G$37,2,FALSE),\"\")","v":"3'"},{"$f":"IFERROR(VLOOKUP(先攻T!BB8,記号!$F$5:$G$21,2,FALSE),\"\")","v":"O"},{"$f":"IFERROR(VLOOKUP(先攻T!BH9,記号!$U$5:$V$6,2,FALSE),\"\")","v":""},{"$f":"IFERROR(VLOOKUP(先攻T!BS8,記号!$R$15:$S$20,2,FALSE),\"\")","v":""},{"$f":"IFERROR(VLOOKUP(先攻T!BQ8,記号!$O$5:$P$21,2,FALSE),\"\")","v":""},{"$f":"IFERROR(VLOOKUP(先攻T!BN10,記号!$F$27:$G$37,2,FALSE),\"\")","v":""},{"$f":"IFERROR(VLOOKUP(先攻T!BN8,記号!$F$5:$G$21,2,FALSE),\"\")","v":""},{"$f":"IFERROR(VLOOKUP(先攻T!BT9,記号!$U$5:$V$6,2,FALSE),\"\")","v":""},{"$f":"IFERROR(VLOOKUP(先攻T!CE8,記号!$R$15:$S$20,2,FALSE),\"\")","v":""},{"$f":"IFERROR(VLOOKUP(先攻T!CC8,記号!$O$5:$P$21,2,FALSE),\"\")","v":""},{"$f":"IFERROR(VLOOKUP(先攻T!BZ10,記号!$F$27:$G$37,2,FALSE),\"\")","v":"4'"},{"$f":"IFERROR(VLOOKUP(先攻T!BZ8,記号!$F$5:$G$21,2,FALSE),\"\")","v":"O"},{"$f":"IFERROR(VLOOKUP(先攻T!CF9,記号!$U$5:$V$6,2,FALSE),\"\")","v":"RZ"},{"$f":"IFERROR(VLOOKUP(先攻T!CQ8,記号!$R$15:$S$20,2,FALSE),\"\")","v":""},{"$f":"IFERROR(VLOOKUP(先攻T!CO8,記号!$O$5:$P$21,2,FALSE),\"\")","v":""},{"$f":"IFERROR(VLOOKUP(先攻T!CL10,記号!$F$27:$G$37,2,FALSE),\"\")","v":""},{"$f":"IFERROR(VLOOKUP(先攻T!CL8,記号!$F$5:$G$21,2,FALSE),\"\")","v":""},{"$f":"IFERROR(VLOOKUP(先攻T!CR9,記号!$U$6:$V$15,2,FALSE),\"\")","v":""},{"$f":"IFERROR(VLOOKUP(先攻T!DC8,記号!$R$15:$S$20,2,FALSE),\"\")","v":""},{"$f":"IFERROR(VLOOKUP(先攻T!DA8,記号!$O$5:$P$21,2,FALSE),\"\")","v":""},{"$f":"IFERROR(VLOOKUP(先攻T!CX10,記号!$F$27:$G$37,2,FALSE),\"\")","v":""},{"$f":"IFERROR(VLOOKUP(先攻T!CX8,記号!$F$5:$G$21,2,FALSE),\"\")","v":""},{"$f":"IFERROR(VLOOKUP(先攻T!DD9,記号!$U$5:$V$6,2,FALSE),\"\")","v":""},{"$f":"IFERROR(VLOOKUP(先攻T!DO8,記号!$R$15:$S$20,2,FALSE),\"\")","v":""},{"$f":"IFERROR(VLOOKUP(先攻T!DM8,記号!$O$5:$P$21,2,FALSE),\"\")","v":""},{"$f":"IFERROR(VLOOKUP(先攻T!DJ10,記号!$F$27:$G$37,2,FALSE),\"\")","v":""},{"$f":"IFERROR(VLOOKUP(先攻T!DJ8,記号!$F$5:$G$21,2,FALSE),\"\")","v":""},{"$f":"IFERROR(VLOOKUP(先攻T!DP9,記号!$U$5:$V$6,2,FALSE),\"\")","v":""},{"$f":"IFERROR(VLOOKUP(先攻T!EA8,記号!$R$15:$S$20,2,FALSE),\"\")","v":""},{"$f":"IFERROR(VLOOKUP(先攻T!DY8,記号!$O$5:$P$21,2,FALSE),\"\")","v":""},{"$f":"IFERROR(VLOOKUP(先攻T!DV10,記号!$F$27:$G$37,2,FALSE),\"\")","v":""},{"$f":"IFERROR(VLOOKUP(先攻T!DV8,記号!$F$5:$G$21,2,FALSE),\"\")","v":""},{"$f":"IFERROR(VLOOKUP(先攻T!EB9,記号!$U$5:$V$6,2,FALSE),\"\")","v":""},{"$f":"IFERROR(VLOOKUP(先攻T!EM8,記号!$R$15:$S$20,2,FALSE),\"\")","v":""},{"$f":"IFERROR(VLOOKUP(先攻T!EK8,記号!$O$5:$P$21,2,FALSE),\"\")","v":""},{"$f":"IFERROR(VLOOKUP(先攻T!EH10,記号!$F$27:$G$37,2,FALSE),\"\")","v":""},{"$f":"IFERROR(VLOOKUP(先攻T!EH8,記号!$F$5:$G$21,2,FALSE),\"\")","v":""},{"$f":"IFERROR(VLOOKUP(先攻T!EN9,記号!$U$5:$V$6,2,FALSE),\"\")","v":""},{"$f":"IF(K10=\"\",\"\",VLOOKUP(K10,$C$84:$E$89,3,FALSE))","v":""},{"$f":"IF(L10=\"\",\"\",(BX10+CG10+CH10+CI10))","v":""},"",{"$f":"IF(L10=\"\",\"\",COUNTIFS($N$5:$BU$5,L10,$N$10:$BU$10,$BY$3))","v":""},{"$f":"IF(L10=\"\",\"\",COUNTIFS($N$5:$BU$5,L10,$N$10:$BU$10,$BZ$3))","v":""},{"$f":"IF(L10=\"\",\"\",COUNTIFS($N$5:$BU$5,L10,$N$8:$BU$8,$CA$3))","v":""},{"$f":"IF(L10=\"\",\"\",COUNTIFS($N$5:$BU$5,L10,$N$8:$BU$8,$CB$3))","v":""},{"$f":"IF(L10=\"\",\"\",COUNTIFS($N$5:$BU$5,L10,$N$10:$BU$10,$CC$3))","v":""},{"$f":"IF(L10=\"\",\"\",SUMIF($N$5:$BU$5,L10,$N$10:$BU$10))","v":""},{"$f":"IF(L10=\"\",\"\",COUNTIFS($N$5:$BU$5,L10,$N$9:$BU$9,$CE$3))","v":""},{"$f":"IF(L10=\"\",\"\",COUNTIFS($N$5:$BU$5,L10,$N$10:$BU$10,$CF$3))","v":""},{"$f":"IF(L10=\"\",\"\",COUNTIFS($N$5:$BU$5,L10,$N$10:$BU$10,$CG$3))","v":""},{"$f":"IF(L10=\"\",\"\",COUNTIFS($N$5:$BU$5,L10,$N$10:$BU$10,$CH$3))","v":""},{"$f":"IF(L10=\"\",\"\",COUNTIFS($N$5:$BU$5,L10,$N$10:$BU$10,$CI$3))","v":""},{"$f":"IF(L10=\"\",\"\",COUNTIFS($N$5:$BU$5,L10,$N$10:$BU$10,$CJ$3))","v":""},{"$f":"IF(L10=\"\",\"\",COUNTIFS($N$5:$BU$5,L10,$N$8:$BU$8,$CK$3)+COUNTIFS($N$5:$BU$5,L10,$N$10:$BU$10,$CK$3))","v":""},{"$f":"IF(L10=\"\",\"\",COUNTIFS($N$5:$BU$5,L10,$N$8:$BU$8,$CL$3)+COUNTIFS($N$5:$BU$5,L10,$N$10:$BU$10,$CL$3))","v":""},{"$f":"IF(L10=\"\",\"\",COUNTIFS($N$5:$BU$5,L10,$N$10:$BU$10,$CM$3))","v":""},{"$f":"IF(L10=\"\",\"\",COUNTIFS($N$5:$BU$5,L10,$N$10:$BU$10,$CN$3))","v":""},{"$f":"IF(L10=\"\",\"\",COUNTIFS($N$5:$BU$5,L10,$N$6:$BU$6,$CO$3)+COUNTIFS($N$5:$BU$5,L10,$N$7:$BU$7,$CO$3))","v":""},null,null,null,null,null,null,null,"",null,null,"",null,null,null,null,"D","高橋　佑輔",3,4,4,1,2,0,0,0,0,1,1,0,0,0,0,1,0,0,0,17,"決勝",null,"",{"$f":"IF(EC10=\"\",\"\",VLOOKUP(EC10,$C$29:$D$58,2,FALSE))","v":""},{"$f":"IF(EC10=\"\",\"\",COUNTIFS($N$5:$BU$5,EC10,$N$10:$BU$10,\"RZ\"))","v":""},{"$f":"IF(ED10=\"\",\"\",COUNTIFS($N$5:$BU$5,EC10,$N$9:$BU$9,\"ZH\"))","v":""},null,"D","高橋　佑輔",3,1,0,null,"D","吉田　輝星",{"$f":"IF(F7=\"\",\"\",F7)","v":1},"LL",0,0,0,0,0,0,0,0,0,0,0,0,0,0,0,0,0,0,0,null,"D","高橋　佑輔",3,0,0,0,0,0,1,0,1,1,"決勝",null,null,"","","","",6,"","","","","","","","",null,"","",null,"",null,null,null,null,null,null,null,null,null,null,null,null,null,null,null,null,null,null,null,null,null,null,null,null,null,null,null,null,"","",{"$f":"IF(HU10=\"\",\"\",COUNTIFS($N$5:$BU$5,HV10,$N$6:BU$6,HW$3)+COUNTIFS($N$5:$BU$5,HV10,$N$7:$BU$7,$HW$3))","v":""},"","","","",""]
[null,"⑦","右","菊池　彪吾","RR",9,null,null,null,null,null,null,"打者背番号を入力➡",{"$f":"先攻T!E11","v":7},{"$f":"N11","v":7},{"$f":"N11","v":7},{"$f":"N11","v":7},{"$f":"N11","v":7},{"$f":"先攻T!Q11","v":7},{"$f":"S11","v":7},{"$f":"S11","v":7},{"$f":"S11","v":7},{"$f":"S11","v":7},{"$f":"先攻T!AC11","v":7},{"$f":"X11","v":7},{"$f":"X11","v":7},{"$f":"X11","v":7},{"$f":"X11","v":7},{"$f":"先攻T!AO11","v":7},{"$f":"AC11","v":7},{"$f":"AC11","v":7},{"$f":"AC11","v":7},{"$f":"AC11","v":7},{"$f":"先攻T!BA11","v":7},{"$f":"AH11","v":7},{"$f":"AH11","v":7},{"$f":"AH11","v":7},{"$f":"AH11","v":7},{"$f":"先攻T!BM11","v":7},{"$f":"AM11","v":7},{"$f":"AM11","v":7},{"$f":"AM11","v":7},{"$f":"AM11","v":7},{"$f":"先攻T!BY11","v":7},{"$f":"AR11","v":7},{"$f":"AR11","v":7},{"$f":"AR11","v":7},{"$f":"AR11","v":7},{"$f":"先攻T!CK11","v":7},{"$f":"AW11","v":7},{"$f":"AW11","v":7},{"$f":"AW11","v":7},{"$f":"AW11","v":7},{"$f":"先攻T!CW11","v":7},{"$f":"BB11","v":7},{"$f":"BB11","v":7},{"$f":"BB11","v":7},{"$f":"BB11","v":7},{"$f":"先攻T!DI11","v":7},{"$f":"BG11","v":7},{"$f":"BG11","v":7},{"$f":"BG11","v":7},{"$f":"BG11","v":7},{"$f":"先攻T!DU11","v":7},{"$f":"BL11","v":7},{"$f":"BL11","v":7},{"$f":"BL11","v":7},{"$f":"BL11","v":7},{"$f":"先攻T!EG11","v":7},{"$f":"BQ11","v":7},{"$f":"BQ11","v":7},{"$f":"BQ11","v":7},{"$f":"BQ11","v":7},null,null,null,null,null,null,null,null,null,null,null,null,null,null,null,null,null,null,null,null,null,null,null,null,null,null,null,null,null,null,null,null,null,null,null,"D","菊池　彪吾",9,4,{"$f":"IF(DF11=\"\",\"\",SUMIFS($BX$6:$BX$58,$J$6:$J$58,DF11))","v":2},2,0,0,0,0,0,0,0,2,0,0,0,0,0,0,0,17,"決勝",null,null,null,null,null,null,"D","菊池　彪吾",9,0,0,null,"D","打川　和輝",{"$f":"IF(F8=\"\",\"\",F8)","v":5},"RR",4,4,1,2,0,0,0,0,0,1,0,0,0,0,0,1,0,0,13,null,"D","菊池　彪吾",9,0,0,1,0,0,0,0,1,0,"決勝"]
[null,"⑧","捕","菊池　亮太","RR",2,null,null,{"$f":"IF(C6=\"\",\"\",C6)","v":"左"},{"$f":"IF(D6=\"\",\"\",D6)","v":"佐々木　大夢"},{"$f":"IF(J12=\"\",\"\",\"先\")","v":"先"},{"$f":"IF(F6=\"\",\"\",F6)","v":7},"②",{"$f":"IFERROR(VLOOKUP(先攻T!F13,記号!$B$6:$C$10,2,FALSE),\"\")","v":"・□"},{"$f":"IFERROR(VLOOKUP(先攻T!G13,記号!$B$6:$C$10,2,FALSE),\"\")","v":"・●"},{"$f":"IFERROR(VLOOKUP(先攻T!H13,記号!$B$6:$C$10,2,FALSE),\"\")","v":"・●"},{"$f":"IFERROR(VLOOKUP(先攻T!I13,記号!$B$6:$C$10,2,FALSE),\"\")","v":"・〇"},{"$f":"IFERROR(VLOOKUP(先攻T!J13,記号!$B$6:$C$10,2,FALSE),\"\")","v":"・●"},{"$f":"IFERROR(VLOOKUP(先攻T!R13,記号!$B$6:$C$10,2,FALSE),\"\")","v":""},{"$f":"IFERROR(VLOOKUP(先攻T!S13,記号!$B$6:$C$10,2,FALSE),\"\")","v":""},{"$f":"IFERROR(VLOOKUP(先攻T!T13,記号!$B$6:$C$10,2,FALSE),\"\")","v":""},{"$f":"IFERROR(VLOOKUP(先攻T!U13,記号!$B$6:$C$10,2,FALSE),\"\")","v":""},{"$f":"IFERROR(VLOOKUP(先攻T!V13,記号!$B$6:$C$10,2,FALSE),\"\")","v":""},{"$f":"IFERROR(VLOOKUP(先攻T!AD13,記号!$B$6:$C$10,2,FALSE),\"\")","v":"・●"},{"$f":"IFERROR(VLOOKUP(先攻T!AE13,記号!$B$6:$C$10,2,FALSE),\"\")","v":"・◎"},{"$f":"IFERROR(VLOOKUP(先攻T!AF13,記号!$B$6:$C$10,2,FALSE),\"\")","v":""},{"$f":"IFERROR(VLOOKUP(先攻T!AG13,記号!$B$6:$C$10,2,FALSE),\"\")","v":""},{"$f":"IFERROR(VLOOKUP(先攻T!AH13,記号!$B$6:$C$10,2,FALSE),\"\")","v":""},{"$f":"IFERROR(VLOOKUP(先攻T!AP13,記号!$B$6:$C$10,2,FALSE),\"\")","v":""},{"$f":"IFERROR(VLOOKUP(先攻T!AQ13,記号!$B$6:$C$10,2,FALSE),\"\")","v":""},{"$f":"IFERROR(VLOOKUP(先攻T!AR13,記号!$B$6:$C$10,2,FALSE),\"\")","v":""},{"$f":"IFERROR(VLOOKUP(先攻T!AS13,記号!$B$6:$C$10,2,FALSE),\"\")","v":""},{"$f":"IFERROR(VLOOKUP(先攻T!AT13,記号!$B$6:$C$10,2,FALSE),\"\")","v":""},{"$f":"IFERROR(VLOOKUP(先攻T!BB13,記号!$B$6:$C$10,2,FALSE),\"\")","v":"・〇"},{"$f":"IFERROR(VLOOKUP(先攻T!BC13,記号!$B$6:$C$10,2,FALSE),\"\")","v":"・〇"},{"$f":"IFERROR(VLOOKUP(先攻T!BD13,記号!$B$6:$C$10,2,FALSE),\"\")","v":"・〇"},{"$f":"IFERROR(VLOOKUP(先攻T!BE13,記号!$B$6:$C$10,2,FALSE),\"\")","v":""},{"$f":"IFERROR(VLOOKUP(先攻T!BF13,記号!$B$6:$C$10,2,FALSE),\"\")","v":""},{"$f":"IFERROR(VLOOKUP(先攻T!BN13,記号!$B$6:$C$10,2,FALSE),\"\")","v":""},{"$f":"IFERROR(VLOOKUP(先攻T!BO13,記号!$B$6:$C$10,2,FALSE),\"\")","v":""},{"$f":"IFERROR(VLOOKUP(先攻T!BP13,記号!$B$6:$C$10,2,FALSE),\"\")","v":""},{"$f":"IFERROR(VLOOKUP(先攻T!BQ13,記号!$B$6:$C$10,2,FALSE),\"\")","v":""},{"$f":"IFERROR(VLOOKUP(先攻T!BR13,記号!$B$6:$C$10,2,FALSE),\"\")","v":""},{"$f":"IFERROR(VLOOKUP(先攻T!BZ13,記号!$B$6:$C$10,2,FALSE),\"\")","v":""},{"$f":"IFERROR(VLOOKUP(先攻T!CA13,記号!$B$6:$C$10,2,FALSE),\"\")","v":""},{"$f":"IFERROR(VLOOKUP(先攻T!CB13,記号!$B$6:$C$10,2,FALSE),\"\")","v":""},{"$f":"IFERROR(VLOOKUP(先攻T!CC13,記号!$B$6:$C$10,2,FALSE),\"\")","v":""},{"$f":"IFERROR(VLOOKUP(先攻T!CD13,記号!$B$6:$C$10,2,FALSE),\"\")","v":""},{"$f":"IFERROR(VLOOKUP(先攻T!CL13,記号!$B$6:$C$10,2,FALSE),\"\")","v":"・●"},{"$f":"IFERROR(VLOOKUP(先攻T!CM13,記号!$B$6:$C$10,2,FALSE),\"\")","v":"・△"},{"$f":"IFERROR(VLOOKUP(先攻T!CN13,記号!$B$6:$C$10,2,FALSE),\"\")","v":"・●"},{"$f":"IFERROR(VLOOKUP(先攻T!CO13,記号!$B$6:$C$10,2,FALSE),\"\")","v":"・□"},{"$f":"IFERROR(VLOOKUP(先攻T!CP13,記号!$B$6:$C$10,2,FALSE),\"\")","v":"・〇"},{"$f":"IFERROR(VLOOKUP(先攻T!CX13,記号!$B$6:$C$10,2,FALSE),\"\")","v":""},{"$f":"IFERROR(VLOOKUP(先攻T!CY13,記号!$B$6:$C$10,2,FALSE),\"\")","v":""},{"$f":"IFERROR(VLOOKUP(先攻T!CZ13,記号!$B$6:$C$10,2,FALSE),\"\")","v":""},{"$f":"IFERROR(VLOOKUP(先攻T!DA13,記号!$B$6:$C$10,2,FALSE),\"\")","v":""},{"$f":"IFERROR(VLOOKUP(先攻T!DB13,記号!$B$6:$C$10,2,FALSE),\"\")","v":""},{"$f":"IFERROR(VLOOKUP(先攻T!DJ13,記号!$B$6:$C$10,2,FALSE),\"\")","v":""},{"$f":"IFERROR(VLOOKUP(先攻T!DK13,記号!$B$6:$C$10,2,FALSE),\"\")","v":""},{"$f":"IFERROR(VLOOKUP(先攻T!DL13,記号!$B$6:$C$10,2,FALSE),\"\")","v":""},{"$f":"IFERROR(VLOOKUP(先攻T!DM13,記号!$B$6:$C$10,2,FALSE),\"\")","v":""},{"$f":"IFERROR(VLOOKUP(先攻T!DN13,記号!$B$6:$C$10,2,FALSE),\"\")","v":""},{"$f":"IFERROR(VLOOKUP(先攻T!DV13,記号!$B$6:$C$10,2,FALSE),\"\")","v":""},{"$f":"IFERROR(VLOOKUP(先攻T!DW13,記号!$B$6:$C$10,2,FALSE),\"\")","v":""},{"$f":"IFERROR(VLOOKUP(先攻T!DX13,記号!$B$6:$C$10,2,FALSE),\"\")","v":""},{"$f":"IFERROR(VLOOKUP(先攻T!DY13,記号!$B$6:$C$10,2,FALSE),\"\")","v":""},{"$f":"IFERROR(VLOOKUP(先攻T!DZ13,記号!$B$6:$C$10,2,FALSE),\"\")","v":""},{"$f":"IFERROR(VLOOKUP(先攻T!EH13,記号!$B$6:$C$10,2,FALSE),\"\")","v":""},{"$f":"IFERROR(VLOOKUP(先攻T!EI13,記号!$B$6:$C$10,2,FALSE),\"\")","v":""},{"$f":"IFERROR(VLOOKUP(先攻T!EJ13,記号!$B$6:$C$10,2,FALSE),\"\")","v":""},{"$f":"IFERROR(VLOOKUP(先攻T!EK13,記号!$B$6:$C$10,2,FALSE),\"\")","v":""},{"$f":"IFERROR(VLOOKUP(先攻T!EL13,記号!$B$6:$C$10,2,FALSE),\"\")","v":""},{"$f":"IF(K12=\"\",\"\",VLOOKUP(K12,$C$84:$E$89,3,FALSE))","v":"RR"},{"$f":"IF(L12=\"\",\"\",(BX12+CG12+CH12+CI12))","v":4},{"$f":"IF(L12=\"\",\"\",(BY12+BZ12+CA12+CB12+CC12+CF12+CJ12+CM12+CN12))","v":4},{"$f":"IF(L12=\"\",\"\",COUNTIFS($N$11:$BU$11,L12,$N$16:$BU$16,$BY$3))","v":1},{"$f":"IF(L12=\"\",\"\",COUNTIFS($N$11:$BU$11,L12,$N$16:$BU$16,$BZ$3))","v":0},{"$f":"IF(L12=\"\",\"\",COUNTIFS($N$11:$BU$11,L12,$N$14:$BU$14,$CA$3))","v":0},{"$f":"IF(L12=\"\",\"\",COUNTIFS($N$11:$BU$11,L12,$N$14:$BU$14,$CB$3))","v":0},{"$f":"IF(L12=\"\",\"\",COUNTIFS($N$11:$BU$11,L12,$N$16:$BU$16,$CC$3))","v":0},{"$f":"IF(L12=\"\",\"\",SUMIF($N$11:$BU$11,L12,$N$16:$BU$16))","v":1},{"$f":"IF(L12=\"\",\"\",COUNTIFS($N$11:$BU$11,L12,$N$15:$BU$15,$CE$3))","v":0},{"$f":"IF(L12=\"\",\"\",COUNTIFS($N$11:$BU$11,L12,$N$16:$BU$16,$CF$3))","v":2},{"$f":"IF(L12=\"\",\"\",COUNTIFS($N$11:$BU$11,L12,$N$16:$BU$16,$CG$3))","v":0},{"$f":"IF(L12=\"\",\"\",COUNTIFS($N$11:$BU$11,L12,$N$16:$BU$16,$CH$3))","v":0},{"$f":"IF(L12=\"\",\"\",COUNTIFS($N$11:$BU$11,L12,$N$16:$BU$16,$CI$3))","v":0},{"$f":"IF(L12=\"\",\"\",COUNTIFS($N$11:$BU$11,L12,$N$16:$BU$16,$CJ$3))","v":1},{"$f":"IF(L12=\"\",\"\",COUNTIFS($N$11:$BU$11,L12,$N$16:$BU$16,$CK$3)+COUNTIFS($N$11:$BU$11,L12,$N$14:$BU$14,$CK$3))","v":0},{"$f":"IF(L12=\"\",\"\",COUNTIFS($N$11:$BU$11,L12,$N$16:$BU$16,$CL$3)+COUNTIFS($N$11:$BU$11,L12,$N$14:$BU$14,$CL$3))","v":0},{"$f":"IF(L12=\"\",\"\",COUNTIFS($N$11:$BU$11,L12,$N$16:$BU$16,$CM$3))","v":0},{"$f":"IF(L12=\"\",\"\",COUNTIFS($N$11:$BU$11,L12,$N$16:$BU$16,$CN$3))","v":0},{"$f":"IF(L12=\"\",\"\",COUNTIFS($N$11:$BU$11,L12,$N$12:$BU$12,$CO$3)+COUNTIFS($N$11:$BU$11,L12,$N$13:$BU$13,$CO$3))","v":16},"先","右飛",null,null,null,null,"A",{"$f":"IF(DA12=\"\",\"\",VLOOKUP(DA12,$C$84:$E$89,3,FALSE))","v":"RR"},7,"右",9,"先",null,null,null,"D","菊池　亮太",2,3,3,2,0,1,0,0,1,0,0,0,0,0,0,0,0,0,0,7,"決勝",null,7,{"$f":"IF(EC12=\"\",\"\",VLOOKUP(EC12,$C$29:$D$58,2,FALSE))","v":"佐々木　大夢"},{"$f":"IF(EC12=\"\",\"\",COUNTIFS($N$11:$BU$11,EC12,$N$16:$BU$16,\"RZ\"))","v":1},{"$f":"IF(ED12=\"\",\"\",COUNTIFS($N$11:$BU$11,EC12,$N$15:$BU$15,\"ZH\"))","v":0},null,"D","菊池　亮太",2,2,0,null,"D","打川　和輝",{"$f":"IF(F8=\"\",\"\",F8)","v":5},"LL",0,0,0,0,0,0,0,0,0,0,0,0,0,0,0,0,0,0,0,null,"D","菊池　亮太",2,1,0,0,0,0,0,0,1,1,"決勝",null,null,null,null,null,null,null,null,null,null,null,null,null,null,null,null,null,null,null,null,null,null,null,null,null,null,null,null,null,null,null,null,null,null,null,null,null,null,null,null,null,null,null,null,null,null,null,null,"佐々木　大夢",{"$f":"IF(L12=\"\",\"\",L12)","v":7},{"$f":"IF(HU12=\"\",\"\",COUNTIFS($N$11:$BU$11,HV12,$N$12:$BU$12,HW3)+COUNTIFS($N$11:$BU$11,HV12,$N$13:$BU$13,HW3))","v":16},{"$f":"IF(HU12=\"\",\"\",COUNTIFS($N$11:$BU$11,HV12,$N$12:$BU$12,$HX$3)+COUNTIFS($N$11:$BU$11,HV12,$N$13:$BU$13,$HX$3))","v":6},{"$f":"IF(HU12=\"\",\"\",COUNTIFS($N$11:$BU$11,HV12,$N$12:$BU$12,$HY$3)+COUNTIFS($N$11:$BU$11,HV12,$N$13:$BU$13,$HY$3))","v":5},{"$f":"IF(HU12=\"\",\"\",COUNTIFS($N$11:$BU$11,HV12,$N$12:$BU$12,$HZ$3)+COUNTIFS($N$11:$BU$11,HV12,$N$13:$BU$13,$HZ$3))","v":1},{"$f":"IF(HU12=\"\",\"\",COUNTIFS($N$11:$BU$11,HV12,$N$12:$BU$12,$IA$3)+COUNTIFS($N$11:$BU$11,HV12,$N$13:$BU$13,$IA$3))","v":2},{"$f":"IF(HU12=\"\",\"\",COUNTIFS($N$11:$BU$11,HV12,$N$12:$BU$12,$IB$3)+COUNTIFS($N$11:$BU$11,HV12,$N$13:$BU$13,$IB$3))","v":2}]
[null,"⑨","遊","斉藤　璃玖","RL",6,null,null,null,{"$f":"IF(L13=\"\",\"\",VLOOKUP(L13,$C$29:$D$58,2,FALSE))","v":""},null,null,null,{"$f":"IFERROR(VLOOKUP(先攻T!K13,記号!$B$6:$C$10,2,FALSE),\"\")","v":"・◎"},{"$f":"IFERROR(VLOOKUP(先攻T!L13,記号!$B$6:$C$10,2,FALSE),\"\")","v":""},{"$f":"IFERROR(VLOOKUP(先攻T!F15,記号!$B$6:$C$10,2,FALSE),\"\")","v":""},{"$f":"IFERROR(VLOOKUP(先攻T!G15,記号!$B$6:$C$10,2,FALSE),\"\")","v":""},{"$f":"IFERROR(VLOOKUP(先攻T!H15,記号!$B$6:$C$10,2,FALSE),\"\")","v":""},{"$f":"IFERROR(VLOOKUP(先攻T!W13,記号!$B$6:$C$10,2,FALSE),\"\")","v":""},{"$f":"IFERROR(VLOOKUP(先攻T!X13,記号!$B$6:$C$10,2,FALSE),\"\")","v":""},{"$f":"IFERROR(VLOOKUP(先攻T!R15,記号!$B$6:$C$10,2,FALSE),\"\")","v":""},{"$f":"IFERROR(VLOOKUP(先攻T!S15,記号!$B$6:$C$10,2,FALSE),\"\")","v":""},{"$f":"IFERROR(VLOOKUP(先攻T!T15,記号!$B$6:$C$10,2,FALSE),\"\")","v":""},{"$f":"IFERROR(VLOOKUP(先攻T!AI13,記号!$B$6:$C$10,2,FALSE),\"\")","v":""},{"$f":"IFERROR(VLOOKUP(先攻T!AJ13,記号!$B$6:$C$10,2,FALSE),\"\")","v":""},{"$f":"IFERROR(VLOOKUP(先攻T!AD15,記号!$B$6:$C$10,2,FALSE),\"\")","v":""},{"$f":"IFERROR(VLOOKUP(先攻T!AE15,記号!$B$6:$C$10,2,FALSE),\"\")","v":""},{"$f":"IFERROR(VLOOKUP(先攻T!AF15,記号!$B$6:$C$10,2,FALSE),\"\")","v":""},{"$f":"IFERROR(VLOOKUP(先攻T!AU13,記号!$B$6:$C$10,2,FALSE),\"\")","v":""},{"$f":"IFERROR(VLOOKUP(先攻T!AV13,記号!$B$6:$C$10,2,FALSE),\"\")","v":""},{"$f":"IFERROR(VLOOKUP(先攻T!AP15,記号!$B$6:$C$10,2,FALSE),\"\")","v":""},{"$f":"IFERROR(VLOOKUP(先攻T!AQ15,記号!$B$6:$C$10,2,FALSE),\"\")","v":""},{"$f":"IFERROR(VLOOKUP(先攻T!AR15,記号!$B$6:$C$10,2,FALSE),\"\")","v":""},{"$f":"IFERROR(VLOOKUP(先攻T!BG4,記号!$B$6:$C$10,2,FALSE),\"\")","v":""},{"$f":"IFERROR(VLOOKUP(先攻T!BH4,記号!$B$6:$C$10,2,FALSE),\"\")","v":""},{"$f":"IFERROR(VLOOKUP(先攻T!BB15,記号!$B$6:$C$10,2,FALSE),\"\")","v":""},{"$f":"IFERROR(VLOOKUP(先攻T!BC15,記号!$B$6:$C$10,2,FALSE),\"\")","v":""},{"$f":"IFERROR(VLOOKUP(先攻T!BD15,記号!$B$6:$C$10,2,FALSE),\"\")","v":""},{"$f":"IFERROR(VLOOKUP(先攻T!BS13,記号!$B$6:$C$10,2,FALSE),\"\")","v":""},{"$f":"IFERROR(VLOOKUP(先攻T!BT13,記号!$B$6:$C$10,2,FALSE),\"\")","v":""},{"$f":"IFERROR(VLOOKUP(先攻T!BN15,記号!$B$6:$C$10,2,FALSE),\"\")","v":""},{"$f":"IFERROR(VLOOKUP(先攻T!BO15,記号!$B$6:$C$10,2,FALSE),\"\")","v":""},{"$f":"IFERROR(VLOOKUP(先攻T!BP15,記号!$B$6:$C$10,2,FALSE),\"\")","v":""},{"$f":"IFERROR(VLOOKUP(先攻T!CE13,記号!$B$6:$C$10,2,FALSE),\"\")","v":""},{"$f":"IFERROR(VLOOKUP(先攻T!CF13,記号!$B$6:$C$10,2,FALSE),\"\")","v":""},{"$f":"IFERROR(VLOOKUP(先攻T!BZ15,記号!$B$6:$C$10,2,FALSE),\"\")","v":""},{"$f":"IFERROR(VLOOKUP(先攻T!CA15,記号!$B$6:$C$10,2,FALSE),\"\")","v":""},{"$f":"IFERROR(VLOOKUP(先攻T!CB15,記号!$B$6:$C$10,2,FALSE),\"\")","v":""},{"$f":"IFERROR(VLOOKUP(先攻T!CQ13,記号!$B$6:$C$10,2,FALSE),\"\")","v":""},{"$f":"IFERROR(VLOOKUP(先攻T!CR13,記号!$B$6:$C$10,2,FALSE),\"\")","v":""},{"$f":"IFERROR(VLOOKUP(先攻T!CL15,記号!$B$6:$C$10,2,FALSE),\"\")","v":""},{"$f":"IFERROR(VLOOKUP(先攻T!CM15,記号!$B$6:$C$10,2,FALSE),\"\")","v":""},{"$f":"IFERROR(VLOOKUP(先攻T!CN15,記号!$B$6:$C$10,2,FALSE),\"\")","v":""},{"$f":"IFERROR(VLOOKUP(先攻T!DC13,記号!$B$6:$C$10,2,FALSE),\"\")","v":""},{"$f":"IFERROR(VLOOKUP(先攻T!DD13,記号!$B$6:$C$10,2,FALSE),\"\")","v":""},{"$f":"IFERROR(VLOOKUP(先攻T!CX15,記号!$B$6:$C$10,2,FALSE),\"\")","v":""},{"$f":"IFERROR(VLOOKUP(先攻T!CY15,記号!$B$6:$C$10,2,FALSE),\"\")","v":""},{"$f":"IFERROR(VLOOKUP(先攻T!CZ15,記号!$B$6:$C$10,2,FALSE),\"\")","v":""},{"$f":"IFERROR(VLOOKUP(先攻T!DO13,記号!$B$6:$C$10,2,FALSE),\"\")","v":""},{"$f":"IFERROR(VLOOKUP(先攻T!DP13,記号!$B$6:$C$10,2,FALSE),\"\")","v":""},{"$f":"IFERROR(VLOOKUP(先攻T!DJ15,記号!$B$6:$C$10,2,FALSE),\"\")","v":""},{"$f":"IFERROR(VLOOKUP(先攻T!DK15,記号!$B$6:$C$10,2,FALSE),\"\")","v":""},{"$f":"IFERROR(VLOOKUP(先攻T!DL15,記号!$B$6:$C$10,2,FALSE),\"\")","v":""},{"$f":"IFERROR(VLOOKUP(先攻T!EA13,記号!$B$6:$C$10,2,FALSE),\"\")","v":""},{"$f":"IFERROR(VLOOKUP(先攻T!EB13,記号!$B$6:$C$10,2,FALSE),\"\")","v":""},{"$f":"IFERROR(VLOOKUP(先攻T!DV15,記号!$B$6:$C$10,2,FALSE),\"\")","v":""},{"$f":"IFERROR(VLOOKUP(先攻T!DW15,記号!$B$6:$C$10,2,FALSE),\"\")","v":""},{"$f":"IFERROR(VLOOKUP(先攻T!DX15,記号!$B$6:$C$10,2,FALSE),\"\")","v":""},{"$f":"IFERROR(VLOOKUP(先攻T!EM13,記号!$B$6:$C$10,2,FALSE),\"\")","v":""},{"$f":"IFERROR(VLOOKUP(先攻T!EN13,記号!$B$6:$C$10,2,FALSE),\"\")","v":""},{"$f":"IFERROR(VLOOKUP(先攻T!EH15,記号!$B$6:$C$10,2,FALSE),\"\")","v":""},{"$f":"IFERROR(VLOOKUP(先攻T!EI15,記号!$B$6:$C$10,2,FALSE),\"\")","v":""},{"$f":"IFERROR(VLOOKUP(先攻T!EJ15,記号!$B$6:$C$10,2,FALSE),\"\")","v":""},{"$f":"IF(K13=\"\",\"\",VLOOKUP(K13,$C$84:$E$89,3,FALSE))","v":""},{"$f":"IF(L13=\"\",\"\",(BX13+CG13+CH13+CI13))","v":""},"",{"$f":"IF(L13=\"\",\"\",COUNTIFS($N$11:$BU$11,L13,$N$16:$BU$16,$BY$3))","v":""},{"$f":"IF(L13=\"\",\"\",COUNTIFS($N$11:$BU$11,L13,$N$16:$BU$16,$BZ$3))","v":""},{"$f":"IF(L13=\"\",\"\",COUNTIFS($N$11:$BU$11,L13,$N$14:$BU$14,$CA$3))","v":""},{"$f":"IF(L13=\"\",\"\",COUNTIFS($N$11:$BU$11,L13,$N$14:$BU$14,$CB$3))","v":""},{"$f":"IF(L13=\"\",\"\",COUNTIFS($N$11:$BU$11,L13,$N$16:$BU$16,$CC$3))","v":""},{"$f":"IF(L13=\"\",\"\",SUMIF($N$11:$BU$11,L13,$N$16:$BU$16))","v":""},{"$f":"IF(L13=\"\",\"\",COUNTIFS($N$11:$BU$11,L13,$N$15:$BU$15,$CE$3))","v":""},{"$f":"IF(L13=\"\",\"\",COUNTIFS($N$11:$BU$11,L13,$N$16:$BU$16,$CF$3))","v":""},{"$f":"IF(L13=\"\",\"\",COUNTIFS($N$11:$BU$11,L13,$N$16:$BU$16,$CG$3))","v":""},{"$f":"IF(L13=\"\",\"\",COUNTIFS($N$11:$BU$11,L13,$N$16:$BU$16,$CH$3))","v":""},{"$f":"IF(L13=\"\",\"\",COUNTIFS($N$11:$BU$11,L13,$N$16:$BU$16,$CI$3))","v":""},{"$f":"IF(L13=\"\",\"\",COUNTIFS($N$11:$BU$11,L13,$N$16:$BU$16,$CJ$3))","v":""},{"$f":"IF(L13=\"\",\"\",COUNTIFS($N$11:$BU$11,L13,$N$16:$BU$16,$CK$3)+COUNTIFS($N$11:$BU$11,L13,$N$14:$BU$14,$CK$3))","v":""},{"$f":"IF(L13=\"\",\"\",COUNTIFS($N$11:$BU$11,L13,$N$16:$BU$16,$CL$3)+COUNTIFS($N$11:$BU$11,L13,$N$14:$BU$14,$CL$3))","v":""},{"$f":"IF(L13=\"\",\"\",COUNTIFS($N$11:$BU$11,L13,$N$16:$BU$16,$CM$3))","v":""},{"$f":"IF(L13=\"\",\"\",COUNTIFS($N$11:$BU$11,L13,$N$16:$BU$16,$CN$3))","v":""},{"$f":"IF(L13=\"\",\"\",COUNTIFS($N$11:$BU$11,L13,$N$12:$BU$12,$CO$3)+COUNTIFS($N$11:$BU$11,L13,$N$13:$BU$13,$CO$3))","v":""},null,"右犠飛",null,null,null,null,"A",{"$f":"IF(DA13=\"\",\"\",VLOOKUP(DA13,$C$84:$E$89,3,FALSE))","v":"RR"},7,"右",9,"先",null,null,null,"D","斉藤　璃玖",6,3,2,1,0,0,0,0,0,1,1,1,0,0,0,0,0,0,0,14,"決勝",null,"",{"$f":"IF(EC13=\"\",\"\",VLOOKUP(EC13,$C$29:$D$58,2,FALSE))","v":""},{"$f":"IF(EC13=\"\",\"\",COUNTIFS($N$11:$BU$11,EC13,$N$16:$BU$16,\"RZ\"))","v":""},{"$f":"IF(ED13=\"\",\"\",COUNTIFS($N$11:$BU$11,EC13,$N$15:$BU$15,\"ZH\"))","v":""},null,"D","斉藤　璃玖",6,1,0,null,"D","大友　朝陽",{"$f":"IF(F9=\"\",\"\",F9)","v":8},"RR",4,2,1,0,0,0,0,0,0,1,0,0,2,0,0,0,0,0,9,null,"D","斉藤　璃玖",6,0,0,0,0,0,0,0,1,0,"決勝",null,null,null,null,null,null,null,null,null,null,null,null,null,null,null,null,null,null,null,null,null,null,null,null,null,null,null,null,null,null,null,null,null,null,null,null,null,null,null,null,null,null,null,null,null,null,null,null,"","",{"$f":"IF(HU13=\"\",\"\",COUNTIFS($N$11:$BU$11,HV13,$N$12:$BU$12,HW4)+COUNTIFS($N$11:$BU$11,HV13,$N$13:$BU$13,HW4))","v":""},{"$f":"IF(HU13=\"\",\"\",COUNTIFS($N$11:$BU$11,HV13,$N$12:$BU$12,$HX$3)+COUNTIFS($N$11:$BU$11,HV13,$N$13:$BU$13,$HX$3))","v":""},{"$f":"IF(HU13=\"\",\"\",COUNTIFS($N$11:$BU$11,HV13,$N$12:$BU$12,$HY$3)+COUNTIFS($N$11:$BU$11,HV13,$N$13:$BU$13,$HY$3))","v":""},{"$f":"IF(HU13=\"\",\"\",COUNTIFS($N$11:$BU$11,HV13,$N$12:$BU$12,$HZ$3)+COUNTIFS($N$11:$BU$11,HV13,$N$13:$BU$13,$HZ$3))","v":""},{"$f":"IF(HU13=\"\",\"\",COUNTIFS($N$11:$BU$11,HV13,$N$12:$BU$12,$IA$3)+COUNTIFS($N$11:$BU$11,HV13,$N$13:$BU$13,$IA$3))","v":""},{"$f":"IF(HU13=\"\",\"\",COUNTIFS($N$11:$BU$11,HV13,$N$12:$BU$12,$IB$3)+COUNTIFS($N$11:$BU$11,HV13,$N$13:$BU$13,$IB$3))","v":""}]
[null,null,null,null,"","",null,null,null,{"$f":"IF(L14=\"\",\"\",VLOOKUP(L14,$C$29:$D$58,2,FALSE))","v":""},null,null,null,{"$f":"IFERROR(VLOOKUP(先攻T!F18,記号!$I$27:$J$30,2,FALSE),\"\")","v":"F"},{"$f":"IFERROR(VLOOKUP(先攻T!H17,記号!$L$5:$M$21,2,FALSE),\"\")","v":""},{"$f":"IFERROR(VLOOKUP(先攻T!H19,記号!$F$27:$G$37,2,FALSE),\"\")","v":""},{"$f":"IFERROR(VLOOKUP(先攻T!G17,記号!$I$5:$J$23,2,FALSE),\"\")","v":""},null,{"$f":"IFERROR(VLOOKUP(先攻T!R18,記号!$I$27:$J$30,2,FALSE),\"\")","v":""},{"$f":"IFERROR(VLOOKUP(先攻T!T17,記号!$L$5:$M$21,2,FALSE),\"\")","v":""},{"$f":"IFERROR(VLOOKUP(先攻T!T19,記号!$F$27:$G$37,2,FALSE),\"\")","v":""},{"$f":"IFERROR(VLOOKUP(先攻T!S17,記号!$I$5:$J$23,2,FALSE),\"\")","v":""},null,{"$f":"IFERROR(VLOOKUP(先攻T!AD18,記号!$I$27:$J$30,2,FALSE),\"\")","v":"F"},{"$f":"IFERROR(VLOOKUP(先攻T!AF17,記号!$L$5:$M$21,2,FALSE),\"\")","v":""},{"$f":"IFERROR(VLOOKUP(先攻T!AF19,記号!$F$27:$G$37,2,FALSE),\"\")","v":""},{"$f":"IFERROR(VLOOKUP(先攻T!AE17,記号!$I$5:$J$23,2,FALSE),\"\")","v":""},null,{"$f":"IFERROR(VLOOKUP(先攻T!AP18,記号!$I$27:$J$30,2,FALSE),\"\")","v":""},{"$f":"IFERROR(VLOOKUP(先攻T!AR17,記号!$L$5:$M$21,2,FALSE),\"\")","v":""},{"$f":"IFERROR(VLOOKUP(先攻T!AR19,記号!$F$27:$G$37,2,FALSE),\"\")","v":""},{"$f":"IFERROR(VLOOKUP(先攻T!AQ17,記号!$I$5:$J$23,2,FALSE),\"\")","v":""},null,{"$f":"IFERROR(VLOOKUP(先攻T!BB18,記号!$I$27:$J$30,2,FALSE),\"\")","v":""},{"$f":"IFERROR(VLOOKUP(先攻T!BD17,記号!$L$5:$M$21,2,FALSE),\"\")","v":""},{"$f":"IFERROR(VLOOKUP(先攻T!BD19,記号!$F$27:$G$37,2,FALSE),\"\")","v":""},{"$f":"IFERROR(VLOOKUP(先攻T!BC17,記号!$I$5:$J$23,2,FALSE),\"\")","v":""},null,{"$f":"IFERROR(VLOOKUP(先攻T!BN18,記号!$I$27:$J$30,2,FALSE),\"\")","v":""},{"$f":"IFERROR(VLOOKUP(先攻T!BP17,記号!$L$5:$M$21,2,FALSE),\"\")","v":""},{"$f":"IFERROR(VLOOKUP(先攻T!BP19,記号!$F$27:$G$37,2,FALSE),\"\")","v":""},{"$f":"IFERROR(VLOOKUP(先攻T!BO17,記号!$I$5:$J$23,2,FALSE),\"\")","v":""},null,{"$f":"IFERROR(VLOOKUP(先攻T!BZ18,記号!$I$27:$J$30,2,FALSE),\"\")","v":""},{"$f":"IFERROR(VLOOKUP(先攻T!CB17,記号!$L$5:$M$21,2,FALSE),\"\")","v":""},{"$f":"IFERROR(VLOOKUP(先攻T!CB19,記号!$F$27:$G$37,2,FALSE),\"\")","v":""},{"$f":"IFERROR(VLOOKUP(先攻T!CA17,記号!$I$5:$J$23,2,FALSE),\"\")","v":""},null,{"$f":"IFERROR(VLOOKUP(先攻T!CL18,記号!$I$27:$J$30,2,FALSE),\"\")","v":""},{"$f":"IFERROR(VLOOKUP(先攻T!CN17,記号!$L$5:$M$21,2,FALSE),\"\")","v":""},{"$f":"IFERROR(VLOOKUP(先攻T!CN19,記号!$F$27:$G$37,2,FALSE),\"\")","v":""},{"$f":"IFERROR(VLOOKUP(先攻T!CM17,記号!$I$5:$J$23,2,FALSE),\"\")","v":""},null,{"$f":"IFERROR(VLOOKUP(先攻T!CX18,記号!$I$27:$J$30,2,FALSE),\"\")","v":""},{"$f":"IFERROR(VLOOKUP(先攻T!CZ17,記号!$L$5:$M$21,2,FALSE),\"\")","v":""},{"$f":"IFERROR(VLOOKUP(先攻T!CZ19,記号!$F$27:$G$37,2,FALSE),\"\")","v":""},{"$f":"IFERROR(VLOOKUP(先攻T!CY17,記号!$I$5:$J$23,2,FALSE),\"\")","v":""},null,{"$f":"IFERROR(VLOOKUP(先攻T!DJ18,記号!$I$27:$J$30,2,FALSE),\"\")","v":""},{"$f":"IFERROR(VLOOKUP(先攻T!DL17,記号!$L$5:$M$21,2,FALSE),\"\")","v":""},{"$f":"IFERROR(VLOOKUP(先攻T!DL19,記号!$F$27:$G$37,2,FALSE),\"\")","v":""},{"$f":"IFERROR(VLOOKUP(先攻T!DK17,記号!$I$5:$J$23,2,FALSE),\"\")","v":""},null,{"$f":"IFERROR(VLOOKUP(先攻T!DV18,記号!$I$27:$J$30,2,FALSE),\"\")","v":""},{"$f":"IFERROR(VLOOKUP(先攻T!DX17,記号!$L$5:$M$21,2,FALSE),\"\")","v":""},{"$f":"IFERROR(VLOOKUP(先攻T!DX19,記号!$F$27:$G$37,2,FALSE),\"\")","v":""},{"$f":"IFERROR(VLOOKUP(先攻T!DW17,記号!$I$5:$J$23,2,FALSE),\"\")","v":""},null,{"$f":"IFERROR(VLOOKUP(先攻T!EH18,記号!$I$27:$J$30,2,FALSE),\"\")","v":""},{"$f":"IFERROR(VLOOKUP(先攻T!EJ17,記号!$L$5:$M$21,2,FALSE),\"\")","v":""},{"$f":"IFERROR(VLOOKUP(先攻T!EJ19,記号!$F$27:$G$37,2,FALSE),\"\")","v":""},{"$f":"IFERROR(VLOOKUP(先攻T!EI17,記号!$I$5:$J$23,2,FALSE),\"\")","v":""},null,"",{"$f":"IF(L14=\"\",\"\",(BX14+CG14+CH14+CI14))","v":""},"",{"$f":"IF(L14=\"\",\"\",COUNTIFS($N$11:$BU$11,L14,$N$16:$BU$16,$BY$3))","v":""},{"$f":"IF(L14=\"\",\"\",COUNTIFS($N$11:$BU$11,L14,$N$16:$BU$16,$BZ$3))","v":""},{"$f":"IF(L14=\"\",\"\",COUNTIFS($N$11:$BU$11,L14,$N$14:$BU$14,$CA$3))","v":""},{"$f":"IF(L14=\"\",\"\",COUNTIFS($N$11:$BU$11,L14,$N$14:$BU$14,$CB$3))","v":""},{"$f":"IF(L14=\"\",\"\",COUNTIFS($N$11:$BU$11,L14,$N$16:$BU$16,$CC$3))","v":""},{"$f":"IF(L14=\"\",\"\",SUMIF($N$11:$BU$11,L14,$N$16:$BU$16))","v":""},{"$f":"IF(L14=\"\",\"\",COUNTIFS($N$11:$BU$11,L14,$N$15:$BU$15,$CE$3))","v":""},{"$f":"IF(L14=\"\",\"\",COUNTIFS($N$11:$BU$11,L14,$N$16:$BU$16,$CF$3))","v":""},{"$f":"IF(L14=\"\",\"\",COUNTIFS($N$11:$BU$11,L14,$N$16:$BU$16,$CG$3))","v":""},{"$f":"IF(L14=\"\",\"\",COUNTIFS($N$11:$BU$11,L14,$N$16:$BU$16,$CH$3))","v":""},{"$f":"IF(L14=\"\",\"\",COUNTIFS($N$11:$BU$11,L14,$N$16:$BU$16,$CI$3))","v":""},{"$f":"IF(L14=\"\",\"\",COUNTIFS($N$11:$BU$11,L14,$N$16:$BU$16,$CJ$3))","v":""},{"$f":"IF(L14=\"\",\"\",COUNTIFS($N$11:$BU$11,L14,$N$16:$BU$16,$CK$3)+COUNTIFS($N$11:$BU$11,L14,$N$14:$BU$14,$CK$3))","v":""},{"$f":"IF(L14=\"\",\"\",COUNTIFS($N$11:$BU$11,L14,$N$16:$BU$16,$CL$3)+COUNTIFS($N$11:$BU$11,L14,$N$14:$BU$14,$CL$3))","v":""},{"$f":"IF(L14=\"\",\"\",COUNTIFS($N$11:$BU$11,L14,$N$16:$BU$16,$CM$3))","v":""},{"$f":"IF(L14=\"\",\"\",COUNTIFS($N$11:$BU$11,L14,$N$16:$BU$16,$CN$3))","v":""},{"$f":"IF(L14=\"\",\"\",COUNTIFS($N$11:$BU$11,L14,$N$12:$BU$12,$CO$3)+COUNTIFS($N$11:$BU$11,L14,$N$13:$BU$13,$CO$3))","v":""},null,"見三振",null,null,null,null,null,"RR",7,null,"","先",null,"交　　代",null,null,null,null,null,null,null,null,null,null,null,null,null,null,null,null,null,null,null,null,null,null,null,null,null,"",{"$f":"IF(EC14=\"\",\"\",VLOOKUP(EC14,$C$29:$D$58,2,FALSE))","v":""},{"$f":"IF(EC14=\"\",\"\",COUNTIFS($N$11:$BU$11,EC14,$N$16:$BU$16,\"RZ\"))","v":""},{"$f":"IF(ED14=\"\",\"\",COUNTIFS($N$11:$BU$11,EC14,$N$15:$BU$15,\"ZH\"))","v":""},null,null,null,null,null,null,null,"D","大友　朝陽",{"$f":"IF(F9=\"\",\"\",F9)","v":8},"LL",0,0,0,0,0,0,0,0,0,0,0,0,0,0,0,0,0,0,0,null,null,null,null,null,null,null,null,null,null,null,null,null,null,null,null,null,null,null,null,null,null,null,null,null,null,null,null,null,null,null,null,null,null,null,null,null,null,null,null,null,null,null,null,null,null,null,null,null,null,null,null,null,null,null,null,null,null,null,null,null,null,"","","","","","","",""]
[null,null,null,null,null,null,null,null,null,{"$f":"IF(L15=\"\",\"\",VLOOKUP(L15,$C$29:$D$58,2,FALSE))","v":""},null,null,null,{"$f":"IF(N11=\"\",\"\",IF(N11=L12+0.2,\"2\",IF(N11=L12+0.3,\"3\",IF(N11=L12+0.4,\"4\",IF(N11=L12+0.5,\"5\",\"先\")))))","v":"先"},{"$f":"IFERROR(VLOOKUP(先攻T!I19,記号!$F$27:$G$37,2,FALSE),\"\")","v":""},{"$f":"IFERROR(VLOOKUP(先攻T!J17,記号!$R$5:$S$10,2,FALSE),\"\")","v":"Ⅱ"},{"$f":"IFERROR(VLOOKUP(先攻T!G19,記号!$F$27:$G$37,2,FALSE),\"\")","v":""},{"$f":"IFERROR(VLOOKUP(先攻T!L17,記号!$U$12:$V$13,2,FALSE),\"\")","v":""},{"$f":"IF(S11=\"\",\"\",IF(S11=L12+0.2,\"2\",IF(S11=L12+0.3,\"3\",IF(S11=L12+0.4,\"4\",IF(S11=L12+0.5,\"5\",\"先\")))))","v":"先"},{"$f":"IFERROR(VLOOKUP(先攻T!U19,記号!$F$27:$G$37,2,FALSE),\"\")","v":""},{"$f":"IFERROR(VLOOKUP(先攻T!V17,記号!$R$5:$S$10,2,FALSE),\"\")","v":""},{"$f":"IFERROR(VLOOKUP(先攻T!S19,記号!$F$27:$G$37,2,FALSE),\"\")","v":""},{"$f":"IFERROR(VLOOKUP(先攻T!X17,記号!$U$12:$V$13,2,FALSE),\"\")","v":""},{"$f":"IF(X11=\"\",\"\",IF(X11=L12+0.2,\"2\",IF(X11=L12+0.3,\"3\",IF(X11=L12+0.4,\"4\",IF(X11=L12+0.5,\"5\",\"先\")))))","v":"先"},{"$f":"IFERROR(VLOOKUP(先攻T!AG19,記号!$F$27:$G$37,2,FALSE),\"\")","v":""},{"$f":"IFERROR(VLOOKUP(先攻T!AH17,記号!$R$5:$S$10,2,FALSE),\"\")","v":"Ⅱ"},{"$f":"IFERROR(VLOOKUP(先攻T!AE19,記号!$F$27:$G$37,2,FALSE),\"\")","v":""},{"$f":"IFERROR(VLOOKUP(先攻T!AJ17,記号!$U$12:$V$13,2,FALSE),\"\")","v":""},{"$f":"IF(AC11=\"\",\"\",IF(AC11=L12+0.2,\"2\",IF(AC11=L12+0.3,\"3\",IF(AC11=L12+0.4,\"4\",IF(AC11=L12+0.5,\"5\",\"先\")))))","v":"先"},{"$f":"IFERROR(VLOOKUP(先攻T!AS19,記号!$F$27:$G$37,2,FALSE),\"\")","v":""},{"$f":"IFERROR(VLOOKUP(先攻T!AT17,記号!$R$5:$S$10,2,FALSE),\"\")","v":""},{"$f":"IFERROR(VLOOKUP(先攻T!AQ19,記号!$F$27:$G$37,2,FALSE),\"\")","v":""},{"$f":"IFERROR(VLOOKUP(先攻T!AV17,記号!$U$12:$V$13,2,FALSE),\"\")","v":""},{"$f":"IF(AH11=\"\",\"\",IF(AH11=L12+0.2,\"2\",IF(AH11=L12+0.3,\"3\",IF(AH11=L12+0.4,\"4\",IF(AH11=L12+0.5,\"5\",\"先\")))))","v":"先"},{"$f":"IFERROR(VLOOKUP(先攻T!BE19,記号!$F$27:$G$37,2,FALSE),\"\")","v":""},{"$f":"IFERROR(VLOOKUP(先攻T!BF17,記号!$R$5:$S$10,2,FALSE),\"\")","v":"Ⅲ"},{"$f":"IFERROR(VLOOKUP(先攻T!BC19,記号!$F$27:$G$37,2,FALSE),\"\")","v":""},{"$f":"IFERROR(VLOOKUP(先攻T!BH17,記号!$U$12:$V$13,2,FALSE),\"\")","v":""},{"$f":"IF(AM11=\"\",\"\",IF(AM11=L12+0.2,\"2\",IF(AM11=L12+0.3,\"3\",IF(AM11=L12+0.4,\"4\",IF(AM11=L12+0.5,\"5\",\"先\")))))","v":"先"},{"$f":"IFERROR(VLOOKUP(先攻T!BQ19,記号!$F$27:$G$37,2,FALSE),\"\")","v":""},{"$f":"IFERROR(VLOOKUP(先攻T!BR17,記号!$R$5:$S$10,2,FALSE),\"\")","v":""},{"$f":"IFERROR(VLOOKUP(先攻T!BO19,記号!$F$27:$G$37,2,FALSE),\"\")","v":""},{"$f":"IFERROR(VLOOKUP(先攻T!BT17,記号!$U$12:$V$13,2,FALSE),\"\")","v":""},{"$f":"IF(AR11=\"\",\"\",IF(AR11=L12+0.2,\"2\",IF(AR11=L12+0.3,\"3\",IF(AR11=L12+0.4,\"4\",IF(AR11=L12+0.5,\"5\",\"先\")))))","v":"先"},{"$f":"IFERROR(VLOOKUP(先攻T!CC19,記号!$F$27:$G$37,2,FALSE),\"\")","v":""},{"$f":"IFERROR(VLOOKUP(先攻T!CD17,記号!$R$5:$S$10,2,FALSE),\"\")","v":""},{"$f":"IFERROR(VLOOKUP(先攻T!CA19,記号!$F$27:$G$37,2,FALSE),\"\")","v":""},{"$f":"IFERROR(VLOOKUP(先攻T!CF17,記号!$U$12:$V$13,2,FALSE),\"\")","v":""},{"$f":"IF(AW11=\"\",\"\",IF(AW11=L12+0.2,\"2\",IF(AW11=L12+0.3,\"3\",IF(AW11=L12+0.4,\"4\",IF(AW11=L12+0.5,\"5\",\"先\")))))","v":"先"},{"$f":"IFERROR(VLOOKUP(先攻T!CO19,記号!$F$27:$G$37,2,FALSE),\"\")","v":""},{"$f":"IFERROR(VLOOKUP(先攻T!CP17,記号!$R$5:$S$10,2,FALSE),\"\")","v":"Ⅰ"},{"$f":"IFERROR(VLOOKUP(先攻T!CM19,記号!$F$27:$G$37,2,FALSE),\"\")","v":""},{"$f":"IFERROR(VLOOKUP(先攻T!CR17,記号!$U$12:$V$13,2,FALSE),\"\")","v":""},{"$f":"IF(BB11=\"\",\"\",IF(BB11=L12+0.2,\"2\",IF(BB11=L12+0.3,\"3\",IF(BB11=L12+0.4,\"4\",IF(BB11=L12+0.5,\"5\",\"先\")))))","v":"先"},{"$f":"IFERROR(VLOOKUP(先攻T!DA19,記号!$F$27:$G$37,2,FALSE),\"\")","v":""},{"$f":"IFERROR(VLOOKUP(先攻T!DB17,記号!$R$5:$S$10,2,FALSE),\"\")","v":""},{"$f":"IFERROR(VLOOKUP(先攻T!CY19,記号!$F$27:$G$37,2,FALSE),\"\")","v":""},{"$f":"IFERROR(VLOOKUP(先攻T!DD17,記号!$U$12:$V$13,2,FALSE),\"\")","v":""},{"$f":"IF(BG11=\"\",\"\",IF(BG11=L12+0.2,\"2\",IF(BG11=L12+0.3,\"3\",IF(BG11=L12+0.4,\"4\",IF(BG11=L12+0.5,\"5\",\"先\")))))","v":"先"},{"$f":"IFERROR(VLOOKUP(先攻T!DM19,記号!$F$27:$G$37,2,FALSE),\"\")","v":""},{"$f":"IFERROR(VLOOKUP(先攻T!DN17,記号!$R$5:$S$10,2,FALSE),\"\")","v":""},{"$f":"IFERROR(VLOOKUP(先攻T!DK19,記号!$F$27:$G$37,2,FALSE),\"\")","v":""},{"$f":"IFERROR(VLOOKUP(先攻T!DP17,記号!$U$12:$V$13,2,FALSE),\"\")","v":""},{"$f":"IF(BL11=\"\",\"\",IF(BL11=L12+0.2,\"2\",IF(BL11=L12+0.3,\"3\",IF(BL11=L12+0.4,\"4\",IF(BL11=L12+0.5,\"5\",\"先\")))))","v":"先"},{"$f":"IFERROR(VLOOKUP(先攻T!DY19,記号!$F$27:$G$37,2,FALSE),\"\")","v":""},{"$f":"IFERROR(VLOOKUP(先攻T!DZ17,記号!$R$5:$S$10,2,FALSE),\"\")","v":""},{"$f":"IFERROR(VLOOKUP(先攻T!DW19,記号!$F$27:$G$37,2,FALSE),\"\")","v":""},{"$f":"IFERROR(VLOOKUP(先攻T!EB17,記号!$U$12:$V$13,2,FALSE),\"\")","v":""},{"$f":"IF(BQ11=\"\",\"\",IF(BQ11=L12+0.2,\"2\",IF(BQ11=L12+0.3,\"3\",IF(BQ11=L12+0.4,\"4\",IF(BQ11=L12+0.5,\"5\",\"先\")))))","v":"先"},{"$f":"IFERROR(VLOOKUP(先攻T!EK19,記号!$F$27:$G$37,2,FALSE),\"\")","v":""},{"$f":"IFERROR(VLOOKUP(先攻T!EL17,記号!$R$5:$S$10,2,FALSE),\"\")","v":""},{"$f":"IFERROR(VLOOKUP(先攻T!EI19,記号!$F$27:$G$37,2,FALSE),\"\")","v":""},{"$f":"IFERROR(VLOOKUP(先攻T!EN17,記号!$U$12:$V$13,2,FALSE),\"\")","v":""},"",{"$f":"IF(L15=\"\",\"\",(BX15+CG15+CH15+CI15))","v":""},"",{"$f":"IF(L15=\"\",\"\",COUNTIFS($N$11:$BU$11,L15,$N$16:$BU$16,$BY$3))","v":""},{"$f":"IF(L15=\"\",\"\",COUNTIFS($N$11:$BU$11,L15,$N$16:$BU$16,$BZ$3))","v":""},{"$f":"IF(L15=\"\",\"\",COUNTIFS($N$11:$BU$11,L15,$N$14:$BU$14,$CA$3))","v":""},{"$f":"IF(L15=\"\",\"\",COUNTIFS($N$11:$BU$11,L15,$N$14:$BU$14,$CB$3))","v":""},{"$f":"IF(L15=\"\",\"\",COUNTIFS($N$11:$BU$11,L15,$N$16:$BU$16,$CC$3))","v":""},{"$f":"IF(L15=\"\",\"\",SUMIF($N$11:$BU$11,L15,$N$16:$BU$16))","v":""},{"$f":"IF(L15=\"\",\"\",COUNTIFS($N$11:$BU$11,L15,$N$15:$BU$15,$CE$3))","v":""},{"$f":"IF(L15=\"\",\"\",COUNTIFS($N$11:$BU$11,L15,$N$16:$BU$16,$CF$3))","v":""},{"$f":"IF(L15=\"\",\"\",COUNTIFS($N$11:$BU$11,L15,$N$16:$BU$16,$CG$3))","v":""},{"$f":"IF(L15=\"\",\"\",COUNTIFS($N$11:$BU$11,L15,$N$16:$BU$16,$CH$3))","v":""},{"$f":"IF(L15=\"\",\"\",COUNTIFS($N$11:$BU$11,L15,$N$16:$BU$16,$CI$3))","v":""},{"$f":"IF(L15=\"\",\"\",COUNTIFS($N$11:$BU$11,L15,$N$16:$BU$16,$CJ$3))","v":""},{"$f":"IF(L15=\"\",\"\",COUNTIFS($N$11:$BU$11,L15,$N$16:$BU$16,$CK$3)+COUNTIFS($N$11:$BU$11,L15,$N$14:$BU$14,$CK$3))","v":""},{"$f":"IF(L15=\"\",\"\",COUNTIFS($N$11:$BU$11,L15,$N$16:$BU$16,$CL$3)+COUNTIFS($N$11:$BU$11,L15,$N$14:$BU$14,$CL$3))","v":""},{"$f":"IF(L15=\"\",\"\",COUNTIFS($N$11:$BU$11,L15,$N$16:$BU$16,$CM$3))","v":""},{"$f":"IF(L15=\"\",\"\",COUNTIFS($N$11:$BU$11,L15,$N$16:$BU$16,$CN$3))","v":""},{"$f":"IF(L15=\"\",\"\",COUNTIFS($N$11:$BU$11,L15,$N$12:$BU$12,$CO$3)+COUNTIFS($N$11:$BU$11,L15,$N$13:$BU$13,$CO$3))","v":""},null,"見三振",null,null,null,null,null,"RR",7,null,"","先",null,null,null,{"$f":"IF(DF15=\"\",\"\",$V$2)","v":""},{"$f":"IFERROR(VLOOKUP(DG15,$C$29:$D$58,2,FALSE),\"\")","v":""},{"$f":"IF(G6=\"\",\"\",G6)","v":""},{"$f":"IF(DF15=\"\",\"\",SUMIFS($BW$6:$BW$58,$J$6:$J$58,DF15))","v":""},"","","","","","","","","","","","","","","","","","","",null,"",{"$f":"IF(EC15=\"\",\"\",VLOOKUP(EC15,$C$29:$D$58,2,FALSE))","v":""},{"$f":"IF(EC15=\"\",\"\",COUNTIFS($N$11:$BU$11,EC15,$N$16:$BU$16,\"RZ\"))","v":""},{"$f":"IF(ED15=\"\",\"\",COUNTIFS($N$11:$BU$11,EC15,$N$15:$BU$15,\"ZH\"))","v":""},null,"","","","","",null,"D","高橋　佑輔",{"$f":"IF(F10=\"\",\"\",F10)","v":3},"RR",4,4,1,2,0,0,0,0,1,1,0,0,0,0,1,0,0,0,17,null,"","","","","","","","","","","","","",null,null,null,null,null,null,null,null,null,null,null,null,null,null,null,null,null,null,null,null,null,null,null,null,null,null,null,null,null,null,null,null,null,null,null,null,null,null,null,null,null,null,null,null,null,null,null,null,"","","","","","","",""]
[null,null,"投手欄",null,null,null,null,null,null,{"$f":"IF(L16=\"\",\"\",VLOOKUP(L16,$C$29:$D$58,2,FALSE))","v":""},null,null,null,{"$f":"IFERROR(VLOOKUP(先攻T!K17,記号!$R$15:$S$20,2,FALSE),\"\")","v":""},{"$f":"IFERROR(VLOOKUP(先攻T!I17,記号!$O$5:$P$21,2,FALSE),\"\")","v":""},{"$f":"IFERROR(VLOOKUP(先攻T!F19,記号!$F$27:$G$37,2,FALSE),\"\")","v":"9'"},{"$f":"IFERROR(VLOOKUP(先攻T!F17,記号!$F$5:$G$21,2,FALSE),\"\")","v":"O"},{"$f":"IFERROR(VLOOKUP(先攻T!L18,記号!$U$5:$V$6,2,FALSE),\"\")","v":""},{"$f":"IFERROR(VLOOKUP(先攻T!W17,記号!$R$15:$S$20,2,FALSE),\"\")","v":""},{"$f":"IFERROR(VLOOKUP(先攻T!U17,記号!$O$5:$P$21,2,FALSE),\"\")","v":""},{"$f":"IFERROR(VLOOKUP(先攻T!R19,記号!$F$27:$G$37,2,FALSE),\"\")","v":""},{"$f":"IFERROR(VLOOKUP(先攻T!R17,記号!$F$5:$G$21,2,FALSE),\"\")","v":""},{"$f":"IFERROR(VLOOKUP(先攻T!X18,記号!$U$5:$V$6,2,FALSE),\"\")","v":""},{"$f":"IFERROR(VLOOKUP(先攻T!AI17,記号!$R$15:$S$20,2,FALSE),\"\")","v":1},{"$f":"IFERROR(VLOOKUP(先攻T!AG17,記号!$O$5:$P$21,2,FALSE),\"\")","v":""},{"$f":"IFERROR(VLOOKUP(先攻T!AD19,記号!$F$27:$G$37,2,FALSE),\"\")","v":"9'"},{"$f":"IFERROR(VLOOKUP(先攻T!AD17,記号!$F$5:$G$21,2,FALSE),\"\")","v":"GF"},{"$f":"IFERROR(VLOOKUP(先攻T!AJ18,記号!$U$5:$V$6,2,FALSE),\"\")","v":"RZ"},{"$f":"IFERROR(VLOOKUP(先攻T!AU17,記号!$R$15:$S$20,2,FALSE),\"\")","v":""},{"$f":"IFERROR(VLOOKUP(先攻T!AS17,記号!$O$5:$P$21,2,FALSE),\"\")","v":""},{"$f":"IFERROR(VLOOKUP(先攻T!AP19,記号!$F$27:$G$37,2,FALSE),\"\")","v":""},{"$f":"IFERROR(VLOOKUP(先攻T!AP17,記号!$F$5:$G$21,2,FALSE),\"\")","v":""},{"$f":"IFERROR(VLOOKUP(先攻T!AV18,記号!$U$5:$V$6,2,FALSE),\"\")","v":""},{"$f":"IFERROR(VLOOKUP(先攻T!BG17,記号!$R$15:$S$20,2,FALSE),\"\")","v":""},{"$f":"IFERROR(VLOOKUP(先攻T!BE17,記号!$O$5:$P$21,2,FALSE),\"\")","v":""},{"$f":"IFERROR(VLOOKUP(先攻T!BB19,記号!$F$27:$G$37,2,FALSE),\"\")","v":""},{"$f":"IFERROR(VLOOKUP(先攻T!BB17,記号!$F$5:$G$21,2,FALSE),\"\")","v":"K"},{"$f":"IFERROR(VLOOKUP(先攻T!BH18,記号!$U$5:$V$6,2,FALSE),\"\")","v":""},{"$f":"IFERROR(VLOOKUP(先攻T!BS14,記号!$R$15:$S$20,2,FALSE),\"\")","v":""},{"$f":"IFERROR(VLOOKUP(先攻T!BQ17,記号!$O$5:$P$21,2,FALSE),\"\")","v":""},{"$f":"IFERROR(VLOOKUP(先攻T!BN19,記号!$F$27:$G$37,2,FALSE),\"\")","v":""},{"$f":"IFERROR(VLOOKUP(先攻T!BN17,記号!$F$5:$G$21,2,FALSE),\"\")","v":""},{"$f":"IFERROR(VLOOKUP(先攻T!BT18,記号!$U$5:$V$6,2,FALSE),\"\")","v":""},{"$f":"IFERROR(VLOOKUP(先攻T!CE17,記号!$R$15:$S$20,2,FALSE),\"\")","v":""},{"$f":"IFERROR(VLOOKUP(先攻T!CC17,記号!$O$5:$P$21,2,FALSE),\"\")","v":""},{"$f":"IFERROR(VLOOKUP(先攻T!BZ19,記号!$F$27:$G$37,2,FALSE),\"\")","v":""},{"$f":"IFERROR(VLOOKUP(先攻T!BZ17,記号!$F$5:$G$21,2,FALSE),\"\")","v":""},{"$f":"IFERROR(VLOOKUP(先攻T!CF18,記号!$U$5:$V$6,2,FALSE),\"\")","v":""},{"$f":"IFERROR(VLOOKUP(先攻T!CQ17,記号!$R$15:$S$20,2,FALSE),\"\")","v":""},{"$f":"IFERROR(VLOOKUP(先攻T!CO17,記号!$O$5:$P$21,2,FALSE),\"\")","v":""},{"$f":"IFERROR(VLOOKUP(先攻T!CL19,記号!$F$27:$G$37,2,FALSE),\"\")","v":""},{"$f":"IFERROR(VLOOKUP(先攻T!CL17,記号!$F$5:$G$21,2,FALSE),\"\")","v":"K"},{"$f":"IFERROR(VLOOKUP(先攻T!CR18,記号!$U$5:$V$6,2,FALSE),\"\")","v":""},{"$f":"IFERROR(VLOOKUP(先攻T!DC17,記号!$R$15:$S$20,2,FALSE),\"\")","v":""},{"$f":"IFERROR(VLOOKUP(先攻T!DA17,記号!$O$5:$P$21,2,FALSE),\"\")","v":""},{"$f":"IFERROR(VLOOKUP(先攻T!CX19,記号!$F$27:$G$37,2,FALSE),\"\")","v":""},{"$f":"IFERROR(VLOOKUP(先攻T!CX17,記号!$F$5:$G$21,2,FALSE),\"\")","v":""},{"$f":"IFERROR(VLOOKUP(先攻T!DD18,記号!$U$5:$V$6,2,FALSE),\"\")","v":""},{"$f":"IFERROR(VLOOKUP(先攻T!DO17,記号!$R$15:$S$20,2,FALSE),\"\")","v":""},{"$f":"IFERROR(VLOOKUP(先攻T!DM17,記号!$O$5:$P$21,2,FALSE),\"\")","v":""},{"$f":"IFERROR(VLOOKUP(先攻T!DJ19,記号!$F$27:$G$37,2,FALSE),\"\")","v":""},{"$f":"IFERROR(VLOOKUP(先攻T!DJ17,記号!$F$5:$G$21,2,FALSE),\"\")","v":""},{"$f":"IFERROR(VLOOKUP(先攻T!DP18,記号!$U$5:$V$6,2,FALSE),\"\")","v":""},{"$f":"IFERROR(VLOOKUP(先攻T!EA17,記号!$R$15:$S$20,2,FALSE),\"\")","v":""},{"$f":"IFERROR(VLOOKUP(先攻T!DY17,記号!$O$5:$P$21,2,FALSE),\"\")","v":""},{"$f":"IFERROR(VLOOKUP(先攻T!DV19,記号!$F$27:$G$37,2,FALSE),\"\")","v":""},{"$f":"IFERROR(VLOOKUP(先攻T!DV17,記号!$F$5:$G$21,2,FALSE),\"\")","v":""},{"$f":"IFERROR(VLOOKUP(先攻T!EB18,記号!$U$5:$V$6,2,FALSE),\"\")","v":""},{"$f":"IFERROR(VLOOKUP(先攻T!EM17,記号!$R$15:$S$20,2,FALSE),\"\")","v":""},{"$f":"IFERROR(VLOOKUP(先攻T!EK17,記号!$O$5:$P$21,2,FALSE),\"\")","v":""},{"$f":"IFERROR(VLOOKUP(先攻T!EH19,記号!$F$27:$G$37,2,FALSE),\"\")","v":""},{"$f":"IFERROR(VLOOKUP(先攻T!EH17,記号!$F$5:$G$21,2,FALSE),\"\")","v":""},{"$f":"IFERROR(VLOOKUP(先攻T!EN18,記号!$U$5:$V$6,2,FALSE),\"\")","v":""},"",{"$f":"IF(L16=\"\",\"\",(BX16+CG16+CH16+CI16))","v":""},"",{"$f":"IF(L16=\"\",\"\",COUNTIFS($N$11:$BU$11,L16,$N$16:$BU$16,$BY$3))","v":""},{"$f":"IF(L16=\"\",\"\",COUNTIFS($N$11:$BU$11,L16,$N$16:$BU$16,$BZ$3))","v":""},{"$f":"IF(L16=\"\",\"\",COUNTIFS($N$11:$BU$11,L16,$N$14:$BU$14,$CA$3))","v":""},{"$f":"IF(L16=\"\",\"\",COUNTIFS($N$11:$BU$11,L16,$N$14:$BU$14,$CB$3))","v":""},{"$f":"IF(L16=\"\",\"\",COUNTIFS($N$11:$BU$11,L16,$N$16:$BU$16,$CC$3))","v":""},{"$f":"IF(L16=\"\",\"\",SUMIF($N$11:$BU$11,L16,$N$16:$BU$16))","v":""},{"$f":"IF(L16=\"\",\"\",COUNTIFS($N$11:$BU$11,L16,$N$15:$BU$15,$CE$3))","v":""},{"$f":"IF(L16=\"\",\"\",COUNTIFS($N$11:$BU$11,L16,$N$16:$BU$16,$CF$3))","v":""},{"$f":"IF(L16=\"\",\"\",COUNTIFS($N$11:$BU$11,L16,$N$16:$BU$16,$CG$3))","v":""},{"$f":"IF(L16=\"\",\"\",COUNTIFS($N$11:$BU$11,L16,$N$16:$BU$16,$CH$3))","v":""},{"$f":"IF(L16=\"\",\"\",COUNTIFS($N$11:$BU$11,L16,$N$16:$BU$16,$CI$3))","v":""},{"$f":"IF(L16=\"\",\"\",COUNTIFS($N$11:$BU$11,L16,$N$16:$BU$16,$CJ$3))","v":""},{"$f":"IF(L16=\"\",\"\",COUNTIFS($N$11:$BU$11,L16,$N$16:$BU$16,$CK$3)+COUNTIFS($N$11:$BU$11,L16,$N$14:$BU$14,$CK$3))","v":""},{"$f":"IF(L16=\"\",\"\",COUNTIFS($N$11:$BU$11,L16,$N$16:$BU$16,$CL$3)+COUNTIFS($N$11:$BU$11,L16,$N$14:$BU$14,$CL$3))","v":""},{"$f":"IF(L16=\"\",\"\",COUNTIFS($N$11:$BU$11,L16,$N$16:$BU$16,$CM$3))","v":""},{"$f":"IF(L16=\"\",\"\",COUNTIFS($N$11:$BU$11,L16,$N$16:$BU$16,$CN$3))","v":""},{"$f":"IF(L16=\"\",\"\",COUNTIFS($N$11:$BU$11,L16,$N$12:$BU$12,$CO$3)+COUNTIFS($N$11:$BU$11,L16,$N$13:$BU$13,$CO$3))","v":""},null,null,null,null,null,null,null,"",null,null,"",null,null,null,null,"","",{"$f":"IF(G7=\"\",\"\",G7)","v":""},"","","","","","","","","","","","","","","","","","","","",null,"",{"$f":"IF(EC16=\"\",\"\",VLOOKUP(EC16,$C$29:$D$58,2,FALSE))","v":""},{"$f":"IF(EC16=\"\",\"\",COUNTIFS($N$11:$BU$11,EC16,$N$16:$BU$16,\"RZ\"))","v":""},{"$f":"IF(ED16=\"\",\"\",COUNTIFS($N$11:$BU$11,EC16,$N$15:$BU$15,\"ZH\"))","v":""},null,"","","","","",null,"D","高橋　佑輔",{"$f":"IF(F10=\"\",\"\",F10)","v":3},"LL",0,0,0,0,0,0,0,0,0,0,0,0,0,0,0,0,0,0,0,null,"","","","","","","","","","","","","",null,null,null,null,null,null,null,null,null,null,null,null,null,null,null,null,null,null,null,null,null,null,null,null,null,null,null,null,null,null,null,null,null,null,null,null,null,null,null,null,null,null,null,null,null,null,null,null,"","","","","","","",""]
[null,null,"順番","選手名","PS","背番",null,null,null,null,null,null,"打者背番号を入力➡",{"$f":"先攻T!E20","v":1},{"$f":"N17","v":1},{"$f":"N17","v":1},{"$f":"N17","v":1},{"$f":"N17","v":1},{"$f":"先攻T!Q20","v":1},{"$f":"S17","v":1},{"$f":"S17","v":1},{"$f":"S17","v":1},{"$f":"S17","v":1},{"$f":"先攻T!AC20","v":1},{"$f":"X17","v":1},{"$f":"X17","v":1},{"$f":"X17","v":1},{"$f":"X17","v":1},{"$f":"先攻T!AO20","v":1},{"$f":"AC17","v":1},{"$f":"AC17","v":1},{"$f":"AC17","v":1},{"$f":"AC17","v":1},{"$f":"先攻T!BA20","v":1},{"$f":"AH17","v":1},{"$f":"AH17","v":1},{"$f":"AH17","v":1},{"$f":"AH17","v":1},{"$f":"先攻T!BM20","v":1},{"$f":"AM17","v":1},{"$f":"AM17","v":1},{"$f":"AM17","v":1},{"$f":"AM17","v":1},{"$f":"先攻T!BY20","v":1},{"$f":"AR17","v":1},{"$f":"AR17","v":1},{"$f":"AR17","v":1},{"$f":"AR17","v":1},{"$f":"先攻T!CK20","v":1},{"$f":"AW17","v":1},{"$f":"AW17","v":1},{"$f":"AW17","v":1},{"$f":"AW17","v":1},{"$f":"先攻T!CW20","v":1},{"$f":"BB17","v":1},{"$f":"BB17","v":1},{"$f":"BB17","v":1},{"$f":"BB17","v":1},{"$f":"先攻T!DI20","v":1},{"$f":"BG17","v":1},{"$f":"BG17","v":1},{"$f":"BG17","v":1},{"$f":"BG17","v":1},{"$f":"先攻T!DU20","v":1},{"$f":"BL17","v":1},{"$f":"BL17","v":1},{"$f":"BL17","v":1},{"$f":"BL17","v":1},{"$f":"先攻T!EG20","v":1},{"$f":"BQ17","v":1},{"$f":"BQ17","v":1},{"$f":"BQ17","v":1},{"$f":"BQ17","v":1},null,null,null,null,null,null,null,null,null,null,null,null,null,null,null,null,null,null,null,null,null,null,null,null,null,null,null,null,null,null,null,null,null,null,null,"","","","","","","","","","","","","","","","","","","","","","","",null,null,null,null,null,null,"","","","","",null,"D","菊池　彪吾",{"$f":"IF(F11=\"\",\"\",F11)","v":9},"RR",4,2,2,0,0,0,0,0,0,0,2,0,0,0,0,0,0,0,17,null,"","","","","","","","","","","","",""]
[null,null,null,null,null,null,null,null,{"$f":"IF(C7=\"\",\"\",C7)","v":"投"},{"$f":"IF(D7=\"\",\"\",D7)","v":"吉田　輝星"},{"$f":"IF(J18=\"\",\"\",\"先\")","v":"先"},{"$f":"IF(J18=\"\",\"\",F7)","v":1},"③",{"$f":"IFERROR(VLOOKUP(先攻T!F22,記号!$B$6:$C$10,2,FALSE),\"\")","v":"・□"},{"$f":"IFERROR(VLOOKUP(先攻T!G22,記号!$B$6:$C$10,2,FALSE),\"\")","v":"・〇"},{"$f":"IFERROR(VLOOKUP(先攻T!H22,記号!$B$6:$C$10,2,FALSE),\"\")","v":"・〇"},{"$f":"IFERROR(VLOOKUP(先攻T!I22,記号!$B$6:$C$10,2,FALSE),\"\")","v":""},{"$f":"IFERROR(VLOOKUP(先攻T!J22,記号!$B$6:$C$10,2,FALSE),\"\")","v":""},{"$f":"IFERROR(VLOOKUP(先攻T!R22,記号!$B$6:$C$10,2,FALSE),\"\")","v":""},{"$f":"IFERROR(VLOOKUP(先攻T!S22,記号!$B$6:$C$10,2,FALSE),\"\")","v":""},{"$f":"IFERROR(VLOOKUP(先攻T!T22,記号!$B$6:$C$10,2,FALSE),\"\")","v":""},{"$f":"IFERROR(VLOOKUP(先攻T!U22,記号!$B$6:$C$10,2,FALSE),\"\")","v":""},{"$f":"IFERROR(VLOOKUP(先攻T!V22,記号!$B$6:$C$10,2,FALSE),\"\")","v":""},{"$f":"IFERROR(VLOOKUP(先攻T!AD22,記号!$B$6:$C$10,2,FALSE),\"\")","v":"・〇"},{"$f":"IFERROR(VLOOKUP(先攻T!AE22,記号!$B$6:$C$10,2,FALSE),\"\")","v":"・◎"},{"$f":"IFERROR(VLOOKUP(先攻T!AF22,記号!$B$6:$C$10,2,FALSE),\"\")","v":""},{"$f":"IFERROR(VLOOKUP(先攻T!AG22,記号!$B$6:$C$10,2,FALSE),\"\")","v":""},{"$f":"IFERROR(VLOOKUP(先攻T!AH22,記号!$B$6:$C$10,2,FALSE),\"\")","v":""},{"$f":"IFERROR(VLOOKUP(先攻T!AP22,記号!$B$6:$C$10,2,FALSE),\"\")","v":""},{"$f":"IFERROR(VLOOKUP(先攻T!AQ22,記号!$B$6:$C$10,2,FALSE),\"\")","v":""},{"$f":"IFERROR(VLOOKUP(先攻T!AR22,記号!$B$6:$C$10,2,FALSE),\"\")","v":""},{"$f":"IFERROR(VLOOKUP(先攻T!AS22,記号!$B$6:$C$10,2,FALSE),\"\")","v":""},{"$f":"IFERROR(VLOOKUP(先攻T!AT22,記号!$B$6:$C$10,2,FALSE),\"\")","v":""},{"$f":"IFERROR(VLOOKUP(先攻T!BB31,記号!$B$6:$C$10,2,FALSE),\"\")","v":""},{"$f":"IFERROR(VLOOKUP(先攻T!BC31,記号!$B$6:$C$10,2,FALSE),\"\")","v":""},{"$f":"IFERROR(VLOOKUP(先攻T!BD31,記号!$B$6:$C$10,2,FALSE),\"\")","v":""},{"$f":"IFERROR(VLOOKUP(先攻T!BE31,記号!$B$6:$C$10,2,FALSE),\"\")","v":""},{"$f":"IFERROR(VLOOKUP(先攻T!BF31,記号!$B$6:$C$10,2,FALSE),\"\")","v":""},{"$f":"IFERROR(VLOOKUP(先攻T!BN22,記号!$B$6:$C$10,2,FALSE),\"\")","v":"・◎"},{"$f":"IFERROR(VLOOKUP(先攻T!BO22,記号!$B$6:$C$10,2,FALSE),\"\")","v":""},{"$f":"IFERROR(VLOOKUP(先攻T!BP22,記号!$B$6:$C$10,2,FALSE),\"\")","v":""},{"$f":"IFERROR(VLOOKUP(先攻T!BQ22,記号!$B$6:$C$10,2,FALSE),\"\")","v":""},{"$f":"IFERROR(VLOOKUP(先攻T!BR22,記号!$B$6:$C$10,2,FALSE),\"\")","v":""},{"$f":"IFERROR(VLOOKUP(先攻T!BZ22,記号!$B$6:$C$10,2,FALSE),\"\")","v":""},{"$f":"IFERROR(VLOOKUP(先攻T!CA22,記号!$B$6:$C$10,2,FALSE),\"\")","v":""},{"$f":"IFERROR(VLOOKUP(先攻T!CB22,記号!$B$6:$C$10,2,FALSE),\"\")","v":""},{"$f":"IFERROR(VLOOKUP(先攻T!CC22,記号!$B$6:$C$10,2,FALSE),\"\")","v":""},{"$f":"IFERROR(VLOOKUP(先攻T!CD22,記号!$B$6:$C$10,2,FALSE),\"\")","v":""},{"$f":"IFERROR(VLOOKUP(先攻T!CL22,記号!$B$6:$C$10,2,FALSE),\"\")","v":"・●"},{"$f":"IFERROR(VLOOKUP(先攻T!CM22,記号!$B$6:$C$10,2,FALSE),\"\")","v":"・◎"},{"$f":"IFERROR(VLOOKUP(先攻T!CN22,記号!$B$6:$C$10,2,FALSE),\"\")","v":""},{"$f":"IFERROR(VLOOKUP(先攻T!CO22,記号!$B$6:$C$10,2,FALSE),\"\")","v":""},{"$f":"IFERROR(VLOOKUP(先攻T!CP22,記号!$B$6:$C$10,2,FALSE),\"\")","v":""},{"$f":"IFERROR(VLOOKUP(先攻T!CX22,記号!$B$6:$C$10,2,FALSE),\"\")","v":""},{"$f":"IFERROR(VLOOKUP(先攻T!CY22,記号!$B$6:$C$10,2,FALSE),\"\")","v":""},{"$f":"IFERROR(VLOOKUP(先攻T!CZ22,記号!$B$6:$C$10,2,FALSE),\"\")","v":""},{"$f":"IFERROR(VLOOKUP(先攻T!DA22,記号!$B$6:$C$10,2,FALSE),\"\")","v":""},{"$f":"IFERROR(VLOOKUP(先攻T!DB22,記号!$B$6:$C$10,2,FALSE),\"\")","v":""},{"$f":"IFERROR(VLOOKUP(先攻T!DJ22,記号!$B$6:$C$10,2,FALSE),\"\")","v":""},{"$f":"IFERROR(VLOOKUP(先攻T!DK22,記号!$B$6:$C$10,2,FALSE),\"\")","v":""},{"$f":"IFERROR(VLOOKUP(先攻T!DL22,記号!$B$6:$C$10,2,FALSE),\"\")","v":""},{"$f":"IFERROR(VLOOKUP(先攻T!DM22,記号!$B$6:$C$10,2,FALSE),\"\")","v":""},{"$f":"IFERROR(VLOOKUP(先攻T!DN22,記号!$B$6:$C$10,2,FALSE),\"\")","v":""},{"$f":"IFERROR(VLOOKUP(先攻T!DV22,記号!$B$6:$C$10,2,FALSE),\"\")","v":""},{"$f":"IFERROR(VLOOKUP(先攻T!DW22,記号!$B$6:$C$10,2,FALSE),\"\")","v":""},{"$f":"IFERROR(VLOOKUP(先攻T!DX22,記号!$B$6:$C$10,2,FALSE),\"\")","v":""},{"$f":"IFERROR(VLOOKUP(先攻T!DY22,記号!$B$6:$C$10,2,FALSE),\"\")","v":""},{"$f":"IFERROR(VLOOKUP(先攻T!DZ22,記号!$B$6:$C$10,2,FALSE),\"\")","v":""},{"$f":"IFERROR(VLOOKUP(先攻T!EH22,記号!$B$6:$C$10,2,FALSE),\"\")","v":""},{"$f":"IFERROR(VLOOKUP(先攻T!EI22,記号!$B$6:$C$10,2,FALSE),\"\")","v":""},{"$f":"IFERROR(VLOOKUP(先攻T!EJ22,記号!$B$6:$C$10,2,FALSE),\"\")","v":""},{"$f":"IFERROR(VLOOKUP(先攻T!EK22,記号!$B$6:$C$10,2,FALSE),\"\")","v":""},{"$f":"IFERROR(VLOOKUP(先攻T!EL22,記号!$B$6:$C$10,2,FALSE),\"\")","v":""},"RR",{"$f":"IF(L18=\"\",\"\",(BX18+CG18+CH18+CI18))","v":4},{"$f":"IF(L18=\"\",\"\",(BY18+BZ18+CA18+CB18+CC18+CF18+CJ18+CM18+CN18))","v":4},{"$f":"IF(L18=\"\",\"\",COUNTIFS($N$17:$BU$17,L18,$N$22:$BU$22,$BY$3))","v":3},{"$f":"IF(L18=\"\",\"\",COUNTIFS($N$17:$BU$17,L18,$N$22:$BU$22,$BZ$3))","v":0},{"$f":"IF(L18=\"\",\"\",COUNTIFS($N$17:$BU$17,L18,$N$20:$BU$20,$CA$3))","v":0},{"$f":"IF(L18=\"\",\"\",COUNTIFS($N$17:$BU$17,L18,$N$20:$BU$20,$CB$3))","v":0},{"$f":"IF(L18=\"\",\"\",COUNTIFS($N$17:$BU$17,L18,$N$22:$BU$22,$CC$3))","v":0},{"$f":"IF(L18=\"\",\"\",SUMIF($N$17:$BU$17,L18,$N$22:$BU$22))","v":0},{"$f":"IF(L18=\"\",\"\",COUNTIFS($N$17:$BU$17,L18,$N$21:$BU$21,$CE$3))","v":0},{"$f":"IF(L18=\"\",\"\",COUNTIFS($N$17:$BU$17,L18,$N$22:$BU$22,$CF$3))","v":1},{"$f":"IF(L18=\"\",\"\",COUNTIFS($N$17:$BU$17,L18,$N$22:$BU$22,$CG$3))","v":0},{"$f":"IF(L18=\"\",\"\",COUNTIFS($N$17:$BU$17,L18,$N$22:$BU$22,$CH$3))","v":0},{"$f":"IF(L18=\"\",\"\",COUNTIFS($N$17:$BU$17,L18,$N$22:$BU$22,$CI$3))","v":0},{"$f":"IF(L18=\"\",\"\",COUNTIFS($N$17:$BU$17,L18,$N$22:$BU$22,$CJ$3))","v":0},{"$f":"IF(L18=\"\",\"\",COUNTIFS($N$17:$BU$17,L18,$N$22:$BU$22,$CK$3)+COUNTIFS($N$17:$BU$17,L18,$N$20:$BU$20,$CK$3))","v":0},{"$f":"IF(L18=\"\",\"\",COUNTIFS($N$17:$BU$17,L18,$N$22:$BU$22,$CL$3)+COUNTIFS($N$17:$BU$17,L18,$N$20:$BU$20,$CL$3))","v":0},{"$f":"IF(L18=\"\",\"\",COUNTIFS($N$17:$BU$17,L18,$N$22:$BU$22,$CM$3))","v":0},{"$f":"IF(L18=\"\",\"\",COUNTIFS($N$17:$BU$17,L18,$N$22:$BU$22,$CN$3))","v":0},{"$f":"IF(L18=\"\",\"\",COUNTIFS($N$17:$BU$17,L18,$N$18:$BU$18,$CO$3)+COUNTIFS($N$17:$BU$17,L18,$N$19:$BU$19,$CO$3))","v":8},"先","見三振",null,null,null,null,null,{"$f":"IF(DA18=\"\",\"\",VLOOKUP(DA18,$C$84:$E$89,3,FALSE))","v":"RR"},1,null,"","先",null,null,null,"","","","","","","","","","","","","","","",{"$f":"IF(DF18=\"\",\"\",SUMIFS($CI$6:$CI$58,$J$6:$J$58,DF18))","v":""},"","","","","","","",null,1,{"$f":"IF(EC18=\"\",\"\",VLOOKUP(EC18,$C$29:$D$58,2,FALSE))","v":"吉田　輝星"},{"$f":"IF(EC18=\"\",\"\",COUNTIFS($N$17:$BU$17,EC18,$N$22:$BU$22,\"RZ\"))","v":0},{"$f":"IF(ED18=\"\",\"\",COUNTIFS($N$17:$BU$17,EC18,$N$21:$BU$21,\"ZH\"))","v":0},null,"","","","","",null,"D","菊池　彪吾",{"$f":"IF(F11=\"\",\"\",F11)","v":9},"LL",0,0,0,0,0,0,0,0,0,0,0,0,0,0,0,0,0,0,0,null,"","","","","","","","","","","","","",null,null,null,null,null,null,null,null,null,null,null,null,null,null,null,null,null,null,null,null,null,null,null,null,null,null,null,null,null,null,null,null,null,null,null,null,null,null,null,null,null,null,null,null,null,null,null,null,"吉田　輝星",{"$f":"IF(L18=\"\",\"\",L18)","v":1},{"$f":"IF(HU18=\"\",\"\",COUNTIFS($N$17:$BU$17,HV18,$N$18:$BU$18,$HW$3)+COUNTIFS($N$17:$BU$17,HV18,$N$19:$BU$19,$HW$3))","v":8},{"$f":"IF(HU18=\"\",\"\",COUNTIFS($N$17:$BU$17,HV18,$N$18:$BU$18,$HX$3)+COUNTIFS($N$17:$BU$17,HV18,$N$19:$BU$19,$HX$3))","v":1},{"$f":"IF(HU18=\"\",\"\",COUNTIFS($N$17:$BU$17,HV18,$N$18:$BU$18,$HY$3)+COUNTIFS($N$17:$BU$17,HV18,$N$19:$BU$19,$HY$3))","v":3},{"$f":"IF(HU18=\"\",\"\",COUNTIFS($N$17:$BU$17,HV18,$N$18:$BU$18,$HZ$3)+COUNTIFS($N$17:$BU$17,HV18,$N$19:$BU$19,$HZ$3))","v":0},{"$f":"IF(HU18=\"\",\"\",COUNTIFS($N$17:$BU$17,HV18,$N$18:$BU$18,$IA$3)+COUNTIFS($N$17:$BU$17,HV18,$N$19:$BU$19,$IA$3))","v":1},{"$f":"IF(HU18=\"\",\"\",COUNTIFS($N$17:$BU$17,HV18,$N$18:$BU$18,$IB$3)+COUNTIFS($N$17:$BU$17,HV18,$N$19:$BU$19,$IB$3))","v":3}]
[null,null,"先","吉田　輝星",{"$f":"IF(D19=\"\",\"\",VLOOKUP(D19,$D$29:$F$58,2,FALSE))","v":"RR"},{"$f":"IF(D19=\"\",\"\",VLOOKUP(D19,$D$29:$F$58,3,FALSE))","v":1},null,null,"一",{"$f":"IF(L19=\"\",\"\",VLOOKUP(L19,$C$29:$D$58,2,FALSE))","v":""},null,null,null,{"$f":"IFERROR(VLOOKUP(先攻T!K22,記号!$B$6:$C$10,2,FALSE),\"\")","v":""},{"$f":"IFERROR(VLOOKUP(先攻T!L22,記号!$B$6:$C$10,2,FALSE),\"\")","v":""},{"$f":"IFERROR(VLOOKUP(先攻T!F24,記号!$B$6:$C$10,2,FALSE),\"\")","v":""},{"$f":"IFERROR(VLOOKUP(先攻T!G24,記号!$B$6:$C$10,2,FALSE),\"\")","v":""},{"$f":"IFERROR(VLOOKUP(先攻T!H24,記号!$B$6:$C$10,2,FALSE),\"\")","v":""},{"$f":"IFERROR(VLOOKUP(先攻T!W22,記号!$B$6:$C$10,2,FALSE),\"\")","v":""},{"$f":"IFERROR(VLOOKUP(先攻T!X22,記号!$B$6:$C$10,2,FALSE),\"\")","v":""},{"$f":"IFERROR(VLOOKUP(先攻T!R24,記号!$B$6:$C$10,2,FALSE),\"\")","v":""},{"$f":"IFERROR(VLOOKUP(先攻T!S24,記号!$B$6:$C$10,2,FALSE),\"\")","v":""},{"$f":"IFERROR(VLOOKUP(先攻T!T24,記号!$B$6:$C$10,2,FALSE),\"\")","v":""},{"$f":"IFERROR(VLOOKUP(先攻T!AI22,記号!$B$6:$C$10,2,FALSE),\"\")","v":""},{"$f":"IFERROR(VLOOKUP(先攻T!AJ22,記号!$B$6:$C$10,2,FALSE),\"\")","v":""},{"$f":"IFERROR(VLOOKUP(先攻T!AD24,記号!$B$6:$C$10,2,FALSE),\"\")","v":""},{"$f":"IFERROR(VLOOKUP(先攻T!AE24,記号!$B$6:$C$10,2,FALSE),\"\")","v":""},{"$f":"IFERROR(VLOOKUP(先攻T!AF24,記号!$B$6:$C$10,2,FALSE),\"\")","v":""},{"$f":"IFERROR(VLOOKUP(先攻T!AU22,記号!$B$6:$C$10,2,FALSE),\"\")","v":""},{"$f":"IFERROR(VLOOKUP(先攻T!AV22,記号!$B$6:$C$10,2,FALSE),\"\")","v":""},{"$f":"IFERROR(VLOOKUP(先攻T!AP24,記号!$B$6:$C$10,2,FALSE),\"\")","v":""},{"$f":"IFERROR(VLOOKUP(先攻T!AQ24,記号!$B$6:$C$10,2,FALSE),\"\")","v":""},{"$f":"IFERROR(VLOOKUP(先攻T!AR24,記号!$B$6:$C$10,2,FALSE),\"\")","v":""},{"$f":"IFERROR(VLOOKUP(先攻T!BG31,記号!$B$6:$C$10,2,FALSE),\"\")","v":""},{"$f":"IFERROR(VLOOKUP(先攻T!BH31,記号!$B$6:$C$10,2,FALSE),\"\")","v":""},{"$f":"IFERROR(VLOOKUP(先攻T!BB24,記号!$B$6:$C$10,2,FALSE),\"\")","v":""},{"$f":"IFERROR(VLOOKUP(先攻T!BC24,記号!$B$6:$C$10,2,FALSE),\"\")","v":""},{"$f":"IFERROR(VLOOKUP(先攻T!BD24,記号!$B$6:$C$10,2,FALSE),\"\")","v":""},{"$f":"IFERROR(VLOOKUP(先攻T!BS22,記号!$B$6:$C$10,2,FALSE),\"\")","v":""},{"$f":"IFERROR(VLOOKUP(先攻T!BT22,記号!$B$6:$C$10,2,FALSE),\"\")","v":""},{"$f":"IFERROR(VLOOKUP(先攻T!BN24,記号!$B$6:$C$10,2,FALSE),\"\")","v":""},{"$f":"IFERROR(VLOOKUP(先攻T!BO24,記号!$B$6:$C$10,2,FALSE),\"\")","v":""},{"$f":"IFERROR(VLOOKUP(先攻T!BP24,記号!$B$6:$C$10,2,FALSE),\"\")","v":""},{"$f":"IFERROR(VLOOKUP(先攻T!CE22,記号!$B$6:$C$10,2,FALSE),\"\")","v":""},{"$f":"IFERROR(VLOOKUP(先攻T!CF22,記号!$B$6:$C$10,2,FALSE),\"\")","v":""},{"$f":"IFERROR(VLOOKUP(先攻T!BZ24,記号!$B$6:$C$10,2,FALSE),\"\")","v":""},{"$f":"IFERROR(VLOOKUP(先攻T!CA24,記号!$B$6:$C$10,2,FALSE),\"\")","v":""},{"$f":"IFERROR(VLOOKUP(先攻T!CB24,記号!$B$6:$C$10,2,FALSE),\"\")","v":""},{"$f":"IFERROR(VLOOKUP(先攻T!CQ22,記号!$B$6:$C$10,2,FALSE),\"\")","v":""},{"$f":"IFERROR(VLOOKUP(先攻T!CR22,記号!$B$6:$C$10,2,FALSE),\"\")","v":""},{"$f":"IFERROR(VLOOKUP(先攻T!CL24,記号!$B$6:$C$10,2,FALSE),\"\")","v":""},{"$f":"IFERROR(VLOOKUP(先攻T!CM24,記号!$B$6:$C$10,2,FALSE),\"\")","v":""},{"$f":"IFERROR(VLOOKUP(先攻T!CN24,記号!$B$6:$C$10,2,FALSE),\"\")","v":""},{"$f":"IFERROR(VLOOKUP(先攻T!DC22,記号!$B$6:$C$10,2,FALSE),\"\")","v":""},{"$f":"IFERROR(VLOOKUP(先攻T!DD22,記号!$B$6:$C$10,2,FALSE),\"\")","v":""},{"$f":"IFERROR(VLOOKUP(先攻T!CX24,記号!$B$6:$C$10,2,FALSE),\"\")","v":""},{"$f":"IFERROR(VLOOKUP(先攻T!CY24,記号!$B$6:$C$10,2,FALSE),\"\")","v":""},{"$f":"IFERROR(VLOOKUP(先攻T!CZ24,記号!$B$6:$C$10,2,FALSE),\"\")","v":""},{"$f":"IFERROR(VLOOKUP(先攻T!DO22,記号!$B$6:$C$10,2,FALSE),\"\")","v":""},{"$f":"IFERROR(VLOOKUP(先攻T!DP22,記号!$B$6:$C$10,2,FALSE),\"\")","v":""},{"$f":"IFERROR(VLOOKUP(先攻T!DJ24,記号!$B$6:$C$10,2,FALSE),\"\")","v":""},{"$f":"IFERROR(VLOOKUP(先攻T!DK24,記号!$B$6:$C$10,2,FALSE),\"\")","v":""},{"$f":"IFERROR(VLOOKUP(先攻T!DL24,記号!$B$6:$C$10,2,FALSE),\"\")","v":""},{"$f":"IFERROR(VLOOKUP(先攻T!EA22,記号!$B$6:$C$10,2,FALSE),\"\")","v":""},{"$f":"IFERROR(VLOOKUP(先攻T!EB22,記号!$B$6:$C$10,2,FALSE),\"\")","v":""},{"$f":"IFERROR(VLOOKUP(先攻T!DV24,記号!$B$6:$C$10,2,FALSE),\"\")","v":""},{"$f":"IFERROR(VLOOKUP(先攻T!DW24,記号!$B$6:$C$10,2,FALSE),\"\")","v":""},{"$f":"IFERROR(VLOOKUP(先攻T!DX24,記号!$B$6:$C$10,2,FALSE),\"\")","v":""},{"$f":"IFERROR(VLOOKUP(先攻T!EM22,記号!$B$6:$C$10,2,FALSE),\"\")","v":""},{"$f":"IFERROR(VLOOKUP(先攻T!EN22,記号!$B$6:$C$10,2,FALSE),\"\")","v":""},{"$f":"IFERROR(VLOOKUP(先攻T!EH24,記号!$B$6:$C$10,2,FALSE),\"\")","v":""},{"$f":"IFERROR(VLOOKUP(先攻T!EI24,記号!$B$6:$C$10,2,FALSE),\"\")","v":""},{"$f":"IFERROR(VLOOKUP(先攻T!EJ24,記号!$B$6:$C$10,2,FALSE),\"\")","v":""},"",{"$f":"IF(L19=\"\",\"\",(BX19+CG19+CH19+CI19))","v":""},"",{"$f":"IF(L19=\"\",\"\",COUNTIFS($N$17:$BU$17,L19,$N$22:$BU$22,$BY$3))","v":""},{"$f":"IF(L19=\"\",\"\",COUNTIFS($N$17:$BU$17,L19,$N$22:$BU$22,$BZ$3))","v":""},{"$f":"IF(L19=\"\",\"\",COUNTIFS($N$17:$BU$17,L19,$N$20:$BU$20,$CA$3))","v":""},{"$f":"IF(L19=\"\",\"\",COUNTIFS($N$17:$BU$17,L19,$N$20:$BU$20,$CB$3))","v":""},{"$f":"IF(L19=\"\",\"\",COUNTIFS($N$17:$BU$17,L19,$N$22:$BU$22,$CC$3))","v":""},{"$f":"IF(L19=\"\",\"\",SUMIF($N$17:$BU$17,L19,$N$22:$BU$22))","v":""},{"$f":"IF(L19=\"\",\"\",COUNTIFS($N$17:$BU$17,L19,$N$21:$BU$21,$CE$3))","v":""},{"$f":"IF(L19=\"\",\"\",COUNTIFS($N$17:$BU$17,L19,$N$22:$BU$22,$CF$3))","v":""},{"$f":"IF(L19=\"\",\"\",COUNTIFS($N$17:$BU$17,L19,$N$22:$BU$22,$CG$3))","v":""},{"$f":"IF(L19=\"\",\"\",COUNTIFS($N$17:$BU$17,L19,$N$22:$BU$22,$CH$3))","v":""},{"$f":"IF(L19=\"\",\"\",COUNTIFS($N$17:$BU$17,L19,$N$22:$BU$22,$CI$3))","v":""},{"$f":"IF(L19=\"\",\"\",COUNTIFS($N$17:$BU$17,L19,$N$22:$BU$22,$CJ$3))","v":""},{"$f":"IF(L19=\"\",\"\",COUNTIFS($N$17:$BU$17,L19,$N$22:$BU$22,$CK$3)+COUNTIFS($N$17:$BU$17,L19,$N$20:$BU$20,$CK$3))","v":""},{"$f":"IF(L19=\"\",\"\",COUNTIFS($N$17:$BU$17,L19,$N$22:$BU$22,$CL$3)+COUNTIFS($N$17:$BU$17,L19,$N$20:$BU$20,$CL$3))","v":""},{"$f":"IF(L19=\"\",\"\",COUNTIFS($N$17:$BU$17,L19,$N$22:$BU$22,$CM$3))","v":""},{"$f":"IF(L19=\"\",\"\",COUNTIFS($N$17:$BU$17,L19,$N$22:$BU$22,$CN$3))","v":""},{"$f":"IF(L19=\"\",\"\",COUNTIFS($N$17:$BU$17,L19,$N$18:$BU$18,$CO$3)+COUNTIFS($N$17:$BU$17,L19,$N$19:$BU$19,$CO$3))","v":""},null,"一ゴロ",null,null,null,null,"G",{"$f":"IF(DA19=\"\",\"\",VLOOKUP(DA19,$C$84:$E$89,3,FALSE))","v":"RR"},1,"一",3,"先",null,null,null,"","","","","","","","","","","","","","","","","","","","","","","",null,"","",{"$f":"IF(EC19=\"\",\"\",COUNTIFS($N$17:$BU$17,EC19,$N$22:$BU$22,\"RZ\"))","v":""},{"$f":"IF(ED19=\"\",\"\",COUNTIFS($N$17:$BU$17,EC19,$N$21:$BU$21,\"ZH\"))","v":""},null,"","","","","",null,"D","菊池　亮太",{"$f":"IF(F12=\"\",\"\",F12)","v":2},"RR",3,3,2,0,1,0,0,1,0,0,0,0,0,0,0,0,0,0,7,null,"","","","","","","","","","","","","",null,null,null,null,null,null,null,null,null,null,null,null,null,null,null,null,null,null,null,null,null,null,null,null,null,null,null,null,null,null,null,null,null,null,null,null,null,null,null,null,null,null,null,null,null,null,null,null,"","",{"$f":"IF(HU19=\"\",\"\",COUNTIFS($N$17:$BU$17,HV19,$N$18:$BU$18,$HW$3)+COUNTIFS($N$17:$BU$17,HV19,$N$19:$BU$19,$HW$3))","v":""},{"$f":"IF(HU19=\"\",\"\",COUNTIFS($N$17:$BU$17,HV19,$N$18:$BU$18,$HX$3)+COUNTIFS($N$17:$BU$17,HV19,$N$19:$BU$19,$HX$3))","v":""},{"$f":"IF(HU19=\"\",\"\",COUNTIFS($N$17:$BU$17,HV19,$N$18:$BU$18,$HY$3)+COUNTIFS($N$17:$BU$17,HV19,$N$19:$BU$19,$HY$3))","v":""},{"$f":"IF(HU19=\"\",\"\",COUNTIFS($N$17:$BU$17,HV19,$N$18:$BU$18,$HZ$3)+COUNTIFS($N$17:$BU$17,HV19,$N$19:$BU$19,$HZ$3))","v":""},{"$f":"IF(HU19=\"\",\"\",COUNTIFS($N$17:$BU$17,HV19,$N$18:$BU$18,$IA$3)+COUNTIFS($N$17:$BU$17,HV19,$N$19:$BU$19,$IA$3))","v":""},{"$f":"IF(HU19=\"\",\"\",COUNTIFS($N$17:$BU$17,HV19,$N$18:$BU$18,$IB$3)+COUNTIFS($N$17:$BU$17,HV19,$N$19:$BU$19,$IB$3))","v":""}]
[null,null,2,"打川　和輝","RR",5,null,null,null,{"$f":"IF(L20=\"\",\"\",VLOOKUP(L20,$C$29:$D$58,2,FALSE))","v":""},null,null,null,{"$f":"IFERROR(VLOOKUP(先攻T!F27,記号!$I$27:$J$30,2,FALSE),\"\")","v":""},{"$f":"IFERROR(VLOOKUP(先攻T!H26,記号!$L$5:$M$21,2,FALSE),\"\")","v":""},{"$f":"IFERROR(VLOOKUP(先攻T!H28,記号!$F$27:$G$37,2,FALSE),\"\")","v":""},{"$f":"IFERROR(VLOOKUP(先攻T!G26,記号!$I$5:$J$23,2,FALSE),\"\")","v":""},null,{"$f":"IFERROR(VLOOKUP(先攻T!R27,記号!$I$27:$J$30,2,FALSE),\"\")","v":""},{"$f":"IFERROR(VLOOKUP(先攻T!T26,記号!$L$5:$M$21,2,FALSE),\"\")","v":""},{"$f":"IFERROR(VLOOKUP(先攻T!T28,記号!$F$27:$G$37,2,FALSE),\"\")","v":""},{"$f":"IFERROR(VLOOKUP(先攻T!S26,記号!$I$5:$J$23,2,FALSE),\"\")","v":""},null,{"$f":"IFERROR(VLOOKUP(先攻T!AD27,記号!$I$27:$J$30,2,FALSE),\"\")","v":"G"},{"$f":"IFERROR(VLOOKUP(先攻T!AF26,記号!$L$5:$M$21,2,FALSE),\"\")","v":""},{"$f":"IFERROR(VLOOKUP(先攻T!AF28,記号!$F$27:$G$37,2,FALSE),\"\")","v":""},{"$f":"IFERROR(VLOOKUP(先攻T!AE26,記号!$I$5:$J$23,2,FALSE),\"\")","v":""},null,{"$f":"IFERROR(VLOOKUP(先攻T!AP27,記号!$I$27:$J$30,2,FALSE),\"\")","v":""},{"$f":"IFERROR(VLOOKUP(先攻T!AR26,記号!$L$5:$M$21,2,FALSE),\"\")","v":""},{"$f":"IFERROR(VLOOKUP(先攻T!AR28,記号!$F$27:$G$37,2,FALSE),\"\")","v":""},{"$f":"IFERROR(VLOOKUP(先攻T!AQ26,記号!$I$5:$J$23,2,FALSE),\"\")","v":""},null,{"$f":"IFERROR(VLOOKUP(先攻T!BB27,記号!$I$27:$J$30,2,FALSE),\"\")","v":""},{"$f":"IFERROR(VLOOKUP(先攻T!BD26,記号!$L$5:$M$21,2,FALSE),\"\")","v":""},{"$f":"IFERROR(VLOOKUP(先攻T!BD28,記号!$F$27:$G$37,2,FALSE),\"\")","v":""},{"$f":"IFERROR(VLOOKUP(先攻T!BC26,記号!$I$5:$J$23,2,FALSE),\"\")","v":""},null,{"$f":"IFERROR(VLOOKUP(先攻T!BN27,記号!$I$27:$J$30,2,FALSE),\"\")","v":"G"},{"$f":"IFERROR(VLOOKUP(先攻T!BP26,記号!$L$5:$M$21,2,FALSE),\"\")","v":""},{"$f":"IFERROR(VLOOKUP(先攻T!BP28,記号!$F$27:$G$37,2,FALSE),\"\")","v":""},{"$f":"IFERROR(VLOOKUP(先攻T!BO26,記号!$I$5:$J$23,2,FALSE),\"\")","v":""},null,{"$f":"IFERROR(VLOOKUP(先攻T!BZ27,記号!$I$27:$J$30,2,FALSE),\"\")","v":""},{"$f":"IFERROR(VLOOKUP(先攻T!CB26,記号!$L$5:$M$21,2,FALSE),\"\")","v":""},{"$f":"IFERROR(VLOOKUP(先攻T!CB28,記号!$F$27:$G$37,2,FALSE),\"\")","v":""},{"$f":"IFERROR(VLOOKUP(先攻T!CA26,記号!$I$5:$J$23,2,FALSE),\"\")","v":""},null,{"$f":"IFERROR(VLOOKUP(先攻T!CL27,記号!$I$27:$J$30,2,FALSE),\"\")","v":"F"},{"$f":"IFERROR(VLOOKUP(先攻T!CN26,記号!$L$5:$M$21,2,FALSE),\"\")","v":""},{"$f":"IFERROR(VLOOKUP(先攻T!CN28,記号!$F$27:$G$37,2,FALSE),\"\")","v":""},{"$f":"IFERROR(VLOOKUP(先攻T!CM26,記号!$I$5:$J$23,2,FALSE),\"\")","v":""},null,{"$f":"IFERROR(VLOOKUP(先攻T!CX27,記号!$I$27:$J$30,2,FALSE),\"\")","v":""},{"$f":"IFERROR(VLOOKUP(先攻T!CZ26,記号!$L$5:$M$21,2,FALSE),\"\")","v":""},{"$f":"IFERROR(VLOOKUP(先攻T!CZ28,記号!$F$27:$G$37,2,FALSE),\"\")","v":""},{"$f":"IFERROR(VLOOKUP(先攻T!CY26,記号!$I$5:$J$23,2,FALSE),\"\")","v":""},null,{"$f":"IFERROR(VLOOKUP(先攻T!DJ27,記号!$I$27:$J$30,2,FALSE),\"\")","v":""},{"$f":"IFERROR(VLOOKUP(先攻T!DL26,記号!$L$5:$M$21,2,FALSE),\"\")","v":""},{"$f":"IFERROR(VLOOKUP(先攻T!DL28,記号!$F$27:$G$37,2,FALSE),\"\")","v":""},{"$f":"IFERROR(VLOOKUP(先攻T!DK26,記号!$I$5:$J$23,2,FALSE),\"\")","v":""},null,{"$f":"IFERROR(VLOOKUP(先攻T!DV27,記号!$I$27:$J$30,2,FALSE),\"\")","v":""},{"$f":"IFERROR(VLOOKUP(先攻T!DX26,記号!$L$5:$M$21,2,FALSE),\"\")","v":""},{"$f":"IFERROR(VLOOKUP(先攻T!DX28,記号!$F$27:$G$37,2,FALSE),\"\")","v":""},{"$f":"IFERROR(VLOOKUP(先攻T!DW26,記号!$I$5:$J$23,2,FALSE),\"\")","v":""},null,{"$f":"IFERROR(VLOOKUP(先攻T!EH27,記号!$I$27:$J$30,2,FALSE),\"\")","v":""},{"$f":"IFERROR(VLOOKUP(先攻T!EJ26,記号!$L$5:$M$21,2,FALSE),\"\")","v":""},{"$f":"IFERROR(VLOOKUP(先攻T!EJ28,記号!$F$27:$G$37,2,FALSE),\"\")","v":""},{"$f":"IFERROR(VLOOKUP(先攻T!EI26,記号!$I$5:$J$23,2,FALSE),\"\")","v":""},null,"",{"$f":"IF(L20=\"\",\"\",(BX20+CG20+CH20+CI20))","v":""},"",{"$f":"IF(L20=\"\",\"\",COUNTIFS($N$17:$BU$17,L20,$N$22:$BU$22,$BY$3))","v":""},{"$f":"IF(L20=\"\",\"\",COUNTIFS($N$17:$BU$17,L20,$N$22:$BU$22,$BZ$3))","v":""},{"$f":"IF(L20=\"\",\"\",COUNTIFS($N$17:$BU$17,L20,$N$20:$BU$20,$CA$3))","v":""},{"$f":"IF(L20=\"\",\"\",COUNTIFS($N$17:$BU$17,L20,$N$20:$BU$20,$CB$3))","v":""},{"$f":"IF(L20=\"\",\"\",COUNTIFS($N$17:$BU$17,L20,$N$22:$BU$22,$CC$3))","v":""},{"$f":"IF(L20=\"\",\"\",SUMIF($N$17:$BU$17,L20,$N$22:$BU$22))","v":""},{"$f":"IF(L20=\"\",\"\",COUNTIFS($N$17:$BU$17,L20,$N$21:$BU$21,$CE$3))","v":""},{"$f":"IF(L20=\"\",\"\",COUNTIFS($N$17:$BU$17,L20,$N$22:$BU$22,$CF$3))","v":""},{"$f":"IF(L20=\"\",\"\",COUNTIFS($N$17:$BU$17,L20,$N$22:$BU$22,$CG$3))","v":""},{"$f":"IF(L20=\"\",\"\",COUNTIFS($N$17:$BU$17,L20,$N$22:$BU$22,$CH$3))","v":""},{"$f":"IF(L20=\"\",\"\",COUNTIFS($N$17:$BU$17,L20,$N$22:$BU$22,$CI$3))","v":""},{"$f":"IF(L20=\"\",\"\",COUNTIFS($N$17:$BU$17,L20,$N$22:$BU$22,$CJ$3))","v":""},{"$f":"IF(L20=\"\",\"\",COUNTIFS($N$17:$BU$17,L20,$N$22:$BU$22,$CK$3)+COUNTIFS($N$17:$BU$17,L20,$N$20:$BU$20,$CK$3))","v":""},{"$f":"IF(L20=\"\",\"\",COUNTIFS($N$17:$BU$17,L20,$N$22:$BU$22,$CL$3)+COUNTIFS($N$17:$BU$17,L20,$N$20:$BU$20,$CL$3))","v":""},{"$f":"IF(L20=\"\",\"\",COUNTIFS($N$17:$BU$17,L20,$N$22:$BU$22,$CM$3))","v":""},{"$f":"IF(L20=\"\",\"\",COUNTIFS($N$17:$BU$17,L20,$N$22:$BU$22,$CN$3))","v":""},{"$f":"IF(L20=\"\",\"\",COUNTIFS($N$17:$BU$17,L20,$N$18:$BU$18,$CO$3)+COUNTIFS($N$17:$BU$17,L20,$N$19:$BU$19,$CO$3))","v":""},null,"遊ゴロ",null,null,null,null,"G","RR",1,"遊",6,"先",null,null,null,"","","","","","","","","","","","","","","","","","","","","","","",null,"","",{"$f":"IF(EC20=\"\",\"\",COUNTIFS($N$17:$BU$17,EC20,$N$22:$BU$22,\"RZ\"))","v":""},{"$f":"IF(ED20=\"\",\"\",COUNTIFS($N$17:$BU$17,EC20,$N$21:$BU$21,\"ZH\"))","v":""},null,"","","","","",null,"D","菊池　亮太",{"$f":"IF(F12=\"\",\"\",F12)","v":2},"LL",0,0,0,0,0,0,0,0,0,0,0,0,0,0,0,0,0,0,0,null,"","","","","","","","","","","","","",null,null,null,null,null,null,null,null,null,null,null,null,null,null,null,null,null,null,null,null,null,null,null,null,null,null,null,null,null,null,null,null,null,null,null,null,null,null,null,null,null,null,null,null,null,null,null,null,"","","","","","","",""]
[null,null,3,null,{"$f":"IF(D21=\"\",\"\",VLOOKUP(D21,$D$29:$F$58,2,FALSE))","v":""},"",null,null,null,{"$f":"IF(L21=\"\",\"\",VLOOKUP(L21,$C$29:$D$58,2,FALSE))","v":""},null,null,null,{"$f":"IF(N17=\"\",\"\",IF(N17=L18+0.2,\"2\",IF(N17=L18+0.3,\"3\",IF(N17=L18+0.4,\"4\",IF(N17=L18+0.5,\"5\",\"先\")))))","v":"先"},{"$f":"IFERROR(VLOOKUP(先攻T!I28,記号!$F$27:$G$37,2,FALSE),\"\")","v":""},{"$f":"IFERROR(VLOOKUP(先攻T!J26,記号!$R$5:$S$10,2,FALSE),\"\")","v":"Ⅲ"},{"$f":"IFERROR(VLOOKUP(先攻T!G28,記号!$F$27:$G$37,2,FALSE),\"\")","v":""},{"$f":"IFERROR(VLOOKUP(先攻T!L26,記号!$U$12:$V$13,2,FALSE),\"\")","v":""},{"$f":"IF(S17=\"\",\"\",IF(S17=L18+0.2,\"2\",IF(S17=L18+0.3,\"3\",IF(S17=L18+0.4,\"4\",IF(S17=L18+0.5,\"5\",\"先\")))))","v":"先"},{"$f":"IFERROR(VLOOKUP(先攻T!U28,記号!$F$27:$G$37,2,FALSE),\"\")","v":""},{"$f":"IFERROR(VLOOKUP(先攻T!V26,記号!$R$5:$S$10,2,FALSE),\"\")","v":""},{"$f":"IFERROR(VLOOKUP(先攻T!S28,記号!$F$27:$G$37,2,FALSE),\"\")","v":""},{"$f":"IFERROR(VLOOKUP(先攻T!X26,記号!$U$12:$V$13,2,FALSE),\"\")","v":""},{"$f":"IF(X17=\"\",\"\",IF(X17=L18+0.2,\"2\",IF(X17=L18+0.3,\"3\",IF(X17=L18+0.4,\"4\",IF(X17=L18+0.5,\"5\",\"先\")))))","v":"先"},{"$f":"IFERROR(VLOOKUP(先攻T!AG26,記号!$F$27:$G$37,2,FALSE),\"\")","v":""},{"$f":"IFERROR(VLOOKUP(先攻T!AH26,記号!$R$5:$S$10,2,FALSE),\"\")","v":"Ⅲ"},{"$f":"IFERROR(VLOOKUP(先攻T!AE28,記号!$F$27:$G$37,2,FALSE),\"\")","v":""},{"$f":"IFERROR(VLOOKUP(先攻T!AJ26,記号!$U$12:$V$13,2,FALSE),\"\")","v":""},{"$f":"IF(AC17=\"\",\"\",IF(AC17=L18+0.2,\"2\",IF(AC17=L18+0.3,\"3\",IF(AC17=L18+0.4,\"4\",IF(AC17=L18+0.5,\"5\",\"先\")))))","v":"先"},{"$f":"IFERROR(VLOOKUP(先攻T!AS28,記号!$F$27:$G$37,2,FALSE),\"\")","v":""},{"$f":"IFERROR(VLOOKUP(先攻T!AT26,記号!$R$5:$S$10,2,FALSE),\"\")","v":""},{"$f":"IFERROR(VLOOKUP(先攻T!AQ28,記号!$F$27:$G$37,2,FALSE),\"\")","v":""},{"$f":"IFERROR(VLOOKUP(先攻T!AV26,記号!$U$12:$V$13,2,FALSE),\"\")","v":""},{"$f":"IF(AH17=\"\",\"\",IF(AH17=L18+0.2,\"2\",IF(AH17=L18+0.3,\"3\",IF(AH17=L18+0.4,\"4\",IF(AH17=L18+0.5,\"5\",\"先\")))))","v":"先"},{"$f":"IFERROR(VLOOKUP(先攻T!BE28,記号!$F$27:$G$37,2,FALSE),\"\")","v":""},{"$f":"IFERROR(VLOOKUP(先攻T!BF26,記号!$R$5:$S$10,2,FALSE),\"\")","v":""},{"$f":"IFERROR(VLOOKUP(先攻T!BC28,記号!$F$27:$G$37,2,FALSE),\"\")","v":""},{"$f":"IFERROR(VLOOKUP(先攻T!BH26,記号!$U$12:$V$13,2,FALSE),\"\")","v":""},{"$f":"IF(AM17=\"\",\"\",IF(AM17=L18+0.2,\"2\",IF(AM17=L18+0.3,\"3\",IF(AM17=L18+0.4,\"4\",IF(AM17=L18+0.5,\"5\",\"先\")))))","v":"先"},{"$f":"IFERROR(VLOOKUP(先攻T!BQ28,記号!$F$27:$G$37,2,FALSE),\"\")","v":""},{"$f":"IFERROR(VLOOKUP(先攻T!BR26,記号!$R$5:$S$10,2,FALSE),\"\")","v":"Ⅰ"},{"$f":"IFERROR(VLOOKUP(先攻T!BO28,記号!$F$27:$G$37,2,FALSE),\"\")","v":""},{"$f":"IFERROR(VLOOKUP(先攻T!BT26,記号!$U$12:$V$13,2,FALSE),\"\")","v":""},{"$f":"IF(AR17=\"\",\"\",IF(AR17=L18+0.2,\"2\",IF(AR17=L18+0.3,\"3\",IF(AR17=L18+0.4,\"4\",IF(AR17=L18+0.5,\"5\",\"先\")))))","v":"先"},{"$f":"IFERROR(VLOOKUP(先攻T!CC28,記号!$F$27:$G$37,2,FALSE),\"\")","v":""},{"$f":"IFERROR(VLOOKUP(先攻T!CD26,記号!$R$5:$S$10,2,FALSE),\"\")","v":""},{"$f":"IFERROR(VLOOKUP(先攻T!CA28,記号!$F$27:$G$37,2,FALSE),\"\")","v":""},{"$f":"IFERROR(VLOOKUP(先攻T!CF26,記号!$U$12:$V$13,2,FALSE),\"\")","v":""},{"$f":"IF(AW17=\"\",\"\",IF(AW17=L18+0.2,\"2\",IF(AW17=L18+0.3,\"3\",IF(AW17=L18+0.4,\"4\",IF(AW17=L18+0.5,\"5\",\"先\")))))","v":"先"},{"$f":"IFERROR(VLOOKUP(先攻T!CO28,記号!$F$27:$G$37,2,FALSE),\"\")","v":""},{"$f":"IFERROR(VLOOKUP(先攻T!CP26,記号!$R$5:$S$10,2,FALSE),\"\")","v":"Ⅱ"},{"$f":"IFERROR(VLOOKUP(先攻T!CM28,記号!$F$27:$G$37,2,FALSE),\"\")","v":""},{"$f":"IFERROR(VLOOKUP(先攻T!CR26,記号!$U$12:$V$13,2,FALSE),\"\")","v":""},{"$f":"IF(BB17=\"\",\"\",IF(BB17=L18+0.2,\"2\",IF(BB17=L18+0.3,\"3\",IF(BB17=L18+0.4,\"4\",IF(BB17=L18+0.5,\"5\",\"先\")))))","v":"先"},{"$f":"IFERROR(VLOOKUP(先攻T!DA28,記号!$F$27:$G$37,2,FALSE),\"\")","v":""},{"$f":"IFERROR(VLOOKUP(先攻T!DB26,記号!$R$5:$S$10,2,FALSE),\"\")","v":""},{"$f":"IFERROR(VLOOKUP(先攻T!CY28,記号!$F$27:$G$37,2,FALSE),\"\")","v":""},{"$f":"IFERROR(VLOOKUP(先攻T!DD26,記号!$U$12:$V$13,2,FALSE),\"\")","v":""},{"$f":"IF(BG17=\"\",\"\",IF(BG17=L18+0.2,\"2\",IF(BG17=L18+0.3,\"3\",IF(BG17=L18+0.4,\"4\",IF(BG17=L18+0.5,\"5\",\"先\")))))","v":"先"},{"$f":"IFERROR(VLOOKUP(先攻T!DM28,記号!$F$27:$G$37,2,FALSE),\"\")","v":""},{"$f":"IFERROR(VLOOKUP(先攻T!DN26,記号!$R$5:$S$10,2,FALSE),\"\")","v":""},{"$f":"IFERROR(VLOOKUP(先攻T!DK28,記号!$F$27:$G$37,2,FALSE),\"\")","v":""},{"$f":"IFERROR(VLOOKUP(先攻T!DP26,記号!$U$12:$V$13,2,FALSE),\"\")","v":""},{"$f":"IF(BL17=\"\",\"\",IF(BL17=L18+0.2,\"2\",IF(BL17=L18+0.3,\"3\",IF(BL17=L18+0.4,\"4\",IF(BL17=L18+0.5,\"5\",\"先\")))))","v":"先"},{"$f":"IFERROR(VLOOKUP(先攻T!DY28,記号!$F$27:$G$37,2,FALSE),\"\")","v":""},{"$f":"IFERROR(VLOOKUP(先攻T!DZ26,記号!$R$5:$S$10,2,FALSE),\"\")","v":""},{"$f":"IFERROR(VLOOKUP(先攻T!DW28,記号!$F$27:$G$37,2,FALSE),\"\")","v":""},{"$f":"IFERROR(VLOOKUP(先攻T!EB26,記号!$U$12:$V$13,2,FALSE),\"\")","v":""},{"$f":"IF(BQ17=\"\",\"\",IF(BQ17=L18+0.2,\"2\",IF(BQ17=L18+0.3,\"3\",IF(BQ17=L18+0.4,\"4\",IF(BQ17=L18+0.5,\"5\",\"先\")))))","v":"先"},{"$f":"IFERROR(VLOOKUP(先攻T!EK28,記号!$F$27:$G$37,2,FALSE),\"\")","v":""},{"$f":"IFERROR(VLOOKUP(先攻T!EL26,記号!$R$5:$S$10,2,FALSE),\"\")","v":""},{"$f":"IFERROR(VLOOKUP(先攻T!EI28,記号!$F$27:$G$37,2,FALSE),\"\")","v":""},{"$f":"IFERROR(VLOOKUP(先攻T!EN26,記号!$U$12:$V$13,2,FALSE),\"\")","v":""},"",{"$f":"IF(L21=\"\",\"\",(BX21+CG21+CH21+CI21))","v":""},"",{"$f":"IF(L21=\"\",\"\",COUNTIFS($N$17:$BU$17,L21,$N$22:$BU$22,$BY$3))","v":""},{"$f":"IF(L21=\"\",\"\",COUNTIFS($N$17:$BU$17,L21,$N$22:$BU$22,$BZ$3))","v":""},{"$f":"IF(L21=\"\",\"\",COUNTIFS($N$17:$BU$17,L21,$N$20:$BU$20,$CA$3))","v":""},{"$f":"IF(L21=\"\",\"\",COUNTIFS($N$17:$BU$17,L21,$N$20:$BU$20,$CB$3))","v":""},{"$f":"IF(L21=\"\",\"\",COUNTIFS($N$17:$BU$17,L21,$N$22:$BU$22,$CC$3))","v":""},{"$f":"IF(L21=\"\",\"\",SUMIF($N$17:$BU$17,L21,$N$22:$BU$22))","v":""},{"$f":"IF(L21=\"\",\"\",COUNTIFS($N$17:$BU$17,L21,$N$21:$BU$21,$CE$3))","v":""},{"$f":"IF(L21=\"\",\"\",COUNTIFS($N$17:$BU$17,L21,$N$22:$BU$22,$CF$3))","v":""},{"$f":"IF(L21=\"\",\"\",COUNTIFS($N$17:$BU$17,L21,$N$22:$BU$22,$CG$3))","v":""},{"$f":"IF(L21=\"\",\"\",COUNTIFS($N$17:$BU$17,L21,$N$22:$BU$22,$CH$3))","v":""},{"$f":"IF(L21=\"\",\"\",COUNTIFS($N$17:$BU$17,L21,$N$22:$BU$22,$CI$3))","v":""},{"$f":"IF(L21=\"\",\"\",COUNTIFS($N$17:$BU$17,L21,$N$22:$BU$22,$CJ$3))","v":""},{"$f":"IF(L21=\"\",\"\",COUNTIFS($N$17:$BU$17,L21,$N$22:$BU$22,$CK$3)+COUNTIFS($N$17:$BU$17,L21,$N$20:$BU$20,$CK$3))","v":""},{"$f":"IF(L21=\"\",\"\",COUNTIFS($N$17:$BU$17,L21,$N$22:$BU$22,$CL$3)+COUNTIFS($N$17:$BU$17,L21,$N$20:$BU$20,$CL$3))","v":""},{"$f":"IF(L21=\"\",\"\",COUNTIFS($N$17:$BU$17,L21,$N$22:$BU$22,$CM$3))","v":""},{"$f":"IF(L21=\"\",\"\",COUNTIFS($N$17:$BU$17,L21,$N$22:$BU$22,$CN$3))","v":""},{"$f":"IF(L21=\"\",\"\",COUNTIFS($N$17:$BU$17,L21,$N$18:$BU$18,$CO$3)+COUNTIFS($N$17:$BU$17,L21,$N$19:$BU$19,$CO$3))","v":""},null,"左飛",null,null,null,null,"A","RR",1,"左",7,"先",null,null,null,"","","","","","","","","","","","","","","","","","","","","","","",null,"","",{"$f":"IF(EC21=\"\",\"\",COUNTIFS($N$17:$BU$17,EC21,$N$22:$BU$22,\"RZ\"))","v":""},{"$f":"IF(ED21=\"\",\"\",COUNTIFS($N$17:$BU$17,EC21,$N$21:$BU$21,\"ZH\"))","v":""},null,"","","","","",null,"D","斉藤　璃玖",{"$f":"IF(F13=\"\",\"\",F13)","v":6},"RR",3,2,1,0,0,0,0,0,1,1,1,0,0,0,0,0,0,0,14,null,"","","","","","","","","","","","","",null,null,null,null,null,null,null,null,null,null,null,null,null,null,null,null,null,null,null,null,null,null,null,null,null,null,null,null,null,null,null,null,null,null,null,null,null,null,null,null,null,null,null,null,null,null,null,null,"","","","","","","",""]
[null,null,4,null,{"$f":"IF(D22=\"\",\"\",VLOOKUP(D22,$D$29:$F$58,2,FALSE))","v":""},"",null,null,null,{"$f":"IF(L22=\"\",\"\",VLOOKUP(L22,$C$29:$D$58,2,FALSE))","v":""},null,null,null,{"$f":"IFERROR(VLOOKUP(先攻T!K26,記号!$R$15:$S$20,2,FALSE),\"\")","v":""},{"$f":"IFERROR(VLOOKUP(先攻T!I26,記号!$O$5:$P$21,2,FALSE),\"\")","v":""},{"$f":"IFERROR(VLOOKUP(先攻T!F28,記号!$F$27:$G$37,2,FALSE),\"\")","v":""},{"$f":"IFERROR(VLOOKUP(先攻T!F26,記号!$F$5:$G$21,2,FALSE),\"\")","v":"K"},{"$f":"IFERROR(VLOOKUP(先攻T!L27,記号!$U$5:$V$6,2,FALSE),\"\")","v":""},{"$f":"IFERROR(VLOOKUP(先攻T!W26,記号!$R$15:$S$20,2,FALSE),\"\")","v":""},{"$f":"IFERROR(VLOOKUP(先攻T!U26,記号!$O$5:$P$21,2,FALSE),\"\")","v":""},{"$f":"IFERROR(VLOOKUP(先攻T!R28,記号!$F$27:$G$37,2,FALSE),\"\")","v":""},{"$f":"IFERROR(VLOOKUP(先攻T!R26,記号!$F$5:$G$21,2,FALSE),\"\")","v":""},{"$f":"IFERROR(VLOOKUP(先攻T!X27,記号!U5:V6,2,FALSE),\"\")","v":""},{"$f":"IFERROR(VLOOKUP(先攻T!AI26,記号!$R$15:$S$20,2,FALSE),\"\")","v":""},{"$f":"IFERROR(VLOOKUP(先攻T!AG26,記号!$O$5:$P$21,2,FALSE),\"\")","v":""},{"$f":"IFERROR(VLOOKUP(先攻T!AD28,記号!$F$27:$G$37,2,FALSE),\"\")","v":"3'"},{"$f":"IFERROR(VLOOKUP(先攻T!AD26,記号!$F$5:$G$21,2,FALSE),\"\")","v":"O"},{"$f":"IFERROR(VLOOKUP(先攻T!AJ27,記号!$U$5:$V$6,2,FALSE),\"\")","v":""},{"$f":"IFERROR(VLOOKUP(先攻T!AU26,記号!$R$15:$S$20,2,FALSE),\"\")","v":""},{"$f":"IFERROR(VLOOKUP(先攻T!AS26,記号!$O$5:$P$21,2,FALSE),\"\")","v":""},{"$f":"IFERROR(VLOOKUP(先攻T!AP28,記号!$F$27:$G$37,2,FALSE),\"\")","v":""},{"$f":"IFERROR(VLOOKUP(先攻T!AP26,記号!$F$5:$G$21,2,FALSE),\"\")","v":""},{"$f":"IFERROR(VLOOKUP(先攻T!AV27,記号!$U$5:$V$6,2,FALSE),\"\")","v":""},{"$f":"IFERROR(VLOOKUP(先攻T!BG26,記号!$R$15:$S$20,2,FALSE),\"\")","v":""},{"$f":"IFERROR(VLOOKUP(先攻T!BE26,記号!$O$5:$P$21,2,FALSE),\"\")","v":""},{"$f":"IFERROR(VLOOKUP(先攻T!BB28,記号!$F$27:$G$37,2,FALSE),\"\")","v":""},{"$f":"IFERROR(VLOOKUP(先攻T!BB26,記号!$F$5:$G$21,2,FALSE),\"\")","v":""},{"$f":"IFERROR(VLOOKUP(先攻T!BH27,記号!$U$5:$V$6,2,FALSE),\"\")","v":""},{"$f":"IFERROR(VLOOKUP(先攻T!BS20,記号!$R$15:$S$20,2,FALSE),\"\")","v":""},{"$f":"IFERROR(VLOOKUP(先攻T!BQ26,記号!$O$5:$P$21,2,FALSE),\"\")","v":""},{"$f":"IFERROR(VLOOKUP(先攻T!BN28,記号!$F$27:$G$37,2,FALSE),\"\")","v":"6'"},{"$f":"IFERROR(VLOOKUP(先攻T!BN26,記号!$F$5:$G$21,2,FALSE),\"\")","v":"O"},{"$f":"IFERROR(VLOOKUP(先攻T!BT27,記号!$U$5:$V$6,2,FALSE),\"\")","v":""},{"$f":"IFERROR(VLOOKUP(先攻T!CE26,記号!$R$15:$S$20,2,FALSE),\"\")","v":""},{"$f":"IFERROR(VLOOKUP(先攻T!CC26,記号!$O$5:$P$21,2,FALSE),\"\")","v":""},{"$f":"IFERROR(VLOOKUP(先攻T!BZ28,記号!$F$27:$G$37,2,FALSE),\"\")","v":""},{"$f":"IFERROR(VLOOKUP(先攻T!BZ26,記号!$F$5:$G$21,2,FALSE),\"\")","v":""},{"$f":"IFERROR(VLOOKUP(先攻T!CF27,記号!$U$5:$V$6,2,FALSE),\"\")","v":""},{"$f":"IFERROR(VLOOKUP(先攻T!CQ26,記号!$R$15:$S$20,2,FALSE),\"\")","v":""},{"$f":"IFERROR(VLOOKUP(先攻T!CO26,記号!$O$5:$P$21,2,FALSE),\"\")","v":""},{"$f":"IFERROR(VLOOKUP(先攻T!CL28,記号!$F$27:$G$37,2,FALSE),\"\")","v":"7'"},{"$f":"IFERROR(VLOOKUP(先攻T!CL26,記号!$F$5:$G$21,2,FALSE),\"\")","v":"O"},{"$f":"IFERROR(VLOOKUP(先攻T!CR27,記号!$U$5:$V$6,2,FALSE),\"\")","v":""},{"$f":"IFERROR(VLOOKUP(先攻T!DC26,記号!$R$15:$S$20,2,FALSE),\"\")","v":""},{"$f":"IFERROR(VLOOKUP(先攻T!DA26,記号!$O$5:$P$21,2,FALSE),\"\")","v":""},{"$f":"IFERROR(VLOOKUP(先攻T!CX28,記号!$F$27:$G$37,2,FALSE),\"\")","v":""},{"$f":"IFERROR(VLOOKUP(先攻T!CX26,記号!$F$5:$G$21,2,FALSE),\"\")","v":""},{"$f":"IFERROR(VLOOKUP(先攻T!DD27,記号!$U$5:$V$6,2,FALSE),\"\")","v":""},{"$f":"IFERROR(VLOOKUP(先攻T!DO26,記号!$R$15:$S$20,2,FALSE),\"\")","v":""},{"$f":"IFERROR(VLOOKUP(先攻T!DM26,記号!$O$5:$P$21,2,FALSE),\"\")","v":""},{"$f":"IFERROR(VLOOKUP(先攻T!DJ28,記号!$F$27:$G$37,2,FALSE),\"\")","v":""},{"$f":"IFERROR(VLOOKUP(先攻T!DJ26,記号!$F$5:$G$21,2,FALSE),\"\")","v":""},{"$f":"IFERROR(VLOOKUP(先攻T!DP27,記号!$U$5:$V$6,2,FALSE),\"\")","v":""},{"$f":"IFERROR(VLOOKUP(先攻T!EA26,記号!$R$15:$S$20,2,FALSE),\"\")","v":""},{"$f":"IFERROR(VLOOKUP(先攻T!DY26,記号!$O$5:$P$21,2,FALSE),\"\")","v":""},{"$f":"IFERROR(VLOOKUP(先攻T!DV28,記号!$F$27:$G$37,2,FALSE),\"\")","v":""},{"$f":"IFERROR(VLOOKUP(先攻T!DV26,記号!$F$5:$G$21,2,FALSE),\"\")","v":""},{"$f":"IFERROR(VLOOKUP(先攻T!EB27,記号!$U$5:$V$6,2,FALSE),\"\")","v":""},{"$f":"IFERROR(VLOOKUP(先攻T!EM26,記号!$R$15:$S$20,2,FALSE),\"\")","v":""},{"$f":"IFERROR(VLOOKUP(先攻T!EK26,記号!$O$5:$P$21,2,FALSE),\"\")","v":""},{"$f":"IFERROR(VLOOKUP(先攻T!EH28,記号!$F$27:$G$37,2,FALSE),\"\")","v":""},{"$f":"IFERROR(VLOOKUP(先攻T!EH26,記号!$F$5:$G$21,2,FALSE),\"\")","v":""},{"$f":"IFERROR(VLOOKUP(先攻T!EN27,記号!$U$5:$V$6,2,FALSE),\"\")","v":""},{"$f":"IF(K22=\"\",\"\",VLOOKUP(K22,$C$84:$E$89,3,FALSE))","v":""},{"$f":"IF(L22=\"\",\"\",(BX22+CG22+CH22+CI22))","v":""},"",{"$f":"IF(L22=\"\",\"\",COUNTIFS($N$17:$BU$17,L22,$N$22:$BU$22,$BY$3))","v":""},{"$f":"IF(L22=\"\",\"\",COUNTIFS($N$17:$BU$17,L22,$N$22:$BU$22,$BZ$3))","v":""},{"$f":"IF(L22=\"\",\"\",COUNTIFS($N$17:$BU$17,L22,$N$20:$BU$20,$CA$3))","v":""},{"$f":"IF(L22=\"\",\"\",COUNTIFS($N$17:$BU$17,L22,$N$20:$BU$20,$CB$3))","v":""},{"$f":"IF(L22=\"\",\"\",COUNTIFS($N$17:$BU$17,L22,$N$22:$BU$22,$CC$3))","v":""},{"$f":"IF(L22=\"\",\"\",SUMIF($N$17:$BU$17,L22,$N$22:$BU$22))","v":""},{"$f":"IF(L22=\"\",\"\",COUNTIFS($N$17:$BU$17,L22,$N$21:$BU$21,$CE$3))","v":""},{"$f":"IF(L22=\"\",\"\",COUNTIFS($N$17:$BU$17,L22,$N$22:$BU$22,$CF$3))","v":""},{"$f":"IF(L22=\"\",\"\",COUNTIFS($N$17:$BU$17,L22,$N$22:$BU$22,$CG$3))","v":""},{"$f":"IF(L22=\"\",\"\",COUNTIFS($N$17:$BU$17,L22,$N$22:$BU$22,$CH$3))","v":""},{"$f":"IF(L22=\"\",\"\",COUNTIFS($N$17:$BU$17,L22,$N$22:$BU$22,$CI$3))","v":""},{"$f":"IF(L22=\"\",\"\",COUNTIFS($N$17:$BU$17,L22,$N$22:$BU$22,$CJ$3))","v":""},{"$f":"IF(L22=\"\",\"\",COUNTIFS($N$17:$BU$17,L22,$N$22:$BU$22,$CK$3)+COUNTIFS($N$17:$BU$17,L22,$N$20:$BU$20,$CK$3))","v":""},{"$f":"IF(L22=\"\",\"\",COUNTIFS($N$17:$BU$17,L22,$N$22:$BU$22,$CL$3)+COUNTIFS($N$17:$BU$17,L22,$N$20:$BU$20,$CL$3))","v":""},{"$f":"IF(L22=\"\",\"\",COUNTIFS($N$17:$BU$17,L22,$N$22:$BU$22,$CM$3))","v":""},{"$f":"IF(L22=\"\",\"\",COUNTIFS($N$17:$BU$17,L22,$N$22:$BU$22,$CN$3))","v":""},{"$f":"IF(L22=\"\",\"\",COUNTIFS($N$17:$BU$17,L22,$N$18:$BU$18,$CO$3)+COUNTIFS($N$17:$BU$17,L22,$N$19:$BU$19,$CO$3))","v":""},null,null,null,null,null,null,null,"",null,null,"",null,null,null,null,"","","",{"$f":"IF(DF22=\"\",\"\",SUMIFS($BW$6:$BW$58,$J$6:$J$58,DF22))","v":""},"","","","","","","","","","","","","",{"$f":"IF(DF22=\"\",\"\",SUMIFS($CK$6:$CK$58,$J$6:$J$58,DF22))","v":""},"","","","","",null,"","",{"$f":"IF(EC22=\"\",\"\",COUNTIFS($N$17:$BU$17,EC22,$N$22:$BU$22,\"RZ\"))","v":""},{"$f":"IF(ED22=\"\",\"\",COUNTIFS($N$17:$BU$17,EC22,$N$21:$BU$21,\"ZH\"))","v":""},null,"","","","","",null,"D","斉藤　璃玖",{"$f":"IF(F13=\"\",\"\",F13)","v":6},"LL",0,0,0,0,0,0,0,0,0,0,0,0,0,0,0,0,0,0,0,null,"","","","","","","","","","","","","",null,null,null,null,null,null,null,null,null,null,null,null,null,null,null,null,null,null,null,null,null,null,null,null,null,null,null,null,null,null,null,null,null,null,null,null,null,null,null,null,null,null,null,null,null,null,null,null,"","","","","","","",""]
[null,null,5,null,{"$f":"IF(D23=\"\",\"\",VLOOKUP(D23,$D$29:$F$58,2,FALSE))","v":""},"",null,null,null,null,null,null,"打者背番号を入力➡",{"$f":"先攻T!E29","v":5},{"$f":"N23","v":5},{"$f":"N23","v":5},{"$f":"N23","v":5},{"$f":"N23","v":5},{"$f":"先攻T!Q29","v":5},{"$f":"S23","v":5},{"$f":"S23","v":5},{"$f":"S23","v":5},{"$f":"S23","v":5},{"$f":"先攻T!AC29","v":5},{"$f":"X23","v":5},{"$f":"X23","v":5},{"$f":"X23","v":5},{"$f":"X23","v":5},{"$f":"先攻T!AO29","v":5},{"$f":"AC23","v":5},{"$f":"AC23","v":5},{"$f":"AC23","v":5},{"$f":"AC23","v":5},{"$f":"先攻T!BA29","v":5},{"$f":"AH23","v":5},{"$f":"AH23","v":5},{"$f":"AH23","v":5},{"$f":"AH23","v":5},{"$f":"先攻T!BM29","v":5},{"$f":"AM23","v":5},{"$f":"AM23","v":5},{"$f":"AM23","v":5},{"$f":"AM23","v":5},{"$f":"先攻T!BY29","v":5},{"$f":"AR23","v":5},{"$f":"AR23","v":5},{"$f":"AR23","v":5},{"$f":"AR23","v":5},{"$f":"先攻T!CK29","v":5},{"$f":"AW23","v":5},{"$f":"AW23","v":5},{"$f":"AW23","v":5},{"$f":"AW23","v":5},{"$f":"先攻T!CW29","v":5},{"$f":"BB23","v":5},{"$f":"BB23","v":5},{"$f":"BB23","v":5},{"$f":"BB23","v":5},{"$f":"先攻T!DI29","v":5},{"$f":"BG23","v":5},{"$f":"BG23","v":5},{"$f":"BG23","v":5},{"$f":"BG23","v":5},{"$f":"先攻T!DU29","v":5},{"$f":"BL23","v":5},{"$f":"BL23","v":5},{"$f":"BL23","v":5},{"$f":"BL23","v":5},{"$f":"先攻T!EG29","v":5},{"$f":"BQ23","v":5},{"$f":"BQ23","v":5},{"$f":"BQ23","v":5},{"$f":"BQ23","v":5},null,null,null,null,null,null,null,null,null,null,null,null,null,null,null,null,null,null,null,null,null,null,null,null,null,null,null,null,null,null,null,null,null,null,null,null,null,null,null,null,null,null,null,null,null,null,null,null,null,null,null,null,null,null,null,null,null,null,null,null,null,null,null,null,"D",{"$f":"IF(O2=\"\",\"\",O2)","v":"金足農業"},"計",{"$f":"IF($EI$5=\"\",\"\",SUM(EK5:EK22))","v":6},{"$f":"IF($EI$5=\"\",\"\",SUM(EL5:EL22))","v":0}]
[null,null,6,null,{"$f":"IF(D24=\"\",\"\",VLOOKUP(D24,$D$29:$F$58,2,FALSE))","v":""},"",null,null,{"$f":"IF(C8=\"\",\"\",C8)","v":"一"},{"$f":"IF(D8=\"\",\"\",D8)","v":"打川　和輝"},{"$f":"IF(J24=\"\",\"\",\"先\")","v":"先"},{"$f":"IF(J24=\"\",\"\",F8)","v":5},"④",{"$f":"IFERROR(VLOOKUP(先攻T!F31,記号!$B$6:$C$10,2,FALSE),\"\")","v":""},{"$f":"IFERROR(VLOOKUP(先攻T!G31,記号!$B$6:$C$10,2,FALSE),\"\")","v":""},{"$f":"IFERROR(VLOOKUP(先攻T!H31,記号!$B$6:$C$10,2,FALSE),\"\")","v":""},{"$f":"IFERROR(VLOOKUP(先攻T!I31,記号!$B$6:$C$10,2,FALSE),\"\")","v":""},{"$f":"IFERROR(VLOOKUP(先攻T!J31,記号!$B$6:$C$10,2,FALSE),\"\")","v":""},{"$f":"IFERROR(VLOOKUP(先攻T!R31,記号!$B$6:$C$10,2,FALSE),\"\")","v":"・●"},{"$f":"IFERROR(VLOOKUP(先攻T!S31,記号!$B$6:$C$10,2,FALSE),\"\")","v":"・◎"},{"$f":"IFERROR(VLOOKUP(先攻T!T31,記号!$B$6:$C$10,2,FALSE),\"\")","v":""},{"$f":"IFERROR(VLOOKUP(先攻T!U31,記号!$B$6:$C$10,2,FALSE),\"\")","v":""},{"$f":"IFERROR(VLOOKUP(先攻T!V31,記号!$B$6:$C$10,2,FALSE),\"\")","v":""},{"$f":"IFERROR(VLOOKUP(先攻T!AD31,記号!$B$6:$C$10,2,FALSE),\"\")","v":""},{"$f":"IFERROR(VLOOKUP(先攻T!AE31,記号!$B$6:$C$10,2,FALSE),\"\")","v":""},{"$f":"IFERROR(VLOOKUP(先攻T!AF31,記号!$B$6:$C$10,2,FALSE),\"\")","v":""},{"$f":"IFERROR(VLOOKUP(先攻T!AG31,記号!$B$6:$C$10,2,FALSE),\"\")","v":""},{"$f":"IFERROR(VLOOKUP(先攻T!AH31,記号!$B$6:$C$10,2,FALSE),\"\")","v":""},{"$f":"IFERROR(VLOOKUP(先攻T!AP31,記号!$B$6:$C$10,2,FALSE),\"\")","v":"・●"},{"$f":"IFERROR(VLOOKUP(先攻T!AQ31,記号!$B$6:$C$10,2,FALSE),\"\")","v":"・◎"},{"$f":"IFERROR(VLOOKUP(先攻T!AR31,記号!$B$6:$C$10,2,FALSE),\"\")","v":""},{"$f":"IFERROR(VLOOKUP(先攻T!AS31,記号!$B$6:$C$10,2,FALSE),\"\")","v":""},{"$f":"IFERROR(VLOOKUP(先攻T!AT31,記号!$B$6:$C$10,2,FALSE),\"\")","v":""},{"$f":"IFERROR(VLOOKUP(先攻T!AU22,記号!$B$6:$C$10,2,FALSE),\"\")","v":""},{"$f":"IFERROR(VLOOKUP(先攻T!AV22,記号!$B$6:$C$10,2,FALSE),\"\")","v":""},{"$f":"IFERROR(VLOOKUP(先攻T!AW22,記号!$B$6:$C$10,2,FALSE),\"\")","v":""},{"$f":"IFERROR(VLOOKUP(先攻T!AX22,記号!$B$6:$C$10,2,FALSE),\"\")","v":""},{"$f":"IFERROR(VLOOKUP(先攻T!AY22,記号!$B$6:$C$10,2,FALSE),\"\")","v":""},{"$f":"IFERROR(VLOOKUP(先攻T!BN31,記号!$B$6:$C$10,2,FALSE),\"\")","v":"・●"},{"$f":"IFERROR(VLOOKUP(先攻T!BO31,記号!$B$6:$C$10,2,FALSE),\"\")","v":"・〇"},{"$f":"IFERROR(VLOOKUP(先攻T!BP31,記号!$B$6:$C$10,2,FALSE),\"\")","v":"・◎"},{"$f":"IFERROR(VLOOKUP(先攻T!BQ31,記号!$B$6:$C$10,2,FALSE),\"\")","v":""},{"$f":"IFERROR(VLOOKUP(先攻T!BR31,記号!$B$6:$C$10,2,FALSE),\"\")","v":""},{"$f":"IFERROR(VLOOKUP(先攻T!BZ31,記号!$B$6:$C$10,2,FALSE),\"\")","v":""},{"$f":"IFERROR(VLOOKUP(先攻T!CA31,記号!$B$6:$C$10,2,FALSE),\"\")","v":""},{"$f":"IFERROR(VLOOKUP(先攻T!CB31,記号!$B$6:$C$10,2,FALSE),\"\")","v":""},{"$f":"IFERROR(VLOOKUP(先攻T!CC31,記号!$B$6:$C$10,2,FALSE),\"\")","v":""},{"$f":"IFERROR(VLOOKUP(先攻T!CD31,記号!$B$6:$C$10,2,FALSE),\"\")","v":""},{"$f":"IFERROR(VLOOKUP(先攻T!CL31,記号!$B$6:$C$10,2,FALSE),\"\")","v":"・〇"},{"$f":"IFERROR(VLOOKUP(先攻T!CM31,記号!$B$6:$C$10,2,FALSE),\"\")","v":"・●"},{"$f":"IFERROR(VLOOKUP(先攻T!CN31,記号!$B$6:$C$10,2,FALSE),\"\")","v":"・△"},{"$f":"IFERROR(VLOOKUP(先攻T!CO31,記号!$B$6:$C$10,2,FALSE),\"\")","v":"・●"},{"$f":"IFERROR(VLOOKUP(先攻T!CP31,記号!$B$6:$C$10,2,FALSE),\"\")","v":"・△"},{"$f":"IFERROR(VLOOKUP(先攻T!CX31,記号!$B$6:$C$10,2,FALSE),\"\")","v":""},{"$f":"IFERROR(VLOOKUP(先攻T!CY31,記号!$B$6:$C$10,2,FALSE),\"\")","v":""},{"$f":"IFERROR(VLOOKUP(先攻T!CZ31,記号!$B$6:$C$10,2,FALSE),\"\")","v":""},{"$f":"IFERROR(VLOOKUP(先攻T!DA31,記号!$B$6:$C$10,2,FALSE),\"\")","v":""},{"$f":"IFERROR(VLOOKUP(先攻T!DB31,記号!$B$6:$C$10,2,FALSE),\"\")","v":""},{"$f":"IFERROR(VLOOKUP(先攻T!DJ31,記号!$B$6:$C$10,2,FALSE),\"\")","v":""},{"$f":"IFERROR(VLOOKUP(先攻T!DK31,記号!$B$6:$C$10,2,FALSE),\"\")","v":""},{"$f":"IFERROR(VLOOKUP(先攻T!DL31,記号!$B$6:$C$10,2,FALSE),\"\")","v":""},{"$f":"IFERROR(VLOOKUP(先攻T!DM31,記号!$B$6:$C$10,2,FALSE),\"\")","v":""},{"$f":"IFERROR(VLOOKUP(先攻T!DN31,記号!$B$6:$C$10,2,FALSE),\"\")","v":""},{"$f":"IFERROR(VLOOKUP(先攻T!DV31,記号!$B$6:$C$10,2,FALSE),\"\")","v":""},{"$f":"IFERROR(VLOOKUP(先攻T!DW31,記号!$B$6:$C$10,2,FALSE),\"\")","v":""},{"$f":"IFERROR(VLOOKUP(先攻T!DX31,記号!$B$6:$C$10,2,FALSE),\"\")","v":""},{"$f":"IFERROR(VLOOKUP(先攻T!DY31,記号!$B$6:$C$10,2,FALSE),\"\")","v":""},{"$f":"IFERROR(VLOOKUP(先攻T!DZ31,記号!$B$6:$C$10,2,FALSE),\"\")","v":""},{"$f":"IFERROR(VLOOKUP(先攻T!EH31,記号!$B$6:$C$10,2,FALSE),\"\")","v":""},{"$f":"IFERROR(VLOOKUP(先攻T!EI31,記号!$B$6:$C$10,2,FALSE),\"\")","v":""},{"$f":"IFERROR(VLOOKUP(先攻T!EJ31,記号!$B$6:$C$10,2,FALSE),\"\")","v":""},{"$f":"IFERROR(VLOOKUP(先攻T!EK31,記号!$B$6:$C$10,2,FALSE),\"\")","v":""},{"$f":"IFERROR(VLOOKUP(先攻T!EL31,記号!$B$6:$C$10,2,FALSE),\"\")","v":""},{"$f":"IF(K24=\"\",\"\",VLOOKUP(K24,$C$84:$E$89,3,FALSE))","v":"RR"},{"$f":"IF(L24=\"\",\"\",(BX24+CG24+CH24+CI24))","v":4},{"$f":"IF(L24=\"\",\"\",(BY24+BZ24+CA24+CB24+CC24+CF24+CJ24+CM24+CN24))","v":4},{"$f":"IF(L24=\"\",\"\",COUNTIFS($N$23:$BU$23,L24,$N$28:$BU$28,$BY$3))","v":1},{"$f":"IF(L24=\"\",\"\",COUNTIFS($N$23:$BU$23,L24,$N$28:$BU$28,$BZ$3))","v":2},{"$f":"IF(L24=\"\",\"\",COUNTIFS($N$23:$BU$23,L24,$N$26:$BU$26,$CA$3))","v":0},{"$f":"IF(L24=\"\",\"\",COUNTIFS($N$23:$BU$23,L24,$N$26:$BU$26,$CB$3))","v":0},{"$f":"IF(L24=\"\",\"\",COUNTIFS($N$23:$BU$23,L24,$N$28:$BU$28,$CC$3))","v":0},{"$f":"IF(L24=\"\",\"\",SUMIF($N$23:$BU$23,L24,$N$28:$BU$28))","v":0},{"$f":"IF(L24=\"\",\"\",COUNTIFS($N$23:$BU$23,L24,$N$27:$BU$27,$CE$3))","v":0},{"$f":"IF(L24=\"\",\"\",COUNTIFS($N$23:$BU$23,L24,$N$28:$BU$28,$CF$3))","v":1},{"$f":"IF(L24=\"\",\"\",COUNTIFS($N$23:$BU$23,L24,$N$28:$BU$28,$CG$3))","v":0},{"$f":"IF(L24=\"\",\"\",COUNTIFS($N$23:$BU$23,L24,$N$28:$BU$28,$CH$3))","v":0},{"$f":"IF(L24=\"\",\"\",COUNTIFS($N$23:$BU$23,L24,$N$28:$BU$28,$CI$3))","v":0},{"$f":"IF(L24=\"\",\"\",COUNTIFS($N$23:$BU$23,L24,$N$28:$BU$28,$CJ$3))","v":0},{"$f":"IF(L24=\"\",\"\",COUNTIFS($N$23:$BU$23,L24,$N$28:$BU$28,$CK$3)+COUNTIFS($N$23:$BU$23,L24,$N$26:$BU$26,$CK$3))","v":0},{"$f":"IF(L24=\"\",\"\",COUNTIFS($N$23:$BU$23,L24,$N$28:$BU$28,$CL$3)+COUNTIFS($N$23:$BU$23,L24,$N$26:$BU$26,$CL$3))","v":1},{"$f":"IF(L24=\"\",\"\",COUNTIFS($N$23:$BU$23,$L$24,$N$28:$BU$28,$CM$3))","v":0},{"$f":"IF(L24=\"\",\"\",COUNTIFS($N$23:$BU$23,L24,$N$28:$BU$28,$CN$3))","v":0},{"$f":"IF(L24=\"\",\"\",COUNTIFS($N$23:$BU$23,L24,$N$24:$BU$24,$CO$3)+COUNTIFS($N$23:$BU$23,L24,$N$25:$BU$25,$CO$3))","v":13},"先","ゴロ中安",null,null,null,null,"G",{"$f":"IF(DA24=\"\",\"\",VLOOKUP(DA24,$C$84:$E$89,3,FALSE))","v":"RR"},5,"中",8,"先",null,null,null,{"$f":"IF(V2=\"\",\"\",V2)","v":"D"},{"$f":"IF(O2=\"\",\"\",O2)","v":"金足農業"},null,{"$f":"IF($DG$5=\"\",\"\",SUM(DH5:DH23))","v":34},{"$f":"IF($DG$5=\"\",\"\",SUM(DI5:DI23))","v":28},15,4,1,0,0,2,2,7,3,0,3,1,1,1,0,{"$f":"IF(D70=\"\",\"\",SUM(DY70:DY87))","v":2},112,{"$f":"IF(V67=\"\",\"\",V67)","v":"A"},null,5,{"$f":"IF(EC24=\"\",\"\",VLOOKUP(EC24,$C$29:$D$58,2,FALSE))","v":"打川　和輝"},{"$f":"IF(EC24=\"\",\"\",COUNTIFS($N$23:$BU$23,EC24,$N$28:$BU$28,\"RZ\"))","v":0},{"$f":"IF(ED24=\"\",\"\",COUNTIFS($N$23:$BU$23,EC24,$N$27:$BU$27,\"ZH\"))","v":0},null,null,null,null,null,null,null,"","",{"$f":"IF(G5=\"\",\"\",G5)","v":""},"LL","","","","","","","","","","","","","","","","","","","",null,{"$f":"IF(FM5=\"\",\"\",$V$2)","v":"D"},"T計",null,{"$f":"IF($FN$5=\"\",\"\",SUM(FO5:FO22))","v":6},{"$f":"IF($FN$5=\"\",\"\",SUM(FP5:FP22))","v":2},3,1,0,3,0,6,3,null,null,null,null,null,null,null,null,null,null,null,null,null,null,null,null,null,null,null,null,null,null,null,null,null,null,null,null,null,null,null,null,null,null,null,null,null,null,null,null,null,null,null,null,null,null,null,null,null,"打川　和輝",{"$f":"IF(L24=\"\",\"\",L24)","v":5},{"$f":"IF(HU24=\"\",\"\",COUNTIFS($N$23:$BU$23,HV24,$N$24:$BU$24,$HW$3)+COUNTIFS($N$23:$BU$23,HV24,$N$25:$BU$25,$HW$3))","v":13},{"$f":"IF(HU24=\"\",\"\",COUNTIFS($N$23:$BU$23,HV24,$N$24:$BU$24,$HX$3)+COUNTIFS($N$23:$BU$23,HV24,$N$25:$BU$25,$HX$3))","v":5},{"$f":"IF(HU24=\"\",\"\",COUNTIFS($N$23:$BU$23,HV24,$N$24:$BU$24,$HY$3)+COUNTIFS($N$23:$BU$23,HV24,$N$25:$BU$25,$HY$3))","v":2},{"$f":"IF(HU24=\"\",\"\",COUNTIFS($N$23:$BU$23,HV24,$N$24:$BU$24,$HZ$3)+COUNTIFS($N$23:$BU$23,HV24,$N$25:$BU$25,$HZ$3))","v":2},{"$f":"IF(HU24=\"\",\"\",COUNTIFS($N$23:$BU$23,HV24,$N$24:$BU$24,$IA$3)+COUNTIFS($N$23:$BU$23,HV24,$N$25:$BU$25,$IA$3))","v":1},{"$f":"IF(HU24=\"\",\"\",COUNTIFS($N$23:$BU$23,HV24,$N$24:$BU$24,$IB$3)+COUNTIFS($N$23:$BU$23,HV24,$N$25:$BU$25,$IB$3))","v":3}]
[null,null,null,null,null,null,null,null,"投2",{"$f":"IF(L25=\"\",\"\",VLOOKUP(L25,$C$29:$D$58,2,FALSE))","v":""},null,null,null,{"$f":"IFERROR(VLOOKUP(先攻T!K31,記号!$B$6:$C$10,2,FALSE),\"\")","v":""},{"$f":"IFERROR(VLOOKUP(先攻T!L31,記号!$B$6:$C$10,2,FALSE),\"\")","v":""},{"$f":"IFERROR(VLOOKUP(先攻T!F33,記号!$B$6:$C$10,2,FALSE),\"\")","v":""},{"$f":"IFERROR(VLOOKUP(先攻T!G33,記号!$B$6:$C$10,2,FALSE),\"\")","v":""},{"$f":"IFERROR(VLOOKUP(先攻T!H33,記号!$B$6:$C$10,2,FALSE),\"\")","v":""},{"$f":"IFERROR(VLOOKUP(先攻T!W31,記号!$B$6:$C$10,2,FALSE),\"\")","v":""},{"$f":"IFERROR(VLOOKUP(先攻T!X31,記号!$B$6:$C$10,2,FALSE),\"\")","v":""},{"$f":"IFERROR(VLOOKUP(先攻T!R33,記号!$B$6:$C$10,2,FALSE),\"\")","v":""},{"$f":"IFERROR(VLOOKUP(先攻T!S33,記号!$B$6:$C$10,2,FALSE),\"\")","v":""},{"$f":"IFERROR(VLOOKUP(先攻T!T33,記号!$B$6:$C$10,2,FALSE),\"\")","v":""},{"$f":"IFERROR(VLOOKUP(先攻T!AI31,記号!$B$6:$C$10,2,FALSE),\"\")","v":""},{"$f":"IFERROR(VLOOKUP(先攻T!AJ31,記号!$B$6:$C$10,2,FALSE),\"\")","v":""},{"$f":"IFERROR(VLOOKUP(先攻T!AD33,記号!$B$6:$C$10,2,FALSE),\"\")","v":""},{"$f":"IFERROR(VLOOKUP(先攻T!AE33,記号!$B$6:$C$10,2,FALSE),\"\")","v":""},{"$f":"IFERROR(VLOOKUP(先攻T!AF33,記号!$B$6:$C$10,2,FALSE),\"\")","v":""},{"$f":"IFERROR(VLOOKUP(先攻T!AU31,記号!$B$6:$C$10,2,FALSE),\"\")","v":""},{"$f":"IFERROR(VLOOKUP(先攻T!AV31,記号!$B$6:$C$10,2,FALSE),\"\")","v":""},{"$f":"IFERROR(VLOOKUP(先攻T!AP33,記号!$B$6:$C$10,2,FALSE),\"\")","v":""},{"$f":"IFERROR(VLOOKUP(先攻T!AQ33,記号!$B$6:$C$10,2,FALSE),\"\")","v":""},{"$f":"IFERROR(VLOOKUP(先攻T!AR33,記号!$B$6:$C$10,2,FALSE),\"\")","v":""},{"$f":"IFERROR(VLOOKUP(先攻T!AZ22,記号!$B$6:$C$10,2,FALSE),\"\")","v":""},{"$f":"IFERROR(VLOOKUP(先攻T!BA22,記号!$B$6:$C$10,2,FALSE),\"\")","v":""},{"$f":"IFERROR(VLOOKUP(先攻T!BB33,記号!$B$6:$C$10,2,FALSE),\"\")","v":""},{"$f":"IFERROR(VLOOKUP(先攻T!BC33,記号!$B$6:$C$10,2,FALSE),\"\")","v":""},{"$f":"IFERROR(VLOOKUP(先攻T!BD33,記号!$B$6:$C$10,2,FALSE),\"\")","v":""},{"$f":"IFERROR(VLOOKUP(先攻T!BS31,記号!$B$6:$C$10,2,FALSE),\"\")","v":""},{"$f":"IFERROR(VLOOKUP(先攻T!BT31,記号!$B$6:$C$10,2,FALSE),\"\")","v":""},{"$f":"IFERROR(VLOOKUP(先攻T!BN33,記号!$B$6:$C$10,2,FALSE),\"\")","v":""},{"$f":"IFERROR(VLOOKUP(先攻T!BO33,記号!$B$6:$C$10,2,FALSE),\"\")","v":""},{"$f":"IFERROR(VLOOKUP(先攻T!BP33,記号!$B$6:$C$10,2,FALSE),\"\")","v":""},{"$f":"IFERROR(VLOOKUP(先攻T!CE31,記号!$B$6:$C$10,2,FALSE),\"\")","v":""},{"$f":"IFERROR(VLOOKUP(先攻T!CF31,記号!$B$6:$C$10,2,FALSE),\"\")","v":""},{"$f":"IFERROR(VLOOKUP(先攻T!BZ33,記号!$B$6:$C$10,2,FALSE),\"\")","v":""},{"$f":"IFERROR(VLOOKUP(先攻T!CA33,記号!$B$6:$C$10,2,FALSE),\"\")","v":""},{"$f":"IFERROR(VLOOKUP(先攻T!CB33,記号!$B$6:$C$10,2,FALSE),\"\")","v":""},{"$f":"IFERROR(VLOOKUP(先攻T!CQ31,記号!$B$6:$C$10,2,FALSE),\"\")","v":"・□"},{"$f":"IFERROR(VLOOKUP(先攻T!CR31,記号!$B$6:$C$10,2,FALSE),\"\")","v":""},{"$f":"IFERROR(VLOOKUP(先攻T!CL33,記号!$B$6:$C$10,2,FALSE),\"\")","v":""},{"$f":"IFERROR(VLOOKUP(先攻T!CM33,記号!$B$6:$C$10,2,FALSE),\"\")","v":""},{"$f":"IFERROR(VLOOKUP(先攻T!CN33,記号!$B$6:$C$10,2,FALSE),\"\")","v":""},{"$f":"IFERROR(VLOOKUP(先攻T!DC31,記号!$B$6:$C$10,2,FALSE),\"\")","v":""},{"$f":"IFERROR(VLOOKUP(先攻T!DD31,記号!$B$6:$C$10,2,FALSE),\"\")","v":""},{"$f":"IFERROR(VLOOKUP(先攻T!CX33,記号!$B$6:$C$10,2,FALSE),\"\")","v":""},{"$f":"IFERROR(VLOOKUP(先攻T!CY33,記号!$B$6:$C$10,2,FALSE),\"\")","v":""},{"$f":"IFERROR(VLOOKUP(先攻T!CZ33,記号!$B$6:$C$10,2,FALSE),\"\")","v":""},{"$f":"IFERROR(VLOOKUP(先攻T!DO31,記号!$B$6:$C$10,2,FALSE),\"\")","v":""},{"$f":"IFERROR(VLOOKUP(先攻T!DP31,記号!$B$6:$C$10,2,FALSE),\"\")","v":""},{"$f":"IFERROR(VLOOKUP(先攻T!DJ33,記号!$B$6:$C$10,2,FALSE),\"\")","v":""},{"$f":"IFERROR(VLOOKUP(先攻T!DK33,記号!$B$6:$C$10,2,FALSE),\"\")","v":""},{"$f":"IFERROR(VLOOKUP(先攻T!DL33,記号!$B$6:$C$10,2,FALSE),\"\")","v":""},{"$f":"IFERROR(VLOOKUP(先攻T!EA31,記号!$B$6:$C$10,2,FALSE),\"\")","v":""},{"$f":"IFERROR(VLOOKUP(先攻T!EB31,記号!$B$6:$C$10,2,FALSE),\"\")","v":""},{"$f":"IFERROR(VLOOKUP(先攻T!DV33,記号!$B$6:$C$10,2,FALSE),\"\")","v":""},{"$f":"IFERROR(VLOOKUP(先攻T!DW33,記号!$B$6:$C$10,2,FALSE),\"\")","v":""},{"$f":"IFERROR(VLOOKUP(先攻T!DX33,記号!$B$6:$C$10,2,FALSE),\"\")","v":""},{"$f":"IFERROR(VLOOKUP(先攻T!EM31,記号!$B$6:$C$10,2,FALSE),\"\")","v":""},{"$f":"IFERROR(VLOOKUP(先攻T!EN31,記号!$B$6:$C$10,2,FALSE),\"\")","v":""},{"$f":"IFERROR(VLOOKUP(先攻T!EH33,記号!$B$6:$C$10,2,FALSE),\"\")","v":""},{"$f":"IFERROR(VLOOKUP(先攻T!EI33,記号!$B$6:$C$10,2,FALSE),\"\")","v":""},{"$f":"IFERROR(VLOOKUP(先攻T!EJ33,記号!$B$6:$C$10,2,FALSE),\"\")","v":""},{"$f":"IF(K25=\"\",\"\",VLOOKUP(K25,$C$84:$E$89,3,FALSE))","v":""},{"$f":"IF(L25=\"\",\"\",(BX25+CG25+CH25+CI25))","v":""},"",{"$f":"IF(L25=\"\",\"\",COUNTIFS($N$23:$BU$23,L25,$N$28:$BU$28,$BY$3))","v":""},{"$f":"IF(L25=\"\",\"\",COUNTIFS($N$23:$BU$23,L25,$N$28:$BU$28,$BZ$3))","v":""},{"$f":"IF(L25=\"\",\"\",COUNTIFS($N$23:$BU$23,L25,$N$26:$BU$26,$CA$3))","v":""},{"$f":"IF(L25=\"\",\"\",COUNTIFS($N$23:$BU$23,L25,$N$26:$BU$26,$CB$3))","v":""},{"$f":"IF(L25=\"\",\"\",COUNTIFS($N$23:$BU$23,L25,$N$28:$BU$28,$CC$3))","v":""},{"$f":"IF(L25=\"\",\"\",SUMIF($N$23:$BU$23,L25,$N$28:$BU$28))","v":""},{"$f":"IF(L25=\"\",\"\",COUNTIFS($N$23:$BU$23,L25,$N$27:$BU$27,$CE$3))","v":""},{"$f":"IF(L25=\"\",\"\",COUNTIFS($N$23:$BU$23,L25,$N$28:$BU$28,$CF$3))","v":""},{"$f":"IF(L25=\"\",\"\",COUNTIFS($N$23:$BU$23,L25,$N$28:$BU$28,$CG$3))","v":""},{"$f":"IF(L25=\"\",\"\",COUNTIFS($N$23:$BU$23,L25,$N$28:$BU$28,$CH$3))","v":""},{"$f":"IF(L25=\"\",\"\",COUNTIFS($N$23:$BU$23,L25,$N$28:$BU$28,$CI$3))","v":""},{"$f":"IF(L25=\"\",\"\",COUNTIFS($N$23:$BU$23,L25,$N$28:$BU$28,$CJ$3))","v":""},{"$f":"IF(L25=\"\",\"\",COUNTIFS($N$23:$BU$23,L25,$N$28:$BU$28,$CK$3)+COUNTIFS($N$23:$BU$23,L25,$N$26:$BU$26,$CK$3))","v":""},{"$f":"IF(L25=\"\",\"\",COUNTIFS($N$23:$BU$23,L25,$N$28:$BU$28,$CL$3)+COUNTIFS($N$23:$BU$23,L25,$N$26:$BU$26,$CL$3))","v":""},{"$f":"IF(L25=\"\",\"\",COUNTIFS($N$23:$BU$23,$L$24,$N$28:$BU$28,$CM$3))","v":""},{"$f":"IF(L25=\"\",\"\",COUNTIFS($N$23:$BU$23,L25,$N$28:$BU$28,$CN$3))","v":""},{"$f":"IF(L25=\"\",\"\",COUNTIFS($N$23:$BU$23,L25,$N$24:$BU$24,$CO$3)+COUNTIFS($N$23:$BU$23,L25,$N$25:$BU$25,$CO$3))","v":""},null,"ゴロ中安",null,null,null,null,"G",{"$f":"IF(DA25=\"\",\"\",VLOOKUP(DA25,$C$84:$E$89,3,FALSE))","v":"RR"},5,"中",8,"先",null,null,null,null,null,null,null,null,null,null,null,null,null,null,null,null,null,null,null,null,null,null,null,null,null,null,null,"","",{"$f":"IF(EC25=\"\",\"\",COUNTIFS($N$23:$BU$23,EC25,$N$28:$BU$28,\"RZ\"))","v":""},{"$f":"IF(ED25=\"\",\"\",COUNTIFS($N$23:$BU$23,EC25,$N$27:$BU$27,\"ZH\"))","v":""},null,null,null,null,null,null,null,"","",{"$f":"IF(G6=\"\",\"\",G6)","v":""},"RR","","","","","","","","","","","","","","","","","","","",null,null,null,null,{"$f":"SUM(FO24:FQ24)","v":11},null,null,{"$f":"SUM(FR24:FT24)","v":4},null,null,{"$f":"SUM(FU24:FW24)","v":9},null,null,null,null,null,null,null,null,null,null,null,null,null,null,null,null,null,null,null,null,null,null,null,null,null,null,null,null,null,null,null,null,null,null,null,null,null,null,null,null,null,null,null,null,null,null,null,null,null,null,null,"","",{"$f":"IF(HU25=\"\",\"\",COUNTIFS($N$23:$BU$23,HV25,$N$24:$BU$24,$HW$3)+COUNTIFS($N$23:$BU$23,HV25,$N$25:$BU$25,$HW$3))","v":""},{"$f":"IF(HU25=\"\",\"\",COUNTIFS($N$23:$BU$23,HV25,$N$24:$BU$24,$HX$3)+COUNTIFS($N$23:$BU$23,HV25,$N$25:$BU$25,$HX$3))","v":""},{"$f":"IF(HU25=\"\",\"\",COUNTIFS($N$23:$BU$23,HV25,$N$24:$BU$24,$HY$3)+COUNTIFS($N$23:$BU$23,HV25,$N$25:$BU$25,$HY$3))","v":""},{"$f":"IF(HU25=\"\",\"\",COUNTIFS($N$23:$BU$23,HV25,$N$24:$BU$24,$HZ$3)+COUNTIFS($N$23:$BU$23,HV25,$N$25:$BU$25,$HZ$3))","v":""},{"$f":"IF(HU25=\"\",\"\",COUNTIFS($N$23:$BU$23,HV25,$N$24:$BU$24,$IA$3)+COUNTIFS($N$23:$BU$23,HV25,$N$25:$BU$25,$IA$3))","v":""},{"$f":"IF(HU25=\"\",\"\",COUNTIFS($N$23:$BU$23,HV25,$N$24:$BU$24,$IB$3)+COUNTIFS($N$23:$BU$23,HV25,$N$25:$BU$25,$IB$3))","v":""}]
[null,null,null,"チーム登録選手",null,null,null,null,null,{"$f":"IF(L26=\"\",\"\",VLOOKUP(L26,$C$29:$D$58,2,FALSE))","v":""},null,null,null,{"$f":"IFERROR(VLOOKUP(先攻T!F36,記号!$I$27:$J$30,2,FALSE),\"\")","v":""},{"$f":"IFERROR(VLOOKUP(先攻T!H35,記号!$L$5:$M$21,2,FALSE),\"\")","v":""},{"$f":"IFERROR(VLOOKUP(先攻T!H37,記号!$F$27:$G$37,2,FALSE),\"\")","v":""},{"$f":"IFERROR(VLOOKUP(先攻T!G35,記号!$I$5:$J$23,2,FALSE),\"\")","v":""},null,{"$f":"IFERROR(VLOOKUP(先攻T!R36,記号!$I$27:$J$30,2,FALSE),\"\")","v":"G"},{"$f":"IFERROR(VLOOKUP(先攻T!T35,記号!$L$5:$M$21,2,FALSE),\"\")","v":"S'"},{"$f":"IFERROR(VLOOKUP(先攻T!T37,記号!$F$27:$G$37,2,FALSE),\"\")","v":""},{"$f":"IFERROR(VLOOKUP(先攻T!S35,記号!$I$5:$J$23,2,FALSE),\"\")","v":"⑤"},null,{"$f":"IFERROR(VLOOKUP(先攻T!AD36,記号!$I$27:$J$30,2,FALSE),\"\")","v":""},{"$f":"IFERROR(VLOOKUP(先攻T!AF35,記号!$L$5:$M$21,2,FALSE),\"\")","v":""},{"$f":"IFERROR(VLOOKUP(先攻T!AF37,記号!$F$27:$G$37,2,FALSE),\"\")","v":""},{"$f":"IFERROR(VLOOKUP(先攻T!AE35,記号!$I$5:$J$23,2,FALSE),\"\")","v":""},null,{"$f":"IFERROR(VLOOKUP(先攻T!AP36,記号!$I$27:$J$30,2,FALSE),\"\")","v":"G"},{"$f":"IFERROR(VLOOKUP(先攻T!AR35,記号!$L$5:$M$21,2,FALSE),\"\")","v":""},{"$f":"IFERROR(VLOOKUP(先攻T!AR37,記号!$F$27:$G$37,2,FALSE),\"\")","v":""},{"$f":"IFERROR(VLOOKUP(先攻T!AQ35,記号!$I$5:$J$23,2,FALSE),\"\")","v":"⑤"},null,{"$f":"IFERROR(VLOOKUP(先攻T!BB36,記号!$I$27:$J$30,2,FALSE),\"\")","v":""},{"$f":"IFERROR(VLOOKUP(先攻T!BD35,記号!$L$5:$M$21,2,FALSE),\"\")","v":""},{"$f":"IFERROR(VLOOKUP(先攻T!BD37,記号!$F$27:$G$37,2,FALSE),\"\")","v":""},{"$f":"IFERROR(VLOOKUP(先攻T!BC35,記号!$I$5:$J$23,2,FALSE),\"\")","v":""},null,{"$f":"IFERROR(VLOOKUP(先攻T!BN36,記号!$I$27:$J$30,2,FALSE),\"\")","v":"F"},{"$f":"IFERROR(VLOOKUP(先攻T!BP35,記号!$L$5:$M$21,2,FALSE),\"\")","v":""},{"$f":"IFERROR(VLOOKUP(先攻T!BP37,記号!$F$27:$G$37,2,FALSE),\"\")","v":""},{"$f":"IFERROR(VLOOKUP(先攻T!BO35,記号!$I$5:$J$23,2,FALSE),\"\")","v":""},null,{"$f":"IFERROR(VLOOKUP(先攻T!BZ36,記号!$I$27:$J$30,2,FALSE),\"\")","v":""},{"$f":"IFERROR(VLOOKUP(先攻T!CB235,記号!$L$5:$M$21,2,FALSE),\"\")","v":""},{"$f":"IFERROR(VLOOKUP(先攻T!CB37,記号!$F$27:$G$37,2,FALSE),\"\")","v":""},{"$f":"IFERROR(VLOOKUP(先攻T!CA35,記号!$I$5:$J$23,2,FALSE),\"\")","v":""},null,{"$f":"IFERROR(VLOOKUP(先攻T!CL36,記号!$I$27:$J$30,2,FALSE),\"\")","v":""},{"$f":"IFERROR(VLOOKUP(先攻T!CN35,記号!$L$5:$M$21,2,FALSE),\"\")","v":""},{"$f":"IFERROR(VLOOKUP(先攻T!CN37,記号!$F$27:$G$37,2,FALSE),\"\")","v":""},{"$f":"IFERROR(VLOOKUP(先攻T!CM35,記号!$I$5:$J$23,2,FALSE),\"\")","v":""},null,{"$f":"IFERROR(VLOOKUP(先攻T!CX36,記号!$I$27:$J$30,2,FALSE),\"\")","v":""},{"$f":"IFERROR(VLOOKUP(先攻T!CZ35,記号!$L$5:$M$21,2,FALSE),\"\")","v":""},{"$f":"IFERROR(VLOOKUP(先攻T!CZ37,記号!$F$27:$G$37,2,FALSE),\"\")","v":""},{"$f":"IFERROR(VLOOKUP(先攻T!CY35,記号!$I$5:$J$23,2,FALSE),\"\")","v":""},null,{"$f":"IFERROR(VLOOKUP(先攻T!DJ36,記号!$I$27:$J$30,2,FALSE),\"\")","v":""},{"$f":"IFERROR(VLOOKUP(先攻T!DL35,記号!$L$5:$M$21,2,FALSE),\"\")","v":""},{"$f":"IFERROR(VLOOKUP(先攻T!DL37,記号!$F$27:$G$37,2,FALSE),\"\")","v":""},{"$f":"IFERROR(VLOOKUP(先攻T!DK35,記号!$I$5:$J$23,2,FALSE),\"\")","v":""},null,{"$f":"IFERROR(VLOOKUP(先攻T!DV36,記号!$I$27:$J$30,2,FALSE),\"\")","v":""},{"$f":"IFERROR(VLOOKUP(先攻T!DX35,記号!$L$5:$M$21,2,FALSE),\"\")","v":""},{"$f":"IFERROR(VLOOKUP(先攻T!DX37,記号!$F$27:$G$37,2,FALSE),\"\")","v":""},{"$f":"IFERROR(VLOOKUP(先攻T!DW35,記号!$I$5:$J$23,2,FALSE),\"\")","v":""},null,{"$f":"IFERROR(VLOOKUP(先攻T!EH36,記号!$I$27:$J$30,2,FALSE),\"\")","v":""},{"$f":"IFERROR(VLOOKUP(先攻T!EJ35,記号!$L$5:$M$21,2,FALSE),\"\")","v":""},{"$f":"IFERROR(VLOOKUP(先攻T!EJ37,記号!$F$27:$G$37,2,FALSE),\"\")","v":""},{"$f":"IFERROR(VLOOKUP(先攻T!EI35,記号!$I$5:$J$23,2,FALSE),\"\")","v":""},null,{"$f":"IF(K26=\"\",\"\",VLOOKUP(K26,$C$84:$E$89,3,FALSE))","v":""},{"$f":"IF(L26=\"\",\"\",(BX26+CG26+CH26+CI26))","v":""},"",{"$f":"IF(L26=\"\",\"\",COUNTIFS($N$23:$BU$23,L26,$N$28:$BU$28,$BY$3))","v":""},{"$f":"IF(L26=\"\",\"\",COUNTIFS($N$23:$BU$23,L26,$N$28:$BU$28,$BZ$3))","v":""},{"$f":"IF(L26=\"\",\"\",COUNTIFS($N$23:$BU$23,L26,$N$26:$BU$26,$CA$3))","v":""},{"$f":"IF(L26=\"\",\"\",COUNTIFS($N$23:$BU$23,L26,$N$26:$BU$26,$CB$3))","v":""},{"$f":"IF(L26=\"\",\"\",COUNTIFS($N$23:$BU$23,L26,$N$28:$BU$28,$CC$3))","v":""},{"$f":"IF(L26=\"\",\"\",SUMIF($N$23:$BU$23,L26,$N$28:$BU$28))","v":""},{"$f":"IF(L26=\"\",\"\",COUNTIFS($N$23:$BU$23,L26,$N$27:$BU$27,$CE$3))","v":""},{"$f":"IF(L26=\"\",\"\",COUNTIFS($N$23:$BU$23,L26,$N$28:$BU$28,$CF$3))","v":""},{"$f":"IF(L26=\"\",\"\",COUNTIFS($N$23:$BU$23,L26,$N$28:$BU$28,$CG$3))","v":""},{"$f":"IF(L26=\"\",\"\",COUNTIFS($N$23:$BU$23,L26,$N$28:$BU$28,$CH$3))","v":""},{"$f":"IF(L26=\"\",\"\",COUNTIFS($N$23:$BU$23,L26,$N$28:$BU$28,$CI$3))","v":""},{"$f":"IF(L26=\"\",\"\",COUNTIFS($N$23:$BU$23,L26,$N$28:$BU$28,$CJ$3))","v":""},{"$f":"IF(L26=\"\",\"\",COUNTIFS($N$23:$BU$23,L26,$N$28:$BU$28,$CK$3)+COUNTIFS($N$23:$BU$23,L26,$N$26:$BU$26,$CK$3))","v":""},{"$f":"IF(L26=\"\",\"\",COUNTIFS($N$23:$BU$23,L26,$N$28:$BU$28,$CL$3)+COUNTIFS($N$23:$BU$23,L26,$N$26:$BU$26,$CL$3))","v":""},{"$f":"IF(L26=\"\",\"\",COUNTIFS($N$23:$BU$23,$L$24,$N$28:$BU$28,$CM$3))","v":""},{"$f":"IF(L26=\"\",\"\",COUNTIFS($N$23:$BU$23,L26,$N$28:$BU$28,$CN$3))","v":""},{"$f":"IF(L26=\"\",\"\",COUNTIFS($N$23:$BU$23,L26,$N$24:$BU$24,$CO$3)+COUNTIFS($N$23:$BU$23,L26,$N$25:$BU$25,$CO$3))","v":""},null,"遊飛",null,null,null,null,"A","RR",5,"遊",6,"先",null,null,null,null,null,null,null,null,null,null,null,null,null,null,null,null,null,null,null,null,null,null,null,null,null,null,null,"","",{"$f":"IF(EC26=\"\",\"\",COUNTIFS($N$23:$BU$23,EC26,$N$28:$BU$28,\"RZ\"))","v":""},{"$f":"IF(ED26=\"\",\"\",COUNTIFS($N$23:$BU$23,EC26,$N$27:$BU$27,\"ZH\"))","v":""},null,null,null,null,null,null,null,"","",{"$f":"IF(G6=\"\",\"\",G6)","v":""},"LL","","","","","","","","","","","","","","","","","","","",null,null,null,null,null,null,null,null,null,null,null,null,null,null,null,null,null,null,null,null,null,null,null,null,null,null,null,null,null,null,null,null,null,null,null,null,null,null,null,null,null,null,null,null,null,null,null,null,null,null,null,null,null,null,null,null,null,null,null,null,null,null,"","","","","","","",""]
[null,null,"*","選手名","PS","背番",null,null,null,{"$f":"IF(L27=\"\",\"\",VLOOKUP(L27,$C$29:$D$58,2,FALSE))","v":""},null,null,null,{"$f":"IF(N23=\"\",\"\",IF(N23=L24+0.2,\"2\",IF(N23=L24+0.3,\"3\",IF(N23=L24+0.4,\"4\",IF(N23=L24+0.5,\"5\",\"先\")))))","v":"先"},{"$f":"IFERROR(VLOOKUP(先攻T!I37,記号!$F$27:$G$37,2,FALSE),\"\")","v":""},{"$f":"IFERROR(VLOOKUP(先攻T!J35,記号!$R$5:$S$10,2,FALSE),\"\")","v":""},{"$f":"IFERROR(VLOOKUP(先攻T!G37,記号!$F$27:$G$37,2,FALSE),\"\")","v":""},{"$f":"IFERROR(VLOOKUP(先攻T!L35,記号!$U$12:$V$13,2,FALSE),\"\")","v":""},{"$f":"IF(S23=\"\",\"\",IF(S23=L24+0.2,\"2\",IF(S23=L24+0.3,\"3\",IF(S23=L24+0.4,\"4\",IF(S23=L24+0.5,\"5\",\"先\")))))","v":"先"},{"$f":"IFERROR(VLOOKUP(先攻T!U37,記号!$F$27:$G$37,2,FALSE),\"\")","v":""},{"$f":"IFERROR(VLOOKUP(先攻T!V35,記号!$R$5:$S$10,2,FALSE),\"\")","v":"Ⅱ"},{"$f":"IFERROR(VLOOKUP(先攻T!S37,記号!$F$27:$G$37,2,FALSE),\"\")","v":""},{"$f":"IFERROR(VLOOKUP(先攻T!X35,記号!$U$12:$V$13,2,FALSE),\"\")","v":""},{"$f":"IF(X23=\"\",\"\",IF(X23=L24+0.2,\"2\",IF(X23=L24+0.3,\"3\",IF(X23=L24+0.4,\"4\",IF(X23=L24+0.5,\"5\",\"先\")))))","v":"先"},{"$f":"IFERROR(VLOOKUP(先攻T!AG37,記号!$F$27:$G$37,2,FALSE),\"\")","v":""},{"$f":"IFERROR(VLOOKUP(先攻T!AH35,記号!$R$5:$S$10,2,FALSE),\"\")","v":""},{"$f":"IFERROR(VLOOKUP(先攻T!AE37,記号!$F$27:$G$37,2,FALSE),\"\")","v":""},{"$f":"IFERROR(VLOOKUP(先攻T!AJ35,記号!$U$12:$V$13,2,FALSE),\"\")","v":""},{"$f":"IF(AC23=\"\",\"\",IF(AC23=L24+0.2,\"2\",IF(AC23=L24+0.3,\"3\",IF(AC23=L24+0.4,\"4\",IF(AC23=L24+0.5,\"5\",\"先\")))))","v":"先"},{"$f":"IFERROR(VLOOKUP(先攻T!AS37,記号!$F$27:$G$37,2,FALSE),\"\")","v":""},{"$f":"IFERROR(VLOOKUP(先攻T!AT35,記号!$R$5:$S$10,2,FALSE),\"\")","v":"L"},{"$f":"IFERROR(VLOOKUP(先攻T!AQ37,記号!$F$27:$G$37,2,FALSE),\"\")","v":""},{"$f":"IFERROR(VLOOKUP(先攻T!AV35,記号!$U$12:$V$13,2,FALSE),\"\")","v":""},{"$f":"IF(AH23=\"\",\"\",IF(AH23=L24+0.2,\"2\",IF(AH23=L24+0.3,\"3\",IF(AH23=L24+0.4,\"4\",IF(AH23=L24+0.5,\"5\",\"先\")))))","v":"先"},{"$f":"IFERROR(VLOOKUP(先攻T!BE37,記号!$F$27:$G$37,2,FALSE),\"\")","v":""},{"$f":"IFERROR(VLOOKUP(先攻T!BF35,記号!$R$5:$S$10,2,FALSE),\"\")","v":""},{"$f":"IFERROR(VLOOKUP(先攻T!BC35,記号!$F$27:$G$37,2,FALSE),\"\")","v":""},{"$f":"IFERROR(VLOOKUP(先攻T!BH35,記号!$U$12:$V$13,2,FALSE),\"\")","v":""},{"$f":"IF(AM23=\"\",\"\",IF(AM23=L24+0.2,\"2\",IF(AM23=L24+0.3,\"3\",IF(AM23=L24+0.4,\"4\",IF(AM23=L24+0.5,\"5\",\"先\")))))","v":"先"},{"$f":"IFERROR(VLOOKUP(先攻T!BQ37,記号!$F$27:$G$37,2,FALSE),\"\")","v":""},{"$f":"IFERROR(VLOOKUP(先攻T!BR35,記号!$R$5:$S$10,2,FALSE),\"\")","v":"Ⅱ"},{"$f":"IFERROR(VLOOKUP(先攻T!BO37,記号!$F$27:$G$37,2,FALSE),\"\")","v":""},{"$f":"IFERROR(VLOOKUP(先攻T!BT35,記号!$U$12:$V$13,2,FALSE),\"\")","v":""},{"$f":"IF(AR23=\"\",\"\",IF(AR23=L24+0.2,\"2\",IF(AR23=L24+0.3,\"3\",IF(AR23=L24+0.4,\"4\",IF(AR23=L24+0.5,\"5\",\"先\")))))","v":"先"},{"$f":"IFERROR(VLOOKUP(先攻T!CC37,記号!$F$27:$G$37,2,FALSE),\"\")","v":""},{"$f":"IFERROR(VLOOKUP(先攻T!CD35,記号!$R$5:$S$10,2,FALSE),\"\")","v":""},{"$f":"IFERROR(VLOOKUP(先攻T!CA37,記号!$F$27:$G$37,2,FALSE),\"\")","v":""},{"$f":"IFERROR(VLOOKUP(先攻T!CF35,記号!$U$12:$V$13,2,FALSE),\"\")","v":""},{"$f":"IF(AW23=\"\",\"\",IF(AW23=L24+0.2,\"2\",IF(AW23=L24+0.3,\"3\",IF(AW23=L24+0.4,\"4\",IF(AW23=L24+0.5,\"5\",\"先\")))))","v":"先"},{"$f":"IFERROR(VLOOKUP(先攻T!CO37,記号!$F$27:$G$37,2,FALSE),\"\")","v":""},{"$f":"IFERROR(VLOOKUP(先攻T!CP35,記号!$R$5:$S$10,2,FALSE),\"\")","v":"Ⅲ"},{"$f":"IFERROR(VLOOKUP(先攻T!CM37,記号!$F$27:$G$37,2,FALSE),\"\")","v":""},{"$f":"IFERROR(VLOOKUP(先攻T!CR35,記号!$U$12:$V$13,2,FALSE),\"\")","v":""},{"$f":"IF(BB23=\"\",\"\",IF(BB23=L24+0.2,\"2\",IF(BB23=L24+0.3,\"3\",IF(BB23=L24+0.4,\"4\",IF(BB23=L24+0.5,\"5\",\"先\")))))","v":"先"},{"$f":"IFERROR(VLOOKUP(先攻T!DA37,記号!$F$27:$G$37,2,FALSE),\"\")","v":""},{"$f":"IFERROR(VLOOKUP(先攻T!DB35,記号!$R$5:$S$10,2,FALSE),\"\")","v":""},{"$f":"IFERROR(VLOOKUP(先攻T!CY37,記号!$F$27:$G$37,2,FALSE),\"\")","v":""},{"$f":"IFERROR(VLOOKUP(先攻T!DD35,記号!$U$12:$V$13,2,FALSE),\"\")","v":""},{"$f":"IF(BG23=\"\",\"\",IF(BG23=L24+0.2,\"2\",IF(BG23=L24+0.3,\"3\",IF(BG23=L24+0.4,\"4\",IF(BG23=L24+0.5,\"5\",\"先\")))))","v":"先"},{"$f":"IFERROR(VLOOKUP(先攻T!DM37,記号!$F$27:$G$37,2,FALSE),\"\")","v":""},{"$f":"IFERROR(VLOOKUP(先攻T!DN35,記号!$R$5:$S$10,2,FALSE),\"\")","v":""},{"$f":"IFERROR(VLOOKUP(先攻T!DK37,記号!$F$27:$G$37,2,FALSE),\"\")","v":""},{"$f":"IFERROR(VLOOKUP(先攻T!DP35,記号!$U$12:$V$13,2,FALSE),\"\")","v":""},{"$f":"IF(BL23=\"\",\"\",IF(BL23=L24+0.2,\"2\",IF(BL23=L24+0.3,\"3\",IF(BL23=L24+0.4,\"4\",IF(BL23=L24+0.5,\"5\",\"先\")))))","v":"先"},{"$f":"IFERROR(VLOOKUP(先攻T!DY37,記号!$F$27:$G$37,2,FALSE),\"\")","v":""},{"$f":"IFERROR(VLOOKUP(先攻T!DZ35,記号!$R$5:$S$10,2,FALSE),\"\")","v":""},{"$f":"IFERROR(VLOOKUP(先攻T!DW37,記号!$F$27:$G$37,2,FALSE),\"\")","v":""},{"$f":"IFERROR(VLOOKUP(先攻T!EB35,記号!$U$12:$V$13,2,FALSE),\"\")","v":""},{"$f":"IF(BQ23=\"\",\"\",IF(BQ23=L24+0.2,\"2\",IF(BQ23=L24+0.3,\"3\",IF(BQ23=L24+0.4,\"4\",IF(BQ23=L24+0.5,\"5\",\"先\")))))","v":"先"},{"$f":"IFERROR(VLOOKUP(先攻T!EK37,記号!$F$27:$G$37,2,FALSE),\"\")","v":""},{"$f":"IFERROR(VLOOKUP(先攻T!EL35,記号!$R$5:$S$10,2,FALSE),\"\")","v":""},{"$f":"IFERROR(VLOOKUP(先攻T!EI37,記号!$F$27:$G$37,2,FALSE),\"\")","v":""},{"$f":"IFERROR(VLOOKUP(先攻T!EN35,記号!$U$12:$V$13,2,FALSE),\"\")","v":""},{"$f":"IF(K27=\"\",\"\",VLOOKUP(K27,$C$84:$E$89,3,FALSE))","v":""},{"$f":"IF(L27=\"\",\"\",(BX27+CG27+CH27+CI27))","v":""},"",{"$f":"IF(L27=\"\",\"\",COUNTIFS($N$23:$BU$23,L27,$N$28:$BU$28,$BY$3))","v":""},{"$f":"IF(L27=\"\",\"\",COUNTIFS($N$23:$BU$23,L27,$N$28:$BU$28,$BZ$3))","v":""},{"$f":"IF(L27=\"\",\"\",COUNTIFS($N$23:$BU$23,L27,$N$26:$BU$26,$CA$3))","v":""},{"$f":"IF(L27=\"\",\"\",COUNTIFS($N$23:$BU$23,L27,$N$26:$BU$26,$CB$3))","v":""},{"$f":"IF(L27=\"\",\"\",COUNTIFS($N$23:$BU$23,L27,$N$28:$BU$28,$CC$3))","v":""},{"$f":"IF(L27=\"\",\"\",SUMIF($N$23:$BU$23,L27,$N$28:$BU$28))","v":""},{"$f":"IF(L27=\"\",\"\",COUNTIFS($N$23:$BU$23,L27,$N$27:$BU$27,$CE$3))","v":""},{"$f":"IF(L27=\"\",\"\",COUNTIFS($N$23:$BU$23,L27,$N$28:$BU$28,$CF$3))","v":""},{"$f":"IF(L27=\"\",\"\",COUNTIFS($N$23:$BU$23,L27,$N$28:$BU$28,$CG$3))","v":""},{"$f":"IF(L27=\"\",\"\",COUNTIFS($N$23:$BU$23,L27,$N$28:$BU$28,$CH$3))","v":""},{"$f":"IF(L27=\"\",\"\",COUNTIFS($N$23:$BU$23,L27,$N$28:$BU$28,$CI$3))","v":""},{"$f":"IF(L27=\"\",\"\",COUNTIFS($N$23:$BU$23,L27,$N$28:$BU$28,$CJ$3))","v":""},{"$f":"IF(L27=\"\",\"\",COUNTIFS($N$23:$BU$23,L27,$N$28:$BU$28,$CK$3)+COUNTIFS($N$23:$BU$23,L27,$N$26:$BU$26,$CK$3))","v":""},{"$f":"IF(L27=\"\",\"\",COUNTIFS($N$23:$BU$23,L27,$N$28:$BU$28,$CL$3)+COUNTIFS($N$23:$BU$23,L27,$N$26:$BU$26,$CL$3))","v":""},{"$f":"IF(L27=\"\",\"\",COUNTIFS($N$23:$BU$23,$L$24,$N$28:$BU$28,$CM$3))","v":""},{"$f":"IF(L27=\"\",\"\",COUNTIFS($N$23:$BU$23,L27,$N$28:$BU$28,$CN$3))","v":""},{"$f":"IF(L27=\"\",\"\",COUNTIFS($N$23:$BU$23,L27,$N$24:$BU$24,$CO$3)+COUNTIFS($N$23:$BU$23,L27,$N$25:$BU$25,$CO$3))","v":""},null,"空三振",null,null,null,null,null,"RR",5,null,"","先",null,null,null,null,null,null,null,null,null,null,null,null,null,null,null,null,null,null,null,null,null,null,null,null,null,null,null,"","",{"$f":"IF(EC27=\"\",\"\",COUNTIFS($N$23:$BU$23,EC27,$N$28:$BU$28,\"RZ\"))","v":""},{"$f":"IF(ED27=\"\",\"\",COUNTIFS($N$23:$BU$23,EC27,$N$27:$BU$27,\"ZH\"))","v":""},null,null,null,null,null,null,null,"","",{"$f":"IF(G7=\"\",\"\",G7)","v":""},"RR","","","","","","","","","","","","","","","","","","","",null,null,null,null,null,null,null,null,null,null,null,null,null,null,null,null,null,null,null,null,null,null,null,null,null,null,null,null,null,null,null,null,null,null,null,null,null,null,null,null,null,null,null,null,null,null,null,null,null,null,null,null,null,null,null,null,null,null,null,null,null,null,"","","","","","","",""]
[null,null,null,null,null,null,null,null,null,{"$f":"IF(L28=\"\",\"\",VLOOKUP(L28,$C$29:$D$58,2,FALSE))","v":""},null,null,null,{"$f":"IFERROR(VLOOKUP(先攻T!K35,記号!$R$15:$S$20,2,FALSE),\"\")","v":""},{"$f":"IFERROR(VLOOKUP(先攻T!I35,記号!$O$5:$P$21,2,FALSE),\"\")","v":""},{"$f":"IFERROR(VLOOKUP(先攻T!F37,記号!$F$27:$G$37,2,FALSE),\"\")","v":""},{"$f":"IFERROR(VLOOKUP(先攻T!F35,記号!$F$5:$G$21,2,FALSE),\"\")","v":""},{"$f":"IFERROR(VLOOKUP(先攻T!L36,記号!$U$5:$V$6,2,FALSE),\"\")","v":""},{"$f":"IFERROR(VLOOKUP(先攻T!W35,記号!$R$15:$S$20,2,FALSE),\"\")","v":""},{"$f":"IFERROR(VLOOKUP(先攻T!U35,記号!$O$5:$P$21,2,FALSE),\"\")","v":""},{"$f":"IFERROR(VLOOKUP(先攻T!R37,記号!$F$27:$G$37,2,FALSE),\"\")","v":"8'"},{"$f":"IFERROR(VLOOKUP(先攻T!R35,記号!$F$5:$G$21,2,FALSE),\"\")","v":"H"},{"$f":"IFERROR(VLOOKUP(先攻T!X36,記号!$U$5:$V$6,2,FALSE),\"\")","v":""},{"$f":"IFERROR(VLOOKUP(先攻T!A35,記号!$R$15:$S$20,2,FALSE),\"\")","v":""},{"$f":"IFERROR(VLOOKUP(先攻T!AG35,記号!$O$5:$P$21,2,FALSE),\"\")","v":""},{"$f":"IFERROR(VLOOKUP(先攻T!AD37,記号!$F$27:$G$37,2,FALSE),\"\")","v":""},{"$f":"IFERROR(VLOOKUP(先攻T!AD35,記号!$F$5:$G$21,2,FALSE),\"\")","v":""},{"$f":"IFERROR(VLOOKUP(先攻T!AJ36,記号!$U$5:$V$6,2,FALSE),\"\")","v":""},{"$f":"IFERROR(VLOOKUP(先攻T!AU35,記号!$R$15:$S$20,2,FALSE),\"\")","v":""},{"$f":"IFERROR(VLOOKUP(先攻T!AS35,記号!$O$5:$P$21,2,FALSE),\"\")","v":""},{"$f":"IFERROR(VLOOKUP(先攻T!AP37,記号!$F$27:$G$37,2,FALSE),\"\")","v":"8'"},{"$f":"IFERROR(VLOOKUP(先攻T!AP35,記号!$F$5:$G$21,2,FALSE),\"\")","v":"H"},{"$f":"IFERROR(VLOOKUP(先攻T!AV36,記号!$U$5:$V$6,2,FALSE),\"\")","v":""},{"$f":"IFERROR(VLOOKUP(先攻T!BG35,記号!$R$15:$S$20,2,FALSE),\"\")","v":""},{"$f":"IFERROR(VLOOKUP(先攻T!BE35,記号!$O$5:$P$21,2,FALSE),\"\")","v":""},{"$f":"IFERROR(VLOOKUP(先攻T!BB37,記号!$F$27:$G$37,2,FALSE),\"\")","v":""},{"$f":"IFERROR(VLOOKUP(先攻T!BB35,記号!$F$5:$G$21,2,FALSE),\"\")","v":""},{"$f":"IFERROR(VLOOKUP(先攻T!BH36,記号!$U$5:$V$6,2,FALSE),\"\")","v":""},{"$f":"IFERROR(VLOOKUP(先攻T!BS26,記号!$R$15:$S$20,2,FALSE),\"\")","v":""},{"$f":"IFERROR(VLOOKUP(先攻T!BQ35,記号!$O$5:$P$21,2,FALSE),\"\")","v":""},{"$f":"IFERROR(VLOOKUP(先攻T!BN37,記号!$F$27:$G$37,2,FALSE),\"\")","v":"6'"},{"$f":"IFERROR(VLOOKUP(先攻T!BN35,記号!$F$5:$G$21,2,FALSE),\"\")","v":"O"},{"$f":"IFERROR(VLOOKUP(先攻T!BT36,記号!$U$5:$V$6,2,FALSE),\"\")","v":""},{"$f":"IFERROR(VLOOKUP(先攻T!CE35,記号!$R$15:$S$20,2,FALSE),\"\")","v":""},{"$f":"IFERROR(VLOOKUP(先攻T!CC35,記号!$O$5:$P$21,2,FALSE),\"\")","v":""},{"$f":"IFERROR(VLOOKUP(先攻T!BZ37,記号!$F$27:$G$37,2,FALSE),\"\")","v":""},{"$f":"IFERROR(VLOOKUP(先攻T!BZ35,記号!$F$5:$G$21,2,FALSE),\"\")","v":""},{"$f":"IFERROR(VLOOKUP(先攻T!CF36,記号!$U$5:$V$6,2,FALSE),\"\")","v":""},{"$f":"IFERROR(VLOOKUP(先攻T!CQ35,記号!$R$15:$S$20,2,FALSE),\"\")","v":""},{"$f":"IFERROR(VLOOKUP(先攻T!CO35,記号!$O$5:$P$21,2,FALSE),\"\")","v":""},{"$f":"IFERROR(VLOOKUP(先攻T!CL37,記号!$F$27:$G$37,2,FALSE),\"\")","v":""},{"$f":"IFERROR(VLOOKUP(先攻T!CL35,記号!$F$5:$G$21,2,FALSE),\"\")","v":"K'"},{"$f":"IFERROR(VLOOKUP(先攻T!CR36,記号!$U$5:$V$6,2,FALSE),\"\")","v":""},{"$f":"IFERROR(VLOOKUP(先攻T!DC35,記号!$R$15:$S$20,2,FALSE),\"\")","v":""},{"$f":"IFERROR(VLOOKUP(先攻T!DA35,記号!$O$5:$P$21,2,FALSE),\"\")","v":""},{"$f":"IFERROR(VLOOKUP(先攻T!CX37,記号!$F$27:$G$37,2,FALSE),\"\")","v":""},{"$f":"IFERROR(VLOOKUP(先攻T!CX35,記号!$F$5:$G$21,2,FALSE),\"\")","v":""},{"$f":"IFERROR(VLOOKUP(先攻T!DD36,記号!$U$5:$V$6,2,FALSE),\"\")","v":""},{"$f":"IFERROR(VLOOKUP(先攻T!DO35,記号!$R$15:$S$20,2,FALSE),\"\")","v":""},{"$f":"IFERROR(VLOOKUP(先攻T!DM35,記号!$O$5:$P$21,2,FALSE),\"\")","v":""},{"$f":"IFERROR(VLOOKUP(先攻T!DJ37,記号!$F$27:$G$37,2,FALSE),\"\")","v":""},{"$f":"IFERROR(VLOOKUP(先攻T!DJ35,記号!$F$5:$G$21,2,FALSE),\"\")","v":""},{"$f":"IFERROR(VLOOKUP(先攻T!DP36,記号!$U$5:$V$6,2,FALSE),\"\")","v":""},{"$f":"IFERROR(VLOOKUP(先攻T!EA35,記号!$R$15:$S$20,2,FALSE),\"\")","v":""},{"$f":"IFERROR(VLOOKUP(先攻T!DY35,記号!$O$5:$P$21,2,FALSE),\"\")","v":""},{"$f":"IFERROR(VLOOKUP(先攻T!DV37,記号!$F$27:$G$37,2,FALSE),\"\")","v":""},{"$f":"IFERROR(VLOOKUP(先攻T!DV35,記号!$F$5:$G$21,2,FALSE),\"\")","v":""},{"$f":"IFERROR(VLOOKUP(先攻T!EB36,記号!$U$5:$V$6,2,FALSE),\"\")","v":""},{"$f":"IFERROR(VLOOKUP(先攻T!EM34,記号!$R$15:$S$20,2,FALSE),\"\")","v":""},{"$f":"IFERROR(VLOOKUP(先攻T!EK35,記号!$O$5:$P$21,2,FALSE),\"\")","v":""},{"$f":"IFERROR(VLOOKUP(先攻T!EH37,記号!$F$27:$G$37,2,FALSE),\"\")","v":""},{"$f":"IFERROR(VLOOKUP(先攻T!EH35,記号!$F$5:$G$21,2,FALSE),\"\")","v":""},{"$f":"IFERROR(VLOOKUP(先攻T!EN36,記号!$U$5:$V$6,2,FALSE),\"\")","v":""},{"$f":"IF(K28=\"\",\"\",VLOOKUP(K28,$C$84:$E$89,3,FALSE))","v":""},{"$f":"IF(L28=\"\",\"\",(BX28+CG28+CH28+CI28))","v":""},"",{"$f":"IF(L28=\"\",\"\",COUNTIFS($N$23:$BU$23,L28,$N$28:$BU$28,$BY$3))","v":""},{"$f":"IF(L28=\"\",\"\",COUNTIFS($N$23:$BU$23,L28,$N$28:$BU$28,$BZ$3))","v":""},{"$f":"IF(L28=\"\",\"\",COUNTIFS($N$23:$BU$23,L28,$N$26:$BU$26,$CA$3))","v":""},{"$f":"IF(L28=\"\",\"\",COUNTIFS($N$23:$BU$23,L28,$N$26:$BU$26,$CB$3))","v":""},{"$f":"IF(L28=\"\",\"\",COUNTIFS($N$23:$BU$23,L28,$N$28:$BU$28,$CC$3))","v":""},{"$f":"IF(L28=\"\",\"\",SUMIF($N$23:$BU$23,L28,$N$28:$BU$28))","v":""},{"$f":"IF(L28=\"\",\"\",COUNTIFS($N$23:$BU$23,L28,$N$27:$BU$27,$CE$3))","v":""},{"$f":"IF(L28=\"\",\"\",COUNTIFS($N$23:$BU$23,L28,$N$28:$BU$28,$CF$3))","v":""},{"$f":"IF(L28=\"\",\"\",COUNTIFS($N$23:$BU$23,L28,$N$28:$BU$28,$CG$3))","v":""},{"$f":"IF(L28=\"\",\"\",COUNTIFS($N$23:$BU$23,L28,$N$28:$BU$28,$CH$3))","v":""},{"$f":"IF(L28=\"\",\"\",COUNTIFS($N$23:$BU$23,L28,$N$28:$BU$28,$CI$3))","v":""},{"$f":"IF(L28=\"\",\"\",COUNTIFS($N$23:$BU$23,L28,$N$28:$BU$28,$CJ$3))","v":""},{"$f":"IF(L28=\"\",\"\",COUNTIFS($N$23:$BU$23,L28,$N$28:$BU$28,$CK$3)+COUNTIFS($N$23:$BU$23,L28,$N$26:$BU$26,$CK$3))","v":""},{"$f":"IF(L28=\"\",\"\",COUNTIFS($N$23:$BU$23,L28,$N$28:$BU$28,$CL$3)+COUNTIFS($N$23:$BU$23,L28,$N$26:$BU$26,$CL$3))","v":""},{"$f":"IF(L28=\"\",\"\",COUNTIFS($N$23:$BU$23,$L$24,$N$28:$BU$28,$CM$3))","v":""},{"$f":"IF(L28=\"\",\"\",COUNTIFS($N$23:$BU$23,L28,$N$28:$BU$28,$CN$3))","v":""},{"$f":"IF(L28=\"\",\"\",COUNTIFS($N$23:$BU$23,L28,$N$24:$BU$24,$CO$3)+COUNTIFS($N$23:$BU$23,L28,$N$25:$BU$25,$CO$3))","v":""},null,null,null,null,null,null,null,"",null,null,"",null,null,null,null,null,null,null,null,null,null,null,null,null,null,null,null,null,null,null,null,null,null,null,null,null,null,null,null,"","",{"$f":"IF(EC28=\"\",\"\",COUNTIFS($N$23:$BU$23,EC28,$N$28:$BU$28,\"RZ\"))","v":""},{"$f":"IF(ED28=\"\",\"\",COUNTIFS($N$23:$BU$23,EC28,$N$27:$BU$27,\"ZH\"))","v":""},null,null,null,null,null,null,null,"","",{"$f":"IF(G7=\"\",\"\",G7)","v":""},"LL","","","","","","","","","","","","","","","","","","","",null,null,null,null,null,null,null,null,null,null,null,null,null,null,null,null,null,null,null,null,null,null,null,null,null,null,null,null,null,null,null,null,null,null,null,null,null,null,null,null,null,null,null,null,null,null,null,null,null,null,null,null,null,null,null,null,null,null,null,null,null,null,"","","","","","","",""]
[null,null,{"$f":"F29","v":1},"吉田　輝星","RR",1,null,null,null,null,null,null,"打者背番号を入力➡",{"$f":"先攻T!E38","v":8},{"$f":"N29","v":8},{"$f":"N29","v":8},{"$f":"N29","v":8},{"$f":"N29","v":8},{"$f":"先攻T!Q38","v":8},{"$f":"S29","v":8},{"$f":"S29","v":8},{"$f":"S29","v":8},{"$f":"S29","v":8},{"$f":"先攻T!AC38","v":8},{"$f":"X29","v":8},{"$f":"X29","v":8},{"$f":"X29","v":8},{"$f":"X29","v":8},{"$f":"先攻T!AO38","v":8},{"$f":"AC29","v":8},{"$f":"AC29","v":8},{"$f":"AC29","v":8},{"$f":"AC29","v":8},{"$f":"先攻T!BA38","v":8},{"$f":"AH29","v":8},{"$f":"AH29","v":8},{"$f":"AH29","v":8},{"$f":"AH29","v":8},{"$f":"先攻T!BM38","v":8},{"$f":"AM29","v":8},{"$f":"AM29","v":8},{"$f":"AM29","v":8},{"$f":"AM29","v":8},{"$f":"先攻T!BY38","v":8},{"$f":"AR29","v":8},{"$f":"AR29","v":8},{"$f":"AR29","v":8},{"$f":"AR29","v":8},{"$f":"先攻T!CK38","v":8},{"$f":"AW29","v":8},{"$f":"AW29","v":8},{"$f":"AW29","v":8},{"$f":"AW29","v":8},{"$f":"先攻T!CW38","v":8},{"$f":"BB29","v":8},{"$f":"BB29","v":8},{"$f":"BB29","v":8},{"$f":"BB29","v":8},{"$f":"先攻T!DI38","v":8},{"$f":"BG29","v":8},{"$f":"BG29","v":8},{"$f":"BG29","v":8},{"$f":"BG29","v":8},{"$f":"先攻T!DU38","v":8},{"$f":"BL29","v":8},{"$f":"BL29","v":8},{"$f":"BL29","v":8},{"$f":"BL29","v":8},{"$f":"先攻T!EG38","v":8},{"$f":"BQ29","v":8},{"$f":"BQ29","v":8},{"$f":"BQ29","v":8},{"$f":"BQ29","v":8},null,null,null,null,null,null,null,null,null,null,null,null,null,null,null,null,null,null,null,null,null,null,null,null,null,null,null,null,null,null,null,null,null,null,null,null,null,null,null,null,null,null,null,null,null,null,null,null,null,null,null,null,null,null,null,null,null,null,null,null,null,null,null,null,null,null,null,null,null,null,"","",{"$f":"IF(G8=\"\",\"\",G8)","v":""},"RR","","","","","","","","","","","","","","","","","","",""]
[null,null,{"$f":"F30","v":2},"菊池　亮太","RR",2,null,null,{"$f":"IF(C9=\"\",\"\",C9)","v":"中"},{"$f":"IF(D9=\"\",\"\",D9)","v":"大友　朝陽"},{"$f":"IF(J30=\"\",\"\",\"先\")","v":"先"},{"$f":"IF(J30=\"\",\"\",F9)","v":8},"⑤",{"$f":"IFERROR(VLOOKUP(先攻T!F40,記号!$B$6:$C$10,2,FALSE),\"\")","v":""},{"$f":"IFERROR(VLOOKUP(先攻T!G40,記号!$B$6:$C$10,2,FALSE),\"\")","v":""},{"$f":"IFERROR(VLOOKUP(先攻T!H40,記号!$B$6:$C$10,2,FALSE),\"\")","v":""},{"$f":"IFERROR(VLOOKUP(先攻T!I40,記号!$B$6:$C$10,2,FALSE),\"\")","v":""},{"$f":"IFERROR(VLOOKUP(先攻T!J40,記号!$B$6:$C$10,2,FALSE),\"\")","v":""},{"$f":"IFERROR(VLOOKUP(先攻T!R40,記号!$B$6:$C$10,2,FALSE),\"\")","v":"・●"},{"$f":"IFERROR(VLOOKUP(先攻T!S40,記号!$B$6:$C$10,2,FALSE),\"\")","v":"・◎"},{"$f":"IFERROR(VLOOKUP(先攻T!T40,記号!$B$6:$C$10,2,FALSE),\"\")","v":""},{"$f":"IFERROR(VLOOKUP(先攻T!U40,記号!$B$6:$C$10,2,FALSE),\"\")","v":""},{"$f":"IFERROR(VLOOKUP(先攻T!V40,記号!$B$6:$C$10,2,FALSE),\"\")","v":""},{"$f":"IFERROR(VLOOKUP(先攻T!AD40,記号!$B$6:$C$10,2,FALSE),\"\")","v":""},{"$f":"IFERROR(VLOOKUP(先攻T!AE40,記号!$B$6:$C$10,2,FALSE),\"\")","v":""},{"$f":"IFERROR(VLOOKUP(先攻T!AF40,記号!$B$6:$C$10,2,FALSE),\"\")","v":""},{"$f":"IFERROR(VLOOKUP(先攻T!AG40,記号!$B$6:$C$10,2,FALSE),\"\")","v":""},{"$f":"IFERROR(VLOOKUP(先攻T!AH40,記号!$B$6:$C$10,2,FALSE),\"\")","v":""},{"$f":"IFERROR(VLOOKUP(先攻T!AP40,記号!$B$6:$C$10,2,FALSE),\"\")","v":"・◎"},{"$f":"IFERROR(VLOOKUP(先攻T!AQ40,記号!$B$6:$C$10,2,FALSE),\"\")","v":""},{"$f":"IFERROR(VLOOKUP(先攻T!AR40,記号!$B$6:$C$10,2,FALSE),\"\")","v":""},{"$f":"IFERROR(VLOOKUP(先攻T!AS40,記号!$B$6:$C$10,2,FALSE),\"\")","v":""},{"$f":"IFERROR(VLOOKUP(先攻T!AT40,記号!$B$6:$C$10,2,FALSE),\"\")","v":""},{"$f":"IFERROR(VLOOKUP(先攻T!BB40,記号!$B$6:$C$10,2,FALSE),\"\")","v":""},{"$f":"IFERROR(VLOOKUP(先攻T!BC40,記号!$B$6:$C$10,2,FALSE),\"\")","v":""},{"$f":"IFERROR(VLOOKUP(先攻T!BD40,記号!$B$6:$C$10,2,FALSE),\"\")","v":""},{"$f":"IFERROR(VLOOKUP(先攻T!BE40,記号!$B$6:$C$10,2,FALSE),\"\")","v":""},{"$f":"IFERROR(VLOOKUP(先攻T!BF40,記号!$B$6:$C$10,2,FALSE),\"\")","v":""},{"$f":"IFERROR(VLOOKUP(先攻T!BN40,記号!$B$6:$C$10,2,FALSE),\"\")","v":"・●"},{"$f":"IFERROR(VLOOKUP(先攻T!BO40,記号!$B$6:$C$10,2,FALSE),\"\")","v":"・△"},{"$f":"IFERROR(VLOOKUP(先攻T!BP40,記号!$B$6:$C$10,2,FALSE),\"\")","v":"・〇"},{"$f":"IFERROR(VLOOKUP(先攻T!BQ40,記号!$B$6:$C$10,2,FALSE),\"\")","v":"・□"},{"$f":"IFERROR(VLOOKUP(先攻T!BR40,記号!$B$6:$C$10,2,FALSE),\"\")","v":""},{"$f":"IFERROR(VLOOKUP(先攻T!BZ40,記号!$B$6:$C$10,2,FALSE),\"\")","v":""},{"$f":"IFERROR(VLOOKUP(先攻T!CA40,記号!$B$6:$C$10,2,FALSE),\"\")","v":""},{"$f":"IFERROR(VLOOKUP(先攻T!CB40,記号!$B$6:$C$10,2,FALSE),\"\")","v":""},{"$f":"IFERROR(VLOOKUP(先攻T!CC40,記号!$B$6:$C$10,2,FALSE),\"\")","v":""},{"$f":"IFERROR(VLOOKUP(先攻T!CD40,記号!$B$6:$C$10,2,FALSE),\"\")","v":""},{"$f":"IFERROR(VLOOKUP(先攻T!CL40,記号!$B$6:$C$10,2,FALSE),\"\")","v":""},{"$f":"IFERROR(VLOOKUP(先攻T!CM40,記号!$B$6:$C$10,2,FALSE),\"\")","v":""},{"$f":"IFERROR(VLOOKUP(先攻T!CN40,記号!$B$6:$C$10,2,FALSE),\"\")","v":""},{"$f":"IFERROR(VLOOKUP(先攻T!CO40,記号!$B$6:$C$10,2,FALSE),\"\")","v":""},{"$f":"IFERROR(VLOOKUP(先攻T!CP40,記号!$B$6:$C$10,2,FALSE),\"\")","v":""},{"$f":"IFERROR(VLOOKUP(先攻T!CX40,記号!$B$6:$C$10,2,FALSE),\"\")","v":"・●"},{"$f":"IFERROR(VLOOKUP(先攻T!CY40,記号!$B$6:$C$10,2,FALSE),\"\")","v":"・◎"},{"$f":"IFERROR(VLOOKUP(先攻T!CZ40,記号!$B$6:$C$10,2,FALSE),\"\")","v":""},{"$f":"IFERROR(VLOOKUP(先攻T!DA40,記号!$B$6:$C$10,2,FALSE),\"\")","v":""},{"$f":"IFERROR(VLOOKUP(先攻T!DB40,記号!$B$6:$C$10,2,FALSE),\"\")","v":""},{"$f":"IFERROR(VLOOKUP(先攻T!DJ40,記号!$B$6:$C$10,2,FALSE),\"\")","v":""},{"$f":"IFERROR(VLOOKUP(先攻T!DK40,記号!$B$6:$C$10,2,FALSE),\"\")","v":""},{"$f":"IFERROR(VLOOKUP(先攻T!DL40,記号!$B$6:$C$10,2,FALSE),\"\")","v":""},{"$f":"IFERROR(VLOOKUP(先攻T!DM40,記号!$B$6:$C$10,2,FALSE),\"\")","v":""},{"$f":"IFERROR(VLOOKUP(先攻T!DN40,記号!$B$6:$C$10,2,FALSE),\"\")","v":""},{"$f":"IFERROR(VLOOKUP(先攻T!DV40,記号!$B$6:$C$10,2,FALSE),\"\")","v":""},{"$f":"IFERROR(VLOOKUP(先攻T!DW40,記号!$B$6:$C$10,2,FALSE),\"\")","v":""},{"$f":"IFERROR(VLOOKUP(先攻T!DX40,記号!$B$6:$C$10,2,FALSE),\"\")","v":""},{"$f":"IFERROR(VLOOKUP(先攻T!DY40,記号!$B$6:$C$10,2,FALSE),\"\")","v":""},{"$f":"IFERROR(VLOOKUP(先攻T!DZ40,記号!$B$6:$C$10,2,FALSE),\"\")","v":""},{"$f":"IFERROR(VLOOKUP(先攻T!EH40,記号!$B$6:$C$10,2,FALSE),\"\")","v":""},{"$f":"IFERROR(VLOOKUP(先攻T!EI40,記号!$B$6:$C$10,2,FALSE),\"\")","v":""},{"$f":"IFERROR(VLOOKUP(先攻T!EJ40,記号!$B$6:$C$10,2,FALSE),\"\")","v":""},{"$f":"IFERROR(VLOOKUP(先攻T!EK40,記号!$B$6:$C$10,2,FALSE),\"\")","v":""},{"$f":"IFERROR(VLOOKUP(先攻T!EL40,記号!$B$6:$C$10,2,FALSE),\"\")","v":""},{"$f":"IF(K30=\"\",\"\",VLOOKUP(K30,$C$84:$E$89,3,FALSE))","v":"RR"},{"$f":"IF(L30=\"\",\"\",(BX30+CG30+CH30+CI30))","v":4},{"$f":"IF(L30=\"\",\"\",(BY30+BZ30+CA30+CB30+CC30+CF30+CJ30+CM30+CN30))","v":2},{"$f":"IF(L30=\"\",\"\",COUNTIFS($N$29:$BU$29,L30,$N$34:$BU$34,$BY$3))","v":1},{"$f":"IF(L30=\"\",\"\",COUNTIFS($N$29:$BU$29,L30,$N$34:$BU$34,$BZ$3))","v":0},{"$f":"IF(L30=\"\",\"\",COUNTIFS($N$29:$BU$29,L30,$N$32:$BU$32,$CA$3))","v":0},{"$f":"IF(L30=\"\",\"\",COUNTIFS($N$29:$BU$29,L30,$N$32:$BU$32,$CB$3))","v":0},{"$f":"IF(L30=\"\",\"\",COUNTIFS($N$29:$BU$29,L30,$N$34:$BU$34,$CC$3))","v":0},{"$f":"IF(L30=\"\",\"\",SUMIF($N$29:$BU$29,L30,$N$34:$BU$34))","v":0},{"$f":"IF(L30=\"\",\"\",COUNTIFS($N$29:$BU$29,L30,$N$33:$BU$33,$CE$3))","v":0},{"$f":"IF(L30=\"\",\"\",COUNTIFS($N$29:$BU$29,L30,$N$34:$BU$34,$CF$3))","v":1},{"$f":"IF(L30=\"\",\"\",COUNTIFS($N$29:$BU$29,L30,$N$34:$BU$34,$CG$3))","v":0},{"$f":"IF(L30=\"\",\"\",COUNTIFS($N$29:$BU$29,L30,$N$34:$BU$34,$CH$3))","v":0},{"$f":"IF(L30=\"\",\"\",COUNTIFS($N$29:$BU$29,L30,$N$34:$BU$34,$CI$3))","v":2},{"$f":"IF(L30=\"\",\"\",COUNTIFS($N$29:$BU$29,L30,$N$34:$BU$34,$CJ$3))","v":0},{"$f":"IF(L30=\"\",\"\",COUNTIFS($N$29:$BU$29,L30,$N$34:$BU$34,$CK$3)+COUNTIFS($N$29:$BU$29,L30,$N$32:$BU$32,$CK$3))","v":0},{"$f":"IF(L30=\"\",\"\",COUNTIFS($N$29:$BU$29,L30,$N$34:$BU$34,$CL$3)+COUNTIFS($N$29:$BU$29,L30,$N$32:$BU$32,$CL$3))","v":0},{"$f":"IF(L30=\"\",\"\",COUNTIFS($N$29:$BU$29,L30,$N$34:$BU$34,$CM$3))","v":0},{"$f":"IF(L30=\"\",\"\",COUNTIFS($N$29:$BU$29,L30,$N$34:$BU$34,$CN$3))","v":0},{"$f":"IF(L30=\"\",\"\",COUNTIFS($N$29:$BU$29,L30,$N$30:$BU$30,$CO$3)+COUNTIFS($N$29:$BU$29,L30,$N$31:$BU$31,$CO$3))","v":9},"先","投犠",null,null,null,null,"G",{"$f":"IF(DA30=\"\",\"\",VLOOKUP(DA30,$C$84:$E$89,3,FALSE))","v":"RR"},8,"一",3,"先",null,null,null,null,null,null,null,null,null,null,null,null,null,null,null,null,null,null,null,null,null,null,null,null,null,null,null,8,{"$f":"IF(EC30=\"\",\"\",VLOOKUP(EC30,$C$29:$D$58,2,FALSE))","v":"大友　朝陽"},{"$f":"IF(EC30=\"\",\"\",COUNTIFS($N$29:$BU$29,EC30,$N$34:$BU$34,\"RZ\"))","v":0},{"$f":"IF(ED30=\"\",\"\",COUNTIFS($N$29:$BU$29,EC30,$N$33:$BU$33,\"ZH\"))","v":0},null,null,null,null,null,null,null,"","",{"$f":"IF(G8=\"\",\"\",G8)","v":""},"LL","","","","","","","","","","","","","","","","","","","",null,null,null,null,null,null,null,null,null,null,null,null,null,null,null,null,null,null,null,null,null,null,null,null,null,null,null,null,null,null,null,null,null,null,null,null,null,null,null,null,null,null,null,null,null,null,null,null,null,null,null,null,null,null,null,null,null,null,null,null,null,null,"大友　朝陽",{"$f":"IF(L30=\"\",\"\",L30)","v":8},{"$f":"IF(HU30=\"\",\"\",COUNTIFS($N$29:$BU$29,HV30,$N$30:$BU$30,$HW$3)+COUNTIFS($N$29:$BU$29,HV30,$N$31:$BU$31,$HW$3))","v":9},{"$f":"IF(HU30=\"\",\"\",COUNTIFS($N$29:$BU$29,HV30,$N$30:$BU$30,$HX$3)+COUNTIFS($N$29:$BU$29,HV30,$N$31:$BU$31,$HX$3))","v":3},{"$f":"IF(HU30=\"\",\"\",COUNTIFS($N$29:$BU$29,HV30,$N$30:$BU$30,$HY$3)+COUNTIFS($N$29:$BU$29,HV30,$N$31:$BU$31,$HY$3))","v":1},{"$f":"IF(HU30=\"\",\"\",COUNTIFS($N$29:$BU$29,HV30,$N$30:$BU$30,$HZ$3)+COUNTIFS($N$29:$BU$29,HV30,$N$31:$BU$31,$HZ$3))","v":1},{"$f":"IF(HU30=\"\",\"\",COUNTIFS($N$29:$BU$29,HV30,$N$30:$BU$30,$IA$3)+COUNTIFS($N$29:$BU$29,HV30,$N$31:BU$31,IA$3))","v":1},{"$f":"IF(HU30=\"\",\"\",COUNTIFS($N$29:$BU$29,HV30,$N$30:$BU$30,$IB$3)+COUNTIFS($N$29:$BU$29,HV30,$N$31:$BU$31,$IB$3))","v":3}]
[null,null,3,"高橋　佑輔","RR",3,null,null,null,{"$f":"IF(L31=\"\",\"\",VLOOKUP(L31,$C$29:$D$58,2,FALSE))","v":""},null,null,null,{"$f":"IFERROR(VLOOKUP(先攻T!K40,記号!$B$6:$C$10,2,FALSE),\"\")","v":""},{"$f":"IFERROR(VLOOKUP(先攻T!L40,記号!$B$6:$C$10,2,FALSE),\"\")","v":""},{"$f":"IFERROR(VLOOKUP(先攻T!F42,記号!$B$6:$C$10,2,FALSE),\"\")","v":""},{"$f":"IFERROR(VLOOKUP(先攻T!G42,記号!$B$6:$C$10,2,FALSE),\"\")","v":""},{"$f":"IFERROR(VLOOKUP(先攻T!H42,記号!$B$6:$C$10,2,FALSE),\"\")","v":""},{"$f":"IFERROR(VLOOKUP(先攻T!W40,記号!$B$6:$C$10,2,FALSE),\"\")","v":""},{"$f":"IFERROR(VLOOKUP(先攻T!X40,記号!$B$6:$C$10,2,FALSE),\"\")","v":""},{"$f":"IFERROR(VLOOKUP(先攻T!R42,記号!$B$6:$C$10,2,FALSE),\"\")","v":""},{"$f":"IFERROR(VLOOKUP(先攻T!S42,記号!$B$6:$C$10,2,FALSE),\"\")","v":""},{"$f":"IFERROR(VLOOKUP(先攻T!T42,記号!$B$6:$C$10,2,FALSE),\"\")","v":""},{"$f":"IFERROR(VLOOKUP(先攻T!AI40,記号!$B$6:$C$10,2,FALSE),\"\")","v":""},{"$f":"IFERROR(VLOOKUP(先攻T!AJ40,記号!$B$6:$C$10,2,FALSE),\"\")","v":""},{"$f":"IFERROR(VLOOKUP(先攻T!AD42,記号!$B$6:$C$10,2,FALSE),\"\")","v":""},{"$f":"IFERROR(VLOOKUP(先攻T!AE42,記号!$B$6:$C$10,2,FALSE),\"\")","v":""},{"$f":"IFERROR(VLOOKUP(先攻T!AF42,記号!$B$6:$C$10,2,FALSE),\"\")","v":""},{"$f":"IFERROR(VLOOKUP(先攻T!AU40,記号!$B$6:$C$10,2,FALSE),\"\")","v":""},{"$f":"IFERROR(VLOOKUP(先攻T!AV40,記号!$B$6:$C$10,2,FALSE),\"\")","v":""},{"$f":"IFERROR(VLOOKUP(先攻T!AP42,記号!$B$6:$C$10,2,FALSE),\"\")","v":""},{"$f":"IFERROR(VLOOKUP(先攻T!AQ42,記号!$B$6:$C$10,2,FALSE),\"\")","v":""},{"$f":"IFERROR(VLOOKUP(先攻T!AR42,記号!$B$6:$C$10,2,FALSE),\"\")","v":""},{"$f":"IFERROR(VLOOKUP(先攻T!BG40,記号!$B$6:$C$10,2,FALSE),\"\")","v":""},{"$f":"IFERROR(VLOOKUP(先攻T!BH40,記号!$B$6:$C$10,2,FALSE),\"\")","v":""},{"$f":"IFERROR(VLOOKUP(先攻T!BB42,記号!$B$6:$C$10,2,FALSE),\"\")","v":""},{"$f":"IFERROR(VLOOKUP(先攻T!BC42,記号!$B$6:$C$10,2,FALSE),\"\")","v":""},{"$f":"IFERROR(VLOOKUP(先攻T!BD42,記号!$B$6:$C$10,2,FALSE),\"\")","v":""},{"$f":"IFERROR(VLOOKUP(先攻T!BS40,記号!$B$6:$C$10,2,FALSE),\"\")","v":""},{"$f":"IFERROR(VLOOKUP(先攻T!BT40,記号!$B$6:$C$10,2,FALSE),\"\")","v":""},{"$f":"IFERROR(VLOOKUP(先攻T!BN42,記号!$B$6:$C$10,2,FALSE),\"\")","v":""},{"$f":"IFERROR(VLOOKUP(先攻T!BO42,記号!$B$6:$C$10,2,FALSE),\"\")","v":""},{"$f":"IFERROR(VLOOKUP(先攻T!BP42,記号!$B$6:$C$10,2,FALSE),\"\")","v":""},{"$f":"IFERROR(VLOOKUP(先攻T!CE40,記号!$B$6:$C$10,2,FALSE),\"\")","v":""},{"$f":"IFERROR(VLOOKUP(先攻T!CF40,記号!$B$6:$C$10,2,FALSE),\"\")","v":""},{"$f":"IFERROR(VLOOKUP(先攻T!BZ42,記号!$B$6:$C$10,2,FALSE),\"\")","v":""},{"$f":"IFERROR(VLOOKUP(先攻T!CA42,記号!$B$6:$C$10,2,FALSE),\"\")","v":""},{"$f":"IFERROR(VLOOKUP(先攻T!CB42,記号!$B$6:$C$10,2,FALSE),\"\")","v":""},{"$f":"IFERROR(VLOOKUP(先攻T!CQ40,記号!$B$6:$C$10,2,FALSE),\"\")","v":""},{"$f":"IFERROR(VLOOKUP(先攻T!CR40,記号!$B$6:$C$10,2,FALSE),\"\")","v":""},{"$f":"IFERROR(VLOOKUP(先攻T!CL42,記号!$B$6:$C$10,2,FALSE),\"\")","v":""},{"$f":"IFERROR(VLOOKUP(先攻T!CM42,記号!$B$6:$C$10,2,FALSE),\"\")","v":""},{"$f":"IFERROR(VLOOKUP(先攻T!CN42,記号!$B$6:$C$10,2,FALSE),\"\")","v":""},{"$f":"IFERROR(VLOOKUP(先攻T!DC40,記号!$B$6:$C$10,2,FALSE),\"\")","v":""},{"$f":"IFERROR(VLOOKUP(先攻T!DD40,記号!$B$6:$C$10,2,FALSE),\"\")","v":""},{"$f":"IFERROR(VLOOKUP(先攻T!CX42,記号!$B$6:$C$10,2,FALSE),\"\")","v":""},{"$f":"IFERROR(VLOOKUP(先攻T!CY42,記号!$B$6:$C$10,2,FALSE),\"\")","v":""},{"$f":"IFERROR(VLOOKUP(先攻T!CZ42,記号!$B$6:$C$10,2,FALSE),\"\")","v":""},{"$f":"IFERROR(VLOOKUP(先攻T!DO40,記号!$B$6:$C$10,2,FALSE),\"\")","v":""},{"$f":"IFERROR(VLOOKUP(先攻T!DP40,記号!$B$6:$C$10,2,FALSE),\"\")","v":""},{"$f":"IFERROR(VLOOKUP(先攻T!DJ42,記号!$B$6:$C$10,2,FALSE),\"\")","v":""},{"$f":"IFERROR(VLOOKUP(先攻T!DK42,記号!$B$6:$C$10,2,FALSE),\"\")","v":""},{"$f":"IFERROR(VLOOKUP(先攻T!DL42,記号!$B$6:$C$10,2,FALSE),\"\")","v":""},{"$f":"IFERROR(VLOOKUP(先攻T!EA40,記号!$B$6:$C$10,2,FALSE),\"\")","v":""},{"$f":"IFERROR(VLOOKUP(先攻T!EB40,記号!$B$6:$C$10,2,FALSE),\"\")","v":""},{"$f":"IFERROR(VLOOKUP(先攻T!DV42,記号!$B$6:$C$10,2,FALSE),\"\")","v":""},{"$f":"IFERROR(VLOOKUP(先攻T!DW42,記号!$B$6:$C$10,2,FALSE),\"\")","v":""},{"$f":"IFERROR(VLOOKUP(先攻T!DX42,記号!$B$6:$C$10,2,FALSE),\"\")","v":""},{"$f":"IFERROR(VLOOKUP(先攻T!EM40,記号!$B$6:$C$10,2,FALSE),\"\")","v":""},{"$f":"IFERROR(VLOOKUP(先攻T!EN40,記号!$B$6:$C$10,2,FALSE),\"\")","v":""},{"$f":"IFERROR(VLOOKUP(先攻T!EH42,記号!$B$6:$C$10,2,FALSE),\"\")","v":""},{"$f":"IFERROR(VLOOKUP(先攻T!EI42,記号!$B$6:$C$10,2,FALSE),\"\")","v":""},{"$f":"IFERROR(VLOOKUP(先攻T!EJ42,記号!$B$6:$C$10,2,FALSE),\"\")","v":""},{"$f":"IF(K31=\"\",\"\",VLOOKUP(K31,$C$84:$E$89,3,FALSE))","v":""},{"$f":"IF(L31=\"\",\"\",(BX31+CG31+CH31+CI31))","v":""},"",{"$f":"IF(L31=\"\",\"\",COUNTIFS($N$29:$BU$29,L31,$N$34:$BU$34,$BY$3))","v":""},{"$f":"IF(L31=\"\",\"\",COUNTIFS($N$29:$BU$29,L31,$N$34:$BU$34,$BZ$3))","v":""},{"$f":"IF(L31=\"\",\"\",COUNTIFS($N$29:$BU$29,L31,$N$32:$BU$32,$CA$3))","v":""},{"$f":"IF(L31=\"\",\"\",COUNTIFS($N$29:$BU$29,L31,$N$32:$BU$32,$CB$3))","v":""},{"$f":"IF(L31=\"\",\"\",COUNTIFS($N$29:$BU$29,L31,$N$34:$BU$34,$CC$3))","v":""},{"$f":"IF(L31=\"\",\"\",SUMIF($N$29:$BU$29,L31,$N$34:$BU$34))","v":""},{"$f":"IF(L31=\"\",\"\",COUNTIFS($N$29:$BU$29,L31,$N$33:$BU$33,$CE$3))","v":""},{"$f":"IF(L31=\"\",\"\",COUNTIFS($N$29:$BU$29,L31,$N$34:$BU$34,$CF$3))","v":""},{"$f":"IF(L31=\"\",\"\",COUNTIFS($N$29:$BU$29,L31,$N$34:$BU$34,$CG$3))","v":""},{"$f":"IF(L31=\"\",\"\",COUNTIFS($N$29:$BU$29,L31,$N$34:$BU$34,$CH$3))","v":""},{"$f":"IF(L31=\"\",\"\",COUNTIFS($N$29:$BU$29,L31,$N$34:$BU$34,$CI$3))","v":""},{"$f":"IF(L31=\"\",\"\",COUNTIFS($N$29:$BU$29,L31,$N$34:$BU$34,$CJ$3))","v":""},{"$f":"IF(L31=\"\",\"\",COUNTIFS($N$29:$BU$29,L31,$N$34:$BU$34,$CK$3)+COUNTIFS($N$29:$BU$29,L31,$N$32:$BU$32,$CK$3))","v":""},{"$f":"IF(L31=\"\",\"\",COUNTIFS($N$29:$BU$29,L31,$N$34:$BU$34,$CL$3)+COUNTIFS($N$29:$BU$29,L31,$N$32:$BU$32,$CL$3))","v":""},{"$f":"IF(L31=\"\",\"\",COUNTIFS($N$29:$BU$29,L31,$N$34:$BU$34,$CM$3))","v":""},{"$f":"IF(L31=\"\",\"\",COUNTIFS($N$29:$BU$29,L31,$N$34:$BU$34,$CN$3))","v":""},{"$f":"IF(L31=\"\",\"\",COUNTIFS($N$29:$BU$29,L31,$N$30:$BU$30,$CO$3)+COUNTIFS($N$29:$BU$29,L31,$N$31:$BU$31,$CO$3))","v":""},null,"投犠",null,null,null,null,"G",{"$f":"IF(DA31=\"\",\"\",VLOOKUP(DA31,$C$84:$E$89,3,FALSE))","v":"RR"},8,"一",3,"先",null,null,null,null,null,null,null,null,null,null,null,null,null,null,null,null,null,null,null,null,null,null,null,null,null,null,null,"","",{"$f":"IF(EC31=\"\",\"\",COUNTIFS($N$29:$BU$29,EC31,$N$34:$BU$34,\"RZ\"))","v":""},{"$f":"IF(ED31=\"\",\"\",COUNTIFS($N$29:$BU$29,EC31,$N$33:$BU$33,\"ZH\"))","v":""},null,null,null,null,null,null,null,"","",{"$f":"IF(G9=\"\",\"\",G9)","v":""},"RR","","","","","","","","","","","","","","","","","","","",null,null,null,null,null,null,null,null,null,null,null,null,null,null,null,null,null,null,null,null,null,null,null,null,null,null,null,null,null,null,null,null,null,null,null,null,null,null,null,null,null,null,null,null,null,null,null,null,null,null,null,null,null,null,null,null,null,null,null,null,null,null,"","",{"$f":"IF(HU31=\"\",\"\",COUNTIFS($N$29:$BU$29,HV31,$N$30:$BU$30,$HW$3)+COUNTIFS($N$29:$BU$29,HV31,$N$31:$BU$31,$HW$3))","v":""},{"$f":"IF(HU31=\"\",\"\",COUNTIFS($N$29:$BU$29,HV31,$N$30:$BU$30,$HX$3)+COUNTIFS($N$29:$BU$29,HV31,$N$31:$BU$31,$HX$3))","v":""},{"$f":"IF(HU31=\"\",\"\",COUNTIFS($N$29:$BU$29,HV31,$N$30:$BU$30,$HY$3)+COUNTIFS($N$29:$BU$29,HV31,$N$31:$BU$31,$HY$3))","v":""},{"$f":"IF(HU31=\"\",\"\",COUNTIFS($N$29:$BU$29,HV31,$N$30:$BU$30,$HZ$3)+COUNTIFS($N$29:$BU$29,HV31,$N$31:$BU$31,$HZ$3))","v":""},{"$f":"IF(HU31=\"\",\"\",COUNTIFS($N$29:$BU$29,HV31,$N$30:$BU$30,$IA$3)+COUNTIFS($N$29:$BU$29,HV31,$N$31:BU$31,IA$3))","v":""},{"$f":"IF(HU31=\"\",\"\",COUNTIFS($N$29:$BU$29,HV31,$N$30:$BU$30,$IB$3)+COUNTIFS($N$29:$BU$29,HV31,$N$31:$BU$31,$IB$3))","v":""}]
[null,null,4,"菅原　天空","RL",4,null,null,null,{"$f":"IF(L32=\"\",\"\",VLOOKUP(L32,$C$29:$D$58,2,FALSE))","v":""},null,null,null,{"$f":"IFERROR(VLOOKUP(先攻T!F45,記号!$I$27:$J$30,2,FALSE),\"\")","v":""},{"$f":"IFERROR(VLOOKUP(先攻T!H44,記号!$L$5:$M$21,2,FALSE),\"\")","v":""},{"$f":"IFERROR(VLOOKUP(先攻T!H46,記号!$F$27:$G$37,2,FALSE),\"\")","v":""},{"$f":"IFERROR(VLOOKUP(先攻T!G44,記号!$I$5:$J$23,2,FALSE),\"\")","v":""},null,{"$f":"IFERROR(VLOOKUP(先攻T!R45,記号!$I$27:$J$30,2,FALSE),\"\")","v":"G"},{"$f":"IFERROR(VLOOKUP(先攻T!T44,記号!$L$5:$M$21,2,FALSE),\"\")","v":""},{"$f":"IFERROR(VLOOKUP(先攻T!T46,記号!$F$27:$G$37,2,FALSE),\"\")","v":""},{"$f":"IFERROR(VLOOKUP(先攻T!S44,記号!$I$5:$J$23,2,FALSE),\"\")","v":""},null,{"$f":"IFERROR(VLOOKUP(先攻T!AD45,記号!$I$27:$J$30,2,FALSE),\"\")","v":""},{"$f":"IFERROR(VLOOKUP(先攻T!AF44,記号!$L$5:$M$21,2,FALSE),\"\")","v":""},{"$f":"IFERROR(VLOOKUP(先攻T!AF46,記号!$F$27:$G$37,2,FALSE),\"\")","v":""},{"$f":"IFERROR(VLOOKUP(先攻T!AE44,記号!$I$5:$J$23,2,FALSE),\"\")","v":""},null,{"$f":"IFERROR(VLOOKUP(先攻T!AP45,記号!$I$27:$J$30,2,FALSE),\"\")","v":""},{"$f":"IFERROR(VLOOKUP(先攻T!AR44,記号!$L$5:$M$21,2,FALSE),\"\")","v":""},{"$f":"IFERROR(VLOOKUP(先攻T!AR46,記号!$F$27:$G$37,2,FALSE),\"\")","v":""},{"$f":"IFERROR(VLOOKUP(先攻T!AQ44,記号!$I$5:$J$23,2,FALSE),\"\")","v":""},null,{"$f":"IFERROR(VLOOKUP(先攻T!BB45,記号!$I$27:$J$30,2,FALSE),\"\")","v":""},{"$f":"IFERROR(VLOOKUP(先攻T!BD44,記号!$L$5:$M$21,2,FALSE),\"\")","v":""},{"$f":"IFERROR(VLOOKUP(先攻T!BD46,記号!$F$27:$G$37,2,FALSE),\"\")","v":""},{"$f":"IFERROR(VLOOKUP(先攻T!BC44,記号!$I$5:$J$23,2,FALSE),\"\")","v":""},null,{"$f":"IFERROR(VLOOKUP(先攻T!BN54,記号!$I$27:$J$30,2,FALSE),\"\")","v":""},{"$f":"IFERROR(VLOOKUP(先攻T!BP44,記号!$L$5:$M$21,2,FALSE),\"\")","v":""},{"$f":"IFERROR(VLOOKUP(先攻T!BP46,記号!$F$27:$G$37,2,FALSE),\"\")","v":""},{"$f":"IFERROR(VLOOKUP(先攻T!BO44,記号!$I$5:$J$23,2,FALSE),\"\")","v":""},null,{"$f":"IFERROR(VLOOKUP(先攻T!BZ45,記号!$I$27:$J$30,2,FALSE),\"\")","v":""},{"$f":"IFERROR(VLOOKUP(先攻T!CB344,記号!$L$5:$M$21,2,FALSE),\"\")","v":""},{"$f":"IFERROR(VLOOKUP(先攻T!CB46,記号!$F$27:$G$37,2,FALSE),\"\")","v":""},{"$f":"IFERROR(VLOOKUP(先攻T!CA44,記号!$I$5:$J$23,2,FALSE),\"\")","v":""},null,{"$f":"IFERROR(VLOOKUP(先攻T!CL45,記号!$I$27:$J$30,2,FALSE),\"\")","v":""},{"$f":"IFERROR(VLOOKUP(先攻T!CN44,記号!$L$5:$M$21,2,FALSE),\"\")","v":""},{"$f":"IFERROR(VLOOKUP(先攻T!CN46,記号!$F$27:$G$37,2,FALSE),\"\")","v":""},{"$f":"IFERROR(VLOOKUP(先攻T!CM44,記号!$I$5:$J$23,2,FALSE),\"\")","v":""},null,{"$f":"IFERROR(VLOOKUP(先攻T!CX45,記号!$I$27:$J$30,2,FALSE),\"\")","v":"G"},{"$f":"IFERROR(VLOOKUP(先攻T!CZ44,記号!$L$5:$M$21,2,FALSE),\"\")","v":""},{"$f":"IFERROR(VLOOKUP(先攻T!CZ46,記号!$F$27:$G$37,2,FALSE),\"\")","v":""},{"$f":"IFERROR(VLOOKUP(先攻T!CY44,記号!$I$5:$J$23,2,FALSE),\"\")","v":""},null,{"$f":"IFERROR(VLOOKUP(先攻T!DJ45,記号!$I$27:$J$30,2,FALSE),\"\")","v":""},{"$f":"IFERROR(VLOOKUP(先攻T!DL44,記号!$L$5:$M$21,2,FALSE),\"\")","v":""},{"$f":"IFERROR(VLOOKUP(先攻T!DL46,記号!$F$27:$G$37,2,FALSE),\"\")","v":""},{"$f":"IFERROR(VLOOKUP(先攻T!DK44,記号!$I$5:$J$23,2,FALSE),\"\")","v":""},null,{"$f":"IFERROR(VLOOKUP(先攻T!DV45,記号!$I$27:$J$30,2,FALSE),\"\")","v":""},{"$f":"IFERROR(VLOOKUP(先攻T!DX44,記号!$L$5:$M$21,2,FALSE),\"\")","v":""},{"$f":"IFERROR(VLOOKUP(先攻T!DX46,記号!$F$27:$G$37,2,FALSE),\"\")","v":""},{"$f":"IFERROR(VLOOKUP(先攻T!DW44,記号!$I$5:$J$23,2,FALSE),\"\")","v":""},null,{"$f":"IFERROR(VLOOKUP(先攻T!EH45,記号!$I$27:$J$30,2,FALSE),\"\")","v":""},{"$f":"IFERROR(VLOOKUP(先攻T!EJ44,記号!$L$5:$M$21,2,FALSE),\"\")","v":""},{"$f":"IFERROR(VLOOKUP(先攻T!EJ46,記号!$F$27:$G$37,2,FALSE),\"\")","v":""},{"$f":"IFERROR(VLOOKUP(先攻T!EI44,記号!$I$5:$J$23,2,FALSE),\"\")","v":""},null,{"$f":"IF(K32=\"\",\"\",VLOOKUP(K32,$C$84:$E$89,3,FALSE))","v":""},{"$f":"IF(L32=\"\",\"\",(BX32+CG32+CH32+CI32))","v":""},"",{"$f":"IF(L32=\"\",\"\",COUNTIFS($N$29:$BU$29,L32,$N$34:$BU$34,$BY$3))","v":""},{"$f":"IF(L32=\"\",\"\",COUNTIFS($N$29:$BU$29,L32,$N$34:$BU$34,$BZ$3))","v":""},{"$f":"IF(L32=\"\",\"\",COUNTIFS($N$29:$BU$29,L32,$N$32:$BU$32,$CA$3))","v":""},{"$f":"IF(L32=\"\",\"\",COUNTIFS($N$29:$BU$29,L32,$N$32:$BU$32,$CB$3))","v":""},{"$f":"IF(L32=\"\",\"\",COUNTIFS($N$29:$BU$29,L32,$N$34:$BU$34,$CC$3))","v":""},{"$f":"IF(L32=\"\",\"\",SUMIF($N$29:$BU$29,L32,$N$34:$BU$34))","v":""},{"$f":"IF(L32=\"\",\"\",COUNTIFS($N$29:$BU$29,L32,$N$33:$BU$33,$CE$3))","v":""},{"$f":"IF(L32=\"\",\"\",COUNTIFS($N$29:$BU$29,L32,$N$34:$BU$34,$CF$3))","v":""},{"$f":"IF(L32=\"\",\"\",COUNTIFS($N$29:$BU$29,L32,$N$34:$BU$34,$CG$3))","v":""},{"$f":"IF(L32=\"\",\"\",COUNTIFS($N$29:$BU$29,L32,$N$34:$BU$34,$CH$3))","v":""},{"$f":"IF(L32=\"\",\"\",COUNTIFS($N$29:$BU$29,L32,$N$34:$BU$34,$CI$3))","v":""},{"$f":"IF(L32=\"\",\"\",COUNTIFS($N$29:$BU$29,L32,$N$34:$BU$34,$CJ$3))","v":""},{"$f":"IF(L32=\"\",\"\",COUNTIFS($N$29:$BU$29,L32,$N$34:$BU$34,$CK$3)+COUNTIFS($N$29:$BU$29,L32,$N$32:$BU$32,$CK$3))","v":""},{"$f":"IF(L32=\"\",\"\",COUNTIFS($N$29:$BU$29,L32,$N$34:$BU$34,$CL$3)+COUNTIFS($N$29:$BU$29,L32,$N$32:$BU$32,$CL$3))","v":""},{"$f":"IF(L32=\"\",\"\",COUNTIFS($N$29:$BU$29,L32,$N$34:$BU$34,$CM$3))","v":""},{"$f":"IF(L32=\"\",\"\",COUNTIFS($N$29:$BU$29,L32,$N$34:$BU$34,$CN$3))","v":""},{"$f":"IF(L32=\"\",\"\",COUNTIFS($N$29:$BU$29,L32,$N$30:$BU$30,$CO$3)+COUNTIFS($N$29:$BU$29,L32,$N$31:$BU$31,$CO$3))","v":""},null,"空三振",null,null,null,null,null,"RR",8,null,"","先",null,null,null,null,null,null,null,null,null,null,null,null,null,null,null,null,null,null,null,null,null,null,null,null,null,null,null,"","",{"$f":"IF(EC32=\"\",\"\",COUNTIFS($N$29:$BU$29,EC32,$N$34:$BU$34,\"RZ\"))","v":""},{"$f":"IF(ED32=\"\",\"\",COUNTIFS($N$29:$BU$29,EC32,$N$33:$BU$33,\"ZH\"))","v":""},null,null,null,null,null,null,null,"","",{"$f":"IF(G9=\"\",\"\",G9)","v":""},"LL","","","","","","","","","","","","","","","","","","","",null,null,null,null,null,null,null,null,null,null,null,null,null,null,null,null,null,null,null,null,null,null,null,null,null,null,null,null,null,null,null,null,null,null,null,null,null,null,null,null,null,null,null,null,null,null,null,null,null,null,null,null,null,null,null,null,null,null,null,null,null,null,"","","","","","",{"$f":"IF(HU32=\"\",\"\",COUNTIFS($N$29:$BU$29,HV32,$N$30:$BU$30,$IA$3)+COUNTIFS($N$29:$BU$29,HV32,$N$31:BU$31,IA$3))","v":""},""]
[null,null,5,"打川　和輝","RR",5,null,null,null,{"$f":"IF(L33=\"\",\"\",VLOOKUP(L33,$C$29:$D$58,2,FALSE))","v":""},null,null,null,{"$f":"IF(N29=\"\",\"\",IF(N29=L30+0.2,\"2\",IF(N29=L30+0.3,\"3\",IF(N29=L30+0.4,\"4\",IF(N29=L30+0.5,\"5\",\"先\")))))","v":"先"},{"$f":"IFERROR(VLOOKUP(先攻T!I46,記号!$F$27:$G$37,2,FALSE),\"\")","v":""},{"$f":"IFERROR(VLOOKUP(先攻T!J44,記号!$R$5:$S$10,2,FALSE),\"\")","v":""},{"$f":"IFERROR(VLOOKUP(先攻T!G46,記号!$F$27:$G$37,2,FALSE),\"\")","v":""},{"$f":"IFERROR(VLOOKUP(先攻T!L44,記号!$U$12:$V$13,2,FALSE),\"\")","v":""},{"$f":"IF(S29=\"\",\"\",IF(S29=L30+0.2,\"2\",IF(S29=L30+0.3,\"3\",IF(S29=L30+0.4,\"4\",IF(S29=L30+0.5,\"5\",\"先\")))))","v":"先"},{"$f":"IFERROR(VLOOKUP(先攻T!U46,記号!$F$27:$G$37,2,FALSE),\"\")","v":""},{"$f":"IFERROR(VLOOKUP(先攻T!V44,記号!$R$5:$S$10,2,FALSE),\"\")","v":"Ⅰ"},{"$f":"IFERROR(VLOOKUP(先攻T!S46,記号!$F$27:$G$37,2,FALSE),\"\")","v":""},{"$f":"IFERROR(VLOOKUP(先攻T!X44,記号!$U$12:$V$13,2,FALSE),\"\")","v":""},{"$f":"IF(X29=\"\",\"\",IF(X29=L30+0.2,\"2\",IF(X29=L30+0.3,\"3\",IF(X29=L30+0.4,\"4\",IF(X29=L30+0.5,\"5\",\"先\")))))","v":"先"},{"$f":"IFERROR(VLOOKUP(先攻T!AG46,記号!$F$27:$G$37,2,FALSE),\"\")","v":""},{"$f":"IFERROR(VLOOKUP(先攻T!AH44,記号!$R$5:$S$10,2,FALSE),\"\")","v":""},{"$f":"IFERROR(VLOOKUP(先攻T!AE46,記号!$F$27:$G$37,2,FALSE),\"\")","v":""},{"$f":"IFERROR(VLOOKUP(先攻T!AJ44,記号!$U$12:$V$13,2,FALSE),\"\")","v":""},{"$f":"IF(AC29=\"\",\"\",IF(AC29=L30+0.2,\"2\",IF(AC29=L30+0.3,\"3\",IF(AC29=L30+0.4,\"4\",IF(AC29=L30+0.5,\"5\",\"先\")))))","v":"先"},{"$f":"IFERROR(VLOOKUP(先攻T!AS46,記号!$F$27:$G$37,2,FALSE),\"\")","v":""},{"$f":"IFERROR(VLOOKUP(先攻T!AT44,記号!$R$5:$S$10,2,FALSE),\"\")","v":"Ⅰ"},{"$f":"IFERROR(VLOOKUP(先攻T!AQ46,記号!$F$27:$G$37,2,FALSE),\"\")","v":""},{"$f":"IFERROR(VLOOKUP(先攻T!AV44,記号!$U$12:$V$13,2,FALSE),\"\")","v":""},{"$f":"IF(AH29=\"\",\"\",IF(AH29=L30+0.2,\"2\",IF(AH29=L30+0.3,\"3\",IF(AH29=L30+0.4,\"4\",IF(AH29=L30+0.5,\"5\",\"先\")))))","v":"先"},{"$f":"IFERROR(VLOOKUP(先攻T!BE46,記号!$F$27:$G$37,2,FALSE),\"\")","v":""},{"$f":"IFERROR(VLOOKUP(先攻T!BF44,記号!$R$5:$S$10,2,FALSE),\"\")","v":""},{"$f":"IFERROR(VLOOKUP(先攻T!BC46,記号!$F$27:$G$37,2,FALSE),\"\")","v":""},{"$f":"IFERROR(VLOOKUP(先攻T!B44,記号!$U$12:$V$13,2,FALSE),\"\")","v":""},{"$f":"IF(AM29=\"\",\"\",IF(AM29=L30+0.2,\"2\",IF(AM29=L30+0.3,\"3\",IF(AM29=L30+0.4,\"4\",IF(AM29=L30+0.5,\"5\",\"先\")))))","v":"先"},{"$f":"IFERROR(VLOOKUP(先攻T!BQ46,記号!$F$27:$G$37,2,FALSE),\"\")","v":""},{"$f":"IFERROR(VLOOKUP(先攻T!BR44,記号!$R$5:$S$10,2,FALSE),\"\")","v":"Ⅲ"},{"$f":"IFERROR(VLOOKUP(先攻T!BO46,記号!$F$27:$G$37,2,FALSE),\"\")","v":""},{"$f":"IFERROR(VLOOKUP(先攻T!BT44,記号!$U$12:$V$13,2,FALSE),\"\")","v":""},{"$f":"IF(AR29=\"\",\"\",IF(AR29=L30+0.2,\"2\",IF(AR29=L30+0.3,\"3\",IF(AR29=L30+0.4,\"4\",IF(AR29=L30+0.5,\"5\",\"先\")))))","v":"先"},{"$f":"IFERROR(VLOOKUP(先攻T!CC46,記号!$F$27:$G$37,2,FALSE),\"\")","v":""},{"$f":"IFERROR(VLOOKUP(先攻T!CD44,記号!$R$5:$S$10,2,FALSE),\"\")","v":""},{"$f":"IFERROR(VLOOKUP(先攻T!CA46,記号!$F$27:$G$37,2,FALSE),\"\")","v":""},{"$f":"IFERROR(VLOOKUP(先攻T!CF44,記号!$U$12:$V$13,2,FALSE),\"\")","v":""},{"$f":"IF(AW29=\"\",\"\",IF(AW29=L30+0.2,\"2\",IF(AW29=L30+0.3,\"3\",IF(AW29=L30+0.4,\"4\",IF(AW29=L30+0.5,\"5\",\"先\")))))","v":"先"},{"$f":"IFERROR(VLOOKUP(先攻T!CO46,記号!$F$27:$G$37,2,FALSE),\"\")","v":""},{"$f":"IFERROR(VLOOKUP(先攻T!CP44,記号!$R$5:$S$10,2,FALSE),\"\")","v":""},{"$f":"IFERROR(VLOOKUP(先攻T!CM46,記号!$F$27:$G$37,2,FALSE),\"\")","v":""},{"$f":"IFERROR(VLOOKUP(先攻T!CR44,記号!$U$12:$V$13,2,FALSE),\"\")","v":""},{"$f":"IF(BB29=\"\",\"\",IF(BB29=L30+0.2,\"2\",IF(BB29=L30+0.3,\"3\",IF(BB29=L30+0.4,\"4\",IF(BB29=L30+0.5,\"5\",\"先\")))))","v":"先"},{"$f":"IFERROR(VLOOKUP(先攻T!DA46,記号!$F$27:$G$37,2,FALSE),\"\")","v":""},{"$f":"IFERROR(VLOOKUP(先攻T!DB44,記号!$R$5:$S$10,2,FALSE),\"\")","v":"Ⅰ"},{"$f":"IFERROR(VLOOKUP(先攻T!CY46,記号!$F$27:$G$37,2,FALSE),\"\")","v":""},{"$f":"IFERROR(VLOOKUP(先攻T!DD44,記号!$U$12:$V$13,2,FALSE),\"\")","v":""},{"$f":"IF(BG29=\"\",\"\",IF(BG29=L30+0.2,\"2\",IF(BG29=L30+0.3,\"3\",IF(BG29=L30+0.4,\"4\",IF(BG29=L30+0.5,\"5\",\"先\")))))","v":"先"},{"$f":"IFERROR(VLOOKUP(先攻T!DM46,記号!$F$27:$G$37,2,FALSE),\"\")","v":""},{"$f":"IFERROR(VLOOKUP(先攻T!DN44,記号!$R$5:$S$10,2,FALSE),\"\")","v":""},{"$f":"IFERROR(VLOOKUP(先攻T!DK46,記号!$F$27:$G$37,2,FALSE),\"\")","v":""},{"$f":"IFERROR(VLOOKUP(先攻T!DP44,記号!$U$12:$V$13,2,FALSE),\"\")","v":""},{"$f":"IF(BL29=\"\",\"\",IF(BL29=L30+0.2,\"2\",IF(BL29=L30+0.3,\"3\",IF(BL29=L30+0.4,\"4\",IF(BL29=L30+0.5,\"5\",\"先\")))))","v":"先"},{"$f":"IFERROR(VLOOKUP(先攻T!DY46,記号!$F$27:$G$37,2,FALSE),\"\")","v":""},{"$f":"IFERROR(VLOOKUP(先攻T!DZ44,記号!$R$5:$S$10,2,FALSE),\"\")","v":""},{"$f":"IFERROR(VLOOKUP(先攻T!DW46,記号!$F$27:$G$37,2,FALSE),\"\")","v":""},{"$f":"IFERROR(VLOOKUP(先攻T!EB44,記号!$U$12:$V$13,2,FALSE),\"\")","v":""},{"$f":"IF(BQ29=\"\",\"\",IF(BQ29=L30+0.2,\"2\",IF(BQ29=L30+0.3,\"3\",IF(BQ29=L30+0.4,\"4\",IF(BQ29=L30+0.5,\"5\",\"先\")))))","v":"先"},{"$f":"IFERROR(VLOOKUP(先攻T!EK46,記号!$F$27:$G$37,2,FALSE),\"\")","v":""},{"$f":"IFERROR(VLOOKUP(先攻T!EL44,記号!$R$5:$S$10,2,FALSE),\"\")","v":""},{"$f":"IFERROR(VLOOKUP(先攻T!EI46,記号!$F$27:$G$37,2,FALSE),\"\")","v":""},{"$f":"IFERROR(VLOOKUP(先攻T!EN44,記号!$U$12:$V$13,2,FALSE),\"\")","v":""},{"$f":"IF(K33=\"\",\"\",VLOOKUP(K33,$C$84:$E$89,3,FALSE))","v":""},{"$f":"IF(L33=\"\",\"\",(BX33+CG33+CH33+CI33))","v":""},"",{"$f":"IF(L33=\"\",\"\",COUNTIFS($N$29:$BU$29,L33,$N$34:$BU$34,$BY$3))","v":""},{"$f":"IF(L33=\"\",\"\",COUNTIFS($N$29:$BU$29,L33,$N$34:$BU$34,$BZ$3))","v":""},{"$f":"IF(L33=\"\",\"\",COUNTIFS($N$29:$BU$29,L33,$N$32:$BU$32,$CA$3))","v":""},{"$f":"IF(L33=\"\",\"\",COUNTIFS($N$29:$BU$29,L33,$N$32:$BU$32,$CB$3))","v":""},{"$f":"IF(L33=\"\",\"\",COUNTIFS($N$29:$BU$29,L33,$N$34:$BU$34,$CC$3))","v":""},{"$f":"IF(L33=\"\",\"\",SUMIF($N$29:$BU$29,L33,$N$34:$BU$34))","v":""},{"$f":"IF(L33=\"\",\"\",COUNTIFS($N$29:$BU$29,L33,$N$33:$BU$33,$CE$3))","v":""},{"$f":"IF(L33=\"\",\"\",COUNTIFS($N$29:$BU$29,L33,$N$34:$BU$34,$CF$3))","v":""},{"$f":"IF(L33=\"\",\"\",COUNTIFS($N$29:$BU$29,L33,$N$34:$BU$34,$CG$3))","v":""},{"$f":"IF(L33=\"\",\"\",COUNTIFS($N$29:$BU$29,L33,$N$34:$BU$34,$CH$3))","v":""},{"$f":"IF(L33=\"\",\"\",COUNTIFS($N$29:$BU$29,L33,$N$34:$BU$34,$CI$3))","v":""},{"$f":"IF(L33=\"\",\"\",COUNTIFS($N$29:$BU$29,L33,$N$34:$BU$34,$CJ$3))","v":""},{"$f":"IF(L33=\"\",\"\",COUNTIFS($N$29:$BU$29,L33,$N$34:$BU$34,$CK$3)+COUNTIFS($N$29:$BU$29,L33,$N$32:$BU$32,$CK$3))","v":""},{"$f":"IF(L33=\"\",\"\",COUNTIFS($N$29:$BU$29,L33,$N$34:$BU$34,$CL$3)+COUNTIFS($N$29:$BU$29,L33,$N$32:$BU$32,$CL$3))","v":""},{"$f":"IF(L33=\"\",\"\",COUNTIFS($N$29:$BU$29,L33,$N$34:$BU$34,$CM$3))","v":""},{"$f":"IF(L33=\"\",\"\",COUNTIFS($N$29:$BU$29,L33,$N$34:$BU$34,$CN$3))","v":""},{"$f":"IF(L33=\"\",\"\",COUNTIFS($N$29:$BU$29,L33,$N$30:$BU$30,$CO$3)+COUNTIFS($N$29:$BU$29,L33,$N$31:$BU$31,$CO$3))","v":""},null,"投ゴロ",null,null,null,null,"G","RR",8,"一",3,"先",null,null,null,null,null,null,null,null,null,null,null,null,null,null,null,null,null,null,null,null,null,null,null,null,null,null,null,"","",{"$f":"IF(EC33=\"\",\"\",COUNTIFS($N$29:$BU$29,EC33,$N$34:$BU$34,\"RZ\"))","v":""},{"$f":"IF(ED33=\"\",\"\",COUNTIFS($N$29:$BU$29,EC33,$N$33:$BU$33,\"ZH\"))","v":""},null,null,null,null,null,null,null,"","",{"$f":"IF(G10=\"\",\"\",G10)","v":""},"RR","","","","","","","","","","","","","","","","","","","",null,null,null,null,null,null,null,null,null,null,null,null,null,null,null,null,null,null,null,null,null,null,null,null,null,null,null,null,null,null,null,null,null,null,null,null,null,null,null,null,null,null,null,null,null,null,null,null,null,null,null,null,null,null,null,null,null,null,null,null,null,null,"","","","","","",{"$f":"IF(HU33=\"\",\"\",COUNTIFS($N$29:$BU$29,HV33,$N$30:$BU$30,$IA$3)+COUNTIFS($N$29:$BU$29,HV33,$N$31:BU$31,IA$3))","v":""},""]
[null,null,6,"斉藤　璃玖","RL",6,null,null,null,{"$f":"IF(L34=\"\",\"\",VLOOKUP(L34,$C$29:$D$58,2,FALSE))","v":""},null,null,null,{"$f":"IFERROR(VLOOKUP(先攻T!K44,記号!$R$15:$S$20,2,FALSE),\"\")","v":""},{"$f":"IFERROR(VLOOKUP(先攻T!I44,記号!$O$5:$P$21,2,FALSE),\"\")","v":""},{"$f":"IFERROR(VLOOKUP(先攻T!F46,記号!$F$27:$G$37,2,FALSE),\"\")","v":""},{"$f":"IFERROR(VLOOKUP(先攻T!F44,記号!$F$5:$G$21,2,FALSE),\"\")","v":""},{"$f":"IFERROR(VLOOKUP(先攻T!L45,記号!$U$5:$V$6,2,FALSE),\"\")","v":""},{"$f":"IFERROR(VLOOKUP(先攻T!W44,記号!$R$15:$S$20,2,FALSE),\"\")","v":""},{"$f":"IFERROR(VLOOKUP(先攻T!U44,記号!$O$5:$P$21,2,FALSE),\"\")","v":""},{"$f":"IFERROR(VLOOKUP(先攻T!R46,記号!$F$27:$G$37,2,FALSE),\"\")","v":"1'"},{"$f":"IFERROR(VLOOKUP(先攻T!R44,記号!$F$5:$G$21,2,FALSE),\"\")","v":"G"},{"$f":"IFERROR(VLOOKUP(先攻T!X45,記号!$U$5:$V$6,2,FALSE),\"\")","v":""},{"$f":"IFERROR(VLOOKUP(先攻T!AI44,記号!$R$15:$S$20,2,FALSE),\"\")","v":""},{"$f":"IFERROR(VLOOKUP(先攻T!AG44,記号!$O$5:$P$21,2,FALSE),\"\")","v":""},{"$f":"IFERROR(VLOOKUP(先攻T!AD46,記号!$F$27:$G$37,2,FALSE),\"\")","v":""},{"$f":"IFERROR(VLOOKUP(先攻T!AD44,記号!$F$5:$G$21,2,FALSE),\"\")","v":""},{"$f":"IFERROR(VLOOKUP(先攻T!AJ45,記号!$U$5:$V$6,2,FALSE),\"\")","v":""},{"$f":"IFERROR(VLOOKUP(先攻T!AU44,記号!$R$15:$S$20,2,FALSE),\"\")","v":""},{"$f":"IFERROR(VLOOKUP(先攻T!AS44,記号!$O$5:$P$21,2,FALSE),\"\")","v":""},{"$f":"IFERROR(VLOOKUP(先攻T!AP46,記号!$F$27:$G$37,2,FALSE),\"\")","v":"1'"},{"$f":"IFERROR(VLOOKUP(先攻T!AP44,記号!$F$5:$G$21,2,FALSE),\"\")","v":"G"},{"$f":"IFERROR(VLOOKUP(先攻T!AV45,記号!$U$5:$V$6,2,FALSE),\"\")","v":""},{"$f":"IFERROR(VLOOKUP(先攻T!BG44,記号!$R$15:$S$20,2,FALSE),\"\")","v":""},{"$f":"IFERROR(VLOOKUP(先攻T!BE44,記号!$O$5:$P$21,2,FALSE),\"\")","v":""},{"$f":"IFERROR(VLOOKUP(先攻T!BB46,記号!$F$27:$G$37,2,FALSE),\"\")","v":""},{"$f":"IFERROR(VLOOKUP(先攻T!BB44,記号!$F$5:$G$21,2,FALSE),\"\")","v":""},{"$f":"IFERROR(VLOOKUP(先攻T!BH45,記号!$U$6:$V$15,2,FALSE),\"\")","v":""},{"$f":"IFERROR(VLOOKUP(先攻T!BS32,記号!$R$15:$S$20,2,FALSE),\"\")","v":""},{"$f":"IFERROR(VLOOKUP(先攻T!BQ44,記号!$O$5:$P$21,2,FALSE),\"\")","v":""},{"$f":"IFERROR(VLOOKUP(先攻T!BN46,記号!$F$27:$G$37,2,FALSE),\"\")","v":""},{"$f":"IFERROR(VLOOKUP(先攻T!BN44,記号!$F$5:$G$21,2,FALSE),\"\")","v":"K'"},{"$f":"IFERROR(VLOOKUP(先攻T!BT45,記号!$U$5:$V$6,2,FALSE),\"\")","v":""},{"$f":"IFERROR(VLOOKUP(先攻T!CE44,記号!$R$15:$S$20,2,FALSE),\"\")","v":""},{"$f":"IFERROR(VLOOKUP(先攻T!CC44,記号!$O$5:$P$21,2,FALSE),\"\")","v":""},{"$f":"IFERROR(VLOOKUP(先攻T!BZ46,記号!$F$27:$G$37,2,FALSE),\"\")","v":""},{"$f":"IFERROR(VLOOKUP(先攻T!BZ44,記号!$F$5:$G$21,2,FALSE),\"\")","v":""},{"$f":"IFERROR(VLOOKUP(先攻T!CF45,記号!$U$5:$V$6,2,FALSE),\"\")","v":""},{"$f":"IFERROR(VLOOKUP(先攻T!CQ44,記号!$R$15:$S$20,2,FALSE),\"\")","v":""},{"$f":"IFERROR(VLOOKUP(先攻T!CO44,記号!$O$5:$P$21,2,FALSE),\"\")","v":""},{"$f":"IFERROR(VLOOKUP(先攻T!CL46,記号!$F$27:$G$37,2,FALSE),\"\")","v":""},{"$f":"IFERROR(VLOOKUP(先攻T!CL44,記号!$F$5:$G$21,2,FALSE),\"\")","v":""},{"$f":"IFERROR(VLOOKUP(先攻T!CR45,記号!$U$5:$V$6,2,FALSE),\"\")","v":""},{"$f":"IFERROR(VLOOKUP(先攻T!DC44,記号!$R$15:$S$20,2,FALSE),\"\")","v":""},{"$f":"IFERROR(VLOOKUP(先攻T!DA44,記号!$O$5:$P$21,2,FALSE),\"\")","v":""},{"$f":"IFERROR(VLOOKUP(先攻T!CX46,記号!$F$27:$G$37,2,FALSE),\"\")","v":"1'"},{"$f":"IFERROR(VLOOKUP(先攻T!CX44,記号!$F$5:$G$21,2,FALSE),\"\")","v":"O"},{"$f":"IFERROR(VLOOKUP(先攻T!DD45,記号!$U$5:$V$6,2,FALSE),\"\")","v":""},{"$f":"IFERROR(VLOOKUP(先攻T!DO44,記号!$R$15:$S$20,2,FALSE),\"\")","v":""},{"$f":"IFERROR(VLOOKUP(先攻T!DM44,記号!$O$5:$P$21,2,FALSE),\"\")","v":""},{"$f":"IFERROR(VLOOKUP(先攻T!DJ46,記号!$F$27:$G$37,2,FALSE),\"\")","v":""},{"$f":"IFERROR(VLOOKUP(先攻T!DJ44,記号!$F$5:$G$21,2,FALSE),\"\")","v":""},{"$f":"IFERROR(VLOOKUP(先攻T!DP45,記号!$U$5:$V$6,2,FALSE),\"\")","v":""},{"$f":"IFERROR(VLOOKUP(先攻T!EA44,記号!$R$15:$S$20,2,FALSE),\"\")","v":""},{"$f":"IFERROR(VLOOKUP(先攻T!DY44,記号!$O$5:$P$21,2,FALSE),\"\")","v":""},{"$f":"IFERROR(VLOOKUP(先攻T!DV46,記号!$F$27:$G$37,2,FALSE),\"\")","v":""},{"$f":"IFERROR(VLOOKUP(先攻T!DV44,記号!$F$5:$G$21,2,FALSE),\"\")","v":""},{"$f":"IFERROR(VLOOKUP(先攻T!EB45,記号!$U$5:$V$6,2,FALSE),\"\")","v":""},{"$f":"IFERROR(VLOOKUP(先攻T!EM44,記号!$R$15:$S$20,2,FALSE),\"\")","v":""},{"$f":"IFERROR(VLOOKUP(先攻T!EK44,記号!$O$5:$P$21,2,FALSE),\"\")","v":""},{"$f":"IFERROR(VLOOKUP(先攻T!EH46,記号!$F$27:$G$37,2,FALSE),\"\")","v":""},{"$f":"IFERROR(VLOOKUP(先攻T!EH44,記号!$F$5:$G$21,2,FALSE),\"\")","v":""},{"$f":"IFERROR(VLOOKUP(先攻T!EN45,記号!$U$5:$V$6,2,FALSE),\"\")","v":""},{"$f":"IF(K34=\"\",\"\",VLOOKUP(K34,$C$84:$E$89,3,FALSE))","v":""},{"$f":"IF(L34=\"\",\"\",(BX34+CG34+CH34+CI34))","v":""},"",{"$f":"IF(L34=\"\",\"\",COUNTIFS($N$29:$BU$29,L34,$N$34:$BU$34,$BY$3))","v":""},{"$f":"IF(L34=\"\",\"\",COUNTIFS($N$29:$BU$29,L34,$N$34:$BU$34,$BZ$3))","v":""},{"$f":"IF(L34=\"\",\"\",COUNTIFS($N$29:$BU$29,L34,$N$32:$BU$32,$CA$3))","v":""},{"$f":"IF(L34=\"\",\"\",COUNTIFS($N$29:$BU$29,L34,$N$32:$BU$32,$CB$3))","v":""},{"$f":"IF(L34=\"\",\"\",COUNTIFS($N$29:$BU$29,L34,$N$34:$BU$34,$CC$3))","v":""},{"$f":"IF(L34=\"\",\"\",SUMIF($N$29:$BU$29,L34,$N$34:$BU$34))","v":""},{"$f":"IF(L34=\"\",\"\",COUNTIFS($N$29:$BU$29,L34,$N$33:$BU$33,$CE$3))","v":""},{"$f":"IF(L34=\"\",\"\",COUNTIFS($N$29:$BU$29,L34,$N$34:$BU$34,$CF$3))","v":""},{"$f":"IF(L34=\"\",\"\",COUNTIFS($N$29:$BU$29,L34,$N$34:$BU$34,$CG$3))","v":""},{"$f":"IF(L34=\"\",\"\",COUNTIFS($N$29:$BU$29,L34,$N$34:$BU$34,$CH$3))","v":""},{"$f":"IF(L34=\"\",\"\",COUNTIFS($N$29:$BU$29,L34,$N$34:$BU$34,$CI$3))","v":""},{"$f":"IF(L34=\"\",\"\",COUNTIFS($N$29:$BU$29,L34,$N$34:$BU$34,$CJ$3))","v":""},{"$f":"IF(L34=\"\",\"\",COUNTIFS($N$29:$BU$29,L34,$N$34:$BU$34,$CK$3)+COUNTIFS($N$29:$BU$29,L34,$N$32:$BU$32,$CK$3))","v":""},{"$f":"IF(L34=\"\",\"\",COUNTIFS($N$29:$BU$29,L34,$N$34:$BU$34,$CL$3)+COUNTIFS($N$29:$BU$29,L34,$N$32:$BU$32,$CL$3))","v":""},{"$f":"IF(L34=\"\",\"\",COUNTIFS($N$29:$BU$29,L34,$N$34:$BU$34,$CM$3))","v":""},{"$f":"IF(L34=\"\",\"\",COUNTIFS($N$29:$BU$29,L34,$N$34:$BU$34,$CN$3))","v":""},{"$f":"IF(L34=\"\",\"\",COUNTIFS($N$29:$BU$29,L34,$N$30:$BU$30,$CO$3)+COUNTIFS($N$29:$BU$29,L34,$N$31:$BU$31,$CO$3))","v":""},null,null,null,null,null,null,null,"",null,null,"",null,null,null,null,null,null,null,null,null,null,null,null,null,null,null,null,null,null,null,null,null,null,null,null,null,null,null,null,"","",{"$f":"IF(EC34=\"\",\"\",COUNTIFS($N$29:$BU$29,EC34,$N$34:$BU$34,\"RZ\"))","v":""},{"$f":"IF(ED34=\"\",\"\",COUNTIFS($N$29:$BU$29,EC34,$N$33:$BU$33,\"ZH\"))","v":""},null,null,null,null,null,null,null,"","",{"$f":"IF(G10=\"\",\"\",G10)","v":""},"LL","","","","","","","","","","","","","","","","","","","",null,null,null,null,null,null,null,null,null,null,null,null,null,null,null,null,null,null,null,null,null,null,null,null,null,null,null,null,null,null,null,null,null,null,null,null,null,null,null,null,null,null,null,null,null,null,null,null,null,null,null,null,null,null,null,null,null,null,null,null,null,null,"","","","","","",{"$f":"IF(HU34=\"\",\"\",COUNTIFS($N$29:$BU$29,HV34,$N$30:$BU$30,$IA$3)+COUNTIFS($N$29:$BU$29,HV34,$N$31:BU$31,IA$3))","v":""},""]
[null,null,7,"佐々木　大夢","RR",7,null,null,null,null,null,null,"打者背番号を入力➡",{"$f":"先攻T!E47","v":3},{"$f":"N35","v":3},{"$f":"N35","v":3},{"$f":"N35","v":3},{"$f":"N35","v":3},{"$f":"先攻T!Q47","v":3},{"$f":"S35","v":3},{"$f":"S35","v":3},{"$f":"S35","v":3},{"$f":"S35","v":3},{"$f":"先攻T!AC47","v":3},{"$f":"X35","v":3},{"$f":"X35","v":3},{"$f":"X35","v":3},{"$f":"X35","v":3},{"$f":"先攻T!AO47","v":3},{"$f":"AC35","v":3},{"$f":"AC35","v":3},{"$f":"AC35","v":3},{"$f":"AC35","v":3},{"$f":"先攻T!BA47","v":3},{"$f":"AH35","v":3},{"$f":"AH35","v":3},{"$f":"AH35","v":3},{"$f":"AH35","v":3},{"$f":"先攻T!BM47","v":3},{"$f":"AM35","v":3},{"$f":"AM35","v":3},{"$f":"AM35","v":3},{"$f":"AM35","v":3},{"$f":"先攻T!BY47","v":3},{"$f":"AR35","v":3},{"$f":"AR35","v":3},{"$f":"AR35","v":3},{"$f":"AR35","v":3},{"$f":"先攻T!CK47","v":3},{"$f":"AW35","v":3},{"$f":"AW35","v":3},{"$f":"AW35","v":3},{"$f":"AW35","v":3},{"$f":"先攻T!CW47","v":3},{"$f":"BB35","v":3},{"$f":"BB35","v":3},{"$f":"BB35","v":3},{"$f":"BB35","v":3},{"$f":"先攻T!DI47","v":3},{"$f":"BG35","v":3},{"$f":"BG35","v":3},{"$f":"BG35","v":3},{"$f":"BG35","v":3},{"$f":"先攻T!DU47","v":3},{"$f":"BL35","v":3},{"$f":"BL35","v":3},{"$f":"BL35","v":3},{"$f":"BL35","v":3},{"$f":"先攻T!EG47","v":3},{"$f":"BQ35","v":3},{"$f":"BQ35","v":3},{"$f":"BQ35","v":3},{"$f":"BQ35","v":3},null,null,null,null,null,null,null,null,null,null,null,null,null,null,null,null,null,null,null,null,null,null,null,null,null,null,null,null,null,null,null,null,null,null,null,null,null,null,null,null,null,null,null,null,null,null,null,null,null,null,null,null,null,null,null,null,null,null,null,null,null,null,null,null,null,null,null,null,null,null,"","",{"$f":"IF(G11=\"\",\"\",G11)","v":""},"RR","","","","","","","","","","","","","","","","","","",""]
[null,null,8,"大友　朝陽","RR",8,null,null,{"$f":"IF(C10=\"\",\"\",C10)","v":"三"},{"$f":"IF(D10=\"\",\"\",D10)","v":"高橋　佑輔"},{"$f":"IF(J36=\"\",\"\",\"先\")","v":"先"},{"$f":"IF(J36=\"\",\"\",F10)","v":3},"⑥",{"$f":"IFERROR(VLOOKUP(先攻T!F49,記号!$B$6:$C$10,2,FALSE),\"\")","v":""},{"$f":"IFERROR(VLOOKUP(先攻T!G49,記号!$B$6:$C$10,2,FALSE),\"\")","v":""},{"$f":"IFERROR(VLOOKUP(先攻T!H49,記号!$B$6:$C$10,2,FALSE),\"\")","v":""},{"$f":"IFERROR(VLOOKUP(先攻T!I49,記号!$B$6:$C$10,2,FALSE),\"\")","v":""},{"$f":"IFERROR(VLOOKUP(先攻T!J49,記号!$B$6:$C$10,2,FALSE),\"\")","v":""},{"$f":"IFERROR(VLOOKUP(先攻T!R49,記号!$B$6:$C$10,2,FALSE),\"\")","v":"・●"},{"$f":"IFERROR(VLOOKUP(先攻T!S49,記号!$B$6:$C$10,2,FALSE),\"\")","v":"・●"},{"$f":"IFERROR(VLOOKUP(先攻T!T49,記号!$B$6:$C$10,2,FALSE),\"\")","v":"・△"},{"$f":"IFERROR(VLOOKUP(先攻T!U49,記号!$B$6:$C$10,2,FALSE),\"\")","v":"・◎"},{"$f":"IFERROR(VLOOKUP(先攻T!V49,記号!$B$6:$C$10,2,FALSE),\"\")","v":""},{"$f":"IFERROR(VLOOKUP(先攻T!AD49,記号!$B$6:$C$10,2,FALSE),\"\")","v":""},{"$f":"IFERROR(VLOOKUP(先攻T!AE49,記号!$B$6:$C$10,2,FALSE),\"\")","v":""},{"$f":"IFERROR(VLOOKUP(先攻T!AF49,記号!$B$6:$C$10,2,FALSE),\"\")","v":""},{"$f":"IFERROR(VLOOKUP(先攻T!AG49,記号!$B$6:$C$10,2,FALSE),\"\")","v":""},{"$f":"IFERROR(VLOOKUP(先攻T!AH49,記号!$B$6:$C$10,2,FALSE),\"\")","v":""},{"$f":"IFERROR(VLOOKUP(先攻T!AP49,記号!$B$6:$C$10,2,FALSE),\"\")","v":"・◎"},{"$f":"IFERROR(VLOOKUP(先攻T!AQ49,記号!$B$6:$C$10,2,FALSE),\"\")","v":""},{"$f":"IFERROR(VLOOKUP(先攻T!AR49,記号!$B$6:$C$10,2,FALSE),\"\")","v":""},{"$f":"IFERROR(VLOOKUP(先攻T!AS49,記号!$B$6:$C$10,2,FALSE),\"\")","v":""},{"$f":"IFERROR(VLOOKUP(先攻T!AT49,記号!$B$6:$C$10,2,FALSE),\"\")","v":""},{"$f":"IFERROR(VLOOKUP(先攻T!BB49,記号!$B$6:$C$10,2,FALSE),\"\")","v":""},{"$f":"IFERROR(VLOOKUP(先攻T!BC49,記号!$B$6:$C$10,2,FALSE),\"\")","v":""},{"$f":"IFERROR(VLOOKUP(先攻T!BD49,記号!$B$6:$C$10,2,FALSE),\"\")","v":""},{"$f":"IFERROR(VLOOKUP(先攻T!BE49,記号!$B$6:$C$10,2,FALSE),\"\")","v":""},{"$f":"IFERROR(VLOOKUP(先攻T!BF49,記号!$B$6:$C$10,2,FALSE),\"\")","v":""},{"$f":"IFERROR(VLOOKUP(先攻T!BN49,記号!$B$6:$C$10,2,FALSE),\"\")","v":""},{"$f":"IFERROR(VLOOKUP(先攻T!BO49,記号!$B$6:$C$10,2,FALSE),\"\")","v":""},{"$f":"IFERROR(VLOOKUP(先攻T!BP49,記号!$B$6:$C$10,2,FALSE),\"\")","v":""},{"$f":"IFERROR(VLOOKUP(先攻T!BQ49,記号!$B$6:$C$10,2,FALSE),\"\")","v":""},{"$f":"IFERROR(VLOOKUP(先攻T!BR49,記号!$B$6:$C$10,2,FALSE),\"\")","v":""},{"$f":"IFERROR(VLOOKUP(先攻T!BZ49,記号!$B$6:$C$10,2,FALSE),\"\")","v":"・〇"},{"$f":"IFERROR(VLOOKUP(先攻T!CA49,記号!$B$6:$C$10,2,FALSE),\"\")","v":"・●"},{"$f":"IFERROR(VLOOKUP(先攻T!CB49,記号!$B$6:$C$10,2,FALSE),\"\")","v":"・〇"},{"$f":"IFERROR(VLOOKUP(先攻T!CC49,記号!$B$6:$C$10,2,FALSE),\"\")","v":"・●"},{"$f":"IFERROR(VLOOKUP(先攻T!CD49,記号!$B$6:$C$10,2,FALSE),\"\")","v":"・●"},{"$f":"IFERROR(VLOOKUP(先攻T!CL49,記号!$B$6:$C$10,2,FALSE),\"\")","v":""},{"$f":"IFERROR(VLOOKUP(先攻T!CM49,記号!$B$6:$C$10,2,FALSE),\"\")","v":""},{"$f":"IFERROR(VLOOKUP(先攻T!CN49,記号!$B$6:$C$10,2,FALSE),\"\")","v":""},{"$f":"IFERROR(VLOOKUP(先攻T!CO49,記号!$B$6:$C$10,2,FALSE),\"\")","v":""},{"$f":"IFERROR(VLOOKUP(先攻T!CP49,記号!$B$6:$C$10,2,FALSE),\"\")","v":""},{"$f":"IFERROR(VLOOKUP(先攻T!CX49,記号!$B$6:$C$10,2,FALSE),\"\")","v":"・〇"},{"$f":"IFERROR(VLOOKUP(先攻T!CY49,記号!$B$6:$C$10,2,FALSE),\"\")","v":"・●"},{"$f":"IFERROR(VLOOKUP(先攻T!CZ49,記号!$B$6:$C$10,2,FALSE),\"\")","v":"・□"},{"$f":"IFERROR(VLOOKUP(先攻T!DA49,記号!$B$6:$C$10,2,FALSE),\"\")","v":"・△"},{"$f":"IFERROR(VLOOKUP(先攻T!DB49,記号!$B$6:$C$10,2,FALSE),\"\")","v":"・●"},{"$f":"IFERROR(VLOOKUP(先攻T!DJ49,記号!$B$6:$C$10,2,FALSE),\"\")","v":""},{"$f":"IFERROR(VLOOKUP(先攻T!DK49,記号!$B$6:$C$10,2,FALSE),\"\")","v":""},{"$f":"IFERROR(VLOOKUP(先攻T!DL49,記号!$B$6:$C$10,2,FALSE),\"\")","v":""},{"$f":"IFERROR(VLOOKUP(先攻T!DM49,記号!$B$6:$C$10,2,FALSE),\"\")","v":""},{"$f":"IFERROR(VLOOKUP(先攻T!DN49,記号!$B$6:$C$10,2,FALSE),\"\")","v":""},{"$f":"IFERROR(VLOOKUP(先攻T!DV49,記号!$B$6:$C$10,2,FALSE),\"\")","v":""},{"$f":"IFERROR(VLOOKUP(先攻T!DW49,記号!$B$6:$C$10,2,FALSE),\"\")","v":""},{"$f":"IFERROR(VLOOKUP(先攻T!DX49,記号!$B$6:$C$10,2,FALSE),\"\")","v":""},{"$f":"IFERROR(VLOOKUP(先攻T!DY49,記号!$B$6:$C$10,2,FALSE),\"\")","v":""},{"$f":"IFERROR(VLOOKUP(先攻T!DZ49,記号!$B$6:$C$10,2,FALSE),\"\")","v":""},{"$f":"IFERROR(VLOOKUP(先攻T!EH49,記号!$B$6:$C$10,2,FALSE),\"\")","v":""},{"$f":"IFERROR(VLOOKUP(先攻T!EI49,記号!$B$6:$C$10,2,FALSE),\"\")","v":""},{"$f":"IFERROR(VLOOKUP(先攻T!EJ49,記号!$B$6:$C$10,2,FALSE),\"\")","v":""},{"$f":"IFERROR(VLOOKUP(先攻T!EK49,記号!$B$6:$C$10,2,FALSE),\"\")","v":""},{"$f":"IFERROR(VLOOKUP(先攻T!EL49,記号!$B$6:$C$10,2,FALSE),\"\")","v":""},{"$f":"IF(K36=\"\",\"\",VLOOKUP(K36,$C$84:$E$89,3,FALSE))","v":"RR"},{"$f":"IF(L36=\"\",\"\",(BX36+CG36+CH36+CI36))","v":4},{"$f":"IF(L36=\"\",\"\",(BY36+BZ36+CA36+CB36+CC36+CF36+CJ36+CM36+CN36))","v":4},{"$f":"IF(L36=\"\",\"\",COUNTIFS($N$35:$BU$35,L36,$N$40:$BU$40,$BY$3))","v":1},{"$f":"IF(L36=\"\",\"\",COUNTIFS($N$35:$BU$35,L36,$N$40:$BU$40,$BZ$3))","v":2},{"$f":"IF(L36=\"\",\"\",COUNTIFS($N$35:$BU$35,L36,$N$38:$BU$38,$CA$3))","v":0},{"$f":"IF(L36=\"\",\"\",COUNTIFS($N$35:$BU$35,L36,$N$38:$BU$38,$CB$3))","v":0},{"$f":"IF(L36=\"\",\"\",COUNTIFS($N$35:$BU$35,L36,$N$40:$BU$40,$CC$3))","v":0},{"$f":"IF(L36=\"\",\"\",SUMIF($N$35:$BU$35,L36,$N$40:$BU$40))","v":0},{"$f":"IF(L36=\"\",\"\",COUNTIFS($N$35:$BU$35,L36,$N$39:$BU$39,$CE$3))","v":1},{"$f":"IF(L36=\"\",\"\",COUNTIFS($N$35:$BU$35,L36,$N$40:$BU$40,$CF$3))","v":1},{"$f":"IF(L36=\"\",\"\",COUNTIFS($N$35:$BU$35,L36,$N$40:$BU$40,$CG$3))","v":0},{"$f":"IF(L36=\"\",\"\",COUNTIFS($N$35:$BU$35,L36,$N$40:$BU$40,$CH$3))","v":0},{"$f":"IF(L36=\"\",\"\",COUNTIFS($N$35:$BU$35,L36,$N$40:$BU$40,$CI$3))","v":0},{"$f":"IF(L36=\"\",\"\",COUNTIFS($N$35:$BU$35,L36,$N$40:$BU$40,$CJ$3))","v":0},{"$f":"IF(L36=\"\",\"\",COUNTIFS($N$35:$BU$35,L36,$N$40:$BU$40,$CK$3)+COUNTIFS($N$35:$BU$35,L36,$N$38:$BU$38,$CK$3))","v":1},{"$f":"IF(L36=\"\",\"\",COUNTIFS($N$35:$BU$35,L36,$N$40:$BU$40,$CL$3)+COUNTIFS($N$35:$BU$35,L36,$N$38:$BU$38,$CL$3))","v":0},{"$f":"IF(L36=\"\",\"\",COUNTIFS($N$35:$BU$35,L36,$N$40:$BU$40,$CM$3))","v":0},{"$f":"IF(L36=\"\",\"\",COUNTIFS($N$35:$BU$35,L36,$N$40:$BU$40,$CN$3))","v":0},{"$f":"IF(L36=\"\",\"\",COUNTIFS($N$35:$BU$35,L36,$N$36:$BU$36,$CO$3)+COUNTIFS($N$35:$BU$35,L36,$N$37:$BU$37,$CO$3))","v":17},"先","ゴロ左安",null,null,null,null,"G",{"$f":"IF(DA36=\"\",\"\",VLOOKUP(DA36,$C$84:$E$89,3,FALSE))","v":"RR"},3,"左",7,"先",null,null,null,null,null,null,null,null,null,null,null,null,null,null,null,null,null,null,null,null,null,null,null,null,null,null,null,3,{"$f":"IF(EC36=\"\",\"\",VLOOKUP(EC36,$C$29:$D$58,2,FALSE))","v":"高橋　佑輔"},{"$f":"IF(EC36=\"\",\"\",COUNTIFS($N$35:$BU$35,EC36,$N$40:$BU$40,\"RZ\"))","v":1},{"$f":"IF(ED36=\"\",\"\",COUNTIFS($N$35:$BU$35,EC36,$N$39:$BU$39,\"ZH\"))","v":0},null,null,null,null,null,null,null,"","",{"$f":"IF(G11=\"\",\"\",G11)","v":""},"LL","","","","","","","","","","","","","","","","","","","",null,null,null,null,null,null,null,null,null,null,null,null,null,null,null,null,null,null,null,null,null,null,null,null,null,null,null,null,null,null,null,null,null,null,null,null,null,null,null,null,null,null,null,null,null,null,null,null,null,null,null,null,null,null,null,null,null,null,null,null,null,null,"高橋　佑輔",{"$f":"IF(L36=\"\",\"\",L36)","v":3},{"$f":"IF(HU36=\"\",\"\",COUNTIFS($N$35:$BU35,HV36,$N$36:$BU$36,$HW$3)+COUNTIFS($N$35:$BU$35,HV36,$N$37:$BU$37,$HW$3))","v":17},{"$f":"IF(HU36=\"\",\"\",COUNTIFS($N$35:$BU$35,HV36,$N$36:$BU$36,$HX$3)+COUNTIFS($N$35:$BU$35,HV36,$N$37:$BU$37,$HX$3))","v":7},{"$f":"IF(HU36=\"\",\"\",COUNTIFS($N$35:$BU$35,HV36,$N$36:$BU$36,$HY$3)+COUNTIFS($N$35:$BU$35,HV36,$N$37:$BU$37,$HY$3))","v":3},{"$f":"IF(HU36=\"\",\"\",COUNTIFS($N$35:$BU$35,HV36,$N$36:$BU$36,$HZ$3)+COUNTIFS($N$35:$BU$35,HV36,$N$37:$BU$37,$HZ$3))","v":2},{"$f":"IF(HU36=\"\",\"\",COUNTIFS($N$35:$BU$35,HV36,$N$36:$BU$36,$IA$3)+COUNTIFS($N$35:$BU$35,HV36,$N$37:$BU$37,$IA$3))","v":2},{"$f":"IF(HU36=\"\",\"\",COUNTIFS($N$35:$BU$35,HV36,$N$36:$BU$36,$IB$3)+COUNTIFS($N$35:$BU$35,HV36,$N$37:$BU$37,$IB$3))","v":3}]
[null,null,9,"菊池　彪吾","RR",9,null,null,null,{"$f":"IF(L37=\"\",\"\",VLOOKUP(L37,$C$29:$D$58,2,FALSE))","v":""},null,null,null,{"$f":"IFERROR(VLOOKUP(先攻T!K49,記号!$B$6:$C$10,2,FALSE),\"\")","v":""},{"$f":"IFERROR(VLOOKUP(先攻T!L49,記号!$B$6:$C$10,2,FALSE),\"\")","v":""},{"$f":"IFERROR(VLOOKUP(先攻T!F51,記号!$B$6:$C$10,2,FALSE),\"\")","v":""},{"$f":"IFERROR(VLOOKUP(先攻T!G51,記号!$B$6:$C$10,2,FALSE),\"\")","v":""},{"$f":"IFERROR(VLOOKUP(先攻T!H51,記号!$B$6:$C$10,2,FALSE),\"\")","v":""},{"$f":"IFERROR(VLOOKUP(先攻T!W49,記号!$B$6:$C$10,2,FALSE),\"\")","v":""},{"$f":"IFERROR(VLOOKUP(先攻T!X49,記号!$B$6:$C$10,2,FALSE),\"\")","v":""},{"$f":"IFERROR(VLOOKUP(先攻T!R48,記号!$B$6:$C$10,2,FALSE),\"\")","v":""},{"$f":"IFERROR(VLOOKUP(先攻T!S51,記号!$B$6:$C$10,2,FALSE),\"\")","v":""},{"$f":"IFERROR(VLOOKUP(先攻T!T51,記号!$B$6:$C$10,2,FALSE),\"\")","v":""},{"$f":"IFERROR(VLOOKUP(先攻T!AI49,記号!$B$6:$C$10,2,FALSE),\"\")","v":""},{"$f":"IFERROR(VLOOKUP(先攻T!AJ49,記号!$B$6:$C$10,2,FALSE),\"\")","v":""},{"$f":"IFERROR(VLOOKUP(先攻T!AD51,記号!$B$6:$C$10,2,FALSE),\"\")","v":""},{"$f":"IFERROR(VLOOKUP(先攻T!AE51,記号!$B$6:$C$10,2,FALSE),\"\")","v":""},{"$f":"IFERROR(VLOOKUP(先攻T!AF51,記号!$B$6:$C$10,2,FALSE),\"\")","v":""},{"$f":"IFERROR(VLOOKUP(先攻T!AU49,記号!$B$6:$C$10,2,FALSE),\"\")","v":""},{"$f":"IFERROR(VLOOKUP(先攻T!AV49,記号!$B$6:$C$10,2,FALSE),\"\")","v":""},{"$f":"IFERROR(VLOOKUP(先攻T!AP51,記号!$B$6:$C$10,2,FALSE),\"\")","v":""},{"$f":"IFERROR(VLOOKUP(先攻T!AQ51,記号!$B$6:$C$10,2,FALSE),\"\")","v":""},{"$f":"IFERROR(VLOOKUP(先攻T!AR51,記号!$B$6:$C$10,2,FALSE),\"\")","v":""},{"$f":"IFERROR(VLOOKUP(先攻T!BG49,記号!$B$6:$C$10,2,FALSE),\"\")","v":""},{"$f":"IFERROR(VLOOKUP(先攻T!BH49,記号!$B$6:$C$10,2,FALSE),\"\")","v":""},{"$f":"IFERROR(VLOOKUP(先攻T!BB51,記号!$B$6:$C$10,2,FALSE),\"\")","v":""},{"$f":"IFERROR(VLOOKUP(先攻T!BC51,記号!$B$6:$C$10,2,FALSE),\"\")","v":""},{"$f":"IFERROR(VLOOKUP(先攻T!BD51,記号!$B$6:$C$10,2,FALSE),\"\")","v":""},{"$f":"IFERROR(VLOOKUP(先攻T!BS49,記号!$B$6:$C$10,2,FALSE),\"\")","v":""},{"$f":"IFERROR(VLOOKUP(先攻T!BT49,記号!$B$6:$C$10,2,FALSE),\"\")","v":""},{"$f":"IFERROR(VLOOKUP(先攻T!BN51,記号!$B$6:$C$10,2,FALSE),\"\")","v":""},{"$f":"IFERROR(VLOOKUP(先攻T!BO51,記号!$B$6:$C$10,2,FALSE),\"\")","v":""},{"$f":"IFERROR(VLOOKUP(先攻T!BP51,記号!$B$6:$C$10,2,FALSE),\"\")","v":""},{"$f":"IFERROR(VLOOKUP(先攻T!CE49,記号!$B$6:$C$10,2,FALSE),\"\")","v":"・◎"},{"$f":"IFERROR(VLOOKUP(先攻T!CF49,記号!$B$6:$C$10,2,FALSE),\"\")","v":""},{"$f":"IFERROR(VLOOKUP(先攻T!BZ51,記号!$B$6:$C$10,2,FALSE),\"\")","v":""},{"$f":"IFERROR(VLOOKUP(先攻T!CA51,記号!$B$6:$C$10,2,FALSE),\"\")","v":""},{"$f":"IFERROR(VLOOKUP(先攻T!CB51,記号!$B$6:$C$10,2,FALSE),\"\")","v":""},{"$f":"IFERROR(VLOOKUP(先攻T!CQ49,記号!$B$6:$C$10,2,FALSE),\"\")","v":""},{"$f":"IFERROR(VLOOKUP(先攻T!CR49,記号!$B$6:$C$10,2,FALSE),\"\")","v":""},{"$f":"IFERROR(VLOOKUP(先攻T!CL51,記号!$B$6:$C$10,2,FALSE),\"\")","v":""},{"$f":"IFERROR(VLOOKUP(先攻T!CM51,記号!$B$6:$C$10,2,FALSE),\"\")","v":""},{"$f":"IFERROR(VLOOKUP(先攻T!CN51,記号!$B$6:$C$10,2,FALSE),\"\")","v":""},{"$f":"IFERROR(VLOOKUP(先攻T!DC49,記号!$B$6:$C$10,2,FALSE),\"\")","v":"・□"},{"$f":"IFERROR(VLOOKUP(先攻T!DD49,記号!$B$6:$C$10,2,FALSE),\"\")","v":""},{"$f":"IFERROR(VLOOKUP(先攻T!CX51,記号!$B$6:$C$10,2,FALSE),\"\")","v":""},{"$f":"IFERROR(VLOOKUP(先攻T!CY51,記号!$B$6:$C$10,2,FALSE),\"\")","v":""},{"$f":"IFERROR(VLOOKUP(先攻T!CZ51,記号!$B$6:$C$10,2,FALSE),\"\")","v":""},{"$f":"IFERROR(VLOOKUP(先攻T!DO49,記号!$B$6:$C$10,2,FALSE),\"\")","v":""},{"$f":"IFERROR(VLOOKUP(先攻T!DP49,記号!$B$6:$C$10,2,FALSE),\"\")","v":""},{"$f":"IFERROR(VLOOKUP(先攻T!DJ51,記号!$B$6:$C$10,2,FALSE),\"\")","v":""},{"$f":"IFERROR(VLOOKUP(先攻T!DK51,記号!$B$6:$C$10,2,FALSE),\"\")","v":""},{"$f":"IFERROR(VLOOKUP(先攻T!DL51,記号!$B$6:$C$10,2,FALSE),\"\")","v":""},{"$f":"IFERROR(VLOOKUP(先攻T!EA49,記号!$B$6:$C$10,2,FALSE),\"\")","v":""},{"$f":"IFERROR(VLOOKUP(先攻T!EB49,記号!$B$6:$C$10,2,FALSE),\"\")","v":""},{"$f":"IFERROR(VLOOKUP(先攻T!DV51,記号!$B$6:$C$10,2,FALSE),\"\")","v":""},{"$f":"IFERROR(VLOOKUP(先攻T!DW51,記号!$B$6:$C$10,2,FALSE),\"\")","v":""},{"$f":"IFERROR(VLOOKUP(先攻T!DX51,記号!$B$6:$C$10,2,FALSE),\"\")","v":""},{"$f":"IFERROR(VLOOKUP(先攻T!EM49,記号!$B$6:$C$10,2,FALSE),\"\")","v":""},{"$f":"IFERROR(VLOOKUP(先攻T!EN49,記号!$B$6:$C$10,2,FALSE),\"\")","v":""},{"$f":"IFERROR(VLOOKUP(先攻T!EH51,記号!$B$6:$C$10,2,FALSE),\"\")","v":""},{"$f":"IFERROR(VLOOKUP(先攻T!EI51,記号!$B$6:$C$10,2,FALSE),\"\")","v":""},{"$f":"IFERROR(VLOOKUP(先攻T!EJ51,記号!$B$6:$C$10,2,FALSE),\"\")","v":""},{"$f":"IF(K37=\"\",\"\",VLOOKUP(K37,$C$84:$E$89,3,FALSE))","v":""},{"$f":"IF(L37=\"\",\"\",(BX37+CG37+CH37+CI37))","v":""},"",{"$f":"IF(L37=\"\",\"\",COUNTIFS($N$35:$BU$35,L37,$N$40:$BU$40,$BY$3))","v":""},{"$f":"IF(L37=\"\",\"\",COUNTIFS($N$35:$BU$35,L37,$N$40:$BU$40,$BZ$3))","v":""},{"$f":"IF(L37=\"\",\"\",COUNTIFS($N$35:$BU$35,L37,$N$38:$BU$38,$CA$3))","v":""},{"$f":"IF(L37=\"\",\"\",COUNTIFS($N$35:$BU$35,L37,$N$38:$BU$38,$CB$3))","v":""},{"$f":"IF(L37=\"\",\"\",COUNTIFS($N$35:$BU$35,L37,$N$40:$BU$40,$CC$3))","v":""},{"$f":"IF(L37=\"\",\"\",SUMIF($N$35:$BU$35,L37,$N$40:$BU$40))","v":""},{"$f":"IF(L37=\"\",\"\",COUNTIFS($N$35:$BU$35,L37,$N$39:$BU$39,$CE$3))","v":""},{"$f":"IF(L37=\"\",\"\",COUNTIFS($N$35:$BU$35,L37,$N$40:$BU$40,$CF$3))","v":""},{"$f":"IF(L37=\"\",\"\",COUNTIFS($N$35:$BU$35,L37,$N$40:$BU$40,$CG$3))","v":""},{"$f":"IF(L37=\"\",\"\",COUNTIFS($N$35:$BU$35,L37,$N$40:$BU$40,$CH$3))","v":""},{"$f":"IF(L37=\"\",\"\",COUNTIFS($N$35:$BU$35,L37,$N$40:$BU$40,$CI$3))","v":""},{"$f":"IF(L37=\"\",\"\",COUNTIFS($N$35:$BU$35,L37,$N$40:$BU$40,$CJ$3))","v":""},{"$f":"IF(L37=\"\",\"\",COUNTIFS($N$35:$BU$35,L37,$N$40:$BU$40,$CK$3)+COUNTIFS($N$35:$BU$35,L37,$N$38:$BU$38,$CK$3))","v":""},{"$f":"IF(L37=\"\",\"\",COUNTIFS($N$35:$BU$35,L37,$N$40:$BU$40,$CL$3)+COUNTIFS($N$35:$BU$35,L37,$N$38:$BU$38,$CL$3))","v":""},{"$f":"IF(L37=\"\",\"\",COUNTIFS($N$35:$BU$35,L37,$N$40:$BU$40,$CM$3))","v":""},{"$f":"IF(L37=\"\",\"\",COUNTIFS($N$35:$BU$35,L37,$N$40:$BU$40,$CN$3))","v":""},{"$f":"IF(L37=\"\",\"\",COUNTIFS($N$35:$BU$35,L37,$N$36:$BU$36,$CO$3)+COUNTIFS($N$35:$BU$35,L37,$N$37:$BU$37,$CO$3))","v":""},null,"遊ゴロ",null,null,null,null,"G",{"$f":"IF(DA37=\"\",\"\",VLOOKUP(DA37,$C$84:$E$89,3,FALSE))","v":"RR"},3,"遊",6,"先",null,null,null,null,null,null,null,null,null,null,null,null,null,null,null,null,null,null,null,null,null,null,null,null,null,null,null,"","",{"$f":"IF(EC37=\"\",\"\",COUNTIFS($N$35:$BU$35,EC37,$N$40:$BU$40,\"RZ\"))","v":""},{"$f":"IF(ED37=\"\",\"\",COUNTIFS($N$35:$BU$35,EC37,$N$39:$BU$39,\"ZH\"))","v":""},null,null,null,null,null,null,null,"","",{"$f":"IF(G12=\"\",\"\",G12)","v":""},"RR","","","","","","","","","","","","","","","","","","","",null,null,null,null,null,null,null,null,null,null,null,null,null,null,null,null,null,null,null,null,null,null,null,null,null,null,null,null,null,null,null,null,null,null,null,null,null,null,null,null,null,null,null,null,null,null,null,null,null,null,null,null,null,null,null,null,null,null,null,null,null,null,"","",{"$f":"IF(HU37=\"\",\"\",COUNTIFS($N$35:$BU36,HV37,$N$36:$BU$36,$HW$3)+COUNTIFS($N$35:$BU$35,HV37,$N$37:$BU$37,$HW$3))","v":""},{"$f":"IF(HU37=\"\",\"\",COUNTIFS($N$35:$BU$35,HV37,$N$36:$BU$36,$HX$3)+COUNTIFS($N$35:$BU$35,HV37,$N$37:$BU$37,$HX$3))","v":""},{"$f":"IF(HU37=\"\",\"\",COUNTIFS($N$35:$BU$35,HV37,$N$36:$BU$36,$HY$3)+COUNTIFS($N$35:$BU$35,HV37,$N$37:$BU$37,$HY$3))","v":""},{"$f":"IF(HU37=\"\",\"\",COUNTIFS($N$35:$BU$35,HV37,$N$36:$BU$36,$HZ$3)+COUNTIFS($N$35:$BU$35,HV37,$N$37:$BU$37,$HZ$3))","v":""},{"$f":"IF(HU37=\"\",\"\",COUNTIFS($N$35:$BU$35,HV37,$N$36:$BU$36,$IA$3)+COUNTIFS($N$35:$BU$35,HV37,$N$37:$BU$37,$IA$3))","v":""},{"$f":"IF(HU37=\"\",\"\",COUNTIFS($N$35:$BU$35,HV37,$N$36:$BU$36,$IB$3)+COUNTIFS($N$35:$BU$35,HV37,$N$37:$BU$37,$IB$3))","v":""}]
[null,null,10,"関　　悠人","RR",10,null,null,null,{"$f":"IF(L38=\"\",\"\",VLOOKUP(L38,$C$29:$D$58,2,FALSE))","v":""},null,null,null,{"$f":"IFERROR(VLOOKUP(先攻T!F54,記号!$I$27:$J$30,2,FALSE),\"\")","v":""},{"$f":"IFERROR(VLOOKUP(先攻T!H53,記号!$L$5:$M$21,2,FALSE),\"\")","v":""},{"$f":"IFERROR(VLOOKUP(先攻T!H55,記号!$F$27:$G$37,2,FALSE),\"\")","v":""},{"$f":"IFERROR(VLOOKUP(先攻T!G53,記号!$I$5:$J$23,2,FALSE),\"\")","v":""},null,{"$f":"IFERROR(VLOOKUP(先攻T!R54,記号!$I$27:$J$30,2,FALSE),\"\")","v":"G"},{"$f":"IFERROR(VLOOKUP(先攻T!T53,記号!$L$5:$M$21,2,FALSE),\"\")","v":""},{"$f":"IFERROR(VLOOKUP(先攻T!T55,記号!$F$27:$G$37,2,FALSE),\"\")","v":""},{"$f":"IFERROR(VLOOKUP(先攻T!S53,記号!$I$5:$J$23,2,FALSE),\"\")","v":"S"},null,{"$f":"IFERROR(VLOOKUP(先攻T!AD54,記号!$I$27:$J$30,2,FALSE),\"\")","v":""},{"$f":"IFERROR(VLOOKUP(先攻T!AF53,記号!$L$5:$M$21,2,FALSE),\"\")","v":""},{"$f":"IFERROR(VLOOKUP(先攻T!AF55,記号!$F$27:$G$37,2,FALSE),\"\")","v":""},{"$f":"IFERROR(VLOOKUP(先攻T!AE53,記号!$I$5:$J$23,2,FALSE),\"\")","v":""},null,{"$f":"IFERROR(VLOOKUP(先攻T!AP54,記号!$I$27:$J$30,2,FALSE),\"\")","v":"G"},{"$f":"IFERROR(VLOOKUP(先攻T!AR53,記号!$L$5:$M$21,2,FALSE),\"\")","v":""},{"$f":"IFERROR(VLOOKUP(先攻T!AR55,記号!$F$27:$G$37,2,FALSE),\"\")","v":""},{"$f":"IFERROR(VLOOKUP(先攻T!AQ53,記号!$I$5:$J$23,2,FALSE),\"\")","v":""},null,{"$f":"IFERROR(VLOOKUP(先攻T!BB54,記号!$I$27:$J$30,2,FALSE),\"\")","v":""},{"$f":"IFERROR(VLOOKUP(先攻T!BD53,記号!$L$5:$M$21,2,FALSE),\"\")","v":""},{"$f":"IFERROR(VLOOKUP(先攻T!BD55,記号!$F$27:$G$37,2,FALSE),\"\")","v":""},{"$f":"IFERROR(VLOOKUP(先攻T!BC53,記号!$I$5:$J$23,2,FALSE),\"\")","v":""},null,{"$f":"IFERROR(VLOOKUP(先攻T!BN63,記号!$I$27:$J$30,2,FALSE),\"\")","v":""},{"$f":"IFERROR(VLOOKUP(先攻T!BP53,記号!$L$5:$M$21,2,FALSE),\"\")","v":""},{"$f":"IFERROR(VLOOKUP(先攻T!BP55,記号!$F$27:$G$37,2,FALSE),\"\")","v":""},{"$f":"IFERROR(VLOOKUP(先攻T!BO53,記号!$I$5:$J$23,2,FALSE),\"\")","v":""},null,{"$f":"IFERROR(VLOOKUP(先攻T!BZ54,記号!$I$27:$J$30,2,FALSE),\"\")","v":"G"},{"$f":"IFERROR(VLOOKUP(先攻T!CB53,記号!$L$5:$M$21,2,FALSE),\"\")","v":""},{"$f":"IFERROR(VLOOKUP(先攻T!CB55,記号!$F$27:$G$37,2,FALSE),\"\")","v":""},{"$f":"IFERROR(VLOOKUP(先攻T!CA53,記号!$I$5:$J$23,2,FALSE),\"\")","v":""},null,{"$f":"IFERROR(VLOOKUP(先攻T!CL54,記号!$I$27:$J$30,2,FALSE),\"\")","v":""},{"$f":"IFERROR(VLOOKUP(先攻T!CN53,記号!$L$5:$M$21,2,FALSE),\"\")","v":""},{"$f":"IFERROR(VLOOKUP(先攻T!CN55,記号!$F$27:$G$37,2,FALSE),\"\")","v":""},{"$f":"IFERROR(VLOOKUP(先攻T!CM53,記号!$I$5:$J$23,2,FALSE),\"\")","v":""},null,{"$f":"IFERROR(VLOOKUP(先攻T!CX54,記号!$I$27:$J$30,2,FALSE),\"\")","v":""},{"$f":"IFERROR(VLOOKUP(先攻T!CZ53,記号!$L$5:$M$21,2,FALSE),\"\")","v":""},{"$f":"IFERROR(VLOOKUP(先攻T!CZ55,記号!$F$27:$G$37,2,FALSE),\"\")","v":""},{"$f":"IFERROR(VLOOKUP(先攻T!CY53,記号!$I$5:$J$23,2,FALSE),\"\")","v":""},null,{"$f":"IFERROR(VLOOKUP(先攻T!DJ54,記号!$I$27:$J$30,2,FALSE),\"\")","v":""},{"$f":"IFERROR(VLOOKUP(先攻T!DL53,記号!$L$5:$M$21,2,FALSE),\"\")","v":""},{"$f":"IFERROR(VLOOKUP(先攻T!DL55,記号!$F$27:$G$37,2,FALSE),\"\")","v":""},{"$f":"IFERROR(VLOOKUP(先攻T!DK53,記号!$I$5:$J$23,2,FALSE),\"\")","v":""},null,{"$f":"IFERROR(VLOOKUP(先攻T!DV54,記号!$I$27:$J$30,2,FALSE),\"\")","v":""},{"$f":"IFERROR(VLOOKUP(先攻T!DX53,記号!$L$5:$M$21,2,FALSE),\"\")","v":""},{"$f":"IFERROR(VLOOKUP(先攻T!DX55,記号!$F$27:$G$37,2,FALSE),\"\")","v":""},{"$f":"IFERROR(VLOOKUP(先攻T!DW53,記号!$I$5:$J$23,2,FALSE),\"\")","v":""},null,{"$f":"IFERROR(VLOOKUP(先攻T!EH54,記号!$I$27:$J$30,2,FALSE),\"\")","v":""},{"$f":"IFERROR(VLOOKUP(先攻T!EJ53,記号!$L$5:$M$21,2,FALSE),\"\")","v":""},{"$f":"IFERROR(VLOOKUP(先攻T!EJ55,記号!$F$27:$G$37,2,FALSE),\"\")","v":""},{"$f":"IFERROR(VLOOKUP(先攻T!EI53,記号!$I$5:$J$23,2,FALSE),\"\")","v":""},null,{"$f":"IF(K38=\"\",\"\",VLOOKUP(K38,$C$84:$E$89,3,FALSE))","v":""},{"$f":"IF(L38=\"\",\"\",(BX38+CG38+CH38+CI38))","v":""},"",{"$f":"IF(L38=\"\",\"\",COUNTIFS($N$35:$BU$35,L38,$N$40:$BU$40,$BY$3))","v":""},{"$f":"IF(L38=\"\",\"\",COUNTIFS($N$35:$BU$35,L38,$N$40:$BU$40,$BZ$3))","v":""},{"$f":"IF(L38=\"\",\"\",COUNTIFS($N$35:$BU$35,L38,$N$38:$BU$38,$CA$3))","v":""},{"$f":"IF(L38=\"\",\"\",COUNTIFS($N$35:$BU$35,L38,$N$38:$BU$38,$CB$3))","v":""},{"$f":"IF(L38=\"\",\"\",COUNTIFS($N$35:$BU$35,L38,$N$40:$BU$40,$CC$3))","v":""},{"$f":"IF(L38=\"\",\"\",SUMIF($N$35:$BU$35,L38,$N$40:$BU$40))","v":""},{"$f":"IF(L38=\"\",\"\",COUNTIFS($N$35:$BU$35,L38,$N$39:$BU$39,$CE$3))","v":""},{"$f":"IF(L38=\"\",\"\",COUNTIFS($N$35:$BU$35,L38,$N$40:$BU$40,$CF$3))","v":""},{"$f":"IF(L38=\"\",\"\",COUNTIFS($N$35:$BU$35,L38,$N$40:$BU$40,$CG$3))","v":""},{"$f":"IF(L38=\"\",\"\",COUNTIFS($N$35:$BU$35,L38,$N$40:$BU$40,$CH$3))","v":""},{"$f":"IF(L38=\"\",\"\",COUNTIFS($N$35:$BU$35,L38,$N$40:$BU$40,$CI$3))","v":""},{"$f":"IF(L38=\"\",\"\",COUNTIFS($N$35:$BU$35,L38,$N$40:$BU$40,$CJ$3))","v":""},{"$f":"IF(L38=\"\",\"\",COUNTIFS($N$35:$BU$35,L38,$N$40:$BU$40,$CK$3)+COUNTIFS($N$35:$BU$35,L38,$N$38:$BU$38,$CK$3))","v":""},{"$f":"IF(L38=\"\",\"\",COUNTIFS($N$35:$BU$35,L38,$N$40:$BU$40,$CL$3)+COUNTIFS($N$35:$BU$35,L38,$N$38:$BU$38,$CL$3))","v":""},{"$f":"IF(L38=\"\",\"\",COUNTIFS($N$35:$BU$35,L38,$N$40:$BU$40,$CM$3))","v":""},{"$f":"IF(L38=\"\",\"\",COUNTIFS($N$35:$BU$35,L38,$N$40:$BU$40,$CN$3))","v":""},{"$f":"IF(L38=\"\",\"\",COUNTIFS($N$35:$BU$35,L38,$N$36:$BU$36,$CO$3)+COUNTIFS($N$35:$BU$35,L38,$N$37:$BU$37,$CO$3))","v":""},null,"ゴロ中安",null,null,null,null,"G","RR",3,"中",8,"先",null,null,null,null,null,null,null,null,null,null,null,null,null,null,null,null,null,null,null,null,null,null,null,null,null,null,null,"","",{"$f":"IF(EC38=\"\",\"\",COUNTIFS($N$35:$BU$35,EC38,$N$40:$BU$40,\"RZ\"))","v":""},{"$f":"IF(ED38=\"\",\"\",COUNTIFS($N$35:$BU$35,EC38,$N$39:$BU$39,\"ZH\"))","v":""},null,null,null,null,null,null,null,"","",{"$f":"IF(G12=\"\",\"\",G12)","v":""},"LL","","","","","","","","","","","","","","","","","","","",null,null,null,null,null,null,null,null,null,null,null,null,null,null,null,null,null,null,null,null,null,null,null,null,null,null,null,null,null,null,null,null,null,null,null,null,null,null,null,null,null,null,null,null,null,null,null,null,null,null,null,null,null,null,null,null,null,null,null,null,null,null,"","",{"$f":"IF(HU38=\"\",\"\",COUNTIFS($N$35:$BU37,HV38,$N$36:$BU$36,$HW$3)+COUNTIFS($N$35:$BU$35,HV38,$N$37:$BU$37,$HW$3))","v":""},"","","","",""]
[null,null,11,"嶋崎　響己","RL",11,null,null,null,{"$f":"IF(L39=\"\",\"\",VLOOKUP(L39,$C$29:$D$58,2,FALSE))","v":""},null,null,null,{"$f":"IF(N35=\"\",\"\",IF(N35=L36+0.2,\"2\",IF(N35=L36+0.3,\"3\",IF(N35=L36+0.4,\"4\",IF(N35=L36+0.5,\"5\",\"先\")))))","v":"先"},{"$f":"IFERROR(VLOOKUP(先攻T!I55,記号!$F$27:$G$37,2,FALSE),\"\")","v":""},{"$f":"IFERROR(VLOOKUP(先攻T!J53,記号!$R$5:$S$10,2,FALSE),\"\")","v":""},{"$f":"IFERROR(VLOOKUP(先攻T!G55,記号!$F$27:$G$37,2,FALSE),\"\")","v":""},{"$f":"IFERROR(VLOOKUP(先攻T!L53,記号!$U$12:$V$13,2,FALSE),\"\")","v":""},{"$f":"IF(S35=\"\",\"\",IF(S35=L36+0.2,\"2\",IF(S35=L36+0.3,\"3\",IF(S35=L36+0.4,\"4\",IF(S35=L36+0.5,\"5\",\"先\")))))","v":"先"},{"$f":"IFERROR(VLOOKUP(先攻T!U55,記号!$F$27:$G$37,2,FALSE),\"\")","v":""},{"$f":"IFERROR(VLOOKUP(先攻T!V53,記号!$R$5:$S$10,2,FALSE),\"\")","v":"L"},{"$f":"IFERROR(VLOOKUP(先攻T!S55,記号!$F$27:$G$37,2,FALSE),\"\")","v":""},{"$f":"IFERROR(VLOOKUP(先攻T!X53,記号!$U$12:$V$13,2,FALSE),\"\")","v":""},{"$f":"IF(X35=\"\",\"\",IF(X35=L36+0.2,\"2\",IF(X35=L36+0.3,\"3\",IF(X35=L36+0.4,\"4\",IF(X35=L36+0.5,\"5\",\"先\")))))","v":"先"},{"$f":"IFERROR(VLOOKUP(先攻T!AG55,記号!$F$27:$G$37,2,FALSE),\"\")","v":""},{"$f":"IFERROR(VLOOKUP(先攻T!AH53,記号!$R$5:$S$10,2,FALSE),\"\")","v":""},{"$f":"IFERROR(VLOOKUP(先攻T!AE55,記号!$F$27:$G$37,2,FALSE),\"\")","v":""},{"$f":"IFERROR(VLOOKUP(先攻T!AJ53,記号!$U$12:$V$13,2,FALSE),\"\")","v":""},{"$f":"IF(AC35=\"\",\"\",IF(AC35=L36+0.2,\"2\",IF(AC35=L36+0.3,\"3\",IF(AC35=L36+0.4,\"4\",IF(AC35=L36+0.5,\"5\",\"先\")))))","v":"先"},{"$f":"IFERROR(VLOOKUP(先攻T!AS55,記号!$F$27:$G$37,2,FALSE),\"\")","v":""},{"$f":"IFERROR(VLOOKUP(先攻T!AT53,記号!$R$5:$S$10,2,FALSE),\"\")","v":"Ⅱ"},{"$f":"IFERROR(VLOOKUP(先攻T!AQ55,記号!$F$27:$G$37,2,FALSE),\"\")","v":""},{"$f":"IFERROR(VLOOKUP(先攻T!AV53,記号!$U$12:$V$13,2,FALSE),\"\")","v":""},{"$f":"IF(AH35=\"\",\"\",IF(AH35=L36+0.2,\"2\",IF(AH35=L36+0.3,\"3\",IF(AH35=L36+0.4,\"4\",IF(AH35=L36+0.5,\"5\",\"先\")))))","v":"先"},{"$f":"IFERROR(VLOOKUP(先攻T!BE55,記号!$F$27:$G$37,2,FALSE),\"\")","v":""},{"$f":"IFERROR(VLOOKUP(先攻T!BF53,記号!$R$5:$S$10,2,FALSE),\"\")","v":""},{"$f":"IFERROR(VLOOKUP(先攻T!BC55,記号!$F$27:$G$37,2,FALSE),\"\")","v":""},{"$f":"IFERROR(VLOOKUP(先攻T!BH53,記号!$U$12:$V$13,2,FALSE),\"\")","v":""},{"$f":"IF(AM35=\"\",\"\",IF(AM35=L36+0.2,\"2\",IF(AM35=L36+0.3,\"3\",IF(AM35=L36+0.4,\"4\",IF(AM35=L36+0.5,\"5\",\"先\")))))","v":"先"},{"$f":"IFERROR(VLOOKUP(先攻T!BQ55,記号!$F$27:$G$37,2,FALSE),\"\")","v":""},{"$f":"IFERROR(VLOOKUP(先攻T!BR53,記号!$R$5:$S$10,2,FALSE),\"\")","v":""},{"$f":"IFERROR(VLOOKUP(先攻T!BO55,記号!$F$27:$G$37,2,FALSE),\"\")","v":""},{"$f":"IFERROR(VLOOKUP(先攻T!BT53,記号!$U$12:$V$13,2,FALSE),\"\")","v":""},{"$f":"IF(AR35=\"\",\"\",IF(AR35=L36+0.2,\"2\",IF(AR35=L36+0.3,\"3\",IF(AR35=L36+0.4,\"4\",IF(AR35=L36+0.5,\"5\",\"先\")))))","v":"先"},{"$f":"IFERROR(VLOOKUP(先攻T!CC55,記号!$F$27:$G$37,2,FALSE),\"\")","v":""},{"$f":"IFERROR(VLOOKUP(先攻T!CD53,記号!$R$5:$S$10,2,FALSE),\"\")","v":"○"},{"$f":"IFERROR(VLOOKUP(先攻T!CA55,記号!$F$27:$G$37,2,FALSE),\"\")","v":""},{"$f":"IFERROR(VLOOKUP(先攻T!CF53,記号!$U$12:$V$13,2,FALSE),\"\")","v":""},{"$f":"IF(AW35=\"\",\"\",IF(AW35=L36+0.2,\"2\",IF(AW35=L36+0.3,\"3\",IF(AW35=L36+0.4,\"4\",IF(AW35=L36+0.5,\"5\",\"先\")))))","v":"先"},{"$f":"IFERROR(VLOOKUP(先攻T!CO55,記号!$F$27:$G$37,2,FALSE),\"\")","v":""},{"$f":"IFERROR(VLOOKUP(先攻T!CP53,記号!$R$5:$S$10,2,FALSE),\"\")","v":""},{"$f":"IFERROR(VLOOKUP(先攻T!CM55,記号!$F$27:$G$37,2,FALSE),\"\")","v":""},{"$f":"IFERROR(VLOOKUP(先攻T!CR53,記号!$U$12:$V$13,2,FALSE),\"\")","v":""},{"$f":"IF(BB35=\"\",\"\",IF(BB35=L36+0.2,\"2\",IF(BB35=L36+0.3,\"3\",IF(BB35=L36+0.4,\"4\",IF(BB35=L36+0.5,\"5\",\"先\")))))","v":"先"},{"$f":"IFERROR(VLOOKUP(先攻T!DA55,記号!$F$27:$G$37,2,FALSE),\"\")","v":""},{"$f":"IFERROR(VLOOKUP(先攻T!DB53,記号!$R$5:$S$10,2,FALSE),\"\")","v":"Ⅱ"},{"$f":"IFERROR(VLOOKUP(先攻T!CY55,記号!$F$27:$G$37,2,FALSE),\"\")","v":""},{"$f":"IFERROR(VLOOKUP(先攻T!DD53,記号!$U$12:$V$13,2,FALSE),\"\")","v":""},{"$f":"IF(BG35=\"\",\"\",IF(BG35=L36+0.2,\"2\",IF(BG35=L36+0.3,\"3\",IF(BG35=L36+0.4,\"4\",IF(BG35=L36+0.5,\"5\",\"先\")))))","v":"先"},{"$f":"IFERROR(VLOOKUP(先攻T!DM55,記号!$F$27:$G$37,2,FALSE),\"\")","v":""},{"$f":"IFERROR(VLOOKUP(先攻T!DN53,記号!$R$5:$S$10,2,FALSE),\"\")","v":""},{"$f":"IFERROR(VLOOKUP(先攻T!DK55,記号!$F$27:$G$37,2,FALSE),\"\")","v":""},{"$f":"IFERROR(VLOOKUP(先攻T!DP53,記号!$U$12:$V$13,2,FALSE),\"\")","v":""},{"$f":"IF(BL35=\"\",\"\",IF(BL35=L36+0.2,\"2\",IF(BL35=L36+0.3,\"3\",IF(BL35=L36+0.4,\"4\",IF(BL35=L36+0.5,\"5\",\"先\")))))","v":"先"},{"$f":"IFERROR(VLOOKUP(先攻T!DY55,記号!$F$27:$G$37,2,FALSE),\"\")","v":""},{"$f":"IFERROR(VLOOKUP(先攻T!DZ53,記号!$R$5:$S$10,2,FALSE),\"\")","v":""},{"$f":"IFERROR(VLOOKUP(先攻T!DW55,記号!$F$27:$G$37,2,FALSE),\"\")","v":""},{"$f":"IFERROR(VLOOKUP(先攻T!EB53,記号!$U$12:$V$13,2,FALSE),\"\")","v":""},{"$f":"IF(BQ35=\"\",\"\",IF(BQ35=L36+0.2,\"2\",IF(BQ35=L36+0.3,\"3\",IF(BQ35=L36+0.4,\"4\",IF(BQ35=L36+0.5,\"5\",\"先\")))))","v":"先"},{"$f":"IFERROR(VLOOKUP(先攻T!EK55,記号!$F$27:$G$37,2,FALSE),\"\")","v":""},{"$f":"IFERROR(VLOOKUP(先攻T!EL53,記号!$R$5:$S$10,2,FALSE),\"\")","v":""},{"$f":"IFERROR(VLOOKUP(先攻T!EI55,記号!$F$27:$G$37,2,FALSE),\"\")","v":""},{"$f":"IFERROR(VLOOKUP(先攻T!EN53,記号!$U$12:$V$13,2,FALSE),\"\")","v":""},{"$f":"IF(K39=\"\",\"\",VLOOKUP(K39,$C$84:$E$89,3,FALSE))","v":""},{"$f":"IF(L39=\"\",\"\",(BX39+CG39+CH39+CI39))","v":""},"",{"$f":"IF(L39=\"\",\"\",COUNTIFS($N$35:$BU$35,L39,$N$40:$BU$40,$BY$3))","v":""},{"$f":"IF(L39=\"\",\"\",COUNTIFS($N$35:$BU$35,L39,$N$40:$BU$40,$BZ$3))","v":""},{"$f":"IF(L39=\"\",\"\",COUNTIFS($N$35:$BU$35,L39,$N$38:$BU$38,$CA$3))","v":""},{"$f":"IF(L39=\"\",\"\",COUNTIFS($N$35:$BU$35,L39,$N$38:$BU$38,$CB$3))","v":""},{"$f":"IF(L39=\"\",\"\",COUNTIFS($N$35:$BU$35,L39,$N$40:$BU$40,$CC$3))","v":""},{"$f":"IF(L39=\"\",\"\",SUMIF($N$35:$BU$35,L39,$N$40:$BU$40))","v":""},{"$f":"IF(L39=\"\",\"\",COUNTIFS($N$35:$BU$35,L39,$N$39:$BU$39,$CE$3))","v":""},{"$f":"IF(L39=\"\",\"\",COUNTIFS($N$35:$BU$35,L39,$N$40:$BU$40,$CF$3))","v":""},{"$f":"IF(L39=\"\",\"\",COUNTIFS($N$35:$BU$35,L39,$N$40:$BU$40,$CG$3))","v":""},{"$f":"IF(L39=\"\",\"\",COUNTIFS($N$35:$BU$35,L39,$N$40:$BU$40,$CH$3))","v":""},{"$f":"IF(L39=\"\",\"\",COUNTIFS($N$35:$BU$35,L39,$N$40:$BU$40,$CI$3))","v":""},{"$f":"IF(L39=\"\",\"\",COUNTIFS($N$35:$BU$35,L39,$N$40:$BU$40,$CJ$3))","v":""},{"$f":"IF(L39=\"\",\"\",COUNTIFS($N$35:$BU$35,L39,$N$40:$BU$40,$CK$3)+COUNTIFS($N$35:$BU$35,L39,$N$38:$BU$38,$CK$3))","v":""},{"$f":"IF(L39=\"\",\"\",COUNTIFS($N$35:$BU$35,L39,$N$40:$BU$40,$CL$3)+COUNTIFS($N$35:$BU$35,L39,$N$38:$BU$38,$CL$3))","v":""},{"$f":"IF(L39=\"\",\"\",COUNTIFS($N$35:$BU$35,L39,$N$40:$BU$40,$CM$3))","v":""},{"$f":"IF(L39=\"\",\"\",COUNTIFS($N$35:$BU$35,L39,$N$40:$BU$40,$CN$3))","v":""},{"$f":"IF(L39=\"\",\"\",COUNTIFS($N$35:$BU$35,L39,$N$36:$BU$36,$CO$3)+COUNTIFS($N$35:$BU$35,L39,$N$37:$BU$37,$CO$3))","v":""},null,"空三振",null,null,null,null,null,"RR",3,null,"","先",null,null,null,null,null,null,null,null,null,null,null,null,null,null,null,null,null,null,null,null,null,null,null,null,null,null,null,"","",{"$f":"IF(EC39=\"\",\"\",COUNTIFS($N$35:$BU$35,EC39,$N$40:$BU$40,\"RZ\"))","v":""},{"$f":"IF(ED39=\"\",\"\",COUNTIFS($N$35:$BU$35,EC39,$N$39:$BU$39,\"ZH\"))","v":""},null,null,null,null,null,null,null,"","",{"$f":"IF(G13=\"\",\"\",G13)","v":""},"RR","","","","","","","","","","","","","","","","","","","",null,null,null,null,null,null,null,null,null,null,null,null,null,null,null,null,null,null,null,null,null,null,null,null,null,null,null,null,null,null,null,null,null,null,null,null,null,null,null,null,null,null,null,null,null,null,null,null,null,null,null,null,null,null,null,null,null,null,null,null,null,null,"","",{"$f":"IF(HU39=\"\",\"\",COUNTIFS($N$35:$BU38,HV39,$N$36:$BU$36,$HW$3)+COUNTIFS($N$35:$BU$35,HV39,$N$37:$BU$37,$HW$3))","v":""},"","","","",""]
[null,null,12,"沢石　和也","RR",12,null,null,null,{"$f":"IF(L40=\"\",\"\",VLOOKUP(L40,$C$29:$D$58,2,FALSE))","v":""},null,null,null,{"$f":"IFERROR(VLOOKUP(先攻T!K53,記号!$R$15:$S$20,2,FALSE),\"\")","v":""},{"$f":"IFERROR(VLOOKUP(先攻T!I53,記号!$O$5:$P$21,2,FALSE),\"\")","v":""},{"$f":"IFERROR(VLOOKUP(先攻T!F55,記号!$F$27:$G$37,2,FALSE),\"\")","v":""},{"$f":"IFERROR(VLOOKUP(先攻T!F53,記号!$F$5:$G$21,2,FALSE),\"\")","v":""},{"$f":"IFERROR(VLOOKUP(先攻T!L54,記号!$U$5:$V$6,2,FALSE),\"\")","v":""},{"$f":"IFERROR(VLOOKUP(先攻T!W53,記号!$R$15:$S$20,2,FALSE),\"\")","v":""},{"$f":"IFERROR(VLOOKUP(先攻T!U53,記号!$O$5:$P$21,2,FALSE),\"\")","v":""},{"$f":"IFERROR(VLOOKUP(先攻T!R55,記号!$F$27:$G$37,2,FALSE),\"\")","v":"7'"},{"$f":"IFERROR(VLOOKUP(先攻T!R53,記号!$F$5:$G$21,2,FALSE),\"\")","v":"H"},{"$f":"IFERROR(VLOOKUP(先攻T!X54,記号!$U$5:$V$6,2,FALSE),\"\")","v":""},{"$f":"IFERROR(VLOOKUP(先攻T!AI53,記号!$R$15:$S$20,2,FALSE),\"\")","v":""},{"$f":"IFERROR(VLOOKUP(先攻T!AG53,記号!$O$5:$P$21,2,FALSE),\"\")","v":""},{"$f":"IFERROR(VLOOKUP(先攻T!AD55,記号!$F$27:$G$37,2,FALSE),\"\")","v":""},{"$f":"IFERROR(VLOOKUP(先攻T!AD53,記号!$F$5:$G$21,2,FALSE),\"\")","v":""},{"$f":"IFERROR(VLOOKUP(先攻T!AJ54,記号!$U$5:$V$6,2,FALSE),\"\")","v":""},{"$f":"IFERROR(VLOOKUP(先攻T!AU53,記号!$R$15:$S$20,2,FALSE),\"\")","v":""},{"$f":"IFERROR(VLOOKUP(先攻T!AS53,記号!$O$5:$P$21,2,FALSE),\"\")","v":""},{"$f":"IFERROR(VLOOKUP(先攻T!AP55,記号!$F$27:$G$37,2,FALSE),\"\")","v":"6'"},{"$f":"IFERROR(VLOOKUP(先攻T!AP53,記号!$F$5:$G$21,2,FALSE),\"\")","v":"O"},{"$f":"IFERROR(VLOOKUP(先攻T!AV54,記号!$U$5:$V$6,2,FALSE),\"\")","v":"RZ"},{"$f":"IFERROR(VLOOKUP(先攻T!BG53,記号!$R$15:$S$20,2,FALSE),\"\")","v":""},{"$f":"IFERROR(VLOOKUP(先攻T!BE53,記号!$O$5:$P$21,2,FALSE),\"\")","v":""},{"$f":"IFERROR(VLOOKUP(先攻T!BB55,記号!$F$27:$G$37,2,FALSE),\"\")","v":""},{"$f":"IFERROR(VLOOKUP(先攻T!BB53,記号!$F$5:$G$21,2,FALSE),\"\")","v":""},{"$f":"IFERROR(VLOOKUP(先攻T!BH54,記号!$U$5:$V$6,2,FALSE),\"\")","v":""},{"$f":"IFERROR(VLOOKUP(先攻T!BS38,記号!$R$15:$S$20,2,FALSE),\"\")","v":""},{"$f":"IFERROR(VLOOKUP(先攻T!BQ53,記号!$O$5:$P$21,2,FALSE),\"\")","v":""},{"$f":"IFERROR(VLOOKUP(先攻T!BN55,記号!$F$27:$G$37,2,FALSE),\"\")","v":""},{"$f":"IFERROR(VLOOKUP(先攻T!BN53,記号!$F$5:$G$21,2,FALSE),\"\")","v":""},{"$f":"IFERROR(VLOOKUP(先攻T!BT54,記号!$U$5:$V$6,2,FALSE),\"\")","v":""},{"$f":"IFERROR(VLOOKUP(先攻T!CE53,記号!$R$15:$S$20,2,FALSE),\"\")","v":""},{"$f":"IFERROR(VLOOKUP(先攻T!CC53,記号!$O$5:$P$21,2,FALSE),\"\")","v":"⑧"},{"$f":"IFERROR(VLOOKUP(先攻T!BZ55,記号!$F$27:$G$37,2,FALSE),\"\")","v":"8'"},{"$f":"IFERROR(VLOOKUP(先攻T!BZ53,記号!$F$5:$G$21,2,FALSE),\"\")","v":"H"},{"$f":"IFERROR(VLOOKUP(先攻T!CF54,記号!$U$5:$V$6,2,FALSE),\"\")","v":""},{"$f":"IFERROR(VLOOKUP(先攻T!CQ53,記号!$R$15:$S$20,2,FALSE),\"\")","v":""},{"$f":"IFERROR(VLOOKUP(先攻T!CO53,記号!$O$5:$P$21,2,FALSE),\"\")","v":""},{"$f":"IFERROR(VLOOKUP(先攻T!CL55,記号!$F$27:$G$37,2,FALSE),\"\")","v":""},{"$f":"IFERROR(VLOOKUP(先攻T!CL53,記号!$F$5:$G$21,2,FALSE),\"\")","v":""},{"$f":"IFERROR(VLOOKUP(先攻T!CR54,記号!$U$5:$V$6,2,FALSE),\"\")","v":""},{"$f":"IFERROR(VLOOKUP(先攻T!DC53,記号!$R$15:$S$20,2,FALSE),\"\")","v":""},{"$f":"IFERROR(VLOOKUP(先攻T!DA53,記号!$O$5:$P$21,2,FALSE),\"\")","v":""},{"$f":"IFERROR(VLOOKUP(先攻T!CX55,記号!$F$27:$G$37,2,FALSE),\"\")","v":""},{"$f":"IFERROR(VLOOKUP(先攻T!CX53,記号!$F$5:$G$21,2,FALSE),\"\")","v":"K'"},{"$f":"IFERROR(VLOOKUP(先攻T!DD54,記号!$U$5:$V$6,2,FALSE),\"\")","v":""},{"$f":"IFERROR(VLOOKUP(先攻T!DO53,記号!$R$15:$S$20,2,FALSE),\"\")","v":""},{"$f":"IFERROR(VLOOKUP(先攻T!DM53,記号!$O$5:$P$21,2,FALSE),\"\")","v":""},{"$f":"IFERROR(VLOOKUP(先攻T!DJ55,記号!$F$27:$G$37,2,FALSE),\"\")","v":""},{"$f":"IFERROR(VLOOKUP(先攻T!DJ53,記号!$F$5:$G$21,2,FALSE),\"\")","v":""},{"$f":"IFERROR(VLOOKUP(先攻T!DP54,記号!$U$5:$V$6,2,FALSE),\"\")","v":""},{"$f":"IFERROR(VLOOKUP(先攻T!EA53,記号!$R$15:$S$20,2,FALSE),\"\")","v":""},{"$f":"IFERROR(VLOOKUP(先攻T!DY53,記号!$O$5:$P$21,2,FALSE),\"\")","v":""},{"$f":"IFERROR(VLOOKUP(先攻T!DV55,記号!$F$27:$G$37,2,FALSE),\"\")","v":""},{"$f":"IFERROR(VLOOKUP(先攻T!DV53,記号!$F$5:$G$21,2,FALSE),\"\")","v":""},{"$f":"IFERROR(VLOOKUP(先攻T!EB54,記号!$U$5:$V$6,2,FALSE),\"\")","v":""},{"$f":"IFERROR(VLOOKUP(先攻T!EM53,記号!$R$15:$S$20,2,FALSE),\"\")","v":""},{"$f":"IFERROR(VLOOKUP(先攻T!EK53,記号!$O$5:$P$21,2,FALSE),\"\")","v":""},{"$f":"IFERROR(VLOOKUP(先攻T!EH55,記号!$F$27:$G$37,2,FALSE),\"\")","v":""},{"$f":"IFERROR(VLOOKUP(先攻T!EH53,記号!$F$5:$G$21,2,FALSE),\"\")","v":""},{"$f":"IFERROR(VLOOKUP(先攻T!EN54,記号!$U$5:$V$6,2,FALSE),\"\")","v":""},{"$f":"IF(K40=\"\",\"\",VLOOKUP(K40,$C$84:$E$89,3,FALSE))","v":""},{"$f":"IF(L40=\"\",\"\",(BX40+CG40+CH40+CI40))","v":""},"",{"$f":"IF(L40=\"\",\"\",COUNTIFS($N$35:$BU$35,L40,$N$40:$BU$40,$BY$3))","v":""},{"$f":"IF(L40=\"\",\"\",COUNTIFS($N$35:$BU$35,L40,$N$40:$BU$40,$BZ$3))","v":""},{"$f":"IF(L40=\"\",\"\",COUNTIFS($N$35:$BU$35,L40,$N$38:$BU$38,$CA$3))","v":""},{"$f":"IF(L40=\"\",\"\",COUNTIFS($N$35:$BU$35,L40,$N$38:$BU$38,$CB$3))","v":""},{"$f":"IF(L40=\"\",\"\",COUNTIFS($N$35:$BU$35,L40,$N$40:$BU$40,$CC$3))","v":""},{"$f":"IF(L40=\"\",\"\",SUMIF($N$35:$BU$35,L40,$N$40:$BU$40))","v":""},{"$f":"IF(L40=\"\",\"\",COUNTIFS($N$35:$BU$35,L40,$N$39:$BU$39,$CE$3))","v":""},{"$f":"IF(L40=\"\",\"\",COUNTIFS($N$35:$BU$35,L40,$N$40:$BU$40,$CF$3))","v":""},{"$f":"IF(L40=\"\",\"\",COUNTIFS($N$35:$BU$35,L40,$N$40:$BU$40,$CG$3))","v":""},{"$f":"IF(L40=\"\",\"\",COUNTIFS($N$35:$BU$35,L40,$N$40:$BU$40,$CH$3))","v":""},{"$f":"IF(L40=\"\",\"\",COUNTIFS($N$35:$BU$35,L40,$N$40:$BU$40,$CI$3))","v":""},{"$f":"IF(L40=\"\",\"\",COUNTIFS($N$35:$BU$35,L40,$N$40:$BU$40,$CJ$3))","v":""},{"$f":"IF(L40=\"\",\"\",COUNTIFS($N$35:$BU$35,L40,$N$40:$BU$40,$CK$3)+COUNTIFS($N$35:$BU$35,L40,$N$38:$BU$38,$CK$3))","v":""},{"$f":"IF(L40=\"\",\"\",COUNTIFS($N$35:$BU$35,L40,$N$40:$BU$40,$CL$3)+COUNTIFS($N$35:$BU$35,L40,$N$38:$BU$38,$CL$3))","v":""},{"$f":"IF(L40=\"\",\"\",COUNTIFS($N$35:$BU$35,L40,$N$40:$BU$40,$CM$3))","v":""},{"$f":"IF(L40=\"\",\"\",COUNTIFS($N$35:$BU$35,L40,$N$40:$BU$40,$CN$3))","v":""},{"$f":"IF(L40=\"\",\"\",COUNTIFS($N$35:$BU$35,L40,$N$36:$BU$36,$CO$3)+COUNTIFS($N$35:$BU$35,L40,$N$37:$BU$37,$CO$3))","v":""},null,null,null,null,null,null,null,"",null,null,"",null,null,null,null,null,"投手別打球振り分け",null,null,null,null,null,null,null,null,null,null,null,null,null,null,null,null,null,null,null,null,null,null,"","",{"$f":"IF(EC40=\"\",\"\",COUNTIFS($N$35:$BU$35,EC40,$N$40:$BU$40,\"RZ\"))","v":""},{"$f":"IF(ED40=\"\",\"\",COUNTIFS($N$35:$BU$35,EC40,$N$39:$BU$39,\"ZH\"))","v":""},null,null,null,null,null,null,null,"","",{"$f":"IF(G13=\"\",\"\",G13)","v":""},"LL","","","","","","","","","","","","","","","","","","","",null,null,null,null,null,null,null,null,null,null,null,null,null,null,null,null,null,null,null,null,null,null,null,null,null,null,null,null,null,null,null,null,null,null,null,null,null,null,null,null,null,null,null,null,null,null,null,null,null,null,null,null,null,null,null,null,null,null,null,null,null,null,"","",{"$f":"IF(HU40=\"\",\"\",COUNTIFS($N$35:$BU39,HV40,$N$36:$BU$36,$HW$3)+COUNTIFS($N$35:$BU$35,HV40,$N$37:$BU$37,$HW$3))","v":""},"","","","",""]
[null,null,13,"小松　雅弥","RR",13,null,null,null,null,null,null,"打者背番号を入力➡",{"$f":"先攻T!E56","v":9},{"$f":"N41","v":9},{"$f":"N41","v":9},{"$f":"N41","v":9},{"$f":"N41","v":9},{"$f":"先攻T!Q56","v":9},{"$f":"S41","v":9},{"$f":"S41","v":9},{"$f":"S41","v":9},{"$f":"S41","v":9},{"$f":"先攻T!AC56","v":9},{"$f":"X41","v":9},{"$f":"X41","v":9},{"$f":"X41","v":9},{"$f":"X41","v":9},{"$f":"先攻T!AO56","v":9},{"$f":"AC41","v":9},{"$f":"AC41","v":9},{"$f":"AC41","v":9},{"$f":"AC41","v":9},{"$f":"先攻T!BA56","v":9},{"$f":"AH41","v":9},{"$f":"AH41","v":9},{"$f":"AH41","v":9},{"$f":"AH41","v":9},{"$f":"先攻T!BM56","v":9},{"$f":"AM41","v":9},{"$f":"AM41","v":9},{"$f":"AM41","v":9},{"$f":"AM41","v":9},{"$f":"先攻T!BY56","v":9},{"$f":"AR41","v":9},{"$f":"AR41","v":9},{"$f":"AR41","v":9},{"$f":"AR41","v":9},{"$f":"先攻T!CK56","v":9},{"$f":"AW41","v":9},{"$f":"AW41","v":9},{"$f":"AW41","v":9},{"$f":"AW41","v":9},{"$f":"先攻T!CW56","v":9},{"$f":"BB41","v":9},{"$f":"BB41","v":9},{"$f":"BB41","v":9},{"$f":"BB41","v":9},{"$f":"先攻T!DI56","v":9},{"$f":"BG41","v":9},{"$f":"BG41","v":9},{"$f":"BG41","v":9},{"$f":"BG41","v":9},{"$f":"先攻T!DU56","v":9},{"$f":"BL41","v":9},{"$f":"BL41","v":9},{"$f":"BL41","v":9},{"$f":"BL41","v":9},{"$f":"先攻T!EG56","v":9},{"$f":"BQ41","v":9},{"$f":"BQ41","v":9},{"$f":"BQ41","v":9},{"$f":"BQ41","v":9},null,null,null,null,null,null,null,null,null,null,null,null,null,null,null,null,null,null,null,null,null,null,null,null,null,null,null,null,null,null,null,null,null,null,null,"T番","選手名","背番","投順","ゴロ","フライ","計",null,null,null,null,null,null,null,null,null,null,null,null,null,null,null,null,null,null,null,null,null,null,null,null,null,null,null,null,null,{"$f":"IF(O2=\"\",\"\",O2)","v":"金足農業"},"計","RR",{"$f":"IF($EO$41=\"\",\"\",SUMIF($EQ$5:$EQ$40,$EQ$41,ER5:ER40))","v":34},{"$f":"IF($EO$41=\"\",\"\",SUMIF($EQ$5:$EQ$40,$EQ$41,ES5:ES40))","v":28},15,4,1,0,0,2,2,7,3,0,3,1,1,1,0,0,112,"←←",null,{"$f":"FJ41","v":112}]
[null,null,14,"佐々木　大和","RR",14,null,null,{"$f":"IF(C11=\"\",\"\",C11)","v":"右"},{"$f":"IF(D11=\"\",\"\",D11)","v":"菊池　彪吾"},{"$f":"IF(J42=\"\",\"\",\"先\")","v":"先"},{"$f":"IF(J42=\"\",\"\",F11)","v":9},"⑦",{"$f":"IFERROR(VLOOKUP(先攻T!F58,記号!$B$6:$C$10,2,FALSE),\"\")","v":""},{"$f":"IFERROR(VLOOKUP(先攻T!G58,記号!$B$6:$C$10,2,FALSE),\"\")","v":""},{"$f":"IFERROR(VLOOKUP(先攻T!H58,記号!$B$6:$C$10,2,FALSE),\"\")","v":""},{"$f":"IFERROR(VLOOKUP(先攻T!I58,記号!$B$6:$C$10,2,FALSE),\"\")","v":""},{"$f":"IFERROR(VLOOKUP(先攻T!J58,記号!$B$6:$C$10,2,FALSE),\"\")","v":""},{"$f":"IFERROR(VLOOKUP(先攻T!R58,記号!$B$6:$C$10,2,FALSE),\"\")","v":"・〇"},{"$f":"IFERROR(VLOOKUP(先攻T!S58,記号!$B$6:$C$10,2,FALSE),\"\")","v":"・△"},{"$f":"IFERROR(VLOOKUP(先攻T!T58,記号!$B$6:$C$10,2,FALSE),\"\")","v":"・●"},{"$f":"IFERROR(VLOOKUP(先攻T!U58,記号!$B$6:$C$10,2,FALSE),\"\")","v":"・●"},{"$f":"IFERROR(VLOOKUP(先攻T!V58,記号!$B$6:$C$10,2,FALSE),\"\")","v":"・●"},{"$f":"IFERROR(VLOOKUP(先攻T!AD58,記号!$B$6:$C$10,2,FALSE),\"\")","v":""},{"$f":"IFERROR(VLOOKUP(先攻T!AE58,記号!$B$6:$C$10,2,FALSE),\"\")","v":""},{"$f":"IFERROR(VLOOKUP(先攻T!AF58,記号!$B$6:$C$10,2,FALSE),\"\")","v":""},{"$f":"IFERROR(VLOOKUP(先攻T!AG58,記号!$B$6:$C$10,2,FALSE),\"\")","v":""},{"$f":"IFERROR(VLOOKUP(先攻T!AH58,記号!$B$6:$C$10,2,FALSE),\"\")","v":""},{"$f":"IFERROR(VLOOKUP(先攻T!AP58,記号!$B$6:$C$10,2,FALSE),\"\")","v":"・〇"},{"$f":"IFERROR(VLOOKUP(先攻T!AQ58,記号!$B$6:$C$10,2,FALSE),\"\")","v":"・●"},{"$f":"IFERROR(VLOOKUP(先攻T!AR58,記号!$B$6:$C$10,2,FALSE),\"\")","v":"・●"},{"$f":"IFERROR(VLOOKUP(先攻T!AS58,記号!$B$6:$C$10,2,FALSE),\"\")","v":"・□"},{"$f":"IFERROR(VLOOKUP(先攻T!AT58,記号!$B$6:$C$10,2,FALSE),\"\")","v":"・●"},{"$f":"IFERROR(VLOOKUP(先攻T!BB58,記号!$B$6:$C$10,2,FALSE),\"\")","v":""},{"$f":"IFERROR(VLOOKUP(先攻T!BC58,記号!$B$6:$C$10,2,FALSE),\"\")","v":""},{"$f":"IFERROR(VLOOKUP(先攻T!BD58,記号!$B$6:$C$10,2,FALSE),\"\")","v":""},{"$f":"IFERROR(VLOOKUP(先攻T!BE58,記号!$B$6:$C$10,2,FALSE),\"\")","v":""},{"$f":"IFERROR(VLOOKUP(先攻T!BF58,記号!$B$6:$C$10,2,FALSE),\"\")","v":""},{"$f":"IFERROR(VLOOKUP(先攻T!BN58,記号!$B$6:$C$10,2,FALSE),\"\")","v":""},{"$f":"IFERROR(VLOOKUP(先攻T!BO58,記号!$B$6:$C$10,2,FALSE),\"\")","v":""},{"$f":"IFERROR(VLOOKUP(先攻T!BP58,記号!$B$6:$C$10,2,FALSE),\"\")","v":""},{"$f":"IFERROR(VLOOKUP(先攻T!BQ58,記号!$B$6:$C$10,2,FALSE),\"\")","v":""},{"$f":"IFERROR(VLOOKUP(先攻T!BR58,記号!$B$6:$C$10,2,FALSE),\"\")","v":""},{"$f":"IFERROR(VLOOKUP(先攻T!BZ58,記号!$B$6:$C$10,2,FALSE),\"\")","v":"・〇"},{"$f":"IFERROR(VLOOKUP(先攻T!CA58,記号!$B$6:$C$10,2,FALSE),\"\")","v":"・◎"},{"$f":"IFERROR(VLOOKUP(先攻T!CB58,記号!$B$6:$C$10,2,FALSE),\"\")","v":""},{"$f":"IFERROR(VLOOKUP(先攻T!CC58,記号!$B$6:$C$10,2,FALSE),\"\")","v":""},{"$f":"IFERROR(VLOOKUP(先攻T!CD58,記号!$B$6:$C$10,2,FALSE),\"\")","v":""},{"$f":"IFERROR(VLOOKUP(先攻T!CL58,記号!$B$6:$C$10,2,FALSE),\"\")","v":""},{"$f":"IFERROR(VLOOKUP(先攻T!CM58,記号!$B$6:$C$10,2,FALSE),\"\")","v":""},{"$f":"IFERROR(VLOOKUP(先攻T!CN58,記号!$B$6:$C$10,2,FALSE),\"\")","v":""},{"$f":"IFERROR(VLOOKUP(先攻T!CO58,記号!$B$6:$C$10,2,FALSE),\"\")","v":""},{"$f":"IFERROR(VLOOKUP(先攻T!CP58,記号!$B$6:$C$10,2,FALSE),\"\")","v":""},{"$f":"IFERROR(VLOOKUP(先攻T!CX58,記号!$B$6:$C$10,2,FALSE),\"\")","v":"・●"},{"$f":"IFERROR(VLOOKUP(先攻T!CY58,記号!$B$6:$C$10,2,FALSE),\"\")","v":"・●"},{"$f":"IFERROR(VLOOKUP(先攻T!CZ58,記号!$B$6:$C$10,2,FALSE),\"\")","v":"・◎"},{"$f":"IFERROR(VLOOKUP(先攻T!DA58,記号!$B$6:$C$10,2,FALSE),\"\")","v":""},{"$f":"IFERROR(VLOOKUP(先攻T!DB58,記号!$B$6:$C$10,2,FALSE),\"\")","v":""},{"$f":"IFERROR(VLOOKUP(先攻T!DJ58,記号!$B$6:$C$10,2,FALSE),\"\")","v":""},{"$f":"IFERROR(VLOOKUP(先攻T!DK58,記号!$B$6:$C$10,2,FALSE),\"\")","v":""},{"$f":"IFERROR(VLOOKUP(先攻T!DL58,記号!$B$6:$C$10,2,FALSE),\"\")","v":""},{"$f":"IFERROR(VLOOKUP(先攻T!DM58,記号!$B$6:$C$10,2,FALSE),\"\")","v":""},{"$f":"IFERROR(VLOOKUP(先攻T!DN58,記号!$B$6:$C$10,2,FALSE),\"\")","v":""},{"$f":"IFERROR(VLOOKUP(先攻T!DV58,記号!$B$6:$C$10,2,FALSE),\"\")","v":""},{"$f":"IFERROR(VLOOKUP(先攻T!DW58,記号!$B$6:$C$10,2,FALSE),\"\")","v":""},{"$f":"IFERROR(VLOOKUP(先攻T!DX58,記号!$B$6:$C$10,2,FALSE),\"\")","v":""},{"$f":"IFERROR(VLOOKUP(先攻T!DY58,記号!$B$6:$C$10,2,FALSE),\"\")","v":""},{"$f":"IFERROR(VLOOKUP(先攻T!DZ58,記号!$B$6:$C$10,2,FALSE),\"\")","v":""},{"$f":"IFERROR(VLOOKUP(先攻T!EH58,記号!$B$6:$C$10,2,FALSE),\"\")","v":""},{"$f":"IFERROR(VLOOKUP(先攻T!EI58,記号!$B$6:$C$10,2,FALSE),\"\")","v":""},{"$f":"IFERROR(VLOOKUP(先攻T!EJ58,記号!$B$6:$C$10,2,FALSE),\"\")","v":""},{"$f":"IFERROR(VLOOKUP(先攻T!EK58,記号!$B$6:$C$10,2,FALSE),\"\")","v":""},{"$f":"IFERROR(VLOOKUP(先攻T!EL58,記号!$B$6:$C$10,2,FALSE),\"\")","v":""},{"$f":"IF(K42=\"\",\"\",VLOOKUP(K42,$C$84:$E$89,3,FALSE))","v":"RR"},{"$f":"IF(L42=\"\",\"\",(BX42+CG42+CH42+CI42))","v":4},{"$f":"IF(L42=\"\",\"\",(BY42+BZ42+CA42+CB42+CC42+CF42+CJ42+CM42+CN42))","v":2},{"$f":"IF(L42=\"\",\"\",COUNTIFS($N$41:$BU$41,L42,$N$46:$BU$46,$BY$3))","v":2},{"$f":"IF(L42=\"\",\"\",COUNTIFS($N$41:$BU$41,L42,$N$46:$BU$46,$BZ$3))","v":0},{"$f":"IF(L42=\"\",\"\",COUNTIFS($N$41:$BU$41,L42,$N$44:$BU$44,$CA$3))","v":0},{"$f":"IF(L42=\"\",\"\",COUNTIFS($N$41:$BU$41,L42,$N$44:$BU$44,$CB$3))","v":0},{"$f":"IF(L42=\"\",\"\",COUNTIFS($N$41:$BU$41,L42,$N$46:$BU$46,$CC$3))","v":0},{"$f":"IF(L42=\"\",\"\",SUMIF($N$41:$BU$41,L42,$N$46:$BU$46))","v":0},{"$f":"IF(L42=\"\",\"\",COUNTIFS($N$41:$BU$41,L42,$N$45:$BU$45,$CE$3))","v":0},{"$f":"IF(L42=\"\",\"\",COUNTIFS($N$41:$BU$41,L42,$N$46:$BU$46,$CF$3))","v":0},{"$f":"IF(L42=\"\",\"\",COUNTIFS($N$41:$BU$41,L42,$N$46:$BU$46,$CG$3))","v":2},{"$f":"IF(L42=\"\",\"\",COUNTIFS($N$41:$BU$41,L42,$N$46:$BU$46,$CH$3))","v":0},{"$f":"IF(L42=\"\",\"\",COUNTIFS($N$41:$BU$41,L42,$N$46:$BU$46,$CI$3))","v":0},{"$f":"IF(L42=\"\",\"\",COUNTIFS($N$41:$BU$41,L42,$N$46:$BU$46,$CJ$3))","v":0},{"$f":"IF(L42=\"\",\"\",COUNTIFS($N$41:$BU$41,L42,$N$46:$BU$46,$CK$3)+COUNTIFS($N$41:$BU$41,L42,$N$44:$BU$44,$CK$3))","v":0},{"$f":"IF(L42=\"\",\"\",COUNTIFS($N$41:$BU$41,L42,$N$46:$BU$46,$CL$3)+COUNTIFS($N$41:$BU$41,L42,$N$44:$BU$44,$CL$3))","v":0},{"$f":"IF(L42=\"\",\"\",COUNTIFS($N$41:$BU$41,L42,$N$46:$BU$46,$CM$3))","v":0},{"$f":"IF(L42=\"\",\"\",COUNTIFS($N$41:$BU$41,L42,$N$46:$BU$46,$CN$3))","v":0},{"$f":"IF(L42=\"\",\"\",COUNTIFS($N$41:$BU$41,L42,$N$42:$BU$42,$CO$3)+COUNTIFS($N$41:$BU$41,L42,$N$43:$BU$43,$CO$3))","v":17},"先","四球",null,null,null,null,null,{"$f":"IF(DA42=\"\",\"\",VLOOKUP(DA42,$C$84:$E$89,3,FALSE))","v":"RR"},9,null,"","先",null,null,null,null,null,null,null,null,null,null,null,null,null,null,null,null,null,null,null,null,null,null,null,null,null,null,null,9,{"$f":"IF(EC42=\"\",\"\",VLOOKUP(EC42,$C$29:$D$58,2,FALSE))","v":"菊池　彪吾"},{"$f":"IF(EC42=\"\",\"\",COUNTIFS($N$41:$BU$41,EC42,$N$46:$BU$46,\"RZ\"))","v":0},{"$f":"IF(ED42=\"\",\"\",COUNTIFS($N$41:$BU$41,EC42,$N$45:$BU$45,\"ZH\"))","v":0},null,null,null,null,null,null,null,null,null,null,"LL",{"$f":"IF($EO$41=\"\",\"\",SUMIF($EQ$5:$EQ$40,$EQ$42,ER5:ER40))","v":0},{"$f":"IF($EO$41=\"\",\"\",SUMIF($EQ$5:$EQ$40,$EQ$42,ES5:ES40))","v":0},0,0,0,0,0,0,0,0,0,0,0,0,0,0,0,0,0,"←←",null,{"$f":"FJ42","v":0},null,null,null,null,null,null,null,null,null,null,null,null,null,null,null,null,null,null,null,null,null,null,null,null,null,null,null,null,null,null,null,null,null,null,null,null,null,null,null,null,null,null,null,null,null,null,null,null,null,null,null,null,null,null,null,null,null,null,null,"菊池　彪吾",{"$f":"IF(L42=\"\",\"\",L42)","v":9},{"$f":"IF(HU42=\"\",\"\",COUNTIFS($N$41:$BU$41,HV42,$N$42:$BU$42,$HW$3)+COUNTIFS($N$41:$BU$41,HV42,$N$43:$BU$43,$HW$3))","v":17},{"$f":"IF(HU42=\"\",\"\",COUNTIFS($N$41:$BU$41,HV42,$N$42:$BU$42,$HX$3)+COUNTIFS($N$41:$BU$41,HV42,$N$43:$BU$43,$HX$3))","v":10},{"$f":"IF(HU42=\"\",\"\",COUNTIFS($N$41:$BU$41,HV42,$N$42:$BU$42,$HY$3)+COUNTIFS($N$41:$BU$41,HV42,$N$43:$BU$43,$HY$3))","v":3},{"$f":"IF(HU42=\"\",\"\",COUNTIFS($N$41:$BU$41,HV42,$N$42:$BU$42,$HZ$3)+COUNTIFS($N$41:$BU$41,HV42,$N$43:$BU$43,$HZ$3))","v":1},{"$f":"IF(HU42=\"\",\"\",COUNTIFS($N$41:$BU$41,HV42,N42:$BU$42,$IA$3)+COUNTIFS($N$41:$BU$41,HV42,$N$43:$BU$43,$IA$3))","v":1},{"$f":"IF(HU42=\"\",\"\",COUNTIFS($N$41:$BU$41,HV42,$N$42:$BU$42,$IB$3)+COUNTIFS($N$41:$BU$41,HV42,$N$43:$BU$43,$IB$3))","v":2}]
[null,null,15,"菅原　　大","RR",15,null,null,null,{"$f":"IF(L43=\"\",\"\",VLOOKUP(L43,$C$29:$D$58,2,FALSE))","v":""},null,null,null,{"$f":"IFERROR(VLOOKUP(先攻T!K58,記号!$B$6:$C$10,2,FALSE),\"\")","v":""},{"$f":"IFERROR(VLOOKUP(先攻T!L58,記号!$B$6:$C$10,2,FALSE),\"\")","v":""},{"$f":"IFERROR(VLOOKUP(先攻T!F60,記号!$B$6:$C$10,2,FALSE),\"\")","v":""},{"$f":"IFERROR(VLOOKUP(先攻T!G60,記号!$B$6:$C$10,2,FALSE),\"\")","v":""},{"$f":"IFERROR(VLOOKUP(先攻T!H60,記号!$B$6:$C$10,2,FALSE),\"\")","v":""},{"$f":"IFERROR(VLOOKUP(先攻T!W58,記号!$B$6:$C$10,2,FALSE),\"\")","v":"・●"},{"$f":"IFERROR(VLOOKUP(先攻T!X58,記号!$B$6:$C$10,2,FALSE),\"\")","v":""},{"$f":"IFERROR(VLOOKUP(先攻T!R60,記号!$B$6:$C$10,2,FALSE),\"\")","v":""},{"$f":"IFERROR(VLOOKUP(先攻T!S60,記号!$B$6:$C$10,2,FALSE),\"\")","v":""},{"$f":"IFERROR(VLOOKUP(先攻T!T60,記号!$B$6:$C$10,2,FALSE),\"\")","v":""},{"$f":"IFERROR(VLOOKUP(先攻T!AI58,記号!$B$6:$C$10,2,FALSE),\"\")","v":""},{"$f":"IFERROR(VLOOKUP(先攻T!AJ58,記号!$B$6:$C$10,2,FALSE),\"\")","v":""},{"$f":"IFERROR(VLOOKUP(先攻T!AD60,記号!$B$6:$C$10,2,FALSE),\"\")","v":""},{"$f":"IFERROR(VLOOKUP(先攻T!AE60,記号!$B$6:$C$10,2,FALSE),\"\")","v":""},{"$f":"IFERROR(VLOOKUP(先攻T!AF60,記号!$B$6:$C$10,2,FALSE),\"\")","v":""},{"$f":"IFERROR(VLOOKUP(先攻T!AU58,記号!$B$6:$C$10,2,FALSE),\"\")","v":"・●"},{"$f":"IFERROR(VLOOKUP(先攻T!AV58,記号!$B$6:$C$10,2,FALSE),\"\")","v":""},{"$f":"IFERROR(VLOOKUP(先攻T!AP60,記号!$B$6:$C$10,2,FALSE),\"\")","v":""},{"$f":"IFERROR(VLOOKUP(先攻T!AQ60,記号!$B$6:$C$10,2,FALSE),\"\")","v":""},{"$f":"IFERROR(VLOOKUP(先攻T!AR60,記号!$B$6:$C$10,2,FALSE),\"\")","v":""},{"$f":"IFERROR(VLOOKUP(先攻T!BG58,記号!$B$6:$C$10,2,FALSE),\"\")","v":""},{"$f":"IFERROR(VLOOKUP(先攻T!BH58,記号!$B$6:$C$10,2,FALSE),\"\")","v":""},{"$f":"IFERROR(VLOOKUP(先攻T!BB60,記号!$B$6:$C$10,2,FALSE),\"\")","v":""},{"$f":"IFERROR(VLOOKUP(先攻T!BC60,記号!$B$6:$C$10,2,FALSE),\"\")","v":""},{"$f":"IFERROR(VLOOKUP(先攻T!BD60,記号!$B$6:$C$10,2,FALSE),\"\")","v":""},{"$f":"IFERROR(VLOOKUP(先攻T!BS58,記号!$B$6:$C$10,2,FALSE),\"\")","v":""},{"$f":"IFERROR(VLOOKUP(先攻T!BT58,記号!$B$6:$C$10,2,FALSE),\"\")","v":""},{"$f":"IFERROR(VLOOKUP(先攻T!BN60,記号!$B$6:$C$10,2,FALSE),\"\")","v":""},{"$f":"IFERROR(VLOOKUP(先攻T!BO60,記号!$B$6:$C$10,2,FALSE),\"\")","v":""},{"$f":"IFERROR(VLOOKUP(先攻T!BP60,記号!$B$6:$C$10,2,FALSE),\"\")","v":""},{"$f":"IFERROR(VLOOKUP(先攻T!CE58,記号!$B$6:$C$10,2,FALSE),\"\")","v":""},{"$f":"IFERROR(VLOOKUP(先攻T!CF58,記号!$B$6:$C$10,2,FALSE),\"\")","v":""},{"$f":"IFERROR(VLOOKUP(先攻T!BZ60,記号!$B$6:$C$10,2,FALSE),\"\")","v":""},{"$f":"IFERROR(VLOOKUP(先攻T!CA60,記号!$B$6:$C$10,2,FALSE),\"\")","v":""},{"$f":"IFERROR(VLOOKUP(先攻T!CB60,記号!$B$6:$C$10,2,FALSE),\"\")","v":""},{"$f":"IFERROR(VLOOKUP(先攻T!CQ58,記号!$B$6:$C$10,2,FALSE),\"\")","v":""},{"$f":"IFERROR(VLOOKUP(先攻T!CR58,記号!$B$6:$C$10,2,FALSE),\"\")","v":""},{"$f":"IFERROR(VLOOKUP(先攻T!CL60,記号!$B$6:$C$10,2,FALSE),\"\")","v":""},{"$f":"IFERROR(VLOOKUP(先攻T!CM60,記号!$B$6:$C$10,2,FALSE),\"\")","v":""},{"$f":"IFERROR(VLOOKUP(先攻T!CN60,記号!$B$6:$C$10,2,FALSE),\"\")","v":""},{"$f":"IFERROR(VLOOKUP(先攻T!DC58,記号!$B$6:$C$10,2,FALSE),\"\")","v":""},{"$f":"IFERROR(VLOOKUP(先攻T!DD58,記号!$B$6:$C$10,2,FALSE),\"\")","v":""},{"$f":"IFERROR(VLOOKUP(先攻T!CX60,記号!$B$6:$C$10,2,FALSE),\"\")","v":""},{"$f":"IFERROR(VLOOKUP(先攻T!CY60,記号!$B$6:$C$10,2,FALSE),\"\")","v":""},{"$f":"IFERROR(VLOOKUP(先攻T!CZ60,記号!$B$6:$C$10,2,FALSE),\"\")","v":""},{"$f":"IFERROR(VLOOKUP(先攻T!DO58,記号!$B$6:$C$10,2,FALSE),\"\")","v":""},{"$f":"IFERROR(VLOOKUP(先攻T!DP58,記号!$B$6:$C$10,2,FALSE),\"\")","v":""},{"$f":"IFERROR(VLOOKUP(先攻T!DJ60,記号!$B$6:$C$10,2,FALSE),\"\")","v":""},{"$f":"IFERROR(VLOOKUP(先攻T!DK60,記号!$B$6:$C$10,2,FALSE),\"\")","v":""},{"$f":"IFERROR(VLOOKUP(先攻T!DL60,記号!$B$6:$C$10,2,FALSE),\"\")","v":""},{"$f":"IFERROR(VLOOKUP(先攻T!EA58,記号!$B$6:$C$10,2,FALSE),\"\")","v":""},{"$f":"IFERROR(VLOOKUP(先攻T!EB58,記号!$B$6:$C$10,2,FALSE),\"\")","v":""},{"$f":"IFERROR(VLOOKUP(先攻T!DV60,記号!$B$6:$C$10,2,FALSE),\"\")","v":""},{"$f":"IFERROR(VLOOKUP(先攻T!DW60,記号!$B$6:$C$10,2,FALSE),\"\")","v":""},{"$f":"IFERROR(VLOOKUP(先攻T!DX60,記号!$B$6:$C$10,2,FALSE),\"\")","v":""},{"$f":"IFERROR(VLOOKUP(先攻T!EM58,記号!$B$6:$C$10,2,FALSE),\"\")","v":""},{"$f":"IFERROR(VLOOKUP(先攻T!EN58,記号!$B$6:$C$10,2,FALSE),\"\")","v":""},{"$f":"IFERROR(VLOOKUP(先攻T!EH60,記号!$B$6:$C$10,2,FALSE),\"\")","v":""},{"$f":"IFERROR(VLOOKUP(先攻T!EI60,記号!$B$6:$C$10,2,FALSE),\"\")","v":""},{"$f":"IFERROR(VLOOKUP(先攻T!EJ60,記号!$B$6:$C$10,2,FALSE),\"\")","v":""},{"$f":"IF(K43=\"\",\"\",VLOOKUP(K43,$C$84:$E$89,3,FALSE))","v":""},{"$f":"IF(L43=\"\",\"\",(BX43+CG43+CH43+CI43))","v":""},"",{"$f":"IF(L43=\"\",\"\",COUNTIFS($N$41:$BU$41,L43,$N$46:$BU$46,$BY$3))","v":""},{"$f":"IF(L43=\"\",\"\",COUNTIFS($N$41:$BU$41,L43,$N$46:$BU$46,$BZ$3))","v":""},{"$f":"IF(L43=\"\",\"\",COUNTIFS($N$41:$BU$41,L43,$N$44:$BU$44,$CA$3))","v":""},{"$f":"IF(L43=\"\",\"\",COUNTIFS($N$41:$BU$41,L43,$N$44:$BU$44,$CB$3))","v":""},{"$f":"IF(L43=\"\",\"\",COUNTIFS($N$41:$BU$41,L43,$N$46:$BU$46,$CC$3))","v":""},{"$f":"IF(L43=\"\",\"\",SUMIF($N$41:$BU$41,L43,$N$46:$BU$46))","v":""},{"$f":"IF(L43=\"\",\"\",COUNTIFS($N$41:$BU$41,L43,$N$45:$BU$45,$CE$3))","v":""},{"$f":"IF(L43=\"\",\"\",COUNTIFS($N$41:$BU$41,L43,$N$46:$BU$46,$CF$3))","v":""},{"$f":"IF(L43=\"\",\"\",COUNTIFS($N$41:$BU$41,L43,$N$46:$BU$46,$CG$3))","v":""},{"$f":"IF(L43=\"\",\"\",COUNTIFS($N$41:$BU$41,L43,$N$46:$BU$46,$CH$3))","v":""},{"$f":"IF(L43=\"\",\"\",COUNTIFS($N$41:$BU$41,L43,$N$46:$BU$46,$CI$3))","v":""},{"$f":"IF(L43=\"\",\"\",COUNTIFS($N$41:$BU$41,L43,$N$46:$BU$46,$CJ$3))","v":""},{"$f":"IF(L43=\"\",\"\",COUNTIFS($N$41:$BU$41,L43,$N$46:$BU$46,$CK$3)+COUNTIFS($N$41:$BU$41,L43,$N$44:$BU$44,$CK$3))","v":""},{"$f":"IF(L43=\"\",\"\",COUNTIFS($N$41:$BU$41,L43,$N$46:$BU$46,$CL$3)+COUNTIFS($N$41:$BU$41,L43,$N$44:$BU$44,$CL$3))","v":""},{"$f":"IF(L43=\"\",\"\",COUNTIFS($N$41:$BU$41,L43,$N$46:$BU$46,$CM$3))","v":""},{"$f":"IF(L43=\"\",\"\",COUNTIFS($N$41:$BU$41,L43,$N$46:$BU$46,$CN$3))","v":""},{"$f":"IF(L43=\"\",\"\",COUNTIFS($N$41:$BU$41,L43,$N$42:$BU$42,$CO$3)+COUNTIFS($N$41:$BU$41,L43,$N$43:$BU$43,$CO$3))","v":""},null,"四球",null,null,null,null,null,{"$f":"IF(DA43=\"\",\"\",VLOOKUP(DA43,$C$84:$E$89,3,FALSE))","v":"RR"},9,null,"","先",null,null,null,null,null,null,null,null,null,null,null,null,null,null,null,null,null,null,null,null,null,null,null,null,null,null,null,"","",{"$f":"IF(EC43=\"\",\"\",COUNTIFS($N$41:$BU$41,EC43,$N$46:$BU$46,\"RZ\"))","v":""},{"$f":"IF(ED43=\"\",\"\",COUNTIFS($N$41:$BU$41,EC43,$N$45:$BU$45,\"ZH\"))","v":""},null,null,null,null,null,null,null,null,null,null,null,null,null,null,null,null,null,null,null,null,null,null,null,null,null,null,null,null,null,null,null,null,null,null,null,null,null,null,null,null,null,null,null,null,null,null,null,null,null,null,null,null,null,null,null,null,null,null,null,null,null,null,null,null,null,null,null,null,null,null,null,null,null,null,null,null,null,null,null,null,null,null,null,null,null,null,null,null,null,null,null,null,"","",{"$f":"IF(HU43=\"\",\"\",COUNTIFS($N$41:$BU$41,HV43,$N$42:$BU$42,$HW$3)+COUNTIFS($N$41:$BU$41,HV43,$N$43:$BU$43,$HW$3))","v":""},{"$f":"IF(HU43=\"\",\"\",COUNTIFS($N$41:$BU$41,HV43,$N$42:$BU$42,$HX$3)+COUNTIFS($N$41:$BU$41,HV43,$N$43:$BU$43,$HX$3))","v":""},{"$f":"IF(HU43=\"\",\"\",COUNTIFS($N$41:$BU$41,HV43,$N$42:$BU$42,$HY$3)+COUNTIFS($N$41:$BU$41,HV43,$N$43:$BU$43,$HY$3))","v":""},{"$f":"IF(HU43=\"\",\"\",COUNTIFS($N$41:$BU$41,HV43,$N$42:$BU$42,$HZ$3)+COUNTIFS($N$41:$BU$41,HV43,$N$43:$BU$43,$HZ$3))","v":""},{"$f":"IF(HU43=\"\",\"\",COUNTIFS($N$41:$BU$41,HV43,N$42:$BU43,$IA$3)+COUNTIFS($N$41:$BU$41,HV43,$N$43:$BU$43,$IA$3))","v":""},{"$f":"IF(HU43=\"\",\"\",COUNTIFS($N$41:$BU$41,HV43,$N$42:$BU$42,$IB$3)+COUNTIFS($N$41:$BU$41,HV43,$N$43:$BU$43,$IB$3))","v":""}]
[null,null,16,"工藤　来夢","RR",16,null,null,null,{"$f":"IF(L44=\"\",\"\",VLOOKUP(L44,$C$29:$D$58,2,FALSE))","v":""},null,null,null,{"$f":"IFERROR(VLOOKUP(先攻T!F63,記号!$I$27:$J$30,2,FALSE),\"\")","v":""},{"$f":"IFERROR(VLOOKUP(先攻T!H62,記号!$L$5:$M$21,2,FALSE),\"\")","v":""},{"$f":"IFERROR(VLOOKUP(先攻T!H64,記号!$F$27:$G$37,2,FALSE),\"\")","v":""},{"$f":"IFERROR(VLOOKUP(先攻T!G62,記号!$I$5:$J$23,2,FALSE),\"\")","v":""},null,{"$f":"IFERROR(VLOOKUP(先攻T!R63,記号!$I$27:$J$30,2,FALSE),\"\")","v":""},{"$f":"IFERROR(VLOOKUP(先攻T!T62,記号!$L$5:$M$21,2,FALSE),\"\")","v":""},{"$f":"IFERROR(VLOOKUP(先攻T!T64,記号!$F$27:$G$37,2,FALSE),\"\")","v":""},{"$f":"IFERROR(VLOOKUP(先攻T!S62,記号!$I$5:$J$23,2,FALSE),\"\")","v":""},null,{"$f":"IFERROR(VLOOKUP(先攻T!AD63,記号!$I$27:$J$30,2,FALSE),\"\")","v":""},{"$f":"IFERROR(VLOOKUP(先攻T!AF62,記号!$L$5:$M$21,2,FALSE),\"\")","v":""},{"$f":"IFERROR(VLOOKUP(先攻T!AF64,記号!$F$27:$G$37,2,FALSE),\"\")","v":""},{"$f":"IFERROR(VLOOKUP(先攻T!AE62,記号!$I$5:$J$23,2,FALSE),\"\")","v":""},null,{"$f":"IFERROR(VLOOKUP(先攻T!AP63,記号!$I$27:$J$30,2,FALSE),\"\")","v":""},{"$f":"IFERROR(VLOOKUP(先攻T!AR62,記号!$L$5:$M$21,2,FALSE),\"\")","v":""},{"$f":"IFERROR(VLOOKUP(先攻T!AR64,記号!$F$27:$G$37,2,FALSE),\"\")","v":""},{"$f":"IFERROR(VLOOKUP(先攻T!AQ62,記号!$I$5:$J$23,2,FALSE),\"\")","v":""},null,{"$f":"IFERROR(VLOOKUP(先攻T!BB63,記号!$I$27:$J$30,2,FALSE),\"\")","v":""},{"$f":"IFERROR(VLOOKUP(先攻T!BD62,記号!$L$5:$M$21,2,FALSE),\"\")","v":""},{"$f":"IFERROR(VLOOKUP(先攻T!BD64,記号!$F$27:$G$37,2,FALSE),\"\")","v":""},{"$f":"IFERROR(VLOOKUP(先攻T!BC62,記号!$I$5:$J$23,2,FALSE),\"\")","v":""},null,{"$f":"IFERROR(VLOOKUP(先攻T!BN72,記号!$I$27:$J$30,2,FALSE),\"\")","v":""},{"$f":"IFERROR(VLOOKUP(先攻T!BP62,記号!$L$5:$M$21,2,FALSE),\"\")","v":""},{"$f":"IFERROR(VLOOKUP(先攻T!BP64,記号!$F$27:$G$37,2,FALSE),\"\")","v":""},{"$f":"IFERROR(VLOOKUP(先攻T!BO62,記号!$I$5:$J$23,2,FALSE),\"\")","v":""},null,{"$f":"IFERROR(VLOOKUP(先攻T!BZ63,記号!$I$27:$J$30,2,FALSE),\"\")","v":"F"},{"$f":"IFERROR(VLOOKUP(先攻T!CB62,記号!$L$5:$M$21,2,FALSE),\"\")","v":""},{"$f":"IFERROR(VLOOKUP(先攻T!CB64,記号!$F$27:$G$37,2,FALSE),\"\")","v":""},{"$f":"IFERROR(VLOOKUP(先攻T!CA62,記号!$I$5:$J$23,2,FALSE),\"\")","v":""},null,{"$f":"IFERROR(VLOOKUP(先攻T!CL63,記号!$I$27:$J$30,2,FALSE),\"\")","v":""},{"$f":"IFERROR(VLOOKUP(先攻T!CN62,記号!$L$5:$M$21,2,FALSE),\"\")","v":""},{"$f":"IFERROR(VLOOKUP(先攻T!CN64,記号!$F$27:$G$37,2,FALSE),\"\")","v":""},{"$f":"IFERROR(VLOOKUP(先攻T!CM62,記号!$I$5:$J$23,2,FALSE),\"\")","v":""},null,{"$f":"IFERROR(VLOOKUP(先攻T!CX63,記号!$I$27:$J$30,2,FALSE),\"\")","v":"F"},{"$f":"IFERROR(VLOOKUP(先攻T!CZ62,記号!$L$5:$M$21,2,FALSE),\"\")","v":""},{"$f":"IFERROR(VLOOKUP(先攻T!CZ64,記号!$F$27:$G$37,2,FALSE),\"\")","v":""},{"$f":"IFERROR(VLOOKUP(先攻T!CY62,記号!$I$5:$J$23,2,FALSE),\"\")","v":""},null,{"$f":"IFERROR(VLOOKUP(先攻T!DJ63,記号!$I$27:$J$30,2,FALSE),\"\")","v":""},{"$f":"IFERROR(VLOOKUP(先攻T!DL62,記号!$L$5:$M$21,2,FALSE),\"\")","v":""},{"$f":"IFERROR(VLOOKUP(先攻T!DL64,記号!$F$27:$G$37,2,FALSE),\"\")","v":""},{"$f":"IFERROR(VLOOKUP(先攻T!DK62,記号!$I$5:$J$23,2,FALSE),\"\")","v":""},null,{"$f":"IFERROR(VLOOKUP(先攻T!DV63,記号!$I$27:$J$30,2,FALSE),\"\")","v":""},{"$f":"IFERROR(VLOOKUP(先攻T!DX62,記号!$L$5:$M$21,2,FALSE),\"\")","v":""},{"$f":"IFERROR(VLOOKUP(先攻T!DX64,記号!$F$27:$G$37,2,FALSE),\"\")","v":""},{"$f":"IFERROR(VLOOKUP(先攻T!DW62,記号!$I$5:$J$23,2,FALSE),\"\")","v":""},null,{"$f":"IFERROR(VLOOKUP(先攻T!EH63,記号!$I$27:$J$30,2,FALSE),\"\")","v":""},{"$f":"IFERROR(VLOOKUP(先攻T!EJ62,記号!$L$5:$M$21,2,FALSE),\"\")","v":""},{"$f":"IFERROR(VLOOKUP(先攻T!EJ64,記号!$F$27:$G$37,2,FALSE),\"\")","v":""},{"$f":"IFERROR(VLOOKUP(先攻T!EI62,記号!$I$5:$J$23,2,FALSE),\"\")","v":""},null,{"$f":"IF(K44=\"\",\"\",VLOOKUP(K44,$C$84:$E$89,3,FALSE))","v":""},{"$f":"IF(L44=\"\",\"\",(BX44+CG44+CH44+CI44))","v":""},"",{"$f":"IF(L44=\"\",\"\",COUNTIFS($N$41:$BU$41,L44,$N$46:$BU$46,$BY$3))","v":""},{"$f":"IF(L44=\"\",\"\",COUNTIFS($N$41:$BU$41,L44,$N$46:$BU$46,$BZ$3))","v":""},{"$f":"IF(L44=\"\",\"\",COUNTIFS($N$41:$BU$41,L44,$N$44:$BU$44,$CA$3))","v":""},{"$f":"IF(L44=\"\",\"\",COUNTIFS($N$41:$BU$41,L44,$N$44:$BU$44,$CB$3))","v":""},{"$f":"IF(L44=\"\",\"\",COUNTIFS($N$41:$BU$41,L44,$N$46:$BU$46,$CC$3))","v":""},{"$f":"IF(L44=\"\",\"\",SUMIF($N$41:$BU$41,L44,$N$46:$BU$46))","v":""},{"$f":"IF(L44=\"\",\"\",COUNTIFS($N$41:$BU$41,L44,$N$45:$BU$45,$CE$3))","v":""},{"$f":"IF(L44=\"\",\"\",COUNTIFS($N$41:$BU$41,L44,$N$46:$BU$46,$CF$3))","v":""},{"$f":"IF(L44=\"\",\"\",COUNTIFS($N$41:$BU$41,L44,$N$46:$BU$46,$CG$3))","v":""},{"$f":"IF(L44=\"\",\"\",COUNTIFS($N$41:$BU$41,L44,$N$46:$BU$46,$CH$3))","v":""},{"$f":"IF(L44=\"\",\"\",COUNTIFS($N$41:$BU$41,L44,$N$46:$BU$46,$CI$3))","v":""},{"$f":"IF(L44=\"\",\"\",COUNTIFS($N$41:$BU$41,L44,$N$46:$BU$46,$CJ$3))","v":""},{"$f":"IF(L44=\"\",\"\",COUNTIFS($N$41:$BU$41,L44,$N$46:$BU$46,$CK$3)+COUNTIFS($N$41:$BU$41,L44,$N$44:$BU$44,$CK$3))","v":""},{"$f":"IF(L44=\"\",\"\",COUNTIFS($N$41:$BU$41,L44,$N$46:$BU$46,$CL$3)+COUNTIFS($N$41:$BU$41,L44,$N$44:$BU$44,$CL$3))","v":""},{"$f":"IF(L44=\"\",\"\",COUNTIFS($N$41:$BU$41,L44,$N$46:$BU$46,$CM$3))","v":""},{"$f":"IF(L44=\"\",\"\",COUNTIFS($N$41:$BU$41,L44,$N$46:$BU$46,$CN$3))","v":""},{"$f":"IF(L44=\"\",\"\",COUNTIFS($N$41:$BU$41,L44,$N$42:$BU$42,$CO$3)+COUNTIFS($N$41:$BU$41,L44,$N$43:$BU$43,$CO$3))","v":""},null,"遊飛",null,null,null,null,"A","RR",9,"遊",6,"先",null,null,null,{"$f":"IF(DF44=\"\",\"\",$V$2)","v":"D"},{"$f":"IF(D19=\"\",\"\",D19)","v":"吉田　輝星"},{"$f":"IF(F19=\"\",\"\",F19)","v":1},{"$f":"IF(D19=\"\",\"\",C19)","v":"先"},{"$f":"IF(DF44=\"\",\"\",COUNTIFS($DA$71:$DA$123,DH44,$CV$71:$CV$123,\"G\"))","v":12},{"$f":"IF(DF44=\"\",\"\",COUNTIFS($DA$71:$DA$123,DH44,$CV$71:$CV$123,\"A\"))","v":16},{"$f":"IF(DF44=\"\",\"\",(DI44+DJ44))","v":28},null,null,null,null,null,null,null,null,null,null,null,null,null,null,null,null,null,"","",{"$f":"IF(EC44=\"\",\"\",COUNTIFS($N$41:$BU$41,EC44,$N$46:$BU$46,\"RZ\"))","v":""},{"$f":"IF(ED44=\"\",\"\",COUNTIFS($N$41:$BU$41,EC44,$N$45:$BU$45,\"ZH\"))","v":""},null,null,null,null,null,null,null,null,null,null,null,null,null,null,null,null,null,null,null,null,null,null,null,null,null,null,null,null,null,null,null,null,null,null,null,null,null,null,null,null,null,null,null,null,null,null,null,null,null,null,null,null,null,null,null,null,null,null,null,null,null,null,null,null,null,null,null,null,null,null,null,null,null,null,null,null,null,null,null,null,null,null,null,null,null,null,null,null,null,null,null,null,"","","","","","",{"$f":"IF(HU44=\"\",\"\",COUNTIFS($N$41:$BU$41,HV44,N$42:$BU44,$IA$3)+COUNTIFS($N$41:$BU$41,HV44,$N$43:$BU$43,$IA$3))","v":""},""]
[null,null,17,"舟木　　弦","RR",17,null,null,null,{"$f":"IF(L45=\"\",\"\",VLOOKUP(L45,$C$29:$D$58,2,FALSE))","v":""},null,null,null,{"$f":"IF(N41=\"\",\"\",IF(N41=L42+0.2,\"2\",IF(N41=L42+0.3,\"3\",IF(N41=L42+0.4,\"4\",IF(N41=L42+0.5,\"5\",\"先\")))))","v":"先"},{"$f":"IFERROR(VLOOKUP(先攻T!I64,記号!$F$27:$G$37,2,FALSE),\"\")","v":""},{"$f":"IFERROR(VLOOKUP(先攻T!J62,記号!$R$5:$S$10,2,FALSE),\"\")","v":""},{"$f":"IFERROR(VLOOKUP(先攻T!G64,記号!$F$27:$G$37,2,FALSE),\"\")","v":""},{"$f":"IFERROR(VLOOKUP(先攻T!L62,記号!$U$12:$V$13,2,FALSE),\"\")","v":""},{"$f":"IF(S41=\"\",\"\",IF(S41=L42+0.2,\"2\",IF(S41=L42+0.3,\"3\",IF(S41=L42+0.4,\"4\",IF(S41=L42+0.5,\"5\",\"先\")))))","v":"先"},{"$f":"IFERROR(VLOOKUP(先攻T!U64,記号!$F$27:$G$37,2,FALSE),\"\")","v":""},{"$f":"IFERROR(VLOOKUP(先攻T!V62,記号!$R$5:$S$10,2,FALSE),\"\")","v":"L"},{"$f":"IFERROR(VLOOKUP(先攻T!S64,記号!$F$27:$G$37,2,FALSE),\"\")","v":""},{"$f":"IFERROR(VLOOKUP(先攻T!X62,記号!$U$12:$V$13,2,FALSE),\"\")","v":""},{"$f":"IF(X41=\"\",\"\",IF(X41=L42+0.2,\"2\",IF(X41=L42+0.3,\"3\",IF(X41=L42+0.4,\"4\",IF(X41=L42+0.5,\"5\",\"先\")))))","v":"先"},{"$f":"IFERROR(VLOOKUP(先攻T!AG64,記号!$F$27:$G$37,2,FALSE),\"\")","v":""},{"$f":"IFERROR(VLOOKUP(先攻T!AH62,記号!$R$5:$S$10,2,FALSE),\"\")","v":""},{"$f":"IFERROR(VLOOKUP(先攻T!AE64,記号!$F$27:$G$37,2,FALSE),\"\")","v":""},{"$f":"IFERROR(VLOOKUP(先攻T!AJ62,記号!$U$12:$V$13,2,FALSE),\"\")","v":""},{"$f":"IF(AC41=\"\",\"\",IF(AC41=L42+0.2,\"2\",IF(AC41=L42+0.3,\"3\",IF(AC41=L42+0.4,\"4\",IF(AC41=L42+0.5,\"5\",\"先\")))))","v":"先"},{"$f":"IFERROR(VLOOKUP(先攻T!AS64,記号!$F$27:$G$37,2,FALSE),\"\")","v":""},{"$f":"IFERROR(VLOOKUP(先攻T!AT62,記号!$R$5:$S$10,2,FALSE),\"\")","v":"L"},{"$f":"IFERROR(VLOOKUP(先攻T!AQ64,記号!$F$27:$G$37,2,FALSE),\"\")","v":""},{"$f":"IFERROR(VLOOKUP(先攻T!AV62,記号!$U$12:$V$13,2,FALSE),\"\")","v":""},{"$f":"IF(AH41=\"\",\"\",IF(AH41=L42+0.2,\"2\",IF(AH41=L42+0.3,\"3\",IF(AH41=L42+0.4,\"4\",IF(AH41=L42+0.5,\"5\",\"先\")))))","v":"先"},{"$f":"IFERROR(VLOOKUP(先攻T!BE64,記号!$F$27:$G$37,2,FALSE),\"\")","v":""},{"$f":"IFERROR(VLOOKUP(先攻T!BF62,記号!$R$5:$S$10,2,FALSE),\"\")","v":""},{"$f":"IFERROR(VLOOKUP(先攻T!BC64,記号!$F$27:$G$37,2,FALSE),\"\")","v":""},{"$f":"IFERROR(VLOOKUP(先攻T!BH62,記号!$U$12:$V$13,2,FALSE),\"\")","v":""},{"$f":"IF(AM41=\"\",\"\",IF(AM41=L42+0.2,\"2\",IF(AM41=L42+0.3,\"3\",IF(AM41=L42+0.4,\"4\",IF(AM41=L42+0.5,\"5\",\"先\")))))","v":"先"},{"$f":"IFERROR(VLOOKUP(先攻T!BQ64,記号!$F$27:$G$37,2,FALSE),\"\")","v":""},{"$f":"IFERROR(VLOOKUP(先攻T!BR62,記号!$R$5:$S$10,2,FALSE),\"\")","v":""},{"$f":"IFERROR(VLOOKUP(先攻T!BO64,記号!$F$27:$G$37,2,FALSE),\"\")","v":""},{"$f":"IFERROR(VLOOKUP(先攻T!BT62,記号!$U$12:$V$13,2,FALSE),\"\")","v":""},{"$f":"IF(AR41=\"\",\"\",IF(AR41=L42+0.2,\"2\",IF(AR41=L42+0.3,\"3\",IF(AR41=L42+0.4,\"4\",IF(AR41=L42+0.5,\"5\",\"先\")))))","v":"先"},{"$f":"IFERROR(VLOOKUP(先攻T!CC64,記号!$F$27:$G$37,2,FALSE),\"\")","v":""},{"$f":"IFERROR(VLOOKUP(先攻T!CD62,記号!$R$5:$S$10,2,FALSE),\"\")","v":"Ⅰ"},{"$f":"IFERROR(VLOOKUP(先攻T!CA64,記号!$F$27:$G$37,2,FALSE),\"\")","v":""},{"$f":"IFERROR(VLOOKUP(先攻T!CF62,記号!$U$12:$V$13,2,FALSE),\"\")","v":""},{"$f":"IF(AW41=\"\",\"\",IF(AW41=L42+0.2,\"2\",IF(AW41=L42+0.3,\"3\",IF(AW41=L42+0.4,\"4\",IF(AW41=L42+0.5,\"5\",\"先\")))))","v":"先"},{"$f":"IFERROR(VLOOKUP(先攻T!CO64,記号!$F$27:$G$37,2,FALSE),\"\")","v":""},{"$f":"IFERROR(VLOOKUP(先攻T!CP62,記号!$R$5:$S$10,2,FALSE),\"\")","v":""},{"$f":"IFERROR(VLOOKUP(先攻T!CM64,記号!$F$27:$G$37,2,FALSE),\"\")","v":""},{"$f":"IFERROR(VLOOKUP(先攻T!CR62,記号!$U$12:$V$13,2,FALSE),\"\")","v":""},{"$f":"IF(BB41=\"\",\"\",IF(BB41=L42+0.2,\"2\",IF(BB41=L42+0.3,\"3\",IF(BB41=L42+0.4,\"4\",IF(BB41=L42+0.5,\"5\",\"先\")))))","v":"先"},{"$f":"IFERROR(VLOOKUP(先攻T!DA64,記号!$F$27:$G$37,2,FALSE),\"\")","v":""},{"$f":"IFERROR(VLOOKUP(先攻T!DB62,記号!$R$5:$S$10,2,FALSE),\"\")","v":"Ⅲ"},{"$f":"IFERROR(VLOOKUP(先攻T!CY64,記号!$F$27:$G$37,2,FALSE),\"\")","v":""},{"$f":"IFERROR(VLOOKUP(先攻T!DD62,記号!$U$12:$V$13,2,FALSE),\"\")","v":""},{"$f":"IF(BG41=\"\",\"\",IF(BG41=L42+0.2,\"2\",IF(BG41=L42+0.3,\"3\",IF(BG41=L42+0.4,\"4\",IF(BG41=L42+0.5,\"5\",\"先\")))))","v":"先"},{"$f":"IFERROR(VLOOKUP(先攻T!DM64,記号!$F$27:$G$37,2,FALSE),\"\")","v":""},{"$f":"IFERROR(VLOOKUP(先攻T!DN62,記号!$R$5:$S$10,2,FALSE),\"\")","v":""},{"$f":"IFERROR(VLOOKUP(先攻T!DK64,記号!$F$27:$G$37,2,FALSE),\"\")","v":""},{"$f":"IFERROR(VLOOKUP(先攻T!DP62,記号!$U$12:$V$13,2,FALSE),\"\")","v":""},{"$f":"IF(BL41=\"\",\"\",IF(BL41=L42+0.2,\"2\",IF(BL41=L42+0.3,\"3\",IF(BL41=L42+0.4,\"4\",IF(BL41=L42+0.5,\"5\",\"先\")))))","v":"先"},{"$f":"IFERROR(VLOOKUP(先攻T!DY64,記号!$F$27:$G$37,2,FALSE),\"\")","v":""},{"$f":"IFERROR(VLOOKUP(先攻T!DZ62,記号!$R$5:$S$10,2,FALSE),\"\")","v":""},{"$f":"IFERROR(VLOOKUP(先攻T!DW64,記号!$F$27:$G$37,2,FALSE),\"\")","v":""},{"$f":"IFERROR(VLOOKUP(先攻T!EB62,記号!$U$12:$V$13,2,FALSE),\"\")","v":""},{"$f":"IF(BQ41=\"\",\"\",IF(BQ41=L42+0.2,\"2\",IF(BQ41=L42+0.3,\"3\",IF(BQ41=L42+0.4,\"4\",IF(BQ41=L42+0.5,\"5\",\"先\")))))","v":"先"},{"$f":"IFERROR(VLOOKUP(先攻T!EK64,記号!$F$27:$G$37,2,FALSE),\"\")","v":""},{"$f":"IFERROR(VLOOKUP(先攻T!EL62,記号!$R$5:$S$10,2,FALSE),\"\")","v":""},{"$f":"IFERROR(VLOOKUP(先攻T!EI64,記号!$F$27:$G$37,2,FALSE),\"\")","v":""},{"$f":"IFERROR(VLOOKUP(先攻T!EN62,記号!$U$12:$V$13,2,FALSE),\"\")","v":""},{"$f":"IF(K45=\"\",\"\",VLOOKUP(K45,$C$84:$E$89,3,FALSE))","v":""},{"$f":"IF(L45=\"\",\"\",(BX45+CG45+CH45+CI45))","v":""},"",{"$f":"IF(L45=\"\",\"\",COUNTIFS($N$41:$BU$41,L45,$N$46:$BU$46,$BY$3))","v":""},{"$f":"IF(L45=\"\",\"\",COUNTIFS($N$41:$BU$41,L45,$N$46:$BU$46,$BZ$3))","v":""},{"$f":"IF(L45=\"\",\"\",COUNTIFS($N$41:$BU$41,L45,$N$44:$BU$44,$CA$3))","v":""},{"$f":"IF(L45=\"\",\"\",COUNTIFS($N$41:$BU$41,L45,$N$44:$BU$44,$CB$3))","v":""},{"$f":"IF(L45=\"\",\"\",COUNTIFS($N$41:$BU$41,L45,$N$46:$BU$46,$CC$3))","v":""},{"$f":"IF(L45=\"\",\"\",SUMIF($N$41:$BU$41,L45,$N$46:$BU$46))","v":""},{"$f":"IF(L45=\"\",\"\",COUNTIFS($N$41:$BU$41,L45,$N$45:$BU$45,$CE$3))","v":""},{"$f":"IF(L45=\"\",\"\",COUNTIFS($N$41:$BU$41,L45,$N$46:$BU$46,$CF$3))","v":""},{"$f":"IF(L45=\"\",\"\",COUNTIFS($N$41:$BU$41,L45,$N$46:$BU$46,$CG$3))","v":""},{"$f":"IF(L45=\"\",\"\",COUNTIFS($N$41:$BU$41,L45,$N$46:$BU$46,$CH$3))","v":""},{"$f":"IF(L45=\"\",\"\",COUNTIFS($N$41:$BU$41,L45,$N$46:$BU$46,$CI$3))","v":""},{"$f":"IF(L45=\"\",\"\",COUNTIFS($N$41:$BU$41,L45,$N$46:$BU$46,$CJ$3))","v":""},{"$f":"IF(L45=\"\",\"\",COUNTIFS($N$41:$BU$41,L45,$N$46:$BU$46,$CK$3)+COUNTIFS($N$41:$BU$41,L45,$N$44:$BU$44,$CK$3))","v":""},{"$f":"IF(L45=\"\",\"\",COUNTIFS($N$41:$BU$41,L45,$N$46:$BU$46,$CL$3)+COUNTIFS($N$41:$BU$41,L45,$N$44:$BU$44,$CL$3))","v":""},{"$f":"IF(L45=\"\",\"\",COUNTIFS($N$41:$BU$41,L45,$N$46:$BU$46,$CM$3))","v":""},{"$f":"IF(L45=\"\",\"\",COUNTIFS($N$41:$BU$41,L45,$N$46:$BU$46,$CN$3))","v":""},{"$f":"IF(L45=\"\",\"\",COUNTIFS($N$41:$BU$41,L45,$N$42:$BU$42,$CO$3)+COUNTIFS($N$41:$BU$41,L45,$N$43:$BU$43,$CO$3))","v":""},null,"右飛",null,null,null,null,"A","RR",9,"右",9,"先",null,null,null,"D",{"$f":"IF(D20=\"\",\"\",D20)","v":"打川　和輝"},{"$f":"IF(F20=\"\",\"\",F20)","v":5},{"$f":"IF(D20=\"\",\"\",C20)","v":2},{"$f":"IF(DF45=\"\",\"\",COUNTIFS($DA$71:$DA$123,DH45,$CV$71:$CV$123,\"G\"))","v":4},{"$f":"IF(DF45=\"\",\"\",COUNTIFS($DA$71:$DA$123,DH45,$CV$71:$CV$123,\"A\"))","v":2},{"$f":"IF(DF45=\"\",\"\",(DI45+DJ45))","v":6},null,null,null,null,null,null,null,null,null,null,null,null,null,null,null,null,null,"","",{"$f":"IF(EC45=\"\",\"\",COUNTIFS($N$41:$BU$41,EC45,$N$46:$BU$46,\"RZ\"))","v":""},{"$f":"IF(ED45=\"\",\"\",COUNTIFS($N$41:$BU$41,EC45,$N$45:$BU$45,\"ZH\"))","v":""},null,null,null,null,null,null,null,null,null,null,null,null,null,null,null,null,null,null,null,null,null,null,null,null,null,null,null,null,null,null,null,null,null,null,null,null,null,null,null,null,null,null,null,null,null,null,null,null,null,null,null,null,null,null,null,null,null,null,null,null,null,null,null,null,null,null,null,null,null,null,null,null,null,null,null,null,null,null,null,null,null,null,null,null,null,null,null,null,null,null,null,null,"","","","","","",{"$f":"IF(HU45=\"\",\"\",COUNTIFS($N$41:$BU$41,HV45,N$42:$BU45,$IA$3)+COUNTIFS($N$41:$BU$41,HV45,$N$43:$BU$43,$IA$3))","v":""},""]
[null,null,18,"池田　　翔","RR",18,null,null,null,{"$f":"IF(L46=\"\",\"\",VLOOKUP(L46,$C$29:$D$58,2,FALSE))","v":""},null,null,null,{"$f":"IFERROR(VLOOKUP(先攻T!K62,記号!$R$15:$S$20,2,FALSE),\"\")","v":""},{"$f":"IFERROR(VLOOKUP(先攻T!I62,記号!$O$5:$P$21,2,FALSE),\"\")","v":""},{"$f":"IFERROR(VLOOKUP(先攻T!F64,記号!$F$27:$G$37,2,FALSE),\"\")","v":""},{"$f":"IFERROR(VLOOKUP(先攻T!F62,記号!$F$5:$G$21,2,FALSE),\"\")","v":""},{"$f":"IFERROR(VLOOKUP(先攻T!L63,記号!$U$5:$V$6,2,FALSE),\"\")","v":""},{"$f":"IFERROR(VLOOKUP(先攻T!W62,記号!$R$15:$S$20,2,FALSE),\"\")","v":""},{"$f":"IFERROR(VLOOKUP(先攻T!U62,記号!$O$5:$P$21,2,FALSE),\"\")","v":""},{"$f":"IFERROR(VLOOKUP(先攻T!R64,記号!$F$27:$G$37,2,FALSE),\"\")","v":""},{"$f":"IFERROR(VLOOKUP(先攻T!R62,記号!$F$5:$G$21,2,FALSE),\"\")","v":"B"},{"$f":"IFERROR(VLOOKUP(先攻T!X63,記号!$U$5:$V$6,2,FALSE),\"\")","v":""},{"$f":"IFERROR(VLOOKUP(先攻T!AI62,記号!$R$15:$S$20,2,FALSE),\"\")","v":""},{"$f":"IFERROR(VLOOKUP(先攻T!AG62,記号!$O$5:$P$21,2,FALSE),\"\")","v":""},{"$f":"IFERROR(VLOOKUP(先攻T!AD64,記号!$F$27:$G$37,2,FALSE),\"\")","v":""},{"$f":"IFERROR(VLOOKUP(先攻T!AD62,記号!$F$5:$G$21,2,FALSE),\"\")","v":""},{"$f":"IFERROR(VLOOKUP(先攻T!AJ63,記号!$U$5:$V$6,2,FALSE),\"\")","v":""},{"$f":"IFERROR(VLOOKUP(先攻T!AU62,記号!$R$15:$S$20,2,FALSE),\"\")","v":""},{"$f":"IFERROR(VLOOKUP(先攻T!AS62,記号!$O$5:$P$21,2,FALSE),\"\")","v":""},{"$f":"IFERROR(VLOOKUP(先攻T!AP64,記号!$F$27:$G$37,2,FALSE),\"\")","v":""},{"$f":"IFERROR(VLOOKUP(先攻T!AP62,記号!$F$5:$G$21,2,FALSE),\"\")","v":"B"},{"$f":"IFERROR(VLOOKUP(先攻T!AV63,記号!$U$5:$V$6,2,FALSE),\"\")","v":""},{"$f":"IFERROR(VLOOKUP(先攻T!BG62,記号!$R$15:$S$20,2,FALSE),\"\")","v":""},{"$f":"IFERROR(VLOOKUP(先攻T!BE62,記号!$O$5:$P$21,2,FALSE),\"\")","v":""},{"$f":"IFERROR(VLOOKUP(先攻T!BB64,記号!$F$27:$G$37,2,FALSE),\"\")","v":""},{"$f":"IFERROR(VLOOKUP(先攻T!BB62,記号!$F$5:$G$21,2,FALSE),\"\")","v":""},{"$f":"IFERROR(VLOOKUP(先攻T!BH63,記号!$U$5:$V$6,2,FALSE),\"\")","v":""},{"$f":"IFERROR(VLOOKUP(先攻T!BS44,記号!$R$15:$S$20,2,FALSE),\"\")","v":""},{"$f":"IFERROR(VLOOKUP(先攻T!BQ62,記号!$O$5:$P$21,2,FALSE),\"\")","v":""},{"$f":"IFERROR(VLOOKUP(先攻T!BN64,記号!$F$27:$G$37,2,FALSE),\"\")","v":""},{"$f":"IFERROR(VLOOKUP(先攻T!BN62,記号!$F$5:$G$21,2,FALSE),\"\")","v":""},{"$f":"IFERROR(VLOOKUP(先攻T!BT63,記号!$U$5:$V$6,2,FALSE),\"\")","v":""},{"$f":"IFERROR(VLOOKUP(先攻T!CE62,記号!$R$15:$S$20,2,FALSE),\"\")","v":""},{"$f":"IFERROR(VLOOKUP(先攻T!CC62,記号!$O$5:$P$21,2,FALSE),\"\")","v":""},{"$f":"IFERROR(VLOOKUP(先攻T!BZ64,記号!$F$27:$G$37,2,FALSE),\"\")","v":"6'"},{"$f":"IFERROR(VLOOKUP(先攻T!BZ62,記号!$F$5:$G$21,2,FALSE),\"\")","v":"O"},{"$f":"IFERROR(VLOOKUP(先攻T!CF63,記号!$U$5:$V$6,2,FALSE),\"\")","v":""},{"$f":"IFERROR(VLOOKUP(先攻T!CQ62,記号!$R$15:$S$20,2,FALSE),\"\")","v":""},{"$f":"IFERROR(VLOOKUP(先攻T!CO62,記号!$O$5:$P$21,2,FALSE),\"\")","v":""},{"$f":"IFERROR(VLOOKUP(先攻T!CL64,記号!$F$27:$G$37,2,FALSE),\"\")","v":""},{"$f":"IFERROR(VLOOKUP(先攻T!CL62,記号!$F$5:$G$21,2,FALSE),\"\")","v":""},{"$f":"IFERROR(VLOOKUP(先攻T!CR63,記号!$U$5:$V$6,2,FALSE),\"\")","v":""},{"$f":"IFERROR(VLOOKUP(先攻T!DC62,記号!$R$15:$S$20,2,FALSE),\"\")","v":""},{"$f":"IFERROR(VLOOKUP(先攻T!DA62,記号!$O$5:$P$21,2,FALSE),\"\")","v":""},{"$f":"IFERROR(VLOOKUP(先攻T!CX64,記号!$F$27:$G$37,2,FALSE),\"\")","v":"9'"},{"$f":"IFERROR(VLOOKUP(先攻T!CX62,記号!$F$5:$G$21,2,FALSE),\"\")","v":"O"},{"$f":"IFERROR(VLOOKUP(先攻T!DD63,記号!$U$5:$V$6,2,FALSE),\"\")","v":""},{"$f":"IFERROR(VLOOKUP(先攻T!DO62,記号!$R$15:$S$20,2,FALSE),\"\")","v":""},{"$f":"IFERROR(VLOOKUP(先攻T!DM62,記号!$O$5:$P$21,2,FALSE),\"\")","v":""},{"$f":"IFERROR(VLOOKUP(先攻T!DJ64,記号!$F$27:$G$37,2,FALSE),\"\")","v":""},{"$f":"IFERROR(VLOOKUP(先攻T!DJ64,記号!$F$5:$G$21,2,FALSE),\"\")","v":""},{"$f":"IFERROR(VLOOKUP(先攻T!DP63,記号!$U$5:$V$6,2,FALSE),\"\")","v":""},{"$f":"IFERROR(VLOOKUP(先攻T!EA62,記号!$R$15:$S$20,2,FALSE),\"\")","v":""},{"$f":"IFERROR(VLOOKUP(先攻T!DY62,記号!$O$5:$P$21,2,FALSE),\"\")","v":""},{"$f":"IFERROR(VLOOKUP(先攻T!DV64,記号!$F$27:$G$37,2,FALSE),\"\")","v":""},{"$f":"IFERROR(VLOOKUP(先攻T!DV62,記号!$F$5:$G$21,2,FALSE),\"\")","v":""},{"$f":"IFERROR(VLOOKUP(先攻T!EB63,記号!$U$5:$V$6,2,FALSE),\"\")","v":""},{"$f":"IFERROR(VLOOKUP(先攻T!EM62,記号!$R$15:$S$20,2,FALSE),\"\")","v":""},{"$f":"IFERROR(VLOOKUP(先攻T!EK62,記号!$O$5:$P$21,2,FALSE),\"\")","v":""},{"$f":"IFERROR(VLOOKUP(先攻T!EH64,記号!$F$27:$G$37,2,FALSE),\"\")","v":""},{"$f":"IFERROR(VLOOKUP(先攻T!EH62,記号!$F$5:$G$21,2,FALSE),\"\")","v":""},{"$f":"IFERROR(VLOOKUP(先攻T!EN63,記号!$U$5:$V$6,2,FALSE),\"\")","v":""},{"$f":"IF(K46=\"\",\"\",VLOOKUP(K46,$C$84:$E$89,3,FALSE))","v":""},{"$f":"IF(L46=\"\",\"\",(BX46+CG46+CH46+CI46))","v":""},"",{"$f":"IF(L46=\"\",\"\",COUNTIFS($N$41:$BU$41,L46,$N$46:$BU$46,$BY$3))","v":""},{"$f":"IF(L46=\"\",\"\",COUNTIFS($N$41:$BU$41,L46,$N$46:$BU$46,$BZ$3))","v":""},{"$f":"IF(L46=\"\",\"\",COUNTIFS($N$41:$BU$41,L46,$N$44:$BU$44,$CA$3))","v":""},{"$f":"IF(L46=\"\",\"\",COUNTIFS($N$41:$BU$41,L46,$N$44:$BU$44,$CB$3))","v":""},{"$f":"IF(L46=\"\",\"\",COUNTIFS($N$41:$BU$41,L46,$N$46:$BU$46,$CC$3))","v":""},{"$f":"IF(L46=\"\",\"\",SUMIF($N$41:$BU$41,L46,$N$46:$BU$46))","v":""},{"$f":"IF(L46=\"\",\"\",COUNTIFS($N$41:$BU$41,L46,$N$45:$BU$45,$CE$3))","v":""},{"$f":"IF(L46=\"\",\"\",COUNTIFS($N$41:$BU$41,L46,$N$46:$BU$46,$CF$3))","v":""},{"$f":"IF(L46=\"\",\"\",COUNTIFS($N$41:$BU$41,L46,$N$46:$BU$46,$CG$3))","v":""},{"$f":"IF(L46=\"\",\"\",COUNTIFS($N$41:$BU$41,L46,$N$46:$BU$46,$CH$3))","v":""},{"$f":"IF(L46=\"\",\"\",COUNTIFS($N$41:$BU$41,L46,$N$46:$BU$46,$CI$3))","v":""},{"$f":"IF(L46=\"\",\"\",COUNTIFS($N$41:$BU$41,L46,$N$46:$BU$46,$CJ$3))","v":""},{"$f":"IF(L46=\"\",\"\",COUNTIFS($N$41:$BU$41,L46,$N$46:$BU$46,$CK$3)+COUNTIFS($N$41:$BU$41,L46,$N$44:$BU$44,$CK$3))","v":""},{"$f":"IF(L46=\"\",\"\",COUNTIFS($N$41:$BU$41,L46,$N$46:$BU$46,$CL$3)+COUNTIFS($N$41:$BU$41,L46,$N$44:$BU$44,$CL$3))","v":""},{"$f":"IF(L46=\"\",\"\",COUNTIFS($N$41:$BU$41,L46,$N$46:$BU$46,$CM$3))","v":""},{"$f":"IF(L46=\"\",\"\",COUNTIFS($N$41:$BU$41,L46,$N$46:$BU$46,$CN$3))","v":""},{"$f":"IF(L46=\"\",\"\",COUNTIFS($N$41:$BU$41,L46,$N$42:$BU$42,$CO$3)+COUNTIFS($N$41:$BU$41,L46,$N$43:$BU$43,$CO$3))","v":""},null,null,null,null,null,null,null,"",null,null,"",null,null,null,null,null,null,null,null,null,null,null,null,null,null,null,null,null,null,null,null,null,null,null,null,null,null,null,null,"","",{"$f":"IF(EC46=\"\",\"\",COUNTIFS($N$41:$BU$41,EC46,$N$46:$BU$46,\"RZ\"))","v":""},{"$f":"IF(ED46=\"\",\"\",COUNTIFS($N$41:$BU$41,EC46,$N$45:$BU$45,\"ZH\"))","v":""},null,null,null,null,null,null,null,null,null,null,null,null,null,null,null,null,null,null,null,null,null,null,null,null,null,null,null,null,null,null,null,null,null,null,null,null,null,null,null,null,null,null,null,null,null,null,null,null,null,null,null,null,null,null,null,null,null,null,null,null,null,null,null,null,null,null,null,null,null,null,null,null,null,null,null,null,null,null,null,null,null,null,null,null,null,null,null,null,null,null,null,null,"","","","","","",{"$f":"IF(HU46=\"\",\"\",COUNTIFS($N$41:$BU$41,HV46,N$42:$BU46,$IA$3)+COUNTIFS($N$41:$BU$41,HV46,$N$43:$BU$43,$IA$3))","v":""},""]
[null,null,0,null,null,null,null,null,null,null,null,null,"打者背番号を入力➡",{"$f":"先攻T!E65","v":2},{"$f":"N47","v":2},{"$f":"N47","v":2},{"$f":"N47","v":2},{"$f":"N47","v":2},{"$f":"先攻T!Q65","v":2},{"$f":"S47","v":2},{"$f":"S47","v":2},{"$f":"S47","v":2},{"$f":"S47","v":2},{"$f":"先攻T!AC65","v":2},{"$f":"X47","v":2},{"$f":"X47","v":2},{"$f":"X47","v":2},{"$f":"X47","v":2},{"$f":"先攻T!AO65","v":2},{"$f":"AC47","v":2},{"$f":"AC47","v":2},{"$f":"AC47","v":2},{"$f":"AC47","v":2},{"$f":"先攻T!BA65","v":2},{"$f":"AH47","v":2},{"$f":"AH47","v":2},{"$f":"AH47","v":2},{"$f":"AH47","v":2},{"$f":"先攻T!BM65","v":2},{"$f":"AM47","v":2},{"$f":"AM47","v":2},{"$f":"AM47","v":2},{"$f":"AM47","v":2},{"$f":"先攻T!BY65","v":2},{"$f":"AR47","v":2},{"$f":"AR47","v":2},{"$f":"AR47","v":2},{"$f":"AR47","v":2},{"$f":"先攻T!CK65","v":2},{"$f":"AW47","v":2},{"$f":"AW47","v":2},{"$f":"AW47","v":2},{"$f":"AW47","v":2},{"$f":"先攻T!CW65","v":2},{"$f":"BB47","v":2},{"$f":"BB47","v":2},{"$f":"BB47","v":2},{"$f":"BB47","v":2},{"$f":"先攻T!DI65","v":2},{"$f":"BG47","v":2},{"$f":"BG47","v":2},{"$f":"BG47","v":2},{"$f":"BG47","v":2},{"$f":"先攻T!DU65","v":2},{"$f":"BL47","v":2},{"$f":"BL47","v":2},{"$f":"BL47","v":2},{"$f":"BL47","v":2},{"$f":"先攻T!EG65","v":2},{"$f":"BQ47","v":2},{"$f":"BQ47","v":2},{"$f":"BQ47","v":2},{"$f":"BQ47","v":2},null,null,null,null,null,null,null,null,null,null,null,null,null,null,null,null,null,null,null,null,null,null,null,null,null,null,null,null,null,null,null,null,null,null,null,"","","","","","",""]
[null,null,0,null,null,null,null,null,{"$f":"IF(C12=\"\",\"\",C12)","v":"捕"},{"$f":"IF(D12=\"\",\"\",D12)","v":"菊池　亮太"},{"$f":"IF(J48=\"\",\"\",\"先\")","v":"先"},{"$f":"IF(J48=\"\",\"\",F12)","v":2},"⑧",{"$f":"IFERROR(VLOOKUP(先攻T!F67,記号!$B$6:$C$10,2,FALSE),\"\")","v":""},{"$f":"IFERROR(VLOOKUP(先攻T!G67,記号!$B$6:$C$10,2,FALSE),\"\")","v":""},{"$f":"IFERROR(VLOOKUP(先攻T!H67,記号!$B$6:$C$10,2,FALSE),\"\")","v":""},{"$f":"IFERROR(VLOOKUP(先攻T!I67,記号!$B$6:$C$10,2,FALSE),\"\")","v":""},{"$f":"IFERROR(VLOOKUP(先攻T!J67,記号!$B$6:$C$10,2,FALSE),\"\")","v":""},{"$f":"IFERROR(VLOOKUP(先攻T!R67,記号!$B$6:$C$10,2,FALSE),\"\")","v":"・〇"},{"$f":"IFERROR(VLOOKUP(先攻T!S67,記号!$B$6:$C$10,2,FALSE),\"\")","v":"・◎"},{"$f":"IFERROR(VLOOKUP(先攻T!T67,記号!$B$6:$C$10,2,FALSE),\"\")","v":""},{"$f":"IFERROR(VLOOKUP(先攻T!U67,記号!$B$6:$C$10,2,FALSE),\"\")","v":""},{"$f":"IFERROR(VLOOKUP(先攻T!V67,記号!$B$6:$C$10,2,FALSE),\"\")","v":""},{"$f":"IFERROR(VLOOKUP(先攻T!AD67,記号!$B$6:$C$10,2,FALSE),\"\")","v":""},{"$f":"IFERROR(VLOOKUP(先攻T!AE67,記号!$B$6:$C$10,2,FALSE),\"\")","v":""},{"$f":"IFERROR(VLOOKUP(先攻T!AF67,記号!$B$6:$C$10,2,FALSE),\"\")","v":""},{"$f":"IFERROR(VLOOKUP(先攻T!AG67,記号!$B$6:$C$10,2,FALSE),\"\")","v":""},{"$f":"IFERROR(VLOOKUP(先攻T!AH67,記号!$B$6:$C$10,2,FALSE),\"\")","v":""},{"$f":"IFERROR(VLOOKUP(先攻T!AP67,記号!$B$6:$C$10,2,FALSE),\"\")","v":"・●"},{"$f":"IFERROR(VLOOKUP(先攻T!AQ67,記号!$B$6:$C$10,2,FALSE),\"\")","v":"・◎"},{"$f":"IFERROR(VLOOKUP(先攻T!AR67,記号!$B$6:$C$10,2,FALSE),\"\")","v":""},{"$f":"IFERROR(VLOOKUP(先攻T!AS67,記号!$B$6:$C$10,2,FALSE),\"\")","v":""},{"$f":"IFERROR(VLOOKUP(先攻T!AT67,記号!$B$6:$C$10,2,FALSE),\"\")","v":""},{"$f":"IFERROR(VLOOKUP(先攻T!BB67,記号!$B$6:$C$10,2,FALSE),\"\")","v":""},{"$f":"IFERROR(VLOOKUP(先攻T!BC67,記号!$B$6:$C$10,2,FALSE),\"\")","v":""},{"$f":"IFERROR(VLOOKUP(先攻T!BD67,記号!$B$6:$C$10,2,FALSE),\"\")","v":""},{"$f":"IFERROR(VLOOKUP(先攻T!BE67,記号!$B$6:$C$10,2,FALSE),\"\")","v":""},{"$f":"IFERROR(VLOOKUP(先攻T!BF67,記号!$B$6:$C$10,2,FALSE),\"\")","v":""},{"$f":"IFERROR(VLOOKUP(先攻T!BN67,記号!$B$6:$C$10,2,FALSE),\"\")","v":""},{"$f":"IFERROR(VLOOKUP(先攻T!BO67,記号!$B$6:$C$10,2,FALSE),\"\")","v":""},{"$f":"IFERROR(VLOOKUP(先攻T!BP67,記号!$B$6:$C$10,2,FALSE),\"\")","v":""},{"$f":"IFERROR(VLOOKUP(先攻T!BQ67,記号!$B$6:$C$10,2,FALSE),\"\")","v":""},{"$f":"IFERROR(VLOOKUP(先攻T!BR67,記号!$B$6:$C$10,2,FALSE),\"\")","v":""},{"$f":"IFERROR(VLOOKUP(先攻T!BZ67,記号!$B$6:$C$10,2,FALSE),\"\")","v":"・●"},{"$f":"IFERROR(VLOOKUP(先攻T!CA67,記号!$B$6:$C$10,2,FALSE),\"\")","v":"・〇"},{"$f":"IFERROR(VLOOKUP(先攻T!CB67,記号!$B$6:$C$10,2,FALSE),\"\")","v":"・◎"},{"$f":"IFERROR(VLOOKUP(先攻T!CC67,記号!$B$6:$C$10,2,FALSE),\"\")","v":""},{"$f":"IFERROR(VLOOKUP(先攻T!CD67,記号!$B$6:$C$10,2,FALSE),\"\")","v":""},{"$f":"IFERROR(VLOOKUP(先攻T!CL67,記号!$B$6:$C$10,2,FALSE),\"\")","v":""},{"$f":"IFERROR(VLOOKUP(先攻T!CM67,記号!$B$6:$C$10,2,FALSE),\"\")","v":""},{"$f":"IFERROR(VLOOKUP(先攻T!CN67,記号!$B$6:$C$10,2,FALSE),\"\")","v":""},{"$f":"IFERROR(VLOOKUP(先攻T!CO67,記号!$B$6:$C$10,2,FALSE),\"\")","v":""},{"$f":"IFERROR(VLOOKUP(先攻T!CP67,記号!$B$6:$C$10,2,FALSE),\"\")","v":""},{"$f":"IFERROR(VLOOKUP(先攻T!CX67,記号!$B$6:$C$10,2,FALSE),\"\")","v":""},{"$f":"IFERROR(VLOOKUP(先攻T!CY67,記号!$B$6:$C$10,2,FALSE),\"\")","v":""},{"$f":"IFERROR(VLOOKUP(先攻T!CZ67,記号!$B$6:$C$10,2,FALSE),\"\")","v":""},{"$f":"IFERROR(VLOOKUP(先攻T!DA67,記号!$B$6:$C$10,2,FALSE),\"\")","v":""},{"$f":"IFERROR(VLOOKUP(先攻T!DB67,記号!$B$6:$C$10,2,FALSE),\"\")","v":""},{"$f":"IFERROR(VLOOKUP(先攻T!DJ67,記号!$B$6:$C$10,2,FALSE),\"\")","v":""},{"$f":"IFERROR(VLOOKUP(先攻T!DK67,記号!$B$6:$C$10,2,FALSE),\"\")","v":""},{"$f":"IFERROR(VLOOKUP(先攻T!DL67,記号!$B$6:$C$10,2,FALSE),\"\")","v":""},{"$f":"IFERROR(VLOOKUP(先攻T!DM67,記号!$B$6:$C$10,2,FALSE),\"\")","v":""},{"$f":"IFERROR(VLOOKUP(先攻T!DN67,記号!$B$6:$C$10,2,FALSE),\"\")","v":""},{"$f":"IFERROR(VLOOKUP(先攻T!DV67,記号!$B$6:$C$10,2,FALSE),\"\")","v":""},{"$f":"IFERROR(VLOOKUP(先攻T!DW67,記号!$B$6:$C$10,2,FALSE),\"\")","v":""},{"$f":"IFERROR(VLOOKUP(先攻T!DX67,記号!$B$6:$C$10,2,FALSE),\"\")","v":""},{"$f":"IFERROR(VLOOKUP(先攻T!DY67,記号!$B$6:$C$10,2,FALSE),\"\")","v":""},{"$f":"IFERROR(VLOOKUP(先攻T!DZ67,記号!$B$6:$C$10,2,FALSE),\"\")","v":""},{"$f":"IFERROR(VLOOKUP(先攻T!EH67,記号!$B$6:$C$10,2,FALSE),\"\")","v":""},{"$f":"IFERROR(VLOOKUP(先攻T!EI67,記号!$B$6:$C$10,2,FALSE),\"\")","v":""},{"$f":"IFERROR(VLOOKUP(先攻T!EJ67,記号!$B$6:$C$10,2,FALSE),\"\")","v":""},{"$f":"IFERROR(VLOOKUP(先攻T!EK67,記号!$B$6:$C$10,2,FALSE),\"\")","v":""},{"$f":"IFERROR(VLOOKUP(先攻T!EL67,記号!$B$6:$C$10,2,FALSE),\"\")","v":""},{"$f":"IF(K48=\"\",\"\",VLOOKUP(K48,$C$84:$E$89,3,FALSE))","v":"RR"},{"$f":"IF(L48=\"\",\"\",(BX48+CG48+CH48+CI48))","v":3},{"$f":"IF(L48=\"\",\"\",(BY48+BZ48+CA48+CB48+CC48+CF48+CJ48+CM48+CN48))","v":3},{"$f":"IF(L48=\"\",\"\",COUNTIFS($N$47:$BU$47,L48,$N$52:$BU$52,$BY$3))","v":2},{"$f":"IF(L48=\"\",\"\",COUNTIFS($N$47:$BU$47,L48,$N$52:$BU$52,$BZ$3))","v":0},{"$f":"IF(L48=\"\",\"\",COUNTIFS($N$47:$BU$47,L48,$N$50:$BU$50,$CA$3))","v":1},{"$f":"IF(L48=\"\",\"\",COUNTIFS($N$47:$BU$47,L48,$N$50:$BU$50,$CB$3))","v":0},{"$f":"IF(L48=\"\",\"\",COUNTIFS($N$47:$BU$47,L48,$N$52:$BU$52,$CC$3))","v":0},{"$f":"IF(L48=\"\",\"\",SUMIF($N$47:$BU$47,L48,$N$52:$BU$52))","v":1},{"$f":"IF(L48=\"\",\"\",COUNTIFS($N$47:$BU$47,L48,$N$51:$BU$51,$CE$3))","v":0},{"$f":"IF(L48=\"\",\"\",COUNTIFS($N$47:$BU$47,L48,$N$52:$BU$52,$CF$3))","v":0},{"$f":"IF(L48=\"\",\"\",COUNTIFS($N$47:$BU$47,L48,$N$52:$BU$52,$CG$3))","v":0},{"$f":"IF(L48=\"\",\"\",COUNTIFS($N$47:$BU$47,L48,$N$52:$BU$52,$CH$3))","v":0},{"$f":"IF(L48=\"\",\"\",COUNTIFS($N$47:$BU$47,L48,$N$52:$BU$52,$CI$3))","v":0},{"$f":"IF(L48=\"\",\"\",COUNTIFS($N$47:$BU$47,L48,$N$52:$BU$52,$CJ$3))","v":0},{"$f":"IF(L48=\"\",\"\",COUNTIFS($N$47:$BU$47,L48,$N$52:$BU$52,$CK$3)+COUNTIFS($N$47:$BU$47,L48,$N$50:$BU$50,$CK$3))","v":0},{"$f":"IF(L48=\"\",\"\",COUNTIFS($N$47:$BU$47,L48,$N$52:$BU$52,$CL$3)+COUNTIFS($N$47:$BU$47,L48,$N$50:$BU$50,$CL$3))","v":0},{"$f":"IF(L48=\"\",\"\",COUNTIFS($N$47:$BU$47,L48,$N$52:$BU$52,$CM$3))","v":0},{"$f":"IF(L48=\"\",\"\",COUNTIFS($N$47:$BU$47,L48,$N$52:$BU$52,$CN$3))","v":0},{"$f":"IF(L48=\"\",\"\",COUNTIFS($N$47:$BU$47,L48,$N$48:$BU$48,$CO$3)+COUNTIFS($N$47:$BU$47,L48,$N$49:$BU$49,$CO$3))","v":7},"先","遊ゴロ",null,null,null,null,"G",{"$f":"IF(DA48=\"\",\"\",VLOOKUP(DA48,$C$84:$E$89,3,FALSE))","v":"RR"},2,"遊",6,"先",null,null,null,"","","","","","","",null,null,null,null,null,null,null,null,null,null,null,null,null,null,null,null,null,2,{"$f":"IF(EC48=\"\",\"\",VLOOKUP(EC48,$C$29:$D$58,2,FALSE))","v":"菊池　亮太"},{"$f":"IF(EC48=\"\",\"\",COUNTIFS($N$47:$BU$47,EC48,$N$52:$BU$52,\"RZ\"))","v":2},{"$f":"IF(ED48=\"\",\"\",COUNTIFS($N$47:$BU$47,EC48,$N$51:$BU$51,\"ZH\"))","v":0},null,null,null,null,null,null,null,null,null,null,null,null,null,null,null,null,null,null,null,null,null,null,null,null,null,null,null,null,null,null,null,null,null,null,null,null,null,null,null,null,null,null,null,null,null,null,null,null,null,null,null,null,null,null,null,null,null,null,null,null,null,null,null,null,null,null,null,null,null,null,null,null,null,null,null,null,null,null,null,null,null,null,null,null,null,null,null,null,null,null,null,null,"菊池　亮太",{"$f":"IF(L48=\"\",\"\",L48)","v":2},{"$f":"IF(HU48=\"\",\"\",COUNTIFS($N$47:$BU$47,HV48,$N$48:$BU$48,$HW$3)+COUNTIFS($N$47:$BU$47,HV48,$N$49:$BU$49,$HW$3))","v":7},{"$f":"IF(HU48=\"\",\"\",COUNTIFS($N$47:$BU$47,HV48,$N$48:$BU$48,$HX$3)+COUNTIFS($N$47:$BU$47,HV48,$N$49:$BU$49,$HX$3))","v":2},{"$f":"IF(HU48=\"\",\"\",COUNTIFS($N$47:$BU$47,HV48,$N$48:$BU$48,$HY$3)+COUNTIFS($N$47:$BU$47,HV48,$N$49:$BU$49,$HY$3))","v":2},{"$f":"IF(HU48=\"\",\"\",COUNTIFS($N$47:$BU$47,HV48,$N$48:$BU$48,$HZ$3)+COUNTIFS($N$47:$BU$47,HV48,$N$49:$BU$49,$HZ$3))","v":0},{"$f":"IF(HU48=\"\",\"\",COUNTIFS($N$47:$BU$47,HV48,$N$48:$BU$48,$IA$3)+COUNTIFS($N$47:$BU$47,HV48,$N$49:$BU$49,$IA$3))","v":0},{"$f":"IF(HU48=\"\",\"\",COUNTIFS($N$47:$BU$47,HV48,$N$48:$BU$48,$IB$3)+COUNTIFS($N$47:$BU$47,HV48,$N$49:$BU$49,$IB$3))","v":3}]
[null,null,0,null,null,null,null,null,null,{"$f":"IF(L49=\"\",\"\",VLOOKUP(L49,$C$29:$D$58,2,FALSE))","v":""},null,null,null,{"$f":"IFERROR(VLOOKUP(先攻T!K67,記号!$B$6:$C$10,2,FALSE),\"\")","v":""},{"$f":"IFERROR(VLOOKUP(先攻T!L67,記号!$B$6:$C$10,2,FALSE),\"\")","v":""},{"$f":"IFERROR(VLOOKUP(先攻T!F69,記号!$B$6:$C$10,2,FALSE),\"\")","v":""},{"$f":"IFERROR(VLOOKUP(先攻T!G69,記号!$B$6:$C$10,2,FALSE),\"\")","v":""},{"$f":"IFERROR(VLOOKUP(先攻T!H69,記号!$B$6:$C$10,2,FALSE),\"\")","v":""},{"$f":"IFERROR(VLOOKUP(先攻T!W67,記号!$B$6:$C$10,2,FALSE),\"\")","v":""},{"$f":"IFERROR(VLOOKUP(先攻T!X67,記号!$B$6:$C$10,2,FALSE),\"\")","v":""},{"$f":"IFERROR(VLOOKUP(先攻T!R69,記号!$B$6:$C$10,2,FALSE),\"\")","v":""},{"$f":"IFERROR(VLOOKUP(先攻T!S69,記号!$B$6:$C$10,2,FALSE),\"\")","v":""},{"$f":"IFERROR(VLOOKUP(先攻T!T69,記号!$B$6:$C$10,2,FALSE),\"\")","v":""},{"$f":"IFERROR(VLOOKUP(先攻T!AI67,記号!$B$6:$C$10,2,FALSE),\"\")","v":""},{"$f":"IFERROR(VLOOKUP(先攻T!AJ67,記号!$B$6:$C$10,2,FALSE),\"\")","v":""},{"$f":"IFERROR(VLOOKUP(先攻T!AD69,記号!$B$6:$C$10,2,FALSE),\"\")","v":""},{"$f":"IFERROR(VLOOKUP(先攻T!AE69,記号!$B$6:$C$10,2,FALSE),\"\")","v":""},{"$f":"IFERROR(VLOOKUP(先攻T!AF69,記号!$B$6:$C$10,2,FALSE),\"\")","v":""},{"$f":"IFERROR(VLOOKUP(先攻T!AU67,記号!$B$6:$C$10,2,FALSE),\"\")","v":""},{"$f":"IFERROR(VLOOKUP(先攻T!AV67,記号!$B$6:$C$10,2,FALSE),\"\")","v":""},{"$f":"IFERROR(VLOOKUP(先攻T!AP69,記号!$B$6:$C$10,2,FALSE),\"\")","v":""},{"$f":"IFERROR(VLOOKUP(先攻T!AQ69,記号!$B$6:$C$10,2,FALSE),\"\")","v":""},{"$f":"IFERROR(VLOOKUP(先攻T!AR69,記号!$B$6:$C$10,2,FALSE),\"\")","v":""},{"$f":"IFERROR(VLOOKUP(先攻T!BG67,記号!$B$6:$C$10,2,FALSE),\"\")","v":""},{"$f":"IFERROR(VLOOKUP(先攻T!BH67,記号!$B$6:$C$10,2,FALSE),\"\")","v":""},{"$f":"IFERROR(VLOOKUP(先攻T!BB69,記号!$B$6:$C$10,2,FALSE),\"\")","v":""},{"$f":"IFERROR(VLOOKUP(先攻T!BC69,記号!$B$6:$C$10,2,FALSE),\"\")","v":""},{"$f":"IFERROR(VLOOKUP(先攻T!BD69,記号!$B$6:$C$10,2,FALSE),\"\")","v":""},{"$f":"IFERROR(VLOOKUP(先攻T!BS67,記号!$B$6:$C$10,2,FALSE),\"\")","v":""},{"$f":"IFERROR(VLOOKUP(先攻T!BT67,記号!$B$6:$C$10,2,FALSE),\"\")","v":""},{"$f":"IFERROR(VLOOKUP(先攻T!BN69,記号!$B$6:$C$10,2,FALSE),\"\")","v":""},{"$f":"IFERROR(VLOOKUP(先攻T!BO69,記号!$B$6:$C$10,2,FALSE),\"\")","v":""},{"$f":"IFERROR(VLOOKUP(先攻T!BP69,記号!$B$6:$C$10,2,FALSE),\"\")","v":""},{"$f":"IFERROR(VLOOKUP(先攻T!CE67,記号!$B$6:$C$10,2,FALSE),\"\")","v":""},{"$f":"IFERROR(VLOOKUP(先攻T!CF67,記号!$B$6:$C$10,2,FALSE),\"\")","v":""},{"$f":"IFERROR(VLOOKUP(先攻T!BZ69,記号!$B$6:$C$10,2,FALSE),\"\")","v":""},{"$f":"IFERROR(VLOOKUP(先攻T!CA69,記号!$B$6:$C$10,2,FALSE),\"\")","v":""},{"$f":"IFERROR(VLOOKUP(先攻T!CB69,記号!$B$6:$C$10,2,FALSE),\"\")","v":""},{"$f":"IFERROR(VLOOKUP(先攻T!CQ67,記号!$B$6:$C$10,2,FALSE),\"\")","v":""},{"$f":"IFERROR(VLOOKUP(先攻T!CR67,記号!$B$6:$C$10,2,FALSE),\"\")","v":""},{"$f":"IFERROR(VLOOKUP(先攻T!CL69,記号!$B$6:$C$10,2,FALSE),\"\")","v":""},{"$f":"IFERROR(VLOOKUP(先攻T!CM69,記号!$B$6:$C$10,2,FALSE),\"\")","v":""},{"$f":"IFERROR(VLOOKUP(先攻T!CN69,記号!$B$6:$C$10,2,FALSE),\"\")","v":""},{"$f":"IFERROR(VLOOKUP(先攻T!DC67,記号!$B$6:$C$10,2,FALSE),\"\")","v":""},{"$f":"IFERROR(VLOOKUP(先攻T!DD67,記号!$B$6:$C$10,2,FALSE),\"\")","v":""},{"$f":"IFERROR(VLOOKUP(先攻T!CX69,記号!$B$6:$C$10,2,FALSE),\"\")","v":""},{"$f":"IFERROR(VLOOKUP(先攻T!CY69,記号!$B$6:$C$10,2,FALSE),\"\")","v":""},{"$f":"IFERROR(VLOOKUP(先攻T!CZ69,記号!$B$6:$C$10,2,FALSE),\"\")","v":""},{"$f":"IFERROR(VLOOKUP(先攻T!DO67,記号!$B$6:$C$10,2,FALSE),\"\")","v":""},{"$f":"IFERROR(VLOOKUP(先攻T!DP67,記号!$B$6:$C$10,2,FALSE),\"\")","v":""},{"$f":"IFERROR(VLOOKUP(先攻T!DJ69,記号!$B$6:$C$10,2,FALSE),\"\")","v":""},{"$f":"IFERROR(VLOOKUP(先攻T!DK69,記号!$B$6:$C$10,2,FALSE),\"\")","v":""},{"$f":"IFERROR(VLOOKUP(先攻T!DL69,記号!$B$6:$C$10,2,FALSE),\"\")","v":""},{"$f":"IFERROR(VLOOKUP(先攻T!EA67,記号!$B$6:$C$10,2,FALSE),\"\")","v":""},{"$f":"IFERROR(VLOOKUP(先攻T!EB67,記号!$B$6:$C$10,2,FALSE),\"\")","v":""},{"$f":"IFERROR(VLOOKUP(先攻T!DV69,記号!$B$6:$C$10,2,FALSE),\"\")","v":""},{"$f":"IFERROR(VLOOKUP(先攻T!DW69,記号!$B$6:$C$10,2,FALSE),\"\")","v":""},{"$f":"IFERROR(VLOOKUP(先攻T!DX69,記号!$B$6:$C$10,2,FALSE),\"\")","v":""},{"$f":"IFERROR(VLOOKUP(先攻T!EM67,記号!$B$6:$C$10,2,FALSE),\"\")","v":""},{"$f":"IFERROR(VLOOKUP(先攻T!EN67,記号!$B$6:$C$10,2,FALSE),\"\")","v":""},{"$f":"IFERROR(VLOOKUP(先攻T!EH69,記号!$B$6:$C$10,2,FALSE),\"\")","v":""},{"$f":"IFERROR(VLOOKUP(先攻T!EI69,記号!$B$6:$C$10,2,FALSE),\"\")","v":""},{"$f":"IFERROR(VLOOKUP(先攻T!EJ69,記号!$B$6:$C$10,2,FALSE),\"\")","v":""},{"$f":"IF(K49=\"\",\"\",VLOOKUP(K49,$C$84:$E$89,3,FALSE))","v":""},{"$f":"IF(L49=\"\",\"\",(BX49+CG49+CH49+CI49))","v":""},"",{"$f":"IF(L49=\"\",\"\",COUNTIFS($N$47:$BU$47,L49,$N$52:$BU$52,$BY$3))","v":""},{"$f":"IF(L49=\"\",\"\",COUNTIFS($N$47:$BU$47,L49,$N$52:$BU$52,$BZ$3))","v":""},{"$f":"IF(L49=\"\",\"\",COUNTIFS($N$47:$BU$47,L49,$N$50:$BU$50,$CA$3))","v":""},{"$f":"IF(L49=\"\",\"\",COUNTIFS($N$47:$BU$47,L49,$N$50:$BU$50,$CB$3))","v":""},{"$f":"IF(L49=\"\",\"\",COUNTIFS($N$47:$BU$47,L49,$N$52:$BU$52,$CC$3))","v":""},{"$f":"IF(L49=\"\",\"\",SUMIF($N$47:$BU$47,L49,$N$52:$BU$52))","v":""},{"$f":"IF(L49=\"\",\"\",COUNTIFS($N$47:$BU$47,L49,$N$51:$BU$51,$CE$3))","v":""},{"$f":"IF(L49=\"\",\"\",COUNTIFS($N$47:$BU$47,L49,$N$52:$BU$52,$CF$3))","v":""},{"$f":"IF(L49=\"\",\"\",COUNTIFS($N$47:$BU$47,L49,$N$52:$BU$52,$CG$3))","v":""},{"$f":"IF(L49=\"\",\"\",COUNTIFS($N$47:$BU$47,L49,$N$52:$BU$52,$CH$3))","v":""},{"$f":"IF(L49=\"\",\"\",COUNTIFS($N$47:$BU$47,L49,$N$52:$BU$52,$CI$3))","v":""},{"$f":"IF(L49=\"\",\"\",COUNTIFS($N$47:$BU$47,L49,$N$52:$BU$52,$CJ$3))","v":""},{"$f":"IF(L49=\"\",\"\",COUNTIFS($N$47:$BU$47,L49,$N$52:$BU$52,$CK$3)+COUNTIFS($N$47:$BU$47,L49,$N$50:$BU$50,$CK$3))","v":""},{"$f":"IF(L49=\"\",\"\",COUNTIFS($N$47:$BU$47,L49,$N$52:$BU$52,$CL$3)+COUNTIFS($N$47:$BU$47,L49,$N$50:$BU$50,$CL$3))","v":""},{"$f":"IF(L49=\"\",\"\",COUNTIFS($N$47:$BU$47,L49,$N$52:$BU$52,$CM$3))","v":""},{"$f":"IF(L49=\"\",\"\",COUNTIFS($N$47:$BU$47,L49,$N$52:$BU$52,$CN$3))","v":""},{"$f":"IF(L49=\"\",\"\",COUNTIFS($N$47:$BU$47,L49,$N$48:$BU$48,$CO$3)+COUNTIFS($N$47:$BU$47,L49,$N$49:$BU$49,$CO$3))","v":""},null,"一ゴロ",null,null,null,null,"G",{"$f":"IF(DA49=\"\",\"\",VLOOKUP(DA49,$C$84:$E$89,3,FALSE))","v":"RR"},2,"一",3,"先",null,null,null,"","","","","","","",null,null,null,null,null,null,null,null,null,null,null,null,null,null,null,null,null,"","",{"$f":"IF(EC49=\"\",\"\",COUNTIFS($N$47:$BU$47,EC49,$N$52:$BU$52,\"RZ\"))","v":""},{"$f":"IF(ED49=\"\",\"\",COUNTIFS($N$47:$BU$47,EC49,$N$51:$BU$51,\"ZH\"))","v":""},null,null,null,null,null,null,null,null,null,null,null,null,null,null,null,null,null,null,null,null,null,null,null,null,null,null,null,null,null,null,null,null,null,null,null,null,null,null,null,null,null,null,null,null,null,null,null,null,null,null,null,null,null,null,null,null,null,null,null,null,null,null,null,null,null,null,null,null,null,null,null,null,null,null,null,null,null,null,null,null,null,null,null,null,null,null,null,null,null,null,null,null,"","",{"$f":"IF(HU49=\"\",\"\",COUNTIFS($N$47:$BU$47,HV49,$N$48:$BU$48,$HW$3)+COUNTIFS($N$47:$BU$47,HV49,$N$49:$BU$49,$HW$3))","v":""},{"$f":"IF(HU49=\"\",\"\",COUNTIFS($N$47:$BU$47,HV49,$N$48:$BU$48,$HX$3)+COUNTIFS($N$47:$BU$47,HV49,$N$49:$BU$49,$HX$3))","v":""},{"$f":"IF(HU49=\"\",\"\",COUNTIFS($N$47:$BU$47,HV49,$N$48:$BU$48,$HY$3)+COUNTIFS($N$47:$BU$47,HV49,$N$49:$BU$49,$HY$3))","v":""},{"$f":"IF(HU49=\"\",\"\",COUNTIFS($N$47:$BU$47,HV49,$N$48:$BU$48,$HZ$3)+COUNTIFS($N$47:$BU$47,HV49,$N$49:$BU$49,$HZ$3))","v":""},{"$f":"IF(HU49=\"\",\"\",COUNTIFS($N$47:$BU$47,HV49,$N$48:$BU$48,$IA$3)+COUNTIFS($N$47:$BU$47,HV49,$N$49:$BU$49,$IA$3))","v":""},{"$f":"IF(HU49=\"\",\"\",COUNTIFS($N$47:$BU$47,HV49,$N$48:$BU$48,$IB$3)+COUNTIFS($N$47:$BU$47,HV49,$N$49:$BU$49,$IB$3))","v":""}]
[null,null,0,null,null,null,null,null,null,{"$f":"IF(L50=\"\",\"\",VLOOKUP(L50,$C$29:$D$58,2,FALSE))","v":""},null,null,null,{"$f":"IFERROR(VLOOKUP(先攻T!F72,記号!$I$27:$J$30,2,FALSE),\"\")","v":""},{"$f":"IFERROR(VLOOKUP(先攻T!H71,記号!$L$5:$M$21,2,FALSE),\"\")","v":""},{"$f":"IFERROR(VLOOKUP(先攻T!H73,記号!$F$27:$G$37,2,FALSE),\"\")","v":""},{"$f":"IFERROR(VLOOKUP(先攻T!G71,記号!$I$5:$J$23,2,FALSE),\"\")","v":""},null,{"$f":"IFERROR(VLOOKUP(先攻T!R72,記号!$I$27:$J$30,2,FALSE),\"\")","v":"G"},{"$f":"IFERROR(VLOOKUP(先攻T!T71,記号!$L$5:$M$21,2,FALSE),\"\")","v":""},{"$f":"IFERROR(VLOOKUP(先攻T!T73,記号!$F$27:$G$37,2,FALSE),\"\")","v":""},{"$f":"IFERROR(VLOOKUP(先攻T!S71,記号!$I$5:$J$23,2,FALSE),\"\")","v":""},null,{"$f":"IFERROR(VLOOKUP(先攻T!AD72,記号!$I$27:$J$30,2,FALSE),\"\")","v":""},{"$f":"IFERROR(VLOOKUP(先攻T!AF71,記号!$L$5:$M$21,2,FALSE),\"\")","v":""},{"$f":"IFERROR(VLOOKUP(先攻T!AF73,記号!$F$27:$G$37,2,FALSE),\"\")","v":""},{"$f":"IFERROR(VLOOKUP(先攻T!AE71,記号!$I$5:$J$23,2,FALSE),\"\")","v":""},null,{"$f":"IFERROR(VLOOKUP(先攻T!AP72,記号!$I$27:$J$30,2,FALSE),\"\")","v":"G"},{"$f":"IFERROR(VLOOKUP(先攻T!AR71,記号!$L$5:$M$21,2,FALSE),\"\")","v":""},{"$f":"IFERROR(VLOOKUP(先攻T!AR73,記号!$F$27:$G$37,2,FALSE),\"\")","v":""},{"$f":"IFERROR(VLOOKUP(先攻T!AQ71,記号!$I$5:$J$23,2,FALSE),\"\")","v":""},null,{"$f":"IFERROR(VLOOKUP(先攻T!BB72,記号!$I$27:$J$30,2,FALSE),\"\")","v":""},{"$f":"IFERROR(VLOOKUP(先攻T!BD71,記号!$L$5:$M$21,2,FALSE),\"\")","v":""},{"$f":"IFERROR(VLOOKUP(先攻T!BD73,記号!$F$27:$G$37,2,FALSE),\"\")","v":""},{"$f":"IFERROR(VLOOKUP(先攻T!BC71,記号!$I$5:$J$23,2,FALSE),\"\")","v":""},null,{"$f":"IFERROR(VLOOKUP(先攻T!BN51,記号!$I$27:$J$30,2,FALSE),\"\")","v":""},{"$f":"IFERROR(VLOOKUP(先攻T!BP71,記号!$L$5:$M$21,2,FALSE),\"\")","v":""},{"$f":"IFERROR(VLOOKUP(先攻T!BP73,記号!$F$27:$G$37,2,FALSE),\"\")","v":""},{"$f":"IFERROR(VLOOKUP(先攻T!BO71,記号!$I$5:$J$23,2,FALSE),\"\")","v":""},null,{"$f":"IFERROR(VLOOKUP(先攻T!BZ72,記号!$I$27:$J$30,2,FALSE),\"\")","v":"F"},{"$f":"IFERROR(VLOOKUP(先攻T!CB71,記号!$L$5:$M$21,2,FALSE),\"\")","v":""},{"$f":"IFERROR(VLOOKUP(先攻T!CB73,記号!$F$27:$G$37,2,FALSE),\"\")","v":""},{"$f":"IFERROR(VLOOKUP(先攻T!CA71,記号!$I$5:$J$23,2,FALSE),\"\")","v":"H2"},null,{"$f":"IFERROR(VLOOKUP(先攻T!CL72,記号!$I$27:$J$30,2,FALSE),\"\")","v":""},{"$f":"IFERROR(VLOOKUP(先攻T!CN71,記号!$L$5:$M$21,2,FALSE),\"\")","v":""},{"$f":"IFERROR(VLOOKUP(先攻T!CN73,記号!$F$27:$G$37,2,FALSE),\"\")","v":""},{"$f":"IFERROR(VLOOKUP(先攻T!CM71,記号!$I$5:$J$23,2,FALSE),\"\")","v":""},null,{"$f":"IFERROR(VLOOKUP(先攻T!CX72,記号!$I$27:$J$30,2,FALSE),\"\")","v":""},{"$f":"IFERROR(VLOOKUP(先攻T!CZ71,記号!$L$5:$M$21,2,FALSE),\"\")","v":""},{"$f":"IFERROR(VLOOKUP(先攻T!CZ73,記号!$F$27:$G$37,2,FALSE),\"\")","v":""},{"$f":"IFERROR(VLOOKUP(先攻T!CY71,記号!$I$5:$J$23,2,FALSE),\"\")","v":""},null,{"$f":"IFERROR(VLOOKUP(先攻T!DJ72,記号!$I$27:$J$30,2,FALSE),\"\")","v":""},{"$f":"IFERROR(VLOOKUP(先攻T!DL71,記号!$L$5:$M$21,2,FALSE),\"\")","v":""},{"$f":"IFERROR(VLOOKUP(先攻T!DL73,記号!$F$27:$G$37,2,FALSE),\"\")","v":""},{"$f":"IFERROR(VLOOKUP(先攻T!DK71,記号!$I$5:$J$23,2,FALSE),\"\")","v":""},null,{"$f":"IFERROR(VLOOKUP(先攻T!DV572,記号!$I$27:$J$30,2,FALSE),\"\")","v":""},{"$f":"IFERROR(VLOOKUP(先攻T!DX71,記号!$L$5:$M$21,2,FALSE),\"\")","v":""},{"$f":"IFERROR(VLOOKUP(先攻T!DX73,記号!$F$27:$G$37,2,FALSE),\"\")","v":""},{"$f":"IFERROR(VLOOKUP(先攻T!DW71,記号!$I$5:$J$23,2,FALSE),\"\")","v":""},null,{"$f":"IFERROR(VLOOKUP(先攻T!EH72,記号!$I$27:$J$30,2,FALSE),\"\")","v":""},{"$f":"IFERROR(VLOOKUP(先攻T!EJ71,記号!$L$5:$M$21,2,FALSE),\"\")","v":""},{"$f":"IFERROR(VLOOKUP(先攻T!EJ73,記号!$F$27:$G$37,2,FALSE),\"\")","v":""},{"$f":"IFERROR(VLOOKUP(先攻T!EI71,記号!$I$5:$J$23,2,FALSE),\"\")","v":""},null,{"$f":"IF(K50=\"\",\"\",VLOOKUP(K50,$C$84:$E$89,3,FALSE))","v":""},{"$f":"IF(L50=\"\",\"\",(BX50+CG50+CH50+CI50))","v":""},"",{"$f":"IF(L50=\"\",\"\",COUNTIFS($N$47:$BU$47,L50,$N$52:$BU$52,$BY$3))","v":""},{"$f":"IF(L50=\"\",\"\",COUNTIFS($N$47:$BU$47,L50,$N$52:$BU$52,$BZ$3))","v":""},{"$f":"IF(L50=\"\",\"\",COUNTIFS($N$47:$BU$47,L50,$N$50:$BU$50,$CA$3))","v":""},{"$f":"IF(L50=\"\",\"\",COUNTIFS($N$47:$BU$47,L50,$N$50:$BU$50,$CB$3))","v":""},{"$f":"IF(L50=\"\",\"\",COUNTIFS($N$47:$BU$47,L50,$N$52:$BU$52,$CC$3))","v":""},{"$f":"IF(L50=\"\",\"\",SUMIF($N$47:$BU$47,L50,$N$52:$BU$52))","v":""},{"$f":"IF(L50=\"\",\"\",COUNTIFS($N$47:$BU$47,L50,$N$51:$BU$51,$CE$3))","v":""},{"$f":"IF(L50=\"\",\"\",COUNTIFS($N$47:$BU$47,L50,$N$52:$BU$52,$CF$3))","v":""},{"$f":"IF(L50=\"\",\"\",COUNTIFS($N$47:$BU$47,L50,$N$52:$BU$52,$CG$3))","v":""},{"$f":"IF(L50=\"\",\"\",COUNTIFS($N$47:$BU$47,L50,$N$52:$BU$52,$CH$3))","v":""},{"$f":"IF(L50=\"\",\"\",COUNTIFS($N$47:$BU$47,L50,$N$52:$BU$52,$CI$3))","v":""},{"$f":"IF(L50=\"\",\"\",COUNTIFS($N$47:$BU$47,L50,$N$52:$BU$52,$CJ$3))","v":""},{"$f":"IF(L50=\"\",\"\",COUNTIFS($N$47:$BU$47,L50,$N$52:$BU$52,$CK$3)+COUNTIFS($N$47:$BU$47,L50,$N$50:$BU$50,$CK$3))","v":""},{"$f":"IF(L50=\"\",\"\",COUNTIFS($N$47:$BU$47,L50,$N$52:$BU$52,$CL$3)+COUNTIFS($N$47:$BU$47,L50,$N$50:$BU$50,$CL$3))","v":""},{"$f":"IF(L50=\"\",\"\",COUNTIFS($N$47:$BU$47,L50,$N$52:$BU$52,$CM$3))","v":""},{"$f":"IF(L50=\"\",\"\",COUNTIFS($N$47:$BU$47,L50,$N$52:$BU$52,$CN$3))","v":""},{"$f":"IF(L50=\"\",\"\",COUNTIFS($N$47:$BU$47,L50,$N$48:$BU$48,$CO$3)+COUNTIFS($N$47:$BU$47,L50,$N$49:$BU$49,$CO$3))","v":""},null,"飛左安",null,null,null,null,"A","RR",2,"左",7,"先",null,null,null,"","","","","","","",null,null,null,null,null,null,null,null,null,null,null,null,null,null,null,null,null,"","",{"$f":"IF(EC50=\"\",\"\",COUNTIFS($N$47:$BU$47,EC50,$N$52:$BU$52,\"RZ\"))","v":""},{"$f":"IF(ED50=\"\",\"\",COUNTIFS($N$47:$BU$47,EC50,$N$51:$BU$51,\"ZH\"))","v":""},null,null,null,null,null,null,null,null,null,null,null,null,null,null,null,null,null,null,null,null,null,null,null,null,null,null,null,null,null,null,null,null,null,null,null,null,null,null,null,null,null,null,null,null,null,null,null,null,null,null,null,null,null,null,null,null,null,null,null,null,null,null,null,null,null,null,null,null,null,null,null,null,null,null,null,null,null,null,null,null,null,null,null,null,null,null,null,null,null,null,null,null,"","","","","","","",""]
[null,null,0,null,null,null,null,null,null,{"$f":"IF(L51=\"\",\"\",VLOOKUP(L51,$C$29:$D$58,2,FALSE))","v":""},null,null,null,{"$f":"IF(N47=\"\",\"\",IF(N47=L48+0.2,\"2\",IF(N47=L48+0.3,\"3\",IF(N47=L48+0.4,\"4\",IF(N47=L48+0.5,\"5\",\"先\")))))","v":"先"},{"$f":"IFERROR(VLOOKUP(先攻T!I73,記号!$F$27:$G$37,2,FALSE),\"\")","v":""},{"$f":"IFERROR(VLOOKUP(先攻T!J71,記号!$R$5:$S$10,2,FALSE),\"\")","v":""},{"$f":"IFERROR(VLOOKUP(先攻T!G73,記号!$F$27:$G$37,2,FALSE),\"\")","v":""},{"$f":"IFERROR(VLOOKUP(先攻T!L71,記号!$U$12:$V$13,2,FALSE),\"\")","v":""},{"$f":"IF(S47=\"\",\"\",IF(S47=L48+0.2,\"2\",IF(S47=L48+0.3,\"3\",IF(S47=L48+0.4,\"4\",IF(S47=L48+0.5,\"5\",\"先\")))))","v":"先"},{"$f":"IFERROR(VLOOKUP(先攻T!U73,記号!$F$27:$G$37,2,FALSE),\"\")","v":""},{"$f":"IFERROR(VLOOKUP(先攻T!V71,記号!$R$5:$S$10,2,FALSE),\"\")","v":"Ⅲ"},{"$f":"IFERROR(VLOOKUP(先攻T!S73,記号!$F$27:$G$37,2,FALSE),\"\")","v":""},{"$f":"IFERROR(VLOOKUP(先攻T!X71,記号!$U$12:$V$13,2,FALSE),\"\")","v":""},{"$f":"IF(X47=\"\",\"\",IF(X47=L48+0.2,\"2\",IF(X47=L48+0.3,\"3\",IF(X47=L48+0.4,\"4\",IF(X47=L48+0.5,\"5\",\"先\")))))","v":"先"},{"$f":"IFERROR(VLOOKUP(先攻T!AG73,記号!$F$27:$G$37,2,FALSE),\"\")","v":""},{"$f":"IFERROR(VLOOKUP(先攻T!AH71,記号!$R$5:$S$10,2,FALSE),\"\")","v":""},{"$f":"IFERROR(VLOOKUP(先攻T!AE73,記号!$F$27:$G$37,2,FALSE),\"\")","v":""},{"$f":"IFERROR(VLOOKUP(先攻T!AJ71,記号!$U$12:$V$13,2,FALSE),\"\")","v":""},{"$f":"IF(AC47=\"\",\"\",IF(AC47=L48+0.2,\"2\",IF(AC47=L48+0.3,\"3\",IF(AC47=L48+0.4,\"4\",IF(AC47=L48+0.5,\"5\",\"先\")))))","v":"先"},{"$f":"IFERROR(VLOOKUP(先攻T!AS73,記号!$F$27:$G$37,2,FALSE),\"\")","v":""},{"$f":"IFERROR(VLOOKUP(先攻T!AT71,記号!$R$5:$S$10,2,FALSE),\"\")","v":"Ⅲ"},{"$f":"IFERROR(VLOOKUP(先攻T!AQ73,記号!$F$27:$G$37,2,FALSE),\"\")","v":""},{"$f":"IFERROR(VLOOKUP(先攻T!AV71,記号!$U$12:$V$13,2,FALSE),\"\")","v":""},{"$f":"IF(AH47=\"\",\"\",IF(AH47=L48+0.2,\"2\",IF(AH47=L48+0.3,\"3\",IF(AH47=L48+0.4,\"4\",IF(AH47=L48+0.5,\"5\",\"先\")))))","v":"先"},{"$f":"IFERROR(VLOOKUP(先攻T!BE73,記号!$F$27:$G$37,2,FALSE),\"\")","v":""},{"$f":"IFERROR(VLOOKUP(先攻T!BF71,記号!$R$5:$S$10,2,FALSE),\"\")","v":""},{"$f":"IFERROR(VLOOKUP(先攻T!BC73,記号!$F$27:$G$37,2,FALSE),\"\")","v":""},{"$f":"IFERROR(VLOOKUP(先攻T!BH71,記号!$U$12:$V$13,2,FALSE),\"\")","v":""},{"$f":"IF(AM47=\"\",\"\",IF(AM47=L48+0.2,\"2\",IF(AM47=L48+0.3,\"3\",IF(AM47=L48+0.4,\"4\",IF(AM47=L48+0.5,\"5\",\"先\")))))","v":"先"},{"$f":"IFERROR(VLOOKUP(先攻T!BQ73,記号!$F$27:$G$37,2,FALSE),\"\")","v":""},{"$f":"IFERROR(VLOOKUP(先攻T!BR71,記号!$R$5:$S$10,2,FALSE),\"\")","v":""},{"$f":"IFERROR(VLOOKUP(先攻T!BO73,記号!$F$27:$G$37,2,FALSE),\"\")","v":""},{"$f":"IFERROR(VLOOKUP(先攻T!BT71,記号!$U$12:$V$13,2,FALSE),\"\")","v":""},{"$f":"IF(AR47=\"\",\"\",IF(AR47=L48+0.2,\"2\",IF(AR47=L48+0.3,\"3\",IF(AR47=L48+0.4,\"4\",IF(AR47=L48+0.5,\"5\",\"先\")))))","v":"先"},{"$f":"IFERROR(VLOOKUP(先攻T!CC73,記号!$F$27:$G$37,2,FALSE),\"\")","v":""},{"$f":"IFERROR(VLOOKUP(先攻T!CD71,記号!$R$5:$S$10,2,FALSE),\"\")","v":"L"},{"$f":"IFERROR(VLOOKUP(先攻T!CA73,記号!$F$27:$G$37,2,FALSE),\"\")","v":""},{"$f":"IFERROR(VLOOKUP(先攻T!CF71,記号!$U$12:$V$13,2,FALSE),\"\")","v":""},{"$f":"IF(AW47=\"\",\"\",IF(AW47=L48+0.2,\"2\",IF(AW47=L48+0.3,\"3\",IF(AW47=L48+0.4,\"4\",IF(AW47=L48+0.5,\"5\",\"先\")))))","v":"先"},{"$f":"IFERROR(VLOOKUP(先攻T!CO73,記号!$F$27:$G$37,2,FALSE),\"\")","v":""},{"$f":"IFERROR(VLOOKUP(先攻T!CP71,記号!$R$5:$S$10,2,FALSE),\"\")","v":""},{"$f":"IFERROR(VLOOKUP(先攻T!CM73,記号!$F$27:$G$37,2,FALSE),\"\")","v":""},{"$f":"IFERROR(VLOOKUP(先攻T!CR571,記号!$U$12:$V$13,2,FALSE),\"\")","v":""},{"$f":"IF(BB47=\"\",\"\",IF(BB47=L48+0.2,\"2\",IF(BB47=L48+0.3,\"3\",IF(BB47=L48+0.4,\"4\",IF(BB47=L48+0.5,\"5\",\"先\")))))","v":"先"},{"$f":"IFERROR(VLOOKUP(先攻T!DA73,記号!$F$27:$G$37,2,FALSE),\"\")","v":""},{"$f":"IFERROR(VLOOKUP(先攻T!DB71,記号!$R$5:$S$10,2,FALSE),\"\")","v":""},{"$f":"IFERROR(VLOOKUP(先攻T!CY73,記号!$F$27:$G$37,2,FALSE),\"\")","v":""},{"$f":"IFERROR(VLOOKUP(先攻T!DD71,記号!$U$12:$V$13,2,FALSE),\"\")","v":""},{"$f":"IF(BG47=\"\",\"\",IF(BG47=L48+0.2,\"2\",IF(BG47=L48+0.3,\"3\",IF(BG47=L48+0.4,\"4\",IF(BG47=L48+0.5,\"5\",\"先\")))))","v":"先"},{"$f":"IFERROR(VLOOKUP(先攻T!DM73,記号!$F$27:$G$37,2,FALSE),\"\")","v":""},{"$f":"IFERROR(VLOOKUP(先攻T!DN71,記号!$R$5:$S$10,2,FALSE),\"\")","v":""},{"$f":"IFERROR(VLOOKUP(先攻T!DK73,記号!$F$27:$G$37,2,FALSE),\"\")","v":""},{"$f":"IFERROR(VLOOKUP(先攻T!DP71,記号!$U$12:$V$13,2,FALSE),\"\")","v":""},{"$f":"IF(BL47=\"\",\"\",IF(BL47=L48+0.2,\"2\",IF(BL47=L48+0.3,\"3\",IF(BL47=L48+0.4,\"4\",IF(BL47=L48+0.5,\"5\",\"先\")))))","v":"先"},{"$f":"IFERROR(VLOOKUP(先攻T!DY73,記号!$F$27:$G$37,2,FALSE),\"\")","v":""},{"$f":"IFERROR(VLOOKUP(先攻T!DZ71,記号!$R$5:$S$10,2,FALSE),\"\")","v":""},{"$f":"IFERROR(VLOOKUP(先攻T!DW73,記号!$F$27:$G$37,2,FALSE),\"\")","v":""},{"$f":"IFERROR(VLOOKUP(先攻T!EB71,記号!$U$12:$V$13,2,FALSE),\"\")","v":""},{"$f":"IF(BQ47=\"\",\"\",IF(BQ47=L48+0.2,\"2\",IF(BQ47=L48+0.3,\"3\",IF(BQ47=L48+0.4,\"4\",IF(BQ47=L48+0.5,\"5\",\"先\")))))","v":"先"},{"$f":"IFERROR(VLOOKUP(先攻T!EK73,記号!$F$27:$G$37,2,FALSE),\"\")","v":""},{"$f":"IFERROR(VLOOKUP(先攻T!EL71,記号!$R$5:$S$10,2,FALSE),\"\")","v":""},{"$f":"IFERROR(VLOOKUP(先攻T!EI73,記号!$F$27:$G$37,2,FALSE),\"\")","v":""},{"$f":"IFERROR(VLOOKUP(先攻T!EN71,記号!$U$12:$V$13,2,FALSE),\"\")","v":""},{"$f":"IF(K51=\"\",\"\",VLOOKUP(K51,$C$84:$E$89,3,FALSE))","v":""},{"$f":"IF(L51=\"\",\"\",(BX51+CG51+CH51+CI51))","v":""},"",{"$f":"IF(L51=\"\",\"\",COUNTIFS($N$47:$BU$47,L51,$N$52:$BU$52,$BY$3))","v":""},{"$f":"IF(L51=\"\",\"\",COUNTIFS($N$47:$BU$47,L51,$N$52:$BU$52,$BZ$3))","v":""},{"$f":"IF(L51=\"\",\"\",COUNTIFS($N$47:$BU$47,L51,$N$50:$BU$50,$CA$3))","v":""},{"$f":"IF(L51=\"\",\"\",COUNTIFS($N$47:$BU$47,L51,$N$50:$BU$50,$CB$3))","v":""},{"$f":"IF(L51=\"\",\"\",COUNTIFS($N$47:$BU$47,L51,$N$52:$BU$52,$CC$3))","v":""},{"$f":"IF(L51=\"\",\"\",SUMIF($N$47:$BU$47,L51,$N$52:$BU$52))","v":""},{"$f":"IF(L51=\"\",\"\",COUNTIFS($N$47:$BU$47,L51,$N$51:$BU$51,$CE$3))","v":""},{"$f":"IF(L51=\"\",\"\",COUNTIFS($N$47:$BU$47,L51,$N$52:$BU$52,$CF$3))","v":""},{"$f":"IF(L51=\"\",\"\",COUNTIFS($N$47:$BU$47,L51,$N$52:$BU$52,$CG$3))","v":""},{"$f":"IF(L51=\"\",\"\",COUNTIFS($N$47:$BU$47,L51,$N$52:$BU$52,$CH$3))","v":""},{"$f":"IF(L51=\"\",\"\",COUNTIFS($N$47:$BU$47,L51,$N$52:$BU$52,$CI$3))","v":""},{"$f":"IF(L51=\"\",\"\",COUNTIFS($N$47:$BU$47,L51,$N$52:$BU$52,$CJ$3))","v":""},{"$f":"IF(L51=\"\",\"\",COUNTIFS($N$47:$BU$47,L51,$N$52:$BU$52,$CK$3)+COUNTIFS($N$47:$BU$47,L51,$N$50:$BU$50,$CK$3))","v":""},{"$f":"IF(L51=\"\",\"\",COUNTIFS($N$47:$BU$47,L51,$N$52:$BU$52,$CL$3)+COUNTIFS($N$47:$BU$47,L51,$N$50:$BU$50,$CL$3))","v":""},{"$f":"IF(L51=\"\",\"\",COUNTIFS($N$47:$BU$47,L51,$N$52:$BU$52,$CM$3))","v":""},{"$f":"IF(L51=\"\",\"\",COUNTIFS($N$47:$BU$47,L51,$N$52:$BU$52,$CN$3))","v":""},{"$f":"IF(L51=\"\",\"\",COUNTIFS($N$47:$BU$47,L51,$N$48:$BU$48,$CO$3)+COUNTIFS($N$47:$BU$47,L51,$N$49:$BU$49,$CO$3))","v":""},null,null,null,null,null,null,null,"",null,null,"",null,null,null,null,null,null,null,null,null,null,null,null,null,null,null,null,null,null,null,null,null,null,null,null,null,null,null,null,"","",{"$f":"IF(EC51=\"\",\"\",COUNTIFS($N$47:$BU$47,EC51,$N$52:$BU$52,\"RZ\"))","v":""},{"$f":"IF(ED51=\"\",\"\",COUNTIFS($N$47:$BU$47,EC51,$N$51:$BU$51,\"ZH\"))","v":""},null,null,null,null,null,null,null,null,null,null,null,null,null,null,null,null,null,null,null,null,null,null,null,null,null,null,null,null,null,null,null,null,null,null,null,null,null,null,null,null,null,null,null,null,null,null,null,null,null,null,null,null,null,null,null,null,null,null,null,null,null,null,null,null,null,null,null,null,null,null,null,null,null,null,null,null,null,null,null,null,null,null,null,null,null,null,null,null,null,null,null,null,"","","","","","","",""]
[null,null,0,null,null,null,null,null,null,{"$f":"IF(L52=\"\",\"\",VLOOKUP(L52,$C$29:$D$58,2,FALSE))","v":""},null,null,null,{"$f":"IFERROR(VLOOKUP(先攻T!K71,記号!$R$15:$S$20,2,FALSE),\"\")","v":""},{"$f":"IFERROR(VLOOKUP(先攻T!I71,記号!$O$5:$P$21,2,FALSE),\"\")","v":""},{"$f":"IFERROR(VLOOKUP(先攻T!F73,記号!$F$27:$G$37,2,FALSE),\"\")","v":""},{"$f":"IFERROR(VLOOKUP(先攻T!F71,記号!$F$5:$G$21,2,FALSE),\"\")","v":""},{"$f":"IFERROR(VLOOKUP(先攻T!L72,記号!$U$5:$V$6,2,FALSE),\"\")","v":""},{"$f":"IFERROR(VLOOKUP(先攻T!W71,記号!$R$15:$S$20,2,FALSE),\"\")","v":""},{"$f":"IFERROR(VLOOKUP(先攻T!U71,記号!$O$5:$P$21,2,FALSE),\"\")","v":""},{"$f":"IFERROR(VLOOKUP(先攻T!R73,記号!$F$27:$G$37,2,FALSE),\"\")","v":"6'"},{"$f":"IFERROR(VLOOKUP(先攻T!R71,記号!$F$5:$G$21,2,FALSE),\"\")","v":"O"},{"$f":"IFERROR(VLOOKUP(先攻T!X72,記号!$U$5:$V$6,2,FALSE),\"\")","v":"RZ"},{"$f":"IFERROR(VLOOKUP(先攻T!AI71,記号!$R$15:$S$20,2,FALSE),\"\")","v":""},{"$f":"IFERROR(VLOOKUP(先攻T!AG71,記号!$O$5:$P$21,2,FALSE),\"\")","v":""},{"$f":"IFERROR(VLOOKUP(先攻T!AD73,記号!$F$27:$G$37,2,FALSE),\"\")","v":""},{"$f":"IFERROR(VLOOKUP(先攻T!AD71,記号!$F$5:$G$21,2,FALSE),\"\")","v":""},{"$f":"IFERROR(VLOOKUP(先攻T!AJ72,記号!$U$5:$V$6,2,FALSE),\"\")","v":""},{"$f":"IFERROR(VLOOKUP(先攻T!AU71,記号!$R$15:$S$20,2,FALSE),\"\")","v":""},{"$f":"IFERROR(VLOOKUP(先攻T!AS71,記号!$O$5:$P$21,2,FALSE),\"\")","v":""},{"$f":"IFERROR(VLOOKUP(先攻T!AP73,記号!$F$27:$G$37,2,FALSE),\"\")","v":"3'"},{"$f":"IFERROR(VLOOKUP(先攻T!AP71,記号!$F$5:$G$21,2,FALSE),\"\")","v":"O"},{"$f":"IFERROR(VLOOKUP(先攻T!AV72,記号!$U$5:$V$6,2,FALSE),\"\")","v":"RZ"},{"$f":"IFERROR(VLOOKUP(先攻T!BG71,記号!$R$15:$S$20,2,FALSE),\"\")","v":""},{"$f":"IFERROR(VLOOKUP(先攻T!BE71,記号!$O$5:$P$21,2,FALSE),\"\")","v":""},{"$f":"IFERROR(VLOOKUP(先攻T!BB73,記号!$F$27:$G$37,2,FALSE),\"\")","v":""},{"$f":"IFERROR(VLOOKUP(先攻T!BB71,記号!$F$5:$G$21,2,FALSE),\"\")","v":""},{"$f":"IFERROR(VLOOKUP(先攻T!BH72,記号!$U$5:$V$6,2,FALSE),\"\")","v":""},{"$f":"IFERROR(VLOOKUP(先攻T!BS50,記号!$R$15:$S$20,2,FALSE),\"\")","v":""},{"$f":"IFERROR(VLOOKUP(先攻T!BQ71,記号!$O$5:$P$21,2,FALSE),\"\")","v":""},{"$f":"IFERROR(VLOOKUP(先攻T!BN73,記号!$F$27:$G$37,2,FALSE),\"\")","v":""},{"$f":"IFERROR(VLOOKUP(先攻T!BN71,記号!$F$5:$G$21,2,FALSE),\"\")","v":""},{"$f":"IFERROR(VLOOKUP(先攻T!BT72,記号!$U$5:$V$6,2,FALSE),\"\")","v":""},{"$f":"IFERROR(VLOOKUP(先攻T!CE71,記号!$R$15:$S$20,2,FALSE),\"\")","v":1},{"$f":"IFERROR(VLOOKUP(先攻T!CC71,記号!$O$5:$P$21,2,FALSE),\"\")","v":""},{"$f":"IFERROR(VLOOKUP(先攻T!BZ73,記号!$F$27:$G$37,2,FALSE),\"\")","v":"7'"},{"$f":"IFERROR(VLOOKUP(先攻T!BZ71,記号!$F$5:$G$21,2,FALSE),\"\")","v":""},{"$f":"IFERROR(VLOOKUP(先攻T!CF72,記号!$U$5:$V$6,2,FALSE),\"\")","v":""},{"$f":"IFERROR(VLOOKUP(先攻T!CQ71,記号!$R$15:$S$20,2,FALSE),\"\")","v":""},{"$f":"IFERROR(VLOOKUP(先攻T!CO71,記号!$O$5:$P$21,2,FALSE),\"\")","v":""},{"$f":"IFERROR(VLOOKUP(先攻T!CL73,記号!$F$27:$G$37,2,FALSE),\"\")","v":""},{"$f":"IFERROR(VLOOKUP(先攻T!CL71,記号!$F$5:$G$21,2,FALSE),\"\")","v":""},{"$f":"IFERROR(VLOOKUP(先攻T!CR72,記号!$U$5:$V$6,2,FALSE),\"\")","v":""},{"$f":"IFERROR(VLOOKUP(先攻T!DC71,記号!$R$15:$S$20,2,FALSE),\"\")","v":""},{"$f":"IFERROR(VLOOKUP(先攻T!DA71,記号!$O$5:$P$21,2,FALSE),\"\")","v":""},{"$f":"IFERROR(VLOOKUP(先攻T!CX73,記号!$F$27:$G$37,2,FALSE),\"\")","v":""},{"$f":"IFERROR(VLOOKUP(先攻T!CX71,記号!$F$5:$G$21,2,FALSE),\"\")","v":""},{"$f":"IFERROR(VLOOKUP(先攻T!DD72,記号!$U$5:$V$6,2,FALSE),\"\")","v":""},{"$f":"IFERROR(VLOOKUP(先攻T!DO71,記号!$R$15:$S$20,2,FALSE),\"\")","v":""},{"$f":"IFERROR(VLOOKUP(先攻T!DM71,記号!$O$5:$P$21,2,FALSE),\"\")","v":""},{"$f":"IFERROR(VLOOKUP(先攻T!DJ73,記号!$F$27:$G$37,2,FALSE),\"\")","v":""},{"$f":"IFERROR(VLOOKUP(先攻T!DJ71,記号!$F$5:$G$21,2,FALSE),\"\")","v":""},{"$f":"IFERROR(VLOOKUP(先攻T!DP72,記号!$U$5:$V$6,2,FALSE),\"\")","v":""},{"$f":"IFERROR(VLOOKUP(先攻T!EA71,記号!$R$15:$S$20,2,FALSE),\"\")","v":""},{"$f":"IFERROR(VLOOKUP(先攻T!DY71,記号!$O$5:$P$21,2,FALSE),\"\")","v":""},{"$f":"IFERROR(VLOOKUP(先攻T!DV73,記号!$F$27:$G$37,2,FALSE),\"\")","v":""},{"$f":"IFERROR(VLOOKUP(先攻T!DV71,記号!$F$5:$G$21,2,FALSE),\"\")","v":""},{"$f":"IFERROR(VLOOKUP(先攻T!EB72,記号!$U$5:$V$6,2,FALSE),\"\")","v":""},{"$f":"IFERROR(VLOOKUP(先攻T!EM71,記号!$R$15:$S$20,2,FALSE),\"\")","v":""},{"$f":"IFERROR(VLOOKUP(先攻T!EK71,記号!$O$5:$P$21,2,FALSE),\"\")","v":""},{"$f":"IFERROR(VLOOKUP(先攻T!EH73,記号!$F$27:$G$37,2,FALSE),\"\")","v":""},{"$f":"IFERROR(VLOOKUP(先攻T!EH71,記号!$F$5:$G$21,2,FALSE),\"\")","v":""},{"$f":"IFERROR(VLOOKUP(先攻T!EN72,記号!$U$5:$V$6,2,FALSE),\"\")","v":""},{"$f":"IF(K52=\"\",\"\",VLOOKUP(K52,$C$84:$E$89,3,FALSE))","v":""},{"$f":"IF(L52=\"\",\"\",(BX52+CG52+CH52+CI52))","v":""},"",{"$f":"IF(L52=\"\",\"\",COUNTIFS($N$47:$BU$47,L52,$N$52:$BU$52,$BY$3))","v":""},{"$f":"IF(L52=\"\",\"\",COUNTIFS($N$47:$BU$47,L52,$N$52:$BU$52,$BZ$3))","v":""},{"$f":"IF(L52=\"\",\"\",COUNTIFS($N$47:$BU$47,L52,$N$50:$BU$50,$CA$3))","v":""},{"$f":"IF(L52=\"\",\"\",COUNTIFS($N$47:$BU$47,L52,$N$50:$BU$50,$CB$3))","v":""},{"$f":"IF(L52=\"\",\"\",COUNTIFS($N$47:$BU$47,L52,$N$52:$BU$52,$CC$3))","v":""},{"$f":"IF(L52=\"\",\"\",SUMIF($N$47:$BU$47,L52,$N$52:$BU$52))","v":""},{"$f":"IF(L52=\"\",\"\",COUNTIFS($N$47:$BU$47,L52,$N$51:$BU$51,$CE$3))","v":""},{"$f":"IF(L52=\"\",\"\",COUNTIFS($N$47:$BU$47,L52,$N$52:$BU$52,$CF$3))","v":""},{"$f":"IF(L52=\"\",\"\",COUNTIFS($N$47:$BU$47,L52,$N$52:$BU$52,$CG$3))","v":""},{"$f":"IF(L52=\"\",\"\",COUNTIFS($N$47:$BU$47,L52,$N$52:$BU$52,$CH$3))","v":""},{"$f":"IF(L52=\"\",\"\",COUNTIFS($N$47:$BU$47,L52,$N$52:$BU$52,$CI$3))","v":""},{"$f":"IF(L52=\"\",\"\",COUNTIFS($N$47:$BU$47,L52,$N$52:$BU$52,$CJ$3))","v":""},{"$f":"IF(L52=\"\",\"\",COUNTIFS($N$47:$BU$47,L52,$N$52:$BU$52,$CK$3)+COUNTIFS($N$47:$BU$47,L52,$N$50:$BU$50,$CK$3))","v":""},{"$f":"IF(L52=\"\",\"\",COUNTIFS($N$47:$BU$47,L52,$N$52:$BU$52,$CL$3)+COUNTIFS($N$47:$BU$47,L52,$N$50:$BU$50,$CL$3))","v":""},{"$f":"IF(L52=\"\",\"\",COUNTIFS($N$47:$BU$47,L52,$N$52:$BU$52,$CM$3))","v":""},{"$f":"IF(L52=\"\",\"\",COUNTIFS($N$47:$BU$47,L52,$N$52:$BU$52,$CN$3))","v":""},{"$f":"IF(L52=\"\",\"\",COUNTIFS($N$47:$BU$47,L52,$N$48:$BU$48,$CO$3)+COUNTIFS($N$47:$BU$47,L52,$N$49:$BU$49,$CO$3))","v":""},null,null,null,null,null,null,null,"",null,null,"",null,null,null,null,null,"T  計",null,null,{"$f":"IF($DG$44=\"\",\"\",SUM(DI44:DI50))","v":16},{"$f":"IF($DG$44=\"\",\"\",SUM(DJ44:DJ50))","v":18},null,null,null,null,null,null,null,null,null,null,null,null,null,null,null,null,null,null,"","",{"$f":"IF(EC52=\"\",\"\",COUNTIFS($N$47:$BU$47,EC52,$N$52:$BU$52,\"RZ\"))","v":""},{"$f":"IF(ED52=\"\",\"\",COUNTIFS($N$47:$BU$47,EC52,$N$51:$BU$51,\"ZH\"))","v":""},null,null,null,null,null,null,null,null,null,null,null,null,null,null,null,null,null,null,null,null,null,null,null,null,null,null,null,null,null,null,null,null,null,null,null,null,null,null,null,null,null,null,null,null,null,null,null,null,null,null,null,null,null,null,null,null,null,null,null,null,null,null,null,null,null,null,null,null,null,null,null,null,null,null,null,null,null,null,null,null,null,null,null,null,null,null,null,null,null,null,null,null,"","","","","","","",""]
[null,null,0,null,null,null,null,null,null,null,null,null,"打者背番号を入力➡",{"$f":"先攻T!E74","v":6},{"$f":"N53","v":6},{"$f":"N53","v":6},{"$f":"N53","v":6},{"$f":"N53","v":6},{"$f":"先攻T!Q74","v":6},{"$f":"S53","v":6},{"$f":"S53","v":6},{"$f":"S53","v":6},{"$f":"S53","v":6},{"$f":"先攻T!AC74","v":6},{"$f":"X53","v":6},{"$f":"X53","v":6},{"$f":"X53","v":6},{"$f":"X53","v":6},{"$f":"先攻T!AO74","v":6},{"$f":"AC53","v":6},{"$f":"AC53","v":6},{"$f":"AC53","v":6},{"$f":"AC53","v":6},{"$f":"先攻T!BA74","v":6},{"$f":"AH53","v":6},{"$f":"AH53","v":6},{"$f":"AH53","v":6},{"$f":"AH53","v":6},{"$f":"先攻T!BM74","v":6},{"$f":"AM53","v":6},{"$f":"AM53","v":6},{"$f":"AM53","v":6},{"$f":"AM53","v":6},{"$f":"先攻T!BY74","v":6},{"$f":"AR53","v":6},{"$f":"AR53","v":6},{"$f":"AR53","v":6},{"$f":"AR53","v":6},{"$f":"先攻T!CK74","v":6},{"$f":"AW53","v":6},{"$f":"AW53","v":6},{"$f":"AW53","v":6},{"$f":"AW53","v":6},{"$f":"先攻T!CW74","v":6},{"$f":"BB53","v":6},{"$f":"BB53","v":6},{"$f":"BB53","v":6},{"$f":"BB53","v":6},{"$f":"先攻T!DI74","v":6},{"$f":"BG53","v":6},{"$f":"BG53","v":6},{"$f":"BG53","v":6},{"$f":"BG53","v":6},{"$f":"先攻T!DU74","v":6},{"$f":"BL53","v":6},{"$f":"BL53","v":6},{"$f":"BL53","v":6},{"$f":"BL53","v":6},{"$f":"先攻T!EG74","v":6},{"$f":"BQ53","v":6},{"$f":"BQ53","v":6},{"$f":"BQ53","v":6},{"$f":"BQ53","v":6}]
[null,null,0,null,null,null,null,null,{"$f":"IF(C13=\"\",\"\",C13)","v":"遊"},{"$f":"IF(D13=\"\",\"\",D13)","v":"斉藤　璃玖"},{"$f":"IF(J54=\"\",\"\",\"先\")","v":"先"},{"$f":"IF(J54=\"\",\"\",F13)","v":6},"⑨",{"$f":"IFERROR(VLOOKUP(先攻T!F76,記号!$B$6:$C$10,2,FALSE),\"\")","v":""},{"$f":"IFERROR(VLOOKUP(先攻T!G76,記号!$B$6:$C$10,2,FALSE),\"\")","v":""},{"$f":"IFERROR(VLOOKUP(先攻T!H76,記号!$B$6:$C$10,2,FALSE),\"\")","v":""},{"$f":"IFERROR(VLOOKUP(先攻T!I76,記号!$B$6:$C$10,2,FALSE),\"\")","v":""},{"$f":"IFERROR(VLOOKUP(先攻T!J76,記号!$B$6:$C$10,2,FALSE),\"\")","v":""},{"$f":"IFERROR(VLOOKUP(先攻T!R76,記号!$B$6:$C$10,2,FALSE),\"\")","v":""},{"$f":"IFERROR(VLOOKUP(先攻T!S76,記号!$B$6:$C$10,2,FALSE),\"\")","v":""},{"$f":"IFERROR(VLOOKUP(先攻T!T76,記号!$B$6:$C$10,2,FALSE),\"\")","v":""},{"$f":"IFERROR(VLOOKUP(先攻T!U76,記号!$B$6:$C$10,2,FALSE),\"\")","v":""},{"$f":"IFERROR(VLOOKUP(先攻T!V76,記号!$B$6:$C$10,2,FALSE),\"\")","v":""},{"$f":"IFERROR(VLOOKUP(先攻T!AD76,記号!$B$6:$C$10,2,FALSE),\"\")","v":"・●"},{"$f":"IFERROR(VLOOKUP(先攻T!AE76,記号!$B$6:$C$10,2,FALSE),\"\")","v":"・●"},{"$f":"IFERROR(VLOOKUP(先攻T!AF76,記号!$B$6:$C$10,2,FALSE),\"\")","v":"・〇"},{"$f":"IFERROR(VLOOKUP(先攻T!AG76,記号!$B$6:$C$10,2,FALSE),\"\")","v":"・△"},{"$f":"IFERROR(VLOOKUP(先攻T!AH76,記号!$B$6:$C$10,2,FALSE),\"\")","v":"・●"},{"$f":"IFERROR(VLOOKUP(先攻T!AP76,記号!$B$6:$C$10,2,FALSE),\"\")","v":""},{"$f":"IFERROR(VLOOKUP(先攻T!AQ76,記号!$B$6:$C$10,2,FALSE),\"\")","v":""},{"$f":"IFERROR(VLOOKUP(先攻T!AR76,記号!$B$6:$C$10,2,FALSE),\"\")","v":""},{"$f":"IFERROR(VLOOKUP(先攻T!AS76,記号!$B$6:$C$10,2,FALSE),\"\")","v":""},{"$f":"IFERROR(VLOOKUP(先攻T!AT76,記号!$B$6:$C$10,2,FALSE),\"\")","v":""},{"$f":"IFERROR(VLOOKUP(先攻T!BB76,記号!$B$6:$C$10,2,FALSE),\"\")","v":"・〇"},{"$f":"IFERROR(VLOOKUP(先攻T!BC76,記号!$B$6:$C$10,2,FALSE),\"\")","v":"・〇"},{"$f":"IFERROR(VLOOKUP(先攻T!BD76,記号!$B$6:$C$10,2,FALSE),\"\")","v":"・□"},{"$f":"IFERROR(VLOOKUP(先攻T!BE76,記号!$B$6:$C$10,2,FALSE),\"\")","v":""},{"$f":"IFERROR(VLOOKUP(先攻T!BF76,記号!$B$6:$C$10,2,FALSE),\"\")","v":""},{"$f":"IFERROR(VLOOKUP(先攻T!BN76,記号!$B$6:$C$10,2,FALSE),\"\")","v":""},{"$f":"IFERROR(VLOOKUP(先攻T!BO76,記号!$B$6:$C$10,2,FALSE),\"\")","v":""},{"$f":"IFERROR(VLOOKUP(先攻T!BP76,記号!$B$6:$C$10,2,FALSE),\"\")","v":""},{"$f":"IFERROR(VLOOKUP(先攻T!BQ76,記号!$B$6:$C$10,2,FALSE),\"\")","v":""},{"$f":"IFERROR(VLOOKUP(先攻T!BR76,記号!$B$6:$C$10,2,FALSE),\"\")","v":""},{"$f":"IFERROR(VLOOKUP(先攻T!BZ76,記号!$B$6:$C$10,2,FALSE),\"\")","v":"・〇"},{"$f":"IFERROR(VLOOKUP(先攻T!CA76,記号!$B$6:$C$10,2,FALSE),\"\")","v":"・●"},{"$f":"IFERROR(VLOOKUP(先攻T!CB76,記号!$B$6:$C$10,2,FALSE),\"\")","v":"・◎"},{"$f":"IFERROR(VLOOKUP(先攻T!CC76,記号!$B$6:$C$10,2,FALSE),\"\")","v":""},{"$f":"IFERROR(VLOOKUP(先攻T!CD76,記号!$B$6:$C$10,2,FALSE),\"\")","v":""},{"$f":"IFERROR(VLOOKUP(先攻T!CL76,記号!$B$6:$C$10,2,FALSE),\"\")","v":""},{"$f":"IFERROR(VLOOKUP(先攻T!CM76,記号!$B$6:$C$10,2,FALSE),\"\")","v":""},{"$f":"IFERROR(VLOOKUP(先攻T!CN76,記号!$B$6:$C$10,2,FALSE),\"\")","v":""},{"$f":"IFERROR(VLOOKUP(先攻T!CO76,記号!$B$6:$C$10,2,FALSE),\"\")","v":""},{"$f":"IFERROR(VLOOKUP(先攻T!CP76,記号!$B$6:$C$10,2,FALSE),\"\")","v":""},{"$f":"IFERROR(VLOOKUP(先攻T!CX76,記号!$B$6:$C$10,2,FALSE),\"\")","v":""},{"$f":"IFERROR(VLOOKUP(先攻T!CY76,記号!$B$6:$C$10,2,FALSE),\"\")","v":""},{"$f":"IFERROR(VLOOKUP(先攻T!CZ76,記号!$B$6:$C$10,2,FALSE),\"\")","v":""},{"$f":"IFERROR(VLOOKUP(先攻T!DA76,記号!$B$6:$C$10,2,FALSE),\"\")","v":""},{"$f":"IFERROR(VLOOKUP(先攻T!DB76,記号!$B$6:$C$10,2,FALSE),\"\")","v":""},{"$f":"IFERROR(VLOOKUP(先攻T!DJ76,記号!$B$6:$C$10,2,FALSE),\"\")","v":""},{"$f":"IFERROR(VLOOKUP(先攻T!DK76,記号!$B$6:$C$10,2,FALSE),\"\")","v":""},{"$f":"IFERROR(VLOOKUP(先攻T!DL76,記号!$B$6:$C$10,2,FALSE),\"\")","v":""},{"$f":"IFERROR(VLOOKUP(先攻T!DM76,記号!$B$6:$C$10,2,FALSE),\"\")","v":""},{"$f":"IFERROR(VLOOKUP(先攻T!DN76,記号!$B$6:$C$10,2,FALSE),\"\")","v":""},{"$f":"IFERROR(VLOOKUP(先攻T!DV76,記号!$B$6:$C$10,2,FALSE),\"\")","v":""},{"$f":"IFERROR(VLOOKUP(先攻T!DW76,記号!$B$6:$C$10,2,FALSE),\"\")","v":""},{"$f":"IFERROR(VLOOKUP(先攻T!DX76,記号!$B$6:$C$10,2,FALSE),\"\")","v":""},{"$f":"IFERROR(VLOOKUP(先攻T!DY76,記号!$B$6:$C$10,2,FALSE),\"\")","v":""},{"$f":"IFERROR(VLOOKUP(先攻T!DZ76,記号!$B$6:$C$10,2,FALSE),\"\")","v":""},{"$f":"IFERROR(VLOOKUP(先攻T!EH76,記号!$B$6:$C$10,2,FALSE),\"\")","v":""},{"$f":"IFERROR(VLOOKUP(先攻T!EI76,記号!$B$6:$C$10,2,FALSE),\"\")","v":""},{"$f":"IFERROR(VLOOKUP(先攻T!EJ76,記号!$B$6:$C$10,2,FALSE),\"\")","v":""},{"$f":"IFERROR(VLOOKUP(先攻T!EK76,記号!$B$6:$C$10,2,FALSE),\"\")","v":""},{"$f":"IFERROR(VLOOKUP(先攻T!EL76,記号!$B$6:$C$10,2,FALSE),\"\")","v":""},{"$f":"IF(K54=\"\",\"\",VLOOKUP(K54,$C$84:$E$89,3,FALSE))","v":"RR"},{"$f":"IF(L54=\"\",\"\",(BX54+CG54+CH54+CI54))","v":3},{"$f":"IF(L54=\"\",\"\",(BY54+BZ54+CA54+CB54+CC54+CF54+CJ54+CM54+CN54))","v":2},{"$f":"IF(L54=\"\",\"\",COUNTIFS($N$53:$BU$53,L54,$N$58:$BU$58,$BY$3))","v":1},{"$f":"IF(L54=\"\",\"\",COUNTIFS($N$53:$BU$53,L54,$N$58:$BU$58,$BZ$3))","v":0},{"$f":"IF(L54=\"\",\"\",COUNTIFS($N$53:$BU$53,L54,$N$56:$BU$56,$CA$3))","v":0},{"$f":"IF(L54=\"\",\"\",COUNTIFS($N$53:$BU$53,L54,$N$56:$BU$56,$CB$3))","v":0},{"$f":"IF(L54=\"\",\"\",COUNTIFS($N$53:$BU$53,L54,$N$58:$BU$58,$CC$3))","v":0},{"$f":"IF(L54=\"\",\"\",SUMIF($N$53:$BU$53,L54,$N$58:$BU$58))","v":0},{"$f":"IF(L54=\"\",\"\",COUNTIFS($N$53:$BU$53,L54,$N$57:$BU$57,$CE$3))","v":1},{"$f":"IF(L54=\"\",\"\",COUNTIFS($N$53:$BU$53,L54,$N$58:$BU$58,$CF$3))","v":1},{"$f":"IF(L54=\"\",\"\",COUNTIFS($N$53:$BU$53,L54,$N$58:$BU$58,$CG$3))","v":1},{"$f":"IF(L54=\"\",\"\",COUNTIFS($N$53:$BU$53,L54,$N$58:$BU$58,$CH$3))","v":0},{"$f":"IF(L54=\"\",\"\",COUNTIFS($N$53:$BU$53,L54,$N$58:$BU$58,$CI$3))","v":0},{"$f":"IF(L54=\"\",\"\",COUNTIFS($N$53:$BU$53,L54,$N$58:$BU$58,$CJ$3))","v":0},{"$f":"IF(L54=\"\",\"\",COUNTIFS($N$53:$BU$53,L54,$N$58:$BU$58,$CK$3)+COUNTIFS($N$53:$BU$53,L54,$N$56:$BU$56,$CK$3))","v":0},{"$f":"IF(L54=\"\",\"\",COUNTIFS($N$53:$BU$53,L54,$N$58:$BU$58,$CL$3)+COUNTIFS($N$53:$BU$53,L54,$N$56:$BU$56,$CL$3))","v":0},{"$f":"IF(L54=\"\",\"\",COUNTIFS($N$53:$BU$53,L54,$N$58:$BU$58,$CM$3))","v":0},{"$f":"IF(L54=\"\",\"\",COUNTIFS($N$53:$BU$53,L54,$N$58:$BU$58,$CN$3))","v":0},{"$f":"IF(L54=\"\",\"\",COUNTIFS($N$53:$BU$53,L54,$N$54:$BU$54,$CO$3)+COUNTIFS($N$53:$BU$53,L54,$N$55:$BU$55,$CO$3))","v":14},"先","四球",null,null,null,null,null,{"$f":"IF(DA54=\"\",\"\",VLOOKUP(DA54,$C$84:$E$89,3,FALSE))","v":"RR"},6,null,"","先",null,null,null,null,null,null,null,null,null,null,null,null,null,null,null,null,null,null,null,null,null,null,null,null,null,null,null,6,{"$f":"IF(EC54=\"\",\"\",VLOOKUP(EC54,$C$29:$D$58,2,FALSE))","v":"斉藤　璃玖"},{"$f":"IF(EC54=\"\",\"\",COUNTIFS($N$53:$BU$53,EC54,$N$58:$BU$58,\"RZ\"))","v":1},{"$f":"IF(ED54=\"\",\"\",COUNTIFS($N$53:$BU$53,EC54,$N$57:$BU$57,\"ZH\"))","v":0},null,null,null,null,null,null,null,null,null,null,null,null,null,null,null,null,null,null,null,null,null,null,null,null,null,null,null,null,null,null,null,null,null,null,null,null,null,null,null,null,null,null,null,null,null,null,null,null,null,null,null,null,null,null,null,null,null,null,null,null,null,null,null,null,null,null,null,null,null,null,null,null,null,null,null,null,null,null,null,null,null,null,null,null,null,null,null,null,null,null,null,null,"斉藤　璃玖",{"$f":"IF(L54=\"\",\"\",L54)","v":6},{"$f":"IF(HU54=\"\",\"\",COUNTIFS($N$53:$BU$53,HV54,$N$54:$BU$54,$HW$3)+COUNTIFS($N$53:$BU$53,HV54,$N$55:$BU$55,$HW$3))","v":14},{"$f":"IF(HU54=\"\",\"\",COUNTIFS($N$53:$BU$53,HV54,$N$54:$BU$54,$HX$3)+COUNTIFS($N$53:$BU$53,HV54,$N$55:$BU$55,$HX$3))","v":5},{"$f":"IF(HU54=\"\",\"\",COUNTIFS($N$53:$BU$53,HV54,$N$54:$BU$54,$HY$3)+COUNTIFS($N$53:$BU$53,HV54,$N$55:$BU$55,$HY$3))","v":4},{"$f":"IF(HU54=\"\",\"\",COUNTIFS($N$53:$BU$53,HV54,$N$54:$BU$54,$HZ$3)+COUNTIFS($N$53:$BU$53,HV54,$N$55:$BU$55,$HZ$3))","v":3},{"$f":"IF(HU54=\"\",\"\",COUNTIFS($N$53:$BU$53,HV54,$N$54:$BU$54,$IA$3)+COUNTIFS($N$53:$BU$53,HV54,$N$55:$BU$55,$IA$3))","v":1},{"$f":"IF(HU54=\"\",\"\",COUNTIFS($N$53:$BU$53,HV54,$N$54:$BU$54,$IB$3)+COUNTIFS($N$53:$BU$53,HV54,$N$55:$BU$55,$IB$3))","v":1}]
[null,null,0,null,null,null,null,null,null,{"$f":"IF(L55=\"\",\"\",VLOOKUP(L55,$C$29:$D$58,2,FALSE))","v":""},null,null,null,{"$f":"IFERROR(VLOOKUP(先攻T!K76,記号!$B$6:$C$10,2,FALSE),\"\")","v":""},{"$f":"IFERROR(VLOOKUP(先攻T!L76,記号!$B$6:$C$10,2,FALSE),\"\")","v":""},{"$f":"IFERROR(VLOOKUP(先攻T!F78,記号!$B$6:$C$10,2,FALSE),\"\")","v":""},{"$f":"IFERROR(VLOOKUP(先攻T!G78,記号!$B$6:$C$10,2,FALSE),\"\")","v":""},{"$f":"IFERROR(VLOOKUP(先攻T!H78,記号!$B$6:$C$10,2,FALSE),\"\")","v":""},{"$f":"IFERROR(VLOOKUP(先攻T!W76,記号!$B$6:$C$10,2,FALSE),\"\")","v":""},{"$f":"IFERROR(VLOOKUP(先攻T!X76,記号!$B$6:$C$10,2,FALSE),\"\")","v":""},{"$f":"IFERROR(VLOOKUP(先攻T!R78,記号!$B$6:$C$10,2,FALSE),\"\")","v":""},{"$f":"IFERROR(VLOOKUP(先攻T!S78,記号!$B$6:$C$10,2,FALSE),\"\")","v":""},{"$f":"IFERROR(VLOOKUP(先攻T!T78,記号!$B$6:$C$10,2,FALSE),\"\")","v":""},{"$f":"IFERROR(VLOOKUP(先攻T!AI76,記号!$B$6:$C$10,2,FALSE),\"\")","v":"・△"},{"$f":"IFERROR(VLOOKUP(先攻T!AJ76,記号!$B$6:$C$10,2,FALSE),\"\")","v":"・△"},{"$f":"IFERROR(VLOOKUP(先攻T!AD78,記号!$B$6:$C$10,2,FALSE),\"\")","v":"・●"},{"$f":"IFERROR(VLOOKUP(先攻T!AE78,記号!$B$6:$C$10,2,FALSE),\"\")","v":""},{"$f":"IFERROR(VLOOKUP(先攻T!AF78,記号!$B$6:$C$10,2,FALSE),\"\")","v":""},{"$f":"IFERROR(VLOOKUP(先攻T!AU76,記号!$B$6:$C$10,2,FALSE),\"\")","v":""},{"$f":"IFERROR(VLOOKUP(先攻T!AV76,記号!$B$6:$C$10,2,FALSE),\"\")","v":""},{"$f":"IFERROR(VLOOKUP(先攻T!AP78,記号!$B$6:$C$10,2,FALSE),\"\")","v":""},{"$f":"IFERROR(VLOOKUP(先攻T!AQ78,記号!$B$6:$C$10,2,FALSE),\"\")","v":""},{"$f":"IFERROR(VLOOKUP(先攻T!AR78,記号!$B$6:$C$10,2,FALSE),\"\")","v":""},{"$f":"IFERROR(VLOOKUP(先攻T!BG76,記号!$B$6:$C$10,2,FALSE),\"\")","v":""},{"$f":"IFERROR(VLOOKUP(先攻T!BH76,記号!$B$6:$C$10,2,FALSE),\"\")","v":""},{"$f":"IFERROR(VLOOKUP(先攻T!BB78,記号!$B$6:$C$10,2,FALSE),\"\")","v":""},{"$f":"IFERROR(VLOOKUP(先攻T!BC78,記号!$B$6:$C$10,2,FALSE),\"\")","v":""},{"$f":"IFERROR(VLOOKUP(先攻T!BD78,記号!$B$6:$C$10,2,FALSE),\"\")","v":""},{"$f":"IFERROR(VLOOKUP(先攻T!BS76,記号!$B$6:$C$10,2,FALSE),\"\")","v":""},{"$f":"IFERROR(VLOOKUP(先攻T!BT76,記号!$B$6:$C$10,2,FALSE),\"\")","v":""},{"$f":"IFERROR(VLOOKUP(先攻T!BN78,記号!$B$6:$C$10,2,FALSE),\"\")","v":""},{"$f":"IFERROR(VLOOKUP(先攻T!BO78,記号!$B$6:$C$10,2,FALSE),\"\")","v":""},{"$f":"IFERROR(VLOOKUP(先攻T!BP78,記号!$B$6:$C$10,2,FALSE),\"\")","v":""},{"$f":"IFERROR(VLOOKUP(先攻T!CE76,記号!$B$6:$C$10,2,FALSE),\"\")","v":""},{"$f":"IFERROR(VLOOKUP(先攻T!CF76,記号!$B$6:$C$10,2,FALSE),\"\")","v":""},{"$f":"IFERROR(VLOOKUP(先攻T!BZ78,記号!$B$6:$C$10,2,FALSE),\"\")","v":""},{"$f":"IFERROR(VLOOKUP(先攻T!CA78,記号!$B$6:$C$10,2,FALSE),\"\")","v":""},{"$f":"IFERROR(VLOOKUP(先攻T!CB78,記号!$B$6:$C$10,2,FALSE),\"\")","v":""},{"$f":"IFERROR(VLOOKUP(先攻T!CQ76,記号!$B$6:$C$10,2,FALSE),\"\")","v":""},{"$f":"IFERROR(VLOOKUP(先攻T!CR76,記号!$B$6:$C$10,2,FALSE),\"\")","v":""},{"$f":"IFERROR(VLOOKUP(先攻T!CL78,記号!$B$6:$C$10,2,FALSE),\"\")","v":""},{"$f":"IFERROR(VLOOKUP(先攻T!CM78,記号!$B$6:$C$10,2,FALSE),\"\")","v":""},{"$f":"IFERROR(VLOOKUP(先攻T!CN78,記号!$B$6:$C$10,2,FALSE),\"\")","v":""},{"$f":"IFERROR(VLOOKUP(先攻T!DC76,記号!$B$6:$C$10,2,FALSE),\"\")","v":""},{"$f":"IFERROR(VLOOKUP(先攻T!DD76,記号!$B$6:$C$10,2,FALSE),\"\")","v":""},{"$f":"IFERROR(VLOOKUP(先攻T!CX78,記号!$B$6:$C$10,2,FALSE),\"\")","v":""},{"$f":"IFERROR(VLOOKUP(先攻T!CY78,記号!$B$6:$C$10,2,FALSE),\"\")","v":""},{"$f":"IFERROR(VLOOKUP(先攻T!CZ78,記号!$B$6:$C$10,2,FALSE),\"\")","v":""},{"$f":"IFERROR(VLOOKUP(先攻T!DO76,記号!$B$6:$C$10,2,FALSE),\"\")","v":""},{"$f":"IFERROR(VLOOKUP(先攻T!DP76,記号!$B$6:$C$10,2,FALSE),\"\")","v":""},{"$f":"IFERROR(VLOOKUP(先攻T!DJ78,記号!$B$6:$C$10,2,FALSE),\"\")","v":""},{"$f":"IFERROR(VLOOKUP(先攻T!DK78,記号!$B$6:$C$10,2,FALSE),\"\")","v":""},{"$f":"IFERROR(VLOOKUP(先攻T!DL78,記号!$B$6:$C$10,2,FALSE),\"\")","v":""},{"$f":"IFERROR(VLOOKUP(先攻T!EA76,記号!$B$6:$C$10,2,FALSE),\"\")","v":""},{"$f":"IFERROR(VLOOKUP(先攻T!EB76,記号!$B$6:$C$10,2,FALSE),\"\")","v":""},{"$f":"IFERROR(VLOOKUP(先攻T!DV78,記号!$B$6:$C$10,2,FALSE),\"\")","v":""},{"$f":"IFERROR(VLOOKUP(先攻T!DW78,記号!$B$6:$C$10,2,FALSE),\"\")","v":""},{"$f":"IFERROR(VLOOKUP(先攻T!DX78,記号!$B$6:$C$10,2,FALSE),\"\")","v":""},{"$f":"IFERROR(VLOOKUP(先攻T!EM76,記号!$B$6:$C$10,2,FALSE),\"\")","v":""},{"$f":"IFERROR(VLOOKUP(先攻T!EN76,記号!$B$6:$C$10,2,FALSE),\"\")","v":""},{"$f":"IFERROR(VLOOKUP(先攻T!EH78,記号!$B$6:$C$10,2,FALSE),\"\")","v":""},{"$f":"IFERROR(VLOOKUP(先攻T!EI78,記号!$B$6:$C$10,2,FALSE),\"\")","v":""},{"$f":"IFERROR(VLOOKUP(先攻T!EJ78,記号!$B$6:$C$10,2,FALSE),\"\")","v":""},{"$f":"IF(K55=\"\",\"\",VLOOKUP(K55,$C$84:$E$89,3,FALSE))","v":""},{"$f":"IF(L55=\"\",\"\",(BX55+CG55+CH55+CI55))","v":""},"",{"$f":"IF(L55=\"\",\"\",COUNTIFS($N$53:$BU$53,L55,$N$58:$BU$58,$BY$3))","v":""},{"$f":"IF(L55=\"\",\"\",COUNTIFS($N$53:$BU$53,L55,$N$58:$BU$58,$BZ$3))","v":""},{"$f":"IF(L55=\"\",\"\",COUNTIFS($N$53:$BU$53,L55,$N$56:$BU$56,$CA$3))","v":""},{"$f":"IF(L55=\"\",\"\",COUNTIFS($N$53:$BU$53,L55,$N$56:$BU$56,$CB$3))","v":""},{"$f":"IF(L55=\"\",\"\",COUNTIFS($N$53:$BU$53,L55,$N$58:$BU$58,$CC$3))","v":""},{"$f":"IF(L55=\"\",\"\",SUMIF($N$53:$BU$53,L55,$N$58:$BU$58))","v":""},{"$f":"IF(L55=\"\",\"\",COUNTIFS($N$53:$BU$53,L55,$N$57:$BU$57,$CE$3))","v":""},{"$f":"IF(L55=\"\",\"\",COUNTIFS($N$53:$BU$53,L55,$N$58:$BU$58,$CF$3))","v":""},{"$f":"IF(L55=\"\",\"\",COUNTIFS($N$53:$BU$53,L55,$N$58:$BU$58,$CG$3))","v":""},{"$f":"IF(L55=\"\",\"\",COUNTIFS($N$53:$BU$53,L55,$N$58:$BU$58,$CH$3))","v":""},{"$f":"IF(L55=\"\",\"\",COUNTIFS($N$53:$BU$53,L55,$N$58:$BU$58,$CI$3))","v":""},{"$f":"IF(L55=\"\",\"\",COUNTIFS($N$53:$BU$53,L55,$N$58:$BU$58,$CJ$3))","v":""},{"$f":"IF(L55=\"\",\"\",COUNTIFS($N$53:$BU$53,L55,$N$58:$BU$58,$CK$3)+COUNTIFS($N$53:$BU$53,L55,$N$56:$BU$56,$CK$3))","v":""},{"$f":"IF(L55=\"\",\"\",COUNTIFS($N$53:$BU$53,L55,$N$58:$BU$58,$CL$3)+COUNTIFS($N$53:$BU$53,L55,$N$56:$BU$56,$CL$3))","v":""},{"$f":"IF(L55=\"\",\"\",COUNTIFS($N$53:$BU$53,L55,$N$58:$BU$58,$CM$3))","v":""},{"$f":"IF(L55=\"\",\"\",COUNTIFS($N$53:$BU$53,L55,$N$58:$BU$58,$CN$3))","v":""},{"$f":"IF(L55=\"\",\"\",COUNTIFS($N$53:$BU$53,L55,$N$54:$BU$54,$CO$3)+COUNTIFS($N$53:$BU$53,L55,$N$55:$BU$55,$CO$3))","v":""},null,"空三振",null,null,null,null,null,{"$f":"IF(DA55=\"\",\"\",VLOOKUP(DA55,$C$84:$E$89,3,FALSE))","v":"RR"},6,null,"","先",null,null,null,null,null,null,null,null,null,null,null,null,null,null,null,null,null,null,null,null,null,null,null,null,null,null,null,"","",{"$f":"IF(EC55=\"\",\"\",COUNTIFS($N$53:$BU$53,EC55,$N$58:$BU$58,\"RZ\"))","v":""},{"$f":"IF(ED55=\"\",\"\",COUNTIFS($N$53:$BU$53,EC55,$N$57:$BU$57,\"ZH\"))","v":""},null,null,null,null,null,null,null,null,null,null,null,null,null,null,null,null,null,null,null,null,null,null,null,null,null,null,null,null,null,null,null,null,null,null,null,null,null,null,null,null,null,null,null,null,null,null,null,null,null,null,null,null,null,null,null,null,null,null,null,null,null,null,null,null,null,null,null,null,null,null,null,null,null,null,null,null,null,null,null,null,null,null,null,null,null,null,null,null,null,null,null,null,"","",{"$f":"IF(HU55=\"\",\"\",COUNTIFS($N$53:$BU$53,HV55,$N$54:$BU$54,$HW$3)+COUNTIFS($N$53:$BU$53,HV55,$N$55:$BU$55,$HW$3))","v":""},{"$f":"IF(HU55=\"\",\"\",COUNTIFS($N$53:$BU$53,HV55,$N$54:$BU$54,$HX$3)+COUNTIFS($N$53:$BU$53,HV55,$N$55:$BU$55,$HX$3))","v":""},{"$f":"IF(HU55=\"\",\"\",COUNTIFS($N$53:$BU$53,HV55,$N$54:$BU$54,$HY$3)+COUNTIFS($N$53:$BU$53,HV55,$N$55:$BU$55,$HY$3))","v":""},{"$f":"IF(HU55=\"\",\"\",COUNTIFS($N$53:$BU$53,HV55,$N$54:$BU$54,$HZ$3)+COUNTIFS($N$53:$BU$53,HV55,$N$55:$BU$55,$HZ$3))","v":""},{"$f":"IF(HU55=\"\",\"\",COUNTIFS($N$53:$BU$53,HV55,$N$54:$BU$54,$IA$3)+COUNTIFS($N$53:$BU$53,HV55,$N$55:$BU$55,$IA$3))","v":""},{"$f":"IF(HU55=\"\",\"\",COUNTIFS($N$53:$BU$53,HV55,$N$54:$BU$54,$IB$3)+COUNTIFS($N$53:$BU$53,HV55,$N$55:$BU$55,$IB$3))","v":""}]
[null,null,0,null,null,null,null,null,null,{"$f":"IF(L56=\"\",\"\",VLOOKUP(L56,$C$29:$D$58,2,FALSE))","v":""},null,null,null,{"$f":"IFERROR(VLOOKUP(先攻T!F81,記号!$I$27:$J$30,2,FALSE),\"\")","v":""},{"$f":"IFERROR(VLOOKUP(先攻T!H80,記号!$L$5:$M$21,2,FALSE),\"\")","v":""},{"$f":"IFERROR(VLOOKUP(先攻T!H82,記号!$F$27:$G$37,2,FALSE),\"\")","v":""},{"$f":"IFERROR(VLOOKUP(先攻T!G80,記号!$I$5:$J$23,2,FALSE),\"\")","v":""},null,{"$f":"IFERROR(VLOOKUP(先攻T!R81,記号!$I$27:$J$30,2,FALSE),\"\")","v":""},{"$f":"IFERROR(VLOOKUP(先攻T!T80,記号!$L$5:$M$21,2,FALSE),\"\")","v":""},{"$f":"IFERROR(VLOOKUP(先攻T!T82,記号!$F$27:$G$37,2,FALSE),\"\")","v":""},{"$f":"IFERROR(VLOOKUP(先攻T!S80,記号!$I$5:$J$23,2,FALSE),\"\")","v":""},null,{"$f":"IFERROR(VLOOKUP(先攻T!AD81,記号!$I$27:$J$30,2,FALSE),\"\")","v":""},{"$f":"IFERROR(VLOOKUP(先攻T!AF80,記号!$L$5:$M$21,2,FALSE),\"\")","v":"E"},{"$f":"IFERROR(VLOOKUP(先攻T!AF82,記号!$F$27:$G$37,2,FALSE),\"\")","v":""},{"$f":"IFERROR(VLOOKUP(先攻T!AE80,記号!$I$5:$J$23,2,FALSE),\"\")","v":"①"},null,{"$f":"IFERROR(VLOOKUP(先攻T!AP81,記号!$I$27:$J$30,2,FALSE),\"\")","v":""},{"$f":"IFERROR(VLOOKUP(先攻T!AR80,記号!$L$5:$M$21,2,FALSE),\"\")","v":""},{"$f":"IFERROR(VLOOKUP(先攻T!AR82,記号!$F$27:$G$37,2,FALSE),\"\")","v":""},{"$f":"IFERROR(VLOOKUP(先攻T!AQ80,記号!$I$5:$J$23,2,FALSE),\"\")","v":""},null,{"$f":"IFERROR(VLOOKUP(先攻T!BB81,記号!$I$27:$J$30,2,FALSE),\"\")","v":""},{"$f":"IFERROR(VLOOKUP(先攻T!BD80,記号!$L$5:$M$21,2,FALSE),\"\")","v":""},{"$f":"IFERROR(VLOOKUP(先攻T!BD82,記号!$F$27:$G$37,2,FALSE),\"\")","v":""},{"$f":"IFERROR(VLOOKUP(先攻T!BC80,記号!$I$5:$J$23,2,FALSE),\"\")","v":""},null,{"$f":"IFERROR(VLOOKUP(先攻T!BN81,記号!$I$27:$J$30,2,FALSE),\"\")","v":""},{"$f":"IFERROR(VLOOKUP(先攻T!BP80,記号!$L$5:$M$21,2,FALSE),\"\")","v":""},{"$f":"IFERROR(VLOOKUP(先攻T!BP82,記号!$F$27:$G$37,2,FALSE),\"\")","v":""},{"$f":"IFERROR(VLOOKUP(先攻T!BO80,記号!$I$5:$J$23,2,FALSE),\"\")","v":""},null,{"$f":"IFERROR(VLOOKUP(先攻T!BZ81,記号!$I$27:$J$30,2,FALSE),\"\")","v":"G"},{"$f":"IFERROR(VLOOKUP(先攻T!CB80,記号!$L$5:$M$21,2,FALSE),\"\")","v":""},{"$f":"IFERROR(VLOOKUP(先攻T!CB82,記号!$F$27:$G$37,2,FALSE),\"\")","v":""},{"$f":"IFERROR(VLOOKUP(先攻T!CA80,記号!$I$5:$J$23,2,FALSE),\"\")","v":""},null,{"$f":"IFERROR(VLOOKUP(先攻T!CL81,記号!$I$27:$J$30,2,FALSE),\"\")","v":""},{"$f":"IFERROR(VLOOKUP(先攻T!CN80,記号!$L$5:$M$21,2,FALSE),\"\")","v":""},{"$f":"IFERROR(VLOOKUP(先攻T!CN82,記号!$F$27:$G$37,2,FALSE),\"\")","v":""},{"$f":"IFERROR(VLOOKUP(先攻T!CM80,記号!$I$5:$J$23,2,FALSE),\"\")","v":""},null,{"$f":"IF(BB52=\"\",\"\",IF(BB52=L53+0.2,\"2\",IF(BB52=L53+0.3,\"3\",IF(BB52=L53+0.4,\"4\",IF(BB52=L53+0.5,\"5\",\"先\")))))","v":""},{"$f":"IFERROR(VLOOKUP(先攻T!CZ80,記号!$L$5:$M$21,2,FALSE),\"\")","v":""},{"$f":"IFERROR(VLOOKUP(先攻T!CZ82,記号!$F$27:$G$37,2,FALSE),\"\")","v":""},{"$f":"IFERROR(VLOOKUP(先攻T!CY80,記号!$I$5:$J$23,2,FALSE),\"\")","v":""},null,{"$f":"IFERROR(VLOOKUP(先攻T!DJ81,記号!$I$27:$J$30,2,FALSE),\"\")","v":""},{"$f":"IFERROR(VLOOKUP(先攻T!DL80,記号!$L$5:$M$21,2,FALSE),\"\")","v":""},{"$f":"IFERROR(VLOOKUP(先攻T!DL82,記号!$F$27:$G$37,2,FALSE),\"\")","v":""},{"$f":"IFERROR(VLOOKUP(先攻T!DK80,記号!$I$5:$J$23,2,FALSE),\"\")","v":""},null,{"$f":"IFERROR(VLOOKUP(先攻T!DV81,記号!$I$27:$J$30,2,FALSE),\"\")","v":""},{"$f":"IFERROR(VLOOKUP(先攻T!DX80,記号!$L$5:$M$21,2,FALSE),\"\")","v":""},{"$f":"IFERROR(VLOOKUP(先攻T!DX82,記号!$F$27:$G$37,2,FALSE),\"\")","v":""},{"$f":"IFERROR(VLOOKUP(先攻T!DW80,記号!$I$5:$J$23,2,FALSE),\"\")","v":""},null,{"$f":"IFERROR(VLOOKUP(先攻T!EH81,記号!$I$27:$J$30,2,FALSE),\"\")","v":""},{"$f":"IFERROR(VLOOKUP(先攻T!EJ80,記号!$L$5:$M$21,2,FALSE),\"\")","v":""},{"$f":"IFERROR(VLOOKUP(先攻T!EJ82,記号!$F$27:$G$37,2,FALSE),\"\")","v":""},{"$f":"IFERROR(VLOOKUP(先攻T!EI80,記号!$I$5:$J$23,2,FALSE),\"\")","v":""},null,{"$f":"IF(K56=\"\",\"\",VLOOKUP(K56,$C$84:$E$89,3,FALSE))","v":""},{"$f":"IF(L56=\"\",\"\",(BX56+CG56+CH56+CI56))","v":""},"",{"$f":"IF(L56=\"\",\"\",COUNTIFS($N$53:$BU$53,L56,$N$58:$BU$58,$BY$3))","v":""},{"$f":"IF(L56=\"\",\"\",COUNTIFS($N$53:$BU$53,L56,$N$58:$BU$58,$BZ$3))","v":""},{"$f":"IF(L56=\"\",\"\",COUNTIFS($N$53:$BU$53,L56,$N$56:$BU$56,$CA$3))","v":""},{"$f":"IF(L56=\"\",\"\",COUNTIFS($N$53:$BU$53,L56,$N$56:$BU$56,$CB$3))","v":""},{"$f":"IF(L56=\"\",\"\",COUNTIFS($N$53:$BU$53,L56,$N$58:$BU$58,$CC$3))","v":""},{"$f":"IF(L56=\"\",\"\",SUMIF($N$53:$BU$53,L56,$N$58:$BU$58))","v":""},{"$f":"IF(L56=\"\",\"\",COUNTIFS($N$53:$BU$53,L56,$N$57:$BU$57,$CE$3))","v":""},{"$f":"IF(L56=\"\",\"\",COUNTIFS($N$53:$BU$53,L56,$N$58:$BU$58,$CF$3))","v":""},{"$f":"IF(L56=\"\",\"\",COUNTIFS($N$53:$BU$53,L56,$N$58:$BU$58,$CG$3))","v":""},{"$f":"IF(L56=\"\",\"\",COUNTIFS($N$53:$BU$53,L56,$N$58:$BU$58,$CH$3))","v":""},{"$f":"IF(L56=\"\",\"\",COUNTIFS($N$53:$BU$53,L56,$N$58:$BU$58,$CI$3))","v":""},{"$f":"IF(L56=\"\",\"\",COUNTIFS($N$53:$BU$53,L56,$N$58:$BU$58,$CJ$3))","v":""},{"$f":"IF(L56=\"\",\"\",COUNTIFS($N$53:$BU$53,L56,$N$58:$BU$58,$CK$3)+COUNTIFS($N$53:$BU$53,L56,$N$56:$BU$56,$CK$3))","v":""},{"$f":"IF(L56=\"\",\"\",COUNTIFS($N$53:$BU$53,L56,$N$58:$BU$58,$CL$3)+COUNTIFS($N$53:$BU$53,L56,$N$56:$BU$56,$CL$3))","v":""},{"$f":"IF(L56=\"\",\"\",COUNTIFS($N$53:$BU$53,L56,$N$58:$BU$58,$CM$3))","v":""},{"$f":"IF(L56=\"\",\"\",COUNTIFS($N$53:$BU$53,L56,$N$58:$BU$58,$CN$3))","v":""},{"$f":"IF(L56=\"\",\"\",COUNTIFS($N$53:$BU$53,L56,$N$54:$BU$54,$CO$3)+COUNTIFS($N$53:$BU$53,L56,$N$55:$BU$55,$CO$3))","v":""},null,"遊ゴロ",null,null,null,null,"G","RR",6,"遊",6,"先",null,null,null,null,null,null,null,null,null,null,null,null,null,null,null,null,null,null,null,null,null,null,null,null,null,null,null,"","",{"$f":"IF(EC56=\"\",\"\",COUNTIFS($N$53:$BU$53,EC56,$N$58:$BU$58,\"RZ\"))","v":""},{"$f":"IF(ED56=\"\",\"\",COUNTIFS($N$53:$BU$53,EC56,$N$57:$BU$57,\"ZH\"))","v":""},null,null,null,null,null,null,null,null,null,null,null,null,null,null,null,null,null,null,null,null,null,null,null,null,null,null,null,null,null,null,null,null,null,null,null,null,null,null,null,null,null,null,null,null,null,null,null,null,null,null,null,null,null,null,null,null,null,null,null,null,null,null,null,null,null,null,null,null,null,null,null,null,null,null,null,null,null,null,null,null,null,null,null,null,null,null,null,null,null,null,null,null,"","","","","","","",""]
[null,null,0,null,null,null,null,null,null,{"$f":"IF(L57=\"\",\"\",VLOOKUP(L57,$C$29:$D$58,2,FALSE))","v":""},null,null,null,{"$f":"IF(N53=\"\",\"\",IF(N53=L54+0.2,\"2\",IF(N53=L54+0.3,\"3\",IF(N53=L54+0.4,\"4\",IF(N53=L54+0.5,\"5\",\"先\")))))","v":"先"},{"$f":"IFERROR(VLOOKUP(先攻T!I82,記号!$F$37:$G$81,2,FALSE),\"\")","v":""},{"$f":"IFERROR(VLOOKUP(先攻T!J80,記号!$R$5:$S$10,2,FALSE),\"\")","v":""},{"$f":"IFERROR(VLOOKUP(先攻T!G82,記号!$F$27:$G$37,2,FALSE),\"\")","v":""},{"$f":"IFERROR(VLOOKUP(先攻T!L80,記号!$U$12:$V$13,2,FALSE),\"\")","v":""},{"$f":"IF(S53=\"\",\"\",IF(S53=L54+0.2,\"2\",IF(S53=L54+0.3,\"3\",IF(S53=L54+0.4,\"4\",IF(S53=L54+0.5,\"5\",\"先\")))))","v":"先"},{"$f":"IFERROR(VLOOKUP(先攻T!U82,記号!$F$27:$G$37,2,FALSE),\"\")","v":""},{"$f":"IFERROR(VLOOKUP(先攻T!V80,記号!$R$5:$S$10,2,FALSE),\"\")","v":""},{"$f":"IFERROR(VLOOKUP(先攻T!S82,記号!$F$27:$G$37,2,FALSE),\"\")","v":""},{"$f":"IFERROR(VLOOKUP(先攻T!X80,記号!$U$12:$V$13,2,FALSE),\"\")","v":""},{"$f":"IF(X53=\"\",\"\",IF(X53=L54+0.2,\"2\",IF(X53=L54+0.3,\"3\",IF(X53=L54+0.4,\"4\",IF(X53=L54+0.5,\"5\",\"先\")))))","v":"先"},{"$f":"IFERROR(VLOOKUP(先攻T!AG82,記号!$F$27:$G$37,2,FALSE),\"\")","v":""},{"$f":"IFERROR(VLOOKUP(先攻T!AH80,記号!$R$5:$S$10,2,FALSE),\"\")","v":"○"},{"$f":"IFERROR(VLOOKUP(先攻T!AE82,記号!$F$27:$G$37,2,FALSE),\"\")","v":""},{"$f":"IFERROR(VLOOKUP(先攻T!AJ80,記号!$U$12:$V$13,2,FALSE),\"\")","v":""},{"$f":"IF(AC53=\"\",\"\",IF(AC53=L54+0.2,\"2\",IF(AC53=L54+0.3,\"3\",IF(AC53=L54+0.4,\"4\",IF(AC53=L54+0.5,\"5\",\"先\")))))","v":"先"},{"$f":"IFERROR(VLOOKUP(先攻T!AS82,記号!$F$27:$G$37,2,FALSE),\"\")","v":""},{"$f":"IFERROR(VLOOKUP(先攻T!AT80,記号!$R$5:$S$10,2,FALSE),\"\")","v":""},{"$f":"IFERROR(VLOOKUP(先攻T!AQ82,記号!$F$27:$G$37,2,FALSE),\"\")","v":""},{"$f":"IFERROR(VLOOKUP(先攻T!AV80,記号!$U$12:$V$13,2,FALSE),\"\")","v":""},{"$f":"IF(AH53=\"\",\"\",IF(AH53=L54+0.2,\"2\",IF(AH53=L54+0.3,\"3\",IF(AH53=L54+0.4,\"4\",IF(AH53=L54+0.5,\"5\",\"先\")))))","v":"先"},{"$f":"IFERROR(VLOOKUP(先攻T!BE82,記号!$F$27:$G$37,2,FALSE),\"\")","v":""},{"$f":"IFERROR(VLOOKUP(先攻T!BF80,記号!$R$5:$S$10,2,FALSE),\"\")","v":"Ⅰ"},{"$f":"IFERROR(VLOOKUP(先攻T!BC82,記号!$F$27:$G$37,2,FALSE),\"\")","v":""},{"$f":"IFERROR(VLOOKUP(先攻T!BH80,記号!$U$12:$V$13,2,FALSE),\"\")","v":""},{"$f":"IF(AM53=\"\",\"\",IF(AM53=L54+0.2,\"2\",IF(AM53=L54+0.3,\"3\",IF(AM53=L54+0.4,\"4\",IF(AM53=L54+0.5,\"5\",\"先\")))))","v":"先"},{"$f":"IFERROR(VLOOKUP(先攻T!BQ82,記号!$F$27:$G$37,2,FALSE),\"\")","v":""},{"$f":"IFERROR(VLOOKUP(先攻T!BR80,記号!$R$5:$S$10,2,FALSE),\"\")","v":""},{"$f":"IFERROR(VLOOKUP(先攻T!BO82,記号!$F$27:$G$37,2,FALSE),\"\")","v":""},{"$f":"IFERROR(VLOOKUP(先攻T!BT80,記号!$U$12:$V$13,2,FALSE),\"\")","v":""},{"$f":"IF(AR53=\"\",\"\",IF(AR53=L54+0.2,\"2\",IF(AR53=L54+0.3,\"3\",IF(AR53=L54+0.4,\"4\",IF(AR53=L54+0.5,\"5\",\"先\")))))","v":"先"},{"$f":"IFERROR(VLOOKUP(先攻T!CC82,記号!$F$27:$G$37,2,FALSE),\"\")","v":""},{"$f":"IFERROR(VLOOKUP(先攻T!CD80,記号!$R$5:$S$10,2,FALSE),\"\")","v":"Ⅱ"},{"$f":"IFERROR(VLOOKUP(先攻T!CA82,記号!$F$27:$G$37,2,FALSE),\"\")","v":""},{"$f":"IFERROR(VLOOKUP(先攻T!CF80,記号!$U$12:$V$13,2,FALSE),\"\")","v":""},{"$f":"IF(AW53=\"\",\"\",IF(AW53=L54+0.2,\"2\",IF(AW53=L54+0.3,\"3\",IF(AW53=L54+0.4,\"4\",IF(AW53=L54+0.5,\"5\",\"先\")))))","v":"先"},{"$f":"IFERROR(VLOOKUP(先攻T!CO82,記号!$F$27:$G$37,2,FALSE),\"\")","v":""},{"$f":"IFERROR(VLOOKUP(先攻T!CP80,記号!$R$5:$S$10,2,FALSE),\"\")","v":""},{"$f":"IFERROR(VLOOKUP(先攻T!CM82,記号!$F$27:$G$37,2,FALSE),\"\")","v":""},{"$f":"IFERROR(VLOOKUP(先攻T!CR80,記号!$U$12:$V$13,2,FALSE),\"\")","v":""},{"$f":"BB51","v":"先"},{"$f":"IFERROR(VLOOKUP(先攻T!DA82,記号!$F$27:$G$37,2,FALSE),\"\")","v":""},{"$f":"IFERROR(VLOOKUP(先攻T!DB80,記号!$R$5:$S$10,2,FALSE),\"\")","v":""},{"$f":"IFERROR(VLOOKUP(先攻T!CY82,記号!$F$27:$G$37,2,FALSE),\"\")","v":""},{"$f":"IFERROR(VLOOKUP(先攻T!DD80,記号!$U$12:$V$13,2,FALSE),\"\")","v":""},{"$f":"IF(BG53=\"\",\"\",IF(BG53=L54+0.2,\"2\",IF(BG53=L54+0.3,\"3\",IF(BG53=L54+0.4,\"4\",IF(BG53=L54+0.5,\"5\",\"先\")))))","v":"先"},{"$f":"IFERROR(VLOOKUP(先攻T!DM82,記号!$F$27:$G$37,2,FALSE),\"\")","v":""},{"$f":"IFERROR(VLOOKUP(先攻T!DN80,記号!$R$5:$S$10,2,FALSE),\"\")","v":""},{"$f":"IFERROR(VLOOKUP(先攻T!DK82,記号!$F$27:$G$37,2,FALSE),\"\")","v":""},{"$f":"IFERROR(VLOOKUP(先攻T!DP80,記号!$U$12:$V$13,2,FALSE),\"\")","v":""},{"$f":"IF(BL53=\"\",\"\",IF(BL53=L54+0.2,\"2\",IF(BL53=L54+0.3,\"3\",IF(BL53=L54+0.4,\"4\",IF(BL53=L54+0.5,\"5\",\"先\")))))","v":"先"},{"$f":"IFERROR(VLOOKUP(先攻T!DY82,記号!$F$27:$G$37,2,FALSE),\"\")","v":""},{"$f":"IFERROR(VLOOKUP(先攻T!DZ80,記号!$R$5:$S$10,2,FALSE),\"\")","v":""},{"$f":"IFERROR(VLOOKUP(先攻T!DW82,記号!$F$27:$G$37,2,FALSE),\"\")","v":""},{"$f":"IFERROR(VLOOKUP(先攻T!EB80,記号!$U$12:$V$13,2,FALSE),\"\")","v":""},{"$f":"IF(BQ53=\"\",\"\",IF(BQ53=L54+0.2,\"2\",IF(BQ53=L54+0.3,\"3\",IF(BQ53=L54+0.4,\"4\",IF(BQ53=L54+0.5,\"5\",\"先\")))))","v":"先"},{"$f":"IFERROR(VLOOKUP(先攻T!EK82,記号!$F$27:$G$37,2,FALSE),\"\")","v":""},{"$f":"IFERROR(VLOOKUP(先攻T!EL80,記号!$R$5:$S$10,2,FALSE),\"\")","v":""},{"$f":"IFERROR(VLOOKUP(先攻T!EI82,記号!$F$27:$G$37,2,FALSE),\"\")","v":""},{"$f":"IFERROR(VLOOKUP(先攻T!EN80,記号!$U$12:$V$13,2,FALSE),\"\")","v":""},{"$f":"IF(K57=\"\",\"\",VLOOKUP(K57,$C$84:$E$89,3,FALSE))","v":""},{"$f":"IF(L57=\"\",\"\",(BX57+CG57+CH57+CI57))","v":""},"",{"$f":"IF(L57=\"\",\"\",COUNTIFS($N$53:$BU$53,L57,$N$58:$BU$58,$BY$3))","v":""},{"$f":"IF(L57=\"\",\"\",COUNTIFS($N$53:$BU$53,L57,$N$58:$BU$58,$BZ$3))","v":""},{"$f":"IF(L57=\"\",\"\",COUNTIFS($N$53:$BU$53,L57,$N$56:$BU$56,$CA$3))","v":""},{"$f":"IF(L57=\"\",\"\",COUNTIFS($N$53:$BU$53,L57,$N$56:$BU$56,$CB$3))","v":""},{"$f":"IF(L57=\"\",\"\",COUNTIFS($N$53:$BU$53,L57,$N$58:$BU$58,$CC$3))","v":""},{"$f":"IF(L57=\"\",\"\",SUMIF($N$53:$BU$53,L57,$N$58:$BU$58))","v":""},{"$f":"IF(L57=\"\",\"\",COUNTIFS($N$53:$BU$53,L57,$N$57:$BU$57,$CE$3))","v":""},{"$f":"IF(L57=\"\",\"\",COUNTIFS($N$53:$BU$53,L57,$N$58:$BU$58,$CF$3))","v":""},{"$f":"IF(L57=\"\",\"\",COUNTIFS($N$53:$BU$53,L57,$N$58:$BU$58,$CG$3))","v":""},{"$f":"IF(L57=\"\",\"\",COUNTIFS($N$53:$BU$53,L57,$N$58:$BU$58,$CH$3))","v":""},{"$f":"IF(L57=\"\",\"\",COUNTIFS($N$53:$BU$53,L57,$N$58:$BU$58,$CI$3))","v":""},{"$f":"IF(L57=\"\",\"\",COUNTIFS($N$53:$BU$53,L57,$N$58:$BU$58,$CJ$3))","v":""},{"$f":"IF(L57=\"\",\"\",COUNTIFS($N$53:$BU$53,L57,$N$58:$BU$58,$CK$3)+COUNTIFS($N$53:$BU$53,L57,$N$56:$BU$56,$CK$3))","v":""},{"$f":"IF(L57=\"\",\"\",COUNTIFS($N$53:$BU$53,L57,$N$58:$BU$58,$CL$3)+COUNTIFS($N$53:$BU$53,L57,$N$56:$BU$56,$CL$3))","v":""},{"$f":"IF(L57=\"\",\"\",COUNTIFS($N$53:$BU$53,L57,$N$58:$BU$58,$CM$3))","v":""},{"$f":"IF(L57=\"\",\"\",COUNTIFS($N$53:$BU$53,L57,$N$58:$BU$58,$CN$3))","v":""},{"$f":"IF(L57=\"\",\"\",COUNTIFS($N$53:$BU$53,L57,$N$54:$BU$54,$CO$3)+COUNTIFS($N$53:$BU$53,L57,$N$55:$BU$55,$CO$3))","v":""},null,null,null,null,null,null,null,"",null,null,"",null,null,null,null,null,null,null,null,null,null,null,null,null,null,null,null,null,null,null,null,null,null,null,null,null,null,null,null,"","",{"$f":"IF(EC57=\"\",\"\",COUNTIFS($N$53:$BU$53,EC57,$N$58:$BU$58,\"RZ\"))","v":""},{"$f":"IF(ED57=\"\",\"\",COUNTIFS($N$53:$BU$53,EC57,$N$57:$BU$57,\"ZH\"))","v":""},null,null,null,null,null,null,null,null,null,null,null,null,null,null,null,null,null,null,null,null,null,null,null,null,null,null,null,null,null,null,null,null,null,null,null,null,null,null,null,null,null,null,null,null,null,null,null,null,null,null,null,null,null,null,null,null,null,null,null,null,null,null,null,null,null,null,null,null,null,null,null,null,null,null,null,null,null,null,null,null,null,null,null,null,null,null,null,null,null,null,null,null,"","","","","","","",""]
[null,null,0,null,null,null,null,null,null,{"$f":"IF(L58=\"\",\"\",VLOOKUP(L58,$C$29:$D$58,2,FALSE))","v":""},null,null,null,{"$f":"IFERROR(VLOOKUP(先攻T!K80,記号!$R$15:$S$20,2,FALSE),\"\")","v":""},{"$f":"IFERROR(VLOOKUP(先攻T!I80,記号!$O$5:$P$21,2,FALSE),\"\")","v":""},{"$f":"IFERROR(VLOOKUP(先攻T!F82,記号!$F$27:$G$37,2,FALSE),\"\")","v":""},{"$f":"IFERROR(VLOOKUP(先攻T!F80,記号!$F$5:$G$21,2,FALSE),\"\")","v":""},{"$f":"IFERROR(VLOOKUP(先攻T!L81,記号!$U$5:$V$6,2,FALSE),\"\")","v":""},{"$f":"IFERROR(VLOOKUP(先攻T!W80,記号!$R$15:$S$20,2,FALSE),\"\")","v":""},{"$f":"IFERROR(VLOOKUP(先攻T!U80,記号!$O$5:$P$21,2,FALSE),\"\")","v":""},{"$f":"IFERROR(VLOOKUP(先攻T!R82,記号!$F$27:$G$37,2,FALSE),\"\")","v":""},{"$f":"IFERROR(VLOOKUP(先攻T!R80,記号!$F$5:$G$21,2,FALSE),\"\")","v":""},{"$f":"IFERROR(VLOOKUP(先攻T!X81,記号!$U$5:$V$6,2,FALSE),\"\")","v":""},{"$f":"IFERROR(VLOOKUP(先攻T!AI80,記号!$R$15:$S$20,2,FALSE),\"\")","v":""},{"$f":"IFERROR(VLOOKUP(先攻T!AG80,記号!$O$5:$P$21,2,FALSE),\"\")","v":"②"},{"$f":"IFERROR(VLOOKUP(先攻T!AD82,記号!$F$27:$G$37,2,FALSE),\"\")","v":""},{"$f":"IFERROR(VLOOKUP(先攻T!AD80,記号!$F$5:$G$21,2,FALSE),\"\")","v":"B"},{"$f":"IFERROR(VLOOKUP(先攻T!AJ81,記号!$U$5:$V$6,2,FALSE),\"\")","v":""},{"$f":"IFERROR(VLOOKUP(先攻T!AU80,記号!$R$15:$S$20,2,FALSE),\"\")","v":""},{"$f":"IFERROR(VLOOKUP(先攻T!AS80,記号!$O$5:$P$21,2,FALSE),\"\")","v":""},{"$f":"IFERROR(VLOOKUP(先攻T!AP82,記号!$F$27:$G$37,2,FALSE),\"\")","v":""},{"$f":"IFERROR(VLOOKUP(先攻T!AP80,記号!$F$5:$G$21,2,FALSE),\"\")","v":""},{"$f":"IFERROR(VLOOKUP(先攻T!AV81,記号!$U$5:$V$6,2,FALSE),\"\")","v":""},{"$f":"IFERROR(VLOOKUP(先攻T!BG80,記号!$R$15:$S$20,2,FALSE),\"\")","v":""},{"$f":"IFERROR(VLOOKUP(先攻T!BE80,記号!$O$5:$P$21,2,FALSE),\"\")","v":""},{"$f":"IFERROR(VLOOKUP(先攻T!BB82,記号!$F$27:$G$37,2,FALSE),\"\")","v":""},{"$f":"IFERROR(VLOOKUP(先攻T!BB80,記号!$F$5:$G$21,2,FALSE),\"\")","v":"K'"},{"$f":"IFERROR(VLOOKUP(先攻T!BH81,記号!$U$5:$V$6,2,FALSE),\"\")","v":""},{"$f":"IFERROR(VLOOKUP(先攻T!BS56,記号!$R$15:$S$20,2,FALSE),\"\")","v":""},{"$f":"IFERROR(VLOOKUP(先攻T!BQ80,記号!$O$5:$P$21,2,FALSE),\"\")","v":""},{"$f":"IFERROR(VLOOKUP(先攻T!BN82,記号!$F$27:$G$37,2,FALSE),\"\")","v":""},{"$f":"IFERROR(VLOOKUP(先攻T!BN80,記号!$F$5:$G$21,2,FALSE),\"\")","v":""},{"$f":"IFERROR(VLOOKUP(先攻T!BT81,記号!$U$5:$V$6,2,FALSE),\"\")","v":""},{"$f":"IFERROR(VLOOKUP(先攻T!CE80,記号!$R$15:$S$20,2,FALSE),\"\")","v":""},{"$f":"IFERROR(VLOOKUP(先攻T!CC80,記号!$O$5:$P$21,2,FALSE),\"\")","v":""},{"$f":"IFERROR(VLOOKUP(先攻T!BZ82,記号!$F$27:$G$37,2,FALSE),\"\")","v":"6'"},{"$f":"IFERROR(VLOOKUP(先攻T!BZ80,記号!$F$5:$G$21,2,FALSE),\"\")","v":"O"},{"$f":"IFERROR(VLOOKUP(先攻T!CF81,記号!$U$5:$V$6,2,FALSE),\"\")","v":"RZ"},{"$f":"IFERROR(VLOOKUP(先攻T!CQ80,記号!$R$15:$S$20,2,FALSE),\"\")","v":""},{"$f":"IFERROR(VLOOKUP(先攻T!CO80,記号!$O$5:$P$21,2,FALSE),\"\")","v":""},{"$f":"IFERROR(VLOOKUP(先攻T!CL82,記号!$F$27:$G$37,2,FALSE),\"\")","v":""},{"$f":"IFERROR(VLOOKUP(先攻T!CL80,記号!$F$5:$G$21,2,FALSE),\"\")","v":""},{"$f":"IFERROR(VLOOKUP(先攻T!CR81,記号!$U$5:$V$6,2,FALSE),\"\")","v":""},{"$f":"IFERROR(VLOOKUP(先攻T!DC80,記号!$R$15:$S$20,2,FALSE),\"\")","v":""},{"$f":"IFERROR(VLOOKUP(先攻T!DA80,記号!$O$5:$P$21,2,FALSE),\"\")","v":""},{"$f":"IFERROR(VLOOKUP(先攻T!CX82,記号!$F$27:$G$37,2,FALSE),\"\")","v":""},{"$f":"IFERROR(VLOOKUP(先攻T!CX80,記号!$F$5:$G$21,2,FALSE),\"\")","v":""},{"$f":"IFERROR(VLOOKUP(先攻T!DD81,記号!$U$5:$V$6,2,FALSE),\"\")","v":""},{"$f":"IFERROR(VLOOKUP(先攻T!DO80,記号!$R$15:$S$20,2,FALSE),\"\")","v":""},{"$f":"IFERROR(VLOOKUP(先攻T!DM80,記号!$O$5:$P$21,2,FALSE),\"\")","v":""},{"$f":"IFERROR(VLOOKUP(先攻T!DJ82,記号!$F$27:$G$37,2,FALSE),\"\")","v":""},{"$f":"IFERROR(VLOOKUP(先攻T!DJ80,記号!$F$5:$G$21,2,FALSE),\"\")","v":""},{"$f":"IFERROR(VLOOKUP(先攻T!DP81,記号!$U$5:$V$6,2,FALSE),\"\")","v":""},{"$f":"IFERROR(VLOOKUP(先攻T!EA80,記号!$R$15:$S$20,2,FALSE),\"\")","v":""},{"$f":"IFERROR(VLOOKUP(先攻T!DY80,記号!$O$5:$P$21,2,FALSE),\"\")","v":""},{"$f":"IFERROR(VLOOKUP(先攻T!DV82,記号!$F$27:$G$37,2,FALSE),\"\")","v":""},{"$f":"IFERROR(VLOOKUP(先攻T!DV80,記号!$F$5:$G$21,2,FALSE),\"\")","v":""},{"$f":"IFERROR(VLOOKUP(先攻T!EB81,記号!$U$5:$V$6,2,FALSE),\"\")","v":""},{"$f":"IFERROR(VLOOKUP(先攻T!EM80,記号!$R$15:$S$20,2,FALSE),\"\")","v":""},{"$f":"IFERROR(VLOOKUP(先攻T!EK80,記号!$O$5:$P$21,2,FALSE),\"\")","v":""},{"$f":"IFERROR(VLOOKUP(先攻T!EH82,記号!$F$27:$G$37,2,FALSE),\"\")","v":""},{"$f":"IFERROR(VLOOKUP(先攻T!EH80,記号!$F$5:$G$21,2,FALSE),\"\")","v":""},{"$f":"IFERROR(VLOOKUP(先攻T!EN81,記号!$U$5:$V$6,2,FALSE),\"\")","v":""},{"$f":"IF(K58=\"\",\"\",VLOOKUP(K58,$C$84:$E$89,3,FALSE))","v":""},{"$f":"IF(L58=\"\",\"\",(BX58+CG58+CH58+CI58))","v":""},"",{"$f":"IF(L58=\"\",\"\",COUNTIFS($N$53:$BU$53,L58,$N$58:$BU$58,$BY$3))","v":""},{"$f":"IF(L58=\"\",\"\",COUNTIFS($N$53:$BU$53,L58,$N$58:$BU$58,$BZ$3))","v":""},{"$f":"IF(L58=\"\",\"\",COUNTIFS($N$53:$BU$53,L58,$N$56:$BU$56,$CA$3))","v":""},{"$f":"IF(L58=\"\",\"\",COUNTIFS($N$53:$BU$53,L58,$N$56:$BU$56,$CB$3))","v":""},{"$f":"IF(L58=\"\",\"\",COUNTIFS($N$53:$BU$53,L58,$N$58:$BU$58,$CC$3))","v":""},{"$f":"IF(L58=\"\",\"\",SUMIF($N$53:$BU$53,L58,$N$58:$BU$58))","v":""},{"$f":"IF(L58=\"\",\"\",COUNTIFS($N$53:$BU$53,L58,$N$57:$BU$57,$CE$3))","v":""},{"$f":"IF(L58=\"\",\"\",COUNTIFS($N$53:$BU$53,L58,$N$58:$BU$58,$CF$3))","v":""},{"$f":"IF(L58=\"\",\"\",COUNTIFS($N$53:$BU$53,L58,$N$58:$BU$58,$CG$3))","v":""},{"$f":"IF(L58=\"\",\"\",COUNTIFS($N$53:$BU$53,L58,$N$58:$BU$58,$CH$3))","v":""},{"$f":"IF(L58=\"\",\"\",COUNTIFS($N$53:$BU$53,L58,$N$58:$BU$58,$CI$3))","v":""},{"$f":"IF(L58=\"\",\"\",COUNTIFS($N$53:$BU$53,L58,$N$58:$BU$58,$CJ$3))","v":""},{"$f":"IF(L58=\"\",\"\",COUNTIFS($N$53:$BU$53,L58,$N$58:$BU$58,$CK$3)+COUNTIFS($N$53:$BU$53,L58,$N$56:$BU$56,$CK$3))","v":""},{"$f":"IF(L58=\"\",\"\",COUNTIFS($N$53:$BU$53,L58,$N$58:$BU$58,$CL$3)+COUNTIFS($N$53:$BU$53,L58,$N$56:$BU$56,$CL$3))","v":""},{"$f":"IF(L58=\"\",\"\",COUNTIFS($N$53:$BU$53,L58,$N$58:$BU$58,$CM$3))","v":""},{"$f":"IF(L58=\"\",\"\",COUNTIFS($N$53:$BU$53,L58,$N$58:$BU$58,$CN$3))","v":""},{"$f":"IF(L58=\"\",\"\",COUNTIFS($N$53:$BU$53,L58,$N$54:$BU$54,$CO$3)+COUNTIFS($N$53:$BU$53,L58,$N$55:$BU$55,$CO$3))","v":""},null,null,null,null,null,null,null,"",null,null,"",null,null,null,null,null,null,null,null,null,null,null,null,null,null,null,null,null,null,null,null,null,null,null,null,null,null,null,null,"","",{"$f":"IF(EC58=\"\",\"\",COUNTIFS($N$53:$BU$53,EC58,$N$58:$BU$58,\"RZ\"))","v":""},{"$f":"IF(ED58=\"\",\"\",COUNTIFS($N$53:$BU$53,EC58,$N$57:$BU$57,\"ZH\"))","v":""},null,null,null,null,null,null,null,null,null,null,null,null,null,null,null,null,null,null,null,null,null,null,null,null,null,null,null,null,null,null,null,null,null,null,null,null,null,null,null,null,null,null,null,null,null,null,null,null,null,null,null,null,null,null,null,null,null,null,null,null,null,null,null,null,null,null,null,null,null,null,null,null,null,null,null,null,null,null,null,null,null,null,null,null,null,null,null,null,null,null,null,null,"","","","","","","",""]
[]
[null,"回戦→",null,"決勝",null,null,null,null,null,"試合日→",null,null,null,null,null,null,null,null,null,"球場→",null,null,"甲子園",null,null,null,null,null,null,null,null,"開始時刻→",null,null,null,null,null,null,"～","終了時刻→"]
[null,null,null,null,null,null,null,null,null,null,null,null,null,"✔",null,null,null,null,"✔",null,null,null,null,"✔",null,null,null,null,"✔",null,null,null,null,"✔",null,null,null,null,"✔",null,null,null,null,"✔",null,null,null,null,"✔",null,null,null,null,"✔"]
[null,null,null,"↓シーズンNo",null,null,null,null,null,"チーム名",null,null,null,1,null,null,null,null,2,null,null,null,null,3,null,null,null,null,4,null,null,null,null,5,null,null,null,null,6,null,null,null,null,7,null,null,null,null,8,null,null,null,null,9,null,null,null,null,10,null,null,null,null,11,null,null,null,null,12,null,null,null,null,"計"]
[null,null,null,"H30年夏",null,null,null,null,null,{"$f":"IF(O2=\"\",\"\",O2)","v":"金足農業"},null,null,null,{"$f":"IF(N61=\"\",\"\",IF(N62=N4,COUNTIF(P6:P58,$CE$3))+IF(N62=S4,COUNTIF(U6:U58,$CE$3))+IF(N62=X4,COUNTIF(Z6:Z58,$CE$3))+IF(N62=AC4,COUNTIF(AE6:AE58,$CE$3)))","v":0},null,null,null,null,{"$f":"IF(S61=\"\",\"\",IF(S62=S4,COUNTIF(U6:U58,$CE$3))+IF(S62=X4,COUNTIF(Z6:Z58,$CE$3))+IF(S62=AC4,COUNTIF(AE6:AE58,$CE$3))+IF(S62=AH4,COUNTIF(AJ6:AJ58,$CE$3)))","v":0},null,null,null,null,{"$f":"IF(X61=\"\",\"\",IF(X62=X4,COUNTIF(Z6:Z58,$CE$3))+IF(X62=AC4,COUNTIF(AE6:AE58,$CE$3))+IF(X62=AH4,COUNTIF(AJ6:AJ58,$CE$3))+IF(X62=AM4,COUNTIF(AO6:AO58,$CE$3)))","v":1},null,null,null,null,{"$f":"IF(AC61=\"\",\"\",IF(AC62=AC4,COUNTIF(AE6:AE58,$CE$3))+IF(AC62=AH4,COUNTIF(AJ6:AJ58,$CE$3))+IF(AC62=AM4,COUNTIF(AO6:AO58,$CE$3))+IF(AC62=BG4,COUNTIF(AT6:AT58,$CE$3)))","v":0},null,null,null,null,{"$f":"IF(AH61=\"\",\"\",IF(AH62=AH4,COUNTIF(AJ6:AJ58,$CE$3))+IF(AH62=AM4,COUNTIF(AO6:AO58,$CE$3))+IF(AH62=BG4,COUNTIF(AT6:AT58,$CE$3))+IF(AH62=BL4,COUNTIF(AY6:AY58,$CE$3)))","v":0},null,null,null,null,{"$f":"IF(AM61=\"\",\"\",IF(AM62=AM4,COUNTIF(AO6:AO58,$CE$3))+IF(AM62=BG4,COUNTIF(AT6:AT58,$CE$3))+IF(AM62=BL4,COUNTIF(AY6:AY58,$CE$3))+IF(AM62=BQ4,COUNTIF(BD6:BD58,$CE$3)))","v":0},null,null,null,null,{"$f":"IF(AR61=\"\",\"\",IF(AR62=AR4,COUNTIF(AT6:AT58,$CE$3))+IF(AR62=BL4,COUNTIF(AY6:AY58,$CE$3))+IF(AR62=BQ4,COUNTIF(BD6:BD58,$CE$3))+IF(AR62=BV4,COUNTIF(BI6:BI58,$CE$3)))","v":1},null,null,null,null,{"$f":"IF(AW61=\"\",\"\",IF(AW62=AW4,COUNTIF(AY6:AY58,$CE$3))+IF(AW62=BQ4,COUNTIF(BD6:BD58,$CE$3))+IF(AW62=BV4,COUNTIF(BI6:BI58,$CE$3))+IF(AW62=CA4,COUNTIF(BN6:BN58,$CE$3)))","v":0},null,null,null,null,{"$f":"IF(BB61=\"\",\"\",IF(BB62=BB4,COUNTIF(BD6:BD58,$CE$3))+IF(BB62=BV4,COUNTIF(BI6:BI58,$CE$3))+IF(BB62=CA4,COUNTIF(BN6:BN58,$CE$3))+IF(BB62=CF4,COUNTIF(BS6:BS58,$CE$3)))","v":0},null,null,null,null,{"$f":"IF(BG61=\"\",\"\",IF(BG62=BG4,COUNTIF(BI6:BI58,$CE$3))+IF(BG62=CA4,COUNTIF(BN6:BN58,$CE$3))+IF(BG62=CF4,COUNTIF(BS6:BS58,$CE$3)))","v":""},null,null,null,null,{"$f":"IF(BL61=\"\",\"\",IF(BL62=BL4,COUNTIF(BN6:BN58,$CE$3))+IF(BL62=CF4,COUNTIF(BS6:BS58,$CE$3)))","v":""},null,null,null,null,{"$f":"IF(BQ61=\"\",\"\",IF(BQ62=BQ4,COUNTIF(BS6:BS58,$CK$3)))","v":""},null,null,null,null,{"$f":"IF(J63=\"\",\"\",SUM(N63:BU63))","v":2}]
[null,null,null,null,null,null,null,null,null,{"$f":"IF(O67=\"\",\"\",O67)","v":"大阪桐蔭"},null,null,null,{"$f":"IF(N65=\"\",\"\",IF(N62=N69,COUNTIF(P71:P123,$CE$68))+IF(N62=S69,COUNTIF(U71:U123,$CE$68))+IF(N62=X69,COUNTIF(Z71:Z123,$CE$68))+IF(N62=AC69,COUNTIF(AE71:AE123,$CE$68)))","v":3},null,null,null,null,{"$f":"IF(S65=\"\",\"\",IF(S62=S69,COUNTIF(U71:U123,$CE$68))+IF(S62=X69,COUNTIF(Z71:Z123,$CE$68))+IF(S62=AC69,COUNTIF(AE71:AE123,$CE$68))+IF(S62=AH69,COUNTIF(AJ71:AJ123,$CE$68)))","v":0},null,null,null,null,{"$f":"IF(X65=\"\",\"\",IF(X62=X69,COUNTIF(Z71:Z123,$CE$68))+IF(X62=AC69,COUNTIF(AE71:AE123,$CE$68))+IF(X62=AH69,COUNTIF(AJ71:AJ123,$CE$68))+IF(X62=AM69,COUNTIF(AO71:AO123,$CE$68)))","v":0},null,null,null,null,{"$f":"IF(AC65=\"\",\"\",IF(AC62=AC69,COUNTIF(AE71:AE123,$CE$68))+IF(AC62=AH69,COUNTIF(AJ71:AJ123,$CE$68))+IF(AC62=AM69,COUNTIF(AO71:AO123,$CE$68))+IF(AC62=AR69,COUNTIF(AT71:AT123,$CE$68)))","v":3},null,null,null,null,{"$f":"IF(AH65=\"\",\"\",IF(AH62=AH69,COUNTIF(AJ71:AJ123,$CE$68))+IF(AH62=AM69,COUNTIF(AO71:AO123,$CE$68))+IF(AH62=AR69,COUNTIF(AT71:AT123,$CE$68))+IF(AH62=AW69,COUNTIF(AY71:AY123,$CE$68)))","v":6},null,null,null,null,{"$f":"IF(AM65=\"\",\"\",IF(AM62=AM69,COUNTIF(AO71:AO123,$CE$68))+IF(AM62=AR69,COUNTIF(AT71:AT123,$CE$68))+IF(AM62=AW69,COUNTIF(AY71:AY123,$CE$68))+IF(AM62=BB69,COUNTIF(BD71:BD123,$CE$68)))","v":0},null,null,null,null,{"$f":"IF(AR65=\"\",\"\",IF(AR62=AR69,COUNTIF(AT71:AT123,$CE$68))+IF(AR62=AW69,COUNTIF(AY71:AY123,$CE$68))+IF(AR62=BB69,COUNTIF(BD71:BD123,$CE$68))+IF(AR62=BG69,COUNTIF(BI71:BI123,$CE$68)))","v":1},null,null,null,null,{"$f":"IF(AW65=\"\",\"\",IF(AW62=AW69,COUNTIF(AY71:AY123,$CE$68))+IF(AW62=BB69,COUNTIF(BD71:BD123,$CE$68))+IF(AW62=BG69,COUNTIF(BI71:BI123,$CE$68))+IF(AW62=BL69,COUNTIF(BN71:BN123,$CE$68)))","v":0},null,null,null,null,{"$f":"IF(BB65=\"\",\"\",IF(BB62=BB69,COUNTIF(BD71:BD123,$CE$68))+IF(BB62=BG69,COUNTIF(BI71:BI123,$CE$68))+IF(BB62=BL69,COUNTIF(BN71:BN123,$CE$68))+IF(BB62=BQ69,COUNTIF(BS71:BS123,$CE$68)))","v":0},null,null,null,null,{"$f":"IF(BG65=\"\",\"\",IF(BG62=BG69,COUNTIF(BI71:BI123,$CE$68))+IF(BG62=BL69,COUNTIF(BN71:BN123,$CE$68))+IF(BG62=BQ69,COUNTIF(BS71:BS123,$CE$68)))","v":""},null,null,null,null,{"$f":"IF(BL65=\"\",\"\",IF(BL62=BL69,COUNTIF(BN71:BN123,$CE$68))+IF(BL62=BQ69,COUNTIF(BS71:BS123,$CE$68)))","v":""},null,null,null,null,{"$f":"IF(BQ65=\"\",\"\",IF(BQ62=BQ69,COUNTIF(BS71:BS123,$CE$68)))","v":""},null,null,null,null,{"$f":"IF(J64=\"\",\"\",SUM(N64:BU64))","v":13}]
[null,null,null,null,null,null,null,null,null,"得点表示用リスト→",null,null,null,"✔",null,null,null,null,"✔",null,null,null,null,"✔",null,null,null,null,"✔",null,null,null,null,"✔",null,null,null,null,"✔",null,null,null,null,"✔",null,null,null,null,"✔",null,null,null,null,"✔"]
[]
[null,"先発オーダー",null,null,null,null,"代",null,null,"後攻チーム→",null,null,null,null,"大阪桐蔭",null,null,null,null,null,null,{"$f":"IFERROR(VLOOKUP(O67,情報!D5:E39,2,FALSE),\"\")","v":"A"},"←チーム番号",null,null,null,null,null,null,null,null,null,null,null,null,null,null,null,null,null,null,null,null,null,null,null,null,null,null,null,null,null,null,null,null,null,null,null,null,null,null,null,null,null,null,null,null,null,null,null,null,null,null,null,null,null,null,null,null,null,null,null,null,null,null,null,null,null,null,null,null,null,null,null,null,null,null,null,null,null,null,null,null,null,null,null,null,null,null,null,null,null,null,null,null,null,null,null,null,null,null,null,null,null,null,null,null,null,null,null,null,null,null,null,null,null,null,null,null,null,null,null,null,null,null,null,"投手PS別打撃結果表",null,null,null,null,null,null,null,null,null,null,null,null,null,null,null,null,null,null,null,null,null,null,null,null,null,null,null,null,null,null,null,null,null,null,null,null,null,null,null,null,null,null,null,null,null,null,null,null,null,null,null,null,null,null,null,null,null,null,null,null,null,null,null,null,null,null,null,null,null,null,null,null,null,null,null,null,null,null,null,null,null,"打者打撃内訳"]
[null,"打　順","守備位置","選手名","PS","背番号","背番号",null,"守備位置","選手名","投手順","背番号","打順",null,null,null,null,null,null,null,null,null,null,null,null,null,null,null,null,null,null,null,null,null,null,null,null,null,null,null,null,null,null,null,null,null,null,null,null,null,null,null,null,null,null,null,null,null,null,null,null,null,null,null,null,null,null,null,null,null,null,null,null,null,null,null,"O","H","H2","H3","H4",null,"○","K*","B","B'","G","GF","S","S'","W","E","・*",null,null,null,null,null,null,null,null,"打球方向",null,null,null,null,null,null,null,null,"本試合打撃成績一覧",null,null,null,null,null,null,null,null,null,null,null,null,null,null,null,null,null,null,null,null,null,null,"得点圏時打撃",null,null,null,null,"得点圏時打撃一覧",null,null,null,null,null,null,null,null,null,null,"O","H","H2","H3","H4",null,"○","K","B","B'","G","GF","S","S'","W","E","・*",null,"打球方向集計表",null,null,"右",null,null,"中",null,null,"左",null,null,null,null,null,"↓本試合投手個人成績表",null,null,null,null,null,null,null,null,null,null,null,null,null,null,null,null,null,null,"↓本試合投手チーム成績表",null,null,null,null,null,null,null,null,null,null,null,null,null,null,null,"↓試合結果表",null,null,null,null,null,null,null,null,null,null,"選手名","背番号","・*","*●*","*〇*","*△*","*□*","*◎*"]
[null,null,null,null,null,null,null,null,null,null,null,null,null,{"$f":"後攻T!B2","v":1},null,null,null,null,{"$f":"後攻T!N2","v":2},null,null,null,null,{"$f":"後攻T!Z2","v":3},null,null,null,null,{"$f":"後攻T!AL2","v":4},null,null,null,null,{"$f":"後攻T!AX2","v":5},null,null,null,null,{"$f":"後攻T!BJ2","v":5},null,null,null,null,{"$f":"後攻T!BV2","v":6},null,null,null,null,{"$f":"後攻T!CH2","v":7},null,null,null,null,{"$f":"後攻T!CT2","v":8},null,null,null,null,{"$f":"後攻T!DF2","v":9},null,null,null,null,{"$f":"後攻T!DR2","v":10},null,null,null,null,{"$f":"後攻T!ED2","v":11},null,null,null,null,"PS","打席","打数","凡打","安打","二打","三打","本打","打点","得点","三振","四球","死球","犠打","犠飛","盗塁","盗死","併殺","敵失","投数","投分","打撃内容",null,null,null,null,"球状","PS","打背","球向","守背","投分",null,null,null,"T番","選手名","背番","打席","打数","凡打","安打","二打","三打","本打","打点","得点","三振","四球","死球","犠打","犠飛","盗塁","盗死","併殺","敵失","投数","回戦",null,"背番","選手名","打数","安打",null,"T番","選手名","背番","打数","安打",null,"T番","選手名","背番","PS","打席","打数","凡打","安打","二打","三打","本打","打点","得点","三振","四球","死球","犠打","犠飛","盗塁","盗死","併殺","敵失","投数",null,"T番","選手名","背番","一","二","右","捕","投","中","三","遊","左","回戦",null,null,"回戦","番号","選手名","背番","投順","O数","投回","被本","被安","四死","伐振","与盗","与点","自点","投数","試数","勝負","対戦相手",null,"番号","チーム名","O数","投回","被本","被安","四死","伐振","与盗","与点","自点","投数","試数","勝負","対戦相手",null,"回戦","試合日","球場名","後攻チーム","得点","与点","勝敗","対戦チーム",null,null,null,null,null,"投数","B","S","F","空振","打撃"]
[null,"①","左","宮崎　仁斗",null,{"$f":"IF(D70=\"\",\"\",VLOOKUP(D70,$D$94:$F$125,3,FALSE))","v":7},null,null,null,null,null,null,"打者背番号を入力➡",{"$f":"後攻T!E2","v":7},{"$f":"N70","v":7},{"$f":"N70","v":7},{"$f":"N70","v":7},{"$f":"N70","v":7},{"$f":"後攻T!Q2","v":7},{"$f":"S70","v":7},{"$f":"S70","v":7},{"$f":"S70","v":7},{"$f":"S70","v":7},{"$f":"後攻T!AC2","v":7},{"$f":"X70","v":7},{"$f":"X70","v":7},{"$f":"X70","v":7},{"$f":"X70","v":7},{"$f":"後攻T!AO2","v":7},{"$f":"AC70","v":7},{"$f":"AC70","v":7},{"$f":"AC70","v":7},{"$f":"AC70","v":7},{"$f":"後攻T!BA2","v":7},{"$f":"AH70","v":7},{"$f":"AH70","v":7},{"$f":"AH70","v":7},{"$f":"AH70","v":7},{"$f":"後攻T!BM2","v":7},{"$f":"AM70","v":7},{"$f":"AM70","v":7},{"$f":"AM70","v":7},{"$f":"AM70","v":7},{"$f":"後攻T!BY2","v":7.2},{"$f":"AR70","v":7.2},{"$f":"AR70","v":7.2},{"$f":"AR70","v":7.2},{"$f":"AR70","v":7.2},{"$f":"後攻T!CK2","v":7.2},{"$f":"AW70","v":7.2},{"$f":"AW70","v":7.2},{"$f":"AW70","v":7.2},{"$f":"AW70","v":7.2},{"$f":"後攻T!CW2","v":7.2},{"$f":"BB70","v":7.2},{"$f":"BB70","v":7.2},{"$f":"BB70","v":7.2},{"$f":"BB70","v":7.2},{"$f":"後攻T!DI2","v":7.2},{"$f":"BG70","v":7.2},{"$f":"BG70","v":7.2},{"$f":"BG70","v":7.2},{"$f":"BG70","v":7.2},{"$f":"後攻T!DU2","v":7.2},{"$f":"BL70","v":7.2},{"$f":"BL70","v":7.2},{"$f":"BL70","v":7.2},{"$f":"BL70","v":7.2},{"$f":"後攻T!EG2","v":7.2},{"$f":"BQ70","v":7.2},{"$f":"BQ70","v":7.2},{"$f":"BQ70","v":7.2},{"$f":"BQ70","v":7.2},null,null,null,null,null,null,null,null,null,null,null,null,null,null,null,null,null,null,null,null,null,null,null,null,null,null,null,null,null,null,null,null,null,"先　　発","先　　発",{"$f":"IF(DF70=\"\",\"\",$V$67)","v":"A"},{"$f":"IFERROR(VLOOKUP(DG70,$C$94:$D$123,2,FALSE),\"\")","v":"宮崎　仁斗"},{"$f":"IF(F70=\"\",\"\",F70)","v":7},{"$f":"IF(DF70=\"\",\"\",SUMIFS($BW$71:$BW$123,$J$71:$J$123,DF70))","v":5},{"$f":"IF(DF70=\"\",\"\",SUMIFS($BX$71:$BX$123,$J$71:$J$123,DF70))","v":4},{"$f":"IF(DF70=\"\",\"\",SUMIFS($BY$71:$BY$123,$J$71:$J$123,DF70))","v":2},{"$f":"IF(DF70=\"\",\"\",SUMIFS($BZ$71:$BZ$123,$J$71:$J$123,DF70))","v":1},{"$f":"IF(DF70=\"\",\"\",SUMIFS($CA$71:$CA$123,$J$71:$J$123,DF70))","v":0},{"$f":"IF(DF70=\"\",\"\",SUMIFS($CB$71:$CB$123,$J$71:$J$123,DF70))","v":0},{"$f":"IF(DF70=\"\",\"\",SUMIFS($CC$71:$CC$123,$J$71:$J$123,DF70))","v":1},{"$f":"IF(DF70=\"\",\"\",SUMIFS($CD$71:$CD$123,$J$71:$J$123,DF70))","v":0},{"$f":"IF(DF70=\"\",\"\",SUMIFS($CE$71:$CE$123,$J$71:$J$123,DF70))","v":3},{"$f":"IF(DF70=\"\",\"\",SUMIFS($CF$71:$CF$123,$J$71:$J$123,DF70))","v":0},{"$f":"IF(DF70=\"\",\"\",SUMIFS($CG$71:$CG$123,$J$71:$J$123,DF70))","v":1},{"$f":"IF(DF70=\"\",\"\",SUMIFS($CH$71:$CH$123,$J$71:$J$123,DF70))","v":0},{"$f":"IF(DF70=\"\",\"\",SUMIFS($CI$71:$CI$123,$J$71:$J$123,DF70))","v":0},{"$f":"IF(DF70=\"\",\"\",SUMIFS($CJ$71:$CJ$123,$J$71:$J$123,DF70))","v":0},{"$f":"IF(DF70=\"\",\"\",SUMIFS($CK$71:$CK$123,$J$71:$J$123,DF70))","v":0},{"$f":"IF(DF70=\"\",\"\",SUMIFS($CL$71:$CL$123,$J$71:$J$123,DF70))","v":0},{"$f":"IF(DF70=\"\",\"\",SUMIFS($CM$71:$CM$123,$J$71:$J$123,DF70))","v":0},{"$f":"IF(DF70=\"\",\"\",SUMIFS($CN$71:$CN$123,$J$71:$J$123,DF70))","v":0},{"$f":"IF(DF70=\"\",\"\",SUMIFS($CO$71:$CO$123,$J$71:$J$123,DF70))","v":24},{"$f":"IF(DF70=\"\",\"\",$D$60)","v":"決勝"},null,null,null,null,null,null,{"$f":"IF(EI70=\"\",\"\",$V$67)","v":"A"},{"$f":"IF(DF70=\"\",\"\",DF70)","v":"宮崎　仁斗"},{"$f":"IF(DG70=\"\",\"\",DG7)","v":1},{"$f":"IF(EI70=\"\",\"\",SUMIFS($EE$70:$EE$123,$ED$70:$ED$123,EI70))","v":3},{"$f":"IF(EI70=\"\",\"\",SUMIFS($EF$70:$EF$123,$ED$70:$ED$123,EI70))","v":2},null,{"$f":"IF(EO70=\"\",\"\",$V$67)","v":"A"},{"$f":"IF(EP70=\"\",\"\",VLOOKUP(EP70,$C$94:$D$123,2,FALSE))","v":"宮崎　仁斗"},{"$f":"IF(F70=\"\",\"\",F70)","v":7},"RR",{"$f":"IF(EO70=\"\",\"\",SUMIFS($BW$71:$BW$123,$J$71:$J$123,EO70,$BV$71:$BV$123,EQ70))","v":5},{"$f":"IF(EO70=\"\",\"\",SUMIFS($BX$71:$BX$123,$J$71:$J$123,EO70,$BV$71:$BV$123,EQ70))","v":4},{"$f":"IF(EO70=\"\",\"\",SUMIFS($BY$71:$BY$123,$J$71:$J$123,EO70,$BV$71:$BV$123,EQ70))","v":2},{"$f":"IF(EO70=\"\",\"\",SUMIFS($BZ$71:$BZ$123,$J$71:$J$123,EO70,$BV$71:$BV$123,EQ70))","v":1},{"$f":"IF(EO70=\"\",\"\",SUMIFS($CA$71:$CA$123,$J$71:$J$123,EO70,$BV$71:$BV$123,EQ70))","v":0},{"$f":"IF(EO70=\"\",\"\",SUMIFS($CB$71:$CB$123,$J$71:$J$123,EO70,$BV$71:$BV$123,EQ70))","v":0},{"$f":"IF(EO70=\"\",\"\",SUMIFS($CC$71:$CC$123,$J$71:$J$123,EO70,$BV$71:$BV$123,EQ70))","v":1},{"$f":"IF(EO70=\"\",\"\",SUMIFS($CD$71:$CD$123,$J$71:$J$123,EO70,$BV$71:$BV$123,EQ70))","v":0},{"$f":"IF(EO70=\"\",\"\",SUMIFS($CE$71:$CE$123,$J$71:$J$123,EO70,$BV$71:$BV$123,EQ70))","v":3},{"$f":"IF(EO70=\"\",\"\",SUMIFS($CF$71:$CF$123,$J$71:$J$123,EO70,$BV$71:$BV$123,EQ70))","v":0},{"$f":"IF(EO70=\"\",\"\",SUMIFS($CG$71:$CG$123,$J$71:$J$123,EO70,$BV$71:$BV$123,EQ70))","v":1},{"$f":"IF(EO70=\"\",\"\",SUMIFS($CH$71:$CH$123,$J$71:$J$123,EO70,$BV$71:$BV$123,EQ70))","v":0},{"$f":"IF(EO70=\"\",\"\",SUMIFS($CI$71:$CI$123,$J$71:$J$123,EO70,$BV$71:$BV$123,EQ70))","v":0},{"$f":"IF(EO70=\"\",\"\",SUMIFS($CJ$71:$CJ$123,$J$71:$J$123,EO70,$BV$71:$BV$123,EQ70))","v":0},{"$f":"IF(EO70=\"\",\"\",SUMIFS($CK$71:$CK$123,$J$71:$J$123,EO70,$BV$71:$BV$123,EQ70))","v":0},{"$f":"IF(EO70=\"\",\"\",SUMIFS($CL$71:$CL$123,$J$71:$J$123,EO70,$BV$71:$BV$123,EQ70))","v":0},{"$f":"IF(EO70=\"\",\"\",SUMIFS($CM$71:$CM$123,$J$71:$J$123,EO70,$BV$71:$BV$123,EQ70))","v":0},{"$f":"IF(EO70=\"\",\"\",SUMIFS($CN$71:$CN$123,$J$71:$J$123,EO70,$BV$71:$BV$123,EQ70))","v":0},{"$f":"IF(EO70=\"\",\"\",SUMIFS($CO$71:$CO$123,$J$71:$J$123,EO70,$BV$71:$BV$123,EQ70))","v":24},null,{"$f":"IF(FM70=\"\",\"\",$V$67)","v":"A"},{"$f":"IF(DF70=\"\",\"\",DF70)","v":"宮崎　仁斗"},{"$f":"IF(DG70=\"\",\"\",DG70)","v":7},{"$f":"IF(FN70=\"\",\"\",COUNTIFS($CX$70:$CX$123,FN70,$CY$70:$CY$123,$FO$69))","v":0},{"$f":"IF(FN70=\"\",\"\",COUNTIFS($CX$70:$CX$123,FN70,$CY$70:$CY$123,$FP$69))","v":1},{"$f":"IF(FN70=\"\",\"\",COUNTIFS($CX$70:$CX$123,FN70,$CY$70:$CY$123,$FQ$69))","v":0},{"$f":"IF(FN70=\"\",\"\",COUNTIFS($CX$70:$CX$123,FN70,$CY$70:$CY$123,$FR$69))","v":0},{"$f":"IF(FN70=\"\",\"\",COUNTIFS($CX$70:$CX$123,FN70,$CY$70:$CY$123,$FS$69))","v":0},{"$f":"IF(FN70=\"\",\"\",COUNTIFS($CX$70:$CX$123,FN70,$CY$70:$CY$123,$FT$69))","v":1},{"$f":"IF(FN70=\"\",\"\",COUNTIFS($CX$70:$CX$123,FN70,$CY$70:$CY$123,$FU$69))","v":0},{"$f":"IF(FN70=\"\",\"\",COUNTIFS($CX$70:$CX$123,FN70,$CY$70:$CY$123,$FV$69))","v":1},{"$f":"IF(FN70=\"\",\"\",COUNTIFS($CX$70:$CX$123,FN70,$CY$70:$CY$123,$FW$69))","v":1},{"$f":"IF(FM70=\"\",\"\",$D$60)","v":"決勝"},null,null,{"$f":"IF(GC70=\"\",\"\",$D$60)","v":"決勝"},{"$f":"V67","v":"A"},{"$f":"IF(D84=\"\",\"\",D84)","v":"柿木　蓮"},{"$f":"IF(F84=\"\",\"\",F84)","v":1},{"$f":"IF($GB$70=\"\",\"\",C84)","v":"先"},{"$f":"IF(GC70=\"\",\"\",(SUMIF($CP$6:$CP$58,GE70,$BY$6:$BY$58)+SUMIF($CP$6:$CP$58,GE70,$CF$6:$CF$58)+SUMIF($CP$6:$CP$58,GE70,$CI$6:$CI$58)+SUMIF($CP$6:$CP$58,GE70,$CJ$6:$CJ$58)+SUMIF($CP$6:$CP$58,GE70,$CL$6:$CL$58)+SUMIF($CP$6:$CP$58,GE70,$CM$6:$CM$58)))","v":27},{"$f":"IF(GC70=\"\",\"\",GF70/3)","v":9},{"$f":"IF(GC70=\"\",\"\",SUMIF($CP$6:$CP$58,GE70,$CC$6:$CC$58))","v":0},{"$f":"IF(GC70=\"\",\"\",SUMIF($CP$6:$CP$58,GE70,$BZ$6:$CC$58))","v":4},{"$f":"IF(GC70=\"\",\"\",SUMIF($CP$6:$CP$58,GE70,$CG$6:$CH$58))","v":3},{"$f":"IF(GC70=\"\",\"\",SUMIF($CP$6:$CP$58,GE70,$CF$6:$CF$58))","v":7},{"$f":"IF(GC70=\"\",\"\",SUMIF($CP$6:$CP$58,GE70,$CK$6:$CK$58))","v":1},{"$f":"IF(GC70=\"\",\"\",SUMIF($CP$6:$CP$58,GE70,$CE$6:$CE$58))","v":2},2,{"$f":"IF(GC70=\"\",\"\",SUMIF($CP$6:$CP$58,GE70,$CO$6:$CO$58))","v":112},{"$f":"IF(GC70=\"\",\"\",1)","v":1},"勝",{"$f":"IF(GC70=\"\",\"\",$O$2)","v":"金足農業"},null,{"$f":"IF(V67=\"\",\"\",V67)","v":"A"},{"$f":"IF(O67=\"\",\"\",O67)","v":"大阪桐蔭"},{"$f":"IF(GU70=\"\",\"\",SUM(GF70:GF75))","v":27},{"$f":"IF(GU70=\"\",\"\",SUM(GG70:GG75))","v":9},{"$f":"IF(GU70=\"\",\"\",SUM(GH70:GH75))","v":0},{"$f":"IF(GU70=\"\",\"\",SUM(GI70:GI75))","v":4},{"$f":"IF(GU70=\"\",\"\",SUM(GJ70:GJ75))","v":3},{"$f":"IF(GU70=\"\",\"\",SUM(GK70:GK75))","v":7},{"$f":"IF(GU70=\"\",\"\",SUM(GL70:GL75))","v":1},{"$f":"IF(GU70=\"\",\"\",SUM(GM70:GM75))","v":2},null,{"$f":"IF(GU70=\"\",\"\",SUM(GO70:GO75))","v":112},{"$f":"IF(GU70=\"\",\"\",1)","v":1},null,{"$f":"IF(GU70=\"\",\"\",O2)","v":"金足農業"},null,{"$f":"IF($D$60=\"\",\"\",$D$60)","v":"決勝"},{"$f":"IF($K$60=\"\",\"\",$K$60)","v":""},{"$f":"IF($W$60=\"\",\"\",$W$60)","v":"甲子園"},{"$f":"HQ5","v":"大阪桐蔭"},{"$f":"IF(DP89=\"\",\"\",DP89)","v":13},{"$f":"IF(DP24=\"\",\"\",DP24)","v":2},{"$f":"IF(HM70=\"\",\"\",IF(HN70>HO70,\"勝\",IF(HN70<HQ70,\"負\",\"分\")))","v":"勝"},{"$f":"HM5","v":"金足農業"}]
[null,"②","右","青地　斗舞",null,{"$f":"IF(D71=\"\",\"\",VLOOKUP(D71,$D$94:$F$125,3,FALSE))","v":9},null,null,{"$f":"IF(C70=\"\",\"\",C70)","v":"左"},{"$f":"IF(D70=\"\",\"\",D70)","v":"宮崎　仁斗"},{"$f":"IF(J71=\"\",\"\",\"先\")","v":"先"},{"$f":"IF(J71=\"\",\"\",F70)","v":7},"①",{"$f":"IFERROR(VLOOKUP(後攻T!F4,記号!$B$6:$C$10,2,FALSE),\"\")","v":"・●"},{"$f":"IFERROR(VLOOKUP(後攻T!G4,記号!$B$6:$C$10,2,FALSE),\"\")","v":"・〇"},{"$f":"IFERROR(VLOOKUP(後攻T!H4,記号!$B$6:$C$10,2,FALSE),\"\")","v":"・●"},{"$f":"IFERROR(VLOOKUP(後攻T!I4,記号!$B$6:$C$10,2,FALSE),\"\")","v":"・●"},{"$f":"IFERROR(VLOOKUP(後攻T!J4,記号!$B$6:$C$10,2,FALSE),\"\")","v":"・〇"},{"$f":"IFERROR(VLOOKUP(後攻T!R4,記号!$B$6:$C$10,2,FALSE),\"\")","v":"・●"},{"$f":"IFERROR(VLOOKUP(後攻T!S4,記号!$B$6:$C$10,2,FALSE),\"\")","v":"・●"},{"$f":"IFERROR(VLOOKUP(後攻T!T4,記号!$B$6:$C$10,2,FALSE),\"\")","v":"・◎"},{"$f":"IFERROR(VLOOKUP(後攻T!U4,記号!$B$6:$C$10,2,FALSE),\"\")","v":""},{"$f":"IFERROR(VLOOKUP(後攻T!V4,記号!$B$6:$C$10,2,FALSE),\"\")","v":""},{"$f":"IFERROR(VLOOKUP(後攻T!AD4,記号!$B$6:$C$10,2,FALSE),\"\")","v":""},{"$f":"IFERROR(VLOOKUP(後攻T!AE4,記号!$B$6:$C$10,2,FALSE),\"\")","v":""},{"$f":"IFERROR(VLOOKUP(後攻T!AF4,記号!$B$6:$C$10,2,FALSE),\"\")","v":""},{"$f":"IFERROR(VLOOKUP(後攻T!AG4,記号!$B$6:$C$10,2,FALSE),\"\")","v":""},{"$f":"IFERROR(VLOOKUP(後攻T!AH4,記号!$B$6:$C$10,2,FALSE),\"\")","v":""},{"$f":"IFERROR(VLOOKUP(後攻T!AP4,記号!$B$6:$C$10,2,FALSE),\"\")","v":"・●"},{"$f":"IFERROR(VLOOKUP(後攻T!AQ4,記号!$B$6:$C$10,2,FALSE),\"\")","v":"・△"},{"$f":"IFERROR(VLOOKUP(後攻T!AR4,記号!$B$6:$C$10,2,FALSE),\"\")","v":"・△"},{"$f":"IFERROR(VLOOKUP(後攻T!AS4,記号!$B$6:$C$10,2,FALSE),\"\")","v":"・△"},{"$f":"IFERROR(VLOOKUP(後攻T!AT4,記号!$B$6:$C$10,2,FALSE),\"\")","v":"・●"},{"$f":"IFERROR(VLOOKUP(後攻T!BB4,記号!$B$6:$C$10,2,FALSE),\"\")","v":"・●"},{"$f":"IFERROR(VLOOKUP(後攻T!BC4,記号!$B$6:$C$10,2,FALSE),\"\")","v":"・△"},{"$f":"IFERROR(VLOOKUP(後攻T!BD4,記号!$B$6:$C$10,2,FALSE),\"\")","v":"・●"},{"$f":"IFERROR(VLOOKUP(後攻T!BE4,記号!$B$6:$C$10,2,FALSE),\"\")","v":"・◎"},{"$f":"IFERROR(VLOOKUP(後攻T!BF4,記号!$B$6:$C$10,2,FALSE),\"\")","v":""},{"$f":"IFERROR(VLOOKUP(後攻T!BN4,記号!$B$6:$C$10,2,FALSE),\"\")","v":""},{"$f":"IFERROR(VLOOKUP(後攻T!BO4,記号!$B$6:$C$10,2,FALSE),\"\")","v":""},{"$f":"IFERROR(VLOOKUP(後攻T!BP4,記号!$B$6:$C$10,2,FALSE),\"\")","v":""},{"$f":"IFERROR(VLOOKUP(後攻T!BQ4,記号!$B$6:$C$10,2,FALSE),\"\")","v":""},{"$f":"IFERROR(VLOOKUP(後攻T!BR4,記号!$B$6:$C$10,2,FALSE),\"\")","v":""},{"$f":"IFERROR(VLOOKUP(後攻T!BZ4,記号!$B$6:$C$10,2,FALSE),\"\")","v":"・●"},{"$f":"IFERROR(VLOOKUP(後攻T!CA4,記号!$B$6:$C$10,2,FALSE),\"\")","v":"・〇"},{"$f":"IFERROR(VLOOKUP(後攻T!CB4,記号!$B$6:$C$10,2,FALSE),\"\")","v":"・●"},{"$f":"IFERROR(VLOOKUP(後攻T!CC4,記号!$B$6:$C$10,2,FALSE),\"\")","v":"・●"},{"$f":"IFERROR(VLOOKUP(後攻T!CD4,記号!$B$6:$C$10,2,FALSE),\"\")","v":"・◎"},{"$f":"IFERROR(VLOOKUP(後攻T!CL4,記号!$B$6:$C$10,2,FALSE),\"\")","v":""},{"$f":"IFERROR(VLOOKUP(後攻T!CM4,記号!$B$6:$C$10,2,FALSE),\"\")","v":""},{"$f":"IFERROR(VLOOKUP(後攻T!CN4,記号!$B$6:$C$10,2,FALSE),\"\")","v":""},{"$f":"IFERROR(VLOOKUP(後攻T!CO4,記号!$B$6:$C$10,2,FALSE),\"\")","v":""},{"$f":"IFERROR(VLOOKUP(後攻T!CP4,記号!$B$6:$C$10,2,FALSE),\"\")","v":""},{"$f":"IFERROR(VLOOKUP(後攻T!CX4,記号!$B$6:$C$10,2,FALSE),\"\")","v":""},{"$f":"IFERROR(VLOOKUP(後攻T!CY4,記号!$B$6:$C$10,2,FALSE),\"\")","v":""},{"$f":"IFERROR(VLOOKUP(後攻T!CZ4,記号!$B$6:$C$10,2,FALSE),\"\")","v":""},{"$f":"IFERROR(VLOOKUP(後攻T!DA4,記号!$B$6:$C$10,2,FALSE),\"\")","v":""},{"$f":"IFERROR(VLOOKUP(後攻T!DB4,記号!$B$6:$C$10,2,FALSE),\"\")","v":""},{"$f":"IFERROR(VLOOKUP(後攻T!DJ4,記号!$B$6:$C$10,2,FALSE),\"\")","v":""},{"$f":"IFERROR(VLOOKUP(後攻T!DK4,記号!$B$6:$C$10,2,FALSE),\"\")","v":""},{"$f":"IFERROR(VLOOKUP(後攻T!DL4,記号!$B$6:$C$10,2,FALSE),\"\")","v":""},{"$f":"IFERROR(VLOOKUP(後攻T!DM4,記号!$B$6:$C$10,2,FALSE),\"\")","v":""},{"$f":"IFERROR(VLOOKUP(後攻T!DN4,記号!$B$6:$C$10,2,FALSE),\"\")","v":""},{"$f":"IFERROR(VLOOKUP(後攻T!DV4,記号!$B$6:$C$10,2,FALSE),\"\")","v":""},{"$f":"IFERROR(VLOOKUP(後攻T!DW4,記号!$B$6:$C$10,2,FALSE),\"\")","v":""},{"$f":"IFERROR(VLOOKUP(後攻T!DX4,記号!$B$6:$C$10,2,FALSE),\"\")","v":""},{"$f":"IFERROR(VLOOKUP(後攻T!DY4,記号!$B$6:$C$10,2,FALSE),\"\")","v":""},{"$f":"IFERROR(VLOOKUP(後攻T!DZ4,記号!$B$6:$C$10,2,FALSE),\"\")","v":""},{"$f":"IFERROR(VLOOKUP(後攻T!EH4,記号!$B$6:$C$10,2,FALSE),\"\")","v":""},{"$f":"IFERROR(VLOOKUP(後攻T!EI4,記号!$B$6:$C$10,2,FALSE),\"\")","v":""},{"$f":"IFERROR(VLOOKUP(後攻T!EJ4,記号!$B$6:$C$10,2,FALSE),\"\")","v":""},{"$f":"IFERROR(VLOOKUP(後攻T!EK4,記号!$B$6:$C$10,2,FALSE),\"\")","v":""},{"$f":"IFERROR(VLOOKUP(後攻T!EL4,記号!$B$6:$C$10,2,FALSE),\"\")","v":""},{"$f":"IF(K71=\"\",\"\",VLOOKUP(K71,$C$19:$E$24,3,FALSE))","v":"RR"},{"$f":"IF(L71=\"\",\"\",(BX71+CG71+CH71+CI71))","v":4},{"$f":"IF(L71=\"\",\"\",(BY71+BZ71+CA71+CB71+CC71+CF71+CJ71+CM71+CN71))","v":3},{"$f":"IF(L71=\"\",\"\",COUNTIFS($N$70:$BU$70,L71,$N$75:$BU$75,$BY$68))","v":1},{"$f":"IF(L71=\"\",\"\",COUNTIFS($N$70:$BU$70,L71,$N$75:$BU$75,$BZ$68))","v":1},{"$f":"IF(L71=\"\",\"\",COUNTIFS($N$70:$BU$70,L71,$N$73:$BU$73,$CA$68))","v":0},{"$f":"IF(L71=\"\",\"\",COUNTIFS($N$70:$BU$70,L71,$N$73:$BU$73,$CB$68))","v":0},{"$f":"IF(L71=\"\",\"\",COUNTIFS($N$70:$BU$70,L71,$N$75:$BU$75,$CC$68))","v":1},{"$f":"IF(L71=\"\",\"\",SUMIF($N$70:$BU$70,L71,$N$75:$BU$75))","v":0},{"$f":"IF(L71=\"\",\"\",COUNTIFS($N$70:$BU$70,L71,$N$74:$BU$74,$CE$68))","v":3},{"$f":"IF(L71=\"\",\"\",COUNTIFS($N$70:$BU$70,L71,$N$75:$BU$75,$CF$68))","v":0},{"$f":"IF(L71=\"\",\"\",COUNTIFS($N$70:$BU$70,L71,$N$75:$BU$75,$CG$68))","v":1},{"$f":"IF(L71=\"\",\"\",COUNTIFS($N$70:$BU$70,L71,$N$75:$BU$75,$CH$68))","v":0},{"$f":"IF(L71=\"\",\"\",COUNTIFS($N$70:$BU$70,L71,$N$75:$BU$75,$CI$68))","v":0},{"$f":"IF(L71=\"\",\"\",COUNTIFS($N$70:$BU$70,L71,$N$75:$BU$75,$CJ$68))","v":0},{"$f":"IF(L71=\"\",\"\",COUNTIFS($N$70:$BU$70,L71,$N$75:$BU$75,$CK$68)+COUNTIFS($N$70:$BU$70,L71,$N$73:$BU$73,$CK$68))","v":0},{"$f":"IF(L71=\"\",\"\",COUNTIFS($N$70:$BU$70,L71,$N$75:$BU$75,$CL$68)+COUNTIFS($N$70:$BU$70,L71,$N$73:$BU$73,$CL$68))","v":0},{"$f":"IF(L71=\"\",\"\",COUNTIFS($N$70:$BU$70,L71,$N$75:$BU$75,$CM$68))","v":0},{"$f":"IF(L71=\"\",\"\",COUNTIFS($N$70:$BU$70,L71,$N$75:$BU$75,$CN$68))","v":0},{"$f":"IF(L71=\"\",\"\",COUNTIFS($N$70:$BU$70,L71,$N$71:$BU$71,$CO$68)+COUNTIFS($N$70:$BU$70,L71,$N$72:$BU$72,$CO$68))","v":19},"先","四球",null,null,null,null,null,{"$f":"IF(DA71=\"\",\"\",VLOOKUP(DA71,$C$19:$F$24,3,FALSE))","v":"RR"},7,null,{"$f":"IF(CY71=\"\",\"\",VLOOKUP(CY71,$C$5:$F$14,4,FALSE))","v":""},"先",null,null,null,{"$f":"IF(DF71=\"\",\"\",$V$67)","v":"A"},{"$f":"IFERROR(VLOOKUP(DG71,$C$94:$D$123,2,FALSE),\"\")","v":"青地　斗舞"},{"$f":"IF(F71=\"\",\"\",F71)","v":9},{"$f":"IF(DF71=\"\",\"\",SUMIFS($BW$71:$BW$123,$J$71:$J$123,DF71))","v":5},{"$f":"IF(DF71=\"\",\"\",SUMIFS($BX$71:$BX$123,$J$71:$J$123,DF71))","v":5},{"$f":"IF(DF71=\"\",\"\",SUMIFS($BY$71:$BY$123,$J$71:$J$123,DF71))","v":2},{"$f":"IF(DF71=\"\",\"\",SUMIFS($BZ$71:$BZ$123,$J$71:$J$123,DF71))","v":3},{"$f":"IF(DF71=\"\",\"\",SUMIFS($CA$71:$CA$123,$J$71:$J$123,DF71))","v":0},{"$f":"IF(DF71=\"\",\"\",SUMIFS($CB$71:$CB$123,$J$71:$J$123,DF71))","v":0},{"$f":"IF(DF71=\"\",\"\",SUMIFS($CC$71:$CC$123,$J$71:$J$123,DF71))","v":0},{"$f":"IF(DF71=\"\",\"\",SUMIFS($CD$71:$CD$123,$J$71:$J$123,DF71))","v":0},{"$f":"IF(DF71=\"\",\"\",SUMIFS($CE$71:$CE$123,$J$71:$J$123,DF71))","v":2},{"$f":"IF(DF71=\"\",\"\",SUMIFS($CF$71:$CF$123,$J$71:$J$123,DF71))","v":0},{"$f":"IF(DF71=\"\",\"\",SUMIFS($CG$71:$CG$123,$J$71:$J$123,DF71))","v":0},{"$f":"IF(DF71=\"\",\"\",SUMIFS($CH$71:$CH$123,$J$71:$J$123,DF71))","v":0},{"$f":"IF(DF71=\"\",\"\",SUMIFS($CI$71:$CI$123,$J$71:$J$123,DF71))","v":0},{"$f":"IF(DF71=\"\",\"\",SUMIFS($CJ$71:$CJ$123,$J$71:$J$123,DF71))","v":0},{"$f":"IF(DF71=\"\",\"\",SUMIFS($CK$71:$CK$123,$J$71:$J$123,DF71))","v":0},{"$f":"IF(DF71=\"\",\"\",SUMIFS($CL$71:$CL$123,$J$71:$J$123,DF71))","v":0},{"$f":"IF(DF71=\"\",\"\",SUMIFS($CM$71:$CM$123,$J$71:$J$123,DF71))","v":0},{"$f":"IF(DF71=\"\",\"\",SUMIFS($CN$71:$CN$123,$J$71:$J$123,DF71))","v":0},{"$f":"IF(DF71=\"\",\"\",SUMIFS($CO$71:$CO$123,$J$71:$J$123,DF71))","v":19},{"$f":"IF(DF71=\"\",\"\",$D$60)","v":"決勝"},null,{"$f":"IF(L71=\"\",\"\",L71)","v":7},{"$f":"IF(EC71=\"\",\"\",VLOOKUP(EC71,$C$94:$D$123,2,FALSE))","v":"宮崎　仁斗"},{"$f":"IF(EC71=\"\",\"\",COUNTIFS($N$70:$BU$70,EC71,$N$75:$BU$75,\"RZ\"))","v":2},{"$f":"IF(EC71=\"\",\"\",COUNTIFS($N$70:$BU$70,EC71,$N$74:$BU$74,\"ZH\"))","v":2},null,{"$f":"IF(EI71=\"\",\"\",$V$67)","v":"A"},{"$f":"IF(DF71=\"\",\"\",DF71)","v":"青地　斗舞"},9,{"$f":"IF(EI71=\"\",\"\",SUMIFS($EE$70:$EE$123,$ED$70:$ED$123,EI71))","v":0},{"$f":"IF(EI71=\"\",\"\",SUMIFS($EF$70:$EF$123,$ED$70:$ED$123,EI71))","v":0},null,{"$f":"IF(EO71=\"\",\"\",$V$67)","v":"A"},{"$f":"IF(EP71=\"\",\"\",VLOOKUP(EP71,$C$94:$D$123,2,FALSE))","v":"宮崎　仁斗"},{"$f":"IF(F70=\"\",\"\",F70)","v":7},"LL",{"$f":"IF(EO71=\"\",\"\",SUMIFS($BW$71:$BW$123,$J$71:$J$123,EO71,$BV$71:$BV$123,EQ71))","v":0},{"$f":"IF(EO71=\"\",\"\",SUMIFS($BX$71:$BX$123,$J$71:$J$123,EO71,$BV$71:$BV$123,EQ71))","v":0},{"$f":"IF(EO71=\"\",\"\",SUMIFS($BY$71:$BY$123,$J$71:$J$123,EO71,$BV$71:$BV$123,EQ71))","v":0},{"$f":"IF(EO71=\"\",\"\",SUMIFS($BZ$71:$BZ$123,$J$71:$J$123,EO71,$BV$71:$BV$123,EQ71))","v":0},{"$f":"IF(EO71=\"\",\"\",SUMIFS($CA$71:$CA$123,$J$71:$J$123,EO71,$BV$71:$BV$123,EQ71))","v":0},{"$f":"IF(EO71=\"\",\"\",SUMIFS($CB$71:$CB$123,$J$71:$J$123,EO71,$BV$71:$BV$123,EQ71))","v":0},{"$f":"IF(EO71=\"\",\"\",SUMIFS($CC$71:$CC$123,$J$71:$J$123,EO71,$BV$71:$BV$123,EQ71))","v":0},{"$f":"IF(EO71=\"\",\"\",SUMIFS($CD$71:$CD$123,$J$71:$J$123,EO71,$BV$71:$BV$123,EQ71))","v":0},{"$f":"IF(EO71=\"\",\"\",SUMIFS($CE$71:$CE$123,$J$71:$J$123,EO71,$BV$71:$BV$123,EQ71))","v":0},{"$f":"IF(EO71=\"\",\"\",SUMIFS($CF$71:$CF$123,$J$71:$J$123,EO71,$BV$71:$BV$123,EQ71))","v":0},{"$f":"IF(EO71=\"\",\"\",SUMIFS($CG$71:$CG$123,$J$71:$J$123,EO71,$BV$71:$BV$123,EQ71))","v":0},{"$f":"IF(EO71=\"\",\"\",SUMIFS($CH$71:$CH$123,$J$71:$J$123,EO71,$BV$71:$BV$123,EQ71))","v":0},{"$f":"IF(EO71=\"\",\"\",SUMIFS($CI$71:$CI$123,$J$71:$J$123,EO71,$BV$71:$BV$123,EQ71))","v":0},{"$f":"IF(EO71=\"\",\"\",SUMIFS($CJ$71:$CJ$123,$J$71:$J$123,EO71,$BV$71:$BV$123,EQ71))","v":0},{"$f":"IF(EO71=\"\",\"\",SUMIFS($CK$71:$CK$123,$J$71:$J$123,EO71,$BV$71:$BV$123,EQ71))","v":0},{"$f":"IF(EO71=\"\",\"\",SUMIFS($CL$71:$CL$123,$J$71:$J$123,EO71,$BV$71:$BV$123,EQ71))","v":0},{"$f":"IF(EO71=\"\",\"\",SUMIFS($CM$71:$CM$123,$J$71:$J$123,EO71,$BV$71:$BV$123,EQ71))","v":0},{"$f":"IF(EO71=\"\",\"\",SUMIFS($CN$71:$CN$123,$J$71:$J$123,EO71,$BV$71:$BV$123,EQ71))","v":0},{"$f":"IF(EO71=\"\",\"\",SUMIFS($CO$71:$CO$123,$J$71:$J$123,EO71,$BV$71:$BV$123,EQ71))","v":0},null,{"$f":"IF(FM71=\"\",\"\",$V$67)","v":"A"},{"$f":"IF(DF71=\"\",\"\",DF71)","v":"青地　斗舞"},9,{"$f":"IF(FN71=\"\",\"\",COUNTIFS($CX$70:$CX$123,FN71,$CY$70:$CY$123,$FO$69))","v":0},{"$f":"IF(FN71=\"\",\"\",COUNTIFS($CX$70:$CX$123,FN71,$CY$70:$CY$123,$FP$69))","v":0},{"$f":"IF(FN71=\"\",\"\",COUNTIFS($CX$70:$CX$123,FN71,$CY$70:$CY$123,$FQ$69))","v":2},{"$f":"IF(FN71=\"\",\"\",COUNTIFS($CX$70:$CX$123,FN71,$CY$70:$CY$123,$FR$69))","v":0},{"$f":"IF(FN71=\"\",\"\",COUNTIFS($CX$70:$CX$123,FN71,$CY$70:$CY$123,$FS$69))","v":0},{"$f":"IF(FN71=\"\",\"\",COUNTIFS($CX$70:$CX$123,FN71,$CY$70:$CY$123,$FT$69))","v":3},{"$f":"IF(FN71=\"\",\"\",COUNTIFS($CX$70:$CX$123,FN71,$CY$70:$CY$123,$FU$69))","v":0},{"$f":"IF(FN71=\"\",\"\",COUNTIFS($CX$70:$CX$123,FN71,$CY$70:$CY$123,$FV$69))","v":0},{"$f":"IF(FN71=\"\",\"\",COUNTIFS($CX$70:$CX$123,FN71,$CY$70:$CY$123,$FW$69))","v":0},{"$f":"IF(FM71=\"\",\"\",$D$60)","v":"決勝"},null,null,null,null,null,null,null,null,null,null,null,null,null,null,null,null,null,null,null,null,null,null,null,null,null,null,null,null,null,null,null,null,null,null,null,null,null,null,null,null,null,null,null,null,null,null,null,null,{"$f":"IF(J71=\"\",\"\",J71)","v":"宮崎　仁斗"},{"$f":"IF(HU71=\"\",\"\",L71)","v":7},{"$f":"IF(HU71=\"\",\"\",COUNTIFS($N$70:$BU$70,HV71,$N$71:$BU$71,$HW$68)+COUNTIFS($N$70:$BU$70,HV71,$N$72:$BU$72,$HW$68))","v":19},{"$f":"IF(HU71=\"\",\"\",COUNTIFS($N$70:$BU$70,HV71,$N$71:$BU$71,$HX$68)+COUNTIFS($N$70:$BU$70,HV71,$N$72:$BU$72,$HX$68))","v":10},{"$f":"IF(HU71=\"\",\"\",COUNTIFS($N$70:$BU$70,HV71,$N$71:$BU$71,$HY$68)+COUNTIFS($N$70:$BU$70,HV71,$N$72:$BU$72,$HY$68))","v":2},{"$f":"IF(HU71=\"\",\"\",COUNTIFS($N$70:$BU$70,HV71,$N$71:$BU$71,$HZ$68)+COUNTIFS($N$70:$BU$70,HV71,$N$72:$BU$72,$HZ$68))","v":4},{"$f":"IF(HU71=\"\",\"\",COUNTIFS($N$70:$BU$70,HV71,$N$71:$BU$71,$IA$68)+COUNTIFS($N$70:$BU$70,HV71,$N$72:$BU$72,$IA$68))","v":0},{"$f":"IF(HU71=\"\",\"\",COUNTIFS($N$70:$BU$70,HV71,$N$71:$BU$71,$IB$68)+COUNTIFS($N$70:$BU$70,HV71,$N$72:$BU$72,$IB$68))","v":3}]
[null,"③","三","中川　卓也",null,5,null,null,null,"宮崎　仁斗",2,7.2,null,{"$f":"IFERROR(VLOOKUP(後攻T!K4,記号!$B$6:$C$10,2,FALSE),\"\")","v":"・●"},{"$f":"IFERROR(VLOOKUP(後攻T!L4,記号!$B$6:$C$10,2,FALSE),\"\")","v":""},{"$f":"IFERROR(VLOOKUP(後攻T!F6,記号!$B$6:$C$10,2,FALSE),\"\")","v":""},{"$f":"IFERROR(VLOOKUP(後攻T!G6,記号!$B$6:$C$10,2,FALSE),\"\")","v":""},{"$f":"IFERROR(VLOOKUP(後攻T!H6,記号!$B$6:$C$10,2,FALSE),\"\")","v":""},{"$f":"IFERROR(VLOOKUP(後攻T!W4,記号!$B$6:$C$10,2,FALSE),\"\")","v":""},{"$f":"IFERROR(VLOOKUP(後攻T!X4,記号!$B$6:$C$10,2,FALSE),\"\")","v":""},{"$f":"IFERROR(VLOOKUP(後攻T!R6,記号!$B$6:$C$10,2,FALSE),\"\")","v":""},{"$f":"IFERROR(VLOOKUP(後攻T!S6,記号!$B$6:$C$10,2,FALSE),\"\")","v":""},{"$f":"IFERROR(VLOOKUP(後攻T!T6,記号!$B$6:$C$10,2,FALSE),\"\")","v":""},{"$f":"IFERROR(VLOOKUP(後攻T!AI4,記号!$B$6:$C$10,2,FALSE),\"\")","v":""},{"$f":"IFERROR(VLOOKUP(後攻T!AJ4,記号!$B$6:$C$10,2,FALSE),\"\")","v":""},{"$f":"IFERROR(VLOOKUP(後攻T!AD6,記号!$B$6:$C$10,2,FALSE),\"\")","v":""},{"$f":"IFERROR(VLOOKUP(後攻T!AE6,記号!$B$6:$C$10,2,FALSE),\"\")","v":""},{"$f":"IFERROR(VLOOKUP(後攻T!AF6,記号!$B$6:$C$10,2,FALSE),\"\")","v":""},{"$f":"IFERROR(VLOOKUP(後攻T!AU4,記号!$B$6:$C$10,2,FALSE),\"\")","v":"・◎"},{"$f":"IFERROR(VLOOKUP(後攻T!AV4,記号!$B$6:$C$10,2,FALSE),\"\")","v":""},{"$f":"IFERROR(VLOOKUP(後攻T!AP6,記号!$B$6:$C$10,2,FALSE),\"\")","v":""},{"$f":"IFERROR(VLOOKUP(後攻T!AQ6,記号!$B$6:$C$10,2,FALSE),\"\")","v":""},{"$f":"IFERROR(VLOOKUP(後攻T!AR6,記号!$B$6:$C$10,2,FALSE),\"\")","v":""},{"$f":"IFERROR(VLOOKUP(後攻T!BG4,記号!$B$6:$C$10,2,FALSE),\"\")","v":""},{"$f":"IFERROR(VLOOKUP(後攻T!BH4,記号!$B$6:$C$10,2,FALSE),\"\")","v":""},{"$f":"IFERROR(VLOOKUP(後攻T!BB6,記号!$B$6:$C$10,2,FALSE),\"\")","v":""},{"$f":"IFERROR(VLOOKUP(後攻T!BC6,記号!$B$6:$C$10,2,FALSE),\"\")","v":""},{"$f":"IFERROR(VLOOKUP(後攻T!BD6,記号!$B$6:$C$10,2,FALSE),\"\")","v":""},{"$f":"IFERROR(VLOOKUP(後攻T!BS4,記号!$B$6:$C$10,2,FALSE),\"\")","v":""},{"$f":"IFERROR(VLOOKUP(後攻T!BT4,記号!$B$6:$C$10,2,FALSE),\"\")","v":""},{"$f":"IFERROR(VLOOKUP(後攻T!BN6,記号!$B$6:$C$10,2,FALSE),\"\")","v":""},{"$f":"IFERROR(VLOOKUP(後攻T!BO6,記号!$B$6:$C$10,2,FALSE),\"\")","v":""},{"$f":"IFERROR(VLOOKUP(後攻T!BP6,記号!$B$6:$C$10,2,FALSE),\"\")","v":""},{"$f":"IFERROR(VLOOKUP(後攻T!CE4,記号!$B$6:$C$10,2,FALSE),\"\")","v":""},{"$f":"IFERROR(VLOOKUP(後攻T!CF4,記号!$B$6:$C$10,2,FALSE),\"\")","v":""},{"$f":"IFERROR(VLOOKUP(後攻T!BZ6,記号!$B$6:$C$10,2,FALSE),\"\")","v":""},{"$f":"IFERROR(VLOOKUP(後攻T!CA6,記号!$B$6:$C$10,2,FALSE),\"\")","v":""},{"$f":"IFERROR(VLOOKUP(後攻T!CB6,記号!$B$6:$C$10,2,FALSE),\"\")","v":""},{"$f":"IFERROR(VLOOKUP(後攻T!CQ4,記号!$B$6:$C$10,2,FALSE),\"\")","v":""},{"$f":"IFERROR(VLOOKUP(後攻T!CR4,記号!$B$6:$C$10,2,FALSE),\"\")","v":""},{"$f":"IFERROR(VLOOKUP(後攻T!CL6,記号!$B$6:$C$10,2,FALSE),\"\")","v":""},{"$f":"IFERROR(VLOOKUP(後攻T!CM6,記号!$B$6:$C$10,2,FALSE),\"\")","v":""},{"$f":"IFERROR(VLOOKUP(後攻T!CN6,記号!$B$6:$C$10,2,FALSE),\"\")","v":""},{"$f":"IFERROR(VLOOKUP(後攻T!DC4,記号!$B$6:$C$10,2,FALSE),\"\")","v":""},{"$f":"IFERROR(VLOOKUP(後攻T!DD4,記号!$B$6:$C$10,2,FALSE),\"\")","v":""},{"$f":"IFERROR(VLOOKUP(後攻T!CX6,記号!$B$6:$C$10,2,FALSE),\"\")","v":""},{"$f":"IFERROR(VLOOKUP(後攻T!CY6,記号!$B$6:$C$10,2,FALSE),\"\")","v":""},{"$f":"IFERROR(VLOOKUP(後攻T!CZ6,記号!$B$6:$C$10,2,FALSE),\"\")","v":""},{"$f":"IFERROR(VLOOKUP(後攻T!DO4,記号!$B$6:$C$10,2,FALSE),\"\")","v":""},{"$f":"IFERROR(VLOOKUP(後攻T!DP4,記号!$B$6:$C$10,2,FALSE),\"\")","v":""},{"$f":"IFERROR(VLOOKUP(後攻T!DJ6,記号!$B$6:$C$10,2,FALSE),\"\")","v":""},{"$f":"IFERROR(VLOOKUP(後攻T!DK6,記号!$B$6:$C$10,2,FALSE),\"\")","v":""},{"$f":"IFERROR(VLOOKUP(後攻T!DL6,記号!$B$6:$C$10,2,FALSE),\"\")","v":""},{"$f":"IFERROR(VLOOKUP(後攻T!EA4,記号!$B$6:$C$10,2,FALSE),\"\")","v":""},{"$f":"IFERROR(VLOOKUP(後攻T!EB4,記号!$B$6:$C$10,2,FALSE),\"\")","v":""},{"$f":"IFERROR(VLOOKUP(後攻T!DV6,記号!$B$6:$C$10,2,FALSE),\"\")","v":""},{"$f":"IFERROR(VLOOKUP(後攻T!DW6,記号!$B$6:$C$10,2,FALSE),\"\")","v":""},{"$f":"IFERROR(VLOOKUP(後攻T!DX6,記号!$B$6:$C$10,2,FALSE),\"\")","v":""},{"$f":"IFERROR(VLOOKUP(後攻T!EM4,記号!$B$6:$C$10,2,FALSE),\"\")","v":""},{"$f":"IFERROR(VLOOKUP(後攻T!EN4,記号!$B$6:$C$10,2,FALSE),\"\")","v":""},{"$f":"IFERROR(VLOOKUP(後攻T!EH6,記号!$B$6:$C$10,2,FALSE),\"\")","v":""},{"$f":"IFERROR(VLOOKUP(後攻T!EI6,記号!$B$6:$C$10,2,FALSE),\"\")","v":""},{"$f":"IFERROR(VLOOKUP(後攻T!EJ6,記号!$B$6:$C$10,2,FALSE),\"\")","v":""},{"$f":"IF(K72=\"\",\"\",VLOOKUP(K72,$C$19:$E$24,3,FALSE))","v":"RR"},{"$f":"IF(L72=\"\",\"\",(BX72+CG72+CH72+CI72))","v":1},1,{"$f":"IF(L72=\"\",\"\",COUNTIFS($N$70:$BU$70,L72,$N$75:$BU$75,$BY$68))","v":1},{"$f":"IF(L72=\"\",\"\",COUNTIFS($N$70:$BU$70,L72,$N$75:$BU$75,$BZ$68))","v":0},{"$f":"IF(L72=\"\",\"\",COUNTIFS($N$70:$BU$70,L72,$N$73:$BU$73,$CA$68))","v":0},{"$f":"IF(L72=\"\",\"\",COUNTIFS($N$70:$BU$70,L72,$N$73:$BU$73,$CB$68))","v":0},{"$f":"IF(L72=\"\",\"\",COUNTIFS($N$70:$BU$70,L72,$N$75:$BU$75,$CC$68))","v":0},{"$f":"IF(L72=\"\",\"\",SUMIF($N$70:$BU$70,L72,$N$75:$BU$75))","v":0},{"$f":"IF(L72=\"\",\"\",COUNTIFS($N$70:$BU$70,L72,$N$74:$BU$74,$CE$68))","v":0},{"$f":"IF(L72=\"\",\"\",COUNTIFS($N$70:$BU$70,L72,$N$75:$BU$75,$CF$68))","v":0},{"$f":"IF(L72=\"\",\"\",COUNTIFS($N$70:$BU$70,L72,$N$75:$BU$75,$CG$68))","v":0},{"$f":"IF(L72=\"\",\"\",COUNTIFS($N$70:$BU$70,L72,$N$75:$BU$75,$CH$68))","v":0},{"$f":"IF(L72=\"\",\"\",COUNTIFS($N$70:$BU$70,L72,$N$75:$BU$75,$CI$68))","v":0},{"$f":"IF(L72=\"\",\"\",COUNTIFS($N$70:$BU$70,L72,$N$75:$BU$75,$CJ$68))","v":0},{"$f":"IF(L72=\"\",\"\",COUNTIFS($N$70:$BU$70,L72,$N$75:$BU$75,$CK$68)+COUNTIFS($N$70:$BU$70,L72,$N$73:$BU$73,$CK$68))","v":0},{"$f":"IF(L72=\"\",\"\",COUNTIFS($N$70:$BU$70,L72,$N$75:$BU$75,$CL$68)+COUNTIFS($N$70:$BU$70,L72,$N$73:$BU$73,$CL$68))","v":0},{"$f":"IF(L72=\"\",\"\",COUNTIFS($N$70:$BU$70,L72,$N$75:$BU$75,$CM$68))","v":0},{"$f":"IF(L72=\"\",\"\",COUNTIFS($N$70:$BU$70,L72,$N$75:$BU$75,$CN$68))","v":0},{"$f":"IF(L72=\"\",\"\",COUNTIFS($N$70:$BU$70,L72,$N$71:$BU$71,$CO$68)+COUNTIFS($N$70:$BU$70,L72,$N$72:$BU$72,$CO$68))","v":5},2,"二飛",null,null,null,null,"A",{"$f":"IF(DA72=\"\",\"\",VLOOKUP(DA72,$C$19:$F$24,3,FALSE))","v":"RR"},7,"二",{"$f":"IF(CY72=\"\",\"\",VLOOKUP(CY72,$C$5:$F$14,4,FALSE))","v":4},"先",null,null,null,"A","中川　卓也",5,5,5,1,1,1,0,0,0,0,2,0,0,0,0,0,0,0,0,26,"決勝",null,{"$f":"IF(L72=\"\",\"\",L72)","v":7.2},"宮崎　仁斗",{"$f":"IF(EC72=\"\",\"\",COUNTIFS($N$70:$BU$70,EC72,$N$75:$BU$75,\"RZ\"))","v":1},{"$f":"IF(EC72=\"\",\"\",COUNTIFS($N$70:$BU$70,EC72,$N$74:$BU$74,\"ZH\"))","v":0},null,"A","中川　卓也",5,1,0,null,"A","青地　斗舞",{"$f":"IF(F71=\"\",\"\",F71)","v":9},"RR",{"$f":"IF(EO72=\"\",\"\",SUMIFS($BW$71:$BW$123,$J$71:$J$123,EO72,$BV$71:$BV$123,EQ72))","v":5},5,2,3,0,0,0,0,2,0,0,0,0,0,0,0,0,0,19,null,"A","中川　卓也",5,0,0,0,0,0,0,0,1,2,"決勝",null,null,"",null,"","",3,{"$f":"IF(GC72=\"\",\"\",(SUMIF($CP$6:$CP$58,GE72,$BY$6:$BY$58)+SUMIF($CP$6:$CP$58,GE72,$CF$6:$CF$58)+SUMIF($CP$6:$CP$58,GE72,$CI$6:$CI$58)+SUMIF($CP$6:$CP$58,GE72,$CJ$6:$CJ$58)+SUMIF($CP$6:$CP$58,GE72,$CL$6:$CL$58)+SUMIF($CP$6:$CP$58,GE72,$CM$6:$CM$58)))","v":""},{"$f":"IF(GC72=\"\",\"\",GF72/3)","v":""},{"$f":"IF(GC72=\"\",\"\",SUMIF($CP$6:$CP$58,GE72,$CC$6:$CC$58))","v":""},{"$f":"IF(GC72=\"\",\"\",SUMIF($CP$6:$CP$58,GE72,$BZ$6:$CC$58))","v":""},{"$f":"IF(GC72=\"\",\"\",SUMIF($CP$6:$CP$58,GE72,$CG$6:$CH$58))","v":""},{"$f":"IF(GC72=\"\",\"\",SUMIF($CP$6:$CP$58,GE72,$CF$6:$CF$58))","v":""},{"$f":"IF(GC72=\"\",\"\",SUMIF($CP$6:$CP$58,GE72,$CK$6:$CK$58))","v":""},{"$f":"IF(GC72=\"\",\"\",SUMIF($CP$6:$CP$58,GE72,$CE$6:$CE$58))","v":""},null,{"$f":"IF(GC72=\"\",\"\",SUMIF($CP$6:$CP$58,GE72,$CO$6:$CO$58))","v":""},{"$f":"IF(GC72=\"\",\"\",1)","v":""},null,"",null,null,null,null,null,null,null,null,null,null,null,null,null,null,null,null,null,null,null,null,null,null,null,null,null,null,null,null,{"$f":"IF(J72=\"\",\"\",J72)","v":"宮崎　仁斗"},{"$f":"IF(HU72=\"\",\"\",L72)","v":7.2},{"$f":"IF(HU72=\"\",\"\",COUNTIFS($N$70:$BU$70,HV72,$N$71:$BU$71,$HW$68)+COUNTIFS($N$70:$BU$70,HV72,$N$72:$BU$72,$HW$68))","v":5},{"$f":"IF(HU72=\"\",\"\",COUNTIFS($N$70:$BU$70,HV72,$N$71:$BU$71,$HX$68)+COUNTIFS($N$70:$BU$70,HV72,$N$72:$BU$72,$HX$68))","v":3},{"$f":"IF(HU72=\"\",\"\",COUNTIFS($N$70:$BU$70,HV72,$N$71:$BU$71,$HY$68)+COUNTIFS($N$70:$BU$70,HV72,$N$72:$BU$72,$HY$68))","v":1},{"$f":"IF(HU72=\"\",\"\",COUNTIFS($N$70:$BU$70,HV72,$N$71:$BU$71,$HZ$68)+COUNTIFS($N$70:$BU$70,HV72,$N$72:$BU$72,$HZ$68))","v":0},{"$f":"IF(HU72=\"\",\"\",COUNTIFS($N$70:$BU$70,HV72,$N$71:$BU$71,$IA$68)+COUNTIFS($N$70:$BU$70,HV72,$N$72:$BU$72,$IA$68))","v":0},{"$f":"IF(HU72=\"\",\"\",COUNTIFS($N$70:$BU$70,HV72,$N$71:$BU$71,$IB$68)+COUNTIFS($N$70:$BU$70,HV72,$N$72:$BU$72,$IB$68))","v":1}]
[null,"④","中","藤原　恭大",null,8,null,null,null,{"$f":"IF(L73=\"\",\"\",VLOOKUP(L73,$C$94:$D$123,2,FALSE))","v":""},null,null,null,{"$f":"IFERROR(VLOOKUP(後攻T!F9,記号!$I$27:$J$30,2,FALSE),\"\")","v":""},{"$f":"IFERROR(VLOOKUP(後攻T!H8,記号!$L$5:$M$21,2,FALSE),\"\")","v":"②"},{"$f":"IFERROR(VLOOKUP(後攻T!H10,記号!$F$27:$G$37,2,FALSE),\"\")","v":""},{"$f":"IFERROR(VLOOKUP(後攻T!G8,記号!$I$5:$J$23,2,FALSE),\"\")","v":""},null,{"$f":"IFERROR(VLOOKUP(後攻T!R9,記号!$I$27:$J$30,2,FALSE),\"\")","v":"F"},{"$f":"IFERROR(VLOOKUP(後攻T!T8,記号!$L$5:$M$21,2,FALSE),\"\")","v":""},{"$f":"IFERROR(VLOOKUP(後攻T!T10,記号!$F$27:$G$37,2,FALSE),\"\")","v":""},{"$f":"IFERROR(VLOOKUP(後攻T!S8,記号!$I$5:$J$23,2,FALSE),\"\")","v":""},null,{"$f":"IFERROR(VLOOKUP(後攻T!AD9,記号!$I$27:$J$30,2,FALSE),\"\")","v":""},{"$f":"IFERROR(VLOOKUP(後攻T!AF8,記号!$L$5:$M$21,2,FALSE),\"\")","v":""},{"$f":"IFERROR(VLOOKUP(後攻T!AF10,記号!$F$27:$G$37,2,FALSE),\"\")","v":""},{"$f":"IFERROR(VLOOKUP(後攻T!AE8,記号!$I$5:$J$23,2,FALSE),\"\")","v":""},null,null,{"$f":"IFERROR(VLOOKUP(後攻T!AR8,記号!$L$5:$M$21,2,FALSE),\"\")","v":""},{"$f":"IFERROR(VLOOKUP(後攻T!AR10,記号!$F$27:$G$37,2,FALSE),\"\")","v":""},{"$f":"IFERROR(VLOOKUP(後攻T!AQ8,記号!$I$5:$J$23,2,FALSE),\"\")","v":""},null,{"$f":"IFERROR(VLOOKUP(後攻T!BB9,記号!$I$27:$J$30,2,FALSE),\"\")","v":"G"},{"$f":"IFERROR(VLOOKUP(後攻T!BD8,記号!$L$5:$M$21,2,FALSE),\"\")","v":""},{"$f":"IFERROR(VLOOKUP(後攻T!BD10,記号!$F$27:$G$37,2,FALSE),\"\")","v":""},{"$f":"IFERROR(VLOOKUP(後攻T!BO8,記号!$I$5:$J$23,2,FALSE),\"\")","v":""},null,{"$f":"IFERROR(VLOOKUP(後攻T!BN9,記号!$I$27:$J$30,2,FALSE),\"\")","v":""},{"$f":"IFERROR(VLOOKUP(後攻T!BP8,記号!$L$5:$M$21,2,FALSE),\"\")","v":""},{"$f":"IFERROR(VLOOKUP(後攻T!BP10,記号!$F$27:$G$37,2,FALSE),\"\")","v":""},{"$f":"IFERROR(VLOOKUP(後攻T!BO8,記号!$I$5:$J$23,2,FALSE),\"\")","v":""},null,{"$f":"IFERROR(VLOOKUP(後攻T!BZ9,記号!$I$27:$J$30,2,FALSE),\"\")","v":"G"},{"$f":"IFERROR(VLOOKUP(後攻T!CB8,記号!$L$5:$M$21,2,FALSE),\"\")","v":""},{"$f":"IFERROR(VLOOKUP(後攻T!CB10,記号!$F$27:$G$37,2,FALSE),\"\")","v":""},{"$f":"IFERROR(VLOOKUP(後攻T!CA8,記号!$I$5:$J$23,2,FALSE),\"\")","v":""},null,{"$f":"IFERROR(VLOOKUP(後攻T!CL9,記号!$I$27:$J$30,2,FALSE),\"\")","v":""},{"$f":"IFERROR(VLOOKUP(後攻T!CN8,記号!$L$5:$M$21,2,FALSE),\"\")","v":""},{"$f":"IFERROR(VLOOKUP(後攻T!CN10,記号!$F$27:$G$37,2,FALSE),\"\")","v":""},{"$f":"IFERROR(VLOOKUP(後攻T!CM8,記号!$I$5:$J$23,2,FALSE),\"\")","v":""},null,{"$f":"IFERROR(VLOOKUP(後攻T!CX9,記号!$I$27:$J$30,2,FALSE),\"\")","v":""},{"$f":"IFERROR(VLOOKUP(後攻T!CZ8,記号!$L$5:$M$21,2,FALSE),\"\")","v":""},{"$f":"IFERROR(VLOOKUP(後攻T!CZ10,記号!$F$27:$G$37,2,FALSE),\"\")","v":""},{"$f":"IFERROR(VLOOKUP(後攻T!CY8,記号!$I$5:$J$23,2,FALSE),\"\")","v":""},null,{"$f":"IFERROR(VLOOKUP(後攻T!DJ9,記号!$I$27:$J$30,2,FALSE),\"\")","v":""},{"$f":"IFERROR(VLOOKUP(後攻T!DL8,記号!$L$5:$M$21,2,FALSE),\"\")","v":""},{"$f":"IFERROR(VLOOKUP(後攻T!DL10,記号!$F$27:$G$37,2,FALSE),\"\")","v":""},{"$f":"IFERROR(VLOOKUP(後攻T!DK8,記号!$I$5:$J$23,2,FALSE),\"\")","v":""},null,{"$f":"IFERROR(VLOOKUP(後攻T!DV9,記号!$I$27:$J$30,2,FALSE),\"\")","v":""},{"$f":"IFERROR(VLOOKUP(後攻T!DX8,記号!$L$5:$M$21,2,FALSE),\"\")","v":""},{"$f":"IFERROR(VLOOKUP(後攻T!DX10,記号!$F$27:$G$37,2,FALSE),\"\")","v":""},{"$f":"IFERROR(VLOOKUP(後攻T!DW8,記号!$I$5:$J$23,2,FALSE),\"\")","v":""},null,{"$f":"IFERROR(VLOOKUP(後攻T!EH9,記号!$I$27:$J$30,2,FALSE),\"\")","v":""},{"$f":"IFERROR(VLOOKUP(後攻T!EJ8,記号!$I$27:$J$30,2,FALSE),\"\")","v":""},{"$f":"IFERROR(VLOOKUP(後攻T!EJ10,記号!$I$27:$J$30,2,FALSE),\"\")","v":""},{"$f":"IFERROR(VLOOKUP(後攻T!EI8,記号!$I$27:$J$30,2,FALSE),\"\")","v":""},null,{"$f":"IF(K73=\"\",\"\",VLOOKUP(K73,$C$19:$E$24,3,FALSE))","v":""},{"$f":"IF(L73=\"\",\"\",(BX73+CG73+CH73+CI73))","v":""},"",{"$f":"IF(L73=\"\",\"\",COUNTIFS($N$70:$BU$70,L73,$N$75:$BU$75,$BY$68))","v":""},{"$f":"IF(L73=\"\",\"\",COUNTIFS($N$70:$BU$70,L73,$N$75:$BU$75,$BZ$68))","v":""},{"$f":"IF(L73=\"\",\"\",COUNTIFS($N$70:$BU$70,L73,$N$73:$BU$73,$CA$68))","v":""},{"$f":"IF(L73=\"\",\"\",COUNTIFS($N$70:$BU$70,L73,$N$73:$BU$73,$CB$68))","v":""},{"$f":"IF(L73=\"\",\"\",COUNTIFS($N$70:$BU$70,L73,$N$75:$BU$75,$CC$68))","v":""},{"$f":"IF(L73=\"\",\"\",SUMIF($N$70:$BU$70,L73,$N$75:$BU$75))","v":""},{"$f":"IF(L73=\"\",\"\",COUNTIFS($N$70:$BU$70,L73,$N$74:$BU$74,$CE$68))","v":""},{"$f":"IF(L73=\"\",\"\",COUNTIFS($N$70:$BU$70,L73,$N$75:$BU$75,$CF$68))","v":""},{"$f":"IF(L73=\"\",\"\",COUNTIFS($N$70:$BU$70,L73,$N$75:$BU$75,$CG$68))","v":""},{"$f":"IF(L73=\"\",\"\",COUNTIFS($N$70:$BU$70,L73,$N$75:$BU$75,$CH$68))","v":""},{"$f":"IF(L73=\"\",\"\",COUNTIFS($N$70:$BU$70,L73,$N$75:$BU$75,$CI$68))","v":""},{"$f":"IF(L73=\"\",\"\",COUNTIFS($N$70:$BU$70,L73,$N$75:$BU$75,$CJ$68))","v":""},{"$f":"IF(L73=\"\",\"\",COUNTIFS($N$70:$BU$70,L73,$N$75:$BU$75,$CK$68)+COUNTIFS($N$70:$BU$70,L73,$N$73:$BU$73,$CK$68))","v":""},{"$f":"IF(L73=\"\",\"\",COUNTIFS($N$70:$BU$70,L73,$N$75:$BU$75,$CL$68)+COUNTIFS($N$70:$BU$70,L73,$N$73:$BU$73,$CL$68))","v":""},{"$f":"IF(L73=\"\",\"\",COUNTIFS($N$70:$BU$70,L73,$N$75:$BU$75,$CM$68))","v":""},{"$f":"IF(L73=\"\",\"\",COUNTIFS($N$70:$BU$70,L73,$N$75:$BU$75,$CN$68))","v":""},{"$f":"IF(L73=\"\",\"\",COUNTIFS($N$70:$BU$70,L73,$N$71:$BU$71,$CO$68)+COUNTIFS($N$70:$BU$70,L73,$N$72:$BU$72,$CO$68))","v":""},null,"左本",null,null,null,null,"A","RR",7,"左",7,"先",null,null,null,"A","藤原　恭大",8,5,5,0,2,1,0,0,2,1,2,0,0,0,0,1,0,0,0,25,"決勝",null,{"$f":"IF(L73=\"\",\"\",L73)","v":""},{"$f":"IF(EC73=\"\",\"\",VLOOKUP(EC73,$C$94:$D$123,2,FALSE))","v":""},{"$f":"IF(EC73=\"\",\"\",COUNTIFS($N$70:$BU$70,EC73,$N$75:$BU$75,\"RZ\"))","v":""},{"$f":"IF(EC73=\"\",\"\",COUNTIFS($N$70:$BU$70,EC73,$N$74:$BU$74,\"ZH\"))","v":""},null,"A","藤原　恭大",8,3,1,null,"A","青地　斗舞",{"$f":"IF(F71=\"\",\"\",F71)","v":9},"LL",0,0,0,0,0,0,0,0,0,0,0,0,0,0,0,0,0,0,0,null,"A","藤原　恭大",8,0,0,2,0,0,1,0,0,0,"決勝",null,null,"",null,"","",4,"","","","","","","","",null,"","",null,"",null,null,null,null,null,null,null,null,null,null,null,null,null,null,null,null,null,null,null,null,null,null,null,null,null,null,null,null,"","","","","","","",""]
[null,"⑤","遊","根尾　昴",null,6,null,null,null,{"$f":"IF(L74=\"\",\"\",VLOOKUP(L74,$C$94:$D$123,2,FALSE))","v":""},null,null,null,{"$f":"IF(N70=\"\",\"\",IF(N70=L71+0.2,\"2\",IF(N70=L71+0.3,\"3\",IF(N70=L71+0.4,\"4\",IF(N70=L71+0.5,\"5\",\"先\")))))","v":"先"},{"$f":"IFERROR(VLOOKUP(後攻T!I10,記号!$F$27:$G$37,2,FALSE),\"\")","v":""},{"$f":"IFERROR(VLOOKUP(後攻T!J8,記号!$R$5:$S$10,2,FALSE),\"\")","v":"○"},{"$f":"IFERROR(VLOOKUP(後攻T!G10,記号!$F$27:$G$37,2,FALSE),\"\")","v":""},{"$f":"IFERROR(VLOOKUP(後攻T!L8,記号!$U$12:$V$13,2,FALSE),\"\")","v":""},{"$f":"IF(S70=\"\",\"\",IF(S70=L71+0.2,\"2\",IF(S70=L71+0.3,\"3\",IF(S70=L71+0.4,\"4\",IF(S70=L71+0.5,\"5\",\"先\")))))","v":"先"},{"$f":"IFERROR(VLOOKUP(後攻T!U10,記号!$F$27:$G$37,2,FALSE),\"\")","v":""},{"$f":"IFERROR(VLOOKUP(後攻T!V8,記号!$R$5:$S$10,2,FALSE),\"\")","v":"Ⅲ"},{"$f":"IFERROR(VLOOKUP(後攻T!S10,記号!$F$27:$G$37,2,FALSE),\"\")","v":""},{"$f":"IFERROR(VLOOKUP(後攻T!X8,記号!$U$12:$V$13,2,FALSE),\"\")","v":""},{"$f":"IF(X70=\"\",\"\",IF(X70=L71+0.2,\"2\",IF(X70=L71+0.3,\"3\",IF(X70=L71+0.4,\"4\",IF(X70=L71+0.5,\"5\",\"先\")))))","v":"先"},{"$f":"IFERROR(VLOOKUP(後攻T!AG10,記号!$F$27:$G$37,2,FALSE),\"\")","v":""},{"$f":"IFERROR(VLOOKUP(後攻T!AH8,記号!$R$5:$S$10,2,FALSE),\"\")","v":""},{"$f":"IFERROR(VLOOKUP(後攻T!AE10,記号!$F$27:$G$37,2,FALSE),\"\")","v":""},{"$f":"IFERROR(VLOOKUP(後攻T!AJ8,記号!$U$12:$V$13,2,FALSE),\"\")","v":""},{"$f":"IF(AC70=\"\",\"\",IF(AC70=L71+0.2,\"2\",IF(AC70=L71+0.3,\"3\",IF(AC70=L71+0.4,\"4\",IF(AC70=L71+0.5,\"5\",\"先\")))))","v":"先"},{"$f":"IFERROR(VLOOKUP(後攻T!AS10,記号!$F$27:$G$37,2,FALSE),\"\")","v":""},{"$f":"IFERROR(VLOOKUP(後攻T!AT8,記号!$R$5:$S$10,2,FALSE),\"\")","v":"○"},{"$f":"IFERROR(VLOOKUP(後攻T!AQ10,記号!$F$27:$G$37,2,FALSE),\"\")","v":""},{"$f":"IFERROR(VLOOKUP(後攻T!AV8,記号!$U$12:$V$13,2,FALSE),\"\")","v":"ZH"},{"$f":"IF(AH70=\"\",\"\",IF(AH70=L71+0.2,\"2\",IF(AH70=L71+0.3,\"3\",IF(AH70=L71+0.4,\"4\",IF(AH70=L71+0.5,\"5\",\"先\")))))","v":"先"},{"$f":"IFERROR(VLOOKUP(後攻T!BE10,記号!$F$27:$G$37,2,FALSE),\"\")","v":""},{"$f":"IFERROR(VLOOKUP(後攻T!BF8,記号!$R$5:$S$10,2,FALSE),\"\")","v":"○"},{"$f":"IFERROR(VLOOKUP(後攻T!BC10,記号!$F$27:$G$37,2,FALSE),\"\")","v":""},{"$f":"IFERROR(VLOOKUP(後攻T!BH8,記号!$U$12:$V$13,2,FALSE),\"\")","v":"ZH"},{"$f":"IF(AM70=\"\",\"\",IF(AM70=L71+0.2,\"2\",IF(AM70=L71+0.3,\"3\",IF(AM70=L71+0.4,\"4\",IF(AM70=L71+0.5,\"5\",\"先\")))))","v":"先"},{"$f":"IFERROR(VLOOKUP(後攻T!BQ10,記号!$F$27:$G$37,2,FALSE),\"\")","v":""},{"$f":"IFERROR(VLOOKUP(後攻T!BR8,記号!$R$5:$S$10,2,FALSE),\"\")","v":""},{"$f":"IFERROR(VLOOKUP(後攻T!BO10,記号!$F$27:$G$37,2,FALSE),\"\")","v":""},{"$f":"IFERROR(VLOOKUP(後攻T!BT8,記号!$U$12:$V$13,2,FALSE),\"\")","v":""},{"$f":"IF(AR70=\"\",\"\",IF(AR70=L71+0.2,\"2\",IF(AR70=L71+0.3,\"3\",IF(AR70=L71+0.4,\"4\",IF(AR70=L71+0.5,\"5\",\"先\")))))","v":"2"},{"$f":"IFERROR(VLOOKUP(後攻T!CC10,記号!$F$27:$G$37,2,FALSE),\"\")","v":""},{"$f":"IFERROR(VLOOKUP(後攻T!CD8,記号!$R$5:$S$10,2,FALSE),\"\")","v":"Ⅲ"},{"$f":"IFERROR(VLOOKUP(後攻T!CA10,記号!$F$27:$G$37,2,FALSE),\"\")","v":""},{"$f":"IFERROR(VLOOKUP(後攻T!CF8,記号!$U$12:$V$13,2,FALSE),\"\")","v":""},{"$f":"IF(AW70=\"\",\"\",IF(AW70=L71+0.2,\"2\",IF(AW70=L71+0.3,\"3\",IF(AW70=L71+0.4,\"4\",IF(AW70=L71+0.5,\"5\",\"先\")))))","v":"2"},{"$f":"IFERROR(VLOOKUP(後攻T!CO10,記号!$F$27:$G$37,2,FALSE),\"\")","v":""},{"$f":"IFERROR(VLOOKUP(後攻T!CP8,記号!$R$5:$S$10,2,FALSE),\"\")","v":""},{"$f":"IFERROR(VLOOKUP(後攻T!CM10,記号!$F$27:$G$37,2,FALSE),\"\")","v":""},{"$f":"IFERROR(VLOOKUP(後攻T!CR8,記号!$U$12:$V$13,2,FALSE),\"\")","v":""},{"$f":"IF(BB70=\"\",\"\",IF(BB70=L71+0.2,\"2\",IF(BB70=L71+0.3,\"3\",IF(BB70=L71+0.4,\"4\",IF(BB70=L71+0.5,\"5\",\"先\")))))","v":"2"},{"$f":"IFERROR(VLOOKUP(後攻T!DA10,記号!$F$27:$G$37,2,FALSE),\"\")","v":""},{"$f":"IFERROR(VLOOKUP(後攻T!DB8,記号!$R$5:$S$10,2,FALSE),\"\")","v":""},{"$f":"IFERROR(VLOOKUP(後攻T!CY10,記号!$F$27:$G$37,2,FALSE),\"\")","v":""},{"$f":"IFERROR(VLOOKUP(後攻T!DD8,記号!$U$12:$V$13,2,FALSE),\"\")","v":""},{"$f":"IF(BG70=\"\",\"\",IF(BG70=L71+0.2,\"2\",IF(BG70=L71+0.3,\"3\",IF(BG70=L71+0.4,\"4\",IF(BG70=L71+0.5,\"5\",\"先\")))))","v":"2"},{"$f":"IFERROR(VLOOKUP(後攻T!DM10,記号!$F$27:$G$37,2,FALSE),\"\")","v":""},{"$f":"IFERROR(VLOOKUP(後攻T!DN8,記号!$R$5:$S$10,2,FALSE),\"\")","v":""},{"$f":"IFERROR(VLOOKUP(後攻T!DK10,記号!$F$27:$G$37,2,FALSE),\"\")","v":""},{"$f":"IFERROR(VLOOKUP(後攻T!DP8,記号!$U$12:$V$13,2,FALSE),\"\")","v":""},{"$f":"IF(BL70=\"\",\"\",IF(BL70=L71+0.2,\"2\",IF(BL70=L71+0.3,\"3\",IF(BL70=L71+0.4,\"4\",IF(BL70=L71+0.5,\"5\",\"先\")))))","v":"2"},{"$f":"IFERROR(VLOOKUP(後攻T!DY10,記号!$F$27:$G$37,2,FALSE),\"\")","v":""},{"$f":"IFERROR(VLOOKUP(後攻T!DZ8,記号!$R$5:$S$10,2,FALSE),\"\")","v":""},{"$f":"IFERROR(VLOOKUP(後攻T!DW10,記号!$F$27:$G$37,2,FALSE),\"\")","v":""},{"$f":"IFERROR(VLOOKUP(後攻T!EB8,記号!$U$12:$V$13,2,FALSE),\"\")","v":""},{"$f":"IF(BQ70=\"\",\"\",IF(BQ70=L71+0.2,\"2\",IF(BQ70=L71+0.3,\"3\",IF(BQ70=L71+0.4,\"4\",IF(BQ70=L71+0.5,\"5\",\"先\")))))","v":"2"},{"$f":"IFERROR(VLOOKUP(後攻T!EK10,記号!$F$27:$G$37,2,FALSE),\"\")","v":""},{"$f":"IFERROR(VLOOKUP(後攻T!EL8,記号!$R$5:$S$10,2,FALSE),\"\")","v":""},{"$f":"IFERROR(VLOOKUP(後攻T!EI10,記号!$F$27:$G$37,2,FALSE),\"\")","v":""},{"$f":"IFERROR(VLOOKUP(後攻T!EN8,記号!$U$12:$V$13,2,FALSE),\"\")","v":""},{"$f":"IF(K74=\"\",\"\",VLOOKUP(K74,$C$19:$E$24,3,FALSE))","v":""},{"$f":"IF(L74=\"\",\"\",(BX74+CG74+CH74+CI74))","v":""},"",{"$f":"IF(L74=\"\",\"\",COUNTIFS($N$70:$BU$70,L74,$N$75:$BU$75,$BY$68))","v":""},{"$f":"IF(L74=\"\",\"\",COUNTIFS($N$70:$BU$70,L74,$N$75:$BU$75,$BZ$68))","v":""},{"$f":"IF(L74=\"\",\"\",COUNTIFS($N$70:$BU$70,L74,$N$73:$BU$73,$CA$68))","v":""},{"$f":"IF(L74=\"\",\"\",COUNTIFS($N$70:$BU$70,L74,$N$73:$BU$73,$CB$68))","v":""},{"$f":"IF(L74=\"\",\"\",COUNTIFS($N$70:$BU$70,L74,$N$75:$BU$75,$CC$68))","v":""},{"$f":"IF(L74=\"\",\"\",SUMIF($N$70:$BU$70,L74,$N$75:$BU$75))","v":""},{"$f":"IF(L74=\"\",\"\",COUNTIFS($N$70:$BU$70,L74,$N$74:$BU$74,$CE$68))","v":""},{"$f":"IF(L74=\"\",\"\",COUNTIFS($N$70:$BU$70,L74,$N$75:$BU$75,$CF$68))","v":""},{"$f":"IF(L74=\"\",\"\",COUNTIFS($N$70:$BU$70,L74,$N$75:$BU$75,$CG$68))","v":""},{"$f":"IF(L74=\"\",\"\",COUNTIFS($N$70:$BU$70,L74,$N$75:$BU$75,$CH$68))","v":""},{"$f":"IF(L74=\"\",\"\",COUNTIFS($N$70:$BU$70,L74,$N$75:$BU$75,$CI$68))","v":""},{"$f":"IF(L74=\"\",\"\",COUNTIFS($N$70:$BU$70,L74,$N$75:$BU$75,$CJ$68))","v":""},{"$f":"IF(L74=\"\",\"\",COUNTIFS($N$70:$BU$70,L74,$N$75:$BU$75,$CK$68)+COUNTIFS($N$70:$BU$70,L74,$N$73:$BU$73,$CK$68))","v":""},{"$f":"IF(L74=\"\",\"\",COUNTIFS($N$70:$BU$70,L74,$N$75:$BU$75,$CL$68)+COUNTIFS($N$70:$BU$70,L74,$N$73:$BU$73,$CL$68))","v":""},{"$f":"IF(L74=\"\",\"\",COUNTIFS($N$70:$BU$70,L74,$N$75:$BU$75,$CM$68))","v":""},{"$f":"IF(L74=\"\",\"\",COUNTIFS($N$70:$BU$70,L74,$N$75:$BU$75,$CN$68))","v":""},{"$f":"IF(L74=\"\",\"\",COUNTIFS($N$70:$BU$70,L74,$N$71:$BU$71,$CO$68)+COUNTIFS($N$70:$BU$70,L74,$N$72:$BU$72,$CO$68))","v":""},null,"ゴロ中安",null,null,null,null,"G","RR",7,"中",8,"先",null,null,null,"A","根尾　昴",6,5,4,3,0,0,0,1,3,2,0,1,0,0,0,0,0,0,0,16,"決勝",null,{"$f":"IF(L74=\"\",\"\",L74)","v":""},{"$f":"IF(EC74=\"\",\"\",VLOOKUP(EC74,$C$94:$D$123,2,FALSE))","v":""},{"$f":"IF(EC74=\"\",\"\",COUNTIFS($N$70:$BU$70,EC74,$N$75:$BU$75,\"RZ\"))","v":""},{"$f":"IF(EC74=\"\",\"\",COUNTIFS($N$70:$BU$70,EC74,$N$74:$BU$74,\"ZH\"))","v":""},null,"A","根尾　昴",6,2,0,null,"A","中川　卓也",{"$f":"IF(F72=\"\",\"\",F72)","v":5},"RR",5,5,1,1,1,0,0,0,0,2,0,0,0,0,0,0,0,0,26,null,"A","根尾　昴",6,1,1,0,0,0,0,0,0,2,"決勝",null,null,"",null,"","",5,"","","","","","","","",null,"","",null,"",null,null,null,null,null,null,null,null,null,null,null,null,null,null,null,null,null,null,null,null,null,null,null,null,null,null,null,null,"","","","","","","",""]
[null,"⑥","一","石川　端貴",null,3,null,null,null,{"$f":"IF(L75=\"\",\"\",VLOOKUP(L75,$C$94:$D$123,2,FALSE))","v":""},null,null,null,{"$f":"IFERROR(VLOOKUP(後攻T!K8,記号!$R$15:$S$20,2,FALSE),\"\")","v":""},{"$f":"IFERROR(VLOOKUP(後攻T!I8,記号!$O$5:$P$21,2,FALSE),\"\")","v":""},{"$f":"IFERROR(VLOOKUP(後攻T!F10,記号!$F$27:$G$37,2,FALSE),\"\")","v":""},{"$f":"IFERROR(VLOOKUP(後攻T!F8,記号!$F$5:$G$21,2,FALSE),\"\")","v":"B"},{"$f":"IFERROR(VLOOKUP(後攻T!L9,記号!$U$5:$V$6,2,FALSE),\"\")","v":""},{"$f":"IFERROR(VLOOKUP(後攻T!W8,記号!$R$15:$S$20,2,FALSE),\"\")","v":""},{"$f":"IFERROR(VLOOKUP(後攻T!U8,記号!$O$5:$P$21,2,FALSE),\"\")","v":""},{"$f":"IFERROR(VLOOKUP(後攻T!R10,記号!$F$27:$G$37,2,FALSE),\"\")","v":"4'"},{"$f":"IFERROR(VLOOKUP(後攻T!R8,記号!$F$5:$G$21,2,FALSE),\"\")","v":"O"},{"$f":"IFERROR(VLOOKUP(後攻T!X9,記号!$U$5:$V$6,2,FALSE),\"\")","v":""},{"$f":"IFERROR(VLOOKUP(後攻T!AI8,記号!$R$15:$S$20,2,FALSE),\"\")","v":""},{"$f":"IFERROR(VLOOKUP(後攻T!AG8,記号!$O$5:$P$21,2,FALSE),\"\")","v":""},{"$f":"IFERROR(VLOOKUP(後攻T!AD10,記号!$F$27:$G$37,2,FALSE),\"\")","v":""},{"$f":"IFERROR(VLOOKUP(後攻T!AD8,記号!$F$5:$G$21,2,FALSE),\"\")","v":""},{"$f":"IFERROR(VLOOKUP(後攻T!AJ9,記号!$U$5:$V$6,2,FALSE),\"\")","v":""},{"$f":"IFERROR(VLOOKUP(後攻T!AU8,記号!$R$15:$S$20,2,FALSE),\"\")","v":""},{"$f":"IFERROR(VLOOKUP(後攻T!AS8,記号!$O$5:$P$21,2,FALSE),\"\")","v":"H4"},{"$f":"IFERROR(VLOOKUP(後攻T!AP10,記号!$F$27:$G$37,2,FALSE),\"\")","v":"7'"},{"$f":"IFERROR(VLOOKUP(後攻T!AP8,記号!$F$5:$G$21,2,FALSE),\"\")","v":""},{"$f":"IFERROR(VLOOKUP(後攻T!AV9,記号!$U$5:$V$6,2,FALSE),\"\")","v":"RZ"},{"$f":"IFERROR(VLOOKUP(後攻T!BG8,記号!$R$15:$S$20,2,FALSE),\"\")","v":""},{"$f":"IFERROR(VLOOKUP(後攻T!BE8,記号!$O$5:$P$21,2,FALSE),\"\")","v":"④"},{"$f":"IFERROR(VLOOKUP(後攻T!BB10,記号!$F$27:$G$37,2,FALSE),\"\")","v":"8'"},{"$f":"IFERROR(VLOOKUP(後攻T!BB8,記号!$F$5:$G$21,2,FALSE),\"\")","v":"H"},{"$f":"IFERROR(VLOOKUP(後攻T!BH9,記号!$U$5:$V$6,2,FALSE),\"\")","v":"RZ"},{"$f":"IFERROR(VLOOKUP(後攻T!BS8,記号!$R$15:$S$20,2,FALSE),\"\")","v":""},{"$f":"IFERROR(VLOOKUP(後攻T!BQ8,記号!$O$5:$P$21,2,FALSE),\"\")","v":""},{"$f":"IFERROR(VLOOKUP(後攻T!BN10,記号!$F$27:$G$37,2,FALSE),\"\")","v":""},{"$f":"IFERROR(VLOOKUP(後攻T!BN8,記号!$F$5:$G$21,2,FALSE),\"\")","v":""},{"$f":"IFERROR(VLOOKUP(後攻T!BT9,記号!$U$5:$V$6,2,FALSE),\"\")","v":""},{"$f":"IFERROR(VLOOKUP(後攻T!CE8,記号!$R$15:$S$20,2,FALSE),\"\")","v":""},{"$f":"IFERROR(VLOOKUP(後攻T!CC8,記号!$O$5:$P$21,2,FALSE),\"\")","v":""},{"$f":"IFERROR(VLOOKUP(後攻T!BZ10,記号!$F$27:$G$37,2,FALSE),\"\")","v":"6'"},{"$f":"IFERROR(VLOOKUP(後攻T!BZ8,記号!$F$5:$G$21,2,FALSE),\"\")","v":"O"},{"$f":"IFERROR(VLOOKUP(後攻T!CF9,記号!$U$5:$V$6,2,FALSE),\"\")","v":"RZ"},{"$f":"IFERROR(VLOOKUP(後攻T!CQ8,記号!$R$15:$S$20,2,FALSE),\"\")","v":""},{"$f":"IFERROR(VLOOKUP(後攻T!CO8,記号!$O$5:$P$21,2,FALSE),\"\")","v":""},{"$f":"IFERROR(VLOOKUP(後攻T!CL10,記号!$F$27:$G$37,2,FALSE),\"\")","v":""},{"$f":"IFERROR(VLOOKUP(後攻T!CL8,記号!$F$5:$G$21,2,FALSE),\"\")","v":""},{"$f":"IFERROR(VLOOKUP(後攻T!CR9,記号!$U$5:$V$6,2,FALSE),\"\")","v":""},{"$f":"IFERROR(VLOOKUP(後攻T!DC8,記号!$R$15:$S$20,2,FALSE),\"\")","v":""},{"$f":"IFERROR(VLOOKUP(後攻T!DA8,記号!$O$5:$P$21,2,FALSE),\"\")","v":""},{"$f":"IFERROR(VLOOKUP(後攻T!CX10,記号!$F$27:$G$37,2,FALSE),\"\")","v":""},{"$f":"IFERROR(VLOOKUP(後攻T!CX8,記号!$F$5:$G$21,2,FALSE),\"\")","v":""},{"$f":"IFERROR(VLOOKUP(後攻T!DD9,記号!$U$5:$V$6,2,FALSE),\"\")","v":""},{"$f":"IFERROR(VLOOKUP(後攻T!DO8,記号!$R$15:$S$20,2,FALSE),\"\")","v":""},{"$f":"IFERROR(VLOOKUP(後攻T!DM8,記号!$O$5:$P$21,2,FALSE),\"\")","v":""},{"$f":"IFERROR(VLOOKUP(後攻T!DJ10,記号!$F$27:$G$37,2,FALSE),\"\")","v":""},{"$f":"IFERROR(VLOOKUP(後攻T!DJ8,記号!$F$5:$G$21,2,FALSE),\"\")","v":""},{"$f":"IFERROR(VLOOKUP(後攻T!DP9,記号!$U$5:$V$6,2,FALSE),\"\")","v":""},{"$f":"IFERROR(VLOOKUP(後攻T!EA8,記号!$R$15:$S$20,2,FALSE),\"\")","v":""},{"$f":"IFERROR(VLOOKUP(後攻T!DY8,記号!$O$5:$P$21,2,FALSE),\"\")","v":""},{"$f":"IFERROR(VLOOKUP(後攻T!DV10,記号!$F$27:$G$37,2,FALSE),\"\")","v":""},{"$f":"IFERROR(VLOOKUP(後攻T!DV8,記号!$F$5:$G$21,2,FALSE),\"\")","v":""},{"$f":"IFERROR(VLOOKUP(後攻T!EB9,記号!$U$5:$V$6,2,FALSE),\"\")","v":""},{"$f":"IFERROR(VLOOKUP(後攻T!EM8,記号!$R$15:$S$20,2,FALSE),\"\")","v":""},{"$f":"IFERROR(VLOOKUP(後攻T!EK8,記号!$O$5:$P$21,2,FALSE),\"\")","v":""},{"$f":"IFERROR(VLOOKUP(後攻T!EH10,記号!$F$27:$G$37,2,FALSE),\"\")","v":""},{"$f":"IFERROR(VLOOKUP(後攻T!EH8,記号!$F$5:$G$21,2,FALSE),\"\")","v":""},{"$f":"IFERROR(VLOOKUP(後攻T!EN9,記号!$U$5:$V$6,2,FALSE),\"\")","v":""},{"$f":"IF(K75=\"\",\"\",VLOOKUP(K75,$C$19:$E$24,3,FALSE))","v":""},{"$f":"IF(L75=\"\",\"\",(BX75+CG75+CH75+CI75))","v":""},"",{"$f":"IF(L75=\"\",\"\",COUNTIFS($N$70:$BU$70,L75,$N$75:$BU$75,$BY$68))","v":""},{"$f":"IF(L75=\"\",\"\",COUNTIFS($N$70:$BU$70,L75,$N$75:$BU$75,$BZ$68))","v":""},{"$f":"IF(L75=\"\",\"\",COUNTIFS($N$70:$BU$70,L75,$N$73:$BU$73,$CA$68))","v":""},{"$f":"IF(L75=\"\",\"\",COUNTIFS($N$70:$BU$70,L75,$N$73:$BU$73,$CB$68))","v":""},{"$f":"IF(L75=\"\",\"\",COUNTIFS($N$70:$BU$70,L75,$N$75:$BU$75,$CC$68))","v":""},{"$f":"IF(L75=\"\",\"\",SUMIF($N$70:$BU$70,L75,$N$75:$BU$75))","v":""},{"$f":"IF(L75=\"\",\"\",COUNTIFS($N$70:$BU$70,L75,$N$74:$BU$74,$CE$68))","v":""},{"$f":"IF(L75=\"\",\"\",COUNTIFS($N$70:$BU$70,L75,$N$75:$BU$75,$CF$68))","v":""},{"$f":"IF(L75=\"\",\"\",COUNTIFS($N$70:$BU$70,L75,$N$75:$BU$75,$CG$68))","v":""},{"$f":"IF(L75=\"\",\"\",COUNTIFS($N$70:$BU$70,L75,$N$75:$BU$75,$CH$68))","v":""},{"$f":"IF(L75=\"\",\"\",COUNTIFS($N$70:$BU$70,L75,$N$75:$BU$75,$CI$68))","v":""},{"$f":"IF(L75=\"\",\"\",COUNTIFS($N$70:$BU$70,L75,$N$75:$BU$75,$CJ$68))","v":""},{"$f":"IF(L75=\"\",\"\",COUNTIFS($N$70:$BU$70,L75,$N$75:$BU$75,$CK$68)+COUNTIFS($N$70:$BU$70,L75,$N$73:$BU$73,$CK$68))","v":""},{"$f":"IF(L75=\"\",\"\",COUNTIFS($N$70:$BU$70,L75,$N$75:$BU$75,$CL$68)+COUNTIFS($N$70:$BU$70,L75,$N$73:$BU$73,$CL$68))","v":""},{"$f":"IF(L75=\"\",\"\",COUNTIFS($N$70:$BU$70,L75,$N$75:$BU$75,$CM$68))","v":""},{"$f":"IF(L75=\"\",\"\",COUNTIFS($N$70:$BU$70,L75,$N$75:$BU$75,$CN$68))","v":""},{"$f":"IF(L75=\"\",\"\",COUNTIFS($N$70:$BU$70,L75,$N$71:$BU$71,$CO$68)+COUNTIFS($N$70:$BU$70,L75,$N$72:$BU$72,$CO$68))","v":""},null,"遊ゴロ",null,null,null,null,"G","RR",7,"遊",6,2,null,null,null,"A","石川　端貴",3,5,5,4,0,1,0,0,2,0,0,0,0,0,0,0,0,0,0,19,"決勝",null,{"$f":"IF(L75=\"\",\"\",L75)","v":""},{"$f":"IF(EC75=\"\",\"\",VLOOKUP(EC75,$C$94:$D$123,2,FALSE))","v":""},{"$f":"IF(EC75=\"\",\"\",COUNTIFS($N$70:$BU$70,EC75,$N$75:$BU$75,\"RZ\"))","v":""},{"$f":"IF(EC75=\"\",\"\",COUNTIFS($N$70:$BU$70,EC75,$N$74:$BU$74,\"ZH\"))","v":""},null,"A","石川　端貴",3,2,1,null,"A","中川　卓也",{"$f":"IF(F72=\"\",\"\",F72)","v":5},"LL",0,0,0,0,0,0,0,0,0,0,0,0,0,0,0,0,0,0,0,null,"A","石川　端貴",3,2,2,1,0,0,0,0,0,0,"決勝",null,null,"",null,"","",6,"","","","","","","","",null,"","",null,"",null,null,null,null,null,null,null,null,null,null,null,null,null,null,null,null,null,null,null,null,null,null,null,null,null,null,null,null,"","","","","","","",""]
[null,"⑦","二","山田　健太",null,4,null,null,null,null,null,null,"打者背番号を入力➡",{"$f":"後攻T!E11","v":9},{"$f":"N76","v":9},{"$f":"N76","v":9},{"$f":"N76","v":9},{"$f":"N76","v":9},{"$f":"後攻T!Q11","v":9},{"$f":"S76","v":9},{"$f":"S76","v":9},{"$f":"S76","v":9},{"$f":"S76","v":9},{"$f":"後攻T!AC11","v":9},{"$f":"X76","v":9},{"$f":"X76","v":9},{"$f":"X76","v":9},{"$f":"X76","v":9},{"$f":"後攻T!AO11","v":9},{"$f":"AC76","v":9},{"$f":"AC76","v":9},{"$f":"AC76","v":9},{"$f":"AC76","v":9},{"$f":"後攻T!BA11","v":9},{"$f":"AH76","v":9},{"$f":"AH76","v":9},{"$f":"AH76","v":9},{"$f":"AH76","v":9},{"$f":"後攻T!BM11","v":9},{"$f":"AM76","v":9},{"$f":"AM76","v":9},{"$f":"AM76","v":9},{"$f":"AM76","v":9},{"$f":"後攻T!BY11","v":9},{"$f":"AR76","v":9},{"$f":"AR76","v":9},{"$f":"AR76","v":9},{"$f":"AR76","v":9},{"$f":"後攻T!CK11","v":9.1999999999999993},{"$f":"AW76","v":9.1999999999999993},{"$f":"AW76","v":9.1999999999999993},{"$f":"AW76","v":9.1999999999999993},{"$f":"AW76","v":9.1999999999999993},{"$f":"後攻T!CW11","v":9.1999999999999993},{"$f":"BB76","v":9.1999999999999993},{"$f":"BB76","v":9.1999999999999993},{"$f":"BB76","v":9.1999999999999993},{"$f":"BB76","v":9.1999999999999993},{"$f":"後攻T!DI11","v":9.1999999999999993},{"$f":"BG76","v":9.1999999999999993},{"$f":"BG76","v":9.1999999999999993},{"$f":"BG76","v":9.1999999999999993},{"$f":"BG76","v":9.1999999999999993},{"$f":"後攻T!DU11","v":9.1999999999999993},{"$f":"BL76","v":9.1999999999999993},{"$f":"BL76","v":9.1999999999999993},{"$f":"BL76","v":9.1999999999999993},{"$f":"BL76","v":9.1999999999999993},{"$f":"後攻T!EG11","v":9.1999999999999993},{"$f":"BQ76","v":9.1999999999999993},{"$f":"BQ76","v":9.1999999999999993},{"$f":"BQ76","v":9.1999999999999993},{"$f":"BQ76","v":9.1999999999999993},null,null,null,null,null,null,null,null,null,null,null,null,null,null,null,null,null,null,null,null,null,null,null,null,null,null,null,null,null,null,null,null,null,null,null,"A","山田　健太",4,{"$f":"IF(DF76=\"\",\"\",SUMIFS($BW$71:$BW$123,$J$71:$J$123,DF76))","v":5},5,2,2,0,0,0,0,2,0,0,0,0,0,0,0,0,1,18,"決勝",null,null,null,null,null,null,"A","山田　健太",4,1,0,null,"A","藤原　恭大",{"$f":"IF(F73=\"\",\"\",F73)","v":8},"RR",5,5,0,2,1,0,0,2,1,2,0,0,0,0,1,0,0,0,25,null,"A","山田　健太",4,0,1,0,0,0,3,0,0,1,"決勝",null,null,null,null,null,null,null,null,null,null,null,null,null,null,null,null,null,null,null,null,null,null,null,null,null,null,null,null,null,null,null,null,null,null,null,null,null,null,null,null,null,null,null,null,null,null,null,null,null,""]
[null,"⑧","捕","小泉　航平",null,2,null,null,{"$f":"IF(C71=\"\",\"\",C71)","v":"右"},{"$f":"IF(D71=\"\",\"\",D71)","v":"青地　斗舞"},{"$f":"IF(J77=\"\",\"\",\"先\")","v":"先"},{"$f":"IF(J77=\"\",\"\",F71)","v":9},"②",{"$f":"IFERROR(VLOOKUP(後攻T!F13,記号!$B$6:$C$10,2,FALSE),\"\")","v":"・〇"},{"$f":"IFERROR(VLOOKUP(後攻T!G13,記号!$B$6:$C$10,2,FALSE),\"\")","v":"・□"},{"$f":"IFERROR(VLOOKUP(後攻T!H13,記号!$B$6:$C$10,2,FALSE),\"\")","v":"・◎"},{"$f":"IFERROR(VLOOKUP(後攻T!I13,記号!$B$6:$C$10,2,FALSE),\"\")","v":""},{"$f":"IFERROR(VLOOKUP(後攻T!J13,記号!$B$6:$C$10,2,FALSE),\"\")","v":""},{"$f":"IFERROR(VLOOKUP(後攻T!R13,記号!$B$6:$C$10,2,FALSE),\"\")","v":""},{"$f":"IFERROR(VLOOKUP(後攻T!S13,記号!$B$6:$C$10,2,FALSE),\"\")","v":""},{"$f":"IFERROR(VLOOKUP(後攻T!T13,記号!$B$6:$C$10,2,FALSE),\"\")","v":""},{"$f":"IFERROR(VLOOKUP(後攻T!U13,記号!$B$6:$C$10,2,FALSE),\"\")","v":""},{"$f":"IFERROR(VLOOKUP(後攻T!V13,記号!$B$6:$C$10,2,FALSE),\"\")","v":""},{"$f":"IFERROR(VLOOKUP(後攻T!AD13,記号!$B$6:$C$10,2,FALSE),\"\")","v":"・●"},{"$f":"IFERROR(VLOOKUP(後攻T!AE13,記号!$B$6:$C$10,2,FALSE),\"\")","v":"・◎"},{"$f":"IFERROR(VLOOKUP(後攻T!AF13,記号!$B$6:$C$10,2,FALSE),\"\")","v":""},{"$f":"IFERROR(VLOOKUP(後攻T!AG13,記号!$B$6:$C$10,2,FALSE),\"\")","v":""},{"$f":"IFERROR(VLOOKUP(後攻T!AH13,記号!$B$6:$C$10,2,FALSE),\"\")","v":""},{"$f":"IFERROR(VLOOKUP(後攻T!AP13,記号!$B$6:$C$10,2,FALSE),\"\")","v":"・●"},{"$f":"IFERROR(VLOOKUP(後攻T!AQ13,記号!$B$6:$C$10,2,FALSE),\"\")","v":"・●"},{"$f":"IFERROR(VLOOKUP(後攻T!AR13,記号!$B$6:$C$10,2,FALSE),\"\")","v":"・〇"},{"$f":"IFERROR(VLOOKUP(後攻T!AS13,記号!$B$6:$C$10,2,FALSE),\"\")","v":"・◎"},{"$f":"IFERROR(VLOOKUP(後攻T!AT13,記号!$B$6:$C$10,2,FALSE),\"\")","v":""},{"$f":"IFERROR(VLOOKUP(後攻T!BB13,記号!$B$6:$C$10,2,FALSE),\"\")","v":"・●"},{"$f":"IFERROR(VLOOKUP(後攻T!BC13,記号!$B$6:$C$10,2,FALSE),\"\")","v":"・〇"},{"$f":"IFERROR(VLOOKUP(後攻T!BD13,記号!$B$6:$C$10,2,FALSE),\"\")","v":"・△"},{"$f":"IFERROR(VLOOKUP(後攻T!BE13,記号!$B$6:$C$10,2,FALSE),\"\")","v":"・◎"},{"$f":"IFERROR(VLOOKUP(後攻T!BF13,記号!$B$6:$C$10,2,FALSE),\"\")","v":""},{"$f":"IFERROR(VLOOKUP(後攻T!BN13,記号!$B$6:$C$10,2,FALSE),\"\")","v":""},{"$f":"IFERROR(VLOOKUP(後攻T!BO13,記号!$B$6:$C$10,2,FALSE),\"\")","v":""},{"$f":"IFERROR(VLOOKUP(後攻T!BP13,記号!$B$6:$C$10,2,FALSE),\"\")","v":""},{"$f":"IFERROR(VLOOKUP(後攻T!BQ13,記号!$B$6:$C$10,2,FALSE),\"\")","v":""},{"$f":"IFERROR(VLOOKUP(後攻T!BR13,記号!$B$6:$C$10,2,FALSE),\"\")","v":""},{"$f":"IFERROR(VLOOKUP(後攻T!BZ13,記号!$B$6:$C$10,2,FALSE),\"\")","v":""},{"$f":"IFERROR(VLOOKUP(後攻T!CA13,記号!$B$6:$C$10,2,FALSE),\"\")","v":""},{"$f":"IFERROR(VLOOKUP(後攻T!CB13,記号!$B$6:$C$10,2,FALSE),\"\")","v":""},{"$f":"IFERROR(VLOOKUP(後攻T!CC13,記号!$B$6:$C$10,2,FALSE),\"\")","v":""},{"$f":"IFERROR(VLOOKUP(後攻T!CD13,記号!$B$6:$C$10,2,FALSE),\"\")","v":""},{"$f":"IFERROR(VLOOKUP(後攻T!CL13,記号!$B$6:$C$10,2,FALSE),\"\")","v":"・●"},{"$f":"IFERROR(VLOOKUP(後攻T!CM13,記号!$B$6:$C$10,2,FALSE),\"\")","v":"・〇"},{"$f":"IFERROR(VLOOKUP(後攻T!CN13,記号!$B$6:$C$10,2,FALSE),\"\")","v":"・●"},{"$f":"IFERROR(VLOOKUP(後攻T!CO13,記号!$B$6:$C$10,2,FALSE),\"\")","v":"・●"},{"$f":"IFERROR(VLOOKUP(後攻T!CP13,記号!$B$6:$C$10,2,FALSE),\"\")","v":"・〇"},{"$f":"IFERROR(VLOOKUP(後攻T!CX13,記号!$B$6:$C$10,2,FALSE),\"\")","v":""},{"$f":"IFERROR(VLOOKUP(後攻T!CY13,記号!$B$6:$C$10,2,FALSE),\"\")","v":""},{"$f":"IFERROR(VLOOKUP(後攻T!CZ13,記号!$B$6:$C$10,2,FALSE),\"\")","v":""},{"$f":"IFERROR(VLOOKUP(後攻T!DA13,記号!$B$6:$C$10,2,FALSE),\"\")","v":""},{"$f":"IFERROR(VLOOKUP(後攻T!DB13,記号!$B$6:$C$10,2,FALSE),\"\")","v":""},{"$f":"IFERROR(VLOOKUP(後攻T!DJ13,記号!$B$6:$C$10,2,FALSE),\"\")","v":""},{"$f":"IFERROR(VLOOKUP(後攻T!DK13,記号!$B$6:$C$10,2,FALSE),\"\")","v":""},{"$f":"IFERROR(VLOOKUP(後攻T!DL13,記号!$B$6:$C$10,2,FALSE),\"\")","v":""},{"$f":"IFERROR(VLOOKUP(後攻T!DM13,記号!$B$6:$C$10,2,FALSE),\"\")","v":""},{"$f":"IFERROR(VLOOKUP(後攻T!DN13,記号!$B$6:$C$10,2,FALSE),\"\")","v":""},{"$f":"IFERROR(VLOOKUP(後攻T!DV13,記号!$B$6:$C$10,2,FALSE),\"\")","v":""},{"$f":"IFERROR(VLOOKUP(後攻T!DW13,記号!$B$6:$C$10,2,FALSE),\"\")","v":""},{"$f":"IFERROR(VLOOKUP(後攻T!DX13,記号!$B$6:$C$10,2,FALSE),\"\")","v":""},{"$f":"IFERROR(VLOOKUP(後攻T!DY13,記号!$B$6:$C$10,2,FALSE),\"\")","v":""},{"$f":"IFERROR(VLOOKUP(後攻T!DZ13,記号!$B$6:$C$10,2,FALSE),\"\")","v":""},{"$f":"IFERROR(VLOOKUP(後攻T!EH13,記号!$B$6:$C$10,2,FALSE),\"\")","v":""},{"$f":"IFERROR(VLOOKUP(後攻T!EI13,記号!$B$6:$C$10,2,FALSE),\"\")","v":""},{"$f":"IFERROR(VLOOKUP(後攻T!EJ13,記号!$B$6:$C$10,2,FALSE),\"\")","v":""},{"$f":"IFERROR(VLOOKUP(後攻T!EK13,記号!$B$6:$C$10,2,FALSE),\"\")","v":""},{"$f":"IFERROR(VLOOKUP(後攻T!EL13,記号!$B$6:$C$10,2,FALSE),\"\")","v":""},{"$f":"IF(K77=\"\",\"\",VLOOKUP(K77,$C$19:$E$24,3,FALSE))","v":"RR"},{"$f":"IF(L77=\"\",\"\",(BX77+CG77+CH77+CI77))","v":4},4,{"$f":"IF(L77=\"\",\"\",COUNTIFS($N$76:$BU$76,L77,$N$81:$BU$81,$BY$68))","v":2},{"$f":"IF(L77=\"\",\"\",COUNTIFS($N$76:$BU$76,L77,$N$81:$BU$81,$BZ$68))","v":2},{"$f":"IF(L77=\"\",\"\",COUNTIFS($N$76:$BU$76,L77,$N$79:$BU$79,$CA$68))","v":0},{"$f":"IF(L77=\"\",\"\",COUNTIFS($N$76:$BU$76,L77,$N$79:$BU$79,$CB$68))","v":0},{"$f":"IF(L77=\"\",\"\",COUNTIFS($N$76:$BU$76,L77,$N$81:$BU$81,$CC$68))","v":0},{"$f":"IF(L77=\"\",\"\",SUMIF($N$76:$BU$76,L77,$N$81:$BU$81))","v":0},{"$f":"IF(L77=\"\",\"\",COUNTIFS($N$76:$BU$76,L77,$N$80:$BU$80,$CE$68))","v":1},{"$f":"IF(L77=\"\",\"\",COUNTIFS($N$76:$BU$76,L77,$N$81:$BU$81,$CF$68))","v":0},{"$f":"IF(L77=\"\",\"\",COUNTIFS($N$76:$BU$76,L77,$N$81:$BU$81,$CG$68))","v":0},{"$f":"IF(L77=\"\",\"\",COUNTIFS($N$76:$BU$76,L77,$N$81:$BU$81,$CH$68))","v":0},{"$f":"IF(L77=\"\",\"\",COUNTIFS($N$76:$BU$76,L77,$N$81:$BU$81,$CI$68))","v":0},{"$f":"IF(L77=\"\",\"\",COUNTIFS($N$76:$BU$76,L77,$N$81:$BU$81,$CJ$68))","v":0},{"$f":"IF(L77=\"\",\"\",COUNTIFS($N$76:$BU$76,L77,$N$81:$BU$81,$CK$68)+COUNTIFS($N$76:$BU$76,L77,$N$79:$BU$79,$CK$68))","v":0},{"$f":"IF(L77=\"\",\"\",COUNTIFS($N$76:$BU$76,L77,$N$81:$BU$81,$CL$68)+COUNTIFS($N$76:$BU$76,L77,$N$79:$BU$79,$CL$68))","v":0},{"$f":"IF(L77=\"\",\"\",COUNTIFS($N$76:$BU$76,L77,$N$81:$BU$81,$CM$68))","v":0},{"$f":"IF(L77=\"\",\"\",COUNTIFS($N$76:$BU$76,L77,$N$81:$BU$81,$CN$68))","v":0},{"$f":"IF(L77=\"\",\"\",COUNTIFS($N$76:$BU$76,L77,$N$77:$BU$77,$CO$68)+COUNTIFS($N$76:$BU$76,L77,$N$78:$BU$78,$CO$68))","v":13},"先","ゴロ右安",null,null,null,null,"G",{"$f":"IF(DA77=\"\",\"\",VLOOKUP(DA77,$C$19:$F$24,3,FALSE))","v":"RR"},9,"右",{"$f":"IF(CY77=\"\",\"\",VLOOKUP(CY77,$C$5:$F$14,4,FALSE))","v":9},"先",null,null,null,"A","小泉　航平",2,5,3,1,1,0,0,0,1,2,1,2,0,0,0,0,0,0,0,27,"決勝",null,{"$f":"IF(L77=\"\",\"\",L77)","v":9},{"$f":"IF(EC77=\"\",\"\",VLOOKUP(EC77,$C$94:$D$123,2,FALSE))","v":"青地　斗舞"},{"$f":"IF(EC77=\"\",\"\",COUNTIFS($N$76:$BU$76,EC77,$N$81:$BU$81,\"RZ\"))","v":0},{"$f":"IF(EC77=\"\",\"\",COUNTIFS($N$76:$BU$76,EC77,$N$80:$BU$80,\"ZH\"))","v":0},null,"A","小泉　航平",2,1,1,null,"A","藤原　恭大",{"$f":"IF(F73=\"\",\"\",F73)","v":8},"LL",0,0,0,0,0,0,0,0,0,0,0,0,0,0,0,0,0,0,0,null,"A","小泉　航平",2,0,0,0,0,0,1,0,1,0,"決勝",null,null,null,null,null,null,null,null,null,null,null,null,null,null,null,null,null,null,null,null,null,null,null,null,null,null,null,null,null,null,null,null,null,null,null,null,null,null,null,null,null,null,null,null,null,null,null,null,"青地　斗舞",9,{"$f":"IF(HU77=\"\",\"\",COUNTIFS($N$76:$BU$76,HV77,$N$77:$BU$77,$HW$68)+COUNTIFS($N$76:$BU$76,HV77,$N$78:$BU$78,$HW$68))","v":13},{"$f":"IF(HU77=\"\",\"\",COUNTIFS($N$76:$BU$76,HV77,$N$77:$BU$77,$HX$68)+COUNTIFS($N$76:$BU$76,HV77,$N$78:$BU$78,$HX$68))","v":4},{"$f":"IF(HU77=\"\",\"\",COUNTIFS($N$76:$BU$76,HV77,$N$77:$BU$77,$HY$68)+COUNTIFS($N$76:$BU$76,HV77,$N$78:$BU$78,$HY$68))","v":3},{"$f":"IF(HU77=\"\",\"\",COUNTIFS($N$76:$BU$76,HV77,$N$77:$BU$77,$HZ$68)+COUNTIFS($N$76:$BU$76,HV77,$N$78:$BU$78,$HZ$68))","v":1},{"$f":"IF(HU77=\"\",\"\",COUNTIFS($N$76:$BU$76,HV77,$N$77:$BU$77,$IA$68)+COUNTIFS($N$76:$BU$76,HV77,$N$78:$BU$78,$IA$68))","v":1},{"$f":"IF(HU77=\"\",\"\",COUNTIFS($N$76:$BU$76,HV77,$N$77:$BU$77,$IB$68)+COUNTIFS($N$76:$BU$76,HV77,$N$78:$BU$78,$IB$68))","v":4}]
[null,"⑨","投","柿木　蓮",null,1,null,null,null,"青地　斗舞",2,9.1999999999999993,null,{"$f":"IFERROR(VLOOKUP(後攻T!K13,記号!$B$6:$C$10,2,FALSE),\"\")","v":""},{"$f":"IFERROR(VLOOKUP(後攻T!L13,記号!$B$6:$C$10,2,FALSE),\"\")","v":""},{"$f":"IFERROR(VLOOKUP(後攻T!F15,記号!$B$6:$C$10,2,FALSE),\"\")","v":""},{"$f":"IFERROR(VLOOKUP(後攻T!G15,記号!$B$6:$C$10,2,FALSE),\"\")","v":""},{"$f":"IFERROR(VLOOKUP(後攻T!H15,記号!$B$6:$C$10,2,FALSE),\"\")","v":""},{"$f":"IFERROR(VLOOKUP(後攻T!W13,記号!$B$6:$C$10,2,FALSE),\"\")","v":""},{"$f":"IFERROR(VLOOKUP(後攻T!X13,記号!$B$6:$C$10,2,FALSE),\"\")","v":""},{"$f":"IFERROR(VLOOKUP(後攻T!R15,記号!$B$6:$C$10,2,FALSE),\"\")","v":""},{"$f":"IFERROR(VLOOKUP(後攻T!S15,記号!$B$6:$C$10,2,FALSE),\"\")","v":""},{"$f":"IFERROR(VLOOKUP(後攻T!T15,記号!$B$6:$C$10,2,FALSE),\"\")","v":""},{"$f":"IFERROR(VLOOKUP(後攻T!AI13,記号!$B$6:$C$10,2,FALSE),\"\")","v":""},{"$f":"IFERROR(VLOOKUP(後攻T!AJ13,記号!$B$6:$C$10,2,FALSE),\"\")","v":""},{"$f":"IFERROR(VLOOKUP(後攻T!AD15,記号!$B$6:$C$10,2,FALSE),\"\")","v":""},{"$f":"IFERROR(VLOOKUP(後攻T!AE15,記号!$B$6:$C$10,2,FALSE),\"\")","v":""},{"$f":"IFERROR(VLOOKUP(後攻T!AF15,記号!$B$6:$C$10,2,FALSE),\"\")","v":""},{"$f":"IFERROR(VLOOKUP(後攻T!AU13,記号!$B$6:$C$10,2,FALSE),\"\")","v":""},{"$f":"IFERROR(VLOOKUP(後攻T!AV13,記号!$B$6:$C$10,2,FALSE),\"\")","v":""},{"$f":"IFERROR(VLOOKUP(後攻T!AP15,記号!$B$6:$C$10,2,FALSE),\"\")","v":""},{"$f":"IFERROR(VLOOKUP(後攻T!AQ15,記号!$B$6:$C$10,2,FALSE),\"\")","v":""},{"$f":"IFERROR(VLOOKUP(後攻T!AR15,記号!$B$6:$C$10,2,FALSE),\"\")","v":""},{"$f":"IFERROR(VLOOKUP(後攻T!BG13,記号!$B$6:$C$10,2,FALSE),\"\")","v":""},{"$f":"IFERROR(VLOOKUP(後攻T!BH13,記号!$B$6:$C$10,2,FALSE),\"\")","v":""},{"$f":"IFERROR(VLOOKUP(後攻T!BB15,記号!$B$6:$C$10,2,FALSE),\"\")","v":""},{"$f":"IFERROR(VLOOKUP(後攻T!BC15,記号!$B$6:$C$10,2,FALSE),\"\")","v":""},{"$f":"IFERROR(VLOOKUP(後攻T!BD15,記号!$B$6:$C$10,2,FALSE),\"\")","v":""},{"$f":"IFERROR(VLOOKUP(後攻T!BS13,記号!$B$6:$C$10,2,FALSE),\"\")","v":""},{"$f":"IFERROR(VLOOKUP(後攻T!BT13,記号!$B$6:$C$10,2,FALSE),\"\")","v":""},{"$f":"IFERROR(VLOOKUP(後攻T!BN15,記号!$B$6:$C$10,2,FALSE),\"\")","v":""},{"$f":"IFERROR(VLOOKUP(後攻T!BO15,記号!$B$6:$C$10,2,FALSE),\"\")","v":""},{"$f":"IFERROR(VLOOKUP(後攻T!BP15,記号!$B$6:$C$10,2,FALSE),\"\")","v":""},{"$f":"IFERROR(VLOOKUP(後攻T!CE13,記号!$B$6:$C$10,2,FALSE),\"\")","v":""},{"$f":"IFERROR(VLOOKUP(後攻T!CF13,記号!$B$6:$C$10,2,FALSE),\"\")","v":""},{"$f":"IFERROR(VLOOKUP(後攻T!BZ15,記号!$B$6:$C$10,2,FALSE),\"\")","v":""},{"$f":"IFERROR(VLOOKUP(後攻T!CA15,記号!$B$6:$C$10,2,FALSE),\"\")","v":""},{"$f":"IFERROR(VLOOKUP(後攻T!CB15,記号!$B$6:$C$10,2,FALSE),\"\")","v":""},{"$f":"IFERROR(VLOOKUP(後攻T!CQ13,記号!$B$6:$C$10,2,FALSE),\"\")","v":"・◎"},{"$f":"IFERROR(VLOOKUP(後攻T!CR13,記号!$B$6:$C$10,2,FALSE),\"\")","v":""},{"$f":"IFERROR(VLOOKUP(後攻T!CL15,記号!$B$6:$C$10,2,FALSE),\"\")","v":""},{"$f":"IFERROR(VLOOKUP(後攻T!CM15,記号!$B$6:$C$10,2,FALSE),\"\")","v":""},{"$f":"IFERROR(VLOOKUP(後攻T!CN15,記号!$B$6:$C$10,2,FALSE),\"\")","v":""},{"$f":"IFERROR(VLOOKUP(後攻T!DC13,記号!$B$6:$C$10,2,FALSE),\"\")","v":""},{"$f":"IFERROR(VLOOKUP(後攻T!DD13,記号!$B$6:$C$10,2,FALSE),\"\")","v":""},{"$f":"IFERROR(VLOOKUP(後攻T!CX15,記号!$B$6:$C$10,2,FALSE),\"\")","v":""},{"$f":"IFERROR(VLOOKUP(後攻T!CY15,記号!$B$6:$C$10,2,FALSE),\"\")","v":""},{"$f":"IFERROR(VLOOKUP(後攻T!CZ15,記号!$B$6:$C$10,2,FALSE),\"\")","v":""},{"$f":"IFERROR(VLOOKUP(後攻T!DO13,記号!$B$6:$C$10,2,FALSE),\"\")","v":""},{"$f":"IFERROR(VLOOKUP(後攻T!DP13,記号!$B$6:$C$10,2,FALSE),\"\")","v":""},{"$f":"IFERROR(VLOOKUP(後攻T!DJ15,記号!$B$6:$C$10,2,FALSE),\"\")","v":""},{"$f":"IFERROR(VLOOKUP(後攻T!DK15,記号!$B$6:$C$10,2,FALSE),\"\")","v":""},{"$f":"IFERROR(VLOOKUP(後攻T!DL15,記号!$B$6:$C$10,2,FALSE),\"\")","v":""},{"$f":"IFERROR(VLOOKUP(後攻T!EA13,記号!$B$6:$C$10,2,FALSE),\"\")","v":""},{"$f":"IFERROR(VLOOKUP(後攻T!EB13,記号!$B$6:$C$10,2,FALSE),\"\")","v":""},{"$f":"IFERROR(VLOOKUP(後攻T!DV15,記号!$B$6:$C$10,2,FALSE),\"\")","v":""},{"$f":"IFERROR(VLOOKUP(後攻T!DW15,記号!$B$6:$C$10,2,FALSE),\"\")","v":""},{"$f":"IFERROR(VLOOKUP(後攻T!DX15,記号!$B$6:$C$10,2,FALSE),\"\")","v":""},{"$f":"IFERROR(VLOOKUP(後攻T!EM13,記号!$B$6:$C$10,2,FALSE),\"\")","v":""},{"$f":"IFERROR(VLOOKUP(後攻T!EN13,記号!$B$6:$C$10,2,FALSE),\"\")","v":""},{"$f":"IFERROR(VLOOKUP(後攻T!EH15,記号!$B$6:$C$10,2,FALSE),\"\")","v":""},{"$f":"IFERROR(VLOOKUP(後攻T!EI15,記号!$B$6:$C$10,2,FALSE),\"\")","v":""},{"$f":"IFERROR(VLOOKUP(後攻T!EJ15,記号!$B$6:$C$10,2,FALSE),\"\")","v":""},{"$f":"IF(K78=\"\",\"\",VLOOKUP(K78,$C$19:$E$24,3,FALSE))","v":"RR"},{"$f":"IF(L78=\"\",\"\",(BX78+CG78+CH78+CI78))","v":1},1,{"$f":"IF(L78=\"\",\"\",COUNTIFS($N$76:$BU$76,L78,$N$81:$BU$81,$BY$68))","v":0},{"$f":"IF(L78=\"\",\"\",COUNTIFS($N$76:$BU$76,L78,$N$81:$BU$81,$BZ$68))","v":1},{"$f":"IF(L78=\"\",\"\",COUNTIFS($N$76:$BU$76,L78,$N$79:$BU$79,$CA$68))","v":0},{"$f":"IF(L78=\"\",\"\",COUNTIFS($N$76:$BU$76,L78,$N$79:$BU$79,$CB$68))","v":0},{"$f":"IF(L78=\"\",\"\",COUNTIFS($N$76:$BU$76,L78,$N$81:$BU$81,$CC$68))","v":0},{"$f":"IF(L78=\"\",\"\",SUMIF($N$76:$BU$76,L78,$N$81:$BU$81))","v":0},{"$f":"IF(L78=\"\",\"\",COUNTIFS($N$76:$BU$76,L78,$N$80:$BU$80,$CE$68))","v":1},{"$f":"IF(L78=\"\",\"\",COUNTIFS($N$76:$BU$76,L78,$N$81:$BU$81,$CF$68))","v":0},{"$f":"IF(L78=\"\",\"\",COUNTIFS($N$76:$BU$76,L78,$N$81:$BU$81,$CG$68))","v":0},{"$f":"IF(L78=\"\",\"\",COUNTIFS($N$76:$BU$76,L78,$N$81:$BU$81,$CH$68))","v":0},{"$f":"IF(L78=\"\",\"\",COUNTIFS($N$76:$BU$76,L78,$N$81:$BU$81,$CI$68))","v":0},{"$f":"IF(L78=\"\",\"\",COUNTIFS($N$76:$BU$76,L78,$N$81:$BU$81,$CJ$68))","v":0},{"$f":"IF(L78=\"\",\"\",COUNTIFS($N$76:$BU$76,L78,$N$81:$BU$81,$CK$68)+COUNTIFS($N$76:$BU$76,L78,$N$79:$BU$79,$CK$68))","v":0},{"$f":"IF(L78=\"\",\"\",COUNTIFS($N$76:$BU$76,L78,$N$81:$BU$81,$CL$68)+COUNTIFS($N$76:$BU$76,L78,$N$79:$BU$79,$CL$68))","v":0},{"$f":"IF(L78=\"\",\"\",COUNTIFS($N$76:$BU$76,L78,$N$81:$BU$81,$CM$68))","v":0},{"$f":"IF(L78=\"\",\"\",COUNTIFS($N$76:$BU$76,L78,$N$81:$BU$81,$CN$68))","v":0},{"$f":"IF(L78=\"\",\"\",COUNTIFS($N$76:$BU$76,L78,$N$77:$BU$77,$CO$68)+COUNTIFS($N$76:$BU$76,L78,$N$78:$BU$78,$CO$68))","v":6},2,"中飛",null,null,null,null,"A",{"$f":"IF(DA78=\"\",\"\",VLOOKUP(DA78,$C$19:$F$24,3,FALSE))","v":"RR"},9,"中",{"$f":"IF(CY78=\"\",\"\",VLOOKUP(CY78,$C$5:$F$14,4,FALSE))","v":8},"先",null,null,null,"A","柿木　蓮",1,5,4,1,0,0,0,0,0,1,2,0,0,1,0,0,0,0,1,13,"決勝",null,{"$f":"IF(L78=\"\",\"\",L78)","v":9.1999999999999993},"青地　斗舞",{"$f":"IF(EC78=\"\",\"\",COUNTIFS($N$76:$BU$76,EC78,$N$81:$BU$81,\"RZ\"))","v":0},{"$f":"IF(EC78=\"\",\"\",COUNTIFS($N$76:$BU$76,EC78,$N$80:$BU$80,\"ZH\"))","v":0},null,"A","柿木　蓮",1,0,0,null,"A","根尾　昴",{"$f":"IF(F74=\"\",\"\",F74)","v":6},"RR",5,4,3,0,0,0,1,3,2,0,1,0,0,0,0,0,0,0,16,null,"A","柿木　蓮",1,2,0,0,0,1,0,0,0,0,"決勝",null,null,null,null,null,null,null,null,null,null,null,null,null,null,null,null,null,null,null,null,null,null,null,null,null,null,null,null,null,null,null,null,null,null,null,null,null,null,null,null,null,null,null,null,null,null,null,null,"青地　斗舞",9.1999999999999993,{"$f":"IF(HU78=\"\",\"\",COUNTIFS($N$76:$BU$76,HV78,$N$77:$BU$77,$HW$68)+COUNTIFS($N$76:$BU$76,HV78,$N$78:$BU$78,$HW$68))","v":6},{"$f":"IF(HU78=\"\",\"\",COUNTIFS($N$76:$BU$76,HV78,$N$77:$BU$77,$HX$68)+COUNTIFS($N$76:$BU$76,HV78,$N$78:$BU$78,$HX$68))","v":3},{"$f":"IF(HU78=\"\",\"\",COUNTIFS($N$76:$BU$76,HV78,$N$77:$BU$77,$HY$68)+COUNTIFS($N$76:$BU$76,HV78,$N$78:$BU$78,$HY$68))","v":2},{"$f":"IF(HU78=\"\",\"\",COUNTIFS($N$76:$BU$76,HV78,$N$77:$BU$77,$HZ$68)+COUNTIFS($N$76:$BU$76,HV78,$N$78:$BU$78,$HZ$68))","v":0},{"$f":"IF(HU78=\"\",\"\",COUNTIFS($N$76:$BU$76,HV78,$N$77:$BU$77,$IA$68)+COUNTIFS($N$76:$BU$76,HV78,$N$78:$BU$78,$IA$68))","v":0},{"$f":"IF(HU78=\"\",\"\",COUNTIFS($N$76:$BU$76,HV78,$N$77:$BU$77,$IB$68)+COUNTIFS($N$76:$BU$76,HV78,$N$78:$BU$78,$IB$68))","v":1}]
[null,null,null,null,{"$f":"IF(D79=\"\",\"\",VLOOKUP(D79,$D$94:$F$125,2,FALSE))","v":""},"",null,null,null,{"$f":"IF(L79=\"\",\"\",VLOOKUP(L79,$C$94:$D$123,2,FALSE))","v":""},null,null,null,{"$f":"IFERROR(VLOOKUP(後攻T!F18,記号!$I$27:$J$30,2,FALSE),\"\")","v":"G"},{"$f":"IFERROR(VLOOKUP(後攻T!H17,記号!$L$5:$M$21,2,FALSE),\"\")","v":"E"},{"$f":"IFERROR(VLOOKUP(後攻T!H19,記号!$F$27:$G$37,2,FALSE),\"\")","v":""},{"$f":"IFERROR(VLOOKUP(後攻T!G17,記号!$I$5:$J$23,2,FALSE),\"\")","v":""},null,{"$f":"IFERROR(VLOOKUP(後攻T!R18,記号!$I$27:$J$30,2,FALSE),\"\")","v":""},{"$f":"IFERROR(VLOOKUP(後攻T!T19,記号!$L$5:$M$21,2,FALSE),\"\")","v":""},{"$f":"IFERROR(VLOOKUP(後攻T!T19,記号!$F$27:$G$37,2,FALSE),\"\")","v":""},{"$f":"IFERROR(VLOOKUP(後攻T!S17,記号!$I$5:$J$23,2,FALSE),\"\")","v":""},null,{"$f":"IFERROR(VLOOKUP(後攻T!AD18,記号!$I$27:$J$30,2,FALSE),\"\")","v":"F"},{"$f":"IFERROR(VLOOKUP(後攻T!AF17,記号!$L$5:$M$21,2,FALSE),\"\")","v":""},{"$f":"IFERROR(VLOOKUP(後攻T!AF19,記号!$F$27:$G$37,2,FALSE),\"\")","v":""},{"$f":"IFERROR(VLOOKUP(後攻T!AE19,記号!$I$5:$J$23,2,FALSE),\"\")","v":""},null,{"$f":"IFERROR(VLOOKUP(後攻T!AP18,記号!$I$27:$J$30,2,FALSE),\"\")","v":"F"},{"$f":"IFERROR(VLOOKUP(後攻T!AR17,記号!$L$5:$M$21,2,FALSE),\"\")","v":""},{"$f":"IFERROR(VLOOKUP(後攻T!AR19,記号!$F$27:$G$37,2,FALSE),\"\")","v":""},{"$f":"IFERROR(VLOOKUP(後攻T!AQ17,記号!$I$5:$J$23,2,FALSE),\"\")","v":""},null,{"$f":"IFERROR(VLOOKUP(後攻T!BB18,記号!$I$27:$J$30,2,FALSE),\"\")","v":"F"},{"$f":"IFERROR(VLOOKUP(後攻T!BD17,記号!$L$5:$M$21,2,FALSE),\"\")","v":"④"},{"$f":"IFERROR(VLOOKUP(後攻T!BD19,記号!$F$27:$G$37,2,FALSE),\"\")","v":""},{"$f":"IFERROR(VLOOKUP(後攻T!BO14,記号!$I$5:$J$23,2,FALSE),\"\")","v":""},null,{"$f":"IFERROR(VLOOKUP(後攻T!BN18,記号!$I$27:$J$30,2,FALSE),\"\")","v":""},{"$f":"IFERROR(VLOOKUP(後攻T!BP17,記号!$L$5:$M$21,2,FALSE),\"\")","v":""},{"$f":"IFERROR(VLOOKUP(後攻T!BP19,記号!$F$27:$G$37,2,FALSE),\"\")","v":""},{"$f":"IFERROR(VLOOKUP(後攻T!BO17,記号!$I$5:$J$23,2,FALSE),\"\")","v":""},null,{"$f":"IFERROR(VLOOKUP(後攻T!BZ18,記号!$I$27:$J$30,2,FALSE),\"\")","v":""},{"$f":"IFERROR(VLOOKUP(後攻T!CB17,記号!$L$5:$M$21,2,FALSE),\"\")","v":""},{"$f":"IFERROR(VLOOKUP(後攻T!CB19,記号!$F$27:$G$37,2,FALSE),\"\")","v":""},{"$f":"IFERROR(VLOOKUP(後攻T!CA17,記号!$I$5:$J$23,2,FALSE),\"\")","v":""},null,{"$f":"IFERROR(VLOOKUP(後攻T!CL18,記号!$I$27:$J$30,2,FALSE),\"\")","v":"G"},{"$f":"IFERROR(VLOOKUP(後攻T!CN17,記号!$L$5:$M$21,2,FALSE),\"\")","v":"③"},{"$f":"IFERROR(VLOOKUP(後攻T!CN19,記号!$F$27:$G$37,2,FALSE),\"\")","v":""},{"$f":"IFERROR(VLOOKUP(後攻T!CM17,記号!$I$5:$J$23,2,FALSE),\"\")","v":""},null,{"$f":"IFERROR(VLOOKUP(後攻T!CX18,記号!$I$27:$J$30,2,FALSE),\"\")","v":""},{"$f":"IFERROR(VLOOKUP(後攻T!CZ17,記号!$L$5:$M$21,2,FALSE),\"\")","v":""},{"$f":"IFERROR(VLOOKUP(後攻T!CZ19,記号!$F$27:$G$37,2,FALSE),\"\")","v":""},{"$f":"IFERROR(VLOOKUP(後攻T!CY17,記号!$I$5:$J$23,2,FALSE),\"\")","v":""},null,{"$f":"IFERROR(VLOOKUP(後攻T!DJ18,記号!$I$27:$J$30,2,FALSE),\"\")","v":""},{"$f":"IFERROR(VLOOKUP(後攻T!DL17,記号!$L$5:$M$21,2,FALSE),\"\")","v":""},{"$f":"IFERROR(VLOOKUP(後攻T!DL19,記号!$F$27:$G$37,2,FALSE),\"\")","v":""},{"$f":"IFERROR(VLOOKUP(後攻T!DK17,記号!$I$5:$J$23,2,FALSE),\"\")","v":""},null,{"$f":"IFERROR(VLOOKUP(後攻T!DV18,記号!$I$27:$J$30,2,FALSE),\"\")","v":""},{"$f":"IFERROR(VLOOKUP(後攻T!DX17,記号!$L$5:$M$21,2,FALSE),\"\")","v":""},{"$f":"IFERROR(VLOOKUP(後攻T!DX19,記号!$F$27:$G$37,2,FALSE),\"\")","v":""},{"$f":"IFERROR(VLOOKUP(後攻T!DW17,記号!$I$5:$J$23,2,FALSE),\"\")","v":""},null,{"$f":"IFERROR(VLOOKUP(後攻T!EH18,記号!$I$27:$J$30,2,FALSE),\"\")","v":""},{"$f":"IFERROR(VLOOKUP(後攻T!EJ17,記号!$I$27:$J$30,2,FALSE),\"\")","v":""},{"$f":"IFERROR(VLOOKUP(後攻T!EJ19,記号!$I$27:$J$30,2,FALSE),\"\")","v":""},{"$f":"IFERROR(VLOOKUP(後攻T!EI17,記号!$I$27:$J$30,2,FALSE),\"\")","v":""},null,{"$f":"IF(K79=\"\",\"\",VLOOKUP(K79,$C$19:$E$24,3,FALSE))","v":""},{"$f":"IF(L79=\"\",\"\",(BX79+CG79+CH79+CI79))","v":""},"",{"$f":"IF(L79=\"\",\"\",COUNTIFS($N$76:$BU$76,L79,$N$81:$BU$81,$BY$68))","v":""},{"$f":"IF(L79=\"\",\"\",COUNTIFS($N$76:$BU$76,L79,$N$81:$BU$81,$BZ$68))","v":""},{"$f":"IF(L79=\"\",\"\",COUNTIFS($N$76:$BU$76,L79,$N$79:$BU$79,$CA$68))","v":""},{"$f":"IF(L79=\"\",\"\",COUNTIFS($N$76:$BU$76,L79,$N$79:$BU$79,$CB$68))","v":""},{"$f":"IF(L79=\"\",\"\",COUNTIFS($N$76:$BU$76,L79,$N$81:$BU$81,$CC$68))","v":""},{"$f":"IF(L79=\"\",\"\",SUMIF($N$76:$BU$76,L79,$N$81:$BU$81))","v":""},{"$f":"IF(L79=\"\",\"\",COUNTIFS($N$76:$BU$76,L79,$N$80:$BU$80,$CE$68))","v":""},{"$f":"IF(L79=\"\",\"\",COUNTIFS($N$76:$BU$76,L79,$N$81:$BU$81,$CF$68))","v":""},{"$f":"IF(L79=\"\",\"\",COUNTIFS($N$76:$BU$76,L79,$N$81:$BU$81,$CG$68))","v":""},{"$f":"IF(L79=\"\",\"\",COUNTIFS($N$76:$BU$76,L79,$N$81:$BU$81,$CH$68))","v":""},{"$f":"IF(L79=\"\",\"\",COUNTIFS($N$76:$BU$76,L79,$N$81:$BU$81,$CI$68))","v":""},{"$f":"IF(L79=\"\",\"\",COUNTIFS($N$76:$BU$76,L79,$N$81:$BU$81,$CJ$68))","v":""},{"$f":"IF(L79=\"\",\"\",COUNTIFS($N$76:$BU$76,L79,$N$81:$BU$81,$CK$68)+COUNTIFS($N$76:$BU$76,L79,$N$79:$BU$79,$CK$68))","v":""},{"$f":"IF(L79=\"\",\"\",COUNTIFS($N$76:$BU$76,L79,$N$81:$BU$81,$CL$68)+COUNTIFS($N$76:$BU$76,L79,$N$79:$BU$79,$CL$68))","v":""},{"$f":"IF(L79=\"\",\"\",COUNTIFS($N$76:$BU$76,L79,$N$81:$BU$81,$CM$68))","v":""},{"$f":"IF(L79=\"\",\"\",COUNTIFS($N$76:$BU$76,L79,$N$81:$BU$81,$CN$68))","v":""},{"$f":"IF(L79=\"\",\"\",COUNTIFS($N$76:$BU$76,L79,$N$77:$BU$77,$CO$68)+COUNTIFS($N$76:$BU$76,L79,$N$78:$BU$78,$CO$68))","v":""},null,"中飛",null,null,null,null,"A","RR",9,"中",8,"先",null,"交　　代","交　　代",null,null,null,null,null,null,null,null,null,null,null,null,null,null,null,null,null,null,null,null,null,null,null,null,{"$f":"IF(L79=\"\",\"\",L79)","v":""},"",{"$f":"IF(EC79=\"\",\"\",COUNTIFS($N$76:$BU$76,EC79,$N$81:$BU$81,\"RZ\"))","v":""},{"$f":"IF(EC79=\"\",\"\",COUNTIFS($N$76:$BU$76,EC79,$N$80:$BU$80,\"ZH\"))","v":""},null,null,null,null,null,null,null,"A","根尾　昴",{"$f":"IF(F74=\"\",\"\",F74)","v":6},"LL",0,0,0,0,0,0,0,0,0,0,0,0,0,0,0,0,0,0,0,null,null,null,null,null,null,null,null,null,null,null,null,null,null,null,null,null,null,null,null,null,null,null,null,null,null,null,null,null,null,null,null,null,null,null,null,null,null,null,null,null,null,null,null,null,null,null,null,null,null,null,null,null,null,null,null,null,null,null,null,null,null,"","","","","","","",""]
[null,null,null,null,null,null,null,null,null,{"$f":"IF(L80=\"\",\"\",VLOOKUP(L80,$C$94:$D$123,2,FALSE))","v":""},null,null,null,{"$f":"IF(N76=\"\",\"\",IF(N76=L77+0.2,\"2\",IF(N76=L77+0.3,\"3\",IF(N76=L77+0.4,\"4\",IF(N76=L77+0.5,\"5\",\"先\")))))","v":"先"},{"$f":"IFERROR(VLOOKUP(後攻T!I19,記号!$F$27:$G$37,2,FALSE),\"\")","v":""},{"$f":"IFERROR(VLOOKUP(後攻T!J17,記号!$R$5:$S$10,2,FALSE),\"\")","v":"○"},{"$f":"IFERROR(VLOOKUP(後攻T!G19,記号!$F$27:$G$37,2,FALSE),\"\")","v":""},{"$f":"IFERROR(VLOOKUP(後攻T!L17,記号!$U$12:$V$13,2,FALSE),\"\")","v":""},{"$f":"IF(S76=\"\",\"\",IF(S76=L77+0.2,\"2\",IF(S76=L77+0.3,\"3\",IF(S76=L77+0.4,\"4\",IF(S76=L77+0.5,\"5\",\"先\")))))","v":"先"},{"$f":"IFERROR(VLOOKUP(後攻T!U16,記号!$F$27:$G$37,2,FALSE),\"\")","v":""},{"$f":"IFERROR(VLOOKUP(後攻T!V17,記号!$R$5:$S$10,2,FALSE),\"\")","v":""},{"$f":"IFERROR(VLOOKUP(後攻T!S19,記号!$F$27:$G$37,2,FALSE),\"\")","v":""},{"$f":"IFERROR(VLOOKUP(後攻T!X17,記号!$U$12:$V$13,2,FALSE),\"\")","v":""},{"$f":"IF(X76=\"\",\"\",IF(X76=L77+0.2,\"2\",IF(X76=L77+0.3,\"3\",IF(X76=L77+0.4,\"4\",IF(X76=L77+0.5,\"5\",\"先\")))))","v":"先"},{"$f":"IFERROR(VLOOKUP(後攻T!AG19,記号!$F$27:$G$37,2,FALSE),\"\")","v":""},{"$f":"IFERROR(VLOOKUP(後攻T!AH17,記号!$R$5:$S$10,2,FALSE),\"\")","v":"Ⅰ"},{"$f":"IFERROR(VLOOKUP(後攻T!AE19,記号!$F$27:$G$37,2,FALSE),\"\")","v":""},{"$f":"IFERROR(VLOOKUP(後攻T!AJ17,記号!$U$12:$V$13,2,FALSE),\"\")","v":""},{"$f":"IF(AC76=\"\",\"\",IF(AC76=L77+0.2,\"2\",IF(AC76=L77+0.3,\"3\",IF(AC76=L77+0.4,\"4\",IF(AC76=L77+0.5,\"5\",\"先\")))))","v":"先"},{"$f":"IFERROR(VLOOKUP(後攻T!AS19,記号!$F$27:$G$37,2,FALSE),\"\")","v":""},{"$f":"IFERROR(VLOOKUP(後攻T!AT17,記号!$R$5:$S$10,2,FALSE),\"\")","v":"Ⅱ"},{"$f":"IFERROR(VLOOKUP(後攻T!AQ19,記号!$F$27:$G$37,2,FALSE),\"\")","v":""},{"$f":"IFERROR(VLOOKUP(後攻T!AV17,記号!$U$12:$V$13,2,FALSE),\"\")","v":""},{"$f":"IF(AH76=\"\",\"\",IF(AH76=L77+0.2,\"2\",IF(AH76=L77+0.3,\"3\",IF(AH76=L77+0.4,\"4\",IF(AH76=L77+0.5,\"5\",\"先\")))))","v":"先"},{"$f":"IFERROR(VLOOKUP(後攻T!BE19,記号!$F$27:$G$37,2,FALSE),\"\")","v":""},{"$f":"IFERROR(VLOOKUP(後攻T!BF17,記号!$R$5:$S$10,2,FALSE),\"\")","v":"L"},{"$f":"IFERROR(VLOOKUP(後攻T!BC19,記号!$F$27:$G$37,2,FALSE),\"\")","v":""},{"$f":"IFERROR(VLOOKUP(後攻T!BH17,記号!$U$12:$V$13,2,FALSE),\"\")","v":""},{"$f":"IF(AM76=\"\",\"\",IF(AM76=L77+0.2,\"2\",IF(AM76=L77+0.3,\"3\",IF(AM76=L77+0.4,\"4\",IF(AM76=L77+0.5,\"5\",\"先\")))))","v":"先"},{"$f":"IFERROR(VLOOKUP(後攻T!BQ19,記号!$F$27:$G$37,2,FALSE),\"\")","v":""},{"$f":"IFERROR(VLOOKUP(後攻T!BR17,記号!$R$5:$S$10,2,FALSE),\"\")","v":""},{"$f":"IFERROR(VLOOKUP(後攻T!BO19,記号!$F$27:$G$37,2,FALSE),\"\")","v":""},{"$f":"IFERROR(VLOOKUP(後攻T!BT17,記号!$U$12:$V$13,2,FALSE),\"\")","v":""},{"$f":"IF(AR76=\"\",\"\",IF(AR76=L77+0.2,\"2\",IF(AR76=L77+0.3,\"3\",IF(AR76=L77+0.4,\"4\",IF(AR76=L77+0.5,\"5\",\"先\")))))","v":"先"},{"$f":"IFERROR(VLOOKUP(後攻T!CC19,記号!$F$27:$G$37,2,FALSE),\"\")","v":""},{"$f":"IFERROR(VLOOKUP(後攻T!CD17,記号!$R$5:$S$10,2,FALSE),\"\")","v":""},{"$f":"IFERROR(VLOOKUP(後攻T!CA19,記号!$F$27:$G$37,2,FALSE),\"\")","v":""},{"$f":"IFERROR(VLOOKUP(後攻T!CF17,記号!$U$12:$V$13,2,FALSE),\"\")","v":""},{"$f":"IF(AW76=\"\",\"\",IF(AW76=L77+0.2,\"2\",IF(AW76=L77+0.3,\"3\",IF(AW76=L77+0.4,\"4\",IF(AW76=L77+0.5,\"5\",\"先\")))))","v":"2"},{"$f":"IFERROR(VLOOKUP(後攻T!CO19,記号!$F$27:$G$37,2,FALSE),\"\")","v":""},{"$f":"IFERROR(VLOOKUP(後攻T!CP17,記号!$R$5:$S$10,2,FALSE),\"\")","v":"○"},{"$f":"IFERROR(VLOOKUP(後攻T!CM19,記号!$F$27:$G$37,2,FALSE),\"\")","v":""},{"$f":"IFERROR(VLOOKUP(後攻T!CR17,記号!$U$12:$V$13,2,FALSE),\"\")","v":""},{"$f":"IF(BB76=\"\",\"\",IF(BB76=L77+0.2,\"2\",IF(BB76=L77+0.3,\"3\",IF(BB76=L77+0.4,\"4\",IF(BB76=L77+0.5,\"5\",\"先\")))))","v":"2"},{"$f":"IFERROR(VLOOKUP(後攻T!DA19,記号!$F$27:$G$37,2,FALSE),\"\")","v":""},{"$f":"IFERROR(VLOOKUP(後攻T!DB17,記号!$R$5:$S$10,2,FALSE),\"\")","v":""},{"$f":"IFERROR(VLOOKUP(後攻T!CY19,記号!$F$27:$G$37,2,FALSE),\"\")","v":""},{"$f":"IFERROR(VLOOKUP(後攻T!DD17,記号!$U$12:$V$13,2,FALSE),\"\")","v":""},{"$f":"IF(BG76=\"\",\"\",IF(BG76=L77+0.2,\"2\",IF(BG76=L77+0.3,\"3\",IF(BG76=L77+0.4,\"4\",IF(BG76=L77+0.5,\"5\",\"先\")))))","v":"2"},{"$f":"IFERROR(VLOOKUP(後攻T!DM19,記号!$F$27:$G$37,2,FALSE),\"\")","v":""},{"$f":"IFERROR(VLOOKUP(後攻T!DN17,記号!$R$5:$S$10,2,FALSE),\"\")","v":""},{"$f":"IFERROR(VLOOKUP(後攻T!DK19,記号!$F$27:$G$37,2,FALSE),\"\")","v":""},{"$f":"IFERROR(VLOOKUP(後攻T!DP17,記号!$U$12:$V$13,2,FALSE),\"\")","v":""},{"$f":"IF(BL76=\"\",\"\",IF(BL76=L77+0.2,\"2\",IF(BL76=L77+0.3,\"3\",IF(BL76=L77+0.4,\"4\",IF(BL76=L77+0.5,\"5\",\"先\")))))","v":"2"},{"$f":"IFERROR(VLOOKUP(後攻T!DY19,記号!$F$27:$G$37,2,FALSE),\"\")","v":""},{"$f":"IFERROR(VLOOKUP(後攻T!DZ17,記号!$R$5:$S$10,2,FALSE),\"\")","v":""},{"$f":"IFERROR(VLOOKUP(後攻T!DW19,記号!$F$27:$G$37,2,FALSE),\"\")","v":""},{"$f":"IFERROR(VLOOKUP(後攻T!EB17,記号!$U$12:$V$13,2,FALSE),\"\")","v":""},{"$f":"IF(BQ76=\"\",\"\",IF(BQ76=L77+0.2,\"2\",IF(BQ76=L77+0.3,\"3\",IF(BQ76=L77+0.4,\"4\",IF(BQ76=L77+0.5,\"5\",\"先\")))))","v":"2"},{"$f":"IFERROR(VLOOKUP(後攻T!EK19,記号!$F$27:$G$37,2,FALSE),\"\")","v":""},{"$f":"IFERROR(VLOOKUP(後攻T!EL17,記号!$R$5:$S$10,2,FALSE),\"\")","v":""},{"$f":"IFERROR(VLOOKUP(後攻T!EI19,記号!$F$27:$G$37,2,FALSE),\"\")","v":""},{"$f":"IFERROR(VLOOKUP(後攻T!EN17,記号!$U$12:$V$13,2,FALSE),\"\")","v":""},{"$f":"IF(K80=\"\",\"\",VLOOKUP(K80,$C$19:$E$24,3,FALSE))","v":""},{"$f":"IF(L80=\"\",\"\",(BX80+CG80+CH80+CI80))","v":""},"",{"$f":"IF(L80=\"\",\"\",COUNTIFS($N$76:$BU$76,L80,$N$81:$BU$81,$BY$68))","v":""},{"$f":"IF(L80=\"\",\"\",COUNTIFS($N$76:$BU$76,L80,$N$81:$BU$81,$BZ$68))","v":""},{"$f":"IF(L80=\"\",\"\",COUNTIFS($N$76:$BU$76,L80,$N$79:$BU$79,$CA$68))","v":""},{"$f":"IF(L80=\"\",\"\",COUNTIFS($N$76:$BU$76,L80,$N$79:$BU$79,$CB$68))","v":""},{"$f":"IF(L80=\"\",\"\",COUNTIFS($N$76:$BU$76,L80,$N$81:$BU$81,$CC$68))","v":""},{"$f":"IF(L80=\"\",\"\",SUMIF($N$76:$BU$76,L80,$N$81:$BU$81))","v":""},{"$f":"IF(L80=\"\",\"\",COUNTIFS($N$76:$BU$76,L80,$N$80:$BU$80,$CE$68))","v":""},{"$f":"IF(L80=\"\",\"\",COUNTIFS($N$76:$BU$76,L80,$N$81:$BU$81,$CF$68))","v":""},{"$f":"IF(L80=\"\",\"\",COUNTIFS($N$76:$BU$76,L80,$N$81:$BU$81,$CG$68))","v":""},{"$f":"IF(L80=\"\",\"\",COUNTIFS($N$76:$BU$76,L80,$N$81:$BU$81,$CH$68))","v":""},{"$f":"IF(L80=\"\",\"\",COUNTIFS($N$76:$BU$76,L80,$N$81:$BU$81,$CI$68))","v":""},{"$f":"IF(L80=\"\",\"\",COUNTIFS($N$76:$BU$76,L80,$N$81:$BU$81,$CJ$68))","v":""},{"$f":"IF(L80=\"\",\"\",COUNTIFS($N$76:$BU$76,L80,$N$81:$BU$81,$CK$68)+COUNTIFS($N$76:$BU$76,L80,$N$79:$BU$79,$CK$68))","v":""},{"$f":"IF(L80=\"\",\"\",COUNTIFS($N$76:$BU$76,L80,$N$81:$BU$81,$CL$68)+COUNTIFS($N$76:$BU$76,L80,$N$79:$BU$79,$CL$68))","v":""},{"$f":"IF(L80=\"\",\"\",COUNTIFS($N$76:$BU$76,L80,$N$81:$BU$81,$CM$68))","v":""},{"$f":"IF(L80=\"\",\"\",COUNTIFS($N$76:$BU$76,L80,$N$81:$BU$81,$CN$68))","v":""},{"$f":"IF(L80=\"\",\"\",COUNTIFS($N$76:$BU$76,L80,$N$77:$BU$77,$CO$68)+COUNTIFS($N$76:$BU$76,L80,$N$78:$BU$78,$CO$68))","v":""},null,"飛中安",null,null,null,null,"A","RR",9,"中",8,"先",null,null,null,"","",{"$f":"IF(G71=\"\",\"\",G71)","v":""},{"$f":"IF(DF80=\"\",\"\",SUMIFS($BW$71:$BW$123,$J$71:$J$123,DF80))","v":""},"","","","","","","","","","","","","","","","","","","",null,{"$f":"IF(L80=\"\",\"\",L80)","v":""},"",{"$f":"IF(EC80=\"\",\"\",COUNTIFS($N$76:$BU$76,EC80,$N$81:$BU$81,\"RZ\"))","v":""},{"$f":"IF(EC80=\"\",\"\",COUNTIFS($N$76:$BU$76,EC80,$N$80:$BU$80,\"ZH\"))","v":""},null,"","","","","",null,"A","石川　端貴",{"$f":"IF(F75=\"\",\"\",F75)","v":3},"RR",5,5,4,0,1,0,0,2,0,0,0,0,0,0,0,0,0,0,19,null,"","","","","","","","","","","","","",null,null,null,null,null,null,null,null,null,null,null,null,null,null,null,null,null,null,null,null,null,null,null,null,null,null,null,null,null,null,null,null,null,null,null,null,null,null,null,null,null,null,null,null,null,null,null,null,"","","","","","","",""]
[null,null,"投手欄",null,null,null,null,null,null,{"$f":"IF(L81=\"\",\"\",VLOOKUP(L81,$C$94:$D$123,2,FALSE))","v":""},null,null,null,{"$f":"IFERROR(VLOOKUP(後攻T!K17,記号!$R$15:$S$20,2,FALSE),\"\")","v":""},{"$f":"IFERROR(VLOOKUP(後攻T!I17,記号!$O$5:$P$21,2,FALSE),\"\")","v":"⑥"},{"$f":"IFERROR(VLOOKUP(後攻T!F19,記号!$F$27:$G$37,2,FALSE),\"\")","v":"9'"},{"$f":"IFERROR(VLOOKUP(後攻T!F17,記号!$F$5:$G$21,2,FALSE),\"\")","v":"H"},{"$f":"IFERROR(VLOOKUP(後攻T!L18,記号!$U$5:$V$6,2,FALSE),\"\")","v":""},{"$f":"IFERROR(VLOOKUP(後攻T!W17,記号!$R$15:$S$20,2,FALSE),\"\")","v":""},{"$f":"IFERROR(VLOOKUP(後攻T!U17,記号!$O$5:$P$21,2,FALSE),\"\")","v":""},{"$f":"IFERROR(VLOOKUP(後攻T!R19,記号!$F$27:$G$37,2,FALSE),\"\")","v":""},{"$f":"IFERROR(VLOOKUP(後攻T!R17,記号!$F$5:$G$21,2,FALSE),\"\")","v":""},{"$f":"IFERROR(VLOOKUP(後攻T!X18,記号!$U$5:$V$6,2,FALSE),\"\")","v":""},{"$f":"IFERROR(VLOOKUP(後攻T!AI17,記号!$R$15:$S$20,2,FALSE),\"\")","v":""},{"$f":"IFERROR(VLOOKUP(後攻T!AG17,記号!$O$5:$P$21,2,FALSE),\"\")","v":""},{"$f":"IFERROR(VLOOKUP(後攻T!AD19,記号!$F$27:$G$37,2,FALSE),\"\")","v":"8'"},{"$f":"IFERROR(VLOOKUP(後攻T!AD17,記号!$F$5:$G$21,2,FALSE),\"\")","v":"O"},{"$f":"IFERROR(VLOOKUP(後攻T!AJ18,記号!$U$5:$V$6,2,FALSE),\"\")","v":""},{"$f":"IFERROR(VLOOKUP(後攻T!AU17,記号!$R$15:$S$20,2,FALSE),\"\")","v":""},{"$f":"IFERROR(VLOOKUP(後攻T!AS17,記号!$O$5:$P$21,2,FALSE),\"\")","v":""},{"$f":"IFERROR(VLOOKUP(後攻T!AP19,記号!$F$27:$G$37,2,FALSE),\"\")","v":"7'"},{"$f":"IFERROR(VLOOKUP(後攻T!AP17,記号!$F$5:$G$21,2,FALSE),\"\")","v":"O"},{"$f":"IFERROR(VLOOKUP(後攻T!AV18,記号!$U$5:$V$6,2,FALSE),\"\")","v":""},{"$f":"IFERROR(VLOOKUP(後攻T!BG17,記号!$R$15:$S$20,2,FALSE),\"\")","v":""},{"$f":"IFERROR(VLOOKUP(後攻T!BE17,記号!$O$5:$P$21,2,FALSE),\"\")","v":""},{"$f":"IFERROR(VLOOKUP(後攻T!BB19,記号!$F$27:$G$37,2,FALSE),\"\")","v":"8'"},{"$f":"IFERROR(VLOOKUP(後攻T!BB17,記号!$F$5:$G$21,2,FALSE),\"\")","v":"H"},{"$f":"IFERROR(VLOOKUP(後攻T!BH18,記号!$U$5:$V$6,2,FALSE),\"\")","v":""},{"$f":"IFERROR(VLOOKUP(後攻T!BS17,記号!$R$15:$S$20,2,FALSE),\"\")","v":""},{"$f":"IFERROR(VLOOKUP(後攻T!BQ17,記号!$O$5:$P$21,2,FALSE),\"\")","v":""},{"$f":"IFERROR(VLOOKUP(後攻T!BN19,記号!$F$27:$G$37,2,FALSE),\"\")","v":""},{"$f":"IFERROR(VLOOKUP(後攻T!BN17,記号!$F$5:$G$21,2,FALSE),\"\")","v":""},{"$f":"IFERROR(VLOOKUP(後攻T!BT18,記号!$U$5:$V$6,2,FALSE),\"\")","v":""},{"$f":"IFERROR(VLOOKUP(後攻T!CE17,記号!$R$15:$S$20,2,FALSE),\"\")","v":""},{"$f":"IFERROR(VLOOKUP(後攻T!CC17,記号!$O$5:$P$21,2,FALSE),\"\")","v":""},{"$f":"IFERROR(VLOOKUP(後攻T!BZ19,記号!$F$27:$G$37,2,FALSE),\"\")","v":""},{"$f":"IFERROR(VLOOKUP(後攻T!BZ17,記号!$F$5:$G$21,2,FALSE),\"\")","v":""},{"$f":"IFERROR(VLOOKUP(後攻T!CF18,記号!$U$5:$V$6,2,FALSE),\"\")","v":""},{"$f":"IFERROR(VLOOKUP(後攻T!CQ17,記号!$R$15:$S$20,2,FALSE),\"\")","v":""},{"$f":"IFERROR(VLOOKUP(後攻T!CO17,記号!$O$5:$P$21,2,FALSE),\"\")","v":"⑤"},{"$f":"IFERROR(VLOOKUP(後攻T!CL19,記号!$F$27:$G$37,2,FALSE),\"\")","v":"9'"},{"$f":"IFERROR(VLOOKUP(後攻T!CL17,記号!$F$5:$G$21,2,FALSE),\"\")","v":"H"},{"$f":"IFERROR(VLOOKUP(後攻T!CR18,記号!$U$5:$V$6,2,FALSE),\"\")","v":""},{"$f":"IFERROR(VLOOKUP(後攻T!DC17,記号!$R$15:$S$20,2,FALSE),\"\")","v":""},{"$f":"IFERROR(VLOOKUP(後攻T!DA17,記号!$O$5:$P$21,2,FALSE),\"\")","v":""},{"$f":"IFERROR(VLOOKUP(後攻T!CX19,記号!$F$27:$G$37,2,FALSE),\"\")","v":""},{"$f":"IFERROR(VLOOKUP(後攻T!CX17,記号!$F$5:$G$21,2,FALSE),\"\")","v":""},{"$f":"IFERROR(VLOOKUP(後攻T!DD18,記号!$U$5:$V$6,2,FALSE),\"\")","v":""},{"$f":"IFERROR(VLOOKUP(後攻T!DO17,記号!$R$15:$S$20,2,FALSE),\"\")","v":""},{"$f":"IFERROR(VLOOKUP(後攻T!DM17,記号!$O$5:$P$21,2,FALSE),\"\")","v":""},{"$f":"IFERROR(VLOOKUP(後攻T!DJ19,記号!$F$27:$G$37,2,FALSE),\"\")","v":""},{"$f":"IFERROR(VLOOKUP(後攻T!DJ17,記号!$F$5:$G$21,2,FALSE),\"\")","v":""},{"$f":"IFERROR(VLOOKUP(後攻T!DP18,記号!$U$5:$V$6,2,FALSE),\"\")","v":""},{"$f":"IFERROR(VLOOKUP(後攻T!EA17,記号!$R$15:$S$20,2,FALSE),\"\")","v":""},{"$f":"IFERROR(VLOOKUP(後攻T!DY17,記号!$O$5:$P$21,2,FALSE),\"\")","v":""},{"$f":"IFERROR(VLOOKUP(後攻T!DV19,記号!$F$27:$G$37,2,FALSE),\"\")","v":""},{"$f":"IFERROR(VLOOKUP(後攻T!DV17,記号!$F$5:$G$21,2,FALSE),\"\")","v":""},{"$f":"IFERROR(VLOOKUP(後攻T!EB18,記号!$U$5:$V$6,2,FALSE),\"\")","v":""},{"$f":"IFERROR(VLOOKUP(後攻T!EM17,記号!$R$15:$S$20,2,FALSE),\"\")","v":""},{"$f":"IFERROR(VLOOKUP(後攻T!EK17,記号!$O$5:$P$21,2,FALSE),\"\")","v":""},{"$f":"IFERROR(VLOOKUP(後攻T!EH19,記号!$F$27:$G$37,2,FALSE),\"\")","v":""},{"$f":"IFERROR(VLOOKUP(後攻T!EH17,記号!$F$5:$G$21,2,FALSE),\"\")","v":""},{"$f":"IFERROR(VLOOKUP(後攻T!EN18,記号!$U$5:$V$6,2,FALSE),\"\")","v":""},{"$f":"IF(K81=\"\",\"\",VLOOKUP(K81,$C$19:$E$24,3,FALSE))","v":""},{"$f":"IF(L81=\"\",\"\",(BX81+CG81+CH81+CI81))","v":""},"",{"$f":"IF(L81=\"\",\"\",COUNTIFS($N$76:$BU$76,L81,$N$81:$BU$81,$BY$68))","v":""},{"$f":"IF(L81=\"\",\"\",COUNTIFS($N$76:$BU$76,L81,$N$81:$BU$81,$BZ$68))","v":""},{"$f":"IF(L81=\"\",\"\",COUNTIFS($N$76:$BU$76,L81,$N$79:$BU$79,$CA$68))","v":""},{"$f":"IF(L81=\"\",\"\",COUNTIFS($N$76:$BU$76,L81,$N$79:$BU$79,$CB$68))","v":""},{"$f":"IF(L81=\"\",\"\",COUNTIFS($N$76:$BU$76,L81,$N$81:$BU$81,$CC$68))","v":""},{"$f":"IF(L81=\"\",\"\",SUMIF($N$76:$BU$76,L81,$N$81:$BU$81))","v":""},{"$f":"IF(L81=\"\",\"\",COUNTIFS($N$76:$BU$76,L81,$N$80:$BU$80,$CE$68))","v":""},{"$f":"IF(L81=\"\",\"\",COUNTIFS($N$76:$BU$76,L81,$N$81:$BU$81,$CF$68))","v":""},{"$f":"IF(L81=\"\",\"\",COUNTIFS($N$76:$BU$76,L81,$N$81:$BU$81,$CG$68))","v":""},{"$f":"IF(L81=\"\",\"\",COUNTIFS($N$76:$BU$76,L81,$N$81:$BU$81,$CH$68))","v":""},{"$f":"IF(L81=\"\",\"\",COUNTIFS($N$76:$BU$76,L81,$N$81:$BU$81,$CI$68))","v":""},{"$f":"IF(L81=\"\",\"\",COUNTIFS($N$76:$BU$76,L81,$N$81:$BU$81,$CJ$68))","v":""},{"$f":"IF(L81=\"\",\"\",COUNTIFS($N$76:$BU$76,L81,$N$81:$BU$81,$CK$68)+COUNTIFS($N$76:$BU$76,L81,$N$79:$BU$79,$CK$68))","v":""},{"$f":"IF(L81=\"\",\"\",COUNTIFS($N$76:$BU$76,L81,$N$81:$BU$81,$CL$68)+COUNTIFS($N$76:$BU$76,L81,$N$79:$BU$79,$CL$68))","v":""},{"$f":"IF(L81=\"\",\"\",COUNTIFS($N$76:$BU$76,L81,$N$81:$BU$81,$CM$68))","v":""},{"$f":"IF(L81=\"\",\"\",COUNTIFS($N$76:$BU$76,L81,$N$81:$BU$81,$CN$68))","v":""},{"$f":"IF(L81=\"\",\"\",COUNTIFS($N$76:$BU$76,L81,$N$77:$BU$77,$CO$68)+COUNTIFS($N$76:$BU$76,L81,$N$78:$BU$78,$CO$68))","v":""},null,"ゴロ右安",null,null,null,null,"G","RR",9,"右",9,2,null,null,null,"","","","","","","","","","","","","","","","","","","","","","","",null,{"$f":"IF(L81=\"\",\"\",L81)","v":""},"",{"$f":"IF(EC81=\"\",\"\",COUNTIFS($N$76:$BU$76,EC81,$N$81:$BU$81,\"RZ\"))","v":""},{"$f":"IF(EC81=\"\",\"\",COUNTIFS($N$76:$BU$76,EC81,$N$80:$BU$80,\"ZH\"))","v":""},null,"","","","","",null,"A","石川　端貴",{"$f":"IF(F75=\"\",\"\",F75)","v":3},"LL",0,0,0,0,0,0,0,0,0,0,0,0,0,0,0,0,0,0,0,null,"","","","","","","","","","","","","",null,null,null,null,null,null,null,null,null,null,null,null,null,null,null,null,null,null,null,null,null,null,null,null,null,null,null,null,null,null,null,null,null,null,null,null,null,null,null,null,null,null,null,null,null,null,null,null,"","","","","","","",""]
[null,null,"順番","選手名","PS","背番",null,null,null,null,null,null,"打者背番号を入力➡",{"$f":"後攻T!E20","v":5},{"$f":"N82","v":5},{"$f":"N82","v":5},{"$f":"N82","v":5},{"$f":"N82","v":5},{"$f":"後攻T!Q20","v":5},{"$f":"S82","v":5},{"$f":"S82","v":5},{"$f":"S82","v":5},{"$f":"S82","v":5},{"$f":"後攻T!AC20","v":5},{"$f":"X82","v":5},{"$f":"X82","v":5},{"$f":"X82","v":5},{"$f":"X82","v":5},{"$f":"後攻T!AO20","v":5},{"$f":"AC82","v":5},{"$f":"AC82","v":5},{"$f":"AC82","v":5},{"$f":"AC82","v":5},{"$f":"後攻T!BA20","v":5},{"$f":"AH82","v":5},{"$f":"AH82","v":5},{"$f":"AH82","v":5},{"$f":"AH82","v":5},{"$f":"後攻T!BM20","v":5},{"$f":"AM82","v":5},{"$f":"AM82","v":5},{"$f":"AM82","v":5},{"$f":"AM82","v":5},{"$f":"後攻T!BY20","v":5},{"$f":"AR82","v":5},{"$f":"AR82","v":5},{"$f":"AR82","v":5},{"$f":"AR82","v":5},{"$f":"後攻T!$CK20","v":5.2},{"$f":"AW82","v":5.2},{"$f":"AW82","v":5.2},{"$f":"AW82","v":5.2},{"$f":"AW82","v":5.2},{"$f":"後攻T!CW20","v":5.2},{"$f":"BB82","v":5.2},{"$f":"BB82","v":5.2},{"$f":"BB82","v":5.2},{"$f":"BB82","v":5.2},{"$f":"後攻T!DI20","v":5.2},{"$f":"BG82","v":5.2},{"$f":"BG82","v":5.2},{"$f":"BG82","v":5.2},{"$f":"BG82","v":5.2},{"$f":"後攻T!DU20","v":5.2},{"$f":"BL82","v":5.2},{"$f":"BL82","v":5.2},{"$f":"BL82","v":5.2},{"$f":"BL82","v":5.2},{"$f":"後攻T!EG20","v":5.2},{"$f":"BQ82","v":5.2},{"$f":"BQ82","v":5.2},{"$f":"BQ82","v":5.2},{"$f":"BQ82","v":5.2},null,null,null,null,null,null,null,null,null,null,null,null,null,null,null,null,null,null,null,null,null,null,null,null,null,null,null,null,null,null,null,null,null,null,null,"","","","","","","","","","","","","","","","","","","","","","","",null,null,null,null,null,null,"","","","","",null,"A","山田　健太",{"$f":"IF(F76=\"\",\"\",F76)","v":4},"RR",5,5,2,2,0,0,0,0,2,0,0,0,0,0,0,0,0,1,18,null,"","","","","","","","","","","","","",null,null,null,null,null,null,null,null,null,null,null,null,null,null,null,null,null,null,null,null,null,null,null,null,null,null,null,null,null,null,null,null,null,null,null,null,null,null,null,null,null,null,null,null,null,null,null,null,null,""]
[null,null,null,null,null,null,null,null,{"$f":"IF(C72=\"\",\"\",C72)","v":"三"},{"$f":"IF(D72=\"\",\"\",D72)","v":"中川　卓也"},{"$f":"IF(J83=\"\",\"\",\"先\")","v":"先"},{"$f":"IF(J83=\"\",\"\",F72)","v":5},"③",{"$f":"IFERROR(VLOOKUP(後攻T!F22,記号!$B$6:$C$10,2,FALSE),\"\")","v":"・●"},{"$f":"IFERROR(VLOOKUP(後攻T!G22,記号!$B$6:$C$10,2,FALSE),\"\")","v":"・〇"},{"$f":"IFERROR(VLOOKUP(後攻T!H22,記号!$B$6:$C$10,2,FALSE),\"\")","v":"・△"},{"$f":"IFERROR(VLOOKUP(後攻T!I22,記号!$B$6:$C$10,2,FALSE),\"\")","v":"・△"},{"$f":"IFERROR(VLOOKUP(後攻T!J22,記号!$B$6:$C$10,2,FALSE),\"\")","v":"・△"},{"$f":"IFERROR(VLOOKUP(後攻T!R22,記号!$B$6:$C$10,2,FALSE),\"\")","v":""},{"$f":"IFERROR(VLOOKUP(後攻T!S22,記号!$B$6:$C$10,2,FALSE),\"\")","v":""},{"$f":"IFERROR(VLOOKUP(後攻T!T22,記号!$B$6:$C$10,2,FALSE),\"\")","v":""},{"$f":"IFERROR(VLOOKUP(後攻T!U22,記号!$B$6:$C$10,2,FALSE),\"\")","v":""},{"$f":"IFERROR(VLOOKUP(後攻T!V22,記号!$B$6:$C$10,2,FALSE),\"\")","v":""},{"$f":"IFERROR(VLOOKUP(後攻T!AD22,記号!$B$6:$C$10,2,FALSE),\"\")","v":"・●"},{"$f":"IFERROR(VLOOKUP(後攻T!AE22,記号!$B$6:$C$10,2,FALSE),\"\")","v":"・●"},{"$f":"IFERROR(VLOOKUP(後攻T!AF22,記号!$B$6:$C$10,2,FALSE),\"\")","v":"・〇"},{"$f":"IFERROR(VLOOKUP(後攻T!AG22,記号!$B$6:$C$10,2,FALSE),\"\")","v":"・〇"},{"$f":"IFERROR(VLOOKUP(後攻T!AH22,記号!$B$6:$C$10,2,FALSE),\"\")","v":"・△"},{"$f":"IFERROR(VLOOKUP(後攻T!AP22,記号!$B$6:$C$10,2,FALSE),\"\")","v":"・〇"},{"$f":"IFERROR(VLOOKUP(後攻T!AQ22,記号!$B$6:$C$10,2,FALSE),\"\")","v":"・△"},{"$f":"IFERROR(VLOOKUP(後攻T!AR22,記号!$B$6:$C$10,2,FALSE),\"\")","v":"・△"},{"$f":"IFERROR(VLOOKUP(後攻T!AS22,記号!$B$6:$C$10,2,FALSE),\"\")","v":"・△"},{"$f":"IFERROR(VLOOKUP(後攻T!AT22,記号!$B$6:$C$10,2,FALSE),\"\")","v":"・●"},{"$f":"IFERROR(VLOOKUP(後攻T!BB22,記号!$B$6:$C$10,2,FALSE),\"\")","v":"・◎"},{"$f":"IFERROR(VLOOKUP(後攻T!BC22,記号!$B$6:$C$10,2,FALSE),\"\")","v":""},{"$f":"IFERROR(VLOOKUP(後攻T!BD22,記号!$B$6:$C$10,2,FALSE),\"\")","v":""},{"$f":"IFERROR(VLOOKUP(後攻T!BE22,記号!$B$6:$C$10,2,FALSE),\"\")","v":""},{"$f":"IFERROR(VLOOKUP(後攻T!BF22,記号!$B$6:$C$10,2,FALSE),\"\")","v":""},{"$f":"IFERROR(VLOOKUP(後攻T!BN22,記号!$B$6:$C$10,2,FALSE),\"\")","v":""},{"$f":"IFERROR(VLOOKUP(後攻T!BO22,記号!$B$6:$C$10,2,FALSE),\"\")","v":""},{"$f":"IFERROR(VLOOKUP(後攻T!BP22,記号!$B$6:$C$10,2,FALSE),\"\")","v":""},{"$f":"IFERROR(VLOOKUP(後攻T!BQ22,記号!$B$6:$C$10,2,FALSE),\"\")","v":""},{"$f":"IFERROR(VLOOKUP(後攻T!BR22,記号!$B$6:$C$10,2,FALSE),\"\")","v":""},{"$f":"IFERROR(VLOOKUP(後攻T!BZ22,記号!$B$6:$C$10,2,FALSE),\"\")","v":""},{"$f":"IFERROR(VLOOKUP(後攻T!CA22,記号!$B$6:$C$10,2,FALSE),\"\")","v":""},{"$f":"IFERROR(VLOOKUP(後攻T!CB22,記号!$B$6:$C$10,2,FALSE),\"\")","v":""},{"$f":"IFERROR(VLOOKUP(後攻T!CC22,記号!$B$6:$C$10,2,FALSE),\"\")","v":""},{"$f":"IFERROR(VLOOKUP(後攻T!CD22,記号!$B$6:$C$10,2,FALSE),\"\")","v":""},{"$f":"IFERROR(VLOOKUP(後攻T!CL22,記号!$B$6:$C$10,2,FALSE),\"\")","v":"・●"},{"$f":"IFERROR(VLOOKUP(後攻T!CM22,記号!$B$6:$C$10,2,FALSE),\"\")","v":"・〇"},{"$f":"IFERROR(VLOOKUP(後攻T!CN22,記号!$B$6:$C$10,2,FALSE),\"\")","v":"・〇"},{"$f":"IFERROR(VLOOKUP(後攻T!CO22,記号!$B$6:$C$10,2,FALSE),\"\")","v":"・●"},{"$f":"IFERROR(VLOOKUP(後攻T!CP22,記号!$B$6:$C$10,2,FALSE),\"\")","v":"・◎"},{"$f":"IFERROR(VLOOKUP(後攻T!CX22,記号!$B$6:$C$10,2,FALSE),\"\")","v":""},{"$f":"IFERROR(VLOOKUP(後攻T!CY22,記号!$B$6:$C$10,2,FALSE),\"\")","v":""},{"$f":"IFERROR(VLOOKUP(後攻T!CZ22,記号!$B$6:$C$10,2,FALSE),\"\")","v":""},{"$f":"IFERROR(VLOOKUP(後攻T!DA22,記号!$B$6:$C$10,2,FALSE),\"\")","v":""},{"$f":"IFERROR(VLOOKUP(後攻T!DB22,記号!$B$6:$C$10,2,FALSE),\"\")","v":""},{"$f":"IFERROR(VLOOKUP(後攻T!DJ22,記号!$B$6:$C$10,2,FALSE),\"\")","v":""},{"$f":"IFERROR(VLOOKUP(後攻T!DK22,記号!$B$6:$C$10,2,FALSE),\"\")","v":""},{"$f":"IFERROR(VLOOKUP(後攻T!DL22,記号!$B$6:$C$10,2,FALSE),\"\")","v":""},{"$f":"IFERROR(VLOOKUP(後攻T!DM22,記号!$B$6:$C$10,2,FALSE),\"\")","v":""},{"$f":"IFERROR(VLOOKUP(後攻T!DN22,記号!$B$6:$C$10,2,FALSE),\"\")","v":""},{"$f":"IFERROR(VLOOKUP(後攻T!DV22,記号!$B$6:$C$10,2,FALSE),\"\")","v":""},{"$f":"IFERROR(VLOOKUP(後攻T!DW22,記号!$B$6:$C$10,2,FALSE),\"\")","v":""},{"$f":"IFERROR(VLOOKUP(後攻T!DX22,記号!$B$6:$C$10,2,FALSE),\"\")","v":""},{"$f":"IFERROR(VLOOKUP(後攻T!DY22,記号!$B$6:$C$10,2,FALSE),\"\")","v":""},{"$f":"IFERROR(VLOOKUP(後攻T!DZ22,記号!$B$6:$C$10,2,FALSE),\"\")","v":""},{"$f":"IFERROR(VLOOKUP(後攻T!EH22,記号!$B$6:$C$10,2,FALSE),\"\")","v":""},{"$f":"IFERROR(VLOOKUP(後攻T!EI22,記号!$B$6:$C$10,2,FALSE),\"\")","v":""},{"$f":"IFERROR(VLOOKUP(後攻T!EJ22,記号!$B$6:$C$10,2,FALSE),\"\")","v":""},{"$f":"IFERROR(VLOOKUP(後攻T!EK22,記号!$B$6:$C$10,2,FALSE),\"\")","v":""},{"$f":"IFERROR(VLOOKUP(後攻T!EL22,記号!$B$6:$C$10,2,FALSE),\"\")","v":""},{"$f":"IF(K83=\"\",\"\",VLOOKUP(K83,$C$19:$E$24,3,FALSE))","v":"RR"},{"$f":"IF(L83=\"\",\"\",(BX83+CG83+CH83+CI83))","v":4},4,{"$f":"IF(L83=\"\",\"\",COUNTIFS($N$82:$BU$82,L83,$N$87:$BU$87,$BY$68))","v":1},{"$f":"IF(L83=\"\",\"\",COUNTIFS($N$82:$BU$82,L83,$N$87:$BU$87,$BZ$68))","v":1},{"$f":"IF(L83=\"\",\"\",COUNTIFS($N$82:$BU$82,L83,$N$85:$BU$85,$CA$68))","v":0},{"$f":"IF(L83=\"\",\"\",COUNTIFS($N$82:$BU$82,L83,$N$85:$BU$85,$CB$68))","v":0},{"$f":"IF(L83=\"\",\"\",COUNTIFS($N$82:$BU$82,L83,$N$87:$BU$87,$CC$68))","v":0},{"$f":"IF(L83=\"\",\"\",SUMIF($N$82:$BU$82,L83,$N$87:$BU$87))","v":0},{"$f":"IF(L83=\"\",\"\",COUNTIFS($N$82:$BU$82,L83,$N$86:$BU$86,$CE$68))","v":0},{"$f":"IF(L83=\"\",\"\",COUNTIFS($N$82:$BU$82,L83,$N$87:$BU$87,$CF$68))","v":2},{"$f":"IF(L83=\"\",\"\",COUNTIFS($N$82:$BU$82,L83,$N$87:$BU$87,$CG$68))","v":0},{"$f":"IF(L83=\"\",\"\",COUNTIFS($N$82:$BU$82,L83,$N$87:$BU$87,$CH$68))","v":0},{"$f":"IF(L83=\"\",\"\",COUNTIFS($N$82:$BU$82,L83,$N$87:$BU$87,$CI$68))","v":0},{"$f":"IF(L83=\"\",\"\",COUNTIFS($N$82:$BU$82,L83,$N$87:$BU$87,$CJ$68))","v":0},{"$f":"IF(L83=\"\",\"\",COUNTIFS($N$82:$BU$82,L83,$N$87:$BU$87,$CK$68)+COUNTIFS($N$82:$BU$82,L83,$N$85:$BU$85,$CK$68))","v":0},{"$f":"IF(L83=\"\",\"\",COUNTIFS($N$82:$BU$82,L83,$N$87:$BU$87,$CL$68)+COUNTIFS($N$82:$BU$82,L83,$N$85:$BU$85,$CL$68))","v":0},{"$f":"IF(L83=\"\",\"\",COUNTIFS($N$82:$BU$82,L83,$N$87:$BU$87,$CM$68))","v":0},{"$f":"IF(L83=\"\",\"\",COUNTIFS($N$82:$BU$82,L83,$N$87:$BU$87,$CN$68))","v":0},{"$f":"IF(L83=\"\",\"\",COUNTIFS($N$82:$BU$82,L83,$N$83:$BU$83,$CO$68)+COUNTIFS($N$82:$BU$82,L83,$N$84:$BU$84,$CO$68))","v":21},"先","空三振",null,null,null,null,null,{"$f":"IF(DA83=\"\",\"\",VLOOKUP(DA83,$C$19:$F$24,3,FALSE))","v":"RR"},5,null,{"$f":"IF(CY83=\"\",\"\",VLOOKUP(CY83,$C$5:$F$14,4,FALSE))","v":""},"先",null,null,null,"","","","","","","","","","","","","","","","","","","","","","","",null,{"$f":"IF(L83=\"\",\"\",L83)","v":5},{"$f":"IF(EC83=\"\",\"\",VLOOKUP(EC83,$C$94:$D$123,2,FALSE))","v":"中川　卓也"},{"$f":"IF(EC83=\"\",\"\",COUNTIFS($N$82:$BU$82,EC83,$N$87:$BU$87,\"RZ\"))","v":1},{"$f":"IF(EC83=\"\",\"\",COUNTIFS($N$82:$BU$82,EC83,$N$86:$BU$86,\"ZH\"))","v":0},null,"","","","","",null,"A","山田　健太",{"$f":"IF(F76=\"\",\"\",F76)","v":4},"LL",0,0,0,0,0,0,0,0,0,0,0,0,0,0,0,0,0,0,0,null,"","","","","","","","","","","","","",null,null,null,null,null,null,null,null,null,null,null,null,null,null,null,null,null,null,null,null,null,null,null,null,null,null,null,null,null,null,null,null,null,null,null,null,null,null,null,null,null,null,null,null,null,null,null,null,"中川　卓也",5,{"$f":"IF(HU83=\"\",\"\",COUNTIFS($N$82:$BU$82,HV83,$N$83:$BU$83,$HW$68)+COUNTIFS($N$82:$BU$82,HV83,$N$84:$BU$84,$HW$68))","v":21},{"$f":"IF(HU83=\"\",\"\",COUNTIFS($N$82:$BU$82,HV83,$N$83:$BU$83,$HX$68)+COUNTIFS($N$82:$BU$82,HV83,$N$84:$BU$84,$HX$68))","v":4},{"$f":"IF(HU83=\"\",\"\",COUNTIFS($N$82:$BU$82,HV83,$N$83:$BU$83,$HY$68)+COUNTIFS($N$82:$BU$82,HV83,$N$84:$BU$84,$HY$68))","v":5},{"$f":"IF(HU83=\"\",\"\",COUNTIFS($N$82:$BU$82,HV83,$N$83:$BU$83,$HZ$68)+COUNTIFS($N$82:$BU$82,HV83,$N$84:$BU$84,$HZ$68))","v":9},{"$f":"IF(HU83=\"\",\"\",COUNTIFS($N$82:$BU$82,HV83,$N$83:$BU$83,$IA$68)+COUNTIFS($N$82:$BU$82,HV83,$N$84:$BU$84,$IA$68))","v":1},{"$f":"IF(HU83=\"\",\"\",COUNTIFS($N$82:$BU$82,HV83,$N$83:$BU$83,$IB$68)+COUNTIFS($N$82:$BU$82,HV83,$N$84:$BU$84,$IB$68))","v":2}]
[null,null,"先","柿木　蓮",{"$f":"IF(D84=\"\",\"\",VLOOKUP(D84,$D$94:$F$125,2,FALSE))","v":"RR"},{"$f":"IF(D84=\"\",\"\",VLOOKUP(D84,$D$94:$F$125,3,FALSE))","v":1},null,null,null,"中川　卓也",2,5.2,null,{"$f":"IFERROR(VLOOKUP(後攻T!K22,記号!$B$6:$C$10,2,FALSE),\"\")","v":"・□"},{"$f":"IFERROR(VLOOKUP(後攻T!L22,記号!$B$6:$C$10,2,FALSE),\"\")","v":""},{"$f":"IFERROR(VLOOKUP(後攻T!F24,記号!$B$6:$C$10,2,FALSE),\"\")","v":""},{"$f":"IFERROR(VLOOKUP(後攻T!G24,記号!$B$6:$C$10,2,FALSE),\"\")","v":""},{"$f":"IFERROR(VLOOKUP(後攻T!H24,記号!$B$6:$C$10,2,FALSE),\"\")","v":""},{"$f":"IFERROR(VLOOKUP(後攻T!W22,記号!$B$6:$C$10,2,FALSE),\"\")","v":""},{"$f":"IFERROR(VLOOKUP(後攻T!X22,記号!$B$6:$C$10,2,FALSE),\"\")","v":""},{"$f":"IFERROR(VLOOKUP(後攻T!R24,記号!$B$6:$C$10,2,FALSE),\"\")","v":""},{"$f":"IFERROR(VLOOKUP(後攻T!S24,記号!$B$6:$C$10,2,FALSE),\"\")","v":""},{"$f":"IFERROR(VLOOKUP(後攻T!T24,記号!$B$6:$C$10,2,FALSE),\"\")","v":""},{"$f":"IFERROR(VLOOKUP(後攻T!AI22,記号!$B$6:$C$10,2,FALSE),\"\")","v":"・△"},{"$f":"IFERROR(VLOOKUP(後攻T!AJ22,記号!$B$6:$C$10,2,FALSE),\"\")","v":"・△"},{"$f":"IFERROR(VLOOKUP(後攻T!AD24,記号!$B$6:$C$10,2,FALSE),\"\")","v":"・◎"},{"$f":"IFERROR(VLOOKUP(後攻T!AE24,記号!$B$6:$C$10,2,FALSE),\"\")","v":""},{"$f":"IFERROR(VLOOKUP(後攻T!AF24,記号!$B$6:$C$10,2,FALSE),\"\")","v":""},{"$f":"IFERROR(VLOOKUP(後攻T!AU22,記号!$B$6:$C$10,2,FALSE),\"\")","v":"・〇"},{"$f":"IFERROR(VLOOKUP(後攻T!AV22,記号!$B$6:$C$10,2,FALSE),\"\")","v":""},{"$f":"IFERROR(VLOOKUP(後攻T!AP24,記号!$B$6:$C$10,2,FALSE),\"\")","v":""},{"$f":"IFERROR(VLOOKUP(後攻T!AQ24,記号!$B$6:$C$10,2,FALSE),\"\")","v":""},{"$f":"IFERROR(VLOOKUP(後攻T!AR24,記号!$B$6:$C$10,2,FALSE),\"\")","v":""},{"$f":"IFERROR(VLOOKUP(後攻T!BG22,記号!$B$6:$C$10,2,FALSE),\"\")","v":""},{"$f":"IFERROR(VLOOKUP(後攻T!BH22,記号!$B$6:$C$10,2,FALSE),\"\")","v":""},{"$f":"IFERROR(VLOOKUP(後攻T!BB24,記号!$B$6:$C$10,2,FALSE),\"\")","v":""},{"$f":"IFERROR(VLOOKUP(後攻T!BC24,記号!$B$6:$C$10,2,FALSE),\"\")","v":""},{"$f":"IFERROR(VLOOKUP(後攻T!BD24,記号!$B$6:$C$10,2,FALSE),\"\")","v":""},{"$f":"IFERROR(VLOOKUP(後攻T!BS22,記号!$B$6:$C$10,2,FALSE),\"\")","v":""},{"$f":"IFERROR(VLOOKUP(後攻T!BT22,記号!$B$6:$C$10,2,FALSE),\"\")","v":""},{"$f":"IFERROR(VLOOKUP(後攻T!BN24,記号!$B$6:$C$10,2,FALSE),\"\")","v":""},{"$f":"IFERROR(VLOOKUP(後攻T!BO24,記号!$B$6:$C$10,2,FALSE),\"\")","v":""},{"$f":"IFERROR(VLOOKUP(後攻T!BP24,記号!$B$6:$C$10,2,FALSE),\"\")","v":""},{"$f":"IFERROR(VLOOKUP(後攻T!CE22,記号!$B$6:$C$10,2,FALSE),\"\")","v":""},{"$f":"IFERROR(VLOOKUP(後攻T!CF22,記号!$B$6:$C$10,2,FALSE),\"\")","v":""},{"$f":"IFERROR(VLOOKUP(後攻T!BZ24,記号!$B$6:$C$10,2,FALSE),\"\")","v":""},{"$f":"IFERROR(VLOOKUP(後攻T!CA24,記号!$B$6:$C$10,2,FALSE),\"\")","v":""},{"$f":"IFERROR(VLOOKUP(後攻T!CB24,記号!$B$6:$C$10,2,FALSE),\"\")","v":""},{"$f":"IFERROR(VLOOKUP(後攻T!CQ22,記号!$B$6:$C$10,2,FALSE),\"\")","v":""},{"$f":"IFERROR(VLOOKUP(後攻T!CR22,記号!$B$6:$C$10,2,FALSE),\"\")","v":""},{"$f":"IFERROR(VLOOKUP(後攻T!CL24,記号!$B$6:$C$10,2,FALSE),\"\")","v":""},{"$f":"IFERROR(VLOOKUP(後攻T!CM24,記号!$B$6:$C$10,2,FALSE),\"\")","v":""},{"$f":"IFERROR(VLOOKUP(後攻T!CN24,記号!$B$6:$C$10,2,FALSE),\"\")","v":""},{"$f":"IFERROR(VLOOKUP(後攻T!DC22,記号!$B$6:$C$10,2,FALSE),\"\")","v":""},{"$f":"IFERROR(VLOOKUP(後攻T!DD22,記号!$B$6:$C$10,2,FALSE),\"\")","v":""},{"$f":"IFERROR(VLOOKUP(後攻T!CX24,記号!$B$6:$C$10,2,FALSE),\"\")","v":""},{"$f":"IFERROR(VLOOKUP(後攻T!CY24,記号!$B$6:$C$10,2,FALSE),\"\")","v":""},{"$f":"IFERROR(VLOOKUP(後攻T!CZ24,記号!$B$6:$C$10,2,FALSE),\"\")","v":""},{"$f":"IFERROR(VLOOKUP(後攻T!DO22,記号!$B$6:$C$10,2,FALSE),\"\")","v":""},{"$f":"IFERROR(VLOOKUP(後攻T!DP22,記号!$B$6:$C$10,2,FALSE),\"\")","v":""},{"$f":"IFERROR(VLOOKUP(後攻T!DJ24,記号!$B$6:$C$10,2,FALSE),\"\")","v":""},{"$f":"IFERROR(VLOOKUP(後攻T!DK24,記号!$B$6:$C$10,2,FALSE),\"\")","v":""},{"$f":"IFERROR(VLOOKUP(後攻T!DL24,記号!$B$6:$C$10,2,FALSE),\"\")","v":""},{"$f":"IFERROR(VLOOKUP(後攻T!EA22,記号!$B$6:$C$10,2,FALSE),\"\")","v":""},{"$f":"IFERROR(VLOOKUP(後攻T!EB22,記号!$B$6:$C$10,2,FALSE),\"\")","v":""},{"$f":"IFERROR(VLOOKUP(後攻T!DV24,記号!$B$6:$C$10,2,FALSE),\"\")","v":""},{"$f":"IFERROR(VLOOKUP(後攻T!DW24,記号!$B$6:$C$10,2,FALSE),\"\")","v":""},{"$f":"IFERROR(VLOOKUP(後攻T!DX24,記号!$B$6:$C$10,2,FALSE),\"\")","v":""},{"$f":"IFERROR(VLOOKUP(後攻T!EM22,記号!$B$6:$C$10,2,FALSE),\"\")","v":""},{"$f":"IFERROR(VLOOKUP(後攻T!EN22,記号!$B$6:$C$10,2,FALSE),\"\")","v":""},{"$f":"IFERROR(VLOOKUP(後攻T!EH24,記号!$B$6:$C$10,2,FALSE),\"\")","v":""},{"$f":"IFERROR(VLOOKUP(後攻T!EI24,記号!$B$6:$C$10,2,FALSE),\"\")","v":""},{"$f":"IFERROR(VLOOKUP(後攻T!EJ24,記号!$B$6:$C$10,2,FALSE),\"\")","v":""},{"$f":"IF(K84=\"\",\"\",VLOOKUP(K84,$C$19:$E$24,3,FALSE))","v":"RR"},{"$f":"IF(L84=\"\",\"\",(BX84+CG84+CH84+CI84))","v":1},1,{"$f":"IF(L84=\"\",\"\",COUNTIFS($N$82:$BU$82,L84,$N$87:$BU$87,$BY$68))","v":0},{"$f":"IF(L84=\"\",\"\",COUNTIFS($N$82:$BU$82,L84,$N$87:$BU$87,$BZ$68))","v":0},{"$f":"IF(L84=\"\",\"\",COUNTIFS($N$82:$BU$82,L84,$N$85:$BU$85,$CA$68))","v":1},{"$f":"IF(L84=\"\",\"\",COUNTIFS($N$82:$BU$82,L84,$N$85:$BU$85,$CB$68))","v":0},{"$f":"IF(L84=\"\",\"\",COUNTIFS($N$82:$BU$82,L84,$N$87:$BU$87,$CC$68))","v":0},{"$f":"IF(L84=\"\",\"\",SUMIF($N$82:$BU$82,L84,$N$87:$BU$87))","v":0},{"$f":"IF(L84=\"\",\"\",COUNTIFS($N$82:$BU$82,L84,$N$86:$BU$86,$CE$68))","v":0},{"$f":"IF(L84=\"\",\"\",COUNTIFS($N$82:$BU$82,L84,$N$87:$BU$87,$CF$68))","v":0},{"$f":"IF(L84=\"\",\"\",COUNTIFS($N$82:$BU$82,L84,$N$87:$BU$87,$CG$68))","v":0},{"$f":"IF(L84=\"\",\"\",COUNTIFS($N$82:$BU$82,L84,$N$87:$BU$87,$CH$68))","v":0},{"$f":"IF(L84=\"\",\"\",COUNTIFS($N$82:$BU$82,L84,$N$87:$BU$87,$CI$68))","v":0},{"$f":"IF(L84=\"\",\"\",COUNTIFS($N$82:$BU$82,L84,$N$87:$BU$87,$CJ$68))","v":0},{"$f":"IF(L84=\"\",\"\",COUNTIFS($N$82:$BU$82,L84,$N$87:$BU$87,$CK$68)+COUNTIFS($N$82:$BU$82,L84,$N$85:$BU$85,$CK$68))","v":0},{"$f":"IF(L84=\"\",\"\",COUNTIFS($N$82:$BU$82,L84,$N$87:$BU$87,$CL$68)+COUNTIFS($N$82:$BU$82,L84,$N$85:$BU$85,$CL$68))","v":0},{"$f":"IF(L84=\"\",\"\",COUNTIFS($N$82:$BU$82,L84,$N$87:$BU$87,$CM$68))","v":0},{"$f":"IF(L84=\"\",\"\",COUNTIFS($N$82:$BU$82,L84,$N$87:$BU$87,$CN$68))","v":0},{"$f":"IF(L84=\"\",\"\",COUNTIFS($N$82:$BU$82,L84,$N$83:$BU$83,$CO$68)+COUNTIFS($N$82:$BU$82,L84,$N$84:$BU$84,$CO$68))","v":5},2,"遊内野安打",null,null,null,null,"G",{"$f":"IF(DA84=\"\",\"\",VLOOKUP(DA84,$C$19:$F$24,3,FALSE))","v":"RR"},5,"遊",{"$f":"IF(CY84=\"\",\"\",VLOOKUP(CY84,$C$5:$F$14,4,FALSE))","v":6},"先",null,null,null,"","","","","","","","","","","","","","","","","","","","","","","",null,{"$f":"IF(L84=\"\",\"\",L84)","v":5.2},"中川　卓也",{"$f":"IF(EC84=\"\",\"\",COUNTIFS($N$82:$BU$82,EC84,$N$87:$BU$87,\"RZ\"))","v":0},{"$f":"IF(EC84=\"\",\"\",COUNTIFS($N$82:$BU$82,EC84,$N$86:$BU$86,\"ZH\"))","v":0},null,"","","","","",null,"A","小泉　航平",{"$f":"IF(F77=\"\",\"\",F77)","v":2},"RR",5,3,1,1,0,0,0,1,2,1,2,0,0,0,0,0,0,0,27,null,"","","","","","","","","","","","","",null,null,null,null,null,null,null,null,null,null,null,null,null,null,null,null,null,null,null,null,null,null,null,null,null,null,null,null,null,null,null,null,null,null,null,null,null,null,null,null,null,null,null,null,null,null,null,null,"中川　卓也",5.2,{"$f":"IF(HU84=\"\",\"\",COUNTIFS($N$82:$BU$82,HV84,$N$83:$BU$83,$HW$68)+COUNTIFS($N$82:$BU$82,HV84,$N$84:$BU$84,$HW$68))","v":5},{"$f":"IF(HU84=\"\",\"\",COUNTIFS($N$82:$BU$82,HV84,$N$83:$BU$83,$HX$68)+COUNTIFS($N$82:$BU$82,HV84,$N$84:$BU$84,$HX$68))","v":2},{"$f":"IF(HU84=\"\",\"\",COUNTIFS($N$82:$BU$82,HV84,$N$83:$BU$83,$HY$68)+COUNTIFS($N$82:$BU$82,HV84,$N$84:$BU$84,$HY$68))","v":2},{"$f":"IF(HU84=\"\",\"\",COUNTIFS($N$82:$BU$82,HV84,$N$83:$BU$83,$HZ$68)+COUNTIFS($N$82:$BU$82,HV84,$N$84:$BU$84,$HZ$68))","v":0},{"$f":"IF(HU84=\"\",\"\",COUNTIFS($N$82:$BU$82,HV84,$N$83:$BU$83,$IA$68)+COUNTIFS($N$82:$BU$82,HV84,$N$84:$BU$84,$IA$68))","v":0},{"$f":"IF(HU84=\"\",\"\",COUNTIFS($N$82:$BU$82,HV84,$N$83:$BU$83,$IB$68)+COUNTIFS($N$82:$BU$82,HV84,$N$84:$BU$84,$IB$68))","v":1}]
[null,null,2,null,"","",null,null,null,{"$f":"IF(L85=\"\",\"\",VLOOKUP(L85,$C$94:$D$123,2,FALSE))","v":""},null,null,null,{"$f":"IFERROR(VLOOKUP(後攻T!F27,記号!$I$27:$J$30,2,FALSE),\"\")","v":""},{"$f":"IFERROR(VLOOKUP(後攻T!H26,記号!$L$5:$M$21,2,FALSE),\"\")","v":""},{"$f":"IFERROR(VLOOKUP(後攻T!H28,記号!$F$27:$G$37,2,FALSE),\"\")","v":""},{"$f":"IFERROR(VLOOKUP(後攻T!G26,記号!$I$5:$J$23,2,FALSE),\"\")","v":""},null,{"$f":"IFERROR(VLOOKUP(後攻T!R27,記号!$I$27:$J$30,2,FALSE),\"\")","v":""},{"$f":"IFERROR(VLOOKUP(後攻T!T28,記号!$L$5:$M$21,2,FALSE),\"\")","v":""},{"$f":"IFERROR(VLOOKUP(後攻T!T28,記号!$F$27:$G$37,2,FALSE),\"\")","v":""},{"$f":"IFERROR(VLOOKUP(後攻T!S26,記号!$I$5:$J$23,2,FALSE),\"\")","v":""},null,{"$f":"IFERROR(VLOOKUP(後攻T!AD27,記号!$I$27:$J$30,2,FALSE),\"\")","v":"G"},{"$f":"IFERROR(VLOOKUP(後攻T!AF26,記号!$L$5:$M$21,2,FALSE),\"\")","v":"④"},{"$f":"IFERROR(VLOOKUP(後攻T!AF28,記号!$F$27:$G$37,2,FALSE),\"\")","v":""},{"$f":"IFERROR(VLOOKUP(後攻T!AE26,記号!$I$5:$J$23,2,FALSE),\"\")","v":""},null,{"$f":"IFERROR(VLOOKUP(後攻T!AP27,記号!$I$27:$J$30,2,FALSE),\"\")","v":""},{"$f":"IFERROR(VLOOKUP(後攻T!AR26,記号!$L$5:$M$21,2,FALSE),\"\")","v":""},{"$f":"IFERROR(VLOOKUP(後攻T!AR28,記号!$F$27:$G$37,2,FALSE),\"\")","v":""},{"$f":"IFERROR(VLOOKUP(後攻T!AQ28,記号!$I$5:$J$23,2,FALSE),\"\")","v":""},null,{"$f":"IFERROR(VLOOKUP(後攻T!BB27,記号!$I$27:$J$30,2,FALSE),\"\")","v":"F"},{"$f":"IFERROR(VLOOKUP(後攻T!BD26,記号!$L$5:$M$21,2,FALSE),\"\")","v":""},{"$f":"IFERROR(VLOOKUP(後攻T!BD28,記号!$F$27:$G$37,2,FALSE),\"\")","v":""},{"$f":"IFERROR(VLOOKUP(後攻T!BO20,記号!$I$5:$J$23,2,FALSE),\"\")","v":""},null,{"$f":"IFERROR(VLOOKUP(後攻T!BN27,記号!$I$27:$J$30,2,FALSE),\"\")","v":""},{"$f":"IFERROR(VLOOKUP(後攻T!BP26,記号!$L$5:$M$21,2,FALSE),\"\")","v":""},{"$f":"IFERROR(VLOOKUP(後攻T!BP28,記号!$F$27:$G$37,2,FALSE),\"\")","v":""},{"$f":"IFERROR(VLOOKUP(後攻T!BO26,記号!$I$5:$J$23,2,FALSE),\"\")","v":""},null,{"$f":"IFERROR(VLOOKUP(後攻T!BZ27,記号!$I$27:$J$30,2,FALSE),\"\")","v":""},{"$f":"IFERROR(VLOOKUP(後攻T!CB26,記号!$L$5:$M$21,2,FALSE),\"\")","v":""},{"$f":"IFERROR(VLOOKUP(後攻T!CB28,記号!$F$27:$G$37,2,FALSE),\"\")","v":""},{"$f":"IFERROR(VLOOKUP(後攻T!CA26,記号!$I$5:$J$23,2,FALSE),\"\")","v":""},null,{"$f":"IFERROR(VLOOKUP(後攻T!CL27,記号!$I$27:$J$30,2,FALSE),\"\")","v":"F"},{"$f":"IFERROR(VLOOKUP(後攻T!CN26,記号!$L$5:$M$21,2,FALSE),\"\")","v":""},{"$f":"IFERROR(VLOOKUP(後攻T!CN28,記号!$F$27:$G$37,2,FALSE),\"\")","v":""},{"$f":"IFERROR(VLOOKUP(後攻T!CM26,記号!$I$5:$J$23,2,FALSE),\"\")","v":"H2"},null,{"$f":"IFERROR(VLOOKUP(後攻T!CX27,記号!$I$27:$J$30,2,FALSE),\"\")","v":""},{"$f":"IFERROR(VLOOKUP(後攻T!CZ26,記号!$L$5:$M$21,2,FALSE),\"\")","v":""},{"$f":"IFERROR(VLOOKUP(後攻T!CZ28,記号!$F$27:$G$37,2,FALSE),\"\")","v":""},{"$f":"IFERROR(VLOOKUP(後攻T!CY26,記号!$I$5:$J$23,2,FALSE),\"\")","v":""},null,{"$f":"IFERROR(VLOOKUP(後攻T!DJ27,記号!$I$27:$J$30,2,FALSE),\"\")","v":""},{"$f":"IFERROR(VLOOKUP(後攻T!DL26,記号!$L$5:$M$21,2,FALSE),\"\")","v":""},{"$f":"IFERROR(VLOOKUP(後攻T!DL28,記号!$F$27:$G$37,2,FALSE),\"\")","v":""},{"$f":"IFERROR(VLOOKUP(後攻T!DK26,記号!$I$5:$J$23,2,FALSE),\"\")","v":""},null,{"$f":"IFERROR(VLOOKUP(後攻T!DV27,記号!$I$27:$J$30,2,FALSE),\"\")","v":""},{"$f":"IFERROR(VLOOKUP(後攻T!DX26,記号!$L$5:$M$21,2,FALSE),\"\")","v":""},{"$f":"IFERROR(VLOOKUP(後攻T!DX28,記号!$F$27:$G$37,2,FALSE),\"\")","v":""},{"$f":"IFERROR(VLOOKUP(後攻T!DW26,記号!$I$5:$J$23,2,FALSE),\"\")","v":""},null,{"$f":"IFERROR(VLOOKUP(後攻T!EH27,記号!$I$27:$J$30,2,FALSE),\"\")","v":""},{"$f":"IFERROR(VLOOKUP(後攻T!EJ26,記号!$I$27:$J$30,2,FALSE),\"\")","v":""},{"$f":"IFERROR(VLOOKUP(後攻T!EJ28,記号!$I$27:$J$30,2,FALSE),\"\")","v":""},{"$f":"IFERROR(VLOOKUP(後攻T!EI26,記号!$I$27:$J$30,2,FALSE),\"\")","v":""},null,{"$f":"IF(K85=\"\",\"\",VLOOKUP(K85,$C$19:$E$24,3,FALSE))","v":""},{"$f":"IF(L85=\"\",\"\",(BX85+CG85+CH85+CI85))","v":""},"",{"$f":"IF(L85=\"\",\"\",COUNTIFS($N$82:$BU$82,L85,$N$87:$BU$87,$BY$68))","v":""},{"$f":"IF(L85=\"\",\"\",COUNTIFS($N$82:$BU$82,L85,$N$87:$BU$87,$BZ$68))","v":""},{"$f":"IF(L85=\"\",\"\",COUNTIFS($N$82:$BU$82,L85,$N$85:$BU$85,$CA$68))","v":""},{"$f":"IF(L85=\"\",\"\",COUNTIFS($N$82:$BU$82,L85,$N$85:$BU$85,$CB$68))","v":""},{"$f":"IF(L85=\"\",\"\",COUNTIFS($N$82:$BU$82,L85,$N$87:$BU$87,$CC$68))","v":""},{"$f":"IF(L85=\"\",\"\",SUMIF($N$82:$BU$82,L85,$N$87:$BU$87))","v":""},{"$f":"IF(L85=\"\",\"\",COUNTIFS($N$82:$BU$82,L85,$N$86:$BU$86,$CE$68))","v":""},{"$f":"IF(L85=\"\",\"\",COUNTIFS($N$82:$BU$82,L85,$N$87:$BU$87,$CF$68))","v":""},{"$f":"IF(L85=\"\",\"\",COUNTIFS($N$82:$BU$82,L85,$N$87:$BU$87,$CG$68))","v":""},{"$f":"IF(L85=\"\",\"\",COUNTIFS($N$82:$BU$82,L85,$N$87:$BU$87,$CH$68))","v":""},{"$f":"IF(L85=\"\",\"\",COUNTIFS($N$82:$BU$82,L85,$N$87:$BU$87,$CI$68))","v":""},{"$f":"IF(L85=\"\",\"\",COUNTIFS($N$82:$BU$82,L85,$N$87:$BU$87,$CJ$68))","v":""},{"$f":"IF(L85=\"\",\"\",COUNTIFS($N$82:$BU$82,L85,$N$87:$BU$87,$CK$68)+COUNTIFS($N$82:$BU$82,L85,$N$85:$BU$85,$CK$68))","v":""},{"$f":"IF(L85=\"\",\"\",COUNTIFS($N$82:$BU$82,L85,$N$87:$BU$87,$CL$68)+COUNTIFS($N$82:$BU$82,L85,$N$85:$BU$85,$CL$68))","v":""},{"$f":"IF(L85=\"\",\"\",COUNTIFS($N$82:$BU$82,L85,$N$87:$BU$87,$CM$68))","v":""},{"$f":"IF(L85=\"\",\"\",COUNTIFS($N$82:$BU$82,L85,$N$87:$BU$87,$CN$68))","v":""},{"$f":"IF(L85=\"\",\"\",COUNTIFS($N$82:$BU$82,L85,$N$83:$BU$83,$CO$68)+COUNTIFS($N$82:$BU$82,L85,$N$84:$BU$84,$CO$68))","v":""},null,"空三振",null,null,null,null,null,"RR",5,null,"","先",null,null,null,"","","","","","","","","","","","","","","","","","","","","","","",null,{"$f":"IF(L85=\"\",\"\",L85)","v":""},"",{"$f":"IF(EC85=\"\",\"\",COUNTIFS($N$82:$BU$82,EC85,$N$87:$BU$87,\"RZ\"))","v":""},{"$f":"IF(EC85=\"\",\"\",COUNTIFS($N$82:$BU$82,EC85,$N$86:$BU$86,\"ZH\"))","v":""},null,"","","","","",null,"A","小泉　航平",{"$f":"IF(F77=\"\",\"\",F77)","v":2},"LL",0,0,0,0,0,0,0,0,0,0,0,0,0,0,0,0,0,0,0,null,"","","","","","","","","","","","","",null,null,null,null,null,null,null,null,null,null,null,null,null,null,null,null,null,null,null,null,null,null,null,null,null,null,null,null,null,null,null,null,null,null,null,null,null,null,null,null,null,null,null,null,null,null,null,null,"","","","","","","",""]
[null,null,3,null,"","",null,null,null,{"$f":"IF(L86=\"\",\"\",VLOOKUP(L86,$C$94:$D$123,2,FALSE))","v":""},null,null,null,{"$f":"IF(N82=\"\",\"\",IF(N82=L83+0.2,\"2\",IF(N82=L83+0.3,\"3\",IF(N82=L83+0.4,\"4\",IF(N82=L83+0.5,\"5\",\"先\")))))","v":"先"},{"$f":"IFERROR(VLOOKUP(後攻T!I28,記号!$F$27:$G$37,2,FALSE),\"\")","v":""},{"$f":"IFERROR(VLOOKUP(後攻T!J26,記号!$R$5:$S$10,2,FALSE),\"\")","v":"Ⅰ"},{"$f":"IFERROR(VLOOKUP(後攻T!G28,記号!$F$27:$G$37,2,FALSE),\"\")","v":""},{"$f":"IFERROR(VLOOKUP(後攻T!L26,記号!$U$12:$V$13,2,FALSE),\"\")","v":""},{"$f":"IF(S82=\"\",\"\",IF(S82=L83+0.2,\"2\",IF(S82=L83+0.3,\"3\",IF(S82=L83+0.4,\"4\",IF(S82=L83+0.5,\"5\",\"先\")))))","v":"先"},{"$f":"IFERROR(VLOOKUP(後攻T!U22,記号!$F$27:$G$37,2,FALSE),\"\")","v":""},{"$f":"IFERROR(VLOOKUP(後攻T!V26,記号!$R$5:$S$10,2,FALSE),\"\")","v":""},{"$f":"IFERROR(VLOOKUP(後攻T!S28,記号!$F$27:$G$37,2,FALSE),\"\")","v":""},{"$f":"IFERROR(VLOOKUP(後攻T!X26,記号!$U$12:$V$13,2,FALSE),\"\")","v":""},{"$f":"IF(X82=\"\",\"\",IF(X82=L83+0.2,\"2\",IF(X82=L83+0.3,\"3\",IF(X82=L83+0.4,\"4\",IF(X82=L83+0.5,\"5\",\"先\")))))","v":"先"},{"$f":"IFERROR(VLOOKUP(後攻T!AG28,記号!$F$27:$G$37,2,FALSE),\"\")","v":""},{"$f":"IFERROR(VLOOKUP(後攻T!AH26,記号!$R$5:$S$10,2,FALSE),\"\")","v":"L"},{"$f":"IFERROR(VLOOKUP(後攻T!AE28,記号!$F$27:$G$37,2,FALSE),\"\")","v":""},{"$f":"IFERROR(VLOOKUP(後攻T!AJ26,記号!$U$12:$V$13,2,FALSE),\"\")","v":""},{"$f":"IF(AC82=\"\",\"\",IF(AC82=L83+0.2,\"2\",IF(AC82=L83+0.3,\"3\",IF(AC82=L83+0.4,\"4\",IF(AC82=L83+0.5,\"5\",\"先\")))))","v":"先"},{"$f":"IFERROR(VLOOKUP(後攻T!AS28,記号!$F$27:$G$37,2,FALSE),\"\")","v":""},{"$f":"IFERROR(VLOOKUP(後攻T!AT26,記号!$R$5:$S$10,2,FALSE),\"\")","v":"Ⅲ"},{"$f":"IFERROR(VLOOKUP(後攻T!AQ22,記号!$F$27:$G$37,2,FALSE),\"\")","v":""},{"$f":"IFERROR(VLOOKUP(後攻T!AV26,記号!$U$12:$V$13,2,FALSE),\"\")","v":""},{"$f":"IF(AH82=\"\",\"\",IF(AH82=L83+0.2,\"2\",IF(AH82=L83+0.3,\"3\",IF(AH82=L83+0.4,\"4\",IF(AH82=L83+0.5,\"5\",\"先\")))))","v":"先"},{"$f":"IFERROR(VLOOKUP(後攻T!BE28,記号!$F$27:$G$37,2,FALSE),\"\")","v":""},{"$f":"IFERROR(VLOOKUP(後攻T!BF26,記号!$R$5:$S$10,2,FALSE),\"\")","v":"Ⅱ"},{"$f":"IFERROR(VLOOKUP(後攻T!BC28,記号!$F$27:$G$37,2,FALSE),\"\")","v":""},{"$f":"IFERROR(VLOOKUP(後攻T!BH26,記号!$U$12:$V$13,2,FALSE),\"\")","v":""},{"$f":"IF(AM82=\"\",\"\",IF(AM82=L83+0.2,\"2\",IF(AM82=L83+0.3,\"3\",IF(AM82=L83+0.4,\"4\",IF(AM82=L83+0.5,\"5\",\"先\")))))","v":"先"},{"$f":"IFERROR(VLOOKUP(後攻T!BQ28,記号!$F$27:$G$37,2,FALSE),\"\")","v":""},{"$f":"IFERROR(VLOOKUP(後攻T!BR26,記号!$R$5:$S$10,2,FALSE),\"\")","v":""},{"$f":"IFERROR(VLOOKUP(後攻T!BO28,記号!$F$27:$G$37,2,FALSE),\"\")","v":""},{"$f":"IFERROR(VLOOKUP(後攻T!BT26,記号!$U$12:$V$13,2,FALSE),\"\")","v":""},{"$f":"IF(AR82=\"\",\"\",IF(AR82=L83+0.2,\"2\",IF(AR82=L83+0.3,\"3\",IF(AR82=L83+0.4,\"4\",IF(AR82=L83+0.5,\"5\",\"先\")))))","v":"先"},{"$f":"IFERROR(VLOOKUP(後攻T!CC28,記号!$F$27:$G$37,2,FALSE),\"\")","v":""},{"$f":"IFERROR(VLOOKUP(後攻T!CD26,記号!$R$5:$S$10,2,FALSE),\"\")","v":""},{"$f":"IFERROR(VLOOKUP(後攻T!CA28,記号!$F$27:$G$37,2,FALSE),\"\")","v":""},{"$f":"IFERROR(VLOOKUP(後攻T!CF26,記号!$U$12:$V$13,2,FALSE),\"\")","v":""},{"$f":"IF(AW82=\"\",\"\",IF(AW82=L83+0.2,\"2\",IF(AW82=L83+0.3,\"3\",IF(AW82=L83+0.4,\"4\",IF(AW82=L83+0.5,\"5\",\"先\")))))","v":"2"},{"$f":"IFERROR(VLOOKUP(後攻T!CO28,記号!$F$27:$G$37,2,FALSE),\"\")","v":""},{"$f":"IFERROR(VLOOKUP(後攻T!CP26,記号!$R$5:$S$10,2,FALSE),\"\")","v":"L"},{"$f":"IFERROR(VLOOKUP(後攻T!CM28,記号!$F$27:$G$37,2,FALSE),\"\")","v":""},{"$f":"IFERROR(VLOOKUP(後攻T!CR26,記号!$U$12:$V$13,2,FALSE),\"\")","v":""},{"$f":"IF(BB82=\"\",\"\",IF(BB82=L83+0.2,\"2\",IF(BB82=L83+0.3,\"3\",IF(BB82=L83+0.4,\"4\",IF(BB82=L83+0.5,\"5\",\"先\")))))","v":"2"},{"$f":"IFERROR(VLOOKUP(後攻T!DA28,記号!$F$27:$G$37,2,FALSE),\"\")","v":""},{"$f":"IFERROR(VLOOKUP(後攻T!DB26,記号!$R$5:$S$10,2,FALSE),\"\")","v":""},{"$f":"IFERROR(VLOOKUP(後攻T!CY28,記号!$F$27:$G$37,2,FALSE),\"\")","v":""},{"$f":"IFERROR(VLOOKUP(後攻T!DD26,記号!$U$12:$V$13,2,FALSE),\"\")","v":""},{"$f":"IF(BG82=\"\",\"\",IF(BG82=L83+0.2,\"2\",IF(BG82=L83+0.3,\"3\",IF(BG82=L83+0.4,\"4\",IF(BG82=L83+0.5,\"5\",\"先\")))))","v":"2"},{"$f":"IFERROR(VLOOKUP(後攻T!DM28,記号!$F$27:$G$37,2,FALSE),\"\")","v":""},{"$f":"IFERROR(VLOOKUP(後攻T!DN26,記号!$R$5:$S$10,2,FALSE),\"\")","v":""},{"$f":"IFERROR(VLOOKUP(後攻T!DK28,記号!$F$27:$G$37,2,FALSE),\"\")","v":""},{"$f":"IFERROR(VLOOKUP(後攻T!DP26,記号!$U$12:$V$13,2,FALSE),\"\")","v":""},{"$f":"IF(BL82=\"\",\"\",IF(BL82=L83+0.2,\"2\",IF(BL82=L83+0.3,\"3\",IF(BL82=L83+0.4,\"4\",IF(BL82=L83+0.5,\"5\",\"先\")))))","v":"2"},{"$f":"IFERROR(VLOOKUP(後攻T!DY28,記号!$F$27:$G$37,2,FALSE),\"\")","v":""},{"$f":"IFERROR(VLOOKUP(後攻T!DZ26,記号!$R$5:$S$10,2,FALSE),\"\")","v":""},{"$f":"IFERROR(VLOOKUP(後攻T!DW28,記号!$F$27:$G$37,2,FALSE),\"\")","v":""},{"$f":"IFERROR(VLOOKUP(後攻T!EB26,記号!$U$12:$V$13,2,FALSE),\"\")","v":""},{"$f":"IF(BQ82=\"\",\"\",IF(BQ82=L83+0.2,\"2\",IF(BQ82=L83+0.3,\"3\",IF(BQ82=L83+0.4,\"4\",IF(BQ82=L83+0.5,\"5\",\"先\")))))","v":"2"},{"$f":"IFERROR(VLOOKUP(後攻T!EK28,記号!$F$27:$G$37,2,FALSE),\"\")","v":""},{"$f":"IFERROR(VLOOKUP(後攻T!EL26,記号!$R$5:$S$10,2,FALSE),\"\")","v":""},{"$f":"IFERROR(VLOOKUP(後攻T!EI28,記号!$F$27:$G$37,2,FALSE),\"\")","v":""},{"$f":"IFERROR(VLOOKUP(後攻T!EN26,記号!$U$12:$V$13,2,FALSE),\"\")","v":""},{"$f":"IF(K86=\"\",\"\",VLOOKUP(K86,$C$19:$E$24,3,FALSE))","v":""},{"$f":"IF(L86=\"\",\"\",(BX86+CG86+CH86+CI86))","v":""},"",{"$f":"IF(L86=\"\",\"\",COUNTIFS($N$82:$BU$82,L86,$N$87:$BU$87,$BY$68))","v":""},{"$f":"IF(L86=\"\",\"\",COUNTIFS($N$82:$BU$82,L86,$N$87:$BU$87,$BZ$68))","v":""},{"$f":"IF(L86=\"\",\"\",COUNTIFS($N$82:$BU$82,L86,$N$85:$BU$85,$CA$68))","v":""},{"$f":"IF(L86=\"\",\"\",COUNTIFS($N$82:$BU$82,L86,$N$85:$BU$85,$CB$68))","v":""},{"$f":"IF(L86=\"\",\"\",COUNTIFS($N$82:$BU$82,L86,$N$87:$BU$87,$CC$68))","v":""},{"$f":"IF(L86=\"\",\"\",SUMIF($N$82:$BU$82,L86,$N$87:$BU$87))","v":""},{"$f":"IF(L86=\"\",\"\",COUNTIFS($N$82:$BU$82,L86,$N$86:$BU$86,$CE$68))","v":""},{"$f":"IF(L86=\"\",\"\",COUNTIFS($N$82:$BU$82,L86,$N$87:$BU$87,$CF$68))","v":""},{"$f":"IF(L86=\"\",\"\",COUNTIFS($N$82:$BU$82,L86,$N$87:$BU$87,$CG$68))","v":""},{"$f":"IF(L86=\"\",\"\",COUNTIFS($N$82:$BU$82,L86,$N$87:$BU$87,$CH$68))","v":""},{"$f":"IF(L86=\"\",\"\",COUNTIFS($N$82:$BU$82,L86,$N$87:$BU$87,$CI$68))","v":""},{"$f":"IF(L86=\"\",\"\",COUNTIFS($N$82:$BU$82,L86,$N$87:$BU$87,$CJ$68))","v":""},{"$f":"IF(L86=\"\",\"\",COUNTIFS($N$82:$BU$82,L86,$N$87:$BU$87,$CK$68)+COUNTIFS($N$82:$BU$82,L86,$N$85:$BU$85,$CK$68))","v":""},{"$f":"IF(L86=\"\",\"\",COUNTIFS($N$82:$BU$82,L86,$N$87:$BU$87,$CL$68)+COUNTIFS($N$82:$BU$82,L86,$N$85:$BU$85,$CL$68))","v":""},{"$f":"IF(L86=\"\",\"\",COUNTIFS($N$82:$BU$82,L86,$N$87:$BU$87,$CM$68))","v":""},{"$f":"IF(L86=\"\",\"\",COUNTIFS($N$82:$BU$82,L86,$N$87:$BU$87,$CN$68))","v":""},{"$f":"IF(L86=\"\",\"\",COUNTIFS($N$82:$BU$82,L86,$N$83:$BU$83,$CO$68)+COUNTIFS($N$82:$BU$82,L86,$N$84:$BU$84,$CO$68))","v":""},null,"左飛",null,null,null,null,"A","RR",5,"左",7,"先",null,null,null,"","","","","","","","","","","","","","","","","","","","","","","",null,{"$f":"IF(L86=\"\",\"\",L86)","v":""},"",{"$f":"IF(EC86=\"\",\"\",COUNTIFS($N$82:$BU$82,EC86,$N$87:$BU$87,\"RZ\"))","v":""},{"$f":"IF(EC86=\"\",\"\",COUNTIFS($N$82:$BU$82,EC86,$N$86:$BU$86,\"ZH\"))","v":""},null,"","","","","",null,"A","柿木　蓮",{"$f":"IF(F78=\"\",\"\",F78)","v":1},"RR",5,4,1,0,0,0,0,0,1,2,0,0,1,0,0,0,0,1,13,null,"","","","","","","","","","","","","",null,null,null,null,null,null,null,null,null,null,null,null,null,null,null,null,null,null,null,null,null,null,null,null,null,null,null,null,null,null,null,null,null,null,null,null,null,null,null,null,null,null,null,null,null,null,null,null,"","","","","","","",""]
[null,null,4,null,"","",null,null,null,{"$f":"IF(L87=\"\",\"\",VLOOKUP(L87,$C$94:$D$123,2,FALSE))","v":""},null,null,null,{"$f":"IFERROR(VLOOKUP(後攻T!K26,記号!$R$15:$S$20,2,FALSE),\"\")","v":""},{"$f":"IFERROR(VLOOKUP(後攻T!I26,記号!$O$5:$P$21,2,FALSE),\"\")","v":""},{"$f":"IFERROR(VLOOKUP(後攻T!F28,記号!$F$27:$G$37,2,FALSE),\"\")","v":""},{"$f":"IFERROR(VLOOKUP(後攻T!F26,記号!$F$5:$G$21,2,FALSE),\"\")","v":"K'"},{"$f":"IFERROR(VLOOKUP(後攻T!L27,記号!$U$5:$V$6,2,FALSE),\"\")","v":"RZ"},{"$f":"IFERROR(VLOOKUP(後攻T!W26,記号!$R$15:$S$20,2,FALSE),\"\")","v":""},{"$f":"IFERROR(VLOOKUP(後攻T!U26,記号!$O$5:$P$21,2,FALSE),\"\")","v":""},{"$f":"IFERROR(VLOOKUP(後攻T!R28,記号!$F$27:$G$37,2,FALSE),\"\")","v":""},{"$f":"IFERROR(VLOOKUP(後攻T!R26,記号!$F$5:$G$21,2,FALSE),\"\")","v":""},{"$f":"IFERROR(VLOOKUP(後攻T!X27,記号!$U$5:$V$6,2,FALSE),\"\")","v":""},{"$f":"IFERROR(VLOOKUP(後攻T!AI26,記号!$R$15:$S$20,2,FALSE),\"\")","v":""},{"$f":"IFERROR(VLOOKUP(後攻T!AG26,記号!$O$5:$P$21,2,FALSE),\"\")","v":""},{"$f":"IFERROR(VLOOKUP(後攻T!AD28,記号!$F$27:$G$37,2,FALSE),\"\")","v":"6'"},{"$f":"IFERROR(VLOOKUP(後攻T!AD26,記号!$F$5:$G$21,2,FALSE),\"\")","v":"H"},{"$f":"IFERROR(VLOOKUP(後攻T!AJ27,記号!$U$5:$V$6,2,FALSE),\"\")","v":""},{"$f":"IFERROR(VLOOKUP(後攻T!AU26,記号!$R$15:$S$20,2,FALSE),\"\")","v":""},{"$f":"IFERROR(VLOOKUP(後攻T!AS26,記号!$O$5:$P$21,2,FALSE),\"\")","v":""},{"$f":"IFERROR(VLOOKUP(後攻T!AP28,記号!$F$27:$G$37,2,FALSE),\"\")","v":""},{"$f":"IFERROR(VLOOKUP(後攻T!AP26,記号!$F$5:$G$21,2,FALSE),\"\")","v":"K"},{"$f":"IFERROR(VLOOKUP(後攻T!AV27,記号!$U$5:$V$6,2,FALSE),\"\")","v":""},{"$f":"IFERROR(VLOOKUP(後攻T!BG26,記号!$R$15:$S$20,2,FALSE),\"\")","v":""},{"$f":"IFERROR(VLOOKUP(後攻T!BE26,記号!$O$5:$P$21,2,FALSE),\"\")","v":""},{"$f":"IFERROR(VLOOKUP(後攻T!BB28,記号!$F$27:$G$37,2,FALSE),\"\")","v":"7'"},{"$f":"IFERROR(VLOOKUP(後攻T!BB26,記号!$F$5:$G$21,2,FALSE),\"\")","v":"O"},{"$f":"IFERROR(VLOOKUP(後攻T!BH27,記号!$U$5:$V$6,2,FALSE),\"\")","v":""},{"$f":"IFERROR(VLOOKUP(後攻T!BS26,記号!$R$15:$S$20,2,FALSE),\"\")","v":""},{"$f":"IFERROR(VLOOKUP(後攻T!BQ26,記号!$O$5:$P$21,2,FALSE),\"\")","v":""},{"$f":"IFERROR(VLOOKUP(後攻T!BN28,記号!$F$27:$G$37,2,FALSE),\"\")","v":""},{"$f":"IFERROR(VLOOKUP(後攻T!BN26,記号!$F$5:$G$21,2,FALSE),\"\")","v":""},{"$f":"IFERROR(VLOOKUP(後攻T!BT27,記号!$U$5:$V$6,2,FALSE),\"\")","v":""},{"$f":"IFERROR(VLOOKUP(後攻T!CE26,記号!$R$15:$S$20,2,FALSE),\"\")","v":""},{"$f":"IFERROR(VLOOKUP(後攻T!CC26,記号!$O$5:$P$21,2,FALSE),\"\")","v":""},{"$f":"IFERROR(VLOOKUP(後攻T!BZ28,記号!$F$27:$G$37,2,FALSE),\"\")","v":""},{"$f":"IFERROR(VLOOKUP(後攻T!BZ26,記号!$F$5:$G$21,2,FALSE),\"\")","v":""},{"$f":"IFERROR(VLOOKUP(後攻T!CF27,記号!$U$5:$V$6,2,FALSE),\"\")","v":""},{"$f":"IFERROR(VLOOKUP(後攻T!CQ26,記号!$R$15:$S$20,2,FALSE),\"\")","v":""},{"$f":"IFERROR(VLOOKUP(後攻T!CO26,記号!$O$5:$P$21,2,FALSE),\"\")","v":""},{"$f":"IFERROR(VLOOKUP(後攻T!CL28,記号!$F$27:$G$37,2,FALSE),\"\")","v":"7'"},{"$f":"IFERROR(VLOOKUP(後攻T!CL26,記号!$F$5:$G$21,2,FALSE),\"\")","v":""},{"$f":"IFERROR(VLOOKUP(後攻T!CR27,記号!$U$5:$V$6,2,FALSE),\"\")","v":""},{"$f":"IFERROR(VLOOKUP(後攻T!DC26,記号!$R$15:$S$20,2,FALSE),\"\")","v":""},{"$f":"IFERROR(VLOOKUP(後攻T!DA26,記号!$O$5:$P$21,2,FALSE),\"\")","v":""},{"$f":"IFERROR(VLOOKUP(後攻T!CX28,記号!$F$27:$G$37,2,FALSE),\"\")","v":""},{"$f":"IFERROR(VLOOKUP(後攻T!CX26,記号!$F$5:$G$21,2,FALSE),\"\")","v":""},{"$f":"IFERROR(VLOOKUP(後攻T!DD27,記号!$U$5:$V$6,2,FALSE),\"\")","v":""},{"$f":"IFERROR(VLOOKUP(後攻T!DO26,記号!$R$15:$S$20,2,FALSE),\"\")","v":""},{"$f":"IFERROR(VLOOKUP(後攻T!DM26,記号!$O$5:$P$21,2,FALSE),\"\")","v":""},{"$f":"IFERROR(VLOOKUP(後攻T!DJ28,記号!$F$27:$G$37,2,FALSE),\"\")","v":""},{"$f":"IFERROR(VLOOKUP(後攻T!DJ26,記号!$F$5:$G$21,2,FALSE),\"\")","v":""},{"$f":"IFERROR(VLOOKUP(後攻T!DP26,記号!$U$5:$V$6,2,FALSE),\"\")","v":""},{"$f":"IFERROR(VLOOKUP(後攻T!EA26,記号!$R$15:$S$20,2,FALSE),\"\")","v":""},{"$f":"IFERROR(VLOOKUP(後攻T!DY26,記号!$O$5:$P$21,2,FALSE),\"\")","v":""},{"$f":"IFERROR(VLOOKUP(後攻T!DV28,記号!$F$27:$G$37,2,FALSE),\"\")","v":""},{"$f":"IFERROR(VLOOKUP(後攻T!DV26,記号!$F$5:$G$21,2,FALSE),\"\")","v":""},{"$f":"IFERROR(VLOOKUP(後攻T!EB27,記号!$U$5:$V$6,2,FALSE),\"\")","v":""},{"$f":"IFERROR(VLOOKUP(後攻T!EM26,記号!$R$15:$S$20,2,FALSE),\"\")","v":""},{"$f":"IFERROR(VLOOKUP(後攻T!EK26,記号!$O$5:$P$21,2,FALSE),\"\")","v":""},{"$f":"IFERROR(VLOOKUP(後攻T!EH28,記号!$F$27:$G$37,2,FALSE),\"\")","v":""},{"$f":"IFERROR(VLOOKUP(後攻T!EH26,記号!$F$5:$G$21,2,FALSE),\"\")","v":""},{"$f":"IFERROR(VLOOKUP(後攻T!EN27,記号!$U$5:$V$6,2,FALSE),\"\")","v":""},{"$f":"IF(K87=\"\",\"\",VLOOKUP(K87,$C$19:$E$24,3,FALSE))","v":""},{"$f":"IF(L87=\"\",\"\",(BX87+CG87+CH87+CI87))","v":""},"",{"$f":"IF(L87=\"\",\"\",COUNTIFS($N$82:$BU$82,L87,$N$87:$BU$87,$BY$68))","v":""},{"$f":"IF(L87=\"\",\"\",COUNTIFS($N$82:$BU$82,L87,$N$87:$BU$87,$BZ$68))","v":""},{"$f":"IF(L87=\"\",\"\",COUNTIFS($N$82:$BU$82,L87,$N$85:$BU$85,$CA$68))","v":""},{"$f":"IF(L87=\"\",\"\",COUNTIFS($N$82:$BU$82,L87,$N$85:$BU$85,$CB$68))","v":""},{"$f":"IF(L87=\"\",\"\",COUNTIFS($N$82:$BU$82,L87,$N$87:$BU$87,$CC$68))","v":""},{"$f":"IF(L87=\"\",\"\",SUMIF($N$82:$BU$82,L87,$N$87:$BU$87))","v":""},{"$f":"IF(L87=\"\",\"\",COUNTIFS($N$82:$BU$82,L87,$N$86:$BU$86,$CE$68))","v":""},{"$f":"IF(L87=\"\",\"\",COUNTIFS($N$82:$BU$82,L87,$N$87:$BU$87,$CF$68))","v":""},{"$f":"IF(L87=\"\",\"\",COUNTIFS($N$82:$BU$82,L87,$N$87:$BU$87,$CG$68))","v":""},{"$f":"IF(L87=\"\",\"\",COUNTIFS($N$82:$BU$82,L87,$N$87:$BU$87,$CH$68))","v":""},{"$f":"IF(L87=\"\",\"\",COUNTIFS($N$82:$BU$82,L87,$N$87:$BU$87,$CI$68))","v":""},{"$f":"IF(L87=\"\",\"\",COUNTIFS($N$82:$BU$82,L87,$N$87:$BU$87,$CJ$68))","v":""},{"$f":"IF(L87=\"\",\"\",COUNTIFS($N$82:$BU$82,L87,$N$87:$BU$87,$CK$68)+COUNTIFS($N$82:$BU$82,L87,$N$85:$BU$85,$CK$68))","v":""},{"$f":"IF(L87=\"\",\"\",COUNTIFS($N$82:$BU$82,L87,$N$87:$BU$87,$CL$68)+COUNTIFS($N$82:$BU$82,L87,$N$85:$BU$85,$CL$68))","v":""},{"$f":"IF(L87=\"\",\"\",COUNTIFS($N$82:$BU$82,L87,$N$87:$BU$87,$CM$68))","v":""},{"$f":"IF(L87=\"\",\"\",COUNTIFS($N$82:$BU$82,L87,$N$87:$BU$87,$CN$68))","v":""},{"$f":"IF(L87=\"\",\"\",COUNTIFS($N$82:$BU$82,L87,$N$83:$BU$83,$CO$68)+COUNTIFS($N$82:$BU$82,L87,$N$84:$BU$84,$CO$68))","v":""},null,"左2",null,null,null,null,"A","RR",5,"左",7,2,null,null,null,"","","","","","","","","","","","","","","","","","","","",{"$f":"IF(DF87=\"\",\"\",SUMIFS($CN$71:$CN$123,$J$71:$J$123,DF87))","v":""},"","",null,{"$f":"IF(L87=\"\",\"\",L87)","v":""},"",{"$f":"IF(EC87=\"\",\"\",COUNTIFS($N$82:$BU$82,EC87,$N$87:$BU$87,\"RZ\"))","v":""},{"$f":"IF(EC87=\"\",\"\",COUNTIFS($N$82:$BU$82,EC87,$N$86:$BU$86,\"ZH\"))","v":""},null,{"$f":"IF(EI87=\"\",\"\",$V$67)","v":""},"",{"$f":"IF(DG87=\"\",\"\",DG87)","v":""},"","",null,"A","柿木　蓮",{"$f":"IF(F78=\"\",\"\",F78)","v":1},"LL",0,0,0,0,0,0,0,0,0,0,0,0,0,0,0,0,0,0,0,null,"",{"$f":"IF(DF87=\"\",\"\",DF87)","v":""},"","","","","","","","","","","",null,null,null,null,null,null,null,null,null,null,null,null,null,null,null,null,null,null,null,null,null,null,null,null,null,null,null,null,null,null,null,null,null,null,null,null,null,null,null,null,null,null,null,null,null,null,null,null,"","","","","","","",""]
[null,null,5,null,"","",null,null,null,null,null,null,"打者背番号を入力➡",{"$f":"後攻T!E29","v":8},{"$f":"N88","v":8},{"$f":"N88","v":8},{"$f":"N88","v":8},{"$f":"N88","v":8},{"$f":"後攻T!Q29","v":8},{"$f":"S88","v":8},{"$f":"S88","v":8},{"$f":"S88","v":8},{"$f":"S88","v":8},{"$f":"後攻T!AC29","v":8},{"$f":"X88","v":8},{"$f":"X88","v":8},{"$f":"X88","v":8},{"$f":"X88","v":8},{"$f":"後攻T!AO29","v":8},{"$f":"AC88","v":8},{"$f":"AC88","v":8},{"$f":"AC88","v":8},{"$f":"AC88","v":8},{"$f":"後攻T!BA29","v":8},{"$f":"AH88","v":8},{"$f":"AH88","v":8},{"$f":"AH88","v":8},{"$f":"AH88","v":8},{"$f":"後攻T!BM29","v":8},{"$f":"AM88","v":8},{"$f":"AM88","v":8},{"$f":"AM88","v":8},{"$f":"AM88","v":8},{"$f":"後攻T!BY29","v":8},{"$f":"AR88","v":8},{"$f":"AR88","v":8},{"$f":"AR88","v":8},{"$f":"AR88","v":8},{"$f":"後攻T!$CK29","v":8.1999999999999993},{"$f":"AW88","v":8.1999999999999993},{"$f":"AW88","v":8.1999999999999993},{"$f":"AW88","v":8.1999999999999993},{"$f":"AW88","v":8.1999999999999993},{"$f":"後攻T!CW29","v":8.1999999999999993},{"$f":"BB88","v":8.1999999999999993},{"$f":"BB88","v":8.1999999999999993},{"$f":"BB88","v":8.1999999999999993},{"$f":"BB88","v":8.1999999999999993},{"$f":"後攻T!DI29","v":8.1999999999999993},{"$f":"BG88","v":8.1999999999999993},{"$f":"BG88","v":8.1999999999999993},{"$f":"BG88","v":8.1999999999999993},{"$f":"BG88","v":8.1999999999999993},{"$f":"後攻T!DU29","v":8.1999999999999993},{"$f":"BL88","v":8.1999999999999993},{"$f":"BL88","v":8.1999999999999993},{"$f":"BL88","v":8.1999999999999993},{"$f":"BL88","v":8.1999999999999993},{"$f":"後攻T!EG29","v":8.1999999999999993},{"$f":"BQ88","v":8.1999999999999993},{"$f":"BQ88","v":8.1999999999999993},{"$f":"BQ88","v":8.1999999999999993},{"$f":"BQ88","v":8.1999999999999993},null,null,null,null,null,null,null,null,null,null,null,null,null,null,null,null,null,null,null,null,null,null,null,null,null,null,null,null,null,null,null,null,null,null,null,null,null,null,null,null,null,null,null,null,null,null,null,null,null,null,null,null,null,null,null,null,null,null,null,null,null,null,null,null,null,{"$f":"IF(O67=\"\",\"\",O67)","v":"大阪桐蔭"},"計",{"$f":"IF($EI$70=\"\",\"\",SUM(EK70:EK87))","v":13},{"$f":"IF($EI$70=\"\",\"\",SUM(EL70:EL87))","v":5},null,null,null,null,null,null,null,null,null,null,null,null,null,null,null,null,null,null,null,null,null,null,null,null,null,null,null,null,null,null,null,null,null,null,null,null,null,null,null,null,null,null,null,null,null,null,null,null,null,null,null,null,null,null,null,null,null,null,null,null,null,null,null,null,null,null,null,null,null,null,null,null,null,null,null,null,null,null,null,null,null,null,null,null,null,null,null,""]
[null,null,6,null,"","",null,null,{"$f":"IF(C73=\"\",\"\",C73)","v":"中"},{"$f":"IF(D73=\"\",\"\",D73)","v":"藤原　恭大"},{"$f":"IF(J89=\"\",\"\",\"先\")","v":"先"},{"$f":"IF(J89=\"\",\"\",F73)","v":8},"④",{"$f":"IFERROR(VLOOKUP(後攻T!F31,記号!$B$6:$C$10,2,FALSE),\"\")","v":"・●"},{"$f":"IFERROR(VLOOKUP(後攻T!G31,記号!$B$6:$C$10,2,FALSE),\"\")","v":"・△"},{"$f":"IFERROR(VLOOKUP(後攻T!H31,記号!$B$6:$C$10,2,FALSE),\"\")","v":"・〇"},{"$f":"IFERROR(VLOOKUP(後攻T!I31,記号!$B$6:$C$10,2,FALSE),\"\")","v":"・△"},{"$f":"IFERROR(VLOOKUP(後攻T!J31,記号!$B$6:$C$10,2,FALSE),\"\")","v":"・□"},{"$f":"IFERROR(VLOOKUP(後攻T!R31,記号!$B$6:$C$10,2,FALSE),\"\")","v":""},{"$f":"IFERROR(VLOOKUP(後攻T!S31,記号!$B$6:$C$10,2,FALSE),\"\")","v":""},{"$f":"IFERROR(VLOOKUP(後攻T!T31,記号!$B$6:$C$10,2,FALSE),\"\")","v":""},{"$f":"IFERROR(VLOOKUP(後攻T!U31,記号!$B$6:$C$10,2,FALSE),\"\")","v":""},{"$f":"IFERROR(VLOOKUP(後攻T!V31,記号!$B$6:$C$10,2,FALSE),\"\")","v":""},{"$f":"IFERROR(VLOOKUP(後攻T!AD31,記号!$B$6:$C$10,2,FALSE),\"\")","v":"・□"},{"$f":"IFERROR(VLOOKUP(後攻T!AE31,記号!$B$6:$C$10,2,FALSE),\"\")","v":"・△"},{"$f":"IFERROR(VLOOKUP(後攻T!AF31,記号!$B$6:$C$10,2,FALSE),\"\")","v":"・△"},{"$f":"IFERROR(VLOOKUP(後攻T!AG31,記号!$B$6:$C$10,2,FALSE),\"\")","v":"・△"},{"$f":"IFERROR(VLOOKUP(後攻T!AH31,記号!$B$6:$C$10,2,FALSE),\"\")","v":"・◎"},{"$f":"IFERROR(VLOOKUP(後攻T!AP31,記号!$B$6:$C$10,2,FALSE),\"\")","v":""},{"$f":"IFERROR(VLOOKUP(後攻T!AQ31,記号!$B$6:$C$10,2,FALSE),\"\")","v":""},{"$f":"IFERROR(VLOOKUP(後攻T!AR31,記号!$B$6:$C$10,2,FALSE),\"\")","v":""},{"$f":"IFERROR(VLOOKUP(後攻T!AS31,記号!$B$6:$C$10,2,FALSE),\"\")","v":""},{"$f":"IFERROR(VLOOKUP(後攻T!AT31,記号!$B$6:$C$10,2,FALSE),\"\")","v":""},{"$f":"IFERROR(VLOOKUP(後攻T!BB31,記号!$B$6:$C$10,2,FALSE),\"\")","v":"・〇"},{"$f":"IFERROR(VLOOKUP(後攻T!BC31,記号!$B$6:$C$10,2,FALSE),\"\")","v":"・●"},{"$f":"IFERROR(VLOOKUP(後攻T!BD31,記号!$B$6:$C$10,2,FALSE),\"\")","v":"・〇"},{"$f":"IFERROR(VLOOKUP(後攻T!BE31,記号!$B$6:$C$10,2,FALSE),\"\")","v":"・●"},{"$f":"IFERROR(VLOOKUP(後攻T!BF31,記号!$B$6:$C$10,2,FALSE),\"\")","v":"・△"},{"$f":"IFERROR(VLOOKUP(後攻T!BN31,記号!$B$6:$C$10,2,FALSE),\"\")","v":"・●"},{"$f":"IFERROR(VLOOKUP(後攻T!BO31,記号!$B$6:$C$10,2,FALSE),\"\")","v":"・●"},{"$f":"IFERROR(VLOOKUP(後攻T!BP31,記号!$B$6:$C$10,2,FALSE),\"\")","v":"・◎"},{"$f":"IFERROR(VLOOKUP(後攻T!BQ31,記号!$B$6:$C$10,2,FALSE),\"\")","v":""},{"$f":"IFERROR(VLOOKUP(後攻T!BR31,記号!$B$6:$C$10,2,FALSE),\"\")","v":""},{"$f":"IFERROR(VLOOKUP(後攻T!BZ31,記号!$B$6:$C$10,2,FALSE),\"\")","v":""},{"$f":"IFERROR(VLOOKUP(後攻T!CA31,記号!$B$6:$C$10,2,FALSE),\"\")","v":""},{"$f":"IFERROR(VLOOKUP(後攻T!CB31,記号!$B$6:$C$10,2,FALSE),\"\")","v":""},{"$f":"IFERROR(VLOOKUP(後攻T!CC31,記号!$B$6:$C$10,2,FALSE),\"\")","v":""},{"$f":"IFERROR(VLOOKUP(後攻T!CD31,記号!$B$6:$C$10,2,FALSE),\"\")","v":""},{"$f":"IFERROR(VLOOKUP(後攻T!CL31,記号!$B$6:$C$10,2,FALSE),\"\")","v":"・〇"},{"$f":"IFERROR(VLOOKUP(後攻T!CM31,記号!$B$6:$C$10,2,FALSE),\"\")","v":"・●"},{"$f":"IFERROR(VLOOKUP(後攻T!CN31,記号!$B$6:$C$10,2,FALSE),\"\")","v":"・●"},{"$f":"IFERROR(VLOOKUP(後攻T!CO31,記号!$B$6:$C$10,2,FALSE),\"\")","v":"・△"},{"$f":"IFERROR(VLOOKUP(後攻T!CP31,記号!$B$6:$C$10,2,FALSE),\"\")","v":"・△"},{"$f":"IFERROR(VLOOKUP(後攻T!CX31,記号!$B$6:$C$10,2,FALSE),\"\")","v":""},{"$f":"IFERROR(VLOOKUP(後攻T!CY31,記号!$B$6:$C$10,2,FALSE),\"\")","v":""},{"$f":"IFERROR(VLOOKUP(後攻T!CZ31,記号!$B$6:$C$10,2,FALSE),\"\")","v":""},{"$f":"IFERROR(VLOOKUP(後攻T!DA31,記号!$B$6:$C$10,2,FALSE),\"\")","v":""},{"$f":"IFERROR(VLOOKUP(後攻T!DB31,記号!$B$6:$C$10,2,FALSE),\"\")","v":""},{"$f":"IFERROR(VLOOKUP(後攻T!DJ22,記号!$B$6:$C$10,2,FALSE),\"\")","v":""},{"$f":"IFERROR(VLOOKUP(後攻T!DK22,記号!$B$6:$C$10,2,FALSE),\"\")","v":""},{"$f":"IFERROR(VLOOKUP(後攻T!DL22,記号!$B$6:$C$10,2,FALSE),\"\")","v":""},{"$f":"IFERROR(VLOOKUP(後攻T!DM22,記号!$B$6:$C$10,2,FALSE),\"\")","v":""},{"$f":"IFERROR(VLOOKUP(後攻T!DN22,記号!$B$6:$C$10,2,FALSE),\"\")","v":""},{"$f":"IFERROR(VLOOKUP(後攻T!DV31,記号!$B$6:$C$10,2,FALSE),\"\")","v":""},{"$f":"IFERROR(VLOOKUP(後攻T!DW31,記号!$B$6:$C$10,2,FALSE),\"\")","v":""},{"$f":"IFERROR(VLOOKUP(後攻T!DX31,記号!$B$6:$C$10,2,FALSE),\"\")","v":""},{"$f":"IFERROR(VLOOKUP(後攻T!DY31,記号!$B$6:$C$10,2,FALSE),\"\")","v":""},{"$f":"IFERROR(VLOOKUP(後攻T!DZ31,記号!$B$6:$C$10,2,FALSE),\"\")","v":""},{"$f":"IFERROR(VLOOKUP(後攻T!EH31,記号!$B$6:$C$10,2,FALSE),\"\")","v":""},{"$f":"IFERROR(VLOOKUP(後攻T!EI31,記号!$B$6:$C$10,2,FALSE),\"\")","v":""},{"$f":"IFERROR(VLOOKUP(後攻T!EJ31,記号!$B$6:$C$10,2,FALSE),\"\")","v":""},{"$f":"IFERROR(VLOOKUP(後攻T!EK31,記号!$B$6:$C$10,2,FALSE),\"\")","v":""},{"$f":"IFERROR(VLOOKUP(後攻T!EL31,記号!$B$6:$C$10,2,FALSE),\"\")","v":""},{"$f":"IF(K89=\"\",\"\",VLOOKUP(K89,$C$19:$E$24,3,FALSE))","v":"RR"},{"$f":"IF(L89=\"\",\"\",(BX89+CG89+CH89+CI89))","v":4},4,{"$f":"IF(L89=\"\",\"\",COUNTIFS($N$88:$BU$88,L89,$N$93:$BU$93,$BY$68))","v":0},{"$f":"IF(L89=\"\",\"\",COUNTIFS($N$88:$BU$88,L89,$N$93:$BU$93,$BZ$68))","v":2},{"$f":"IF(L89=\"\",\"\",COUNTIFS($N$88:$BU$88,L89,$N$91:$BU$91,$CA$68))","v":1},{"$f":"IF(L89=\"\",\"\",COUNTIFS($N$88:$BU$88,L89,$N$91:$BU$91,$CB$68))","v":0},{"$f":"IF(L89=\"\",\"\",COUNTIFS($N$88:$BU$88,L89,$N$93:$BU$93,$CC$68))","v":0},{"$f":"IF(L89=\"\",\"\",SUMIF($N$88:$BU$88,L89,$N$93:$BU$93))","v":2},{"$f":"IF(L89=\"\",\"\",COUNTIFS($N$88:$BU$88,L89,$N$92:$BU$92,$CE$68))","v":1},{"$f":"IF(L89=\"\",\"\",COUNTIFS($N$88:$BU$88,L89,$N$93:$BU$93,$CF$68))","v":1},{"$f":"IF(L89=\"\",\"\",COUNTIFS($N$88:$BU$88,L89,$N$93:$BU$93,$CG$68))","v":0},{"$f":"IF(L89=\"\",\"\",COUNTIFS($N$88:$BU$88,L89,$N$93:$BU$93,$CH$68))","v":0},{"$f":"IF(L89=\"\",\"\",COUNTIFS($N$88:$BU$88,L89,$N$93:$BU$93,$CI$68))","v":0},{"$f":"IF(L89=\"\",\"\",COUNTIFS($N$88:$BU$88,L89,$N$93:$BU$93,$CJ$68))","v":0},{"$f":"IF(L89=\"\",\"\",COUNTIFS($N$88:$BU$88,L89,$N$93:$BU$93,$CK$68)+COUNTIFS($N$88:$BU$88,L89,$N$91:$BU$91,$CK$68))","v":1},{"$f":"IF(L89=\"\",\"\",COUNTIFS($N$88:$BU$88,L89,$N$93:$BU$93,$CL$68)+COUNTIFS($N$88:$BU$88,L89,$N$91:$BU$91,$CL$68))","v":0},{"$f":"IF(L89=\"\",\"\",COUNTIFS($N$88:$BU$88,L89,$N$93:$BU$93,$CM$68))","v":0},{"$f":"IF(L89=\"\",\"\",COUNTIFS($N$88:$BU$88,L89,$N$93:$BU$93,$CN$68))","v":0},{"$f":"IF(L89=\"\",\"\",COUNTIFS($N$88:$BU$88,L89,$N$89:$BU$89,$CO$68)+COUNTIFS($N$88:$BU$88,L89,$N$90:$BU$90,$CO$68))","v":19},"先","空三振",null,null,null,null,null,{"$f":"IF(DA89=\"\",\"\",VLOOKUP(DA89,$C$19:$F$24,3,FALSE))","v":"RR"},8,null,{"$f":"IF(CY89=\"\",\"\",VLOOKUP(CY89,$C$5:$F$14,4,FALSE))","v":""},"先",null,null,null,{"$f":"IF(V67=\"\",\"\",V67)","v":"A"},{"$f":"IF(O67=\"\",\"\",O67)","v":"大阪桐蔭"},null,{"$f":"IF($DG$5=\"\",\"\",SUM(DH70:DH87))","v":45},{"$f":"IF($DG$5=\"\",\"\",SUM(DI70:DI87))","v":40},16,10,3,0,2,8,13,7,4,0,1,0,1,0,0,{"$f":"IF(D70=\"\",\"\",SUM(DY5:DY22))","v":0},187,{"$f":"IF(V2=\"\",\"\",V2)","v":"D"},null,{"$f":"IF(L89=\"\",\"\",L89)","v":8},{"$f":"IF(EC89=\"\",\"\",VLOOKUP(EC89,$C$94:$D$123,2,FALSE))","v":"藤原　恭大"},{"$f":"IF(EC89=\"\",\"\",COUNTIFS($N$88:$BU$88,EC89,$N$93:$BU$93,\"RZ\"))","v":2},{"$f":"IF(EC89=\"\",\"\",COUNTIFS($N$88:$BU$88,EC89,$N$92:$BU$92,\"ZH\"))","v":1},null,null,null,null,null,null,null,"","",{"$f":"IF(G70=\"\",\"\",G70)","v":""},"LL","","","","","","","","","","","","","","","","","","","",null,{"$f":"IF(FM70=\"\",\"\",$V$67)","v":"A"},"T計",null,{"$f":"IF($FN$5=\"\",\"\",SUM(FO70:FO87))","v":5},{"$f":"IF($FN$5=\"\",\"\",SUM(FP70:FP87))","v":5},5,0,1,9,0,3,{"$f":"IF($FN$5=\"\",\"\",SUM(FW70:FW87))","v":6},null,null,null,null,null,null,null,null,null,null,null,null,null,null,null,null,null,null,null,null,null,null,null,null,null,null,null,null,null,null,null,null,null,null,null,null,null,null,null,null,null,null,null,null,null,null,null,null,null,"藤原　恭大",8,{"$f":"IF(HU89=\"\",\"\",COUNTIFS($N88:$BU88,HV89,$N$89:$BU$89,$HW$68)+COUNTIFS($N$88:$BU$88,HV89,$N$90:$BU$90,$HW$68))","v":19},{"$f":"IF(HU89=\"\",\"\",COUNTIFS($N$88:$BU$88,HV89,$N$89:$BU$89,$HX$68)+COUNTIFS($N$88:$BU$88,HV89,$N$90:$BU$90,$HX$68))","v":5},{"$f":"IF(HU89=\"\",\"\",COUNTIFS($N$88:$BU$88,HV89,$N$89:$BU$89,$HY$68)+COUNTIFS($N$88:$BU$88,HV89,$N$90:$BU$90,$HY$68))","v":3},{"$f":"IF(HU89=\"\",\"\",COUNTIFS($N$88:$BU$88,HV89,$N$89:$BU$89,$HZ$68)+COUNTIFS($N$88:$BU$88,HV89,$N$90:$BU$90,$HZ$68))","v":6},{"$f":"IF(HU89=\"\",\"\",COUNTIFS($N$88:$BU$88,HV89,$N$89:$BU$89,$IA$68)+COUNTIFS($N$88:$BU$88,HV89,$N$90:$BU$90,$IA$68))","v":2},{"$f":"IF(HU89=\"\",\"\",COUNTIFS($N$88:$BU$88,HV89,$N$89:$BU$89,$IB$68)+COUNTIFS($N$88:$BU$88,HV89,$N$90:$BU$90,$IB$68))","v":3}]
[null,null,null,null,null,null,null,null,null,"藤原　恭大",2,8.1999999999999993,null,{"$f":"IFERROR(VLOOKUP(後攻T!K31,記号!$B$6:$C$10,2,FALSE),\"\")","v":""},{"$f":"IFERROR(VLOOKUP(後攻T!L31,記号!$B$6:$C$10,2,FALSE),\"\")","v":""},{"$f":"IFERROR(VLOOKUP(後攻T!F33,記号!$B$6:$C$10,2,FALSE),\"\")","v":""},{"$f":"IFERROR(VLOOKUP(後攻T!G33,記号!$B$6:$C$10,2,FALSE),\"\")","v":""},{"$f":"IFERROR(VLOOKUP(後攻T!H33,記号!$B$6:$C$10,2,FALSE),\"\")","v":""},{"$f":"IFERROR(VLOOKUP(後攻T!W31,記号!$B$6:$C$10,2,FALSE),\"\")","v":""},{"$f":"IFERROR(VLOOKUP(後攻T!X31,記号!$B$6:$C$10,2,FALSE),\"\")","v":""},{"$f":"IFERROR(VLOOKUP(後攻T!R33,記号!$B$6:$C$10,2,FALSE),\"\")","v":""},{"$f":"IFERROR(VLOOKUP(後攻T!S33,記号!$B$6:$C$10,2,FALSE),\"\")","v":""},{"$f":"IFERROR(VLOOKUP(後攻T!T33,記号!$B$6:$C$10,2,FALSE),\"\")","v":""},{"$f":"IFERROR(VLOOKUP(後攻T!AI31,記号!$B$6:$C$10,2,FALSE),\"\")","v":""},{"$f":"IFERROR(VLOOKUP(後攻T!AJ31,記号!$B$6:$C$10,2,FALSE),\"\")","v":""},{"$f":"IFERROR(VLOOKUP(後攻T!AD33,記号!$B$6:$C$10,2,FALSE),\"\")","v":""},{"$f":"IFERROR(VLOOKUP(後攻T!AE33,記号!$B$6:$C$10,2,FALSE),\"\")","v":""},{"$f":"IFERROR(VLOOKUP(後攻T!AF33,記号!$B$6:$C$10,2,FALSE),\"\")","v":""},{"$f":"IFERROR(VLOOKUP(後攻T!AU31,記号!$B$6:$C$10,2,FALSE),\"\")","v":""},{"$f":"IFERROR(VLOOKUP(後攻T!AV31,記号!$B$6:$C$10,2,FALSE),\"\")","v":""},{"$f":"IFERROR(VLOOKUP(後攻T!AP33,記号!$B$6:$C$10,2,FALSE),\"\")","v":""},{"$f":"IFERROR(VLOOKUP(後攻T!AQ33,記号!$B$6:$C$10,2,FALSE),\"\")","v":""},{"$f":"IFERROR(VLOOKUP(後攻T!AR33,記号!$B$6:$C$10,2,FALSE),\"\")","v":""},{"$f":"IFERROR(VLOOKUP(後攻T!BG31,記号!$B$6:$C$10,2,FALSE),\"\")","v":"・◎"},{"$f":"IFERROR(VLOOKUP(後攻T!BH31,記号!$B$6:$C$10,2,FALSE),\"\")","v":""},{"$f":"IFERROR(VLOOKUP(後攻T!BB33,記号!$B$6:$C$10,2,FALSE),\"\")","v":""},{"$f":"IFERROR(VLOOKUP(後攻T!BC33,記号!$B$6:$C$10,2,FALSE),\"\")","v":""},{"$f":"IFERROR(VLOOKUP(後攻T!BD33,記号!$B$6:$C$10,2,FALSE),\"\")","v":""},{"$f":"IFERROR(VLOOKUP(後攻T!BS31,記号!$B$6:$C$10,2,FALSE),\"\")","v":""},{"$f":"IFERROR(VLOOKUP(後攻T!BT31,記号!$B$6:$C$10,2,FALSE),\"\")","v":""},{"$f":"IFERROR(VLOOKUP(後攻T!BN33,記号!$B$6:$C$10,2,FALSE),\"\")","v":""},{"$f":"IFERROR(VLOOKUP(後攻T!BO33,記号!$B$6:$C$10,2,FALSE),\"\")","v":""},{"$f":"IFERROR(VLOOKUP(後攻T!BP33,記号!$B$6:$C$10,2,FALSE),\"\")","v":""},{"$f":"IFERROR(VLOOKUP(後攻T!CE31,記号!$B$6:$C$10,2,FALSE),\"\")","v":""},{"$f":"IFERROR(VLOOKUP(後攻T!CF31,記号!$B$6:$C$10,2,FALSE),\"\")","v":""},{"$f":"IFERROR(VLOOKUP(後攻T!BZ33,記号!$B$6:$C$10,2,FALSE),\"\")","v":""},{"$f":"IFERROR(VLOOKUP(後攻T!CA33,記号!$B$6:$C$10,2,FALSE),\"\")","v":""},{"$f":"IFERROR(VLOOKUP(後攻T!CB33,記号!$B$6:$C$10,2,FALSE),\"\")","v":""},{"$f":"IFERROR(VLOOKUP(後攻T!CQ31,記号!$B$6:$C$10,2,FALSE),\"\")","v":"・□"},{"$f":"IFERROR(VLOOKUP(後攻T!CR31,記号!$B$6:$C$10,2,FALSE),\"\")","v":""},{"$f":"IFERROR(VLOOKUP(後攻T!CL33,記号!$B$6:$C$10,2,FALSE),\"\")","v":""},{"$f":"IFERROR(VLOOKUP(後攻T!CM33,記号!$B$6:$C$10,2,FALSE),\"\")","v":""},{"$f":"IFERROR(VLOOKUP(後攻T!CN33,記号!$B$6:$C$10,2,FALSE),\"\")","v":""},{"$f":"IFERROR(VLOOKUP(後攻T!DC31,記号!$B$6:$C$10,2,FALSE),\"\")","v":""},{"$f":"IFERROR(VLOOKUP(後攻T!DD31,記号!$B$6:$C$10,2,FALSE),\"\")","v":""},{"$f":"IFERROR(VLOOKUP(後攻T!CX33,記号!$B$6:$C$10,2,FALSE),\"\")","v":""},{"$f":"IFERROR(VLOOKUP(後攻T!CY33,記号!$B$6:$C$10,2,FALSE),\"\")","v":""},{"$f":"IFERROR(VLOOKUP(後攻T!CZ33,記号!$B$6:$C$10,2,FALSE),\"\")","v":""},{"$f":"IFERROR(VLOOKUP(後攻T!DO22,記号!$B$6:$C$10,2,FALSE),\"\")","v":""},{"$f":"IFERROR(VLOOKUP(後攻T!DP22,記号!$B$6:$C$10,2,FALSE),\"\")","v":""},{"$f":"IFERROR(VLOOKUP(後攻T!DJ33,記号!$B$6:$C$10,2,FALSE),\"\")","v":""},{"$f":"IFERROR(VLOOKUP(後攻T!DK33,記号!$B$6:$C$10,2,FALSE),\"\")","v":""},{"$f":"IFERROR(VLOOKUP(後攻T!DL33,記号!$B$6:$C$10,2,FALSE),\"\")","v":""},{"$f":"IFERROR(VLOOKUP(後攻T!EA31,記号!$B$6:$C$10,2,FALSE),\"\")","v":""},{"$f":"IFERROR(VLOOKUP(後攻T!EB31,記号!$B$6:$C$10,2,FALSE),\"\")","v":""},{"$f":"IFERROR(VLOOKUP(後攻T!DV33,記号!$B$6:$C$10,2,FALSE),\"\")","v":""},{"$f":"IFERROR(VLOOKUP(後攻T!DW33,記号!$B$6:$C$10,2,FALSE),\"\")","v":""},{"$f":"IFERROR(VLOOKUP(後攻T!DX33,記号!$B$6:$C$10,2,FALSE),\"\")","v":""},{"$f":"IFERROR(VLOOKUP(後攻T!EM31,記号!$B$6:$C$10,2,FALSE),\"\")","v":""},{"$f":"IFERROR(VLOOKUP(後攻T!EN31,記号!$B$6:$C$10,2,FALSE),\"\")","v":""},{"$f":"IFERROR(VLOOKUP(後攻T!EH33,記号!$B$6:$C$10,2,FALSE),\"\")","v":""},{"$f":"IFERROR(VLOOKUP(後攻T!EI33,記号!$B$6:$C$10,2,FALSE),\"\")","v":""},{"$f":"IFERROR(VLOOKUP(後攻T!EJ33,記号!$B$6:$C$10,2,FALSE),\"\")","v":""},{"$f":"IF(K90=\"\",\"\",VLOOKUP(K90,$C$19:$E$24,3,FALSE))","v":"RR"},{"$f":"IF(L90=\"\",\"\",(BX90+CG90+CH90+CI90))","v":1},1,{"$f":"IF(L90=\"\",\"\",COUNTIFS($N$88:$BU$88,L90,$N$93:$BU$93,$BY$68))","v":0},{"$f":"IF(L90=\"\",\"\",COUNTIFS($N$88:$BU$88,L90,$N$93:$BU$93,$BZ$68))","v":0},{"$f":"IF(L90=\"\",\"\",COUNTIFS($N$88:$BU$88,L90,$N$91:$BU$91,$CA$68))","v":0},{"$f":"IF(L90=\"\",\"\",COUNTIFS($N$88:$BU$88,L90,$N$91:$BU$91,$CB$68))","v":0},{"$f":"IF(L90=\"\",\"\",COUNTIFS($N$88:$BU$88,L90,$N$93:$BU$93,$CC$68))","v":0},{"$f":"IF(L90=\"\",\"\",SUMIF($N$88:$BU$88,L90,$N$93:$BU$93))","v":0},{"$f":"IF(L90=\"\",\"\",COUNTIFS($N$88:$BU$88,L90,$N$92:$BU$92,$CE$68))","v":0},{"$f":"IF(L90=\"\",\"\",COUNTIFS($N$88:$BU$88,L90,$N$93:$BU$93,$CF$68))","v":1},{"$f":"IF(L90=\"\",\"\",COUNTIFS($N$88:$BU$88,L90,$N$93:$BU$93,$CG$68))","v":0},{"$f":"IF(L90=\"\",\"\",COUNTIFS($N$88:$BU$88,L90,$N$93:$BU$93,$CH$68))","v":0},{"$f":"IF(L90=\"\",\"\",COUNTIFS($N$88:$BU$88,L90,$N$93:$BU$93,$CI$68))","v":0},{"$f":"IF(L90=\"\",\"\",COUNTIFS($N$88:$BU$88,L90,$N$93:$BU$93,$CJ$68))","v":0},{"$f":"IF(L90=\"\",\"\",COUNTIFS($N$88:$BU$88,L90,$N$93:$BU$93,$CK$68)+COUNTIFS($N$88:$BU$88,L90,$N$91:$BU$91,$CK$68))","v":0},{"$f":"IF(L90=\"\",\"\",COUNTIFS($N$88:$BU$88,L90,$N$93:$BU$93,$CL$68)+COUNTIFS($N$88:$BU$88,L90,$N$91:$BU$91,$CL$68))","v":0},{"$f":"IF(L90=\"\",\"\",COUNTIFS($N$88:$BU$88,L90,$N$93:$BU$93,$CM$68))","v":0},{"$f":"IF(L90=\"\",\"\",COUNTIFS($N$88:$BU$88,L90,$N$93:$BU$93,$CN$68))","v":0},{"$f":"IF(L90=\"\",\"\",COUNTIFS($N$88:$BU$88,L90,$N$89:$BU$89,$CO$68)+COUNTIFS($N$88:$BU$88,L90,$N$90:$BU$90,$CO$68))","v":6},2,"飛右安",null,null,null,null,"A",{"$f":"IF(DA90=\"\",\"\",VLOOKUP(DA90,$C$19:$F$24,3,FALSE))","v":"RR"},8,"右",{"$f":"IF(CY90=\"\",\"\",VLOOKUP(CY90,$C$5:$F$14,4,FALSE))","v":9},"先",null,null,null,null,null,null,null,null,null,null,null,null,null,null,null,null,null,null,null,null,null,null,null,null,null,null,null,{"$f":"IF(L90=\"\",\"\",L90)","v":8.1999999999999993},"藤原　恭大",{"$f":"IF(EC90=\"\",\"\",COUNTIFS($N$88:$BU$88,EC90,$N$93:$BU$93,\"RZ\"))","v":1},{"$f":"IF(EC90=\"\",\"\",COUNTIFS($N$88:$BU$88,EC90,$N$92:$BU$92,\"ZH\"))","v":0},null,null,null,null,null,null,null,"","",{"$f":"IF(G71=\"\",\"\",G71)","v":""},"RR","","","","","","","","","","","","","","","","","","","",null,null,null,null,{"$f":"SUM(FO89:FQ89)","v":15},null,null,{"$f":"SUM(FR89:FT89)","v":10},null,null,{"$f":"SUM(FU89:FW89)","v":9},null,null,null,null,null,null,null,null,null,null,null,null,null,null,null,null,null,null,null,null,null,null,null,null,null,null,null,null,null,null,null,null,null,null,null,null,null,null,null,null,null,null,null,null,null,null,null,null,null,null,null,"藤原　恭大",8.1999999999999993,{"$f":"IF(HU90=\"\",\"\",COUNTIFS($N89:$BU89,HV90,$N$89:$BU$89,$HW$68)+COUNTIFS($N$88:$BU$88,HV90,$N$90:$BU$90,$HW$68))","v":1},{"$f":"IF(HU90=\"\",\"\",COUNTIFS($N$88:$BU$88,HV90,$N$89:$BU$89,$HX$68)+COUNTIFS($N$88:$BU$88,HV90,$N$90:$BU$90,$HX$68))","v":2},{"$f":"IF(HU90=\"\",\"\",COUNTIFS($N$88:$BU$88,HV90,$N$89:$BU$89,$HY$68)+COUNTIFS($N$88:$BU$88,HV90,$N$90:$BU$90,$HY$68))","v":1},{"$f":"IF(HU90=\"\",\"\",COUNTIFS($N$88:$BU$88,HV90,$N$89:$BU$89,$HZ$68)+COUNTIFS($N$88:$BU$88,HV90,$N$90:$BU$90,$HZ$68))","v":2},{"$f":"IF(HU90=\"\",\"\",COUNTIFS($N$88:$BU$88,HV90,$N$89:$BU$89,$IA$68)+COUNTIFS($N$88:$BU$88,HV90,$N$90:$BU$90,$IA$68))","v":1},{"$f":"IF(HU90=\"\",\"\",COUNTIFS($N$88:$BU$88,HV90,$N$89:$BU$89,$IB$68)+COUNTIFS($N$88:$BU$88,HV90,$N$90:$BU$90,$IB$68))","v":0}]
[null,null,null,"チーム登録選手",null,null,null,null,null,{"$f":"IF(L91=\"\",\"\",VLOOKUP(L91,$C$94:$D$123,2,FALSE))","v":""},null,null,null,{"$f":"IFERROR(VLOOKUP(後攻T!F36,記号!$I$27:$J$30,2,FALSE),\"\")","v":""},{"$f":"IFERROR(VLOOKUP(後攻T!H35,記号!$L$5:$M$21,2,FALSE),\"\")","v":""},{"$f":"IFERROR(VLOOKUP(後攻T!H37,記号!$F$27:$G$37,2,FALSE),\"\")","v":""},{"$f":"IFERROR(VLOOKUP(後攻T!G35,記号!$I$5:$J$23,2,FALSE),\"\")","v":""},null,{"$f":"IFERROR(VLOOKUP(後攻T!R36,記号!$I$27:$J$30,2,FALSE),\"\")","v":""},{"$f":"IFERROR(VLOOKUP(後攻T!T37,記号!$L$5:$M$21,2,FALSE),\"\")","v":""},{"$f":"IFERROR(VLOOKUP(後攻T!T37,記号!$F$27:$G$37,2,FALSE),\"\")","v":""},{"$f":"IFERROR(VLOOKUP(後攻T!S35,記号!$I$5:$J$23,2,FALSE),\"\")","v":""},null,{"$f":"IFERROR(VLOOKUP(後攻T!AD36,記号!$I$27:$J$30,2,FALSE),\"\")","v":"F"},{"$f":"IFERROR(VLOOKUP(後攻T!AF35,記号!$L$5:$M$21,2,FALSE),\"\")","v":""},{"$f":"IFERROR(VLOOKUP(後攻T!AF37,記号!$F$27:$G$37,2,FALSE),\"\")","v":""},{"$f":"IFERROR(VLOOKUP(後攻T!AE35,記号!$I$5:$J$23,2,FALSE),\"\")","v":"S"},null,{"$f":"IFERROR(VLOOKUP(後攻T!AP36,記号!$I$27:$J$30,2,FALSE),\"\")","v":""},{"$f":"IFERROR(VLOOKUP(後攻T!AR35,記号!$L$5:$M$21,2,FALSE),\"\")","v":""},{"$f":"IFERROR(VLOOKUP(後攻T!AR37,記号!$F$27:$G$37,2,FALSE),\"\")","v":""},{"$f":"IFERROR(VLOOKUP(後攻T!AQ35,記号!$I$5:$J$23,2,FALSE),\"\")","v":""},null,{"$f":"IFERROR(VLOOKUP(後攻T!BB36,記号!$I$27:$J$30,2,FALSE),\"\")","v":"F"},{"$f":"IFERROR(VLOOKUP(後攻T!BD35,記号!$L$5:$M$21,2,FALSE),\"\")","v":""},{"$f":"IFERROR(VLOOKUP(後攻T!BD37,記号!$F$27:$G$37,2,FALSE),\"\")","v":""},{"$f":"IFERROR(VLOOKUP(後攻T!BO26,記号!$I$5:$J$23,2,FALSE),\"\")","v":""},null,{"$f":"IFERROR(VLOOKUP(後攻T!BN36,記号!$I$27:$J$30,2,FALSE),\"\")","v":"F"},{"$f":"IFERROR(VLOOKUP(後攻T!BP35,記号!$L$5:$M$21,2,FALSE),\"\")","v":""},{"$f":"IFERROR(VLOOKUP(後攻T!BP37,記号!$F$27:$G$37,2,FALSE),\"\")","v":""},{"$f":"IFERROR(VLOOKUP(後攻T!BO35,記号!$I$5:$J$23,2,FALSE),\"\")","v":"H2"},null,{"$f":"IFERROR(VLOOKUP(後攻T!BZ36,記号!$I$27:$J$30,2,FALSE),\"\")","v":""},{"$f":"IFERROR(VLOOKUP(後攻T!CB35,記号!$L$5:$M$21,2,FALSE),\"\")","v":""},{"$f":"IFERROR(VLOOKUP(後攻T!CB37,記号!$F$27:$G$37,2,FALSE),\"\")","v":""},{"$f":"IFERROR(VLOOKUP(後攻T!CA35,記号!$I$5:$J$23,2,FALSE),\"\")","v":""},null,{"$f":"IFERROR(VLOOKUP(後攻T!CL36,記号!$I$27:$J$30,2,FALSE),\"\")","v":""},{"$f":"IFERROR(VLOOKUP(後攻T!CN36,記号!$L$5:$M$21,2,FALSE),\"\")","v":""},{"$f":"IFERROR(VLOOKUP(後攻T!CN37,記号!$F$27:$G$37,2,FALSE),\"\")","v":""},{"$f":"IFERROR(VLOOKUP(後攻T!CM35,記号!$I$5:$J$23,2,FALSE),\"\")","v":""},null,{"$f":"IFERROR(VLOOKUP(後攻T!CX36,記号!$I$27:$J$30,2,FALSE),\"\")","v":""},{"$f":"IFERROR(VLOOKUP(後攻T!CZ35,記号!$L$5:$M$21,2,FALSE),\"\")","v":""},{"$f":"IFERROR(VLOOKUP(後攻T!CZ37,記号!$F$27:$G$37,2,FALSE),\"\")","v":""},{"$f":"IFERROR(VLOOKUP(後攻T!CY35,記号!$I$5:$J$23,2,FALSE),\"\")","v":""},null,{"$f":"IFERROR(VLOOKUP(後攻T!DJ36,記号!$I$27:$J$30,2,FALSE),\"\")","v":""},{"$f":"IFERROR(VLOOKUP(後攻T!DL35,記号!$L$5:$M$21,2,FALSE),\"\")","v":""},{"$f":"IFERROR(VLOOKUP(後攻T!DL37,記号!$F$27:$G$37,2,FALSE),\"\")","v":""},{"$f":"IFERROR(VLOOKUP(後攻T!DK35,記号!$I$5:$J$23,2,FALSE),\"\")","v":""},null,{"$f":"IFERROR(VLOOKUP(後攻T!DV36,記号!$I$27:$J$30,2,FALSE),\"\")","v":""},{"$f":"IFERROR(VLOOKUP(後攻T!DX35,記号!$L$5:$M$21,2,FALSE),\"\")","v":""},{"$f":"IFERROR(VLOOKUP(後攻T!DX37,記号!$F$27:$G$37,2,FALSE),\"\")","v":""},{"$f":"IFERROR(VLOOKUP(後攻T!DW35,記号!$I$5:$J$23,2,FALSE),\"\")","v":""},null,{"$f":"IFERROR(VLOOKUP(後攻T!EH36,記号!$I$27:$J$30,2,FALSE),\"\")","v":""},{"$f":"IFERROR(VLOOKUP(後攻T!EJ35,記号!$I$27:$J$30,2,FALSE),\"\")","v":""},{"$f":"IFERROR(VLOOKUP(後攻T!EJ37,記号!$I$27:$J$30,2,FALSE),\"\")","v":""},{"$f":"IFERROR(VLOOKUP(後攻T!EI35,記号!$I$27:$J$30,2,FALSE),\"\")","v":""},null,{"$f":"IF(K91=\"\",\"\",VLOOKUP(K91,$C$19:$E$24,3,FALSE))","v":""},{"$f":"IF(L91=\"\",\"\",(BX91+CG91+CH91+CI91))","v":""},"",{"$f":"IF(L91=\"\",\"\",COUNTIFS($N$88:$BU$88,L91,$N$93:$BU$93,$BY$68))","v":""},{"$f":"IF(L91=\"\",\"\",COUNTIFS($N$88:$BU$88,L91,$N$93:$BU$93,$BZ$68))","v":""},{"$f":"IF(L91=\"\",\"\",COUNTIFS($N$88:$BU$88,L91,$N$91:$BU$91,$CA$68))","v":""},{"$f":"IF(L91=\"\",\"\",COUNTIFS($N$88:$BU$88,L91,$N$91:$BU$91,$CB$68))","v":""},{"$f":"IF(L91=\"\",\"\",COUNTIFS($N$88:$BU$88,L91,$N$93:$BU$93,$CC$68))","v":""},{"$f":"IF(L91=\"\",\"\",SUMIF($N$88:$BU$88,L91,$N$93:$BU$93))","v":""},{"$f":"IF(L91=\"\",\"\",COUNTIFS($N$88:$BU$88,L91,$N$92:$BU$92,$CE$68))","v":""},{"$f":"IF(L91=\"\",\"\",COUNTIFS($N$88:$BU$88,L91,$N$93:$BU$93,$CF$68))","v":""},{"$f":"IF(L91=\"\",\"\",COUNTIFS($N$88:$BU$88,L91,$N$93:$BU$93,$CG$68))","v":""},{"$f":"IF(L91=\"\",\"\",COUNTIFS($N$88:$BU$88,L91,$N$93:$BU$93,$CH$68))","v":""},{"$f":"IF(L91=\"\",\"\",COUNTIFS($N$88:$BU$88,L91,$N$93:$BU$93,$CI$68))","v":""},{"$f":"IF(L91=\"\",\"\",COUNTIFS($N$88:$BU$88,L91,$N$93:$BU$93,$CJ$68))","v":""},{"$f":"IF(L91=\"\",\"\",COUNTIFS($N$88:$BU$88,L91,$N$93:$BU$93,$CK$68)+COUNTIFS($N$88:$BU$88,L91,$N$91:$BU$91,$CK$68))","v":""},{"$f":"IF(L91=\"\",\"\",COUNTIFS($N$88:$BU$88,L91,$N$93:$BU$93,$CL$68)+COUNTIFS($N$88:$BU$88,L91,$N$91:$BU$91,$CL$68))","v":""},{"$f":"IF(L91=\"\",\"\",COUNTIFS($N$88:$BU$88,L91,$N$93:$BU$93,$CM$68))","v":""},{"$f":"IF(L91=\"\",\"\",COUNTIFS($N$88:$BU$88,L91,$N$93:$BU$93,$CN$68))","v":""},{"$f":"IF(L91=\"\",\"\",COUNTIFS($N$88:$BU$88,L91,$N$89:$BU$89,$CO$68)+COUNTIFS($N$88:$BU$88,L91,$N$90:$BU$90,$CO$68))","v":""},null,"飛右安",null,null,null,null,"A","RR",8,"右",9,"先",null,null,null,null,null,null,null,null,null,null,null,null,null,null,null,null,null,null,null,null,null,null,null,null,null,null,null,{"$f":"IF(L91=\"\",\"\",L91)","v":""},"",{"$f":"IF(EC91=\"\",\"\",COUNTIFS($N$88:$BU$88,EC91,$N$93:$BU$93,\"RZ\"))","v":""},{"$f":"IF(EC91=\"\",\"\",COUNTIFS($N$88:$BU$88,EC91,$N$92:$BU$92,\"ZH\"))","v":""},null,null,null,null,null,null,null,"","",{"$f":"IF(G71=\"\",\"\",G71)","v":""},"LL","","","","","","","","","","","","","","","","","","","",null,null,null,null,null,null,null,null,null,null,null,null,null,null,null,null,null,null,null,null,null,null,null,null,null,null,null,null,null,null,null,null,null,null,null,null,null,null,null,null,null,null,null,null,null,null,null,null,null,null,null,null,null,null,null,null,null,null,null,null,null,null,"","","","","","",{"$f":"IF(HU91=\"\",\"\",COUNTIFS($N$88:$BU$88,HV91,$N$89:$BU$89,$IA$68)+COUNTIFS($N$88:$BU$88,HV91,$N$90:$BU$90,$IA$68))","v":""},""]
[null,null,"*","選手名","PS","背番",null,null,null,{"$f":"IF(L92=\"\",\"\",VLOOKUP(L92,$C$94:$D$123,2,FALSE))","v":""},null,null,null,{"$f":"IF(N88=\"\",\"\",IF(N88=L89+0.2,\"2\",IF(N88=L89+0.3,\"3\",IF(N88=L89+0.4,\"4\",IF(N88=L89+0.5,\"5\",\"先\")))))","v":"先"},{"$f":"IFERROR(VLOOKUP(後攻T!I37,記号!$F$27:$G$37,2,FALSE),\"\")","v":""},{"$f":"IFERROR(VLOOKUP(後攻T!J35,記号!$R$5:$S$10,2,FALSE),\"\")","v":"Ⅱ"},{"$f":"IFERROR(VLOOKUP(後攻T!G37,記号!$F$27:$G$37,2,FALSE),\"\")","v":""},{"$f":"IFERROR(VLOOKUP(後攻T!L35,記号!$U$12:$V$13,2,FALSE),\"\")","v":""},{"$f":"IF(S88=\"\",\"\",IF(S88=L89+0.2,\"2\",IF(S88=L89+0.3,\"3\",IF(S88=L89+0.4,\"4\",IF(S88=L89+0.5,\"5\",\"先\")))))","v":"先"},{"$f":"IFERROR(VLOOKUP(後攻T!U28,記号!$F$27:$G$37,2,FALSE),\"\")","v":""},{"$f":"IFERROR(VLOOKUP(後攻T!V35,記号!$R$5:$S$10,2,FALSE),\"\")","v":""},{"$f":"IFERROR(VLOOKUP(後攻T!S37,記号!$F$27:$G$37,2,FALSE),\"\")","v":""},{"$f":"IFERROR(VLOOKUP(後攻T!X35,記号!$U$12:$V$13,2,FALSE),\"\")","v":""},{"$f":"IF(X88=\"\",\"\",IF(X88=L89+0.2,\"2\",IF(X88=L89+0.3,\"3\",IF(X88=L89+0.4,\"4\",IF(X88=L89+0.5,\"5\",\"先\")))))","v":"先"},{"$f":"IFERROR(VLOOKUP(後攻T!AG37,記号!$F$27:$G$37,2,FALSE),\"\")","v":""},{"$f":"IFERROR(VLOOKUP(後攻T!AH35,記号!$R$5:$S$10,2,FALSE),\"\")","v":"L"},{"$f":"IFERROR(VLOOKUP(後攻T!AE37,記号!$F$27:$G$37,2,FALSE),\"\")","v":""},{"$f":"IFERROR(VLOOKUP(後攻T!AJ35,記号!$U$12:$V$13,2,FALSE),\"\")","v":""},{"$f":"IF(AC88=\"\",\"\",IF(AC88=L89+0.2,\"2\",IF(AC88=L89+0.3,\"3\",IF(AC88=L89+0.4,\"4\",IF(AC88=L89+0.5,\"5\",\"先\")))))","v":"先"},{"$f":"IFERROR(VLOOKUP(後攻T!AS37,記号!$F$27:$G$37,2,FALSE),\"\")","v":""},{"$f":"IFERROR(VLOOKUP(後攻T!AT35,記号!$R$5:$S$10,2,FALSE),\"\")","v":""},{"$f":"IFERROR(VLOOKUP(後攻T!AQ37,記号!$F$27:$G$37,2,FALSE),\"\")","v":""},{"$f":"IFERROR(VLOOKUP(後攻T!AV35,記号!$U$12:$V$13,2,FALSE),\"\")","v":""},{"$f":"IF(AH88=\"\",\"\",IF(AH88=L89+0.2,\"2\",IF(AH88=L89+0.3,\"3\",IF(AH88=L89+0.4,\"4\",IF(AH88=L89+0.5,\"5\",\"先\")))))","v":"先"},{"$f":"IFERROR(VLOOKUP(後攻T!BE37,記号!$F$27:$G$37,2,FALSE),\"\")","v":""},{"$f":"IFERROR(VLOOKUP(後攻T!BF35,記号!$R$5:$S$10,2,FALSE),\"\")","v":"○"},{"$f":"IFERROR(VLOOKUP(後攻T!BC37,記号!$F$27:$G$37,2,FALSE),\"\")","v":""},{"$f":"IFERROR(VLOOKUP(後攻T!BH35,記号!$U$12:$V$13,2,FALSE),\"\")","v":""},{"$f":"IF(AM88=\"\",\"\",IF(AM88=L89+0.2,\"2\",IF(AM88=L89+0.3,\"3\",IF(AM88=L89+0.4,\"4\",IF(AM88=L89+0.5,\"5\",\"先\")))))","v":"先"},{"$f":"IFERROR(VLOOKUP(後攻T!BQ37,記号!$F$27:$G$37,2,FALSE),\"\")","v":""},{"$f":"IFERROR(VLOOKUP(後攻T!BR35,記号!$R$5:$S$10,2,FALSE),\"\")","v":"L"},{"$f":"IFERROR(VLOOKUP(後攻T!BO37,記号!$F$27:$G$37,2,FALSE),\"\")","v":""},{"$f":"IFERROR(VLOOKUP(後攻T!BT35,記号!$U$12:$V$13,2,FALSE),\"\")","v":"ZH"},{"$f":"IF(AR88=\"\",\"\",IF(AR88=L89+0.2,\"2\",IF(AR88=L89+0.3,\"3\",IF(AR88=L89+0.4,\"4\",IF(AR88=L89+0.5,\"5\",\"先\")))))","v":"先"},{"$f":"IFERROR(VLOOKUP(後攻T!CC37,記号!$F$27:$G$37,2,FALSE),\"\")","v":""},{"$f":"IFERROR(VLOOKUP(後攻T!CD35,記号!$R$5:$S$10,2,FALSE),\"\")","v":""},{"$f":"IFERROR(VLOOKUP(後攻T!CA37,記号!$F$27:$G$37,2,FALSE),\"\")","v":""},{"$f":"IFERROR(VLOOKUP(後攻T!CF35,記号!$U$12:$V$13,2,FALSE),\"\")","v":""},{"$f":"IF(AW88=\"\",\"\",IF(AW88=L89+0.2,\"2\",IF(AW88=L89+0.3,\"3\",IF(AW88=L89+0.4,\"4\",IF(AW88=L89+0.5,\"5\",\"先\")))))","v":"2"},{"$f":"IFERROR(VLOOKUP(後攻T!CO37,記号!$F$27:$G$37,2,FALSE),\"\")","v":""},{"$f":"IFERROR(VLOOKUP(後攻T!CP35,記号!$R$5:$S$10,2,FALSE),\"\")","v":"Ⅰ"},{"$f":"IFERROR(VLOOKUP(後攻T!CM37,記号!$F$27:$G$37,2,FALSE),\"\")","v":""},{"$f":"IFERROR(VLOOKUP(後攻T!CR35,記号!$U$12:$V$13,2,FALSE),\"\")","v":""},{"$f":"IF(BB88=\"\",\"\",IF(BB88=L89+0.2,\"2\",IF(BB88=L89+0.3,\"3\",IF(BB88=L89+0.4,\"4\",IF(BB88=L89+0.5,\"5\",\"先\")))))","v":"2"},{"$f":"IFERROR(VLOOKUP(後攻T!DA37,記号!$F$27:$G$37,2,FALSE),\"\")","v":""},{"$f":"IFERROR(VLOOKUP(後攻T!DB35,記号!$R$5:$S$10,2,FALSE),\"\")","v":""},{"$f":"IFERROR(VLOOKUP(後攻T!CY37,記号!$F$27:$G$37,2,FALSE),\"\")","v":""},{"$f":"IFERROR(VLOOKUP(後攻T!DD35,記号!$U$12:$V$13,2,FALSE),\"\")","v":""},{"$f":"IF(BG88=\"\",\"\",IF(BG88=L89+0.2,\"2\",IF(BG88=L89+0.3,\"3\",IF(BG88=L89+0.4,\"4\",IF(BG88=L89+0.5,\"5\",\"先\")))))","v":"2"},{"$f":"IFERROR(VLOOKUP(後攻T!DM37,記号!$F$27:$G$37,2,FALSE),\"\")","v":""},{"$f":"IFERROR(VLOOKUP(後攻T!DN35,記号!$R$5:$S$10,2,FALSE),\"\")","v":""},{"$f":"IFERROR(VLOOKUP(後攻T!DK37,記号!$F$27:$G$37,2,FALSE),\"\")","v":""},{"$f":"IFERROR(VLOOKUP(後攻T!DP35,記号!$U$12:$V$13,2,FALSE),\"\")","v":""},{"$f":"IF(BL88=\"\",\"\",IF(BL88=L89+0.2,\"2\",IF(BL88=L89+0.3,\"3\",IF(BL88=L89+0.4,\"4\",IF(BL88=L89+0.5,\"5\",\"先\")))))","v":"2"},{"$f":"IFERROR(VLOOKUP(後攻T!DY37,記号!$F$27:$G$37,2,FALSE),\"\")","v":""},{"$f":"IFERROR(VLOOKUP(後攻T!DZ35,記号!$R$5:$S$10,2,FALSE),\"\")","v":""},{"$f":"IFERROR(VLOOKUP(後攻T!DW37,記号!$F$27:$G$37,2,FALSE),\"\")","v":""},{"$f":"IFERROR(VLOOKUP(後攻T!EB35,記号!$U$12:$V$13,2,FALSE),\"\")","v":""},{"$f":"IF(BQ88=\"\",\"\",IF(BQ88=L89+0.2,\"2\",IF(BQ88=L89+0.3,\"3\",IF(BQ88=L89+0.4,\"4\",IF(BQ88=L89+0.5,\"5\",\"先\")))))","v":"2"},{"$f":"IFERROR(VLOOKUP(後攻T!EK37,記号!$F$27:$G$37,2,FALSE),\"\")","v":""},{"$f":"IFERROR(VLOOKUP(後攻T!EL35,記号!$R$5:$S$10,2,FALSE),\"\")","v":""},{"$f":"IFERROR(VLOOKUP(後攻T!EI37,記号!$F$27:$G$37,2,FALSE),\"\")","v":""},{"$f":"IFERROR(VLOOKUP(後攻T!EN35,記号!$U$12:$V$13,2,FALSE),\"\")","v":""},{"$f":"IF(K92=\"\",\"\",VLOOKUP(K92,$C$19:$E$24,3,FALSE))","v":""},{"$f":"IF(L92=\"\",\"\",(BX92+CG92+CH92+CI92))","v":""},"",{"$f":"IF(L92=\"\",\"\",COUNTIFS($N$88:$BU$88,L92,$N$93:$BU$93,$BY$68))","v":""},{"$f":"IF(L92=\"\",\"\",COUNTIFS($N$88:$BU$88,L92,$N$93:$BU$93,$BZ$68))","v":""},{"$f":"IF(L92=\"\",\"\",COUNTIFS($N$88:$BU$88,L92,$N$91:$BU$91,$CA$68))","v":""},{"$f":"IF(L92=\"\",\"\",COUNTIFS($N$88:$BU$88,L92,$N$91:$BU$91,$CB$68))","v":""},{"$f":"IF(L92=\"\",\"\",COUNTIFS($N$88:$BU$88,L92,$N$93:$BU$93,$CC$68))","v":""},{"$f":"IF(L92=\"\",\"\",SUMIF($N$88:$BU$88,L92,$N$93:$BU$93))","v":""},{"$f":"IF(L92=\"\",\"\",COUNTIFS($N$88:$BU$88,L92,$N$92:$BU$92,$CE$68))","v":""},{"$f":"IF(L92=\"\",\"\",COUNTIFS($N$88:$BU$88,L92,$N$93:$BU$93,$CF$68))","v":""},{"$f":"IF(L92=\"\",\"\",COUNTIFS($N$88:$BU$88,L92,$N$93:$BU$93,$CG$68))","v":""},{"$f":"IF(L92=\"\",\"\",COUNTIFS($N$88:$BU$88,L92,$N$93:$BU$93,$CH$68))","v":""},{"$f":"IF(L92=\"\",\"\",COUNTIFS($N$88:$BU$88,L92,$N$93:$BU$93,$CI$68))","v":""},{"$f":"IF(L92=\"\",\"\",COUNTIFS($N$88:$BU$88,L92,$N$93:$BU$93,$CJ$68))","v":""},{"$f":"IF(L92=\"\",\"\",COUNTIFS($N$88:$BU$88,L92,$N$93:$BU$93,$CK$68)+COUNTIFS($N$88:$BU$88,L92,$N$91:$BU$91,$CK$68))","v":""},{"$f":"IF(L92=\"\",\"\",COUNTIFS($N$88:$BU$88,L92,$N$93:$BU$93,$CL$68)+COUNTIFS($N$88:$BU$88,L92,$N$91:$BU$91,$CL$68))","v":""},{"$f":"IF(L92=\"\",\"\",COUNTIFS($N$88:$BU$88,L92,$N$93:$BU$93,$CM$68))","v":""},{"$f":"IF(L92=\"\",\"\",COUNTIFS($N$88:$BU$88,L92,$N$93:$BU$93,$CN$68))","v":""},{"$f":"IF(L92=\"\",\"\",COUNTIFS($N$88:$BU$88,L92,$N$89:$BU$89,$CO$68)+COUNTIFS($N$88:$BU$88,L92,$N$90:$BU$90,$CO$68))","v":""},null,"中2",null,null,null,null,"A","RR",8,"中",8,"先",null,null,null,null,null,null,null,null,null,null,null,null,null,null,null,null,null,null,null,null,null,null,null,null,null,null,null,{"$f":"IF(L92=\"\",\"\",L92)","v":""},"",{"$f":"IF(EC92=\"\",\"\",COUNTIFS($N$88:$BU$88,EC92,$N$93:$BU$93,\"RZ\"))","v":""},{"$f":"IF(EC92=\"\",\"\",COUNTIFS($N$88:$BU$88,EC92,$N$92:$BU$92,\"ZH\"))","v":""},null,null,null,null,null,null,null,"","",{"$f":"IF(G72=\"\",\"\",G72)","v":""},"RR","","","","","","","","","","","","","","","","","","","",null,null,null,null,null,null,null,null,null,null,null,null,null,null,null,null,null,null,null,null,null,null,null,null,null,null,null,null,null,null,null,null,null,null,null,null,null,null,null,null,null,null,null,null,null,null,null,null,null,null,null,null,null,null,null,null,null,null,null,null,null,null,"","","","","","","",""]
[null,null,null,null,null,null,null,null,null,{"$f":"IF(L93=\"\",\"\",VLOOKUP(L93,$C$94:$D$123,2,FALSE))","v":""},null,null,null,{"$f":"IFERROR(VLOOKUP(後攻T!K35,記号!$R$15:$S$20,2,FALSE),\"\")","v":""},{"$f":"IFERROR(VLOOKUP(後攻T!I35,記号!$O$5:$P$21,2,FALSE),\"\")","v":""},{"$f":"IFERROR(VLOOKUP(後攻T!F37,記号!$F$27:$G$37,2,FALSE),\"\")","v":""},{"$f":"IFERROR(VLOOKUP(後攻T!F35,記号!$F$5:$G$21,2,FALSE),\"\")","v":"K'"},{"$f":"IFERROR(VLOOKUP(後攻T!L36,記号!$U$5:$V$6,2,FALSE),\"\")","v":"RZ"},{"$f":"IFERROR(VLOOKUP(後攻T!W35,記号!$R$15:$S$20,2,FALSE),\"\")","v":""},{"$f":"IFERROR(VLOOKUP(後攻T!U35,記号!$O$5:$P$21,2,FALSE),\"\")","v":""},{"$f":"IFERROR(VLOOKUP(後攻T!R37,記号!$F$27:$G$37,2,FALSE),\"\")","v":""},{"$f":"IFERROR(VLOOKUP(後攻T!R35,記号!$F$5:$G$21,2,FALSE),\"\")","v":""},{"$f":"IFERROR(VLOOKUP(後攻T!X36,記号!$U$5:$V$6,2,FALSE),\"\")","v":""},{"$f":"IFERROR(VLOOKUP(後攻T!AI35,記号!$R$15:$S$20,2,FALSE),\"\")","v":""},{"$f":"IFERROR(VLOOKUP(後攻T!AG35,記号!$O$5:$P$21,2,FALSE),\"\")","v":""},{"$f":"IFERROR(VLOOKUP(後攻T!AD37,記号!$F$27:$G$37,2,FALSE),\"\")","v":"9'"},{"$f":"IFERROR(VLOOKUP(後攻T!AD35,記号!$F$5:$G$21,2,FALSE),\"\")","v":"H"},{"$f":"IFERROR(VLOOKUP(後攻T!AJ36,記号!$U$5:$V$6,2,FALSE),\"\")","v":""},{"$f":"IFERROR(VLOOKUP(後攻T!AU35,記号!$R$15:$S$20,2,FALSE),\"\")","v":""},{"$f":"IFERROR(VLOOKUP(後攻T!AS35,記号!$O$5:$P$21,2,FALSE),\"\")","v":""},{"$f":"IFERROR(VLOOKUP(後攻T!AP37,記号!$F$27:$G$37,2,FALSE),\"\")","v":""},{"$f":"IFERROR(VLOOKUP(後攻T!AP35,記号!$F$5:$G$21,2,FALSE),\"\")","v":""},{"$f":"IFERROR(VLOOKUP(後攻T!AV36,記号!$U$5:$V$6,2,FALSE),\"\")","v":""},{"$f":"IFERROR(VLOOKUP(後攻T!BG35,記号!$R$15:$S$20,2,FALSE),\"\")","v":""},{"$f":"IFERROR(VLOOKUP(後攻T!BE35,記号!$O$5:$P$21,2,FALSE),\"\")","v":"⑤"},{"$f":"IFERROR(VLOOKUP(後攻T!BB37,記号!$F$27:$G$37,2,FALSE),\"\")","v":"9'"},{"$f":"IFERROR(VLOOKUP(後攻T!BB35,記号!$F$5:$G$21,2,FALSE),\"\")","v":"H"},{"$f":"IFERROR(VLOOKUP(後攻T!BH36,記号!$U$5:$V$6,2,FALSE),\"\")","v":""},{"$f":"IFERROR(VLOOKUP(後攻T!BS35,記号!$R$15:$S$20,2,FALSE),\"\")","v":2},{"$f":"IFERROR(VLOOKUP(後攻T!BQ35,記号!$O$5:$P$21,2,FALSE),\"\")","v":""},{"$f":"IFERROR(VLOOKUP(後攻T!BN37,記号!$F$27:$G$37,2,FALSE),\"\")","v":"8'"},{"$f":"IFERROR(VLOOKUP(後攻T!BN35,記号!$F$5:$G$21,2,FALSE),\"\")","v":""},{"$f":"IFERROR(VLOOKUP(後攻T!BT36,記号!$U$5:$V$6,2,FALSE),\"\")","v":"RZ"},{"$f":"IFERROR(VLOOKUP(後攻T!CE35,記号!$R$15:$S$20,2,FALSE),\"\")","v":""},{"$f":"IFERROR(VLOOKUP(後攻T!CC35,記号!$O$5:$P$21,2,FALSE),\"\")","v":""},{"$f":"IFERROR(VLOOKUP(後攻T!BZ37,記号!$F$27:$G$37,2,FALSE),\"\")","v":""},{"$f":"IFERROR(VLOOKUP(後攻T!BZ35,記号!$F$5:$G$21,2,FALSE),\"\")","v":""},{"$f":"IFERROR(VLOOKUP(後攻T!CF46,記号!$U$5:$V$6,2,FALSE),\"\")","v":""},{"$f":"IFERROR(VLOOKUP(後攻T!CQ35,記号!$R$15:$S$20,2,FALSE),\"\")","v":""},{"$f":"IFERROR(VLOOKUP(後攻T!CO35,記号!$O$5:$P$21,2,FALSE),\"\")","v":""},{"$f":"IFERROR(VLOOKUP(後攻T!CL37,記号!$F$27:$G$37,2,FALSE),\"\")","v":""},{"$f":"IFERROR(VLOOKUP(後攻T!CL35,記号!$F$5:$G$21,2,FALSE),\"\")","v":"K'"},{"$f":"IFERROR(VLOOKUP(後攻T!CR36,記号!$U$5:$V$6,2,FALSE),\"\")","v":"RZ"},{"$f":"IFERROR(VLOOKUP(後攻T!DC35,記号!$R$15:$S$20,2,FALSE),\"\")","v":""},{"$f":"IFERROR(VLOOKUP(後攻T!DA35,記号!$O$5:$P$21,2,FALSE),\"\")","v":""},{"$f":"IFERROR(VLOOKUP(後攻T!CX37,記号!$F$27:$G$37,2,FALSE),\"\")","v":""},{"$f":"IFERROR(VLOOKUP(後攻T!CX35,記号!$F$5:$G$21,2,FALSE),\"\")","v":""},{"$f":"IFERROR(VLOOKUP(後攻T!DD36,記号!$U$5:$V$6,2,FALSE),\"\")","v":""},{"$f":"IFERROR(VLOOKUP(後攻T!DO35,記号!$R$15:$S$20,2,FALSE),\"\")","v":""},{"$f":"IFERROR(VLOOKUP(後攻T!DM35,記号!$O$5:$P$21,2,FALSE),\"\")","v":""},{"$f":"IFERROR(VLOOKUP(後攻T!DJ37,記号!$F$27:$G$37,2,FALSE),\"\")","v":""},{"$f":"IFERROR(VLOOKUP(後攻T!DJ35,記号!$F$5:$G$21,2,FALSE),\"\")","v":""},{"$f":"IFERROR(VLOOKUP(後攻T!DP35,記号!$U$5:$V$6,2,FALSE),\"\")","v":""},{"$f":"IFERROR(VLOOKUP(後攻T!EA35,記号!$R$15:$S$20,2,FALSE),\"\")","v":""},{"$f":"IFERROR(VLOOKUP(後攻T!DY35,記号!$O$5:$P$21,2,FALSE),\"\")","v":""},{"$f":"IFERROR(VLOOKUP(後攻T!DV37,記号!$F$27:$G$37,2,FALSE),\"\")","v":""},{"$f":"IFERROR(VLOOKUP(後攻T!DV35,記号!$F$5:$G$21,2,FALSE),\"\")","v":""},{"$f":"IFERROR(VLOOKUP(後攻T!EB36,記号!$U$5:$V$6,2,FALSE),\"\")","v":""},{"$f":"IFERROR(VLOOKUP(後攻T!EM35,記号!$R$15:$S$20,2,FALSE),\"\")","v":""},{"$f":"IFERROR(VLOOKUP(後攻T!EK35,記号!$O$5:$P$21,2,FALSE),\"\")","v":""},{"$f":"IFERROR(VLOOKUP(後攻T!EH37,記号!$F$27:$G$37,2,FALSE),\"\")","v":""},{"$f":"IFERROR(VLOOKUP(後攻T!EH35,記号!$F$5:$G$21,2,FALSE),\"\")","v":""},{"$f":"IFERROR(VLOOKUP(後攻T!EN36,記号!$U$5:$V$6,2,FALSE),\"\")","v":""},{"$f":"IF(K93=\"\",\"\",VLOOKUP(K93,$C$19:$E$24,3,FALSE))","v":""},{"$f":"IF(L93=\"\",\"\",(BX93+CG93+CH93+CI93))","v":""},"",{"$f":"IF(L93=\"\",\"\",COUNTIFS($N$88:$BU$88,L93,$N$93:$BU$93,$BY$68))","v":""},{"$f":"IF(L93=\"\",\"\",COUNTIFS($N$88:$BU$88,L93,$N$93:$BU$93,$BZ$68))","v":""},{"$f":"IF(L93=\"\",\"\",COUNTIFS($N$88:$BU$88,L93,$N$91:$BU$91,$CA$68))","v":""},{"$f":"IF(L93=\"\",\"\",COUNTIFS($N$88:$BU$88,L93,$N$91:$BU$91,$CB$68))","v":""},{"$f":"IF(L93=\"\",\"\",COUNTIFS($N$88:$BU$88,L93,$N$93:$BU$93,$CC$68))","v":""},{"$f":"IF(L93=\"\",\"\",SUMIF($N$88:$BU$88,L93,$N$93:$BU$93))","v":""},{"$f":"IF(L93=\"\",\"\",COUNTIFS($N$88:$BU$88,L93,$N$92:$BU$92,$CE$68))","v":""},{"$f":"IF(L93=\"\",\"\",COUNTIFS($N$88:$BU$88,L93,$N$93:$BU$93,$CF$68))","v":""},{"$f":"IF(L93=\"\",\"\",COUNTIFS($N$88:$BU$88,L93,$N$93:$BU$93,$CG$68))","v":""},{"$f":"IF(L93=\"\",\"\",COUNTIFS($N$88:$BU$88,L93,$N$93:$BU$93,$CH$68))","v":""},{"$f":"IF(L93=\"\",\"\",COUNTIFS($N$88:$BU$88,L93,$N$93:$BU$93,$CI$68))","v":""},{"$f":"IF(L93=\"\",\"\",COUNTIFS($N$88:$BU$88,L93,$N$93:$BU$93,$CJ$68))","v":""},{"$f":"IF(L93=\"\",\"\",COUNTIFS($N$88:$BU$88,L93,$N$93:$BU$93,$CK$68)+COUNTIFS($N$88:$BU$88,L93,$N$91:$BU$91,$CK$68))","v":""},{"$f":"IF(L93=\"\",\"\",COUNTIFS($N$88:$BU$88,L93,$N$93:$BU$93,$CL$68)+COUNTIFS($N$88:$BU$88,L93,$N$91:$BU$91,$CL$68))","v":""},{"$f":"IF(L93=\"\",\"\",COUNTIFS($N$88:$BU$88,L93,$N$93:$BU$93,$CM$68))","v":""},{"$f":"IF(L93=\"\",\"\",COUNTIFS($N$88:$BU$88,L93,$N$93:$BU$93,$CN$68))","v":""},{"$f":"IF(L93=\"\",\"\",COUNTIFS($N$88:$BU$88,L93,$N$89:$BU$89,$CO$68)+COUNTIFS($N$88:$BU$88,L93,$N$90:$BU$90,$CO$68))","v":""},null,"空三振",null,null,null,null,null,"RR",8,null,"",2,null,null,null,null,null,null,null,null,null,null,null,null,null,null,null,null,null,null,null,null,null,null,null,null,null,null,null,{"$f":"IF(L93=\"\",\"\",L93)","v":""},"",{"$f":"IF(EC93=\"\",\"\",COUNTIFS($N$88:$BU$88,EC93,$N$93:$BU$93,\"RZ\"))","v":""},{"$f":"IF(EC93=\"\",\"\",COUNTIFS($N$88:$BU$88,EC93,$N$92:$BU$92,\"ZH\"))","v":""},null,null,null,null,null,null,null,"","",{"$f":"IF(G72=\"\",\"\",G72)","v":""},"LL","","","","","","","","","","","","","","","","","","","",null,null,null,null,null,null,null,null,null,null,null,null,null,null,null,null,null,null,null,null,null,null,null,null,null,null,null,null,null,null,null,null,null,null,null,null,null,null,null,null,null,null,null,null,null,null,null,null,null,null,null,null,null,null,null,null,null,null,null,null,null,null,"","","","","","","",""]
[null,null,{"$f":"F94","v":1},"柿木　蓮","RR",1,null,null,null,null,null,null,"打者背番号を入力➡",{"$f":"後攻T!E38","v":6},{"$f":"N94","v":6},{"$f":"N94","v":6},{"$f":"N94","v":6},{"$f":"N94","v":6},{"$f":"後攻T!Q38","v":6},{"$f":"S94","v":6},{"$f":"S94","v":6},{"$f":"S94","v":6},{"$f":"S94","v":6},{"$f":"後攻T!AC38","v":6},{"$f":"X94","v":6},{"$f":"X94","v":6},{"$f":"X94","v":6},{"$f":"X94","v":6},{"$f":"後攻T!AO38","v":6},{"$f":"AC94","v":6},{"$f":"AC94","v":6},{"$f":"AC94","v":6},{"$f":"AC94","v":6},{"$f":"後攻T!BA38","v":6},{"$f":"AH94","v":6},{"$f":"AH94","v":6},{"$f":"AH94","v":6},{"$f":"AH94","v":6},{"$f":"後攻T!BM38","v":6},{"$f":"AM94","v":6},{"$f":"AM94","v":6},{"$f":"AM94","v":6},{"$f":"AM94","v":6},{"$f":"後攻T!BY38","v":6},{"$f":"AR94","v":6},{"$f":"AR94","v":6},{"$f":"AR94","v":6},{"$f":"AR94","v":6},{"$f":"後攻T!$CK38","v":6.2},{"$f":"AW94","v":6.2},{"$f":"AW94","v":6.2},{"$f":"AW94","v":6.2},{"$f":"AW94","v":6.2},{"$f":"後攻T!CW38","v":6.2},{"$f":"BB94","v":6.2},{"$f":"BB94","v":6.2},{"$f":"BB94","v":6.2},{"$f":"BB94","v":6.2},{"$f":"後攻T!DI38","v":6.2},{"$f":"BG94","v":6.2},{"$f":"BG94","v":6.2},{"$f":"BG94","v":6.2},{"$f":"BG94","v":6.2},{"$f":"後攻T!DU38","v":6.2},{"$f":"BL94","v":6.2},{"$f":"BL94","v":6.2},{"$f":"BL94","v":6.2},{"$f":"BL94","v":6.2},{"$f":"後攻T!EG38","v":6.2},{"$f":"BQ94","v":6.2},{"$f":"BQ94","v":6.2},{"$f":"BQ94","v":6.2},{"$f":"BQ94","v":6.2},null,null,null,null,null,null,null,null,null,null,null,null,null,null,null,null,null,null,null,null,null,null,null,null,null,null,null,null,null,null,null,null,null,null,null,null,null,null,null,null,null,null,null,null,null,null,null,null,null,null,null,null,null,null,null,null,null,null,null,null,null,null,null,null,null,null,null,null,null,null,"","",{"$f":"IF(G73=\"\",\"\",G73)","v":""},"RR","","","","","","","","","","","","","","","","","","","",null,null,null,null,null,null,null,null,null,null,null,null,null,null,null,null,null,null,null,null,null,null,null,null,null,null,null,null,null,null,null,null,null,null,null,null,null,null,null,null,null,null,null,null,null,null,null,null,null,null,null,null,null,null,null,null,null,null,null,null,null,null,null,""]
[null,null,{"$f":"F95","v":2},"小泉　航平","RR",2,null,null,{"$f":"IF(C74=\"\",\"\",C74)","v":"遊"},{"$f":"IF(D74=\"\",\"\",D74)","v":"根尾　昴"},{"$f":"IF(J95=\"\",\"\",\"先\")","v":"先"},{"$f":"IF(J95=\"\",\"\",F74)","v":6},"⑤",{"$f":"IFERROR(VLOOKUP(後攻T!F40,記号!$B$6:$C$10,2,FALSE),\"\")","v":"・●"},{"$f":"IFERROR(VLOOKUP(後攻T!G40,記号!$B$6:$C$10,2,FALSE),\"\")","v":"・〇"},{"$f":"IFERROR(VLOOKUP(後攻T!H40,記号!$B$6:$C$10,2,FALSE),\"\")","v":"・〇"},{"$f":"IFERROR(VLOOKUP(後攻T!I40,記号!$B$6:$C$10,2,FALSE),\"\")","v":"・●"},{"$f":"IFERROR(VLOOKUP(後攻T!J40,記号!$B$6:$C$10,2,FALSE),\"\")","v":"・●"},{"$f":"IFERROR(VLOOKUP(後攻T!R40,記号!$B$6:$C$10,2,FALSE),\"\")","v":""},{"$f":"IFERROR(VLOOKUP(後攻T!S40,記号!$B$6:$C$10,2,FALSE),\"\")","v":""},{"$f":"IFERROR(VLOOKUP(後攻T!T40,記号!$B$6:$C$10,2,FALSE),\"\")","v":""},{"$f":"IFERROR(VLOOKUP(後攻T!U40,記号!$B$6:$C$10,2,FALSE),\"\")","v":""},{"$f":"IFERROR(VLOOKUP(後攻T!V40,記号!$B$6:$C$10,2,FALSE),\"\")","v":""},{"$f":"IFERROR(VLOOKUP(後攻T!AD40,記号!$B$6:$C$10,2,FALSE),\"\")","v":"・◎"},{"$f":"IFERROR(VLOOKUP(後攻T!AE40,記号!$B$6:$C$10,2,FALSE),\"\")","v":""},{"$f":"IFERROR(VLOOKUP(後攻T!AF40,記号!$B$6:$C$10,2,FALSE),\"\")","v":""},{"$f":"IFERROR(VLOOKUP(後攻T!AG40,記号!$B$6:$C$10,2,FALSE),\"\")","v":""},{"$f":"IFERROR(VLOOKUP(後攻T!AH40,記号!$B$6:$C$10,2,FALSE),\"\")","v":""},{"$f":"IFERROR(VLOOKUP(後攻T!AP40,記号!$B$6:$C$10,2,FALSE),\"\")","v":""},{"$f":"IFERROR(VLOOKUP(後攻T!AQ40,記号!$B$6:$C$10,2,FALSE),\"\")","v":""},{"$f":"IFERROR(VLOOKUP(後攻T!AR40,記号!$B$6:$C$10,2,FALSE),\"\")","v":""},{"$f":"IFERROR(VLOOKUP(後攻T!AS40,記号!$B$6:$C$10,2,FALSE),\"\")","v":""},{"$f":"IFERROR(VLOOKUP(後攻T!AT40,記号!$B$6:$C$10,2,FALSE),\"\")","v":""},{"$f":"IFERROR(VLOOKUP(後攻T!BB40,記号!$B$6:$C$10,2,FALSE),\"\")","v":"・△"},{"$f":"IFERROR(VLOOKUP(後攻T!BC40,記号!$B$6:$C$10,2,FALSE),\"\")","v":"・△"},{"$f":"IFERROR(VLOOKUP(後攻T!BD40,記号!$B$6:$C$10,2,FALSE),\"\")","v":"・◎"},{"$f":"IFERROR(VLOOKUP(後攻T!BE40,記号!$B$6:$C$10,2,FALSE),\"\")","v":""},{"$f":"IFERROR(VLOOKUP(後攻T!BF40,記号!$B$6:$C$10,2,FALSE),\"\")","v":""},{"$f":"IFERROR(VLOOKUP(後攻T!BN40,記号!$B$6:$C$10,2,FALSE),\"\")","v":"・●"},{"$f":"IFERROR(VLOOKUP(後攻T!BO40,記号!$B$6:$C$10,2,FALSE),\"\")","v":"・△"},{"$f":"IFERROR(VLOOKUP(後攻T!BP40,記号!$B$6:$C$10,2,FALSE),\"\")","v":"・●"},{"$f":"IFERROR(VLOOKUP(後攻T!BQ40,記号!$B$6:$C$10,2,FALSE),\"\")","v":"・◎"},{"$f":"IFERROR(VLOOKUP(後攻T!BR40,記号!$B$6:$C$10,2,FALSE),\"\")","v":""},{"$f":"IFERROR(VLOOKUP(後攻T!BZ40,記号!$B$6:$C$10,2,FALSE),\"\")","v":""},{"$f":"IFERROR(VLOOKUP(後攻T!CA40,記号!$B$6:$C$10,2,FALSE),\"\")","v":""},{"$f":"IFERROR(VLOOKUP(後攻T!CB40,記号!$B$6:$C$10,2,FALSE),\"\")","v":""},{"$f":"IFERROR(VLOOKUP(後攻T!CC40,記号!$B$6:$C$10,2,FALSE),\"\")","v":""},{"$f":"IFERROR(VLOOKUP(後攻T!CD40,記号!$B$6:$C$10,2,FALSE),\"\")","v":""},{"$f":"IFERROR(VLOOKUP(後攻T!CL40,記号!$B$6:$C$10,2,FALSE),\"\")","v":"・□"},{"$f":"IFERROR(VLOOKUP(後攻T!CM40,記号!$B$6:$C$10,2,FALSE),\"\")","v":"・◎"},{"$f":"IFERROR(VLOOKUP(後攻T!CN40,記号!$B$6:$C$10,2,FALSE),\"\")","v":""},{"$f":"IFERROR(VLOOKUP(後攻T!CO40,記号!$B$6:$C$10,2,FALSE),\"\")","v":""},{"$f":"IFERROR(VLOOKUP(後攻T!CP40,記号!$B$6:$C$10,2,FALSE),\"\")","v":""},{"$f":"IFERROR(VLOOKUP(後攻T!CX31,記号!$B$6:$C$10,2,FALSE),\"\")","v":""},{"$f":"IFERROR(VLOOKUP(後攻T!CY31,記号!$B$6:$C$10,2,FALSE),\"\")","v":""},{"$f":"IFERROR(VLOOKUP(後攻T!CZ31,記号!$B$6:$C$10,2,FALSE),\"\")","v":""},{"$f":"IFERROR(VLOOKUP(後攻T!DA31,記号!$B$6:$C$10,2,FALSE),\"\")","v":""},{"$f":"IFERROR(VLOOKUP(後攻T!DB31,記号!$B$6:$C$10,2,FALSE),\"\")","v":""},{"$f":"IFERROR(VLOOKUP(後攻T!DJ31,記号!$B$6:$C$10,2,FALSE),\"\")","v":""},{"$f":"IFERROR(VLOOKUP(後攻T!DK31,記号!$B$6:$C$10,2,FALSE),\"\")","v":""},{"$f":"IFERROR(VLOOKUP(後攻T!DL31,記号!$B$6:$C$10,2,FALSE),\"\")","v":""},{"$f":"IFERROR(VLOOKUP(後攻T!DM31,記号!$B$6:$C$10,2,FALSE),\"\")","v":""},{"$f":"IFERROR(VLOOKUP(後攻T!DN31,記号!$B$6:$C$10,2,FALSE),\"\")","v":""},{"$f":"IFERROR(VLOOKUP(後攻T!DV40,記号!$B$6:$C$10,2,FALSE),\"\")","v":""},{"$f":"IFERROR(VLOOKUP(後攻T!DW40,記号!$B$6:$C$10,2,FALSE),\"\")","v":""},{"$f":"IFERROR(VLOOKUP(後攻T!DX40,記号!$B$6:$C$10,2,FALSE),\"\")","v":""},{"$f":"IFERROR(VLOOKUP(後攻T!DY40,記号!$B$6:$C$10,2,FALSE),\"\")","v":""},{"$f":"IFERROR(VLOOKUP(後攻T!DZ40,記号!$B$6:$C$10,2,FALSE),\"\")","v":""},{"$f":"IFERROR(VLOOKUP(後攻T!EH40,記号!$B$6:$C$10,2,FALSE),\"\")","v":""},{"$f":"IFERROR(VLOOKUP(後攻T!EI40,記号!$B$6:$C$10,2,FALSE),\"\")","v":""},{"$f":"IFERROR(VLOOKUP(後攻T!EJ40,記号!$B$6:$C$10,2,FALSE),\"\")","v":""},{"$f":"IFERROR(VLOOKUP(後攻T!EK40,記号!$B$6:$C$10,2,FALSE),\"\")","v":""},{"$f":"IFERROR(VLOOKUP(後攻T!EL40,記号!$B$6:$C$10,2,FALSE),\"\")","v":""},{"$f":"IF(K95=\"\",\"\",VLOOKUP(K95,$C$19:$E$24,3,FALSE))","v":"RR"},{"$f":"IF(L95=\"\",\"\",(BX95+CG95+CH95+CI95))","v":4},3,{"$f":"IF(L95=\"\",\"\",COUNTIFS($N$94:$BU$94,L95,$N$99:$BU$99,$BY$68))","v":2},{"$f":"IF(L95=\"\",\"\",COUNTIFS($N$94:$BU$94,L95,$N$99:$BU$99,$BZ$68))","v":0},{"$f":"IF(L95=\"\",\"\",COUNTIFS($N$94:$BU$94,L95,$N$97:$BU$97,$CA$68))","v":0},{"$f":"IF(L95=\"\",\"\",COUNTIFS($N$94:$BU$94,L95,$N$97:$BU$97,$CB$68))","v":0},{"$f":"IF(L95=\"\",\"\",COUNTIFS($N$94:$BU$94,L95,$N$99:$BU$99,$CC$68))","v":1},{"$f":"IF(L95=\"\",\"\",SUMIF($N$94:$BU$94,L95,$N$99:$BU$99))","v":2},{"$f":"IF(L95=\"\",\"\",COUNTIFS($N$94:$BU$94,L95,$N$98:$BU$98,$CE$68))","v":2},{"$f":"IF(L95=\"\",\"\",COUNTIFS($N$94:$BU$94,L95,$N$99:$BU$99,$CF$68))","v":0},{"$f":"IF(L95=\"\",\"\",COUNTIFS($N$94:$BU$94,L95,$N$99:$BU$99,$CG$68))","v":1},{"$f":"IF(L95=\"\",\"\",COUNTIFS($N$94:$BU$94,L95,$N$99:$BU$99,$CH$68))","v":0},{"$f":"IF(L95=\"\",\"\",COUNTIFS($N$94:$BU$94,L95,$N$99:$BU$99,$CI$68))","v":0},{"$f":"IF(L95=\"\",\"\",COUNTIFS($N$94:$BU$94,L95,$N$99:$BU$99,$CJ$68))","v":0},{"$f":"IF(L95=\"\",\"\",COUNTIFS($N$94:$BU$94,L95,$N$99:$BU$99,$CK$68)+COUNTIFS($N$94:$BU$94,L95,$N$97:$BU$97,$CK$68))","v":0},{"$f":"IF(L95=\"\",\"\",COUNTIFS($N$94:$BU$94,L95,$N$99:$BU$99,$CL$68)+COUNTIFS($N$94:$BU$94,L95,$N$97:$BU$97,$CL$68))","v":0},{"$f":"IF(L95=\"\",\"\",COUNTIFS($N$94:$BU$94,L95,$N$99:$BU$99,$CM$68))","v":0},{"$f":"IF(L95=\"\",\"\",COUNTIFS($N$94:$BU$94,L95,$N$99:$BU$99,$CN$68))","v":0},{"$f":"IF(L95=\"\",\"\",COUNTIFS($N$94:$BU$94,L95,$N$95:$BU$95,$CO$68)+COUNTIFS($N$94:$BU$94,L95,$N$96:$BU$96,$CO$68))","v":14},"先","四球",null,null,null,null,null,{"$f":"IF(DA95=\"\",\"\",VLOOKUP(DA95,$C$19:$F$24,3,FALSE))","v":"RR"},6,null,{"$f":"IF(CY95=\"\",\"\",VLOOKUP(CY95,$C$5:$F$14,4,FALSE))","v":""},"先",null,null,null,null,null,null,null,null,null,null,null,null,null,null,null,null,null,null,null,null,null,null,null,null,null,null,null,{"$f":"IF(L95=\"\",\"\",L95)","v":6},{"$f":"IF(EC95=\"\",\"\",VLOOKUP(EC95,$C$94:$D$123,2,FALSE))","v":"根尾　昴"},{"$f":"IF(EC95=\"\",\"\",COUNTIFS($N$94:$BU$94,EC95,$N$99:$BU$99,\"RZ\"))","v":1},{"$f":"IF(EC95=\"\",\"\",COUNTIFS($N$94:$BU$94,EC95,$N$98:$BU$98,\"ZH\"))","v":0},null,null,null,null,null,null,null,"","",{"$f":"IF(G73=\"\",\"\",G73)","v":""},"LL","","","","","","","","","","","","","","","","","","","",null,null,null,null,null,null,null,null,null,null,null,null,null,null,null,null,null,null,null,null,null,null,null,null,null,null,null,null,null,null,null,null,null,null,null,null,null,null,null,null,null,null,null,null,null,null,null,null,null,null,null,null,null,null,null,null,null,null,null,null,null,null,"根尾　昴",6,{"$f":"IF(HU95=\"\",\"\",COUNTIFS($N$94:$BU$94,HV95,$N$95:$BU$95,$HW$68)+COUNTIFS($N$94:$BU$94,HV95,$N$96:$BU$96,$HW$68))","v":14},{"$f":"IF(HU95=\"\",\"\",COUNTIFS($N$94:$BU$94,HV95,$N$95:$BU$95,$HX$68)+COUNTIFS($N$94:$BU$94,HV95,$N$96:$BU$96,$HX$68))","v":6},{"$f":"IF(HU95=\"\",\"\",COUNTIFS($N$94:$BU$94,HV95,$N$95:$BU$95,$HY$68)+COUNTIFS($N$94:$BU$94,HV95,$N$96:$BU$96,$HY$68))","v":2},{"$f":"IF(HU95=\"\",\"\",COUNTIFS($N$94:$BU$94,HV95,$N$95:$BU$95,$HZ$68)+COUNTIFS($N$94:$BU$94,HV95,$N$96:$BU$96,$HZ$68))","v":3},{"$f":"IF(HU95=\"\",\"\",COUNTIFS($N$94:$BU$94,HV95,$N$95:$BU$95,$IA$68)+COUNTIFS($N$94:$BU$94,HV95,$N$96:$BU$96,$IA$68))","v":0},{"$f":"IF(HU95=\"\",\"\",COUNTIFS($N$94:$BU$94,HV95,$N$95:$BU$95,$IB$68)+COUNTIFS($N$94:$BU$94,HV95,$N$96:$BU$96,$IB$68))","v":3}]
[null,null,3,"石川　端貴","RR",3,null,null,null,"根尾　昴",2,6.2,null,{"$f":"IFERROR(VLOOKUP(後攻T!K40,記号!$B$6:$C$10,2,FALSE),\"\")","v":"・●"},{"$f":"IFERROR(VLOOKUP(後攻T!L40,記号!$B$6:$C$10,2,FALSE),\"\")","v":""},{"$f":"IFERROR(VLOOKUP(後攻T!F42,記号!$B$6:$C$10,2,FALSE),\"\")","v":""},{"$f":"IFERROR(VLOOKUP(後攻T!G42,記号!$B$6:$C$10,2,FALSE),\"\")","v":""},{"$f":"IFERROR(VLOOKUP(後攻T!H42,記号!$B$6:$C$10,2,FALSE),\"\")","v":""},{"$f":"IFERROR(VLOOKUP(後攻T!W40,記号!$B$6:$C$10,2,FALSE),\"\")","v":""},{"$f":"IFERROR(VLOOKUP(後攻T!X40,記号!$B$6:$C$10,2,FALSE),\"\")","v":""},{"$f":"IFERROR(VLOOKUP(後攻T!R42,記号!$B$6:$C$10,2,FALSE),\"\")","v":""},{"$f":"IFERROR(VLOOKUP(後攻T!S42,記号!$B$6:$C$10,2,FALSE),\"\")","v":""},{"$f":"IFERROR(VLOOKUP(後攻T!T42,記号!$B$6:$C$10,2,FALSE),\"\")","v":""},{"$f":"IFERROR(VLOOKUP(後攻T!AI40,記号!$B$6:$C$10,2,FALSE),\"\")","v":""},{"$f":"IFERROR(VLOOKUP(後攻T!AJ40,記号!$B$6:$C$10,2,FALSE),\"\")","v":""},{"$f":"IFERROR(VLOOKUP(後攻T!AD42,記号!$B$6:$C$10,2,FALSE),\"\")","v":""},{"$f":"IFERROR(VLOOKUP(後攻T!AE42,記号!$B$6:$C$10,2,FALSE),\"\")","v":""},{"$f":"IFERROR(VLOOKUP(後攻T!AF42,記号!$B$6:$C$10,2,FALSE),\"\")","v":""},{"$f":"IFERROR(VLOOKUP(後攻T!AU40,記号!$B$6:$C$10,2,FALSE),\"\")","v":""},{"$f":"IFERROR(VLOOKUP(後攻T!AV40,記号!$B$6:$C$10,2,FALSE),\"\")","v":""},{"$f":"IFERROR(VLOOKUP(後攻T!AP42,記号!$B$6:$C$10,2,FALSE),\"\")","v":""},{"$f":"IFERROR(VLOOKUP(後攻T!AQ42,記号!$B$6:$C$10,2,FALSE),\"\")","v":""},{"$f":"IFERROR(VLOOKUP(後攻T!AR42,記号!$B$6:$C$10,2,FALSE),\"\")","v":""},{"$f":"IFERROR(VLOOKUP(後攻T!BG40,記号!$B$6:$C$10,2,FALSE),\"\")","v":""},{"$f":"IFERROR(VLOOKUP(後攻T!BH40,記号!$B$6:$C$10,2,FALSE),\"\")","v":""},{"$f":"IFERROR(VLOOKUP(後攻T!BB42,記号!$B$6:$C$10,2,FALSE),\"\")","v":""},{"$f":"IFERROR(VLOOKUP(後攻T!BC42,記号!$B$6:$C$10,2,FALSE),\"\")","v":""},{"$f":"IFERROR(VLOOKUP(後攻T!BD42,記号!$B$6:$C$10,2,FALSE),\"\")","v":""},{"$f":"IFERROR(VLOOKUP(後攻T!BS40,記号!$B$6:$C$10,2,FALSE),\"\")","v":""},{"$f":"IFERROR(VLOOKUP(後攻T!BT40,記号!$B$6:$C$10,2,FALSE),\"\")","v":""},{"$f":"IFERROR(VLOOKUP(後攻T!BN42,記号!$B$6:$C$10,2,FALSE),\"\")","v":""},{"$f":"IFERROR(VLOOKUP(後攻T!BO42,記号!$B$6:$C$10,2,FALSE),\"\")","v":""},{"$f":"IFERROR(VLOOKUP(後攻T!BP42,記号!$B$6:$C$10,2,FALSE),\"\")","v":""},{"$f":"IFERROR(VLOOKUP(後攻T!CE40,記号!$B$6:$C$10,2,FALSE),\"\")","v":""},{"$f":"IFERROR(VLOOKUP(後攻T!CF40,記号!$B$6:$C$10,2,FALSE),\"\")","v":""},{"$f":"IFERROR(VLOOKUP(後攻T!BZ42,記号!$B$6:$C$10,2,FALSE),\"\")","v":""},{"$f":"IFERROR(VLOOKUP(後攻T!CA42,記号!$B$6:$C$10,2,FALSE),\"\")","v":""},{"$f":"IFERROR(VLOOKUP(後攻T!CB42,記号!$B$6:$C$10,2,FALSE),\"\")","v":""},{"$f":"IFERROR(VLOOKUP(後攻T!CQ40,記号!$B$6:$C$10,2,FALSE),\"\")","v":""},{"$f":"IFERROR(VLOOKUP(後攻T!CR40,記号!$B$6:$C$10,2,FALSE),\"\")","v":""},{"$f":"IFERROR(VLOOKUP(後攻T!CL42,記号!$B$6:$C$10,2,FALSE),\"\")","v":""},{"$f":"IFERROR(VLOOKUP(後攻T!CM42,記号!$B$6:$C$10,2,FALSE),\"\")","v":""},{"$f":"IFERROR(VLOOKUP(後攻T!CN42,記号!$B$6:$C$10,2,FALSE),\"\")","v":""},{"$f":"IFERROR(VLOOKUP(後攻T!DC40,記号!$B$6:$C$10,2,FALSE),\"\")","v":""},{"$f":"IFERROR(VLOOKUP(後攻T!DD40,記号!$B$6:$C$10,2,FALSE),\"\")","v":""},{"$f":"IFERROR(VLOOKUP(後攻T!CX42,記号!$B$6:$C$10,2,FALSE),\"\")","v":""},{"$f":"IFERROR(VLOOKUP(後攻T!CY42,記号!$B$6:$C$10,2,FALSE),\"\")","v":""},{"$f":"IFERROR(VLOOKUP(後攻T!CZ42,記号!$B$6:$C$10,2,FALSE),\"\")","v":""},{"$f":"IFERROR(VLOOKUP(後攻T!DO31,記号!$B$6:$C$10,2,FALSE),\"\")","v":""},{"$f":"IFERROR(VLOOKUP(後攻T!DP31,記号!$B$6:$C$10,2,FALSE),\"\")","v":""},{"$f":"IFERROR(VLOOKUP(後攻T!DJ42,記号!$B$6:$C$10,2,FALSE),\"\")","v":""},{"$f":"IFERROR(VLOOKUP(後攻T!DK42,記号!$B$6:$C$10,2,FALSE),\"\")","v":""},{"$f":"IFERROR(VLOOKUP(後攻T!DL42,記号!$B$6:$C$10,2,FALSE),\"\")","v":""},{"$f":"IFERROR(VLOOKUP(後攻T!EA40,記号!$B$6:$C$10,2,FALSE),\"\")","v":""},{"$f":"IFERROR(VLOOKUP(後攻T!EB40,記号!$B$6:$C$10,2,FALSE),\"\")","v":""},{"$f":"IFERROR(VLOOKUP(後攻T!DV42,記号!$B$6:$C$10,2,FALSE),\"\")","v":""},{"$f":"IFERROR(VLOOKUP(後攻T!DW42,記号!$B$6:$C$10,2,FALSE),\"\")","v":""},{"$f":"IFERROR(VLOOKUP(後攻T!DX42,記号!$B$6:$C$10,2,FALSE),\"\")","v":""},{"$f":"IFERROR(VLOOKUP(後攻T!EM40,記号!$B$6:$C$10,2,FALSE),\"\")","v":""},{"$f":"IFERROR(VLOOKUP(後攻T!EN40,記号!$B$6:$C$10,2,FALSE),\"\")","v":""},{"$f":"IFERROR(VLOOKUP(後攻T!EH42,記号!$B$6:$C$10,2,FALSE),\"\")","v":""},{"$f":"IFERROR(VLOOKUP(後攻T!EI42,記号!$B$6:$C$10,2,FALSE),\"\")","v":""},{"$f":"IFERROR(VLOOKUP(後攻T!EJ42,記号!$B$6:$C$10,2,FALSE),\"\")","v":""},{"$f":"IF(K96=\"\",\"\",VLOOKUP(K96,$C$19:$E$24,3,FALSE))","v":"RR"},{"$f":"IF(L96=\"\",\"\",(BX96+CG96+CH96+CI96))","v":1},1,{"$f":"IF(L96=\"\",\"\",COUNTIFS($N$94:$BU$94,L96,$N$99:$BU$99,$BY$68))","v":1},{"$f":"IF(L96=\"\",\"\",COUNTIFS($N$94:$BU$94,L96,$N$99:$BU$99,$BZ$68))","v":0},{"$f":"IF(L96=\"\",\"\",COUNTIFS($N$94:$BU$94,L96,$N$97:$BU$97,$CA$68))","v":0},{"$f":"IF(L96=\"\",\"\",COUNTIFS($N$94:$BU$94,L96,$N$97:$BU$97,$CB$68))","v":0},{"$f":"IF(L96=\"\",\"\",COUNTIFS($N$94:$BU$94,L96,$N$99:$BU$99,$CC$68))","v":0},{"$f":"IF(L96=\"\",\"\",SUMIF($N$94:$BU$94,L96,$N$99:$BU$99))","v":1},{"$f":"IF(L96=\"\",\"\",COUNTIFS($N$94:$BU$94,L96,$N$98:$BU$98,$CE$68))","v":0},{"$f":"IF(L96=\"\",\"\",COUNTIFS($N$94:$BU$94,L96,$N$99:$BU$99,$CF$68))","v":0},{"$f":"IF(L96=\"\",\"\",COUNTIFS($N$94:$BU$94,L96,$N$99:$BU$99,$CG$68))","v":0},{"$f":"IF(L96=\"\",\"\",COUNTIFS($N$94:$BU$94,L96,$N$99:$BU$99,$CH$68))","v":0},{"$f":"IF(L96=\"\",\"\",COUNTIFS($N$94:$BU$94,L96,$N$99:$BU$99,$CI$68))","v":0},{"$f":"IF(L96=\"\",\"\",COUNTIFS($N$94:$BU$94,L96,$N$99:$BU$99,$CJ$68))","v":0},{"$f":"IF(L96=\"\",\"\",COUNTIFS($N$94:$BU$94,L96,$N$99:$BU$99,$CK$68)+COUNTIFS($N$94:$BU$94,L96,$N$97:$BU$97,$CK$68))","v":0},{"$f":"IF(L96=\"\",\"\",COUNTIFS($N$94:$BU$94,L96,$N$99:$BU$99,$CL$68)+COUNTIFS($N$94:$BU$94,L96,$N$97:$BU$97,$CL$68))","v":0},{"$f":"IF(L96=\"\",\"\",COUNTIFS($N$94:$BU$94,L96,$N$99:$BU$99,$CM$68))","v":0},{"$f":"IF(L96=\"\",\"\",COUNTIFS($N$94:$BU$94,L96,$N$99:$BU$99,$CN$68))","v":0},{"$f":"IF(L96=\"\",\"\",COUNTIFS($N$94:$BU$94,L96,$N$95:$BU$95,$CO$68)+COUNTIFS($N$94:$BU$94,L96,$N$96:$BU$96,$CO$68))","v":2},2,"一ゴロ",null,null,null,null,"G",{"$f":"IF(DA96=\"\",\"\",VLOOKUP(DA96,$C$19:$F$24,3,FALSE))","v":"RR"},6,"一",{"$f":"IF(CY96=\"\",\"\",VLOOKUP(CY96,$C$5:$F$14,4,FALSE))","v":5},"先",null,null,null,null,null,null,null,null,null,null,null,null,null,null,null,null,null,null,null,null,null,null,null,null,null,null,null,{"$f":"IF(L96=\"\",\"\",L96)","v":6.2},"根尾　昴",{"$f":"IF(EC96=\"\",\"\",COUNTIFS($N$94:$BU$94,EC96,$N$99:$BU$99,\"RZ\"))","v":1},{"$f":"IF(EC96=\"\",\"\",COUNTIFS($N$94:$BU$94,EC96,$N$98:$BU$98,\"ZH\"))","v":0},null,null,null,null,null,null,null,"","",{"$f":"IF(G74=\"\",\"\",G74)","v":""},"RR","","","","","","","","","","","","","","","","","","","",null,null,null,null,null,null,null,null,null,null,null,null,null,null,null,null,null,null,null,null,null,null,null,null,null,null,null,null,null,null,null,null,null,null,null,null,null,null,null,null,null,null,null,null,null,null,null,null,null,null,null,null,null,null,null,null,null,null,null,null,null,null,"根尾　昴",6.2,{"$f":"IF(HU96=\"\",\"\",COUNTIFS($N$94:$BU$94,HV96,$N$95:$BU$95,$HW$68)+COUNTIFS($N$94:$BU$94,HV96,$N$96:$BU$96,$HW$68))","v":2},{"$f":"IF(HU96=\"\",\"\",COUNTIFS($N$94:$BU$94,HV96,$N$95:$BU$95,$HX$68)+COUNTIFS($N$94:$BU$94,HV96,$N$96:$BU$96,$HX$68))","v":0},{"$f":"IF(HU96=\"\",\"\",COUNTIFS($N$94:$BU$94,HV96,$N$95:$BU$95,$HY$68)+COUNTIFS($N$94:$BU$94,HV96,$N$96:$BU$96,$HY$68))","v":0},{"$f":"IF(HU96=\"\",\"\",COUNTIFS($N$94:$BU$94,HV96,$N$95:$BU$95,$HZ$68)+COUNTIFS($N$94:$BU$94,HV96,$N$96:$BU$96,$HZ$68))","v":0},{"$f":"IF(HU96=\"\",\"\",COUNTIFS($N$94:$BU$94,HV96,$N$95:$BU$95,$IA$68)+COUNTIFS($N$94:$BU$94,HV96,$N$96:$BU$96,$IA$68))","v":1},{"$f":"IF(HU96=\"\",\"\",COUNTIFS($N$94:$BU$94,HV96,$N$95:$BU$95,$IB$68)+COUNTIFS($N$94:$BU$94,HV96,$N$96:$BU$96,$IB$68))","v":1}]
[null,null,4,"山田　健太","RR",4,null,null,null,{"$f":"IF(L97=\"\",\"\",VLOOKUP(L97,$C$94:$D$123,2,FALSE))","v":""},null,null,null,{"$f":"IFERROR(VLOOKUP(後攻T!F45,記号!$I$27:$J$30,2,FALSE),\"\")","v":""},{"$f":"IFERROR(VLOOKUP(後攻T!H44,記号!$L$5:$M$21,2,FALSE),\"\")","v":""},{"$f":"IFERROR(VLOOKUP(後攻T!H46,記号!$F$27:$G$37,2,FALSE),\"\")","v":""},{"$f":"IFERROR(VLOOKUP(後攻T!G44,記号!$I$5:$J$23,2,FALSE),\"\")","v":"E"},null,{"$f":"IFERROR(VLOOKUP(後攻T!R45,記号!$I$27:$J$30,2,FALSE),\"\")","v":""},{"$f":"IFERROR(VLOOKUP(後攻T!T32,記号!$L$5:$M$21,2,FALSE),\"\")","v":""},{"$f":"IFERROR(VLOOKUP(後攻T!T46,記号!$F$27:$G$37,2,FALSE),\"\")","v":""},{"$f":"IFERROR(VLOOKUP(後攻T!S44,記号!$I$5:$J$23,2,FALSE),\"\")","v":""},null,{"$f":"IFERROR(VLOOKUP(後攻T!AD45,記号!$I$27:$J$30,2,FALSE),\"\")","v":"G"},{"$f":"IFERROR(VLOOKUP(後攻T!AF44,記号!$L$5:$M$21,2,FALSE),\"\")","v":""},{"$f":"IFERROR(VLOOKUP(後攻T!AF46,記号!$F$27:$G$37,2,FALSE),\"\")","v":""},{"$f":"IFERROR(VLOOKUP(後攻T!AE44,記号!$I$5:$J$23,2,FALSE),\"\")","v":""},null,{"$f":"IFERROR(VLOOKUP(後攻T!AP45,記号!$I$27:$J$30,2,FALSE),\"\")","v":""},{"$f":"IFERROR(VLOOKUP(後攻T!AR44,記号!$L$5:$M$21,2,FALSE),\"\")","v":""},{"$f":"IFERROR(VLOOKUP(後攻T!AR46,記号!$F$27:$G$37,2,FALSE),\"\")","v":""},{"$f":"IFERROR(VLOOKUP(後攻T!AQ44,記号!$I$5:$J$23,2,FALSE),\"\")","v":""},null,{"$f":"IFERROR(VLOOKUP(後攻T!BB45,記号!$I$27:$J$30,2,FALSE),\"\")","v":"F"},{"$f":"IFERROR(VLOOKUP(後攻T!BD44,記号!$L$5:$M$21,2,FALSE),\"\")","v":""},{"$f":"IFERROR(VLOOKUP(後攻T!BD46,記号!$F$27:$G$37,2,FALSE),\"\")","v":""},{"$f":"IFERROR(VLOOKUP(後攻T!BO32,記号!$I$5:$J$23,2,FALSE),\"\")","v":""},null,{"$f":"IFERROR(VLOOKUP(後攻T!BN45,記号!$I$27:$J$30,2,FALSE),\"\")","v":"F"},{"$f":"IFERROR(VLOOKUP(後攻T!BP44,記号!$L$5:$M$21,2,FALSE),\"\")","v":""},{"$f":"IFERROR(VLOOKUP(後攻T!BP46,記号!$F$27:$G$37,2,FALSE),\"\")","v":""},{"$f":"IFERROR(VLOOKUP(後攻T!BO44,記号!$I$5:$J$23,2,FALSE),\"\")","v":""},null,{"$f":"IFERROR(VLOOKUP(後攻T!BZ45,記号!$I$27:$J$30,2,FALSE),\"\")","v":""},{"$f":"IFERROR(VLOOKUP(後攻T!CB44,記号!$L$5:$M$21,2,FALSE),\"\")","v":""},{"$f":"IFERROR(VLOOKUP(後攻T!CB46,記号!$F$27:$G$37,2,FALSE),\"\")","v":""},{"$f":"IFERROR(VLOOKUP(後攻T!CA44,記号!$I$5:$J$23,2,FALSE),\"\")","v":""},null,{"$f":"IFERROR(VLOOKUP(後攻T!CL45,記号!$I$27:$J$30,2,FALSE),\"\")","v":"G"},{"$f":"IFERROR(VLOOKUP(後攻T!CN44,記号!$L$5:$M$21,2,FALSE),\"\")","v":""},{"$f":"IFERROR(VLOOKUP(後攻T!CN46,記号!$F$27:$G$37,2,FALSE),\"\")","v":""},{"$f":"IFERROR(VLOOKUP(後攻T!CM44,記号!$I$5:$J$23,2,FALSE),\"\")","v":""},null,{"$f":"IFERROR(VLOOKUP(後攻T!CX45,記号!$I$27:$J$30,2,FALSE),\"\")","v":""},{"$f":"IFERROR(VLOOKUP(後攻T!CZ44,記号!$L$5:$M$21,2,FALSE),\"\")","v":""},{"$f":"IFERROR(VLOOKUP(後攻T!CZ46,記号!$F$27:$G$37,2,FALSE),\"\")","v":""},{"$f":"IFERROR(VLOOKUP(後攻T!CY44,記号!$I$5:$J$23,2,FALSE),\"\")","v":""},null,{"$f":"IFERROR(VLOOKUP(後攻T!DJ45,記号!$I$27:$J$30,2,FALSE),\"\")","v":""},{"$f":"IFERROR(VLOOKUP(後攻T!DL44,記号!$L$5:$M$21,2,FALSE),\"\")","v":""},{"$f":"IFERROR(VLOOKUP(後攻T!DL46,記号!$F$27:$G$37,2,FALSE),\"\")","v":""},{"$f":"IFERROR(VLOOKUP(後攻T!DK44,記号!$I$5:$J$23,2,FALSE),\"\")","v":""},null,{"$f":"IFERROR(VLOOKUP(後攻T!DV45,記号!$I$27:$J$30,2,FALSE),\"\")","v":""},{"$f":"IFERROR(VLOOKUP(後攻T!DX44,記号!$L$5:$M$21,2,FALSE),\"\")","v":""},{"$f":"IFERROR(VLOOKUP(後攻T!DX46,記号!$F$27:$G$37,2,FALSE),\"\")","v":""},{"$f":"IFERROR(VLOOKUP(後攻T!DW44,記号!$I$5:$J$23,2,FALSE),\"\")","v":""},null,{"$f":"IFERROR(VLOOKUP(後攻T!EH45,記号!$I$27:$J$30,2,FALSE),\"\")","v":""},{"$f":"IFERROR(VLOOKUP(後攻T!EJ44,記号!$I$27:$J$30,2,FALSE),\"\")","v":""},{"$f":"IFERROR(VLOOKUP(後攻T!EJ46,記号!$I$27:$J$30,2,FALSE),\"\")","v":""},{"$f":"IFERROR(VLOOKUP(後攻T!EI44,記号!$I$27:$J$30,2,FALSE),\"\")","v":""},null,{"$f":"IF(K97=\"\",\"\",VLOOKUP(K97,$C$19:$E$24,3,FALSE))","v":""},{"$f":"IF(L97=\"\",\"\",(BX97+CG97+CH97+CI97))","v":""},"",{"$f":"IF(L97=\"\",\"\",COUNTIFS($N$94:$BU$94,L97,$N$99:$BU$99,$BY$68))","v":""},{"$f":"IF(L97=\"\",\"\",COUNTIFS($N$94:$BU$94,L97,$N$99:$BU$99,$BZ$68))","v":""},{"$f":"IF(L97=\"\",\"\",COUNTIFS($N$94:$BU$94,L97,$N$97:$BU$97,$CA$68))","v":""},{"$f":"IF(L97=\"\",\"\",COUNTIFS($N$94:$BU$94,L97,$N$97:$BU$97,$CB$68))","v":""},{"$f":"IF(L97=\"\",\"\",COUNTIFS($N$94:$BU$94,L97,$N$99:$BU$99,$CC$68))","v":""},{"$f":"IF(L97=\"\",\"\",SUMIF($N$94:$BU$94,L97,$N$99:$BU$99))","v":""},{"$f":"IF(L97=\"\",\"\",COUNTIFS($N$94:$BU$94,L97,$N$98:$BU$98,$CE$68))","v":""},{"$f":"IF(L97=\"\",\"\",COUNTIFS($N$94:$BU$94,L97,$N$99:$BU$99,$CF$68))","v":""},{"$f":"IF(L97=\"\",\"\",COUNTIFS($N$94:$BU$94,L97,$N$99:$BU$99,$CG$68))","v":""},{"$f":"IF(L97=\"\",\"\",COUNTIFS($N$94:$BU$94,L97,$N$99:$BU$99,$CH$68))","v":""},{"$f":"IF(L97=\"\",\"\",COUNTIFS($N$94:$BU$94,L97,$N$99:$BU$99,$CI$68))","v":""},{"$f":"IF(L97=\"\",\"\",COUNTIFS($N$94:$BU$94,L97,$N$99:$BU$99,$CJ$68))","v":""},{"$f":"IF(L97=\"\",\"\",COUNTIFS($N$94:$BU$94,L97,$N$99:$BU$99,$CK$68)+COUNTIFS($N$94:$BU$94,L97,$N$97:$BU$97,$CK$68))","v":""},{"$f":"IF(L97=\"\",\"\",COUNTIFS($N$94:$BU$94,L97,$N$99:$BU$99,$CL$68)+COUNTIFS($N$94:$BU$94,L97,$N$97:$BU$97,$CL$68))","v":""},{"$f":"IF(L97=\"\",\"\",COUNTIFS($N$94:$BU$94,L97,$N$99:$BU$99,$CM$68))","v":""},{"$f":"IF(L97=\"\",\"\",COUNTIFS($N$94:$BU$94,L97,$N$99:$BU$99,$CN$68))","v":""},{"$f":"IF(L97=\"\",\"\",COUNTIFS($N$94:$BU$94,L97,$N$95:$BU$95,$CO$68)+COUNTIFS($N$94:$BU$94,L97,$N$96:$BU$96,$CO$68))","v":""},null,"左本",null,null,null,null,"A","RR",6,"左",7,"先",null,null,null,null,null,null,null,null,null,null,null,null,null,null,null,null,null,null,null,null,null,null,null,null,null,null,null,{"$f":"IF(L97=\"\",\"\",L97)","v":""},"",{"$f":"IF(EC97=\"\",\"\",COUNTIFS($N$94:$BU$94,EC97,$N$99:$BU$99,\"RZ\"))","v":""},{"$f":"IF(EC97=\"\",\"\",COUNTIFS($N$94:$BU$94,EC97,$N$98:$BU$98,\"ZH\"))","v":""},null,null,null,null,null,null,null,"","",{"$f":"IF(G74=\"\",\"\",G74)","v":""},"LL","","","","","","","","","","","","","","","","","","","",null,null,null,null,null,null,null,null,null,null,null,null,null,null,null,null,null,null,null,null,null,null,null,null,null,null,null,null,null,null,null,null,null,null,null,null,null,null,null,null,null,null,null,null,null,null,null,null,null,null,null,null,null,null,null,null,null,null,null,null,null,null,"","","","","","","",""]
[null,null,5,"中川　卓也","RL",5,null,null,null,{"$f":"IF(L98=\"\",\"\",VLOOKUP(L98,$C$94:$D$123,2,FALSE))","v":""},null,null,null,{"$f":"IF(N94=\"\",\"\",IF(N94=L95+0.2,\"2\",IF(N94=L95+0.3,\"3\",IF(N94=L95+0.4,\"4\",IF(N94=L95+0.5,\"5\",\"先\")))))","v":"先"},{"$f":"IFERROR(VLOOKUP(後攻T!I46,記号!$F$27:$G$37,2,FALSE),\"\")","v":""},{"$f":"IFERROR(VLOOKUP(後攻T!J44,記号!$R$5:$S$10,2,FALSE),\"\")","v":"○"},{"$f":"IFERROR(VLOOKUP(後攻T!G46,記号!$F$27:$G$37,2,FALSE),\"\")","v":""},{"$f":"IFERROR(VLOOKUP(後攻T!L44,記号!$U$12:$V$13,2,FALSE),\"\")","v":""},{"$f":"IF(S94=\"\",\"\",IF(S94=L95+0.2,\"2\",IF(S94=L95+0.3,\"3\",IF(S94=L95+0.4,\"4\",IF(S94=L95+0.5,\"5\",\"先\")))))","v":"先"},{"$f":"IFERROR(VLOOKUP(後攻T!U46,記号!$F$27:$G$37,2,FALSE),\"\")","v":""},{"$f":"IFERROR(VLOOKUP(後攻T!V44,記号!$R$5:$S$10,2,FALSE),\"\")","v":""},{"$f":"IFERROR(VLOOKUP(後攻T!S46,記号!$F$27:$G$37,2,FALSE),\"\")","v":""},{"$f":"IFERROR(VLOOKUP(後攻T!X44,記号!$U$12:$V$13,2,FALSE),\"\")","v":""},{"$f":"IF(X94=\"\",\"\",IF(X94=L95+0.2,\"2\",IF(X94=L95+0.3,\"3\",IF(X94=L95+0.4,\"4\",IF(X94=L95+0.5,\"5\",\"先\")))))","v":"先"},{"$f":"IFERROR(VLOOKUP(後攻T!AG46,記号!$F$27:$G$37,2,FALSE),\"\")","v":""},{"$f":"IFERROR(VLOOKUP(後攻T!AH44,記号!$R$5:$S$10,2,FALSE),\"\")","v":"Ⅱ"},{"$f":"IFERROR(VLOOKUP(後攻T!AE46,記号!$F$27:$G$37,2,FALSE),\"\")","v":""},{"$f":"IFERROR(VLOOKUP(後攻T!AJ44,記号!$U$12:$V$13,2,FALSE),\"\")","v":""},{"$f":"IF(AC94=\"\",\"\",IF(AC94=L95+0.2,\"2\",IF(AC94=L95+0.3,\"3\",IF(AC94=L95+0.4,\"4\",IF(AC94=L95+0.5,\"5\",\"先\")))))","v":"先"},{"$f":"IFERROR(VLOOKUP(後攻T!AS34--46,記号!$F$27:$G$37,2,FALSE),\"\")","v":""},{"$f":"IFERROR(VLOOKUP(後攻T!AT44,記号!$R$5:$S$10,2,FALSE),\"\")","v":""},{"$f":"IFERROR(VLOOKUP(後攻T!AQ46,記号!$F$27:$G$37,2,FALSE),\"\")","v":""},{"$f":"IFERROR(VLOOKUP(後攻T!AV44,記号!$U$12:$V$13,2,FALSE),\"\")","v":""},{"$f":"IF(AH94=\"\",\"\",IF(AH94=L95+0.2,\"2\",IF(AH94=L95+0.3,\"3\",IF(AH94=L95+0.4,\"4\",IF(AH94=L95+0.5,\"5\",\"先\")))))","v":"先"},{"$f":"IFERROR(VLOOKUP(後攻T!BE46,記号!$F$27:$G$37,2,FALSE),\"\")","v":""},{"$f":"IFERROR(VLOOKUP(後攻T!BF44,記号!$R$5:$S$10,2,FALSE),\"\")","v":"○"},{"$f":"IFERROR(VLOOKUP(後攻T!BC46,記号!$F$27:$G$37,2,FALSE),\"\")","v":""},{"$f":"IFERROR(VLOOKUP(後攻T!BH44,記号!$U$12:$V$13,2,FALSE),\"\")","v":""},{"$f":"IF(AM94=\"\",\"\",IF(AM94=L95+0.2,\"2\",IF(AM94=L95+0.3,\"3\",IF(AM94=L95+0.4,\"4\",IF(AM94=L95+0.5,\"5\",\"先\")))))","v":"先"},{"$f":"IFERROR(VLOOKUP(後攻T!BQ46,記号!$F$27:$G$37,2,FALSE),\"\")","v":""},{"$f":"IFERROR(VLOOKUP(後攻T!BR44,記号!$R$5:$S$10,2,FALSE),\"\")","v":"Ⅲ"},{"$f":"IFERROR(VLOOKUP(後攻T!BO46,記号!$F$27:$G$37,2,FALSE),\"\")","v":""},{"$f":"IFERROR(VLOOKUP(後攻T!BT44,記号!$U$12:$V$13,2,FALSE),\"\")","v":""},{"$f":"IF(AR94=\"\",\"\",IF(AR94=L95+0.2,\"2\",IF(AR94=L95+0.3,\"3\",IF(AR94=L95+0.4,\"4\",IF(AR94=L95+0.5,\"5\",\"先\")))))","v":"先"},{"$f":"IFERROR(VLOOKUP(後攻T!CC46,記号!$F$27:$G$37,2,FALSE),\"\")","v":""},{"$f":"IFERROR(VLOOKUP(後攻T!CD44,記号!$R$5:$S$10,2,FALSE),\"\")","v":""},{"$f":"IFERROR(VLOOKUP(後攻T!CA46,記号!$F$27:$G$37,2,FALSE),\"\")","v":""},{"$f":"IFERROR(VLOOKUP(後攻T!CF44,記号!$U$12:$V$13,2,FALSE),\"\")","v":""},{"$f":"IF(AW94=\"\",\"\",IF(AW94=L95+0.2,\"2\",IF(AW94=L95+0.3,\"3\",IF(AW94=L95+0.4,\"4\",IF(AW94=L95+0.5,\"5\",\"先\")))))","v":"2"},{"$f":"IFERROR(VLOOKUP(後攻T!CO46,記号!$F$27:$G$37,2,FALSE),\"\")","v":""},{"$f":"IFERROR(VLOOKUP(後攻T!CP44,記号!$R$5:$S$10,2,FALSE),\"\")","v":"Ⅱ"},{"$f":"IFERROR(VLOOKUP(後攻T!CM46,記号!$F$27:$G$37,2,FALSE),\"\")","v":""},{"$f":"IFERROR(VLOOKUP(後攻T!CR44,記号!$U$12:$V$13,2,FALSE),\"\")","v":""},{"$f":"IF(BB94=\"\",\"\",IF(BB94=L95+0.2,\"2\",IF(BB94=L95+0.3,\"3\",IF(BB94=L95+0.4,\"4\",IF(BB94=L95+0.5,\"5\",\"先\")))))","v":"2"},{"$f":"IFERROR(VLOOKUP(後攻T!DA46,記号!$F$27:$G$37,2,FALSE),\"\")","v":""},{"$f":"IFERROR(VLOOKUP(後攻T!DB44,記号!$R$5:$S$10,2,FALSE),\"\")","v":""},{"$f":"IFERROR(VLOOKUP(後攻T!CY46,記号!$F$27:$G$37,2,FALSE),\"\")","v":""},{"$f":"IFERROR(VLOOKUP(後攻T!DD44,記号!$U$12:$V$13,2,FALSE),\"\")","v":""},{"$f":"IF(BG94=\"\",\"\",IF(BG94=L95+0.2,\"2\",IF(BG94=L95+0.3,\"3\",IF(BG94=L95+0.4,\"4\",IF(BG94=L95+0.5,\"5\",\"先\")))))","v":"2"},{"$f":"IFERROR(VLOOKUP(後攻T!DM46,記号!$F$27:$G$37,2,FALSE),\"\")","v":""},{"$f":"IFERROR(VLOOKUP(後攻T!DN44,記号!$R$5:$S$10,2,FALSE),\"\")","v":""},{"$f":"IFERROR(VLOOKUP(後攻T!DK46,記号!$F$27:$G$37,2,FALSE),\"\")","v":""},{"$f":"IFERROR(VLOOKUP(後攻T!DP44,記号!$U$12:$V$13,2,FALSE),\"\")","v":""},{"$f":"IF(BL94=\"\",\"\",IF(BL94=L95+0.2,\"2\",IF(BL94=L95+0.3,\"3\",IF(BL94=L95+0.4,\"4\",IF(BL94=L95+0.5,\"5\",\"先\")))))","v":"2"},{"$f":"IFERROR(VLOOKUP(後攻T!DY46,記号!$F$27:$G$37,2,FALSE),\"\")","v":""},{"$f":"IFERROR(VLOOKUP(後攻T!DZ44,記号!$R$5:$S$10,2,FALSE),\"\")","v":""},{"$f":"IFERROR(VLOOKUP(後攻T!DW46,記号!$F$27:$G$37,2,FALSE),\"\")","v":""},{"$f":"IFERROR(VLOOKUP(後攻T!EB44,記号!$U$12:$V$13,2,FALSE),\"\")","v":""},{"$f":"IF(BQ94=\"\",\"\",IF(BQ94=L95+0.2,\"2\",IF(BQ94=L95+0.3,\"3\",IF(BQ94=L95+0.4,\"4\",IF(BQ94=L95+0.5,\"5\",\"先\")))))","v":"2"},{"$f":"IFERROR(VLOOKUP(後攻T!EK46,記号!$F$27:$G$37,2,FALSE),\"\")","v":""},{"$f":"IFERROR(VLOOKUP(後攻T!EL44,記号!$R$5:$S$10,2,FALSE),\"\")","v":""},{"$f":"IFERROR(VLOOKUP(後攻T!EI46,記号!$F$27:$G$37,2,FALSE),\"\")","v":""},{"$f":"IFERROR(VLOOKUP(後攻T!EN44,記号!$U$12:$V$13,2,FALSE),\"\")","v":""},{"$f":"IF(K98=\"\",\"\",VLOOKUP(K98,$C$19:$E$24,3,FALSE))","v":""},{"$f":"IF(L98=\"\",\"\",(BX98+CG98+CH98+CI98))","v":""},"",{"$f":"IF(L98=\"\",\"\",COUNTIFS($N$94:$BU$94,L98,$N$99:$BU$99,$BY$68))","v":""},{"$f":"IF(L98=\"\",\"\",COUNTIFS($N$94:$BU$94,L98,$N$99:$BU$99,$BZ$68))","v":""},{"$f":"IF(L98=\"\",\"\",COUNTIFS($N$94:$BU$94,L98,$N$97:$BU$97,$CA$68))","v":""},{"$f":"IF(L98=\"\",\"\",COUNTIFS($N$94:$BU$94,L98,$N$97:$BU$97,$CB$68))","v":""},{"$f":"IF(L98=\"\",\"\",COUNTIFS($N$94:$BU$94,L98,$N$99:$BU$99,$CC$68))","v":""},{"$f":"IF(L98=\"\",\"\",SUMIF($N$94:$BU$94,L98,$N$99:$BU$99))","v":""},{"$f":"IF(L98=\"\",\"\",COUNTIFS($N$94:$BU$94,L98,$N$98:$BU$98,$CE$68))","v":""},{"$f":"IF(L98=\"\",\"\",COUNTIFS($N$94:$BU$94,L98,$N$99:$BU$99,$CF$68))","v":""},{"$f":"IF(L98=\"\",\"\",COUNTIFS($N$94:$BU$94,L98,$N$99:$BU$99,$CG$68))","v":""},{"$f":"IF(L98=\"\",\"\",COUNTIFS($N$94:$BU$94,L98,$N$99:$BU$99,$CH$68))","v":""},{"$f":"IF(L98=\"\",\"\",COUNTIFS($N$94:$BU$94,L98,$N$99:$BU$99,$CI$68))","v":""},{"$f":"IF(L98=\"\",\"\",COUNTIFS($N$94:$BU$94,L98,$N$99:$BU$99,$CJ$68))","v":""},{"$f":"IF(L98=\"\",\"\",COUNTIFS($N$94:$BU$94,L98,$N$99:$BU$99,$CK$68)+COUNTIFS($N$94:$BU$94,L98,$N$97:$BU$97,$CK$68))","v":""},{"$f":"IF(L98=\"\",\"\",COUNTIFS($N$94:$BU$94,L98,$N$99:$BU$99,$CL$68)+COUNTIFS($N$94:$BU$94,L98,$N$97:$BU$97,$CL$68))","v":""},{"$f":"IF(L98=\"\",\"\",COUNTIFS($N$94:$BU$94,L98,$N$99:$BU$99,$CM$68))","v":""},{"$f":"IF(L98=\"\",\"\",COUNTIFS($N$94:$BU$94,L98,$N$99:$BU$99,$CN$68))","v":""},{"$f":"IF(L98=\"\",\"\",COUNTIFS($N$94:$BU$94,L98,$N$95:$BU$95,$CO$68)+COUNTIFS($N$94:$BU$94,L98,$N$96:$BU$96,$CO$68))","v":""},null,"左飛",null,null,null,null,"A","RR",6,"左",7,"先",null,null,null,null,null,null,null,null,null,null,null,null,null,null,null,null,null,null,null,null,null,null,null,null,null,null,null,{"$f":"IF(L98=\"\",\"\",L98)","v":""},"",{"$f":"IF(EC98=\"\",\"\",COUNTIFS($N$94:$BU$94,EC98,$N$99:$BU$99,\"RZ\"))","v":""},{"$f":"IF(EC98=\"\",\"\",COUNTIFS($N$94:$BU$94,EC98,$N$98:$BU$98,\"ZH\"))","v":""},null,null,null,null,null,null,null,"","",{"$f":"IF(G75=\"\",\"\",G75)","v":""},"RR","","","","","","","","","","","","","","","","","","","",null,null,null,null,null,null,null,null,null,null,null,null,null,null,null,null,null,null,null,null,null,null,null,null,null,null,null,null,null,null,null,null,null,null,null,null,null,null,null,null,null,null,null,null,null,null,null,null,null,null,null,null,null,null,null,null,null,null,null,null,null,null,"","","","","","","",""]
[null,null,6,"根尾　昴","RL",6,null,null,null,{"$f":"IF(L99=\"\",\"\",VLOOKUP(L99,$C$94:$D$123,2,FALSE))","v":""},null,null,null,{"$f":"IFERROR(VLOOKUP(後攻T!K44,記号!$R$15:$S$20,2,FALSE),\"\")","v":""},{"$f":"IFERROR(VLOOKUP(後攻T!I44,記号!$O$5:$P$21,2,FALSE),\"\")","v":"⑥"},{"$f":"IFERROR(VLOOKUP(後攻T!F46,記号!$F$27:$G$37,2,FALSE),\"\")","v":""},{"$f":"IFERROR(VLOOKUP(後攻T!F44,記号!$F$5:$G$21,2,FALSE),\"\")","v":"B"},{"$f":"IFERROR(VLOOKUP(後攻T!L45,記号!$U$5:$V$6,2,FALSE),\"\")","v":""},{"$f":"IFERROR(VLOOKUP(後攻T!W44,記号!$R$15:$S$20,2,FALSE),\"\")","v":""},{"$f":"IFERROR(VLOOKUP(後攻T!U44,記号!$O$5:$P$21,2,FALSE),\"\")","v":""},{"$f":"IFERROR(VLOOKUP(後攻T!R46,記号!$F$27:$G$37,2,FALSE),\"\")","v":""},{"$f":"IFERROR(VLOOKUP(後攻T!R44,記号!$F$5:$G$21,2,FALSE),\"\")","v":""},{"$f":"IFERROR(VLOOKUP(後攻T!X45,記号!$U$5:$V$6,2,FALSE),\"\")","v":""},{"$f":"IFERROR(VLOOKUP(後攻T!AI44,記号!$R$15:$S$20,2,FALSE),\"\")","v":""},{"$f":"IFERROR(VLOOKUP(後攻T!AG44,記号!$O$5:$P$21,2,FALSE),\"\")","v":""},{"$f":"IFERROR(VLOOKUP(後攻T!AD46,記号!$F$27:$G$37,2,FALSE),\"\")","v":"3'"},{"$f":"IFERROR(VLOOKUP(後攻T!AD44,記号!$F$5:$G$21,2,FALSE),\"\")","v":"O"},{"$f":"IFERROR(VLOOKUP(後攻T!AJ45,記号!$U$5:$V$6,2,FALSE),\"\")","v":"RZ"},{"$f":"IFERROR(VLOOKUP(後攻T!AU44,記号!$R$15:$S$20,2,FALSE),\"\")","v":""},{"$f":"IFERROR(VLOOKUP(後攻T!AS44,記号!$O$5:$P$21,2,FALSE),\"\")","v":""},{"$f":"IFERROR(VLOOKUP(後攻T!AP46,記号!$F$27:$G$37,2,FALSE),\"\")","v":""},{"$f":"IFERROR(VLOOKUP(後攻T!AP44,記号!$F$5:$G$21,2,FALSE),\"\")","v":""},{"$f":"IFERROR(VLOOKUP(後攻T!AV45,記号!$U$5:$V$6,2,FALSE),\"\")","v":""},{"$f":"IFERROR(VLOOKUP(後攻T!BG44,記号!$R$15:$S$20,2,FALSE),\"\")","v":2},{"$f":"IFERROR(VLOOKUP(後攻T!BE44,記号!$O$5:$P$21,2,FALSE),\"\")","v":"H4"},{"$f":"IFERROR(VLOOKUP(後攻T!BB46,記号!$F$27:$G$37,2,FALSE),\"\")","v":"7'"},{"$f":"IFERROR(VLOOKUP(後攻T!BB44,記号!$F$5:$G$21,2,FALSE),\"\")","v":""},{"$f":"IFERROR(VLOOKUP(後攻T!BH45,記号!$U$5:$V$6,2,FALSE),\"\")","v":""},{"$f":"IFERROR(VLOOKUP(後攻T!BS44,記号!$R$15:$S$20,2,FALSE),\"\")","v":""},{"$f":"IFERROR(VLOOKUP(後攻T!BQ44,記号!$O$5:$P$21,2,FALSE),\"\")","v":""},{"$f":"IFERROR(VLOOKUP(後攻T!BN46,記号!$F$27:$G$37,2,FALSE),\"\")","v":"7'"},{"$f":"IFERROR(VLOOKUP(後攻T!BN44,記号!$F$5:$G$21,2,FALSE),\"\")","v":"O"},{"$f":"IFERROR(VLOOKUP(後攻T!BT45,記号!$U$5:$V$6,2,FALSE),\"\")","v":""},{"$f":"IFERROR(VLOOKUP(後攻T!CE44,記号!$R$15:$S$20,2,FALSE),\"\")","v":""},{"$f":"IFERROR(VLOOKUP(後攻T!CC44,記号!$O$5:$P$21,2,FALSE),\"\")","v":""},{"$f":"IFERROR(VLOOKUP(後攻T!BZ46,記号!$F$27:$G$37,2,FALSE),\"\")","v":""},{"$f":"IFERROR(VLOOKUP(後攻T!BZ44,記号!$F$5:$G$21,2,FALSE),\"\")","v":""},{"$f":"IFERROR(VLOOKUP(後攻T!CF45,記号!$U$5:$V$6,2,FALSE),\"\")","v":""},{"$f":"IFERROR(VLOOKUP(後攻T!CQ44,記号!$R$15:$S$20,2,FALSE),\"\")","v":1},{"$f":"IFERROR(VLOOKUP(後攻T!CO44,記号!$O$5:$P$21,2,FALSE),\"\")","v":""},{"$f":"IFERROR(VLOOKUP(後攻T!CL46,記号!$F$27:$G$37,2,FALSE),\"\")","v":"4'"},{"$f":"IFERROR(VLOOKUP(後攻T!CL44,記号!$F$5:$G$21,2,FALSE),\"\")","v":"O"},{"$f":"IFERROR(VLOOKUP(後攻T!CR45,記号!$U$5:$V$6,2,FALSE),\"\")","v":"RZ"},{"$f":"IFERROR(VLOOKUP(後攻T!DC44,記号!$R$15:$S$20,2,FALSE),\"\")","v":""},{"$f":"IFERROR(VLOOKUP(後攻T!DA44,記号!$O$5:$P$21,2,FALSE),\"\")","v":""},{"$f":"IFERROR(VLOOKUP(後攻T!CX46,記号!$F$27:$G$37,2,FALSE),\"\")","v":""},{"$f":"IFERROR(VLOOKUP(後攻T!CX44,記号!$F$5:$G$21,2,FALSE),\"\")","v":""},{"$f":"IFERROR(VLOOKUP(後攻T!DD45,記号!$U$5:$V$6,2,FALSE),\"\")","v":""},{"$f":"IFERROR(VLOOKUP(後攻T!DO44,記号!$R$15:$S$20,2,FALSE),\"\")","v":""},{"$f":"IFERROR(VLOOKUP(後攻T!DM44,記号!$O$5:$P$21,2,FALSE),\"\")","v":""},{"$f":"IFERROR(VLOOKUP(後攻T!DJ46,記号!$F$27:$G$37,2,FALSE),\"\")","v":""},{"$f":"IFERROR(VLOOKUP(後攻T!DJ44,記号!$F$5:$G$21,2,FALSE),\"\")","v":""},{"$f":"IFERROR(VLOOKUP(後攻T!DP44,記号!$U$5:$V$6,2,FALSE),\"\")","v":""},{"$f":"IFERROR(VLOOKUP(後攻T!EA44,記号!$R$15:$S$20,2,FALSE),\"\")","v":""},{"$f":"IFERROR(VLOOKUP(後攻T!DY44,記号!$O$5:$P$21,2,FALSE),\"\")","v":""},{"$f":"IFERROR(VLOOKUP(後攻T!DV46,記号!$F$27:$G$37,2,FALSE),\"\")","v":""},{"$f":"IFERROR(VLOOKUP(後攻T!DV44,記号!$F$5:$G$21,2,FALSE),\"\")","v":""},{"$f":"IFERROR(VLOOKUP(後攻T!EB45,記号!$U$5:$V$6,2,FALSE),\"\")","v":""},{"$f":"IFERROR(VLOOKUP(後攻T!EM44,記号!$R$15:$S$20,2,FALSE),\"\")","v":""},{"$f":"IFERROR(VLOOKUP(後攻T!EK44,記号!$O$5:$P$21,2,FALSE),\"\")","v":""},{"$f":"IFERROR(VLOOKUP(後攻T!EH46,記号!$F$27:$G$37,2,FALSE),\"\")","v":""},{"$f":"IFERROR(VLOOKUP(後攻T!EH44,記号!$F$5:$G$21,2,FALSE),\"\")","v":""},{"$f":"IFERROR(VLOOKUP(後攻T!EN45,記号!$U$5:$V$6,2,FALSE),\"\")","v":""},{"$f":"IF(K99=\"\",\"\",VLOOKUP(K99,$C$19:$E$24,3,FALSE))","v":""},{"$f":"IF(L99=\"\",\"\",(BX99+CG99+CH99+CI99))","v":""},"",{"$f":"IF(L99=\"\",\"\",COUNTIFS($N$94:$BU$94,L99,$N$99:$BU$99,$BY$68))","v":""},{"$f":"IF(L99=\"\",\"\",COUNTIFS($N$94:$BU$94,L99,$N$99:$BU$99,$BZ$68))","v":""},{"$f":"IF(L99=\"\",\"\",COUNTIFS($N$94:$BU$94,L99,$N$97:$BU$97,$CA$68))","v":""},{"$f":"IF(L99=\"\",\"\",COUNTIFS($N$94:$BU$94,L99,$N$97:$BU$97,$CB$68))","v":""},{"$f":"IF(L99=\"\",\"\",COUNTIFS($N$94:$BU$94,L99,$N$99:$BU$99,$CC$68))","v":""},{"$f":"IF(L99=\"\",\"\",SUMIF($N$94:$BU$94,L99,$N$99:$BU$99))","v":""},{"$f":"IF(L99=\"\",\"\",COUNTIFS($N$94:$BU$94,L99,$N$98:$BU$98,$CE$68))","v":""},{"$f":"IF(L99=\"\",\"\",COUNTIFS($N$94:$BU$94,L99,$N$99:$BU$99,$CF$68))","v":""},{"$f":"IF(L99=\"\",\"\",COUNTIFS($N$94:$BU$94,L99,$N$99:$BU$99,$CG$68))","v":""},{"$f":"IF(L99=\"\",\"\",COUNTIFS($N$94:$BU$94,L99,$N$99:$BU$99,$CH$68))","v":""},{"$f":"IF(L99=\"\",\"\",COUNTIFS($N$94:$BU$94,L99,$N$99:$BU$99,$CI$68))","v":""},{"$f":"IF(L99=\"\",\"\",COUNTIFS($N$94:$BU$94,L99,$N$99:$BU$99,$CJ$68))","v":""},{"$f":"IF(L99=\"\",\"\",COUNTIFS($N$94:$BU$94,L99,$N$99:$BU$99,$CK$68)+COUNTIFS($N$94:$BU$94,L99,$N$97:$BU$97,$CK$68))","v":""},{"$f":"IF(L99=\"\",\"\",COUNTIFS($N$94:$BU$94,L99,$N$99:$BU$99,$CL$68)+COUNTIFS($N$94:$BU$94,L99,$N$97:$BU$97,$CL$68))","v":""},{"$f":"IF(L99=\"\",\"\",COUNTIFS($N$94:$BU$94,L99,$N$99:$BU$99,$CM$68))","v":""},{"$f":"IF(L99=\"\",\"\",COUNTIFS($N$94:$BU$94,L99,$N$99:$BU$99,$CN$68))","v":""},{"$f":"IF(L99=\"\",\"\",COUNTIFS($N$94:$BU$94,L99,$N$95:$BU$95,$CO$68)+COUNTIFS($N$94:$BU$94,L99,$N$96:$BU$96,$CO$68))","v":""},null,"二ゴロ",null,null,null,null,"G","RR",6,"二",4,2,null,null,null,null,null,null,null,null,null,null,null,null,null,null,null,null,null,null,null,null,null,null,null,null,null,null,null,{"$f":"IF(L99=\"\",\"\",L99)","v":""},"",{"$f":"IF(EC99=\"\",\"\",COUNTIFS($N$94:$BU$94,EC99,$N$99:$BU$99,\"RZ\"))","v":""},{"$f":"IF(EC99=\"\",\"\",COUNTIFS($N$94:$BU$94,EC99,$N$98:$BU$98,\"ZH\"))","v":""},null,null,null,null,null,null,null,"","",{"$f":"IF(G75=\"\",\"\",G875)","v":""},"LL","","","","","","","","","","","","","","","","","","","",null,null,null,null,null,null,null,null,null,null,null,null,null,null,null,null,null,null,null,null,null,null,null,null,null,null,null,null,null,null,null,null,null,null,null,null,null,null,null,null,null,null,null,null,null,null,null,null,null,null,null,null,null,null,null,null,null,null,null,null,null,null,"","","","","","","",""]
[null,null,7,"宮崎　仁斗","RR",7,null,null,null,null,null,null,"打者背番号を入力➡",{"$f":"後攻T!E47","v":3},{"$f":"N100","v":3},{"$f":"N100","v":3},{"$f":"N100","v":3},{"$f":"N100","v":3},{"$f":"後攻T!Q47","v":3},{"$f":"S100","v":3},{"$f":"S100","v":3},{"$f":"S100","v":3},{"$f":"S100","v":3},{"$f":"後攻T!AC47","v":3},{"$f":"X100","v":3},{"$f":"X100","v":3},{"$f":"X100","v":3},{"$f":"X100","v":3},{"$f":"後攻T!AO47","v":3},{"$f":"AC100","v":3},{"$f":"AC100","v":3},{"$f":"AC100","v":3},{"$f":"AC100","v":3},{"$f":"後攻T!BA47","v":3},{"$f":"AH100","v":3},{"$f":"AH100","v":3},{"$f":"AH100","v":3},{"$f":"AH100","v":3},{"$f":"後攻T!BM47","v":3},{"$f":"AM100","v":3},{"$f":"AM100","v":3},{"$f":"AM100","v":3},{"$f":"AM100","v":3},{"$f":"後攻T!BY47","v":3},{"$f":"AR100","v":3},{"$f":"AR100","v":3},{"$f":"AR100","v":3},{"$f":"AR100","v":3},{"$f":"後攻T!$CK47","v":3.2},{"$f":"AW100","v":3.2},{"$f":"AW100","v":3.2},{"$f":"AW100","v":3.2},{"$f":"AW100","v":3.2},{"$f":"後攻T!CW47","v":3.2},{"$f":"BB100","v":3.2},{"$f":"BB100","v":3.2},{"$f":"BB100","v":3.2},{"$f":"BB100","v":3.2},{"$f":"後攻T!DI47","v":3.2},{"$f":"BG100","v":3.2},{"$f":"BG100","v":3.2},{"$f":"BG100","v":3.2},{"$f":"BG100","v":3.2},{"$f":"後攻T!DU47","v":3.2},{"$f":"BL100","v":3.2},{"$f":"BL100","v":3.2},{"$f":"BL100","v":3.2},{"$f":"BL100","v":3.2},{"$f":"後攻T!EG47","v":3.2},{"$f":"BQ100","v":3.2},{"$f":"BQ100","v":3.2},{"$f":"BQ100","v":3.2},{"$f":"BQ100","v":3.2},null,null,null,null,null,null,null,null,null,null,null,null,null,null,null,null,null,null,null,null,null,null,null,null,null,null,null,null,null,null,null,null,null,null,null,null,null,null,null,null,null,null,null,null,null,null,null,null,null,null,null,null,null,null,null,null,null,null,null,null,null,null,null,null,null,null,null,null,null,null,"","",{"$f":"IF(G76=\"\",\"\",G76)","v":""},"RR","","","","","","","","","","","","","","","","","","","",null,null,null,null,null,null,null,null,null,null,null,null,null,null,null,null,null,null,null,null,null,null,null,null,null,null,null,null,null,null,null,null,null,null,null,null,null,null,null,null,null,null,null,null,null,null,null,null,null,null,null,null,null,null,null,null,null,null,null,null,null,null,null,""]
[null,null,8,"藤原　恭大","LL",8,null,null,{"$f":"IF(C75=\"\",\"\",C75)","v":"一"},{"$f":"IF(D75=\"\",\"\",D75)","v":"石川　端貴"},{"$f":"IF(J101=\"\",\"\",\"先\")","v":"先"},{"$f":"IF(J101=\"\",\"\",F75)","v":3},"⑥",{"$f":"IFERROR(VLOOKUP(後攻T!F49,記号!$B$6:$C$10,2,FALSE),\"\")","v":"・●"},{"$f":"IFERROR(VLOOKUP(後攻T!G49,記号!$B$6:$C$10,2,FALSE),\"\")","v":"・●"},{"$f":"IFERROR(VLOOKUP(後攻T!H49,記号!$B$6:$C$10,2,FALSE),\"\")","v":"・〇"},{"$f":"IFERROR(VLOOKUP(後攻T!I49,記号!$B$6:$C$10,2,FALSE),\"\")","v":"・●"},{"$f":"IFERROR(VLOOKUP(後攻T!J49,記号!$B$6:$C$10,2,FALSE),\"\")","v":"・〇"},{"$f":"IFERROR(VLOOKUP(後攻T!R49,記号!$B$6:$C$10,2,FALSE),\"\")","v":""},{"$f":"IFERROR(VLOOKUP(後攻T!S49,記号!$B$6:$C$10,2,FALSE),\"\")","v":""},{"$f":"IFERROR(VLOOKUP(後攻T!T49,記号!$B$6:$C$10,2,FALSE),\"\")","v":""},{"$f":"IFERROR(VLOOKUP(後攻T!U49,記号!$B$6:$C$10,2,FALSE),\"\")","v":""},{"$f":"IFERROR(VLOOKUP(後攻T!V49,記号!$B$6:$C$10,2,FALSE),\"\")","v":""},{"$f":"IFERROR(VLOOKUP(後攻T!AD49,記号!$B$6:$C$10,2,FALSE),\"\")","v":"・◎"},{"$f":"IFERROR(VLOOKUP(後攻T!AE49,記号!$B$6:$C$10,2,FALSE),\"\")","v":""},{"$f":"IFERROR(VLOOKUP(後攻T!AF49,記号!$B$6:$C$10,2,FALSE),\"\")","v":""},{"$f":"IFERROR(VLOOKUP(後攻T!AG49,記号!$B$6:$C$10,2,FALSE),\"\")","v":""},{"$f":"IFERROR(VLOOKUP(後攻T!AH49,記号!$B$6:$C$10,2,FALSE),\"\")","v":""},{"$f":"IFERROR(VLOOKUP(後攻T!AP49,記号!$B$6:$C$10,2,FALSE),\"\")","v":""},{"$f":"IFERROR(VLOOKUP(後攻T!AQ49,記号!$B$6:$C$10,2,FALSE),\"\")","v":""},{"$f":"IFERROR(VLOOKUP(後攻T!AR49,記号!$B$6:$C$10,2,FALSE),\"\")","v":""},{"$f":"IFERROR(VLOOKUP(後攻T!AS49,記号!$B$6:$C$10,2,FALSE),\"\")","v":""},{"$f":"IFERROR(VLOOKUP(後攻T!AT49,記号!$B$6:$C$10,2,FALSE),\"\")","v":""},{"$f":"IFERROR(VLOOKUP(後攻T!BB49,記号!$B$6:$C$10,2,FALSE),\"\")","v":"・〇"},{"$f":"IFERROR(VLOOKUP(後攻T!BC49,記号!$B$6:$C$10,2,FALSE),\"\")","v":"・〇"},{"$f":"IFERROR(VLOOKUP(後攻T!BD49,記号!$B$6:$C$10,2,FALSE),\"\")","v":"・●"},{"$f":"IFERROR(VLOOKUP(後攻T!BE49,記号!$B$6:$C$10,2,FALSE),\"\")","v":"・●"},{"$f":"IFERROR(VLOOKUP(後攻T!BF49,記号!$B$6:$C$10,2,FALSE),\"\")","v":"・△"},{"$f":"IFERROR(VLOOKUP(後攻T!BN49,記号!$B$6:$C$10,2,FALSE),\"\")","v":""},{"$f":"IFERROR(VLOOKUP(後攻T!BO49,記号!$B$6:$C$10,2,FALSE),\"\")","v":""},{"$f":"IFERROR(VLOOKUP(後攻T!BP49,記号!$B$6:$C$10,2,FALSE),\"\")","v":""},{"$f":"IFERROR(VLOOKUP(後攻T!BQ49,記号!$B$6:$C$10,2,FALSE),\"\")","v":""},{"$f":"IFERROR(VLOOKUP(後攻T!BR49,記号!$B$6:$C$10,2,FALSE),\"\")","v":""},{"$f":"IFERROR(VLOOKUP(後攻T!BZ49,記号!$B$6:$C$10,2,FALSE),\"\")","v":"・●"},{"$f":"IFERROR(VLOOKUP(後攻T!CA49,記号!$B$6:$C$10,2,FALSE),\"\")","v":"・◎"},{"$f":"IFERROR(VLOOKUP(後攻T!CB49,記号!$B$6:$C$10,2,FALSE),\"\")","v":""},{"$f":"IFERROR(VLOOKUP(後攻T!CC49,記号!$B$6:$C$10,2,FALSE),\"\")","v":""},{"$f":"IFERROR(VLOOKUP(後攻T!CD49,記号!$B$6:$C$10,2,FALSE),\"\")","v":""},{"$f":"IFERROR(VLOOKUP(後攻T!CL49,記号!$B$6:$C$10,2,FALSE),\"\")","v":"・〇"},{"$f":"IFERROR(VLOOKUP(後攻T!CM49,記号!$B$6:$C$10,2,FALSE),\"\")","v":"・△"},{"$f":"IFERROR(VLOOKUP(後攻T!CN49,記号!$B$6:$C$10,2,FALSE),\"\")","v":"・●"},{"$f":"IFERROR(VLOOKUP(後攻T!CO49,記号!$B$6:$C$10,2,FALSE),\"\")","v":"・◎"},{"$f":"IFERROR(VLOOKUP(後攻T!CP49,記号!$B$6:$C$10,2,FALSE),\"\")","v":""},{"$f":"IFERROR(VLOOKUP(後攻T!CX49,記号!$B$6:$C$10,2,FALSE),\"\")","v":""},{"$f":"IFERROR(VLOOKUP(後攻T!CY49,記号!$B$6:$C$10,2,FALSE),\"\")","v":""},{"$f":"IFERROR(VLOOKUP(後攻T!CZ49,記号!$B$6:$C$10,2,FALSE),\"\")","v":""},{"$f":"IFERROR(VLOOKUP(後攻T!DA49,記号!$B$6:$C$10,2,FALSE),\"\")","v":""},{"$f":"IFERROR(VLOOKUP(後攻T!DB49,記号!$B$6:$C$10,2,FALSE),\"\")","v":""},{"$f":"IFERROR(VLOOKUP(後攻T!DJ40,記号!$B$6:$C$10,2,FALSE),\"\")","v":""},{"$f":"IFERROR(VLOOKUP(後攻T!DK40,記号!$B$6:$C$10,2,FALSE),\"\")","v":""},{"$f":"IFERROR(VLOOKUP(後攻T!DL40,記号!$B$6:$C$10,2,FALSE),\"\")","v":""},{"$f":"IFERROR(VLOOKUP(後攻T!DM40,記号!$B$6:$C$10,2,FALSE),\"\")","v":""},{"$f":"IFERROR(VLOOKUP(後攻T!DN40,記号!$B$6:$C$10,2,FALSE),\"\")","v":""},{"$f":"IFERROR(VLOOKUP(後攻T!DV49,記号!$B$6:$C$10,2,FALSE),\"\")","v":""},{"$f":"IFERROR(VLOOKUP(後攻T!DW49,記号!$B$6:$C$10,2,FALSE),\"\")","v":""},{"$f":"IFERROR(VLOOKUP(後攻T!DX49,記号!$B$6:$C$10,2,FALSE),\"\")","v":""},{"$f":"IFERROR(VLOOKUP(後攻T!DY49,記号!$B$6:$C$10,2,FALSE),\"\")","v":""},{"$f":"IFERROR(VLOOKUP(後攻T!DZ49,記号!$B$6:$C$10,2,FALSE),\"\")","v":""},{"$f":"IFERROR(VLOOKUP(後攻T!EH49,記号!$B$6:$C$10,2,FALSE),\"\")","v":""},{"$f":"IFERROR(VLOOKUP(後攻T!EI49,記号!$B$6:$C$10,2,FALSE),\"\")","v":""},{"$f":"IFERROR(VLOOKUP(後攻T!EJ49,記号!$B$6:$C$10,2,FALSE),\"\")","v":""},{"$f":"IFERROR(VLOOKUP(後攻T!EK49,記号!$B$6:$C$10,2,FALSE),\"\")","v":""},{"$f":"IFERROR(VLOOKUP(後攻T!EL49,記号!$B$6:$C$10,2,FALSE),\"\")","v":""},{"$f":"IF(K101=\"\",\"\",VLOOKUP(K101,$C$19:$E$24,3,FALSE))","v":"RR"},{"$f":"IF(L101=\"\",\"\",(BX101+CG101+CH101+CI101))","v":4},4,{"$f":"IF(L101=\"\",\"\",COUNTIFS($N$100:$BU$100,L101,$N$105:$BU$105,$BY$68))","v":3},{"$f":"IF(L101=\"\",\"\",COUNTIFS($N$100:$BU$100,L101,$N$105:$BU$105,$BZ$68))","v":0},{"$f":"IF(L101=\"\",\"\",COUNTIFS($N$100:$BU$100,L101,$N$103:$BU$103,$CA$68))","v":1},{"$f":"IF(L101=\"\",\"\",COUNTIFS($N$100:$BU$100,L101,$N$103:$BU$103,$CB$68))","v":0},{"$f":"IF(L101=\"\",\"\",COUNTIFS($N$100:$BU$100,L101,$N$105:$BU$105,$CC$68))","v":0},{"$f":"IF(L101=\"\",\"\",SUMIF($N$100:$BU$100,L101,$N$105:$BU$105))","v":2},{"$f":"IF(L101=\"\",\"\",COUNTIFS($N$100:$BU$100,L101,$N$104:$BU$104,$CE$68))","v":0},{"$f":"IF(L101=\"\",\"\",COUNTIFS($N$100:$BU$100,L101,$N$105:$BU$105,$CF$68))","v":0},{"$f":"IF(L101=\"\",\"\",COUNTIFS($N$100:$BU$100,L101,$N$105:$BU$105,$CG$68))","v":0},{"$f":"IF(L101=\"\",\"\",COUNTIFS($N$100:$BU$100,L101,$N$105:$BU$105,$CH$68))","v":0},{"$f":"IF(L101=\"\",\"\",COUNTIFS($N$100:$BU$100,L101,$N$105:$BU$105,$CI$68))","v":0},{"$f":"IF(L101=\"\",\"\",COUNTIFS($N$100:$BU$100,L101,$N$105:$BU$105,$CJ$68))","v":0},{"$f":"IF(L101=\"\",\"\",COUNTIFS($N$100:$BU$100,L101,$N$105:$BU$105,$CK$68)+COUNTIFS($N$100:$BU$100,L101,$N$103:$BU$103,$CK$68))","v":0},{"$f":"IF(L101=\"\",\"\",COUNTIFS($N$100:$BU$100,L101,$N$105:$BU$105,$CL$68)+COUNTIFS($N$100:$BU$100,L101,$N$103:$BU$103,$CL$68))","v":0},{"$f":"IF(L101=\"\",\"\",COUNTIFS($N$100:$BU$100,L101,$N$105:$BU$105,$CM$68))","v":0},{"$f":"IF(L101=\"\",\"\",COUNTIFS($N$100:$BU$100,L101,$N$105:$BU$105,$CN$68))","v":0},{"$f":"IF(L101=\"\",\"\",COUNTIFS($N$100:$BU$100,L101,$N$101:$BU$101,$CO$68)+COUNTIFS($N$100:$BU$100,L101,$N$102:$BU$102,$CO$68))","v":15},"先","中2",null,null,null,null,"A",{"$f":"IF(DA101=\"\",\"\",VLOOKUP(DA101,$C$19:$F$24,3,FALSE))","v":"RR"},3,"右",{"$f":"IF(CY101=\"\",\"\",VLOOKUP(CY101,$C$5:$F$14,4,FALSE))","v":9},"先",null,null,null,null,null,null,null,null,null,null,null,null,null,null,null,null,null,null,null,null,null,null,null,null,null,null,null,{"$f":"IF(L101=\"\",\"\",L101)","v":3},{"$f":"IF(EC101=\"\",\"\",VLOOKUP(EC101,$C$94:$D$123,2,FALSE))","v":"石川　端貴"},{"$f":"IF(EC101=\"\",\"\",COUNTIFS($N$100:$BU$100,EC101,$N$105:$BU$105,\"RZ\"))","v":2},{"$f":"IF(EC101=\"\",\"\",COUNTIFS($N$100:$BU$100,EC101,$N$104:$BU$104,\"ZH\"))","v":1},null,null,null,null,null,null,null,"","",{"$f":"IF(G76=\"\",\"\",G76)","v":""},"LL","","","","","","","","","","","","","","","","","","","",null,null,null,null,null,null,null,null,null,null,null,null,null,null,null,null,null,null,null,null,null,null,null,null,null,null,null,null,null,null,null,null,null,null,null,null,null,null,null,null,null,null,null,null,null,null,null,null,null,null,null,null,null,null,null,null,null,null,null,null,null,null,"石川　端貴",3,{"$f":"IF(HU101=\"\",\"\",COUNTIFS($N$100:$BU$100,HV101,$N$101:$BU$101,$HW$68)+COUNTIFS($N$100:$BU$100,HV101,$N$102:$BU$102,$HW$68))","v":15},{"$f":"IF(HU101=\"\",\"\",COUNTIFS($N$100:$BU$100,HV101,$N$101:$BU$101,$HX$68)+COUNTIFS($N$100:$BU$100,HV101,$N$102:$BU$102,$HX$68))","v":6},{"$f":"IF(HU101=\"\",\"\",COUNTIFS($N$100:$BU$100,HV101,$N$101:$BU$101,$HY$68)+COUNTIFS($N$100:$BU$100,HV101,$N$102:$BU$102,$HY$68))","v":4},{"$f":"IF(HU101=\"\",\"\",COUNTIFS($N$100:$BU$100,HV101,$N$101:$BU$101,$HZ$68)+COUNTIFS($N$100:$BU$100,HV101,$N$102:$BU$102,$HZ$68))","v":1},{"$f":"IF(HU101=\"\",\"\",COUNTIFS($N$100:$BU$100,HV101,$N$101:$BU$101,$IA$68)+COUNTIFS($N$100:$BU$100,EHV101,$N$102:$BU$102,$IA$68))","v":0},{"$f":"IF(HU101=\"\",\"\",COUNTIFS($N$100:$BU$100,HV101,$N$101:$BU$101,$IB$68)+COUNTIFS($N$100:$BU$100,HV101,$N$102:$BU$102,$IB$68))","v":4}]
[null,null,9,"青地　斗舞","LL",9,null,null,null,"石川　端貴",2,3.2,null,{"$f":"IFERROR(VLOOKUP(後攻T!K49,記号!$B$6:$C$10,2,FALSE),\"\")","v":"・◎"},{"$f":"IFERROR(VLOOKUP(後攻T!L49,記号!$B$6:$C$10,2,FALSE),\"\")","v":""},{"$f":"IFERROR(VLOOKUP(後攻T!F51,記号!$B$6:$C$10,2,FALSE),\"\")","v":""},{"$f":"IFERROR(VLOOKUP(後攻T!G51,記号!$B$6:$C$10,2,FALSE),\"\")","v":""},{"$f":"IFERROR(VLOOKUP(後攻T!H51,記号!$B$6:$C$10,2,FALSE),\"\")","v":""},{"$f":"IFERROR(VLOOKUP(後攻T!W49,記号!$B$6:$C$10,2,FALSE),\"\")","v":""},{"$f":"IFERROR(VLOOKUP(後攻T!X49,記号!$B$6:$C$10,2,FALSE),\"\")","v":""},{"$f":"IFERROR(VLOOKUP(後攻T!R51,記号!$B$6:$C$10,2,FALSE),\"\")","v":""},{"$f":"IFERROR(VLOOKUP(後攻T!S51,記号!$B$6:$C$10,2,FALSE),\"\")","v":""},{"$f":"IFERROR(VLOOKUP(後攻T!T51,記号!$B$6:$C$10,2,FALSE),\"\")","v":""},{"$f":"IFERROR(VLOOKUP(後攻T!AI49,記号!$B$6:$C$10,2,FALSE),\"\")","v":""},{"$f":"IFERROR(VLOOKUP(後攻T!AJ49,記号!$B$6:$C$10,2,FALSE),\"\")","v":""},{"$f":"IFERROR(VLOOKUP(後攻T!AD51,記号!$B$6:$C$10,2,FALSE),\"\")","v":""},{"$f":"IFERROR(VLOOKUP(後攻T!AE51,記号!$B$6:$C$10,2,FALSE),\"\")","v":""},{"$f":"IFERROR(VLOOKUP(後攻T!AF51,記号!$B$6:$C$10,2,FALSE),\"\")","v":""},{"$f":"IFERROR(VLOOKUP(後攻T!AU49,記号!$B$6:$C$10,2,FALSE),\"\")","v":""},{"$f":"IFERROR(VLOOKUP(後攻T!AV49,記号!$B$6:$C$10,2,FALSE),\"\")","v":""},{"$f":"IFERROR(VLOOKUP(後攻T!AP51,記号!$B$6:$C$10,2,FALSE),\"\")","v":""},{"$f":"IFERROR(VLOOKUP(後攻T!AQ51,記号!$B$6:$C$10,2,FALSE),\"\")","v":""},{"$f":"IFERROR(VLOOKUP(後攻T!AR51,記号!$B$6:$C$10,2,FALSE),\"\")","v":""},{"$f":"IFERROR(VLOOKUP(後攻T!BG49,記号!$B$6:$C$10,2,FALSE),\"\")","v":"・◎"},{"$f":"IFERROR(VLOOKUP(後攻T!BH49,記号!$B$6:$C$10,2,FALSE),\"\")","v":""},{"$f":"IFERROR(VLOOKUP(後攻T!BB51,記号!$B$6:$C$10,2,FALSE),\"\")","v":""},{"$f":"IFERROR(VLOOKUP(後攻T!BC51,記号!$B$6:$C$10,2,FALSE),\"\")","v":""},{"$f":"IFERROR(VLOOKUP(後攻T!BD51,記号!$B$6:$C$10,2,FALSE),\"\")","v":""},{"$f":"IFERROR(VLOOKUP(後攻T!BS49,記号!$B$6:$C$10,2,FALSE),\"\")","v":""},{"$f":"IFERROR(VLOOKUP(後攻T!BT49,記号!$B$6:$C$10,2,FALSE),\"\")","v":""},{"$f":"IFERROR(VLOOKUP(後攻T!BN51,記号!$B$6:$C$10,2,FALSE),\"\")","v":""},{"$f":"IFERROR(VLOOKUP(後攻T!BO51,記号!$B$6:$C$10,2,FALSE),\"\")","v":""},{"$f":"IFERROR(VLOOKUP(後攻T!BP51,記号!$B$6:$C$10,2,FALSE),\"\")","v":""},{"$f":"IFERROR(VLOOKUP(後攻T!CE49,記号!$B$6:$C$10,2,FALSE),\"\")","v":""},{"$f":"IFERROR(VLOOKUP(後攻T!CF49,記号!$B$6:$C$10,2,FALSE),\"\")","v":""},{"$f":"IFERROR(VLOOKUP(後攻T!BZ51,記号!$B$6:$C$10,2,FALSE),\"\")","v":""},{"$f":"IFERROR(VLOOKUP(後攻T!CA51,記号!$B$6:$C$10,2,FALSE),\"\")","v":""},{"$f":"IFERROR(VLOOKUP(後攻T!CB51,記号!$B$6:$C$10,2,FALSE),\"\")","v":""},{"$f":"IFERROR(VLOOKUP(後攻T!CQ49,記号!$B$6:$C$10,2,FALSE),\"\")","v":""},{"$f":"IFERROR(VLOOKUP(後攻T!CR49,記号!$B$6:$C$10,2,FALSE),\"\")","v":""},{"$f":"IFERROR(VLOOKUP(後攻T!CL51,記号!$B$6:$C$10,2,FALSE),\"\")","v":""},{"$f":"IFERROR(VLOOKUP(後攻T!CM51,記号!$B$6:$C$10,2,FALSE),\"\")","v":""},{"$f":"IFERROR(VLOOKUP(後攻T!CN51,記号!$B$6:$C$10,2,FALSE),\"\")","v":""},{"$f":"IFERROR(VLOOKUP(後攻T!DC49,記号!$B$6:$C$10,2,FALSE),\"\")","v":""},{"$f":"IFERROR(VLOOKUP(後攻T!DD49,記号!$B$6:$C$10,2,FALSE),\"\")","v":""},{"$f":"IFERROR(VLOOKUP(後攻T!CX51,記号!$B$6:$C$10,2,FALSE),\"\")","v":""},{"$f":"IFERROR(VLOOKUP(後攻T!CY51,記号!$B$6:$C$10,2,FALSE),\"\")","v":""},{"$f":"IFERROR(VLOOKUP(後攻T!CZ51,記号!$B$6:$C$10,2,FALSE),\"\")","v":""},{"$f":"IFERROR(VLOOKUP(後攻T!DO40,記号!$B$6:$C$10,2,FALSE),\"\")","v":""},{"$f":"IFERROR(VLOOKUP(後攻T!DP40,記号!$B$6:$C$10,2,FALSE),\"\")","v":""},{"$f":"IFERROR(VLOOKUP(後攻T!DJ51,記号!$B$6:$C$10,2,FALSE),\"\")","v":""},{"$f":"IFERROR(VLOOKUP(後攻T!DK51,記号!$B$6:$C$10,2,FALSE),\"\")","v":""},{"$f":"IFERROR(VLOOKUP(後攻T!DL51,記号!$B$6:$C$10,2,FALSE),\"\")","v":""},{"$f":"IFERROR(VLOOKUP(後攻T!EA49,記号!$B$6:$C$10,2,FALSE),\"\")","v":""},{"$f":"IFERROR(VLOOKUP(後攻T!EB49,記号!$B$6:$C$10,2,FALSE),\"\")","v":""},{"$f":"IFERROR(VLOOKUP(後攻T!DV51,記号!$B$6:$C$10,2,FALSE),\"\")","v":""},{"$f":"IFERROR(VLOOKUP(後攻T!DW51,記号!$B$6:$C$10,2,FALSE),\"\")","v":""},{"$f":"IFERROR(VLOOKUP(後攻T!DX51,記号!$B$6:$C$10,2,FALSE),\"\")","v":""},{"$f":"IFERROR(VLOOKUP(後攻T!EM49,記号!$B$6:$C$10,2,FALSE),\"\")","v":""},{"$f":"IFERROR(VLOOKUP(後攻T!EN49,記号!$B$6:$C$10,2,FALSE),\"\")","v":""},{"$f":"IFERROR(VLOOKUP(後攻T!EH51,記号!$B$6:$C$10,2,FALSE),\"\")","v":""},{"$f":"IFERROR(VLOOKUP(後攻T!EI51,記号!$B$6:$C$10,2,FALSE),\"\")","v":""},{"$f":"IFERROR(VLOOKUP(後攻T!EJ51,記号!$B$6:$C$10,2,FALSE),\"\")","v":""},{"$f":"IF(K102=\"\",\"\",VLOOKUP(K102,$C$19:$E$24,3,FALSE))","v":"RR"},{"$f":"IF(L102=\"\",\"\",(BX102+CG102+CH102+CI102))","v":1},1,{"$f":"IF(L102=\"\",\"\",COUNTIFS($N$100:$BU$100,L102,$N$105:$BU$105,$BY$68))","v":1},{"$f":"IF(L102=\"\",\"\",COUNTIFS($N$100:$BU$100,L102,$N$105:$BU$105,$BZ$68))","v":0},{"$f":"IF(L102=\"\",\"\",COUNTIFS($N$100:$BU$100,L102,$N$103:$BU$103,$CA$68))","v":0},{"$f":"IF(L102=\"\",\"\",COUNTIFS($N$100:$BU$100,L102,$N$103:$BU$103,$CB$68))","v":0},{"$f":"IF(L102=\"\",\"\",COUNTIFS($N$100:$BU$100,L102,$N$105:$BU$105,$CC$68))","v":0},{"$f":"IF(L102=\"\",\"\",SUMIF($N$100:$BU$100,L102,$N$105:$BU$105))","v":0},{"$f":"IF(L102=\"\",\"\",COUNTIFS($N$100:$BU$100,L102,$N$104:$BU$104,$CE$68))","v":0},{"$f":"IF(L102=\"\",\"\",COUNTIFS($N$100:$BU$100,L102,$N$105:$BU$105,$CF$68))","v":0},{"$f":"IF(L102=\"\",\"\",COUNTIFS($N$100:$BU$100,L102,$N$105:$BU$105,$CG$68))","v":0},{"$f":"IF(L102=\"\",\"\",COUNTIFS($N$100:$BU$100,L102,$N$105:$BU$105,$CH$68))","v":0},{"$f":"IF(L102=\"\",\"\",COUNTIFS($N$100:$BU$100,L102,$N$105:$BU$105,$CI$68))","v":0},{"$f":"IF(L102=\"\",\"\",COUNTIFS($N$100:$BU$100,L102,$N$105:$BU$105,$CJ$68))","v":0},{"$f":"IF(L102=\"\",\"\",COUNTIFS($N$100:$BU$100,L102,$N$105:$BU$105,$CK$68)+COUNTIFS($N$100:$BU$100,L102,$N$103:$BU$103,$CK$68))","v":0},{"$f":"IF(L102=\"\",\"\",COUNTIFS($N$100:$BU$100,L102,$N$105:$BU$105,$CL$68)+COUNTIFS($N$100:$BU$100,L102,$N$103:$BU$103,$CL$68))","v":0},{"$f":"IF(L102=\"\",\"\",COUNTIFS($N$100:$BU$100,L102,$N$105:$BU$105,$CM$68))","v":0},{"$f":"IF(L102=\"\",\"\",COUNTIFS($N$100:$BU$100,L102,$N$105:$BU$105,$CN$68))","v":0},{"$f":"IF(L102=\"\",\"\",COUNTIFS($N$100:$BU$100,L102,$N$101:$BU$101,$CO$68)+COUNTIFS($N$100:$BU$100,L102,$N$102:$BU$102,$CO$68))","v":4},2,"二飛",null,null,null,null,"A",{"$f":"IF(DA102=\"\",\"\",VLOOKUP(DA102,$C$19:$F$24,3,FALSE))","v":"RR"},3,"二",{"$f":"IF(CY102=\"\",\"\",VLOOKUP(CY102,$C$5:$F$14,4,FALSE))","v":4},"先",null,null,null,null,null,null,null,null,null,null,null,null,null,null,null,null,null,null,null,null,null,null,null,null,null,null,null,{"$f":"IF(L102=\"\",\"\",L102)","v":3.2},"石川　端貴",{"$f":"IF(EC102=\"\",\"\",COUNTIFS($N$100:$BU$100,EC102,$N$105:$BU$105,\"RZ\"))","v":0},{"$f":"IF(EC102=\"\",\"\",COUNTIFS($N$100:$BU$100,EC102,$N$104:$BU$104,\"ZH\"))","v":0},null,null,null,null,null,null,null,"","",{"$f":"IF(G77=\"\",\"\",G77)","v":""},"RR","","","","","","","","","","","","","","","","","","","",null,null,null,null,null,null,null,null,null,null,null,null,null,null,null,null,null,null,null,null,null,null,null,null,null,null,null,null,null,null,null,null,null,null,null,null,null,null,null,null,null,null,null,null,null,null,null,null,null,null,null,null,null,null,null,null,null,null,null,null,null,null,"石川　端貴",3.2,{"$f":"IF(HU102=\"\",\"\",COUNTIFS($N$100:$BU$100,HV102,$N$101:$BU$101,$HW$68)+COUNTIFS($N$100:$BU$100,HV102,$N$102:$BU$102,$HW$68))","v":4},{"$f":"IF(HU102=\"\",\"\",COUNTIFS($N$100:$BU$100,HV102,$N$101:$BU$101,$HX$68)+COUNTIFS($N$100:$BU$100,HV102,$N$102:$BU$102,$HX$68))","v":1},{"$f":"IF(HU102=\"\",\"\",COUNTIFS($N$100:$BU$100,HV102,$N$101:$BU$101,$HY$68)+COUNTIFS($N$100:$BU$100,HV102,$N$102:$BU$102,$HY$68))","v":1},{"$f":"IF(HU102=\"\",\"\",COUNTIFS($N$100:$BU$100,HV102,$N$101:$BU$101,$HZ$68)+COUNTIFS($N$100:$BU$100,HV102,$N$102:$BU$102,$HZ$68))","v":1},{"$f":"IF(HU102=\"\",\"\",COUNTIFS($N$100:$BU$100,HV102,$N$101:$BU$101,$IA$68)+COUNTIFS($N$100:$BU$100,EHV102,$N$102:$BU$102,$IA$68))","v":0},{"$f":"IF(HU102=\"\",\"\",COUNTIFS($N$100:$BU$100,HV102,$N$101:$BU$101,$IB$68)+COUNTIFS($N$100:$BU$100,HV102,$N$102:$BU$102,$IB$68))","v":1}]
[null,null,10,"横川　凱","LL",10,null,null,null,{"$f":"IF(L103=\"\",\"\",VLOOKUP(L103,$C$94:$D$123,2,FALSE))","v":""},null,null,null,{"$f":"IFERROR(VLOOKUP(後攻T!F54,記号!$I$27:$J$30,2,FALSE),\"\")","v":"F"},{"$f":"IFERROR(VLOOKUP(後攻T!H53,記号!$L$5:$M$21,2,FALSE),\"\")","v":""},{"$f":"IFERROR(VLOOKUP(後攻T!H55,記号!$F$27:$G$37,2,FALSE),\"\")","v":""},{"$f":"IFERROR(VLOOKUP(後攻T!G53,記号!$I$5:$J$23,2,FALSE),\"\")","v":"H2"},null,{"$f":"IFERROR(VLOOKUP(後攻T!R54,記号!$I$27:$J$30,2,FALSE),\"\")","v":""},{"$f":"IFERROR(VLOOKUP(後攻T!T38,記号!$L$5:$M$21,2,FALSE),\"\")","v":""},{"$f":"IFERROR(VLOOKUP(後攻T!T55,記号!$F$27:$G$37,2,FALSE),\"\")","v":""},{"$f":"IFERROR(VLOOKUP(後攻T!S53,記号!$I$5:$J$23,2,FALSE),\"\")","v":""},null,{"$f":"IFERROR(VLOOKUP(後攻T!AD54,記号!$I$27:$J$30,2,FALSE),\"\")","v":"F"},{"$f":"IFERROR(VLOOKUP(後攻T!AF53,記号!$L$5:$M$21,2,FALSE),\"\")","v":""},{"$f":"IFERROR(VLOOKUP(後攻T!AF55,記号!$F$27:$G$37,2,FALSE),\"\")","v":""},{"$f":"IFERROR(VLOOKUP(後攻T!AE53,記号!$I$5:$J$23,2,FALSE),\"\")","v":""},null,{"$f":"IFERROR(VLOOKUP(後攻T!AP54,記号!$I$27:$J$30,2,FALSE),\"\")","v":""},{"$f":"IFERROR(VLOOKUP(後攻T!AR53,記号!$L$5:$M$21,2,FALSE),\"\")","v":""},{"$f":"IFERROR(VLOOKUP(後攻T!AR55,記号!$F$27:$G$37,2,FALSE),\"\")","v":""},{"$f":"IFERROR(VLOOKUP(後攻T!AQ53,記号!$I$5:$J$23,2,FALSE),\"\")","v":""},null,{"$f":"IFERROR(VLOOKUP(後攻T!BB54,記号!$I$27:$J$30,2,FALSE),\"\")","v":"F"},{"$f":"IFERROR(VLOOKUP(後攻T!BD53,記号!$L$5:$M$21,2,FALSE),\"\")","v":""},{"$f":"IFERROR(VLOOKUP(後攻T!BD55,記号!$F$27:$G$37,2,FALSE),\"\")","v":""},{"$f":"IFERROR(VLOOKUP(後攻T!BO38,記号!$I$5:$J$23,2,FALSE),\"\")","v":""},null,{"$f":"IFERROR(VLOOKUP(後攻T!BN54,記号!$I$27:$J$30,2,FALSE),\"\")","v":""},{"$f":"IFERROR(VLOOKUP(後攻T!BP53,記号!$L$5:$M$21,2,FALSE),\"\")","v":""},{"$f":"IFERROR(VLOOKUP(後攻T!BP55,記号!$F$27:$G$37,2,FALSE),\"\")","v":""},{"$f":"IFERROR(VLOOKUP(後攻T!BO53,記号!$I$5:$J$23,2,FALSE),\"\")","v":""},null,{"$f":"IFERROR(VLOOKUP(後攻T!BZ54,記号!$I$27:$J$30,2,FALSE),\"\")","v":"G"},{"$f":"IFERROR(VLOOKUP(後攻T!CB53,記号!$L$5:$M$21,2,FALSE),\"\")","v":""},{"$f":"IFERROR(VLOOKUP(後攻T!CB55,記号!$F$27:$G$37,2,FALSE),\"\")","v":""},{"$f":"IFERROR(VLOOKUP(後攻T!CA53,記号!$I$5:$J$23,2,FALSE),\"\")","v":""},null,{"$f":"IFERROR(VLOOKUP(後攻T!CL54,記号!$I$27:$J$30,2,FALSE),\"\")","v":"G"},{"$f":"IFERROR(VLOOKUP(後攻T!CN53,記号!$L$5:$M$21,2,FALSE),\"\")","v":""},{"$f":"IFERROR(VLOOKUP(後攻T!CN55,記号!$F$27:$G$37,2,FALSE),\"\")","v":""},{"$f":"IFERROR(VLOOKUP(後攻T!CM53,記号!$I$5:$J$23,2,FALSE),\"\")","v":""},null,{"$f":"IFERROR(VLOOKUP(後攻T!CX54,記号!$I$27:$J$30,2,FALSE),\"\")","v":""},{"$f":"IFERROR(VLOOKUP(後攻T!CZ53,記号!$L$5:$M$21,2,FALSE),\"\")","v":""},{"$f":"IFERROR(VLOOKUP(後攻T!CZ55,記号!$F$27:$G$37,2,FALSE),\"\")","v":""},{"$f":"IFERROR(VLOOKUP(後攻T!CY53,記号!$I$5:$J$23,2,FALSE),\"\")","v":""},null,{"$f":"IFERROR(VLOOKUP(後攻T!DJ54,記号!$I$27:$J$30,2,FALSE),\"\")","v":""},{"$f":"IFERROR(VLOOKUP(後攻T!DL53,記号!$L$5:$M$21,2,FALSE),\"\")","v":""},{"$f":"IFERROR(VLOOKUP(後攻T!DL55,記号!$F$27:$G$37,2,FALSE),\"\")","v":""},{"$f":"IFERROR(VLOOKUP(後攻T!DK53,記号!$I$5:$J$23,2,FALSE),\"\")","v":""},null,{"$f":"IFERROR(VLOOKUP(後攻T!DV54,記号!$I$27:$J$30,2,FALSE),\"\")","v":""},{"$f":"IFERROR(VLOOKUP(後攻T!DX53,記号!$L$5:$M$21,2,FALSE),\"\")","v":""},{"$f":"IFERROR(VLOOKUP(後攻T!DX55,記号!$F$27:$G$37,2,FALSE),\"\")","v":""},{"$f":"IFERROR(VLOOKUP(後攻T!DW53,記号!$I$5:$J$23,2,FALSE),\"\")","v":""},null,{"$f":"IFERROR(VLOOKUP(後攻T!EH54,記号!$I$27:$J$30,2,FALSE),\"\")","v":""},{"$f":"IFERROR(VLOOKUP(後攻T!EJ53,記号!$I$27:$J$30,2,FALSE),\"\")","v":""},{"$f":"IFERROR(VLOOKUP(後攻T!EJ55,記号!$I$27:$J$30,2,FALSE),\"\")","v":""},{"$f":"IFERROR(VLOOKUP(後攻T!EI53,記号!$I$27:$J$30,2,FALSE),\"\")","v":""},null,{"$f":"IF(K103=\"\",\"\",VLOOKUP(K103,$C$19:$E$24,3,FALSE))","v":""},{"$f":"IF(L103=\"\",\"\",(BX103+CG103+CH103+CI103))","v":""},"",{"$f":"IF(L103=\"\",\"\",COUNTIFS($N$100:$BU$100,L103,$N$105:$BU$105,$BY$68))","v":""},{"$f":"IF(L103=\"\",\"\",COUNTIFS($N$100:$BU$100,L103,$N$105:$BU$105,$BZ$68))","v":""},{"$f":"IF(L103=\"\",\"\",COUNTIFS($N$100:$BU$100,L103,$N$103:$BU$103,$CA$68))","v":""},{"$f":"IF(L103=\"\",\"\",COUNTIFS($N$100:$BU$100,L103,$N$103:$BU$103,$CB$68))","v":""},{"$f":"IF(L103=\"\",\"\",COUNTIFS($N$100:$BU$100,L103,$N$105:$BU$105,$CC$68))","v":""},{"$f":"IF(L103=\"\",\"\",SUMIF($N$100:$BU$100,L103,$N$105:$BU$105))","v":""},{"$f":"IF(L103=\"\",\"\",COUNTIFS($N$100:$BU$100,L103,$N$104:$BU$104,$CE$68))","v":""},{"$f":"IF(L103=\"\",\"\",COUNTIFS($N$100:$BU$100,L103,$N$105:$BU$105,$CF$68))","v":""},{"$f":"IF(L103=\"\",\"\",COUNTIFS($N$100:$BU$100,L103,$N$105:$BU$105,$CG$68))","v":""},{"$f":"IF(L103=\"\",\"\",COUNTIFS($N$100:$BU$100,L103,$N$105:$BU$105,$CH$68))","v":""},{"$f":"IF(L103=\"\",\"\",COUNTIFS($N$100:$BU$100,L103,$N$105:$BU$105,$CI$68))","v":""},{"$f":"IF(L103=\"\",\"\",COUNTIFS($N$100:$BU$100,L103,$N$105:$BU$105,$CJ$68))","v":""},{"$f":"IF(L103=\"\",\"\",COUNTIFS($N$100:$BU$100,L103,$N$105:$BU$105,$CK$68)+COUNTIFS($N$100:$BU$100,L103,$N$103:$BU$103,$CK$68))","v":""},{"$f":"IF(L103=\"\",\"\",COUNTIFS($N$100:$BU$100,L103,$N$105:$BU$105,$CL$68)+COUNTIFS($N$100:$BU$100,L103,$N$103:$BU$103,$CL$68))","v":""},{"$f":"IF(L103=\"\",\"\",COUNTIFS($N$100:$BU$100,L103,$N$105:$BU$105,$CM$68))","v":""},{"$f":"IF(L103=\"\",\"\",COUNTIFS($N$100:$BU$100,L103,$N$105:$BU$105,$CN$68))","v":""},{"$f":"IF(L103=\"\",\"\",COUNTIFS($N$100:$BU$100,L103,$N$101:$BU$101,$CO$68)+COUNTIFS($N$100:$BU$100,L103,$N$102:$BU$102,$CO$68))","v":""},null,"一飛",null,null,null,null,"A","RR",3,"一",5,"先",null,null,null,null,null,null,null,null,null,null,null,null,null,null,null,null,null,null,null,null,null,null,null,null,null,null,null,{"$f":"IF(L103=\"\",\"\",L103)","v":""},"",{"$f":"IF(EC103=\"\",\"\",COUNTIFS($N$100:$BU$100,EC103,$N$105:$BU$105,\"RZ\"))","v":""},{"$f":"IF(EC103=\"\",\"\",COUNTIFS($N$100:$BU$100,EC103,$N$104:$BU$104,\"ZH\"))","v":""},null,null,null,null,null,null,null,"","",{"$f":"IF(G77=\"\",\"\",G77)","v":""},"LL","","","","","","","","","","","","","","","","","","","",null,null,null,null,null,null,null,null,null,null,null,null,null,null,null,null,null,null,null,null,null,null,null,null,null,null,null,null,null,null,null,null,null,null,null,null,null,null,null,null,null,null,null,null,null,null,null,null,null,null,null,null,null,null,null,null,null,null,null,null,null,null,"","","","","","","",""]
[null,null,11,"井坂　太一","RL",11,null,null,null,{"$f":"IF(L104=\"\",\"\",VLOOKUP(L104,$C$94:$D$123,2,FALSE))","v":""},null,null,null,{"$f":"IF(N100=\"\",\"\",IF(N100=L101+0.2,\"2\",IF(N100=L101+0.3,\"3\",IF(N100=L101+0.4,\"4\",IF(N100=L101+0.5,\"5\",\"先\")))))","v":"先"},{"$f":"IFERROR(VLOOKUP(後攻T!I55,記号!$F$27:$G$37,2,FALSE),\"\")","v":""},{"$f":"IFERROR(VLOOKUP(後攻T!J53,記号!$R$5:$S$10,2,FALSE),\"\")","v":"L"},{"$f":"IFERROR(VLOOKUP(後攻T!G55,記号!$F$27:$G$37,2,FALSE),\"\")","v":""},{"$f":"IFERROR(VLOOKUP(後攻T!L53,記号!$U$12:$V$13,2,FALSE),\"\")","v":"ZH"},{"$f":"IF(S100=\"\",\"\",IF(S100=L101+0.2,\"2\",IF(S100=L101+0.3,\"3\",IF(S100=L101+0.4,\"4\",IF(S100=L101+0.5,\"5\",\"先\")))))","v":"先"},{"$f":"IFERROR(VLOOKUP(後攻T!U55,記号!$F$27:$G$37,2,FALSE),\"\")","v":""},{"$f":"IFERROR(VLOOKUP(後攻T!V53,記号!$R$5:$S$10,2,FALSE),\"\")","v":""},{"$f":"IFERROR(VLOOKUP(後攻T!S55,記号!$F$27:$G$37,2,FALSE),\"\")","v":""},{"$f":"IFERROR(VLOOKUP(後攻T!X53,記号!$U$12:$V$13,2,FALSE),\"\")","v":""},{"$f":"IF(X100=\"\",\"\",IF(X100=L101+0.2,\"2\",IF(X100=L101+0.3,\"3\",IF(X100=L101+0.4,\"4\",IF(X100=L101+0.5,\"5\",\"先\")))))","v":"先"},{"$f":"IFERROR(VLOOKUP(後攻T!AG55,記号!$F$27:$G$37,2,FALSE),\"\")","v":""},{"$f":"IFERROR(VLOOKUP(後攻T!AH53,記号!$R$5:$S$10,2,FALSE),\"\")","v":"Ⅲ"},{"$f":"IFERROR(VLOOKUP(後攻T!AE55,記号!$F$27:$G$37,2,FALSE),\"\")","v":""},{"$f":"IFERROR(VLOOKUP(後攻T!AJ53,記号!$U$12:$V$13,2,FALSE),\"\")","v":""},{"$f":"IF(AC100=\"\",\"\",IF(AC100=L101+0.2,\"2\",IF(AC100=L101+0.3,\"3\",IF(AC100=L101+0.4,\"4\",IF(AC100=L101+0.5,\"5\",\"先\")))))","v":"先"},{"$f":"IFERROR(VLOOKUP(後攻T!AS55,記号!$F$27:$G$37,2,FALSE),\"\")","v":""},{"$f":"IFERROR(VLOOKUP(後攻T!AT53,記号!$R$5:$S$10,2,FALSE),\"\")","v":""},{"$f":"IFERROR(VLOOKUP(後攻T!AQ55,記号!$F$27:$G$37,2,FALSE),\"\")","v":""},{"$f":"IFERROR(VLOOKUP(後攻T!AV53,記号!$U$12:$V$13,2,FALSE),\"\")","v":""},{"$f":"IF(AH100=\"\",\"\",IF(AH100=L101+0.2,\"2\",IF(AH100=L101+0.3,\"3\",IF(AH100=L101+0.4,\"4\",IF(AH100=L101+0.5,\"5\",\"先\")))))","v":"先"},{"$f":"IFERROR(VLOOKUP(後攻T!BE55,記号!$F$27:$G$37,2,FALSE),\"\")","v":""},{"$f":"IFERROR(VLOOKUP(後攻T!BF53,記号!$R$5:$S$10,2,FALSE),\"\")","v":"Ⅰ"},{"$f":"IFERROR(VLOOKUP(後攻T!BC55,記号!$F$27:$G$37,2,FALSE),\"\")","v":""},{"$f":"IFERROR(VLOOKUP(後攻T!BH53,記号!$U$12:$V$13,2,FALSE),\"\")","v":""},{"$f":"IF(AM100=\"\",\"\",IF(AM100=L101+0.2,\"2\",IF(AM100=L101+0.3,\"3\",IF(AM100=L101+0.4,\"4\",IF(AM100=L101+0.5,\"5\",\"先\")))))","v":"先"},{"$f":"IFERROR(VLOOKUP(後攻T!BQ55,記号!$F$27:$G$37,2,FALSE),\"\")","v":""},{"$f":"IFERROR(VLOOKUP(後攻T!BR53,記号!$R$5:$S$10,2,FALSE),\"\")","v":""},{"$f":"IFERROR(VLOOKUP(後攻T!BO55,記号!$F$27:$G$37,2,FALSE),\"\")","v":""},{"$f":"IFERROR(VLOOKUP(後攻T!BT53,記号!$U$12:$V$13,2,FALSE),\"\")","v":""},{"$f":"IF(AR100=\"\",\"\",IF(AR100=L101+0.2,\"2\",IF(AR100=L101+0.3,\"3\",IF(AR100=L101+0.4,\"4\",IF(AR100=L101+0.5,\"5\",\"先\")))))","v":"先"},{"$f":"IFERROR(VLOOKUP(後攻T!CC55,記号!$F$27:$G$37,2,FALSE),\"\")","v":""},{"$f":"IFERROR(VLOOKUP(後攻T!CD53,記号!$R$5:$S$10,2,FALSE),\"\")","v":"Ⅰ"},{"$f":"IFERROR(VLOOKUP(後攻T!CA55,記号!$F$27:$G$37,2,FALSE),\"\")","v":""},{"$f":"IFERROR(VLOOKUP(後攻T!CF53,記号!$U$12:$V$13,2,FALSE),\"\")","v":""},{"$f":"IF(AW100=\"\",\"\",IF(AW100=L101+0.2,\"2\",IF(AW100=L101+0.3,\"3\",IF(AW100=L101+0.4,\"4\",IF(AW100=L101+0.5,\"5\",\"先\")))))","v":"2"},{"$f":"IFERROR(VLOOKUP(後攻T!CO55,記号!$F$27:$G$37,2,FALSE),\"\")","v":""},{"$f":"IFERROR(VLOOKUP(後攻T!CP53,記号!$R$5:$S$10,2,FALSE),\"\")","v":"Ⅲ"},{"$f":"IFERROR(VLOOKUP(後攻T!CM55,記号!$F$27:$G$37,2,FALSE),\"\")","v":""},{"$f":"IFERROR(VLOOKUP(後攻T!CR53,記号!$U$12:$V$13,2,FALSE),\"\")","v":""},{"$f":"IF(BB100=\"\",\"\",IF(BB100=L101+0.2,\"2\",IF(BB100=L101+0.3,\"3\",IF(BB100=L101+0.4,\"4\",IF(BB100=L101+0.5,\"5\",\"先\")))))","v":"2"},{"$f":"IFERROR(VLOOKUP(後攻T!DA55,記号!$F$27:$G$37,2,FALSE),\"\")","v":""},{"$f":"IFERROR(VLOOKUP(後攻T!DB53,記号!$R$5:$S$10,2,FALSE),\"\")","v":""},{"$f":"IFERROR(VLOOKUP(後攻T!CY55,記号!$F$27:$G$37,2,FALSE),\"\")","v":""},{"$f":"IFERROR(VLOOKUP(後攻T!DD53,記号!$U$12:$V$13,2,FALSE),\"\")","v":""},{"$f":"IF(BG100=\"\",\"\",IF(BG100=L101+0.2,\"2\",IF(BG100=L101+0.3,\"3\",IF(BG100=L101+0.4,\"4\",IF(BG100=L101+0.5,\"5\",\"先\")))))","v":"2"},{"$f":"IFERROR(VLOOKUP(後攻T!DM55,記号!$F$27:$G$37,2,FALSE),\"\")","v":""},{"$f":"IFERROR(VLOOKUP(後攻T!DN53,記号!$R$5:$S$10,2,FALSE),\"\")","v":""},{"$f":"IFERROR(VLOOKUP(後攻T!DK55,記号!$F$27:$G$37,2,FALSE),\"\")","v":""},{"$f":"IFERROR(VLOOKUP(後攻T!DP53,記号!$U$12:$V$13,2,FALSE),\"\")","v":""},{"$f":"IF(BL100=\"\",\"\",IF(BL100=L101+0.2,\"2\",IF(BL100=L101+0.3,\"3\",IF(BL100=L101+0.4,\"4\",IF(BL100=L101+0.5,\"5\",\"先\")))))","v":"2"},{"$f":"IFERROR(VLOOKUP(後攻T!DY55,記号!$F$27:$G$37,2,FALSE),\"\")","v":""},{"$f":"IFERROR(VLOOKUP(後攻T!DZ53,記号!$R$5:$S$10,2,FALSE),\"\")","v":""},{"$f":"IFERROR(VLOOKUP(後攻T!DW55,記号!$F$27:$G$37,2,FALSE),\"\")","v":""},{"$f":"IFERROR(VLOOKUP(後攻T!EB53,記号!$U$12:$V$13,2,FALSE),\"\")","v":""},{"$f":"IF(BQ100=\"\",\"\",IF(BQ100=L101+0.2,\"2\",IF(BQ100=L101+0.3,\"3\",IF(BQ100=L101+0.4,\"4\",IF(BQ100=L101+0.5,\"5\",\"先\")))))","v":"2"},{"$f":"IFERROR(VLOOKUP(後攻T!EK55,記号!$F$27:$G$37,2,FALSE),\"\")","v":""},{"$f":"IFERROR(VLOOKUP(後攻T!EL53,記号!$R$5:$S$10,2,FALSE),\"\")","v":""},{"$f":"IFERROR(VLOOKUP(後攻T!EI55,記号!$F$27:$G$37,2,FALSE),\"\")","v":""},{"$f":"IFERROR(VLOOKUP(後攻T!EN53,記号!$U$12:$V$13,2,FALSE),\"\")","v":""},{"$f":"IF(K104=\"\",\"\",VLOOKUP(K104,$C$19:$E$24,3,FALSE))","v":""},{"$f":"IF(L104=\"\",\"\",(BX104+CG104+CH104+CI104))","v":""},"",{"$f":"IF(L104=\"\",\"\",COUNTIFS($N$100:$BU$100,L104,$N$105:$BU$105,$BY$68))","v":""},{"$f":"IF(L104=\"\",\"\",COUNTIFS($N$100:$BU$100,L104,$N$105:$BU$105,$BZ$68))","v":""},{"$f":"IF(L104=\"\",\"\",COUNTIFS($N$100:$BU$100,L104,$N$103:$BU$103,$CA$68))","v":""},{"$f":"IF(L104=\"\",\"\",COUNTIFS($N$100:$BU$100,L104,$N$103:$BU$103,$CB$68))","v":""},{"$f":"IF(L104=\"\",\"\",COUNTIFS($N$100:$BU$100,L104,$N$105:$BU$105,$CC$68))","v":""},{"$f":"IF(L104=\"\",\"\",SUMIF($N$100:$BU$100,L104,$N$105:$BU$105))","v":""},{"$f":"IF(L104=\"\",\"\",COUNTIFS($N$100:$BU$100,L104,$N$104:$BU$104,$CE$68))","v":""},{"$f":"IF(L104=\"\",\"\",COUNTIFS($N$100:$BU$100,L104,$N$105:$BU$105,$CF$68))","v":""},{"$f":"IF(L104=\"\",\"\",COUNTIFS($N$100:$BU$100,L104,$N$105:$BU$105,$CG$68))","v":""},{"$f":"IF(L104=\"\",\"\",COUNTIFS($N$100:$BU$100,L104,$N$105:$BU$105,$CH$68))","v":""},{"$f":"IF(L104=\"\",\"\",COUNTIFS($N$100:$BU$100,L104,$N$105:$BU$105,$CI$68))","v":""},{"$f":"IF(L104=\"\",\"\",COUNTIFS($N$100:$BU$100,L104,$N$105:$BU$105,$CJ$68))","v":""},{"$f":"IF(L104=\"\",\"\",COUNTIFS($N$100:$BU$100,L104,$N$105:$BU$105,$CK$68)+COUNTIFS($N$100:$BU$100,L104,$N$103:$BU$103,$CK$68))","v":""},{"$f":"IF(L104=\"\",\"\",COUNTIFS($N$100:$BU$100,L104,$N$105:$BU$105,$CL$68)+COUNTIFS($N$100:$BU$100,L104,$N$103:$BU$103,$CL$68))","v":""},{"$f":"IF(L104=\"\",\"\",COUNTIFS($N$100:$BU$100,L104,$N$105:$BU$105,$CM$68))","v":""},{"$f":"IF(L104=\"\",\"\",COUNTIFS($N$100:$BU$100,L104,$N$105:$BU$105,$CN$68))","v":""},{"$f":"IF(L104=\"\",\"\",COUNTIFS($N$100:$BU$100,L104,$N$101:$BU$101,$CO$68)+COUNTIFS($N$100:$BU$100,L104,$N$102:$BU$102,$CO$68))","v":""},null,"一ゴロ",null,null,null,null,"G","RR",3,"一",5,"先",null,null,null,null,null,null,null,null,null,null,null,null,null,null,null,null,null,null,null,null,null,null,null,null,null,null,null,{"$f":"IF(L104=\"\",\"\",L104)","v":""},"",{"$f":"IF(EC104=\"\",\"\",COUNTIFS($N$100:$BU$100,EC104,$N$105:$BU$105,\"RZ\"))","v":""},{"$f":"IF(EC104=\"\",\"\",COUNTIFS($N$100:$BU$100,EC104,$N$104:$BU$104,\"ZH\"))","v":""},null,null,null,null,null,null,null,"","",{"$f":"IF(G78=\"\",\"\",G78)","v":""},"RR","","","","","","","","","","","","","","","","","","","",null,null,null,null,null,null,null,null,null,null,null,null,null,null,null,null,null,null,null,null,null,null,null,null,null,null,null,null,null,null,null,null,null,null,null,null,null,null,null,null,null,null,null,null,null,null,null,null,null,null,null,null,null,null,null,null,null,null,null,null,null,null,"","","","","","","",""]
[null,null,12,"飯田　光希","RR",12,null,null,null,{"$f":"IF(L105=\"\",\"\",VLOOKUP(L105,$C$94:$D$123,2,FALSE))","v":""},null,null,null,{"$f":"IFERROR(VLOOKUP(後攻T!K53,記号!$R$15:$S$20,2,FALSE),\"\")","v":2},{"$f":"IFERROR(VLOOKUP(後攻T!I53,記号!$O$5:$P$21,2,FALSE),\"\")","v":""},{"$f":"IFERROR(VLOOKUP(後攻T!F55,記号!$F$27:$G$37,2,FALSE),\"\")","v":"8'"},{"$f":"IFERROR(VLOOKUP(後攻T!F53,記号!$F$5:$G$21,2,FALSE),\"\")","v":""},{"$f":"IFERROR(VLOOKUP(後攻T!L54,記号!$U$5:$V$6,2,FALSE),\"\")","v":"RZ"},{"$f":"IFERROR(VLOOKUP(後攻T!W53,記号!$R$15:$S$20,2,FALSE),\"\")","v":""},{"$f":"IFERROR(VLOOKUP(後攻T!U53,記号!$O$5:$P$21,2,FALSE),\"\")","v":""},{"$f":"IFERROR(VLOOKUP(後攻T!R55,記号!$F$27:$G$37,2,FALSE),\"\")","v":""},{"$f":"IFERROR(VLOOKUP(後攻T!R53,記号!$F$5:$G$21,2,FALSE),\"\")","v":""},{"$f":"IFERROR(VLOOKUP(後攻T!X54,記号!$U$5:$V$6,2,FALSE),\"\")","v":""},{"$f":"IFERROR(VLOOKUP(後攻T!AI53,記号!$R$15:$S$20,2,FALSE),\"\")","v":""},{"$f":"IFERROR(VLOOKUP(後攻T!AG53,記号!$O$5:$P$21,2,FALSE),\"\")","v":""},{"$f":"IFERROR(VLOOKUP(後攻T!AD55,記号!$F$27:$G$37,2,FALSE),\"\")","v":"4'"},{"$f":"IFERROR(VLOOKUP(後攻T!AD53,記号!$F$5:$G$21,2,FALSE),\"\")","v":"O"},{"$f":"IFERROR(VLOOKUP(後攻T!AJ54,記号!$U$5:$V$6,2,FALSE),\"\")","v":"RZ"},{"$f":"IFERROR(VLOOKUP(後攻T!AU53,記号!$R$15:$S$20,2,FALSE),\"\")","v":""},{"$f":"IFERROR(VLOOKUP(後攻T!AS53,記号!$O$5:$P$21,2,FALSE),\"\")","v":""},{"$f":"IFERROR(VLOOKUP(後攻T!AP55,記号!$F$27:$G$37,2,FALSE),\"\")","v":""},{"$f":"IFERROR(VLOOKUP(後攻T!AP53,記号!$F$5:$G$21,2,FALSE),\"\")","v":""},{"$f":"IFERROR(VLOOKUP(後攻T!AV54,記号!$U$5:$V$6,2,FALSE),\"\")","v":""},{"$f":"IFERROR(VLOOKUP(後攻T!BG53,記号!$R$15:$S$20,2,FALSE),\"\")","v":""},{"$f":"IFERROR(VLOOKUP(後攻T!BE53,記号!$O$5:$P$21,2,FALSE),\"\")","v":""},{"$f":"IFERROR(VLOOKUP(後攻T!BB55,記号!$F$27:$G$37,2,FALSE),\"\")","v":"3'"},{"$f":"IFERROR(VLOOKUP(後攻T!BB53,記号!$F$5:$G$21,2,FALSE),\"\")","v":"O"},{"$f":"IFERROR(VLOOKUP(後攻T!BH54,記号!$U$5:$V$6,2,FALSE),\"\")","v":""},{"$f":"IFERROR(VLOOKUP(後攻T!BS53,記号!$R$15:$S$20,2,FALSE),\"\")","v":""},{"$f":"IFERROR(VLOOKUP(後攻T!BQ53,記号!$O$5:$P$21,2,FALSE),\"\")","v":""},{"$f":"IFERROR(VLOOKUP(後攻T!BN55,記号!$F$27:$G$37,2,FALSE),\"\")","v":""},{"$f":"IFERROR(VLOOKUP(後攻T!BN53,記号!$F$5:$G$21,2,FALSE),\"\")","v":""},{"$f":"IFERROR(VLOOKUP(後攻T!BT54,記号!$U$5:$V$6,2,FALSE),\"\")","v":""},{"$f":"IFERROR(VLOOKUP(後攻T!CE53,記号!$R$15:$S$20,2,FALSE),\"\")","v":""},{"$f":"IFERROR(VLOOKUP(後攻T!CC53,記号!$O$5:$P$21,2,FALSE),\"\")","v":""},{"$f":"IFERROR(VLOOKUP(後攻T!BZ55,記号!$F$27:$G$37,2,FALSE),\"\")","v":"3'"},{"$f":"IFERROR(VLOOKUP(後攻T!BZ53,記号!$F$5:$G$21,2,FALSE),\"\")","v":"O"},{"$f":"IFERROR(VLOOKUP(後攻T!CF54,記号!$U$5:$V$6,2,FALSE),\"\")","v":""},{"$f":"IFERROR(VLOOKUP(後攻T!CQ53,記号!$R$15:$S$20,2,FALSE),\"\")","v":""},{"$f":"IFERROR(VLOOKUP(後攻T!CO53,記号!$O$5:$P$21,2,FALSE),\"\")","v":""},{"$f":"IFERROR(VLOOKUP(後攻T!CL55,記号!$F$27:$G$37,2,FALSE),\"\")","v":"4'"},{"$f":"IFERROR(VLOOKUP(後攻T!CL53,記号!$F$5:$G$21,2,FALSE),\"\")","v":"O"},{"$f":"IFERROR(VLOOKUP(後攻T!CR54,記号!$U$5:$V$6,2,FALSE),\"\")","v":""},{"$f":"IFERROR(VLOOKUP(後攻T!DC53,記号!$R$15:$S$20,2,FALSE),\"\")","v":""},{"$f":"IFERROR(VLOOKUP(後攻T!DA53,記号!$O$5:$P$21,2,FALSE),\"\")","v":""},{"$f":"IFERROR(VLOOKUP(後攻T!CX55,記号!$F$27:$G$37,2,FALSE),\"\")","v":""},{"$f":"IFERROR(VLOOKUP(後攻T!CX53,記号!$F$5:$G$21,2,FALSE),\"\")","v":""},{"$f":"IFERROR(VLOOKUP(後攻T!DD54,記号!$U$5:$V$6,2,FALSE),\"\")","v":""},{"$f":"IFERROR(VLOOKUP(後攻T!DO53,記号!$R$15:$S$20,2,FALSE),\"\")","v":""},{"$f":"IFERROR(VLOOKUP(後攻T!DM53,記号!$O$5:$P$21,2,FALSE),\"\")","v":""},{"$f":"IFERROR(VLOOKUP(後攻T!DJ55,記号!$F$27:$G$37,2,FALSE),\"\")","v":""},{"$f":"IFERROR(VLOOKUP(後攻T!DJ53,記号!$F$5:$G$21,2,FALSE),\"\")","v":""},{"$f":"IFERROR(VLOOKUP(後攻T!DP54,記号!$U$5:$V$6,2,FALSE),\"\")","v":""},{"$f":"IFERROR(VLOOKUP(後攻T!EA53,記号!$R$15:$S$20,2,FALSE),\"\")","v":""},{"$f":"IFERROR(VLOOKUP(後攻T!DY53,記号!$O$5:$P$21,2,FALSE),\"\")","v":""},{"$f":"IFERROR(VLOOKUP(後攻T!DV55,記号!$F$27:$G$37,2,FALSE),\"\")","v":""},{"$f":"IFERROR(VLOOKUP(後攻T!DV53,記号!$F$5:$G$21,2,FALSE),\"\")","v":""},{"$f":"IFERROR(VLOOKUP(後攻T!EB54,記号!$U$5:$V$6,2,FALSE),\"\")","v":""},{"$f":"IFERROR(VLOOKUP(後攻T!EM53,記号!$R$15:$S$20,2,FALSE),\"\")","v":""},{"$f":"IFERROR(VLOOKUP(後攻T!EK53,記号!$O$5:$P$21,2,FALSE),\"\")","v":""},{"$f":"IFERROR(VLOOKUP(後攻T!EH55,記号!$F$27:$G$37,2,FALSE),\"\")","v":""},{"$f":"IFERROR(VLOOKUP(後攻T!EH53,記号!$F$5:$G$21,2,FALSE),\"\")","v":""},{"$f":"IFERROR(VLOOKUP(後攻T!EN54,記号!$U$5:$V$6,2,FALSE),\"\")","v":""},{"$f":"IF(K105=\"\",\"\",VLOOKUP(K105,$C$19:$E$24,3,FALSE))","v":""},{"$f":"IF(L105=\"\",\"\",(BX105+CG105+CH105+CI105))","v":""},"",{"$f":"IF(L105=\"\",\"\",COUNTIFS($N$100:$BU$100,L105,$N$105:$BU$105,$BY$68))","v":""},{"$f":"IF(L105=\"\",\"\",COUNTIFS($N$100:$BU$100,L105,$N$105:$BU$105,$BZ$68))","v":""},{"$f":"IF(L105=\"\",\"\",COUNTIFS($N$100:$BU$100,L105,$N$103:$BU$103,$CA$68))","v":""},{"$f":"IF(L105=\"\",\"\",COUNTIFS($N$100:$BU$100,L105,$N$103:$BU$103,$CB$68))","v":""},{"$f":"IF(L105=\"\",\"\",COUNTIFS($N$100:$BU$100,L105,$N$105:$BU$105,$CC$68))","v":""},{"$f":"IF(L105=\"\",\"\",SUMIF($N$100:$BU$100,L105,$N$105:$BU$105))","v":""},{"$f":"IF(L105=\"\",\"\",COUNTIFS($N$100:$BU$100,L105,$N$104:$BU$104,$CE$68))","v":""},{"$f":"IF(L105=\"\",\"\",COUNTIFS($N$100:$BU$100,L105,$N$105:$BU$105,$CF$68))","v":""},{"$f":"IF(L105=\"\",\"\",COUNTIFS($N$100:$BU$100,L105,$N$105:$BU$105,$CG$68))","v":""},{"$f":"IF(L105=\"\",\"\",COUNTIFS($N$100:$BU$100,L105,$N$105:$BU$105,$CH$68))","v":""},{"$f":"IF(L105=\"\",\"\",COUNTIFS($N$100:$BU$100,L105,$N$105:$BU$105,$CI$68))","v":""},{"$f":"IF(L105=\"\",\"\",COUNTIFS($N$100:$BU$100,L105,$N$105:$BU$105,$CJ$68))","v":""},{"$f":"IF(L105=\"\",\"\",COUNTIFS($N$100:$BU$100,L105,$N$105:$BU$105,$CK$68)+COUNTIFS($N$100:$BU$100,L105,$N$103:$BU$103,$CK$68))","v":""},{"$f":"IF(L105=\"\",\"\",COUNTIFS($N$100:$BU$100,L105,$N$105:$BU$105,$CL$68)+COUNTIFS($N$100:$BU$100,L105,$N$103:$BU$103,$CL$68))","v":""},{"$f":"IF(L105=\"\",\"\",COUNTIFS($N$100:$BU$100,L105,$N$105:$BU$105,$CM$68))","v":""},{"$f":"IF(L105=\"\",\"\",COUNTIFS($N$100:$BU$100,L105,$N$105:$BU$105,$CN$68))","v":""},{"$f":"IF(L105=\"\",\"\",COUNTIFS($N$100:$BU$100,L105,$N$101:$BU$101,$CO$68)+COUNTIFS($N$100:$BU$100,L105,$N$102:$BU$102,$CO$68))","v":""},null,"二ゴロ",null,null,null,null,"G","RR",3,"二",4,2,null,null,null,null,"投手別打球振り分け",null,null,null,null,null,null,null,null,null,null,null,null,null,null,null,null,null,null,null,null,null,null,{"$f":"IF(L105=\"\",\"\",L105)","v":""},"",{"$f":"IF(EC105=\"\",\"\",COUNTIFS($N$100:$BU$100,EC105,$N$105:$BU$105,\"RZ\"))","v":""},{"$f":"IF(EC105=\"\",\"\",COUNTIFS($N$100:$BU$100,EC105,$N$104:$BU$104,\"ZH\"))","v":""},null,null,null,null,null,null,null,"","",{"$f":"IF(G78=\"\",\"\",G78)","v":""},"LL","","","","","","","","","","","","","","","","","","","",null,null,null,null,null,null,null,null,null,null,null,null,null,null,null,null,null,null,null,null,null,null,null,null,null,null,null,null,null,null,null,null,null,null,null,null,null,null,null,null,null,null,null,null,null,null,null,null,null,null,null,null,null,null,null,null,null,null,null,null,null,null,"","","","","","","",""]
[null,null,13,"宮本　亮太","RL",13,null,null,null,null,null,null,"打者背番号を入力➡",{"$f":"後攻T!E56","v":4},{"$f":"N106","v":4},{"$f":"N106","v":4},{"$f":"N106","v":4},{"$f":"N106","v":4},{"$f":"後攻T!Q56","v":4},{"$f":"S106","v":4},{"$f":"S106","v":4},{"$f":"S106","v":4},{"$f":"S106","v":4},{"$f":"後攻T!AC56","v":4},{"$f":"X106","v":4},{"$f":"X106","v":4},{"$f":"X106","v":4},{"$f":"X106","v":4},{"$f":"後攻T!AO56","v":4},{"$f":"AC106","v":4},{"$f":"AC106","v":4},{"$f":"AC106","v":4},{"$f":"AC106","v":4},{"$f":"後攻T!BA56","v":4},{"$f":"AH106","v":4},{"$f":"AH106","v":4},{"$f":"AH106","v":4},{"$f":"AH106","v":4},{"$f":"後攻T!BM56","v":4},{"$f":"AM106","v":4},{"$f":"AM106","v":4},{"$f":"AM106","v":4},{"$f":"AM106","v":4},{"$f":"後攻T!BY56","v":4},{"$f":"AR106","v":4},{"$f":"AR106","v":4},{"$f":"AR106","v":4},{"$f":"AR106","v":4},{"$f":"後攻T!$CK56","v":4.2},{"$f":"AW106","v":4.2},{"$f":"AW106","v":4.2},{"$f":"AW106","v":4.2},{"$f":"AW106","v":4.2},{"$f":"後攻T!CW56","v":4.2},{"$f":"BB106","v":4.2},{"$f":"BB106","v":4.2},{"$f":"BB106","v":4.2},{"$f":"BB106","v":4.2},{"$f":"後攻T!DI56","v":4.2},{"$f":"BG106","v":4.2},{"$f":"BG106","v":4.2},{"$f":"BG106","v":4.2},{"$f":"BG106","v":4.2},{"$f":"後攻T!DU56","v":4.2},{"$f":"BL106","v":4.2},{"$f":"BL106","v":4.2},{"$f":"BL106","v":4.2},{"$f":"BL106","v":4.2},{"$f":"後攻T!EG56","v":4.2},{"$f":"BQ106","v":4.2},{"$f":"BQ106","v":4.2},{"$f":"BQ106","v":4.2},{"$f":"BQ106","v":4.2},null,null,null,null,null,null,null,null,null,null,null,null,null,null,null,null,null,null,null,null,null,null,null,null,null,null,null,null,null,null,null,null,null,null,null,"T番","選手名","背番","投順","ゴロ","フライ","計",null,null,null,null,null,null,null,null,null,null,null,null,null,null,null,null,null,null,null,null,null,null,null,null,null,null,null,null,null,{"$f":"IF(O67=\"\",\"\",O67)","v":"大阪桐蔭"},"計","RR",{"$f":"IF($EO$41=\"\",\"\",SUMIF($EQ$5:$EQ$40,$EQ$41,ER70:ER105))","v":45},{"$f":"IF($EO$41=\"\",\"\",SUMIF($EQ$5:$EQ$40,$EQ$41,ES70:ES105))","v":40},16,10,3,0,2,8,13,7,4,0,1,0,1,0,0,2,187,null,null,{"$f":"FJ106","v":187},null,null,null,null,null,null,null,null,null,null,null,null,null,null,null,null,null,null,null,null,null,null,null,null,null,null,null,null,null,null,null,null,null,null,null,null,null,null,null,null,null,null,null,null,null,null,null,null,null,null,null,null,null,null,null,null,null,null,null,null,""]
[null,null,14,"佐藤　夏冴","RR",14,null,null,{"$f":"IF(C76=\"\",\"\",C76)","v":"二"},{"$f":"IF(D76=\"\",\"\",D76)","v":"山田　健太"},{"$f":"IF(J107=\"\",\"\",\"先\")","v":"先"},{"$f":"IF(J107=\"\",\"\",F76)","v":4},"⑦",{"$f":"IFERROR(VLOOKUP(後攻T!F58,記号!$B$6:$C$10,2,FALSE),\"\")","v":"・●"},{"$f":"IFERROR(VLOOKUP(後攻T!G58,記号!$B$6:$C$10,2,FALSE),\"\")","v":"・●"},{"$f":"IFERROR(VLOOKUP(後攻T!H58,記号!$B$6:$C$10,2,FALSE),\"\")","v":"・◎"},{"$f":"IFERROR(VLOOKUP(後攻T!I58,記号!$B$6:$C$10,2,FALSE),\"\")","v":""},{"$f":"IFERROR(VLOOKUP(後攻T!J58,記号!$B$6:$C$10,2,FALSE),\"\")","v":""},{"$f":"IFERROR(VLOOKUP(後攻T!R58,記号!$B$6:$C$10,2,FALSE),\"\")","v":""},{"$f":"IFERROR(VLOOKUP(後攻T!S58,記号!$B$6:$C$10,2,FALSE),\"\")","v":""},{"$f":"IFERROR(VLOOKUP(後攻T!T58,記号!$B$6:$C$10,2,FALSE),\"\")","v":""},{"$f":"IFERROR(VLOOKUP(後攻T!U58,記号!$B$6:$C$10,2,FALSE),\"\")","v":""},{"$f":"IFERROR(VLOOKUP(後攻T!V58,記号!$B$6:$C$10,2,FALSE),\"\")","v":""},{"$f":"IFERROR(VLOOKUP(後攻T!AD58,記号!$B$6:$C$10,2,FALSE),\"\")","v":""},{"$f":"IFERROR(VLOOKUP(後攻T!AE58,記号!$B$6:$C$10,2,FALSE),\"\")","v":""},{"$f":"IFERROR(VLOOKUP(後攻T!AF58,記号!$B$6:$C$10,2,FALSE),\"\")","v":""},{"$f":"IFERROR(VLOOKUP(後攻T!AG58,記号!$B$6:$C$10,2,FALSE),\"\")","v":""},{"$f":"IFERROR(VLOOKUP(後攻T!AH58,記号!$B$6:$C$10,2,FALSE),\"\")","v":""},{"$f":"IFERROR(VLOOKUP(後攻T!AP58,記号!$B$6:$C$10,2,FALSE),\"\")","v":"・●"},{"$f":"IFERROR(VLOOKUP(後攻T!AQ58,記号!$B$6:$C$10,2,FALSE),\"\")","v":"・●"},{"$f":"IFERROR(VLOOKUP(後攻T!AR58,記号!$B$6:$C$10,2,FALSE),\"\")","v":"・●"},{"$f":"IFERROR(VLOOKUP(後攻T!AS58,記号!$B$6:$C$10,2,FALSE),\"\")","v":"・〇"},{"$f":"IFERROR(VLOOKUP(後攻T!AT58,記号!$B$6:$C$10,2,FALSE),\"\")","v":"・〇"},{"$f":"IFERROR(VLOOKUP(後攻T!BB58,記号!$B$6:$C$10,2,FALSE),\"\")","v":"・●"},{"$f":"IFERROR(VLOOKUP(後攻T!BC58,記号!$B$6:$C$10,2,FALSE),\"\")","v":"・〇"},{"$f":"IFERROR(VLOOKUP(後攻T!BD58,記号!$B$6:$C$10,2,FALSE),\"\")","v":"・◎"},{"$f":"IFERROR(VLOOKUP(後攻T!BE58,記号!$B$6:$C$10,2,FALSE),\"\")","v":""},{"$f":"IFERROR(VLOOKUP(後攻T!BF58,記号!$B$6:$C$10,2,FALSE),\"\")","v":""},{"$f":"IFERROR(VLOOKUP(後攻T!BN58,記号!$B$6:$C$10,2,FALSE),\"\")","v":""},{"$f":"IFERROR(VLOOKUP(後攻T!BO58,記号!$B$6:$C$10,2,FALSE),\"\")","v":""},{"$f":"IFERROR(VLOOKUP(後攻T!BP58,記号!$B$6:$C$10,2,FALSE),\"\")","v":""},{"$f":"IFERROR(VLOOKUP(後攻T!BQ58,記号!$B$6:$C$10,2,FALSE),\"\")","v":""},{"$f":"IFERROR(VLOOKUP(後攻T!BR58,記号!$B$6:$C$10,2,FALSE),\"\")","v":""},{"$f":"IFERROR(VLOOKUP(後攻T!BZ58,記号!$B$6:$C$10,2,FALSE),\"\")","v":"・◎"},{"$f":"IFERROR(VLOOKUP(後攻T!CA58,記号!$B$6:$C$10,2,FALSE),\"\")","v":""},{"$f":"IFERROR(VLOOKUP(後攻T!CB58,記号!$B$6:$C$10,2,FALSE),\"\")","v":""},{"$f":"IFERROR(VLOOKUP(後攻T!CC58,記号!$B$6:$C$10,2,FALSE),\"\")","v":""},{"$f":"IFERROR(VLOOKUP(後攻T!CD58,記号!$B$6:$C$10,2,FALSE),\"\")","v":""},{"$f":"IFERROR(VLOOKUP(後攻T!CL58,記号!$B$6:$C$10,2,FALSE),\"\")","v":""},{"$f":"IFERROR(VLOOKUP(後攻T!CM58,記号!$B$6:$C$10,2,FALSE),\"\")","v":""},{"$f":"IFERROR(VLOOKUP(後攻T!CN58,記号!$B$6:$C$10,2,FALSE),\"\")","v":""},{"$f":"IFERROR(VLOOKUP(後攻T!CO58,記号!$B$6:$C$10,2,FALSE),\"\")","v":""},{"$f":"IFERROR(VLOOKUP(後攻T!CP58,記号!$B$6:$C$10,2,FALSE),\"\")","v":""},{"$f":"IFERROR(VLOOKUP(後攻T!CX58,記号!$B$6:$C$10,2,FALSE),\"\")","v":"・△"},{"$f":"IFERROR(VLOOKUP(後攻T!CY58,記号!$B$6:$C$10,2,FALSE),\"\")","v":"・●"},{"$f":"IFERROR(VLOOKUP(後攻T!CZ58,記号!$B$6:$C$10,2,FALSE),\"\")","v":"・●"},{"$f":"IFERROR(VLOOKUP(後攻T!DA58,記号!$B$6:$C$10,2,FALSE),\"\")","v":"・●"},{"$f":"IFERROR(VLOOKUP(後攻T!DB58,記号!$B$6:$C$10,2,FALSE),\"\")","v":"・◎"},{"$f":"IFERROR(VLOOKUP(後攻T!DJ49,記号!$B$6:$C$10,2,FALSE),\"\")","v":""},{"$f":"IFERROR(VLOOKUP(後攻T!DK49,記号!$B$6:$C$10,2,FALSE),\"\")","v":""},{"$f":"IFERROR(VLOOKUP(後攻T!DL49,記号!$B$6:$C$10,2,FALSE),\"\")","v":""},{"$f":"IFERROR(VLOOKUP(後攻T!DM49,記号!$B$6:$C$10,2,FALSE),\"\")","v":""},{"$f":"IFERROR(VLOOKUP(後攻T!DN49,記号!$B$6:$C$10,2,FALSE),\"\")","v":""},{"$f":"IFERROR(VLOOKUP(後攻T!DV58,記号!$B$6:$C$10,2,FALSE),\"\")","v":""},{"$f":"IFERROR(VLOOKUP(後攻T!DW58,記号!$B$6:$C$10,2,FALSE),\"\")","v":""},{"$f":"IFERROR(VLOOKUP(後攻T!DX58,記号!$B$6:$C$10,2,FALSE),\"\")","v":""},{"$f":"IFERROR(VLOOKUP(後攻T!DY58,記号!$B$6:$C$10,2,FALSE),\"\")","v":""},{"$f":"IFERROR(VLOOKUP(後攻T!DZ58,記号!$B$6:$C$10,2,FALSE),\"\")","v":""},{"$f":"IFERROR(VLOOKUP(後攻T!EH58,記号!$B$6:$C$10,2,FALSE),\"\")","v":""},{"$f":"IFERROR(VLOOKUP(後攻T!EI58,記号!$B$6:$C$10,2,FALSE),\"\")","v":""},{"$f":"IFERROR(VLOOKUP(後攻T!EJ58,記号!$B$6:$C$10,2,FALSE),\"\")","v":""},{"$f":"IFERROR(VLOOKUP(後攻T!EK58,記号!$B$6:$C$10,2,FALSE),\"\")","v":""},{"$f":"IFERROR(VLOOKUP(後攻T!EL58,記号!$B$6:$C$10,2,FALSE),\"\")","v":""},{"$f":"IF(K107=\"\",\"\",VLOOKUP(K107,$C$19:$E$24,3,FALSE))","v":"RR"},{"$f":"IF(L107=\"\",\"\",(BX107+CG107+CH107+CI107))","v":4},4,{"$f":"IF(L107=\"\",\"\",COUNTIFS($N$106:$BU$106,L107,$N$111:$BU$111,$BY$68))","v":1},{"$f":"IF(L107=\"\",\"\",COUNTIFS($N$106:$BU$106,L107,$N$111:$BU$111,$BZ$68))","v":2},{"$f":"IF(L107=\"\",\"\",COUNTIFS($N$106:$BU$106,L107,$N$109:$BU$109,$CA$68))","v":0},{"$f":"IF(L107=\"\",\"\",COUNTIFS($N$106:$BU$106,L107,$N$109:$BU$109,$CB$68))","v":0},{"$f":"IF(L107=\"\",\"\",COUNTIFS($N$106:$BU$106,L107,$N$111:$BU$111,$CC$68))","v":0},{"$f":"IF(L107=\"\",\"\",SUMIF($N$106:$BU$106,L107,$N$111:$BU$111))","v":0},{"$f":"IF(L107=\"\",\"\",COUNTIFS($N$106:$BU$106,L107,$N$110:$BU$110,$CE$68))","v":2},{"$f":"IF(L107=\"\",\"\",COUNTIFS($N$106:$BU$106,L107,$N$111:$BU$111,$CF$68))","v":0},{"$f":"IF(L107=\"\",\"\",COUNTIFS($N$106:$BU$106,L107,$N$111:$BU$111,$CG$68))","v":0},{"$f":"IF(L107=\"\",\"\",COUNTIFS($N$106:$BU$106,L107,$N$111:$BU$111,$CH$68))","v":0},{"$f":"IF(L107=\"\",\"\",COUNTIFS($N$106:$BU$106,L107,$N$111:$BU$111,$CI$68))","v":0},{"$f":"IF(L107=\"\",\"\",COUNTIFS($N$106:$BU$106,L107,$N$111:$BU$111,$CJ$68))","v":0},{"$f":"IF(L107=\"\",\"\",COUNTIFS($N$106:$BU$106,L107,$N$111:$BU$111,$CK$68)+COUNTIFS($N$106:$BU$106,L107,$N$109:$BU$109,$CK$68))","v":0},{"$f":"IF(L107=\"\",\"\",COUNTIFS(N106:BU106,L107,N111:BU111,$CL$68)+COUNTIFS(N106:BU106,L107,N109:BU109,$CL$68))","v":0},{"$f":"IF(L107=\"\",\"\",COUNTIFS(N106:BU106,L107,N111:BU111,$CM$68))","v":0},{"$f":"IF(L107=\"\",\"\",COUNTIFS(N106:BU106,L107,N111:BU111,$CN$68))","v":1},{"$f":"IF(L107=\"\",\"\",COUNTIFS($N$106:$BU$106,L107,$N$107:$BU$107,$CO$68)+COUNTIFS($N$106:$BU$106,L107,$N$108:$BU$108,$CO$68))","v":13},"先","中飛",null,null,null,null,"A",{"$f":"IF(DA107=\"\",\"\",VLOOKUP(DA107,$C$19:$F$24,3,FALSE))","v":"RR"},4,"中",{"$f":"IF(CY107=\"\",\"\",VLOOKUP(CY107,$C$5:$F$14,4,FALSE))","v":8},"先",null,null,null,null,null,null,null,null,null,null,null,null,null,null,null,null,null,null,null,null,null,null,null,null,null,null,null,{"$f":"IF(L107=\"\",\"\",L107)","v":4},{"$f":"IF(EC107=\"\",\"\",VLOOKUP(EC107,$C$94:$D$123,2,FALSE))","v":"山田　健太"},{"$f":"IF(EC107=\"\",\"\",COUNTIFS($N$106:$BU$106,EC107,$N$111:$BU$111,\"RZ\"))","v":1},{"$f":"IF(EC107=\"\",\"\",COUNTIFS(N106:BU106,EC107,N110:BU110,\"ZH\"))","v":0},null,null,null,null,null,null,null,null,null,null,"LL",{"$f":"IF($EO$41=\"\",\"\",SUMIF($EQ$5:$EQ$40,$EQ$42,ER70:ER105))","v":0},{"$f":"IF($EO$41=\"\",\"\",SUMIF($EQ$5:$EQ$40,$EQ$42,ES70:ES105))","v":0},0,0,0,0,0,0,0,0,0,0,0,0,0,0,0,0,0,null,null,{"$f":"FJ107","v":0},null,null,null,null,null,null,null,null,null,null,null,null,null,null,null,null,null,null,null,null,null,null,null,null,null,null,null,null,null,null,null,null,null,null,null,null,null,null,null,null,null,null,null,null,null,null,null,null,null,null,null,null,null,null,null,null,null,null,null,"山田　健太",4,{"$f":"IF(HU107=\"\",\"\",COUNTIFS($N$106:$BU$106,HV107,$N$107:$BU$107,$HW$68)+COUNTIFS($N$106:$BU$106,HV107,$N$108:$BU$108,$HW$68))","v":13},{"$f":"IF(HU107=\"\",\"\",COUNTIFS($N$106:$BU$106,HV107,$N$107:$BU$107,$HX$68)+COUNTIFS($N$106:$BU$106,HV107,$N$108:$BU$108,$HX$68))","v":6},{"$f":"IF(HU107=\"\",\"\",COUNTIFS($N$106:$BU$106,HV107,$N$107:$BU$107,$HY$68)+COUNTIFS($N$106:$BU$106,HV107,$N$108:$BU$108,$HY$68))","v":3},{"$f":"IF(HU107=\"\",\"\",COUNTIFS($N$106:$BU$106,HV107,$N$107:$BU$107,$HZ$68)+COUNTIFS($N$106:$BU$106,HV107,$N$108:$BU$108,$HZ$68))","v":0},{"$f":"IF(HU107=\"\",\"\",COUNTIFS($N$106:$BU$106,HV107,$N$107:$BU$107,$IA$68)+COUNTIFS($N$106:$BU$106,HV107,$N$108:$BU$108,$IA$68))","v":0},{"$f":"IF(HU107=\"\",\"\",COUNTIFS($N$106:$BU$106,HV107,$N$107:$BU$107,$IB$68)+COUNTIFS($N$106:$BU$106,HV107,$N$108:$BU$108,$IB$68))","v":4}]
[null,null,15,"青木　大地","RL",15,null,null,null,"山田　健太",2,4.2,null,{"$f":"IFERROR(VLOOKUP(後攻T!K58,記号!$B$6:$C$10,2,FALSE),\"\")","v":""},{"$f":"IFERROR(VLOOKUP(後攻T!L58,記号!$B$6:$C$10,2,FALSE),\"\")","v":""},{"$f":"IFERROR(VLOOKUP(後攻T!F60,記号!$B$6:$C$10,2,FALSE),\"\")","v":""},{"$f":"IFERROR(VLOOKUP(後攻T!G60,記号!$B$6:$C$10,2,FALSE),\"\")","v":""},{"$f":"IFERROR(VLOOKUP(後攻T!H60,記号!$B$6:$C$10,2,FALSE),\"\")","v":""},{"$f":"IFERROR(VLOOKUP(後攻T!W58,記号!$B$6:$C$10,2,FALSE),\"\")","v":""},{"$f":"IFERROR(VLOOKUP(後攻T!X58,記号!$B$6:$C$10,2,FALSE),\"\")","v":""},{"$f":"IFERROR(VLOOKUP(後攻T!R60,記号!$B$6:$C$10,2,FALSE),\"\")","v":""},{"$f":"IFERROR(VLOOKUP(後攻T!S60,記号!$B$6:$C$10,2,FALSE),\"\")","v":""},{"$f":"IFERROR(VLOOKUP(後攻T!T60,記号!$B$6:$C$10,2,FALSE),\"\")","v":""},{"$f":"IFERROR(VLOOKUP(後攻T!AI58,記号!$B$6:$C$10,2,FALSE),\"\")","v":""},{"$f":"IFERROR(VLOOKUP(後攻T!AJ58,記号!$B$6:$C$10,2,FALSE),\"\")","v":""},{"$f":"IFERROR(VLOOKUP(後攻T!AD60,記号!$B$6:$C$10,2,FALSE),\"\")","v":""},{"$f":"IFERROR(VLOOKUP(後攻T!AE60,記号!$B$6:$C$10,2,FALSE),\"\")","v":""},{"$f":"IFERROR(VLOOKUP(後攻T!AF60,記号!$B$6:$C$10,2,FALSE),\"\")","v":""},{"$f":"IFERROR(VLOOKUP(後攻T!AU58,記号!$B$6:$C$10,2,FALSE),\"\")","v":"・◎"},{"$f":"IFERROR(VLOOKUP(後攻T!AV58,記号!$B$6:$C$10,2,FALSE),\"\")","v":""},{"$f":"IFERROR(VLOOKUP(後攻T!AP60,記号!$B$6:$C$10,2,FALSE),\"\")","v":""},{"$f":"IFERROR(VLOOKUP(後攻T!AQ60,記号!$B$6:$C$10,2,FALSE),\"\")","v":""},{"$f":"IFERROR(VLOOKUP(後攻T!AR60,記号!$B$6:$C$10,2,FALSE),\"\")","v":""},{"$f":"IFERROR(VLOOKUP(後攻T!BG58,記号!$B$6:$C$10,2,FALSE),\"\")","v":""},{"$f":"IFERROR(VLOOKUP(後攻T!BH58,記号!$B$6:$C$10,2,FALSE),\"\")","v":""},{"$f":"IFERROR(VLOOKUP(後攻T!BB60,記号!$B$6:$C$10,2,FALSE),\"\")","v":""},{"$f":"IFERROR(VLOOKUP(後攻T!BC60,記号!$B$6:$C$10,2,FALSE),\"\")","v":""},{"$f":"IFERROR(VLOOKUP(後攻T!BD60,記号!$B$6:$C$10,2,FALSE),\"\")","v":""},{"$f":"IFERROR(VLOOKUP(後攻T!BS58,記号!$B$6:$C$10,2,FALSE),\"\")","v":""},{"$f":"IFERROR(VLOOKUP(後攻T!BT58,記号!$B$6:$C$10,2,FALSE),\"\")","v":""},{"$f":"IFERROR(VLOOKUP(後攻T!BN60,記号!$B$6:$C$10,2,FALSE),\"\")","v":""},{"$f":"IFERROR(VLOOKUP(後攻T!BO60,記号!$B$6:$C$10,2,FALSE),\"\")","v":""},{"$f":"IFERROR(VLOOKUP(後攻T!BP60,記号!$B$6:$C$10,2,FALSE),\"\")","v":""},{"$f":"IFERROR(VLOOKUP(後攻T!CE58,記号!$B$6:$C$10,2,FALSE),\"\")","v":""},{"$f":"IFERROR(VLOOKUP(後攻T!CF58,記号!$B$6:$C$10,2,FALSE),\"\")","v":""},{"$f":"IFERROR(VLOOKUP(後攻T!BZ60,記号!$B$6:$C$10,2,FALSE),\"\")","v":""},{"$f":"IFERROR(VLOOKUP(後攻T!CA60,記号!$B$6:$C$10,2,FALSE),\"\")","v":""},{"$f":"IFERROR(VLOOKUP(後攻T!CB60,記号!$B$6:$C$10,2,FALSE),\"\")","v":""},{"$f":"IFERROR(VLOOKUP(後攻T!CQ58,記号!$B$6:$C$10,2,FALSE),\"\")","v":""},{"$f":"IFERROR(VLOOKUP(後攻T!CR58,記号!$B$6:$C$10,2,FALSE),\"\")","v":""},{"$f":"IFERROR(VLOOKUP(後攻T!CL60,記号!$B$6:$C$10,2,FALSE),\"\")","v":""},{"$f":"IFERROR(VLOOKUP(後攻T!CM60,記号!$B$6:$C$10,2,FALSE),\"\")","v":""},{"$f":"IFERROR(VLOOKUP(後攻T!CN60,記号!$B$6:$C$10,2,FALSE),\"\")","v":""},{"$f":"IFERROR(VLOOKUP(後攻T!DC58,記号!$B$6:$C$10,2,FALSE),\"\")","v":""},{"$f":"IFERROR(VLOOKUP(後攻T!DD58,記号!$B$6:$C$10,2,FALSE),\"\")","v":""},{"$f":"IFERROR(VLOOKUP(後攻T!CX60,記号!$B$6:$C$10,2,FALSE),\"\")","v":""},{"$f":"IFERROR(VLOOKUP(後攻T!CY60,記号!$B$6:$C$10,2,FALSE),\"\")","v":""},{"$f":"IFERROR(VLOOKUP(後攻T!CZ60,記号!$B$6:$C$10,2,FALSE),\"\")","v":""},{"$f":"IFERROR(VLOOKUP(後攻T!DO49,記号!$B$6:$C$10,2,FALSE),\"\")","v":""},{"$f":"IFERROR(VLOOKUP(後攻T!DP49,記号!$B$6:$C$10,2,FALSE),\"\")","v":""},{"$f":"IFERROR(VLOOKUP(後攻T!DJ60,記号!$B$6:$C$10,2,FALSE),\"\")","v":""},{"$f":"IFERROR(VLOOKUP(後攻T!DK60,記号!$B$6:$C$10,2,FALSE),\"\")","v":""},{"$f":"IFERROR(VLOOKUP(後攻T!DL60,記号!$B$6:$C$10,2,FALSE),\"\")","v":""},{"$f":"IFERROR(VLOOKUP(後攻T!EA58,記号!$B$6:$C$10,2,FALSE),\"\")","v":""},{"$f":"IFERROR(VLOOKUP(後攻T!EB58,記号!$B$6:$C$10,2,FALSE),\"\")","v":""},{"$f":"IFERROR(VLOOKUP(後攻T!DV60,記号!$B$6:$C$10,2,FALSE),\"\")","v":""},{"$f":"IFERROR(VLOOKUP(後攻T!DW60,記号!$B$6:$C$10,2,FALSE),\"\")","v":""},{"$f":"IFERROR(VLOOKUP(後攻T!DX60,記号!$B$6:$C$10,2,FALSE),\"\")","v":""},{"$f":"IFERROR(VLOOKUP(後攻T!EM58,記号!$B$6:$C$10,2,FALSE),\"\")","v":""},{"$f":"IFERROR(VLOOKUP(後攻T!EN58,記号!$B$6:$C$10,2,FALSE),\"\")","v":""},{"$f":"IFERROR(VLOOKUP(後攻T!EH60,記号!$B$6:$C$10,2,FALSE),\"\")","v":""},{"$f":"IFERROR(VLOOKUP(後攻T!EI60,記号!$B$6:$C$10,2,FALSE),\"\")","v":""},{"$f":"IFERROR(VLOOKUP(後攻T!EJ60,記号!$B$6:$C$10,2,FALSE),\"\")","v":""},{"$f":"IF(K108=\"\",\"\",VLOOKUP(K108,$C$19:$E$24,3,FALSE))","v":"RR"},{"$f":"IF(L108=\"\",\"\",(BX108+CG108+CH108+CI108))","v":1},1,{"$f":"IF(L108=\"\",\"\",COUNTIFS($N$106:$BU$106,L108,$N$111:$BU$111,$BY$68))","v":1},{"$f":"IF(L108=\"\",\"\",COUNTIFS($N$106:$BU$106,L108,$N$111:$BU$111,$BZ$68))","v":0},{"$f":"IF(L108=\"\",\"\",COUNTIFS($N$106:$BU$106,L108,$N$109:$BU$109,$CA$68))","v":0},{"$f":"IF(L108=\"\",\"\",COUNTIFS($N$106:$BU$106,L108,$N$109:$BU$109,$CB$68))","v":0},{"$f":"IF(L108=\"\",\"\",COUNTIFS($N$106:$BU$106,L108,$N$111:$BU$111,$CC$68))","v":0},{"$f":"IF(L108=\"\",\"\",SUMIF($N$106:$BU$106,L108,$N$111:$BU$111))","v":0},{"$f":"IF(L108=\"\",\"\",COUNTIFS($N$106:$BU$106,L108,$N$110:$BU$110,$CE$68))","v":0},{"$f":"IF(L108=\"\",\"\",COUNTIFS($N$106:$BU$106,L108,$N$111:$BU$111,$CF$68))","v":0},{"$f":"IF(L108=\"\",\"\",COUNTIFS($N$106:$BU$106,L108,$N$111:$BU$111,$CG$68))","v":0},{"$f":"IF(L108=\"\",\"\",COUNTIFS($N$106:$BU$106,L108,$N$111:$BU$111,$CH$68))","v":0},{"$f":"IF(L108=\"\",\"\",COUNTIFS($N$106:$BU$106,L108,$N$111:$BU$111,$CI$68))","v":0},{"$f":"IF(L108=\"\",\"\",COUNTIFS($N$106:$BU$106,L108,$N$111:$BU$111,$CJ$68))","v":0},{"$f":"IF(L108=\"\",\"\",COUNTIFS($N$106:$BU$106,L108,$N$111:$BU$111,$CK$68)+COUNTIFS($N$106:$BU$106,L108,$N$109:$BU$109,$CK$68))","v":0},{"$f":"IF(L108=\"\",\"\",COUNTIFS(N107:BU107,L108,N112:BU112,$CL$68)+COUNTIFS(N107:BU107,L108,N110:BU110,$CL$68))","v":0},{"$f":"IF(L108=\"\",\"\",COUNTIFS(N107:BU107,L108,N112:BU112,$CM$68))","v":0},{"$f":"IF(L108=\"\",\"\",COUNTIFS(N107:BU107,L108,N112:BU112,$CN$68))","v":0},{"$f":"IF(L108=\"\",\"\",COUNTIFS($N$106:$BU$106,L108,$N$107:$BU$107,$CO$68)+COUNTIFS($N$106:$BU$106,L108,$N$108:$BU$108,$CO$68))","v":5},2,"エラー出塁",null,null,null,null,"G",{"$f":"IF(DA108=\"\",\"\",VLOOKUP(DA108,$C$19:$F$24,3,FALSE))","v":"RR"},4,"二",{"$f":"IF(CY108=\"\",\"\",VLOOKUP(CY108,$C$5:$F$14,4,FALSE))","v":4},"先",null,null,null,null,null,null,null,null,null,null,null,null,null,null,null,null,null,null,null,null,null,null,null,null,null,null,null,{"$f":"IF(L108=\"\",\"\",L108)","v":4.2},"山田　健太",{"$f":"IF(EC108=\"\",\"\",COUNTIFS($N$106:$BU$106,EC108,$N$111:$BU$111,\"RZ\"))","v":0},{"$f":"IF(EC108=\"\",\"\",COUNTIFS(N107:BU107,EC108,N111:BU111,\"ZH\"))","v":0},null,null,null,null,null,null,null,null,null,null,null,null,null,null,null,null,null,null,null,null,null,null,null,null,null,null,null,null,null,null,null,null,null,null,null,null,null,null,null,null,null,null,null,null,null,null,null,null,null,null,null,null,null,null,null,null,null,null,null,null,null,null,null,null,null,null,null,null,null,null,null,null,null,null,null,null,null,null,null,null,null,null,null,null,null,null,null,null,null,null,null,null,"山田　健太",4.2,{"$f":"IF(HU108=\"\",\"\",COUNTIFS($N$106:$BU$106,HV108,$N$107:$BU$107,$HW$68)+COUNTIFS($N$106:$BU$106,HV108,$N$108:$BU$108,$HW$68))","v":5},{"$f":"IF(HU108=\"\",\"\",COUNTIFS($N$106:$BU$106,HV108,$N$107:$BU$107,$HX$68)+COUNTIFS($N$106:$BU$106,HV108,$N$108:$BU$108,$HX$68))","v":3},{"$f":"IF(HU108=\"\",\"\",COUNTIFS($N$106:$BU$106,HV108,$N$107:$BU$107,$HY$68)+COUNTIFS($N$106:$BU$106,HV108,$N$108:$BU$108,$HY$68))","v":0},{"$f":"IF(HU108=\"\",\"\",COUNTIFS($N$106:$BU$106,HV108,$N$107:$BU$107,$HZ$68)+COUNTIFS($N$106:$BU$106,HV108,$N$108:$BU$108,$HZ$68))","v":1},{"$f":"IF(HU108=\"\",\"\",COUNTIFS($N$106:$BU$106,HV108,$N$107:$BU$107,$IA$68)+COUNTIFS($N$106:$BU$106,HV108,$N$108:$BU$108,$IA$68))","v":0},{"$f":"IF(HU108=\"\",\"\",COUNTIFS($N$106:$BU$106,HV108,$N$107:$BU$107,$IB$68)+COUNTIFS($N$106:$BU$106,HV108,$N$108:$BU$108,$IB$68))","v":1}]
[null,null,16,"仲野　波来","RR",16,null,null,null,{"$f":"IF(L109=\"\",\"\",VLOOKUP(L109,$C$94:$D$123,2,FALSE))","v":""},null,null,null,{"$f":"IFERROR(VLOOKUP(後攻T!F63,記号!$I$27:$J$30,2,FALSE),\"\")","v":"F"},{"$f":"IFERROR(VLOOKUP(後攻T!H62,記号!$L$5:$M$21,2,FALSE),\"\")","v":""},{"$f":"IFERROR(VLOOKUP(後攻T!H64,記号!$F$27:$G$37,2,FALSE),\"\")","v":""},{"$f":"IFERROR(VLOOKUP(後攻T!G64,記号!$I$5:$J$23,2,FALSE),\"\")","v":""},null,{"$f":"IFERROR(VLOOKUP(後攻T!R63,記号!$I$27:$J$30,2,FALSE),\"\")","v":""},{"$f":"IFERROR(VLOOKUP(後攻T!T44,記号!$L$5:$M$21,2,FALSE),\"\")","v":""},{"$f":"IFERROR(VLOOKUP(後攻T!T64,記号!$F$27:$G$37,2,FALSE),\"\")","v":""},{"$f":"IFERROR(VLOOKUP(後攻T!S62,記号!$I$5:$J$23,2,FALSE),\"\")","v":""},null,{"$f":"IFERROR(VLOOKUP(後攻T!AD63,記号!$I$27:$J$30,2,FALSE),\"\")","v":""},{"$f":"IFERROR(VLOOKUP(後攻T!AF62,記号!$L$5:$M$21,2,FALSE),\"\")","v":""},{"$f":"IFERROR(VLOOKUP(後攻T!AF64,記号!$F$27:$G$37,2,FALSE),\"\")","v":""},{"$f":"IFERROR(VLOOKUP(後攻T!AE62,記号!$I$5:$J$23,2,FALSE),\"\")","v":""},null,{"$f":"IFERROR(VLOOKUP(後攻T!AP63,記号!$I$27:$J$30,2,FALSE),\"\")","v":"G"},{"$f":"IFERROR(VLOOKUP(後攻T!AR62,記号!$L$5:$M$21,2,FALSE),\"\")","v":""},{"$f":"IFERROR(VLOOKUP(後攻T!AR64,記号!$F$27:$G$37,2,FALSE),\"\")","v":""},{"$f":"IFERROR(VLOOKUP(後攻T!AQ62,記号!$I$5:$J$23,2,FALSE),\"\")","v":"⑧"},null,{"$f":"IFERROR(VLOOKUP(後攻T!BB63,記号!$I$27:$J$30,2,FALSE),\"\")","v":"G"},{"$f":"IFERROR(VLOOKUP(後攻T!BD62,記号!$L$5:$M$21,2,FALSE),\"\")","v":""},{"$f":"IFERROR(VLOOKUP(後攻T!BD64,記号!$F$27:$G$37,2,FALSE),\"\")","v":""},{"$f":"IFERROR(VLOOKUP(後攻T!BO44,記号!$I$5:$J$23,2,FALSE),\"\")","v":""},null,{"$f":"IFERROR(VLOOKUP(後攻T!BN63,記号!$I$27:$J$30,2,FALSE),\"\")","v":""},{"$f":"IFERROR(VLOOKUP(後攻T!BP62,記号!$L$5:$M$21,2,FALSE),\"\")","v":""},{"$f":"IFERROR(VLOOKUP(後攻T!BP64,記号!$F$27:$G$37,2,FALSE),\"\")","v":""},{"$f":"IFERROR(VLOOKUP(後攻T!BO62,記号!$I$5:$J$23,2,FALSE),\"\")","v":""},null,{"$f":"IFERROR(VLOOKUP(後攻T!BZ63,記号!$I$27:$J$30,2,FALSE),\"\")","v":"G"},{"$f":"IFERROR(VLOOKUP(後攻T!CB62,記号!$L$5:$M$21,2,FALSE),\"\")","v":"⑨"},{"$f":"IFERROR(VLOOKUP(後攻T!CB64,記号!$F$27:$G$37,2,FALSE),\"\")","v":""},{"$f":"IFERROR(VLOOKUP(後攻T!CA62,記号!$I$5:$J$23,2,FALSE),\"\")","v":"⑧"},null,{"$f":"IFERROR(VLOOKUP(後攻T!CL63,記号!$I$27:$J$30,2,FALSE),\"\")","v":""},{"$f":"IFERROR(VLOOKUP(後攻T!CN62,記号!$L$5:$M$21,2,FALSE),\"\")","v":""},{"$f":"IFERROR(VLOOKUP(後攻T!CN64,記号!$F$27:$G$37,2,FALSE),\"\")","v":""},{"$f":"IFERROR(VLOOKUP(後攻T!CM62,記号!$I$5:$J$23,2,FALSE),\"\")","v":""},null,{"$f":"IFERROR(VLOOKUP(後攻T!CX63,記号!$I$27:$J$30,2,FALSE),\"\")","v":"F"},{"$f":"IFERROR(VLOOKUP(後攻T!CZ62,記号!$L$5:$M$21,2,FALSE),\"\")","v":""},{"$f":"IFERROR(VLOOKUP(後攻T!CZ64,記号!$F$27:$G$37,2,FALSE),\"\")","v":""},{"$f":"IFERROR(VLOOKUP(後攻T!CY62,記号!$I$5:$J$23,2,FALSE),\"\")","v":""},null,{"$f":"IFERROR(VLOOKUP(後攻T!DJ63,記号!$I$27:$J$30,2,FALSE),\"\")","v":""},{"$f":"IFERROR(VLOOKUP(後攻T!DL62,記号!$L$5:$M$21,2,FALSE),\"\")","v":""},{"$f":"IFERROR(VLOOKUP(後攻T!DL64,記号!$F$27:$G$37,2,FALSE),\"\")","v":""},{"$f":"IFERROR(VLOOKUP(後攻T!DK62,記号!$I$5:$J$23,2,FALSE),\"\")","v":""},null,{"$f":"IFERROR(VLOOKUP(後攻T!DV63,記号!$I$27:$J$30,2,FALSE),\"\")","v":""},{"$f":"IFERROR(VLOOKUP(後攻T!DX62,記号!$L$5:$M$21,2,FALSE),\"\")","v":""},{"$f":"IFERROR(VLOOKUP(後攻T!DX64,記号!$F$27:$G$37,2,FALSE),\"\")","v":""},{"$f":"IFERROR(VLOOKUP(後攻T!DW62,記号!$I$5:$J$23,2,FALSE),\"\")","v":""},null,{"$f":"IFERROR(VLOOKUP(後攻T!EH63,記号!$I$27:$J$30,2,FALSE),\"\")","v":""},{"$f":"IFERROR(VLOOKUP(後攻T!EJ62,記号!$I$27:$J$30,2,FALSE),\"\")","v":""},{"$f":"IFERROR(VLOOKUP(後攻T!EJ64,記号!$I$27:$J$30,2,FALSE),\"\")","v":""},{"$f":"IFERROR(VLOOKUP(後攻T!EI55,記号!$I$27:$J$30,2,FALSE),\"\")","v":""},null,{"$f":"IF(K109=\"\",\"\",VLOOKUP(K109,$C$19:$E$24,3,FALSE))","v":""},{"$f":"IF(L109=\"\",\"\",(BX109+CG109+CH109+CI109))","v":""},"",{"$f":"IF(L109=\"\",\"\",COUNTIFS($N$106:$BU$106,L109,$N$111:$BU$111,$BY$68))","v":""},{"$f":"IF(L109=\"\",\"\",COUNTIFS($N$106:$BU$106,L109,$N$111:$BU$111,$BZ$68))","v":""},{"$f":"IF(L109=\"\",\"\",COUNTIFS($N$106:$BU$106,L109,$N$109:$BU$109,$CA$68))","v":""},{"$f":"IF(L109=\"\",\"\",COUNTIFS($N$106:$BU$106,L109,$N$109:$BU$109,$CB$68))","v":""},{"$f":"IF(L109=\"\",\"\",COUNTIFS($N$106:$BU$106,L109,$N$111:$BU$111,$CC$68))","v":""},{"$f":"IF(L109=\"\",\"\",SUMIF($N$106:$BU$106,L109,$N$111:$BU$111))","v":""},{"$f":"IF(L109=\"\",\"\",COUNTIFS($N$106:$BU$106,L109,$N$110:$BU$110,$CE$68))","v":""},{"$f":"IF(L109=\"\",\"\",COUNTIFS($N$106:$BU$106,L109,$N$111:$BU$111,$CF$68))","v":""},{"$f":"IF(L109=\"\",\"\",COUNTIFS($N$106:$BU$106,L109,$N$111:$BU$111,$CG$68))","v":""},{"$f":"IF(L109=\"\",\"\",COUNTIFS($N$106:$BU$106,L109,$N$111:$BU$111,$CH$68))","v":""},{"$f":"IF(L109=\"\",\"\",COUNTIFS($N$106:$BU$106,L109,$N$111:$BU$111,$CI$68))","v":""},{"$f":"IF(L109=\"\",\"\",COUNTIFS($N$106:$BU$106,L109,$N$111:$BU$111,$CJ$68))","v":""},{"$f":"IF(L109=\"\",\"\",COUNTIFS($N$106:$BU$106,L109,$N$111:$BU$111,$CK$68)+COUNTIFS($N$106:$BU$106,L109,$N$109:$BU$109,$CK$68))","v":""},{"$f":"IF(L109=\"\",\"\",COUNTIFS(N108:BU108,L109,N113:BU113,$CL$68)+COUNTIFS(N108:BU108,L109,N111:BU111,$CL$68))","v":""},{"$f":"IF(L109=\"\",\"\",COUNTIFS(N108:BU108,L109,N113:BU113,$CM$68))","v":""},{"$f":"IF(L109=\"\",\"\",COUNTIFS(N108:BU108,L109,N113:BU113,$CN$68))","v":""},"",null,"ゴロ左安",null,null,null,null,"G","RR",4,"左",7,"先",null,null,null,{"$f":"IF(DF109=\"\",\"\",$V$67)","v":"A"},{"$f":"IF(D84=\"\",\"\",D84)","v":"柿木　蓮"},{"$f":"IF(F84=\"\",\"\",F84)","v":1},{"$f":"IF(D84=\"\",\"\",C84)","v":"先"},{"$f":"IF(DF109=\"\",\"\",COUNTIFS($DA$6:$DA$58,DH109,$CV$6:$CV$58,\"G\"))","v":17},{"$f":"IF(DF109=\"\",\"\",COUNTIFS($DA$6:$DA$58,DH109,$CV$6:$CV$58,\"A\"))","v":7},{"$f":"IF(DG109=\"\",\"\",(DI109+DJ109))","v":24},null,null,null,null,null,null,null,null,null,null,null,null,null,null,null,null,null,{"$f":"IF(L109=\"\",\"\",L109)","v":""},"",{"$f":"IF(EC109=\"\",\"\",COUNTIFS($N$106:$BU$106,EC109,$N$111:$BU$111,\"RZ\"))","v":""},{"$f":"IF(EC109=\"\",\"\",COUNTIFS(N108:BU108,EC109,N112:BU112,\"ZH\"))","v":""},null,null,null,null,null,null,null,null,null,null,null,null,null,null,null,null,null,null,null,null,null,null,null,null,null,null,null,null,null,null,null,null,null,null,null,null,null,null,null,null,null,null,null,null,null,null,null,null,null,null,null,null,null,null,null,null,null,null,null,null,null,null,null,null,null,null,null,null,null,null,null,null,null,null,null,null,null,null,null,null,null,null,null,null,null,null,null,null,null,null,null,null,"","","","","","","",""]
[null,null,17,"奥田　一聖","RR",17,null,null,null,{"$f":"IF(L110=\"\",\"\",VLOOKUP(L110,$C$94:$D$123,2,FALSE))","v":""},null,null,null,{"$f":"IF(N106=\"\",\"\",IF(N106=L107+0.2,\"2\",IF(N106=L107+0.3,\"3\",IF(N106=L107+0.4,\"4\",IF(N106=L107+0.5,\"5\",\"先\")))))","v":"先"},{"$f":"IFERROR(VLOOKUP(後攻T!I64,記号!$F$27:$G$37,2,FALSE),\"\")","v":""},{"$f":"IFERROR(VLOOKUP(後攻T!J62,記号!$R$5:$S$10,2,FALSE),\"\")","v":"Ⅲ"},{"$f":"IFERROR(VLOOKUP(後攻T!G46,記号!$F$27:$G$37,2,FALSE),\"\")","v":""},{"$f":"IFERROR(VLOOKUP(後攻T!L62,記号!$U$12:$V$13,2,FALSE),\"\")","v":""},{"$f":"IF(S106=\"\",\"\",IF(S106=L107+0.2,\"2\",IF(S106=L107+0.3,\"3\",IF(S106=L107+0.4,\"4\",IF(S106=L107+0.5,\"5\",\"先\")))))","v":"先"},{"$f":"IFERROR(VLOOKUP(後攻T!U64,記号!$F$27:$G$37,2,FALSE),\"\")","v":""},{"$f":"IFERROR(VLOOKUP(後攻T!V62,記号!$R$5:$S$10,2,FALSE),\"\")","v":""},{"$f":"IFERROR(VLOOKUP(後攻T!S64,記号!$F$27:$G$37,2,FALSE),\"\")","v":""},{"$f":"IFERROR(VLOOKUP(後攻T!X62,記号!$U$12:$V$13,2,FALSE),\"\")","v":""},{"$f":"IF(X106=\"\",\"\",IF(X106=L107+0.2,\"2\",IF(X106=L107+0.3,\"3\",IF(X106=L107+0.4,\"4\",IF(X106=L107+0.5,\"5\",\"先\")))))","v":"先"},{"$f":"IFERROR(VLOOKUP(後攻T!AG64,記号!$F$27:$G$37,2,FALSE),\"\")","v":""},{"$f":"IFERROR(VLOOKUP(後攻T!AH62,記号!$R$5:$S$10,2,FALSE),\"\")","v":""},{"$f":"IFERROR(VLOOKUP(後攻T!AE64,記号!$F$27:$G$37,2,FALSE),\"\")","v":""},{"$f":"IFERROR(VLOOKUP(後攻T!AJ62,記号!$U$12:$V$13,2,FALSE),\"\")","v":""},{"$f":"IF(AC106=\"\",\"\",IF(AC106=L107+0.2,\"2\",IF(AC106=L107+0.3,\"3\",IF(AC106=L107+0.4,\"4\",IF(AC106=L107+0.5,\"5\",\"先\")))))","v":"先"},{"$f":"IFERROR(VLOOKUP(後攻T!AS64,記号!$F$27:$G$37,2,FALSE),\"\")","v":""},{"$f":"IFERROR(VLOOKUP(後攻T!AT62,記号!$R$5:$S$10,2,FALSE),\"\")","v":"○"},{"$f":"IFERROR(VLOOKUP(後攻T!AQ64,記号!$F$27:$G$37,2,FALSE),\"\")","v":""},{"$f":"IFERROR(VLOOKUP(後攻T!AV62,記号!$U$12:$V$13,2,FALSE),\"\")","v":""},{"$f":"IF(AH106=\"\",\"\",IF(AH106=L107+0.2,\"2\",IF(AH106=L107+0.3,\"3\",IF(AH106=L107+0.4,\"4\",IF(AH106=L107+0.5,\"5\",\"先\")))))","v":"先"},{"$f":"IFERROR(VLOOKUP(後攻T!BE64,記号!$F$27:$G$37,2,FALSE),\"\")","v":""},{"$f":"IFERROR(VLOOKUP(後攻T!BF62,記号!$R$5:$S$10,2,FALSE),\"\")","v":"○"},{"$f":"IFERROR(VLOOKUP(後攻T!BC64,記号!$F$27:$G$37,2,FALSE),\"\")","v":""},{"$f":"IFERROR(VLOOKUP(後攻T!BH62,記号!$U$12:$V$13,2,FALSE),\"\")","v":""},{"$f":"IF(AM106=\"\",\"\",IF(AM106=L107+0.2,\"2\",IF(AM106=L107+0.3,\"3\",IF(AM106=L107+0.4,\"4\",IF(AM106=L107+0.5,\"5\",\"先\")))))","v":"先"},{"$f":"IFERROR(VLOOKUP(後攻T!BQ64,記号!$F$27:$G$37,2,FALSE),\"\")","v":""},{"$f":"IFERROR(VLOOKUP(後攻T!BR62,記号!$R$5:$S$10,2,FALSE),\"\")","v":""},{"$f":"IFERROR(VLOOKUP(後攻T!BO64,記号!$F$27:$G$37,2,FALSE),\"\")","v":""},{"$f":"IFERROR(VLOOKUP(後攻T!BT62,記号!$U$12:$V$13,2,FALSE),\"\")","v":""},{"$f":"IF(AR106=\"\",\"\",IF(AR106=L107+0.2,\"2\",IF(AR106=L107+0.3,\"3\",IF(AR106=L107+0.4,\"4\",IF(AR106=L107+0.5,\"5\",\"先\")))))","v":"先"},{"$f":"IFERROR(VLOOKUP(後攻T!CC64,記号!$F$27:$G$37,2,FALSE),\"\")","v":""},{"$f":"IFERROR(VLOOKUP(後攻T!CD62,記号!$R$5:$S$10,2,FALSE),\"\")","v":"L"},{"$f":"IFERROR(VLOOKUP(後攻T!CA64,記号!$F$27:$G$37,2,FALSE),\"\")","v":""},{"$f":"IFERROR(VLOOKUP(後攻T!CF62,記号!$U$12:$V$13,2,FALSE),\"\")","v":""},{"$f":"IF(AW106=\"\",\"\",IF(AW106=L107+0.2,\"2\",IF(AW106=L107+0.3,\"3\",IF(AW106=L107+0.4,\"4\",IF(AW106=L107+0.5,\"5\",\"先\")))))","v":"2"},{"$f":"IFERROR(VLOOKUP(後攻T!CO64,記号!$F$27:$G$37,2,FALSE),\"\")","v":""},{"$f":"IFERROR(VLOOKUP(後攻T!CP62,記号!$R$5:$S$10,2,FALSE),\"\")","v":""},{"$f":"IFERROR(VLOOKUP(後攻T!CM64,記号!$F$27:$G$37,2,FALSE),\"\")","v":""},{"$f":"IFERROR(VLOOKUP(後攻T!CR62,記号!$U$12:$V$13,2,FALSE),\"\")","v":""},{"$f":"IF(BB106=\"\",\"\",IF(BB106=L107+0.2,\"2\",IF(BB106=L107+0.3,\"3\",IF(BB106=L107+0.4,\"4\",IF(BB106=L107+0.5,\"5\",\"先\")))))","v":"2"},{"$f":"IFERROR(VLOOKUP(後攻T!DA64,記号!$F$27:$G$37,2,FALSE),\"\")","v":""},{"$f":"IFERROR(VLOOKUP(後攻T!DB62,記号!$R$5:$S$10,2,FALSE),\"\")","v":"Ⅰ"},{"$f":"IFERROR(VLOOKUP(後攻T!CY64,記号!$F$27:$G$37,2,FALSE),\"\")","v":""},{"$f":"IFERROR(VLOOKUP(後攻T!DD62,記号!$U$12:$V$13,2,FALSE),\"\")","v":""},{"$f":"IF(BG106=\"\",\"\",IF(BG106=L107+0.2,\"2\",IF(BG106=L107+0.3,\"3\",IF(BG106=L107+0.4,\"4\",IF(BG106=L107+0.5,\"5\",\"先\")))))","v":"2"},{"$f":"IFERROR(VLOOKUP(後攻T!DM64,記号!$F$27:$G$37,2,FALSE),\"\")","v":""},{"$f":"IFERROR(VLOOKUP(後攻T!DN62,記号!$R$5:$S$10,2,FALSE),\"\")","v":""},{"$f":"IFERROR(VLOOKUP(後攻T!DK64,記号!$F$27:$G$37,2,FALSE),\"\")","v":""},{"$f":"IFERROR(VLOOKUP(後攻T!DP62,記号!$U$12:$V$13,2,FALSE),\"\")","v":""},{"$f":"IF(BL106=\"\",\"\",IF(BL106=L107+0.2,\"2\",IF(BL106=L107+0.3,\"3\",IF(BL106=L107+0.4,\"4\",IF(BL106=L107+0.5,\"5\",\"先\")))))","v":"2"},{"$f":"IFERROR(VLOOKUP(後攻T!DY64,記号!$F$27:$G$37,2,FALSE),\"\")","v":""},{"$f":"IFERROR(VLOOKUP(後攻T!DZ62,記号!$R$5:$S$10,2,FALSE),\"\")","v":""},{"$f":"IFERROR(VLOOKUP(後攻T!DW64,記号!$F$27:$G$37,2,FALSE),\"\")","v":""},{"$f":"IFERROR(VLOOKUP(後攻T!EB62,記号!$U$12:$V$13,2,FALSE),\"\")","v":""},{"$f":"IF(BQ106=\"\",\"\",IF(BQ106=L107+0.2,\"2\",IF(BQ106=L107+0.3,\"3\",IF(BQ106=L107+0.4,\"4\",IF(BQ106=L107+0.5,\"5\",\"先\")))))","v":"2"},{"$f":"IFERROR(VLOOKUP(後攻T!EK64,記号!$F$27:$G$37,2,FALSE),\"\")","v":""},{"$f":"IFERROR(VLOOKUP(後攻T!EL62,記号!$R$5:$S$10,2,FALSE),\"\")","v":""},{"$f":"IFERROR(VLOOKUP(後攻T!EI64,記号!$F$27:$G$37,2,FALSE),\"\")","v":""},{"$f":"IFERROR(VLOOKUP(後攻T!EN62,記号!$U$12:$V$13,2,FALSE),\"\")","v":""},{"$f":"IF(K110=\"\",\"\",VLOOKUP(K110,$C$19:$E$24,3,FALSE))","v":""},{"$f":"IF(L110=\"\",\"\",(BX110+CG110+CH110+CI110))","v":""},"",{"$f":"IF(L110=\"\",\"\",COUNTIFS($N$106:$BU$106,L110,$N$111:$BU$111,$BY$68))","v":""},{"$f":"IF(L110=\"\",\"\",COUNTIFS($N$106:$BU$106,L110,$N$111:$BU$111,$BZ$68))","v":""},{"$f":"IF(L110=\"\",\"\",COUNTIFS($N$106:$BU$106,L110,$N$109:$BU$109,$CA$68))","v":""},{"$f":"IF(L110=\"\",\"\",COUNTIFS($N$106:$BU$106,L110,$N$109:$BU$109,$CB$68))","v":""},{"$f":"IF(L110=\"\",\"\",COUNTIFS($N$106:$BU$106,L110,$N$111:$BU$111,$CC$68))","v":""},{"$f":"IF(L110=\"\",\"\",SUMIF($N$106:$BU$106,L110,$N$111:$BU$111))","v":""},{"$f":"IF(L110=\"\",\"\",COUNTIFS($N$106:$BU$106,L110,$N$110:$BU$110,$CE$68))","v":""},{"$f":"IF(L110=\"\",\"\",COUNTIFS($N$106:$BU$106,L110,$N$111:$BU$111,$CF$68))","v":""},{"$f":"IF(L110=\"\",\"\",COUNTIFS($N$106:$BU$106,L110,$N$111:$BU$111,$CG$68))","v":""},{"$f":"IF(L110=\"\",\"\",COUNTIFS($N$106:$BU$106,L110,$N$111:$BU$111,$CH$68))","v":""},{"$f":"IF(L110=\"\",\"\",COUNTIFS($N$106:$BU$106,L110,$N$111:$BU$111,$CI$68))","v":""},{"$f":"IF(L110=\"\",\"\",COUNTIFS($N$106:$BU$106,L110,$N$111:$BU$111,$CJ$68))","v":""},{"$f":"IF(L110=\"\",\"\",COUNTIFS($N$106:$BU$106,L110,$N$111:$BU$111,$CK$68)+COUNTIFS($N$106:$BU$106,L110,$N$109:$BU$109,$CK$68))","v":""},{"$f":"IF(L110=\"\",\"\",COUNTIFS(N109:BU109,L110,N114:BU114,$CL$68)+COUNTIFS(N109:BU109,L110,N112:BU112,$CL$68))","v":""},{"$f":"IF(L110=\"\",\"\",COUNTIFS(N109:BU109,L110,N114:BU114,$CM$68))","v":""},{"$f":"IF(L110=\"\",\"\",COUNTIFS(N109:BU109,L110,N114:BU114,$CN$68))","v":""},"",null,"ゴロ中安",null,null,null,null,"G","RR",4,"中",8,"先",null,null,null,null,null,null,null,null,null,null,null,null,null,null,null,null,null,null,null,null,null,null,null,null,null,null,null,{"$f":"IF(L110=\"\",\"\",L110)","v":""},"",{"$f":"IF(EC110=\"\",\"\",COUNTIFS($N$106:$BU$106,EC110,$N$111:$BU$111,\"RZ\"))","v":""},{"$f":"IF(EC110=\"\",\"\",COUNTIFS(N109:BU109,EC110,N113:BU113,\"ZH\"))","v":""},null,null,null,null,null,null,null,null,null,null,null,null,null,null,null,null,null,null,null,null,null,null,null,null,null,null,null,null,null,null,null,null,null,null,null,null,null,null,null,null,null,null,null,null,null,null,null,null,null,null,null,null,null,null,null,null,null,null,null,null,null,null,null,null,null,null,null,null,null,null,null,null,null,null,null,null,null,null,null,null,null,null,null,null,null,null,null,null,null,null,null,null,"","","","","","","",""]
[null,null,18,"森本　昴佑","LL",18,null,null,null,{"$f":"IF(L111=\"\",\"\",VLOOKUP(L111,$C$94:$D$123,2,FALSE))","v":""},null,null,null,{"$f":"IFERROR(VLOOKUP(後攻T!K62,記号!$R$15:$S$20,2,FALSE),\"\")","v":""},{"$f":"IFERROR(VLOOKUP(後攻T!I62,記号!$O$5:$P$21,2,FALSE),\"\")","v":""},{"$f":"IFERROR(VLOOKUP(後攻T!F64,記号!$F$27:$G$37,2,FALSE),\"\")","v":"8'"},{"$f":"IFERROR(VLOOKUP(後攻T!F62,記号!$F$5:$G$21,2,FALSE),\"\")","v":"O"},{"$f":"IFERROR(VLOOKUP(後攻T!L63,記号!$U$5:$V$6,2,FALSE),\"\")","v":"RZ"},{"$f":"IFERROR(VLOOKUP(後攻T!W62,記号!$R$15:$S$20,2,FALSE),\"\")","v":""},{"$f":"IFERROR(VLOOKUP(後攻T!U62,記号!$O$5:$P$21,2,FALSE),\"\")","v":""},{"$f":"IFERROR(VLOOKUP(後攻T!R64,記号!$F$27:$G$37,2,FALSE),\"\")","v":""},{"$f":"IFERROR(VLOOKUP(後攻T!R62,記号!$F$5:$G$21,2,FALSE),\"\")","v":""},{"$f":"IFERROR(VLOOKUP(後攻T!X63,記号!$U$5:$V$6,2,FALSE),\"\")","v":""},{"$f":"IFERROR(VLOOKUP(後攻T!AI62,記号!$R$15:$S$20,2,FALSE),\"\")","v":""},{"$f":"IFERROR(VLOOKUP(後攻T!AG62,記号!$O$5:$P$21,2,FALSE),\"\")","v":""},{"$f":"IFERROR(VLOOKUP(後攻T!AD64,記号!$F$27:$G$37,2,FALSE),\"\")","v":""},{"$f":"IFERROR(VLOOKUP(後攻T!AD62,記号!$F$5:$G$21,2,FALSE),\"\")","v":""},{"$f":"IFERROR(VLOOKUP(後攻T!AJ63,記号!$U$5:$V$6,2,FALSE),\"\")","v":""},{"$f":"IFERROR(VLOOKUP(後攻T!AU62,記号!$R$15:$S$20,2,FALSE),\"\")","v":""},{"$f":"IFERROR(VLOOKUP(後攻T!AS62,記号!$O$5:$P$21,2,FALSE),\"\")","v":"①"},{"$f":"IFERROR(VLOOKUP(後攻T!AP64,記号!$F$27:$G$37,2,FALSE),\"\")","v":"4'"},{"$f":"IFERROR(VLOOKUP(後攻T!AP62,記号!$F$5:$G$21,2,FALSE),\"\")","v":"E"},{"$f":"IFERROR(VLOOKUP(後攻T!AV63,記号!$U$5:$V$6,2,FALSE),\"\")","v":""},{"$f":"IFERROR(VLOOKUP(後攻T!BG62,記号!$R$15:$S$20,2,FALSE),\"\")","v":""},{"$f":"IFERROR(VLOOKUP(後攻T!BE62,記号!$O$5:$P$21,2,FALSE),\"\")","v":"⑧"},{"$f":"IFERROR(VLOOKUP(後攻T!BB64,記号!$F$27:$G$37,2,FALSE),\"\")","v":"7'"},{"$f":"IFERROR(VLOOKUP(後攻T!BB62,記号!$F$5:$G$21,2,FALSE),\"\")","v":"H"},{"$f":"IFERROR(VLOOKUP(後攻T!BH63,記号!$U$5:$V$6,2,FALSE),\"\")","v":""},{"$f":"IFERROR(VLOOKUP(後攻T!BS62,記号!$R$15:$S$20,2,FALSE),\"\")","v":""},{"$f":"IFERROR(VLOOKUP(後攻T!BQ62,記号!$O$5:$P$21,2,FALSE),\"\")","v":""},{"$f":"IFERROR(VLOOKUP(後攻T!BN64,記号!$F$27:$G$37,2,FALSE),\"\")","v":""},{"$f":"IFERROR(VLOOKUP(後攻T!BN62,記号!$F$5:$G$21,2,FALSE),\"\")","v":""},{"$f":"IFERROR(VLOOKUP(後攻T!BT63,記号!$U$5:$V$6,2,FALSE),\"\")","v":""},{"$f":"IFERROR(VLOOKUP(後攻T!CE62,記号!$R$15:$S$20,2,FALSE),\"\")","v":""},{"$f":"IFERROR(VLOOKUP(後攻T!CC62,記号!$O$5:$P$21,2,FALSE),\"\")","v":""},{"$f":"IFERROR(VLOOKUP(後攻T!BZ64,記号!$F$27:$G$37,2,FALSE),\"\")","v":"8'"},{"$f":"IFERROR(VLOOKUP(後攻T!BZ62,記号!$F$5:$G$21,2,FALSE),\"\")","v":"H"},{"$f":"IFERROR(VLOOKUP(後攻T!CF63,記号!$U$5:$V$6,2,FALSE),\"\")","v":""},{"$f":"IFERROR(VLOOKUP(後攻T!CQ62,記号!$R$15:$S$20,2,FALSE),\"\")","v":""},{"$f":"IFERROR(VLOOKUP(後攻T!CO62,記号!$O$5:$P$21,2,FALSE),\"\")","v":""},{"$f":"IFERROR(VLOOKUP(後攻T!CL64,記号!$F$27:$G$37,2,FALSE),\"\")","v":""},{"$f":"IFERROR(VLOOKUP(後攻T!CL62,記号!$F$5:$G$21,2,FALSE),\"\")","v":""},{"$f":"IFERROR(VLOOKUP(後攻T!CR63,記号!$U$5:$V$6,2,FALSE),\"\")","v":""},{"$f":"IFERROR(VLOOKUP(後攻T!DC62,記号!$R$15:$S$20,2,FALSE),\"\")","v":""},{"$f":"IFERROR(VLOOKUP(後攻T!DA62,記号!$O$5:$P$21,2,FALSE),\"\")","v":""},{"$f":"IFERROR(VLOOKUP(後攻T!CX64,記号!$F$27:$G$37,2,FALSE),\"\")","v":"8'"},{"$f":"IFERROR(VLOOKUP(後攻T!CX62,記号!$F$5:$G$21,2,FALSE),\"\")","v":"O"},{"$f":"IFERROR(VLOOKUP(後攻T!DD63,記号!$U$5:$V$6,2,FALSE),\"\")","v":""},{"$f":"IFERROR(VLOOKUP(後攻T!DO62,記号!$R$15:$S$20,2,FALSE),\"\")","v":""},{"$f":"IFERROR(VLOOKUP(後攻T!DM62,記号!$O$5:$P$21,2,FALSE),\"\")","v":""},{"$f":"IFERROR(VLOOKUP(後攻T!DJ64,記号!$F$27:$G$37,2,FALSE),\"\")","v":""},{"$f":"IFERROR(VLOOKUP(後攻T!DJ62,記号!$F$5:$G$21,2,FALSE),\"\")","v":""},{"$f":"IFERROR(VLOOKUP(後攻T!DP63,記号!$U$5:$V$6,2,FALSE),\"\")","v":""},{"$f":"IFERROR(VLOOKUP(後攻T!EA62,記号!$R$15:$S$20,2,FALSE),\"\")","v":""},{"$f":"IFERROR(VLOOKUP(後攻T!DY62,記号!$O$5:$P$21,2,FALSE),\"\")","v":""},{"$f":"IFERROR(VLOOKUP(後攻T!DV64,記号!$F$27:$G$37,2,FALSE),\"\")","v":""},{"$f":"IFERROR(VLOOKUP(後攻T!DV62,記号!$F$5:$G$21,2,FALSE),\"\")","v":""},{"$f":"IFERROR(VLOOKUP(後攻T!EB63,記号!$U$5:$V$6,2,FALSE),\"\")","v":""},{"$f":"IFERROR(VLOOKUP(後攻T!EM62,記号!$R$15:$S$20,2,FALSE),\"\")","v":""},{"$f":"IFERROR(VLOOKUP(後攻T!EK62,記号!$O$5:$P$21,2,FALSE),\"\")","v":""},{"$f":"IFERROR(VLOOKUP(後攻T!EH64,記号!$F$27:$G$37,2,FALSE),\"\")","v":""},{"$f":"IFERROR(VLOOKUP(後攻T!EH62,記号!$F$5:$G$21,2,FALSE),\"\")","v":""},{"$f":"IFERROR(VLOOKUP(後攻T!EN63,記号!$U$5:$V$6,2,FALSE),\"\")","v":""},{"$f":"IF(K111=\"\",\"\",VLOOKUP(K111,$C$19:$E$24,3,FALSE))","v":""},{"$f":"IF(L111=\"\",\"\",(BX111+CG111+CH111+CI111))","v":""},"",{"$f":"IF(L111=\"\",\"\",COUNTIFS($N$106:$BU$106,L111,$N$111:$BU$111,$BY$68))","v":""},{"$f":"IF(L111=\"\",\"\",COUNTIFS($N$106:$BU$106,L111,$N$111:$BU$111,$BZ$68))","v":""},{"$f":"IF(L111=\"\",\"\",COUNTIFS($N$106:$BU$106,L111,$N$109:$BU$109,$CA$68))","v":""},{"$f":"IF(L111=\"\",\"\",COUNTIFS($N$106:$BU$106,L111,$N$109:$BU$109,$CB$68))","v":""},{"$f":"IF(L111=\"\",\"\",COUNTIFS($N$106:$BU$106,L111,$N$111:$BU$111,$CC$68))","v":""},{"$f":"IF(L111=\"\",\"\",SUMIF($N$106:$BU$106,L111,$N$111:$BU$111))","v":""},{"$f":"IF(L111=\"\",\"\",COUNTIFS($N$106:$BU$106,L111,$N$110:$BU$110,$CE$68))","v":""},{"$f":"IF(L111=\"\",\"\",COUNTIFS($N$106:$BU$106,L111,$N$111:$BU$111,$CF$68))","v":""},{"$f":"IF(L111=\"\",\"\",COUNTIFS($N$106:$BU$106,L111,$N$111:$BU$111,$CG$68))","v":""},{"$f":"IF(L111=\"\",\"\",COUNTIFS($N$106:$BU$106,L111,$N$111:$BU$111,$CH$68))","v":""},{"$f":"IF(L111=\"\",\"\",COUNTIFS($N$106:$BU$106,L111,$N$111:$BU$111,$CI$68))","v":""},{"$f":"IF(L111=\"\",\"\",COUNTIFS($N$106:$BU$106,L111,$N$111:$BU$111,$CJ$68))","v":""},{"$f":"IF(L111=\"\",\"\",COUNTIFS($N$106:$BU$106,L111,$N$111:$BU$111,$CK$68)+COUNTIFS($N$106:$BU$106,L111,$N$109:$BU$109,$CK$68))","v":""},{"$f":"IF(L111=\"\",\"\",COUNTIFS(N110:BU110,L111,N115:BU115,$CL$68)+COUNTIFS(N110:BU110,L111,N113:BU113,$CL$68))","v":""},{"$f":"IF(L111=\"\",\"\",COUNTIFS(N110:BU110,L111,N115:BU115,$CM$68))","v":""},{"$f":"IF(L111=\"\",\"\",COUNTIFS(N110:BU110,L111,N115:BU115,$CN$68))","v":""},"",null,"中飛",null,null,null,null,"A","RR",4,"中",8,2,null,null,null,"",{"$f":"IF(D86=\"\",\"\",D86)","v":""},{"$f":"IF(F86=\"\",\"\",F86)","v":""},{"$f":"IF(D86=\"\",\"\",C86)","v":""},{"$f":"IF(DF111=\"\",\"\",COUNTIFS($CP$6:$CP$58,DH111,$CV$6:$CV$58,\"G\"))","v":""},{"$f":"IF(DF111=\"\",\"\",COUNTIFS($CP$6:$CP$58,DH111,$CV$6:$CV$58,\"A\"))","v":""},{"$f":"IF(DG111=\"\",\"\",(DI111+DJ111))","v":""},null,null,null,null,null,null,null,null,null,null,null,null,null,null,null,null,null,{"$f":"IF(L111=\"\",\"\",L111)","v":""},"",{"$f":"IF(EC111=\"\",\"\",COUNTIFS($N$106:$BU$106,EC111,$N$111:$BU$111,\"RZ\"))","v":""},{"$f":"IF(EC111=\"\",\"\",COUNTIFS(N110:BU110,EC111,N114:BU114,\"ZH\"))","v":""},null,null,null,null,null,null,null,null,null,null,null,null,null,null,null,null,null,null,null,null,null,null,null,null,null,null,null,null,null,null,null,null,null,null,null,null,null,null,null,null,null,null,null,null,null,null,null,null,null,null,null,null,null,null,null,null,null,null,null,null,null,null,null,null,null,null,null,null,null,null,null,null,null,null,null,null,null,null,null,null,null,null,null,null,null,null,null,null,null,null,null,null,"","","","","","","",""]
[null,null,0,null,null,null,null,null,null,null,null,null,"打者背番号を入力➡",{"$f":"後攻T!E65","v":2},{"$f":"N112","v":2},{"$f":"N112","v":2},{"$f":"N112","v":2},{"$f":"N112","v":2},{"$f":"後攻T!Q65","v":2},{"$f":"S112","v":2},{"$f":"S112","v":2},{"$f":"S112","v":2},{"$f":"S112","v":2},{"$f":"後攻T!AC65","v":2},{"$f":"X112","v":2},{"$f":"X112","v":2},{"$f":"X112","v":2},{"$f":"X112","v":2},{"$f":"後攻T!AO65","v":2},{"$f":"AC112","v":2},{"$f":"AC112","v":2},{"$f":"AC112","v":2},{"$f":"AC112","v":2},{"$f":"後攻T!BA65","v":2},{"$f":"AH112","v":2},{"$f":"AH112","v":2},{"$f":"AH112","v":2},{"$f":"AH112","v":2},{"$f":"後攻T!BM65","v":2},{"$f":"AM112","v":2},{"$f":"AM112","v":2},{"$f":"AM112","v":2},{"$f":"AM112","v":2},{"$f":"後攻T!BY65","v":2},{"$f":"AR112","v":2},{"$f":"AR112","v":2},{"$f":"AR112","v":2},{"$f":"AR112","v":2},{"$f":"後攻T!$CK65","v":2.2000000000000002},{"$f":"AW112","v":2.2000000000000002},{"$f":"AW112","v":2.2000000000000002},{"$f":"AW112","v":2.2000000000000002},{"$f":"AW112","v":2.2000000000000002},{"$f":"後攻T!CW65","v":2.2000000000000002},{"$f":"BB112","v":2.2000000000000002},{"$f":"BB112","v":2.2000000000000002},{"$f":"BB112","v":2.2000000000000002},{"$f":"BB112","v":2.2000000000000002},{"$f":"後攻T!DI65","v":2.2000000000000002},{"$f":"BG112","v":2.2000000000000002},{"$f":"BG112","v":2.2000000000000002},{"$f":"BG112","v":2.2000000000000002},{"$f":"BG112","v":2.2000000000000002},{"$f":"後攻T!DU65","v":2.2000000000000002},{"$f":"BL112","v":2.2000000000000002},{"$f":"BL112","v":2.2000000000000002},{"$f":"BL112","v":2.2000000000000002},{"$f":"BL112","v":2.2000000000000002},{"$f":"後攻T!EG65","v":2.2000000000000002},{"$f":"BQ112","v":2.2000000000000002},{"$f":"BQ112","v":2.2000000000000002},{"$f":"BQ112","v":2.2000000000000002},{"$f":"BQ112","v":2.2000000000000002},null,null,null,null,null,null,null,null,null,null,null,null,null,null,null,null,null,null,null,null,null,null,null,null,null,null,null,null,null,null,null,null,null,null,null,"","","","","","","",null,null,null,null,null,null,null,null,null,null,null,null,null,null,null,null,null,null,null,null,null,null,null,null,null,null,null,null,null,null,null,null,null,null,null,null,null,null,null,null,null,null,null,null,null,null,null,null,null,null,null,null,null,null,null,null,null,null,null,null,null,null,null,null,null,null,null,null,null,null,null,null,null,null,null,null,null,null,null,null,null,null,null,null,null,null,null,null,null,null,null,null,null,null,null,null,null,null,null,null,null,null,null,null,null,null,null,null,null,null,null,null,null,null,""]
[null,null,0,null,null,null,null,null,{"$f":"IF(C77=\"\",\"\",C77)","v":"捕"},{"$f":"IF(D77=\"\",\"\",D77)","v":"小泉　航平"},{"$f":"IF(J113=\"\",\"\",\"先\")","v":"先"},{"$f":"IF(J113=\"\",\"\",F77)","v":2},"⑧",{"$f":"IFERROR(VLOOKUP(後攻T!F67,記号!$B$6:$C$10,2,FALSE),\"\")","v":""},{"$f":"IFERROR(VLOOKUP(後攻T!G67,記号!$B$6:$C$10,2,FALSE),\"\")","v":""},{"$f":"IFERROR(VLOOKUP(後攻T!H67,記号!$B$6:$C$10,2,FALSE),\"\")","v":""},{"$f":"IFERROR(VLOOKUP(後攻T!I67,記号!$B$6:$C$10,2,FALSE),\"\")","v":""},{"$f":"IFERROR(VLOOKUP(後攻T!J67,記号!$B$6:$C$10,2,FALSE),\"\")","v":""},{"$f":"IFERROR(VLOOKUP(後攻T!R67,記号!$B$6:$C$10,2,FALSE),\"\")","v":"・〇"},{"$f":"IFERROR(VLOOKUP(後攻T!S67,記号!$B$6:$C$10,2,FALSE),\"\")","v":"・●"},{"$f":"IFERROR(VLOOKUP(後攻T!T67,記号!$B$6:$C$10,2,FALSE),\"\")","v":"・●"},{"$f":"IFERROR(VLOOKUP(後攻T!U67,記号!$B$6:$C$10,2,FALSE),\"\")","v":"・◎"},{"$f":"IFERROR(VLOOKUP(後攻T!V67,記号!$B$6:$C$10,2,FALSE),\"\")","v":""},{"$f":"IFERROR(VLOOKUP(後攻T!AD67,記号!$B$6:$C$10,2,FALSE),\"\")","v":""},{"$f":"IFERROR(VLOOKUP(後攻T!AE67,記号!$B$6:$C$10,2,FALSE),\"\")","v":""},{"$f":"IFERROR(VLOOKUP(後攻T!AF67,記号!$B$6:$C$10,2,FALSE),\"\")","v":""},{"$f":"IFERROR(VLOOKUP(後攻T!AG67,記号!$B$6:$C$10,2,FALSE),\"\")","v":""},{"$f":"IFERROR(VLOOKUP(後攻T!AH67,記号!$B$6:$C$10,2,FALSE),\"\")","v":""},{"$f":"IFERROR(VLOOKUP(後攻T!AP67,記号!$B$6:$C$10,2,FALSE),\"\")","v":"・●"},{"$f":"IFERROR(VLOOKUP(後攻T!AQ67,記号!$B$6:$C$10,2,FALSE),\"\")","v":"・●"},{"$f":"IFERROR(VLOOKUP(後攻T!AR67,記号!$B$6:$C$10,2,FALSE),\"\")","v":"・〇"},{"$f":"IFERROR(VLOOKUP(後攻T!AS67,記号!$B$6:$C$10,2,FALSE),\"\")","v":"・●"},{"$f":"IFERROR(VLOOKUP(後攻T!AT67,記号!$B$6:$C$10,2,FALSE),\"\")","v":"・□"},{"$f":"IFERROR(VLOOKUP(後攻T!BB67,記号!$B$6:$C$10,2,FALSE),\"\")","v":"・●"},{"$f":"IFERROR(VLOOKUP(後攻T!BC67,記号!$B$6:$C$10,2,FALSE),\"\")","v":"・〇"},{"$f":"IFERROR(VLOOKUP(後攻T!BD67,記号!$B$6:$C$10,2,FALSE),\"\")","v":"・◎"},{"$f":"IFERROR(VLOOKUP(後攻T!BE67,記号!$B$6:$C$10,2,FALSE),\"\")","v":""},{"$f":"IFERROR(VLOOKUP(後攻T!BF67,記号!$B$6:$C$10,2,FALSE),\"\")","v":""},{"$f":"IFERROR(VLOOKUP(後攻T!BN67,記号!$B$6:$C$10,2,FALSE),\"\")","v":""},{"$f":"IFERROR(VLOOKUP(後攻T!BO67,記号!$B$6:$C$10,2,FALSE),\"\")","v":""},{"$f":"IFERROR(VLOOKUP(後攻T!BP67,記号!$B$6:$C$10,2,FALSE),\"\")","v":""},{"$f":"IFERROR(VLOOKUP(後攻T!BQ67,記号!$B$6:$C$10,2,FALSE),\"\")","v":""},{"$f":"IFERROR(VLOOKUP(後攻T!BR67,記号!$B$6:$C$10,2,FALSE),\"\")","v":""},{"$f":"IFERROR(VLOOKUP(後攻T!BZ67,記号!$B$6:$C$10,2,FALSE),\"\")","v":"・●"},{"$f":"IFERROR(VLOOKUP(後攻T!CA67,記号!$B$6:$C$10,2,FALSE),\"\")","v":"・●"},{"$f":"IFERROR(VLOOKUP(後攻T!CB67,記号!$B$6:$C$10,2,FALSE),\"\")","v":"・△"},{"$f":"IFERROR(VLOOKUP(後攻T!CC67,記号!$B$6:$C$10,2,FALSE),\"\")","v":"・●"},{"$f":"IFERROR(VLOOKUP(後攻T!CD67,記号!$B$6:$C$10,2,FALSE),\"\")","v":"・〇"},{"$f":"IFERROR(VLOOKUP(後攻T!CL67,記号!$B$6:$C$10,2,FALSE),\"\")","v":""},{"$f":"IFERROR(VLOOKUP(後攻T!CM67,記号!$B$6:$C$10,2,FALSE),\"\")","v":""},{"$f":"IFERROR(VLOOKUP(後攻T!CN67,記号!$B$6:$C$10,2,FALSE),\"\")","v":""},{"$f":"IFERROR(VLOOKUP(後攻T!CO67,記号!$B$6:$C$10,2,FALSE),\"\")","v":""},{"$f":"IFERROR(VLOOKUP(後攻T!CP67,記号!$B$6:$C$10,2,FALSE),\"\")","v":""},{"$f":"IFERROR(VLOOKUP(後攻T!CX67,記号!$B$6:$C$10,2,FALSE),\"\")","v":"・〇"},{"$f":"IFERROR(VLOOKUP(後攻T!CY67,記号!$B$6:$C$10,2,FALSE),\"\")","v":"・●"},{"$f":"IFERROR(VLOOKUP(後攻T!CZ67,記号!$B$6:$C$10,2,FALSE),\"\")","v":"・●"},{"$f":"IFERROR(VLOOKUP(後攻T!DA67,記号!$B$6:$C$10,2,FALSE),\"\")","v":"・●"},{"$f":"IFERROR(VLOOKUP(後攻T!DB67,記号!$B$6:$C$10,2,FALSE),\"\")","v":"・〇"},{"$f":"IFERROR(VLOOKUP(後攻T!DJ67,記号!$B$6:$C$10,2,FALSE),\"\")","v":""},{"$f":"IFERROR(VLOOKUP(後攻T!DK67,記号!$B$6:$C$10,2,FALSE),\"\")","v":""},{"$f":"IFERROR(VLOOKUP(後攻T!DL67,記号!$B$6:$C$10,2,FALSE),\"\")","v":""},{"$f":"IFERROR(VLOOKUP(後攻T!DM67,記号!$B$6:$C$10,2,FALSE),\"\")","v":""},{"$f":"IFERROR(VLOOKUP(後攻T!DN67,記号!$B$6:$C$10,2,FALSE),\"\")","v":""},{"$f":"IFERROR(VLOOKUP(後攻T!DV67,記号!$B$6:$C$10,2,FALSE),\"\")","v":""},{"$f":"IFERROR(VLOOKUP(後攻T!DW67,記号!$B$6:$C$10,2,FALSE),\"\")","v":""},{"$f":"IFERROR(VLOOKUP(後攻T!DX67,記号!$B$6:$C$10,2,FALSE),\"\")","v":""},{"$f":"IFERROR(VLOOKUP(後攻T!DY67,記号!$B$6:$C$10,2,FALSE),\"\")","v":""},{"$f":"IFERROR(VLOOKUP(後攻T!DZ67,記号!$B$6:$C$10,2,FALSE),\"\")","v":""},{"$f":"IFERROR(VLOOKUP(後攻T!EH67,記号!$B$6:$C$10,2,FALSE),\"\")","v":""},{"$f":"IFERROR(VLOOKUP(後攻T!EI67,記号!$B$6:$C$10,2,FALSE),\"\")","v":""},{"$f":"IFERROR(VLOOKUP(後攻T!EJ67,記号!$B$6:$C$10,2,FALSE),\"\")","v":""},{"$f":"IFERROR(VLOOKUP(後攻T!EK67,記号!$B$6:$C$10,2,FALSE),\"\")","v":""},{"$f":"IFERROR(VLOOKUP(後攻T!EL67,記号!$B$6:$C$10,2,FALSE),\"\")","v":""},{"$f":"IF(K113=\"\",\"\",VLOOKUP(K113,$C$19:$E$24,3,FALSE))","v":"RR"},{"$f":"IF(L113=\"\",\"\",(BX113+CG113+CH113+CI113))","v":4},2,{"$f":"IF(L113=\"\",\"\",COUNTIFS($N$112:$BU$112,L113,$N$117:$BU$117,$BY$68))","v":1},{"$f":"IF(L113=\"\",\"\",COUNTIFS($N$112:$BU$112,L113,$N$117:$BU$117,$BZ$68))","v":1},{"$f":"IF(L113=\"\",\"\",COUNTIFS($N$112:$BU$112,L113,$N$115:$BU$115,$CA$68))","v":0},{"$f":"IF(L113=\"\",\"\",COUNTIFS($N$112:$BU$112,L113,$N$115:$BU$115,$CB$68))","v":0},{"$f":"IF(L113=\"\",\"\",COUNTIFS($N$112:$BU$112,L113,$N$117:$BU$117,$CC$68))","v":0},{"$f":"IF(L113=\"\",\"\",SUMIF($N$112:$BU$112,L113,$N$117:$BU$117))","v":1},{"$f":"IF(L113=\"\",\"\",COUNTIFS($N$112:$BU$112,L113,$N$116:$BU$116,$CE$68))","v":2},{"$f":"IF(L113=\"\",\"\",COUNTIFS($N$112:$BU$112,L113,$N$117:$BU$117,$CF$68))","v":0},{"$f":"IF(L113=\"\",\"\",COUNTIFS($N$112:$BU$112,L113,$N$117:$BU$117,$CG$68))","v":2},{"$f":"IF(L113=\"\",\"\",COUNTIFS($N$112:$BU$112,L113,$N$117:$BU$117,$CH$68))","v":0},{"$f":"IF(L113=\"\",\"\",COUNTIFS($N$112:$BU$112,L113,$N$117:$BU$117,$CI$68))","v":0},{"$f":"IF(L113=\"\",\"\",COUNTIFS($N$112:$BU$112,L113,$N$117:$BU$117,$CJ$68))","v":0},{"$f":"IF(L113=\"\",\"\",COUNTIFS($N$112:$BU$112,L113,$N$117:$BU$117,$CK$68)+COUNTIFS($N$112:$BU$112,L113,$N$115:$BU$115,$CK$68))","v":0},{"$f":"IF(L113=\"\",\"\",COUNTIFS($N$112:$BU$112,L113,$N$117:$BU$117,$CL$68)+COUNTIFS($N$112:$BU$112,L113,$N$115:$BU$115,$CL$68))","v":0},{"$f":"IF(L113=\"\",\"\",COUNTIFS($N$112:$BU$112,L113,$N$117:$BU$117,$CM$68))","v":0},{"$f":"IF(L113=\"\",\"\",COUNTIFS($N$112:$BU$112,L113,$N$117:$BU$117,$CN$68))","v":0},{"$f":"IF(L113=\"\",\"\",COUNTIFS($N$112:$BU$112,L113,$N$113:$BU$113,$CO$68)+COUNTIFS($N$112:$BU$112,L113,$N$114:$BU$114,$CO$68))","v":19},"先","補ゴロ",null,null,null,null,"G",{"$f":"IF(DA113=\"\",\"\",VLOOKUP(DA113,$C$19:$F$24,3,FALSE))","v":"RR"},2,"遊",{"$f":"IF(CY113=\"\",\"\",VLOOKUP(CY113,$C$5:$F$14,4,FALSE))","v":6},"先",null,null,null,"","","","","","","",null,null,null,null,null,null,null,null,null,null,null,null,null,null,null,null,null,{"$f":"IF(L113=\"\",\"\",L113)","v":2},{"$f":"IF(EC113=\"\",\"\",VLOOKUP(EC113,$C$94:$D$123,2,FALSE))","v":"小泉　航平"},{"$f":"IF(EC113=\"\",\"\",COUNTIFS($N$112:$BU$112,EC113,$N$117:$BU$117,\"RZ\"))","v":1},{"$f":"IF(EC113=\"\",\"\",COUNTIFS($N$112:$BU$112,EC113,$N$116:$BU$116,\"ZH\"))","v":1},null,null,null,null,null,null,null,null,null,null,null,null,null,null,null,null,null,null,null,null,null,null,null,null,null,null,null,null,null,null,null,null,null,null,null,null,null,null,null,null,null,null,null,null,null,null,null,null,null,null,null,null,null,null,null,null,null,null,null,null,null,null,null,null,null,null,null,null,null,null,null,null,null,null,null,null,null,null,null,null,null,null,null,null,null,null,null,null,null,null,null,null,"小泉　航平",2,{"$f":"IF(HU113=\"\",\"\",COUNTIFS($N$112:$BU$112,HV113,$N$113:$BU$113,$HW$68)+COUNTIFS($N$112:$BU$112,HV113,$N$114:$BU$114,$HW$68))","v":19},{"$f":"IF(HU113=\"\",\"\",COUNTIFS($N$112:$BU$112,HV113,$N$113:$BU$113,$HX$68)+COUNTIFS($N$112:$BU$112,HV113,$N$114:$BU$114,$HX$68))","v":11},{"$f":"IF(HU113=\"\",\"\",COUNTIFS($N$112:$BU$112,HV113,$N$113:$BU$113,$HY$68)+COUNTIFS($N$112:$BU$112,HV113,$N$114:$BU$114,$HY$68))","v":4},{"$f":"IF(HU113=\"\",\"\",COUNTIFS($N$112:$BU$112,HV113,$N$113:$BU$113,$HZ$68)+COUNTIFS($N$112:$BU$112,HV113,$N$114:$BU$114,$HZ$68))","v":1},{"$f":"IF(HU113=\"\",\"\",COUNTIFS($N$112:$BU$112,HV113,$N$113:$BU$113,$IA$68)+COUNTIFS($N$112:$BU$112,HV113,$N$114:$BU$114,$IA$68))","v":1},{"$f":"IF(HU113=\"\",\"\",COUNTIFS($N$112:$BU$112,HV113,$N$113:$BU$113,$IB$68)+COUNTIFS($N$112:$BU$112,HV113,$N$114:$BU$114,$IB$68))","v":2}]
[null,null,0,null,null,null,null,null,null,"小泉　航平",2,2.2000000000000002,null,{"$f":"IFERROR(VLOOKUP(後攻T!K67,記号!$B$6:$C$10,2,FALSE),\"\")","v":""},{"$f":"IFERROR(VLOOKUP(後攻T!L67,記号!$B$6:$C$10,2,FALSE),\"\")","v":""},{"$f":"IFERROR(VLOOKUP(後攻T!F69,記号!$B$6:$C$10,2,FALSE),\"\")","v":""},{"$f":"IFERROR(VLOOKUP(後攻T!G69,記号!$B$6:$C$10,2,FALSE),\"\")","v":""},{"$f":"IFERROR(VLOOKUP(後攻T!H69,記号!$B$6:$C$10,2,FALSE),\"\")","v":""},{"$f":"IFERROR(VLOOKUP(後攻T!W67,記号!$B$6:$C$10,2,FALSE),\"\")","v":""},{"$f":"IFERROR(VLOOKUP(後攻T!X67,記号!$B$6:$C$10,2,FALSE),\"\")","v":""},{"$f":"IFERROR(VLOOKUP(後攻T!R69,記号!$B$6:$C$10,2,FALSE),\"\")","v":""},{"$f":"IFERROR(VLOOKUP(後攻T!S69,記号!$B$6:$C$10,2,FALSE),\"\")","v":""},{"$f":"IFERROR(VLOOKUP(後攻T!T69,記号!$B$6:$C$10,2,FALSE),\"\")","v":""},{"$f":"IFERROR(VLOOKUP(後攻T!AI67,記号!$B$6:$C$10,2,FALSE),\"\")","v":""},{"$f":"IFERROR(VLOOKUP(後攻T!AJ67,記号!$B$6:$C$10,2,FALSE),\"\")","v":""},{"$f":"IFERROR(VLOOKUP(後攻T!AD69,記号!$B$6:$C$10,2,FALSE),\"\")","v":""},{"$f":"IFERROR(VLOOKUP(後攻T!AE69,記号!$B$6:$C$10,2,FALSE),\"\")","v":""},{"$f":"IFERROR(VLOOKUP(後攻T!AF69,記号!$B$6:$C$10,2,FALSE),\"\")","v":""},{"$f":"IFERROR(VLOOKUP(後攻T!AU67,記号!$B$6:$C$10,2,FALSE),\"\")","v":"・●"},{"$f":"IFERROR(VLOOKUP(後攻T!AV67,記号!$B$6:$C$10,2,FALSE),\"\")","v":""},{"$f":"IFERROR(VLOOKUP(後攻T!AP69,記号!$B$6:$C$10,2,FALSE),\"\")","v":""},{"$f":"IFERROR(VLOOKUP(後攻T!AQ69,記号!$B$6:$C$10,2,FALSE),\"\")","v":""},{"$f":"IFERROR(VLOOKUP(後攻T!AR69,記号!$B$6:$C$10,2,FALSE),\"\")","v":""},{"$f":"IFERROR(VLOOKUP(後攻T!BG67,記号!$B$6:$C$10,2,FALSE),\"\")","v":""},{"$f":"IFERROR(VLOOKUP(後攻T!BH67,記号!$B$6:$C$10,2,FALSE),\"\")","v":""},{"$f":"IFERROR(VLOOKUP(後攻T!BB69,記号!$B$6:$C$10,2,FALSE),\"\")","v":""},{"$f":"IFERROR(VLOOKUP(後攻T!BC69,記号!$B$6:$C$10,2,FALSE),\"\")","v":""},{"$f":"IFERROR(VLOOKUP(後攻T!BD69,記号!$B$6:$C$10,2,FALSE),\"\")","v":""},{"$f":"IFERROR(VLOOKUP(後攻T!BS67,記号!$B$6:$C$10,2,FALSE),\"\")","v":""},{"$f":"IFERROR(VLOOKUP(後攻T!BT67,記号!$B$6:$C$10,2,FALSE),\"\")","v":""},{"$f":"IFERROR(VLOOKUP(後攻T!BN69,記号!$B$6:$C$10,2,FALSE),\"\")","v":""},{"$f":"IFERROR(VLOOKUP(後攻T!BO69,記号!$B$6:$C$10,2,FALSE),\"\")","v":""},{"$f":"IFERROR(VLOOKUP(後攻T!BP69,記号!$B$6:$C$10,2,FALSE),\"\")","v":""},{"$f":"IFERROR(VLOOKUP(後攻T!CE67,記号!$B$6:$C$10,2,FALSE),\"\")","v":"・●"},{"$f":"IFERROR(VLOOKUP(後攻T!CF67,記号!$B$6:$C$10,2,FALSE),\"\")","v":""},{"$f":"IFERROR(VLOOKUP(後攻T!BZ69,記号!$B$6:$C$10,2,FALSE),\"\")","v":""},{"$f":"IFERROR(VLOOKUP(後攻T!CA69,記号!$B$6:$C$10,2,FALSE),\"\")","v":""},{"$f":"IFERROR(VLOOKUP(後攻T!CB69,記号!$B$6:$C$10,2,FALSE),\"\")","v":""},{"$f":"IFERROR(VLOOKUP(後攻T!CQ67,記号!$B$6:$C$10,2,FALSE),\"\")","v":""},{"$f":"IFERROR(VLOOKUP(後攻T!CR67,記号!$B$6:$C$10,2,FALSE),\"\")","v":""},{"$f":"IFERROR(VLOOKUP(後攻T!CL69,記号!$B$6:$C$10,2,FALSE),\"\")","v":""},{"$f":"IFERROR(VLOOKUP(後攻T!CM69,記号!$B$6:$C$10,2,FALSE),\"\")","v":""},{"$f":"IFERROR(VLOOKUP(後攻T!CN69,記号!$B$6:$C$10,2,FALSE),\"\")","v":""},{"$f":"IFERROR(VLOOKUP(後攻T!DC67,記号!$B$6:$C$10,2,FALSE),\"\")","v":"・△"},{"$f":"IFERROR(VLOOKUP(後攻T!DD67,記号!$B$6:$C$10,2,FALSE),\"\")","v":"・△"},{"$f":"IFERROR(VLOOKUP(後攻T!CX69,記号!$B$6:$C$10,2,FALSE),\"\")","v":"・□"},{"$f":"IFERROR(VLOOKUP(後攻T!CY69,記号!$B$6:$C$10,2,FALSE),\"\")","v":""},{"$f":"IFERROR(VLOOKUP(後攻T!CZ69,記号!$B$6:$C$10,2,FALSE),\"\")","v":""},{"$f":"IFERROR(VLOOKUP(後攻T!DO67,記号!$B$6:$C$10,2,FALSE),\"\")","v":""},{"$f":"IFERROR(VLOOKUP(後攻T!DP67,記号!$B$6:$C$10,2,FALSE),\"\")","v":""},{"$f":"IFERROR(VLOOKUP(後攻T!DJ69,記号!$B$6:$C$10,2,FALSE),\"\")","v":""},{"$f":"IFERROR(VLOOKUP(後攻T!DK69,記号!$B$6:$C$10,2,FALSE),\"\")","v":""},{"$f":"IFERROR(VLOOKUP(後攻T!DL69,記号!$B$6:$C$10,2,FALSE),\"\")","v":""},{"$f":"IFERROR(VLOOKUP(後攻T!EA67,記号!$B$6:$C$10,2,FALSE),\"\")","v":""},{"$f":"IFERROR(VLOOKUP(後攻T!EB67,記号!$B$6:$C$10,2,FALSE),\"\")","v":""},{"$f":"IFERROR(VLOOKUP(後攻T!DV69,記号!$B$6:$C$10,2,FALSE),\"\")","v":""},{"$f":"IFERROR(VLOOKUP(後攻T!DW69,記号!$B$6:$C$10,2,FALSE),\"\")","v":""},{"$f":"IFERROR(VLOOKUP(後攻T!DX69,記号!$B$6:$C$10,2,FALSE),\"\")","v":""},{"$f":"IFERROR(VLOOKUP(後攻T!EM67,記号!$B$6:$C$10,2,FALSE),\"\")","v":""},{"$f":"IFERROR(VLOOKUP(後攻T!EN67,記号!$B$6:$C$10,2,FALSE),\"\")","v":""},{"$f":"IFERROR(VLOOKUP(後攻T!EH69,記号!$B$6:$C$10,2,FALSE),\"\")","v":""},{"$f":"IFERROR(VLOOKUP(後攻T!EI69,記号!$B$6:$C$10,2,FALSE),\"\")","v":""},{"$f":"IFERROR(VLOOKUP(後攻T!EJ69,記号!$B$6:$C$10,2,FALSE),\"\")","v":""},{"$f":"IF(K114=\"\",\"\",VLOOKUP(K114,$C$19:$E$24,3,FALSE))","v":"RR"},{"$f":"IF(L114=\"\",\"\",(BX114+CG114+CH114+CI114))","v":1},1,{"$f":"IF(L114=\"\",\"\",COUNTIFS($N$112:$BU$112,L114,$N$117:$BU$117,$BY$68))","v":0},{"$f":"IF(L114=\"\",\"\",COUNTIFS($N$112:$BU$112,L114,$N$117:$BU$117,$BZ$68))","v":0},{"$f":"IF(L114=\"\",\"\",COUNTIFS($N$112:$BU$112,L114,$N$115:$BU$115,$CA$68))","v":0},{"$f":"IF(L114=\"\",\"\",COUNTIFS($N$112:$BU$112,L114,$N$115:$BU$115,$CB$68))","v":0},{"$f":"IF(L114=\"\",\"\",COUNTIFS($N$112:$BU$112,L114,$N$117:$BU$117,$CC$68))","v":0},{"$f":"IF(L114=\"\",\"\",SUMIF($N$112:$BU$112,L114,$N$117:$BU$117))","v":0},{"$f":"IF(L114=\"\",\"\",COUNTIFS($N$112:$BU$112,L114,$N$116:$BU$116,$CE$68))","v":0},{"$f":"IF(L114=\"\",\"\",COUNTIFS($N$112:$BU$112,L114,$N$117:$BU$117,$CF$68))","v":1},{"$f":"IF(L114=\"\",\"\",COUNTIFS($N$112:$BU$112,L114,$N$117:$BU$117,$CG$68))","v":0},{"$f":"IF(L114=\"\",\"\",COUNTIFS($N$112:$BU$112,L114,$N$117:$BU$117,$CH$68))","v":0},{"$f":"IF(L114=\"\",\"\",COUNTIFS($N$112:$BU$112,L114,$N$117:$BU$117,$CI$68))","v":0},{"$f":"IF(L114=\"\",\"\",COUNTIFS($N$112:$BU$112,L114,$N$117:$BU$117,$CJ$68))","v":0},{"$f":"IF(L114=\"\",\"\",COUNTIFS($N$112:$BU$112,L114,$N$117:$BU$117,$CK$68)+COUNTIFS($N$112:$BU$112,L114,$N$115:$BU$115,$CK$68))","v":0},{"$f":"IF(L114=\"\",\"\",COUNTIFS($N$112:$BU$112,L114,$N$117:$BU$117,$CL$68)+COUNTIFS($N$112:$BU$112,L114,$N$115:$BU$115,$CL$68))","v":0},{"$f":"IF(L114=\"\",\"\",COUNTIFS($N$112:$BU$112,L114,$N$117:$BU$117,$CM$68))","v":0},{"$f":"IF(L114=\"\",\"\",COUNTIFS($N$112:$BU$112,L114,$N$117:$BU$117,$CN$68))","v":0},{"$f":"IF(L114=\"\",\"\",COUNTIFS($N$112:$BU$112,L114,$N$113:$BU$113,$CO$68)+COUNTIFS($N$112:$BU$112,L114,$N$114:$BU$114,$CO$68))","v":8},2,"四球",null,null,null,null,null,{"$f":"IF(DA114=\"\",\"\",VLOOKUP(DA114,$C$19:$F$24,3,FALSE))","v":"RR"},2,null,{"$f":"IF(CY114=\"\",\"\",VLOOKUP(CY114,$C$5:$F$14,4,FALSE))","v":""},"先",null,null,null,"","","","","","","",null,null,null,null,null,null,null,null,null,null,null,null,null,null,null,null,null,{"$f":"IF(L114=\"\",\"\",L114)","v":2.2000000000000002},"小泉　航平",{"$f":"IF(EC114=\"\",\"\",COUNTIFS($N$112:$BU$112,EC114,$N$117:$BU$117,\"RZ\"))","v":0},{"$f":"IF(EC114=\"\",\"\",COUNTIFS($N$112:$BU$112,EC114,$N$116:$BU$116,\"ZH\"))","v":0},null,null,null,null,null,null,null,null,null,null,null,null,null,null,null,null,null,null,null,null,null,null,null,null,null,null,null,null,null,null,null,null,null,null,null,null,null,null,null,null,null,null,null,null,null,null,null,null,null,null,null,null,null,null,null,null,null,null,null,null,null,null,null,null,null,null,null,null,null,null,null,null,null,null,null,null,null,null,null,null,null,null,null,null,null,null,null,null,null,null,null,null,"小泉　航平",2.2000000000000002,{"$f":"IF(HU114=\"\",\"\",COUNTIFS($N$112:$BU$112,HV114,$N$113:$BU$113,$HW$68)+COUNTIFS($N$112:$BU$112,HV114,$N$114:$BU$114,$HW$68))","v":8},{"$f":"IF(HU114=\"\",\"\",COUNTIFS($N$112:$BU$112,HV114,$N$113:$BU$113,$HX$68)+COUNTIFS($N$112:$BU$112,HV114,$N$114:$BU$114,$HX$68))","v":3},{"$f":"IF(HU114=\"\",\"\",COUNTIFS($N$112:$BU$112,HV114,$N$113:$BU$113,$HY$68)+COUNTIFS($N$112:$BU$112,HV114,$N$114:$BU$114,$HY$68))","v":2},{"$f":"IF(HU114=\"\",\"\",COUNTIFS($N$112:$BU$112,HV114,$N$113:$BU$113,$HZ$68)+COUNTIFS($N$112:$BU$112,HV114,$N$114:$BU$114,$HZ$68))","v":2},{"$f":"IF(HU114=\"\",\"\",COUNTIFS($N$112:$BU$112,HV114,$N$113:$BU$113,$IA$68)+COUNTIFS($N$112:$BU$112,HV114,$N$114:$BU$114,$IA$68))","v":1},{"$f":"IF(HU114=\"\",\"\",COUNTIFS($N$112:$BU$112,HV114,$N$113:$BU$113,$IB$68)+COUNTIFS($N$112:$BU$112,HV114,$N$114:$BU$114,$IB$68))","v":0}]
[null,null,0,null,null,null,null,null,null,{"$f":"IF(L115=\"\",\"\",VLOOKUP(L115,$C$94:$D$123,2,FALSE))","v":""},null,null,null,{"$f":"IFERROR(VLOOKUP(後攻T!F72,記号!$I$27:$J$30,2,FALSE),\"\")","v":""},{"$f":"IFERROR(VLOOKUP(後攻T!H71,記号!$L$5:$M$21,2,FALSE),\"\")","v":""},{"$f":"IFERROR(VLOOKUP(後攻T!H73,記号!$F$27:$G$37,2,FALSE),\"\")","v":""},{"$f":"IFERROR(VLOOKUP(後攻T!G71,記号!$I$5:$J$23,2,FALSE),\"\")","v":""},null,{"$f":"IFERROR(VLOOKUP(後攻T!R72,記号!$I$27:$J$30,2,FALSE),\"\")","v":"G"},{"$f":"IFERROR(VLOOKUP(後攻T!T50,記号!$L$5:$M$21,2,FALSE),\"\")","v":""},{"$f":"IFERROR(VLOOKUP(後攻T!T73,記号!$F$27:$G$37,2,FALSE),\"\")","v":""},{"$f":"IFERROR(VLOOKUP(後攻T!S71,記号!$I$5:$J$23,2,FALSE),\"\")","v":""},null,{"$f":"IFERROR(VLOOKUP(後攻T!AD72,記号!$I$27:$J$30,2,FALSE),\"\")","v":""},{"$f":"IFERROR(VLOOKUP(後攻T!AF71,記号!$L$5:$M$21,2,FALSE),\"\")","v":""},{"$f":"IFERROR(VLOOKUP(後攻T!AF73,記号!$F$27:$G$37,2,FALSE),\"\")","v":""},{"$f":"IFERROR(VLOOKUP(後攻T!AE71,記号!$I$5:$J$23,2,FALSE),\"\")","v":""},null,{"$f":"IFERROR(VLOOKUP(後攻T!AP72,記号!$I$27:$J$30,2,FALSE),\"\")","v":""},{"$f":"IFERROR(VLOOKUP(後攻T!AR71,記号!$L$5:$M$21,2,FALSE),\"\")","v":""},{"$f":"IFERROR(VLOOKUP(後攻T!AR73,記号!$F$27:$G$37,2,FALSE),\"\")","v":""},{"$f":"IFERROR(VLOOKUP(後攻T!AQ71,記号!$I$5:$J$23,2,FALSE),\"\")","v":""},null,{"$f":"IFERROR(VLOOKUP(後攻T!BB72,記号!$I$27:$J$30,2,FALSE),\"\")","v":"F"},{"$f":"IFERROR(VLOOKUP(後攻T!BD71,記号!$L$5:$M$21,2,FALSE),\"\")","v":""},{"$f":"IFERROR(VLOOKUP(後攻T!BD73,記号!$F$27:$G$37,2,FALSE),\"\")","v":""},{"$f":"IFERROR(VLOOKUP(後攻T!BO50,記号!$I$5:$J$23,2,FALSE),\"\")","v":""},null,{"$f":"IFERROR(VLOOKUP(後攻T!BN72,記号!$I$27:$J$30,2,FALSE),\"\")","v":""},{"$f":"IFERROR(VLOOKUP(後攻T!BP71,記号!$L$5:$M$21,2,FALSE),\"\")","v":""},{"$f":"IFERROR(VLOOKUP(後攻T!BP73,記号!$F$27:$G$37,2,FALSE),\"\")","v":""},{"$f":"IFERROR(VLOOKUP(後攻T!BO71,記号!$I$5:$J$23,2,FALSE),\"\")","v":""},null,{"$f":"IFERROR(VLOOKUP(後攻T!BZ72,記号!$I$27:$J$30,2,FALSE),\"\")","v":""},{"$f":"IFERROR(VLOOKUP(後攻T!CB71,記号!$L$5:$M$21,2,FALSE),\"\")","v":""},{"$f":"IFERROR(VLOOKUP(後攻T!CB73,記号!$F$27:$G$37,2,FALSE),\"\")","v":""},{"$f":"IFERROR(VLOOKUP(後攻T!CA71,記号!$I$5:$J$23,2,FALSE),\"\")","v":"⑨"},null,{"$f":"IFERROR(VLOOKUP(後攻T!CL72,記号!$I$27:$J$30,2,FALSE),\"\")","v":""},{"$f":"IFERROR(VLOOKUP(後攻T!CN71,記号!$L$5:$M$21,2,FALSE),\"\")","v":""},{"$f":"IFERROR(VLOOKUP(後攻T!CN73,記号!$F$27:$G$37,2,FALSE),\"\")","v":""},{"$f":"IFERROR(VLOOKUP(後攻T!CM71,記号!$I$5:$J$23,2,FALSE),\"\")","v":""},null,{"$f":"IFERROR(VLOOKUP(後攻T!CX72,記号!$I$27:$J$30,2,FALSE),\"\")","v":""},{"$f":"IFERROR(VLOOKUP(後攻T!CZ71,記号!$L$5:$M$21,2,FALSE),\"\")","v":""},{"$f":"IFERROR(VLOOKUP(後攻T!CZ73,記号!$F$27:$G$37,2,FALSE),\"\")","v":""},{"$f":"IFERROR(VLOOKUP(後攻T!CY71,記号!$I$5:$J$23,2,FALSE),\"\")","v":""},null,{"$f":"IFERROR(VLOOKUP(後攻T!DJ72,記号!$I$27:$J$30,2,FALSE),\"\")","v":""},{"$f":"IFERROR(VLOOKUP(後攻T!DL71,記号!$L$5:$M$21,2,FALSE),\"\")","v":""},{"$f":"IFERROR(VLOOKUP(後攻T!DL73,記号!$F$27:$G$37,2,FALSE),\"\")","v":""},{"$f":"IFERROR(VLOOKUP(後攻T!DK71,記号!$I$5:$J$23,2,FALSE),\"\")","v":""},null,{"$f":"IFERROR(VLOOKUP(後攻T!DV72,記号!$I$27:$J$30,2,FALSE),\"\")","v":""},{"$f":"IFERROR(VLOOKUP(後攻T!DX71,記号!$L$5:$M$21,2,FALSE),\"\")","v":""},{"$f":"IFERROR(VLOOKUP(後攻T!DX73,記号!$F$27:$G$37,2,FALSE),\"\")","v":""},{"$f":"IFERROR(VLOOKUP(後攻T!DW71,記号!$I$5:$J$23,2,FALSE),\"\")","v":""},null,{"$f":"IFERROR(VLOOKUP(後攻T!EH72,記号!$I$27:$J$30,2,FALSE),\"\")","v":""},{"$f":"IFERROR(VLOOKUP(後攻T!EJ71,記号!$I$27:$J$30,2,FALSE),\"\")","v":""},{"$f":"IFERROR(VLOOKUP(後攻T!EJ73,記号!$I$27:$J$30,2,FALSE),\"\")","v":""},{"$f":"IFERROR(VLOOKUP(後攻T!EI71,記号!$I$27:$J$30,2,FALSE),\"\")","v":""},null,{"$f":"IF(K115=\"\",\"\",VLOOKUP(K115,$C$19:$E$24,3,FALSE))","v":""},{"$f":"IF(L115=\"\",\"\",(BX115+CG115+CH115+CI115))","v":""},"",{"$f":"IF(L115=\"\",\"\",COUNTIFS($N$112:$BU$112,L115,$N$117:$BU$117,$BY$68))","v":""},{"$f":"IF(L115=\"\",\"\",COUNTIFS($N$112:$BU$112,L115,$N$117:$BU$117,$BZ$68))","v":""},{"$f":"IF(L115=\"\",\"\",COUNTIFS($N$112:$BU$112,L115,$N$115:$BU$115,$CA$68))","v":""},{"$f":"IF(L115=\"\",\"\",COUNTIFS($N$112:$BU$112,L115,$N$115:$BU$115,$CB$68))","v":""},{"$f":"IF(L115=\"\",\"\",COUNTIFS($N$112:$BU$112,L115,$N$117:$BU$117,$CC$68))","v":""},{"$f":"IF(L115=\"\",\"\",SUMIF($N$112:$BU$112,L115,$N$117:$BU$117))","v":""},{"$f":"IF(L115=\"\",\"\",COUNTIFS($N$112:$BU$112,L115,$N$116:$BU$116,$CE$68))","v":""},{"$f":"IF(L115=\"\",\"\",COUNTIFS($N$112:$BU$112,L115,$N$117:$BU$117,$CF$68))","v":""},{"$f":"IF(L115=\"\",\"\",COUNTIFS($N$112:$BU$112,L115,$N$117:$BU$117,$CG$68))","v":""},{"$f":"IF(L115=\"\",\"\",COUNTIFS($N$112:$BU$112,L115,$N$117:$BU$117,$CH$68))","v":""},{"$f":"IF(L115=\"\",\"\",COUNTIFS($N$112:$BU$112,L115,$N$117:$BU$117,$CI$68))","v":""},{"$f":"IF(L115=\"\",\"\",COUNTIFS($N$112:$BU$112,L115,$N$117:$BU$117,$CJ$68))","v":""},{"$f":"IF(L115=\"\",\"\",COUNTIFS($N$112:$BU$112,L115,$N$117:$BU$117,$CK$68)+COUNTIFS($N$112:$BU$112,L115,$N$115:$BU$115,$CK$68))","v":""},{"$f":"IF(L115=\"\",\"\",COUNTIFS($N$112:$BU$112,L115,$N$117:$BU$117,$CL$68)+COUNTIFS($N$112:$BU$112,L115,$N$115:$BU$115,$CL$68))","v":""},{"$f":"IF(L115=\"\",\"\",COUNTIFS($N$112:$BU$112,L115,$N$117:$BU$117,$CM$68))","v":""},{"$f":"IF(L115=\"\",\"\",COUNTIFS($N$112:$BU$112,L115,$N$117:$BU$117,$CN$68))","v":""},{"$f":"IF(L115=\"\",\"\",COUNTIFS($N$112:$BU$112,L115,$N$113:$BU$113,$CO$68)+COUNTIFS($N$112:$BU$112,L115,$N$114:$BU$114,$CO$68))","v":""},null,"飛中安",null,null,null,null,"A","RR",2,"中",8,"先",null,null,null,"","","","","","","",null,null,null,null,null,null,null,null,null,null,null,null,null,null,null,null,null,{"$f":"IF(L115=\"\",\"\",L115)","v":""},"",{"$f":"IF(EC115=\"\",\"\",COUNTIFS($N$112:$BU$112,EC115,$N$117:$BU$117,\"RZ\"))","v":""},{"$f":"IF(EC115=\"\",\"\",COUNTIFS($N$112:$BU$112,EC115,$N$116:$BU$116,\"ZH\"))","v":""},null,null,null,null,null,null,null,null,null,null,null,null,null,null,null,null,null,null,null,null,null,null,null,null,null,null,null,null,null,null,null,null,null,null,null,null,null,null,null,null,null,null,null,null,null,null,null,null,null,null,null,null,null,null,null,null,null,null,null,null,null,null,null,null,null,null,null,null,null,null,null,null,null,null,null,null,null,null,null,null,null,null,null,null,null,null,null,null,null,null,null,null,"","","","","","","",""]
[null,null,0,null,null,null,null,null,null,{"$f":"IF(L116=\"\",\"\",VLOOKUP(L116,$C$94:$D$123,2,FALSE))","v":""},null,null,null,{"$f":"IF(N112=\"\",\"\",IF(N112=L113+0.2,\"2\",IF(N112=L113+0.3,\"3\",IF(N112=L113+0.4,\"4\",IF(N112=L113+0.5,\"5\",\"先\")))))","v":"先"},{"$f":"IFERROR(VLOOKUP(後攻T!I73,記号!$F$27:$G$37,2,FALSE),\"\")","v":""},{"$f":"IFERROR(VLOOKUP(後攻T!J71,記号!$R$5:$S$10,2,FALSE),\"\")","v":""},{"$f":"IFERROR(VLOOKUP(後攻T!G73,記号!$F$27:$G$37,2,FALSE),\"\")","v":""},{"$f":"IFERROR(VLOOKUP(後攻T!L71,記号!$U$12:$V$13,2,FALSE),\"\")","v":""},{"$f":"IF(S112=\"\",\"\",IF(S112=L113+0.2,\"2\",IF(S112=L113+0.3,\"3\",IF(S112=L113+0.4,\"4\",IF(S112=L113+0.5,\"5\",\"先\")))))","v":"先"},{"$f":"IFERROR(VLOOKUP(後攻T!U73,記号!$F$27:$G$37,2,FALSE),\"\")","v":""},{"$f":"IFERROR(VLOOKUP(後攻T!V71,記号!$R$5:$S$10,2,FALSE),\"\")","v":"Ⅰ"},{"$f":"IFERROR(VLOOKUP(後攻T!S73,記号!$F$27:$G$37,2,FALSE),\"\")","v":""},{"$f":"IFERROR(VLOOKUP(後攻T!X71,記号!$U$12:$V$13,2,FALSE),\"\")","v":""},{"$f":"IF(X112=\"\",\"\",IF(X112=L113+0.2,\"2\",IF(X112=L113+0.3,\"3\",IF(X112=L113+0.4,\"4\",IF(X112=L113+0.5,\"5\",\"先\")))))","v":"先"},{"$f":"IFERROR(VLOOKUP(後攻T!AG73,記号!$F$27:$G$37,2,FALSE),\"\")","v":""},{"$f":"IFERROR(VLOOKUP(後攻T!AH71,記号!$R$5:$S$10,2,FALSE),\"\")","v":""},{"$f":"IFERROR(VLOOKUP(後攻T!AE73,記号!$F$27:$G$37,2,FALSE),\"\")","v":""},{"$f":"IFERROR(VLOOKUP(後攻T!AJ71,記号!$U$12:$V$13,2,FALSE),\"\")","v":""},{"$f":"IF(AC112=\"\",\"\",IF(AC112=L113+0.2,\"2\",IF(AC112=L113+0.3,\"3\",IF(AC112=L113+0.4,\"4\",IF(AC112=L113+0.5,\"5\",\"先\")))))","v":"先"},{"$f":"IFERROR(VLOOKUP(後攻T!AS73,記号!$F$27:$G$37,2,FALSE),\"\")","v":""},{"$f":"IFERROR(VLOOKUP(後攻T!AT71,記号!$R$5:$S$10,2,FALSE),\"\")","v":"○"},{"$f":"IFERROR(VLOOKUP(後攻T!AQ73,記号!$F$27:$G$37,2,FALSE),\"\")","v":""},{"$f":"IFERROR(VLOOKUP(後攻T!AV71,記号!$U$12:$V$13,2,FALSE),\"\")","v":""},{"$f":"IF(AH112=\"\",\"\",IF(AH112=L113+0.2,\"2\",IF(AH112=L113+0.3,\"3\",IF(AH112=L113+0.4,\"4\",IF(AH112=L113+0.5,\"5\",\"先\")))))","v":"先"},{"$f":"IFERROR(VLOOKUP(後攻T!BE73,記号!$F$27:$G$37,2,FALSE),\"\")","v":""},{"$f":"IFERROR(VLOOKUP(後攻T!BF71,記号!$R$5:$S$10,2,FALSE),\"\")","v":"○"},{"$f":"IFERROR(VLOOKUP(後攻T!BC73,記号!$F$27:$G$37,2,FALSE),\"\")","v":""},{"$f":"IFERROR(VLOOKUP(後攻T!BH71,記号!$U$12:$V$13,2,FALSE),\"\")","v":"ZH"},{"$f":"IF(AM112=\"\",\"\",IF(AM112=L113+0.2,\"2\",IF(AM112=L113+0.3,\"3\",IF(AM112=L113+0.4,\"4\",IF(AM112=L113+0.5,\"5\",\"先\")))))","v":"先"},{"$f":"IFERROR(VLOOKUP(後攻T!BQ73,記号!$F$27:$G$37,2,FALSE),\"\")","v":""},{"$f":"IFERROR(VLOOKUP(後攻T!BR71,記号!$R$5:$S$10,2,FALSE),\"\")","v":""},{"$f":"IFERROR(VLOOKUP(後攻T!BO73,記号!$F$27:$G$37,2,FALSE),\"\")","v":""},{"$f":"IFERROR(VLOOKUP(後攻T!BT71,記号!$U$12:$V$13,2,FALSE),\"\")","v":""},{"$f":"IF(AR112=\"\",\"\",IF(AR112=L113+0.2,\"2\",IF(AR112=L113+0.3,\"3\",IF(AR112=L113+0.4,\"4\",IF(AR112=L113+0.5,\"5\",\"先\")))))","v":"先"},{"$f":"IFERROR(VLOOKUP(後攻T!CC73,記号!$F$27:$G$37,2,FALSE),\"\")","v":""},{"$f":"IFERROR(VLOOKUP(後攻T!CD71,記号!$R$5:$S$10,2,FALSE),\"\")","v":"L"},{"$f":"IFERROR(VLOOKUP(後攻T!CA73,記号!$F$27:$G$37,2,FALSE),\"\")","v":""},{"$f":"IFERROR(VLOOKUP(後攻T!CF71,記号!$U$12:$V$13,2,FALSE),\"\")","v":""},{"$f":"IF(AW112=\"\",\"\",IF(AW112=L113+0.2,\"2\",IF(AW112=L113+0.3,\"3\",IF(AW112=L113+0.4,\"4\",IF(AW112=L113+0.5,\"5\",\"先\")))))","v":"2"},{"$f":"IFERROR(VLOOKUP(後攻T!CO73,記号!$F$27:$G$37,2,FALSE),\"\")","v":""},{"$f":"IFERROR(VLOOKUP(後攻T!CP71,記号!$R$5:$S$10,2,FALSE),\"\")","v":""},{"$f":"IFERROR(VLOOKUP(後攻T!CM73,記号!$F$27:$G$37,2,FALSE),\"\")","v":""},{"$f":"IFERROR(VLOOKUP(後攻T!CR71,記号!$U$12:$V$13,2,FALSE),\"\")","v":""},{"$f":"IF(BB112=\"\",\"\",IF(BB112=L113+0.2,\"2\",IF(BB112=L113+0.3,\"3\",IF(BB112=L113+0.4,\"4\",IF(BB112=L113+0.5,\"5\",\"先\")))))","v":"2"},{"$f":"IFERROR(VLOOKUP(後攻T!DA73,記号!$F$27:$G$37,2,FALSE),\"\")","v":""},{"$f":"IFERROR(VLOOKUP(後攻T!DB71,記号!$R$5:$S$10,2,FALSE),\"\")","v":"Ⅱ"},{"$f":"IFERROR(VLOOKUP(後攻T!CY73,記号!$F$27:$G$37,2,FALSE),\"\")","v":""},{"$f":"IFERROR(VLOOKUP(後攻T!DD71,記号!$U$12:$V$13,2,FALSE),\"\")","v":""},{"$f":"IF(BG112=\"\",\"\",IF(BG112=L113+0.2,\"2\",IF(BG112=L113+0.3,\"3\",IF(BG112=L113+0.4,\"4\",IF(BG112=L113+0.5,\"5\",\"先\")))))","v":"2"},{"$f":"IFERROR(VLOOKUP(後攻T!DM73,記号!$F$27:$G$37,2,FALSE),\"\")","v":""},{"$f":"IFERROR(VLOOKUP(後攻T!DN71,記号!$R$5:$S$10,2,FALSE),\"\")","v":""},{"$f":"IFERROR(VLOOKUP(後攻T!DK73,記号!$F$27:$G$37,2,FALSE),\"\")","v":""},{"$f":"IFERROR(VLOOKUP(後攻T!DP71,記号!$U$12:$V$13,2,FALSE),\"\")","v":""},{"$f":"IF(BL112=\"\",\"\",IF(BL112=L113+0.2,\"2\",IF(BL112=L113+0.3,\"3\",IF(BL112=L113+0.4,\"4\",IF(BL112=L113+0.5,\"5\",\"先\")))))","v":"2"},{"$f":"IFERROR(VLOOKUP(後攻T!DY73,記号!$F$27:$G$37,2,FALSE),\"\")","v":""},{"$f":"IFERROR(VLOOKUP(後攻T!DZ71,記号!$R$5:$S$10,2,FALSE),\"\")","v":""},{"$f":"IFERROR(VLOOKUP(後攻T!DW73,記号!$F$27:$G$37,2,FALSE),\"\")","v":""},{"$f":"IFERROR(VLOOKUP(後攻T!EB71,記号!$U$12:$V$13,2,FALSE),\"\")","v":""},{"$f":"IF(BQ112=\"\",\"\",IF(BQ112=L113+0.2,\"2\",IF(BQ112=L113+0.3,\"3\",IF(BQ112=L113+0.4,\"4\",IF(BQ112=L113+0.5,\"5\",\"先\")))))","v":"2"},{"$f":"IFERROR(VLOOKUP(後攻T!EK73,記号!$F$27:$G$37,2,FALSE),\"\")","v":""},{"$f":"IFERROR(VLOOKUP(後攻T!EL71,記号!$R$5:$S$10,2,FALSE),\"\")","v":""},{"$f":"IFERROR(VLOOKUP(後攻T!EI73,記号!$F$27:$G$37,2,FALSE),\"\")","v":""},{"$f":"IFERROR(VLOOKUP(後攻T!EN71,記号!$U$12:$V$13,2,FALSE),\"\")","v":""},{"$f":"IF(K116=\"\",\"\",VLOOKUP(K116,$C$19:$E$24,3,FALSE))","v":""},{"$f":"IF(L116=\"\",\"\",(BX116+CG116+CH116+CI116))","v":""},"",{"$f":"IF(L116=\"\",\"\",COUNTIFS($N$112:$BU$112,L116,$N$117:$BU$117,$BY$68))","v":""},{"$f":"IF(L116=\"\",\"\",COUNTIFS($N$112:$BU$112,L116,$N$117:$BU$117,$BZ$68))","v":""},{"$f":"IF(L116=\"\",\"\",COUNTIFS($N$112:$BU$112,L116,$N$115:$BU$115,$CA$68))","v":""},{"$f":"IF(L116=\"\",\"\",COUNTIFS($N$112:$BU$112,L116,$N$115:$BU$115,$CB$68))","v":""},{"$f":"IF(L116=\"\",\"\",COUNTIFS($N$112:$BU$112,L116,$N$117:$BU$117,$CC$68))","v":""},{"$f":"IF(L116=\"\",\"\",SUMIF($N$112:$BU$112,L116,$N$117:$BU$117))","v":""},{"$f":"IF(L116=\"\",\"\",COUNTIFS($N$112:$BU$112,L116,$N$116:$BU$116,$CE$68))","v":""},{"$f":"IF(L116=\"\",\"\",COUNTIFS($N$112:$BU$112,L116,$N$117:$BU$117,$CF$68))","v":""},{"$f":"IF(L116=\"\",\"\",COUNTIFS($N$112:$BU$112,L116,$N$117:$BU$117,$CG$68))","v":""},{"$f":"IF(L116=\"\",\"\",COUNTIFS($N$112:$BU$112,L116,$N$117:$BU$117,$CH$68))","v":""},{"$f":"IF(L116=\"\",\"\",COUNTIFS($N$112:$BU$112,L116,$N$117:$BU$117,$CI$68))","v":""},{"$f":"IF(L116=\"\",\"\",COUNTIFS($N$112:$BU$112,L116,$N$117:$BU$117,$CJ$68))","v":""},{"$f":"IF(L116=\"\",\"\",COUNTIFS($N$112:$BU$112,L116,$N$117:$BU$117,$CK$68)+COUNTIFS($N$112:$BU$112,L116,$N$115:$BU$115,$CK$68))","v":""},{"$f":"IF(L116=\"\",\"\",COUNTIFS($N$112:$BU$112,L116,$N$117:$BU$117,$CL$68)+COUNTIFS($N$112:$BU$112,L116,$N$115:$BU$115,$CL$68))","v":""},{"$f":"IF(L116=\"\",\"\",COUNTIFS($N$112:$BU$112,L116,$N$117:$BU$117,$CM$68))","v":""},{"$f":"IF(L116=\"\",\"\",COUNTIFS($N$112:$BU$112,L116,$N$117:$BU$117,$CN$68))","v":""},{"$f":"IF(L116=\"\",\"\",COUNTIFS($N$112:$BU$112,L116,$N$113:$BU$113,$CO$68)+COUNTIFS($N$112:$BU$112,L116,$N$114:$BU$114,$CO$68))","v":""},null,"四球",null,null,null,null,null,"RR",2,null,"","先",null,null,null,null,null,null,null,null,null,null,null,null,null,null,null,null,null,null,null,null,null,null,null,null,null,null,null,{"$f":"IF(L116=\"\",\"\",L116)","v":""},"",{"$f":"IF(EC116=\"\",\"\",COUNTIFS($N$112:$BU$112,EC116,$N$117:$BU$117,\"RZ\"))","v":""},{"$f":"IF(EC116=\"\",\"\",COUNTIFS($N$112:$BU$112,EC116,$N$116:$BU$116,\"ZH\"))","v":""},null,null,null,null,null,null,null,null,null,null,null,null,null,null,null,null,null,null,null,null,null,null,null,null,null,null,null,null,null,null,null,null,null,null,null,null,null,null,null,null,null,null,null,null,null,null,null,null,null,null,null,null,null,null,null,null,null,null,null,null,null,null,null,null,null,null,null,null,null,null,null,null,null,null,null,null,null,null,null,null,null,null,null,null,null,null,null,null,null,null,null,null,"","","","","","","",""]
[null,null,0,null,null,null,null,null,null,{"$f":"IF(L117=\"\",\"\",VLOOKUP(L117,$C$94:$D$123,2,FALSE))","v":""},null,null,null,{"$f":"IFERROR(VLOOKUP(後攻T!K71,記号!$R$15:$S$20,2,FALSE),\"\")","v":""},{"$f":"IFERROR(VLOOKUP(後攻T!I71,記号!$O$5:$P$21,2,FALSE),\"\")","v":""},{"$f":"IFERROR(VLOOKUP(後攻T!F73,記号!$F$27:$G$37,2,FALSE),\"\")","v":""},{"$f":"IFERROR(VLOOKUP(後攻T!F71,記号!$F$5:$G$21,2,FALSE),\"\")","v":""},{"$f":"IFERROR(VLOOKUP(後攻T!L72,記号!$U$5:$V$6,2,FALSE),\"\")","v":""},{"$f":"IFERROR(VLOOKUP(後攻T!W71,記号!$R$15:$S$20,2,FALSE),\"\")","v":""},{"$f":"IFERROR(VLOOKUP(後攻T!U71,記号!$O$5:$P$21,2,FALSE),\"\")","v":""},{"$f":"IFERROR(VLOOKUP(後攻T!R73,記号!$F$27:$G$37,2,FALSE),\"\")","v":"2'"},{"$f":"IFERROR(VLOOKUP(後攻T!R71,記号!$F$5:$G$21,2,FALSE),\"\")","v":"O"},{"$f":"IFERROR(VLOOKUP(後攻T!X72,記号!$U$5:$V$6,2,FALSE),\"\")","v":""},{"$f":"IFERROR(VLOOKUP(後攻T!AI71,記号!$R$15:$S$20,2,FALSE),\"\")","v":""},{"$f":"IFERROR(VLOOKUP(後攻T!AG71,記号!$O$5:$P$21,2,FALSE),\"\")","v":""},{"$f":"IFERROR(VLOOKUP(後攻T!AD73,記号!$F$27:$G$37,2,FALSE),\"\")","v":""},{"$f":"IFERROR(VLOOKUP(後攻T!AD71,記号!$F$5:$G$21,2,FALSE),\"\")","v":""},{"$f":"IFERROR(VLOOKUP(後攻T!AJ72,記号!$U$5:$V$6,2,FALSE),\"\")","v":""},{"$f":"IFERROR(VLOOKUP(後攻T!AU71,記号!$R$15:$S$20,2,FALSE),\"\")","v":""},{"$f":"IFERROR(VLOOKUP(後攻T!AS71,記号!$O$5:$P$21,2,FALSE),\"\")","v":"①"},{"$f":"IFERROR(VLOOKUP(後攻T!AP73,記号!$F$27:$G$37,2,FALSE),\"\")","v":""},{"$f":"IFERROR(VLOOKUP(後攻T!AP71,記号!$F$5:$G$21,2,FALSE),\"\")","v":"B"},{"$f":"IFERROR(VLOOKUP(後攻T!AV72,記号!$U$5:$V$6,2,FALSE),\"\")","v":""},{"$f":"IFERROR(VLOOKUP(後攻T!BG71,記号!$R$15:$S$20,2,FALSE),\"\")","v":1},{"$f":"IFERROR(VLOOKUP(後攻T!BE71,記号!$O$5:$P$21,2,FALSE),\"\")","v":""},{"$f":"IFERROR(VLOOKUP(後攻T!BB73,記号!$F$27:$G$37,2,FALSE),\"\")","v":"8'"},{"$f":"IFERROR(VLOOKUP(後攻T!BB71,記号!$F$5:$G$21,2,FALSE),\"\")","v":"H"},{"$f":"IFERROR(VLOOKUP(後攻T!BH72,記号!$U$5:$V$6,2,FALSE),\"\")","v":"RZ"},{"$f":"IFERROR(VLOOKUP(後攻T!BS71,記号!$R$15:$S$20,2,FALSE),\"\")","v":""},{"$f":"IFERROR(VLOOKUP(後攻T!BQ71,記号!$O$5:$P$21,2,FALSE),\"\")","v":""},{"$f":"IFERROR(VLOOKUP(後攻T!BN73,記号!$F$27:$G$37,2,FALSE),\"\")","v":""},{"$f":"IFERROR(VLOOKUP(後攻T!BN71,記号!$F$5:$G$21,2,FALSE),\"\")","v":""},{"$f":"IFERROR(VLOOKUP(後攻T!BT72,記号!$U$5:$V$6,2,FALSE),\"\")","v":""},{"$f":"IFERROR(VLOOKUP(後攻T!CE71,記号!$R$15:$S$20,2,FALSE),\"\")","v":""},{"$f":"IFERROR(VLOOKUP(後攻T!CC71,記号!$O$5:$P$21,2,FALSE),\"\")","v":""},{"$f":"IFERROR(VLOOKUP(後攻T!BZ73,記号!$F$27:$G$37,2,FALSE),\"\")","v":""},{"$f":"IFERROR(VLOOKUP(後攻T!BZ71,記号!$F$5:$G$21,2,FALSE),\"\")","v":"B"},{"$f":"IFERROR(VLOOKUP(後攻T!CF72,記号!$U$5:$V$6,2,FALSE),\"\")","v":""},{"$f":"IFERROR(VLOOKUP(後攻T!CQ71,記号!$R$15:$S$20,2,FALSE),\"\")","v":""},{"$f":"IFERROR(VLOOKUP(後攻T!CO71,記号!$O$5:$P$21,2,FALSE),\"\")","v":""},{"$f":"IFERROR(VLOOKUP(後攻T!CL73,記号!$F$27:$G$37,2,FALSE),\"\")","v":""},{"$f":"IFERROR(VLOOKUP(後攻T!CL71,記号!$F$5:$G$21,2,FALSE),\"\")","v":""},{"$f":"IFERROR(VLOOKUP(後攻T!CR72,記号!$U$5:$V$6,2,FALSE),\"\")","v":""},{"$f":"IFERROR(VLOOKUP(後攻T!DC71,記号!$R$15:$S$20,2,FALSE),\"\")","v":""},{"$f":"IFERROR(VLOOKUP(後攻T!D71,記号!$O$5:$P$21,2,FALSE),\"\")","v":""},{"$f":"IFERROR(VLOOKUP(後攻T!CX73,記号!$F$27:$G$37,2,FALSE),\"\")","v":""},{"$f":"IFERROR(VLOOKUP(後攻T!CX71,記号!$F$5:$G$21,2,FALSE),\"\")","v":"K'"},{"$f":"IFERROR(VLOOKUP(後攻T!DD72,記号!$U$5:$V$6,2,FALSE),\"\")","v":""},{"$f":"IFERROR(VLOOKUP(後攻T!DO72,記号!$R$15:$S$20,2,FALSE),\"\")","v":""},{"$f":"IFERROR(VLOOKUP(後攻T!DM71,記号!$O$5:$P$21,2,FALSE),\"\")","v":""},{"$f":"IFERROR(VLOOKUP(後攻T!DJ73,記号!$F$27:$G$37,2,FALSE),\"\")","v":""},{"$f":"IFERROR(VLOOKUP(後攻T!DJ71,記号!$F$5:$G$21,2,FALSE),\"\")","v":""},{"$f":"IFERROR(VLOOKUP(後攻T!DP72,記号!$U$5:$V$6,2,FALSE),\"\")","v":""},{"$f":"IFERROR(VLOOKUP(後攻T!EA71,記号!$R$15:$S$20,2,FALSE),\"\")","v":""},{"$f":"IFERROR(VLOOKUP(後攻T!DY71,記号!$O$5:$P$21,2,FALSE),\"\")","v":""},{"$f":"IFERROR(VLOOKUP(後攻T!DV73,記号!$F$27:$G$37,2,FALSE),\"\")","v":""},{"$f":"IFERROR(VLOOKUP(後攻T!DV71,記号!$F$5:$G$21,2,FALSE),\"\")","v":""},{"$f":"IFERROR(VLOOKUP(後攻T!EB72,記号!$U$5:$V$6,2,FALSE),\"\")","v":""},{"$f":"IFERROR(VLOOKUP(後攻T!EM71,記号!$R$15:$S$20,2,FALSE),\"\")","v":""},{"$f":"IFERROR(VLOOKUP(後攻T!EK71,記号!$O$5:$P$21,2,FALSE),\"\")","v":""},{"$f":"IFERROR(VLOOKUP(後攻T!EH73,記号!$F$27:$G$37,2,FALSE),\"\")","v":""},{"$f":"IFERROR(VLOOKUP(後攻T!EH71,記号!$F$5:$G$21,2,FALSE),\"\")","v":""},{"$f":"IFERROR(VLOOKUP(後攻T!EN72,記号!$U$5:$V$6,2,FALSE),\"\")","v":""},{"$f":"IF(K117=\"\",\"\",VLOOKUP(K117,$C$19:$E$24,3,FALSE))","v":""},{"$f":"IF(L117=\"\",\"\",(BX117+CG117+CH117+CI117))","v":""},"",{"$f":"IF(L117=\"\",\"\",COUNTIFS($N$112:$BU$112,L117,$N$117:$BU$117,$BY$68))","v":""},{"$f":"IF(L117=\"\",\"\",COUNTIFS($N$112:$BU$112,L117,$N$117:$BU$117,$BZ$68))","v":""},{"$f":"IF(L117=\"\",\"\",COUNTIFS($N$112:$BU$112,L117,$N$115:$BU$115,$CA$68))","v":""},{"$f":"IF(L117=\"\",\"\",COUNTIFS($N$112:$BU$112,L117,$N$115:$BU$115,$CB$68))","v":""},{"$f":"IF(L117=\"\",\"\",COUNTIFS($N$112:$BU$112,L117,$N$117:$BU$117,$CC$68))","v":""},{"$f":"IF(L117=\"\",\"\",SUMIF($N$112:$BU$112,L117,$N$117:$BU$117))","v":""},{"$f":"IF(L117=\"\",\"\",COUNTIFS($N$112:$BU$112,L117,$N$116:$BU$116,$CE$68))","v":""},{"$f":"IF(L117=\"\",\"\",COUNTIFS($N$112:$BU$112,L117,$N$117:$BU$117,$CF$68))","v":""},{"$f":"IF(L117=\"\",\"\",COUNTIFS($N$112:$BU$112,L117,$N$117:$BU$117,$CG$68))","v":""},{"$f":"IF(L117=\"\",\"\",COUNTIFS($N$112:$BU$112,L117,$N$117:$BU$117,$CH$68))","v":""},{"$f":"IF(L117=\"\",\"\",COUNTIFS($N$112:$BU$112,L117,$N$117:$BU$117,$CI$68))","v":""},{"$f":"IF(L117=\"\",\"\",COUNTIFS($N$112:$BU$112,L117,$N$117:$BU$117,$CJ$68))","v":""},{"$f":"IF(L117=\"\",\"\",COUNTIFS($N$112:$BU$112,L117,$N$117:$BU$117,$CK$68)+COUNTIFS($N$112:$BU$112,L117,$N$115:$BU$115,$CK$68))","v":""},{"$f":"IF(L117=\"\",\"\",COUNTIFS($N$112:$BU$112,L117,$N$117:$BU$117,$CL$68)+COUNTIFS($N$112:$BU$112,L117,$N$115:$BU$115,$CL$68))","v":""},{"$f":"IF(L117=\"\",\"\",COUNTIFS($N$112:$BU$112,L117,$N$117:$BU$117,$CM$68))","v":""},{"$f":"IF(L117=\"\",\"\",COUNTIFS($N$112:$BU$112,L117,$N$117:$BU$117,$CN$68))","v":""},{"$f":"IF(L117=\"\",\"\",COUNTIFS($N$112:$BU$112,L117,$N$113:$BU$113,$CO$68)+COUNTIFS($N$112:$BU$112,L117,$N$114:$BU$114,$CO$68))","v":""},null,"空三振",null,null,null,null,null,"RR",2,null,"",2,null,null,null,null,"T  計",null,null,{"$f":"IF($DG$109=\"\",\"\",SUM(DI109:DI115))","v":17},{"$f":"IF($DG$109=\"\",\"\",SUM(DJ109:DJ115))","v":7},null,null,null,null,null,null,null,null,null,null,null,null,null,null,null,null,null,null,{"$f":"IF(L117=\"\",\"\",L117)","v":""},{"$f":"IF(EC117=\"\",\"\",VLOOKUP(EC117,$C$94:$D$123,2,FALSE))","v":""},{"$f":"IF(EC117=\"\",\"\",COUNTIFS($N$112:$BU$112,EC117,$N$117:$BU$117,\"RZ\"))","v":""},{"$f":"IF(EC117=\"\",\"\",COUNTIFS($N$112:$BU$112,EC117,$N$116:$BU$116,\"ZH\"))","v":""},null,null,null,null,null,null,null,null,null,null,null,null,null,null,null,null,null,null,null,null,null,null,null,null,null,null,null,null,null,null,null,null,null,null,null,null,null,null,null,null,null,null,null,null,null,null,null,null,null,null,null,null,null,null,null,null,null,null,null,null,null,null,null,null,null,null,null,null,null,null,null,null,null,null,null,null,null,null,null,null,null,null,null,null,null,null,null,null,null,null,null,null,"","","","","","","",""]
[null,null,0,null,null,null,null,null,null,null,null,null,"打者背番号を入力➡",{"$f":"後攻T!E74","v":1},{"$f":"N118","v":1},{"$f":"N118","v":1},{"$f":"N118","v":1},{"$f":"N118","v":1},{"$f":"後攻T!Q74","v":1},{"$f":"S118","v":1},{"$f":"S118","v":1},{"$f":"S118","v":1},{"$f":"S118","v":1},{"$f":"後攻T!AC74","v":1},{"$f":"X118","v":1},{"$f":"X118","v":1},{"$f":"X118","v":1},{"$f":"X118","v":1},{"$f":"後攻T!AO74","v":1},{"$f":"AC118","v":1},{"$f":"AC118","v":1},{"$f":"AC118","v":1},{"$f":"AC118","v":1},{"$f":"後攻T!BA74","v":1},{"$f":"AH118","v":1},{"$f":"AH118","v":1},{"$f":"AH118","v":1},{"$f":"AH118","v":1},{"$f":"後攻T!BM74","v":1},{"$f":"AM118","v":1},{"$f":"AM118","v":1},{"$f":"AM118","v":1},{"$f":"AM118","v":1},{"$f":"後攻T!BY74","v":1},{"$f":"AR118","v":1},{"$f":"AR118","v":1},{"$f":"AR118","v":1},{"$f":"AR118","v":1},{"$f":"後攻T!$CK74","v":1.2},{"$f":"AW118","v":1.2},{"$f":"AW118","v":1.2},{"$f":"AW118","v":1.2},{"$f":"AW118","v":1.2},{"$f":"後攻T!CW74","v":1.2},{"$f":"BB118","v":1.2},{"$f":"BB118","v":1.2},{"$f":"BB118","v":1.2},{"$f":"BB118","v":1.2},{"$f":"後攻T!DI74","v":1.2},{"$f":"BG118","v":1.2},{"$f":"BG118","v":1.2},{"$f":"BG118","v":1.2},{"$f":"BG118","v":1.2},{"$f":"後攻T!DU74","v":1.2},{"$f":"BL118","v":1.2},{"$f":"BL118","v":1.2},{"$f":"BL118","v":1.2},{"$f":"BL118","v":1.2},{"$f":"後攻T!EG74","v":1.2},{"$f":"BQ118","v":1.2},{"$f":"BQ118","v":1.2},{"$f":"BQ118","v":1.2},{"$f":"BQ118","v":1.2},null,null,null,null,null,null,null,null,null,null,null,null,null,null,null,null,null,null,null,null,null,null,null,null,null,null,null,null,null,null,null,null,null,null,null,null,null,null,null,null,null,null,null,null,null,null,null,null,null,null,null,null,null,null,null,null,null,null,null,null,null,null,null,null,null,null,null,null,null,null,null,null,null,null,null,null,null,null,null,null,null,null,null,null,null,null,null,null,null,null,null,null,null,null,null,null,null,null,null,null,null,null,null,null,null,null,null,null,null,null,null,null,null,null,null,null,null,null,null,null,null,null,null,null,null,null,null,null,null,null,null,null,null,null,null,null,null,null,null,null,null,null,null,null,null,null,null,null,null,null,null,null,null,null,null,null,""]
[null,null,0,null,null,null,null,null,{"$f":"IF(C78=\"\",\"\",C78)","v":"投"},{"$f":"IF(D78=\"\",\"\",D78)","v":"柿木　蓮"},{"$f":"IF(J119=\"\",\"\",\"先\")","v":"先"},{"$f":"IF(J119=\"\",\"\",F78)","v":1},"⑨",{"$f":"IFERROR(VLOOKUP(後攻T!F76,記号!$B$6:$C$10,2,FALSE),\"\")","v":""},{"$f":"IFERROR(VLOOKUP(後攻T!G76,記号!$B$6:$C$10,2,FALSE),\"\")","v":""},{"$f":"IFERROR(VLOOKUP(後攻T!H76,記号!$B$6:$C$10,2,FALSE),\"\")","v":""},{"$f":"IFERROR(VLOOKUP(後攻T!I76,記号!$B$6:$C$10,2,FALSE),\"\")","v":""},{"$f":"IFERROR(VLOOKUP(後攻T!J76,記号!$B$6:$C$10,2,FALSE),\"\")","v":""},{"$f":"IFERROR(VLOOKUP(後攻T!R76,記号!$B$6:$C$10,2,FALSE),\"\")","v":""},{"$f":"IFERROR(VLOOKUP(後攻T!S76,記号!$B$6:$C$10,2,FALSE),\"\")","v":"・◎"},{"$f":"IFERROR(VLOOKUP(後攻T!T76,記号!$B$6:$C$10,2,FALSE),\"\")","v":""},{"$f":"IFERROR(VLOOKUP(後攻T!U76,記号!$B$6:$C$10,2,FALSE),\"\")","v":""},{"$f":"IFERROR(VLOOKUP(後攻T!V76,記号!$B$6:$C$10,2,FALSE),\"\")","v":""},{"$f":"IFERROR(VLOOKUP(後攻T!AD76,記号!$B$6:$C$10,2,FALSE),\"\")","v":""},{"$f":"IFERROR(VLOOKUP(後攻T!AE76,記号!$B$6:$C$10,2,FALSE),\"\")","v":""},{"$f":"IFERROR(VLOOKUP(後攻T!AF76,記号!$B$6:$C$10,2,FALSE),\"\")","v":""},{"$f":"IFERROR(VLOOKUP(後攻T!AG76,記号!$B$6:$C$10,2,FALSE),\"\")","v":""},{"$f":"IFERROR(VLOOKUP(後攻T!AH76,記号!$B$6:$C$10,2,FALSE),\"\")","v":""},{"$f":"IFERROR(VLOOKUP(後攻T!AP76,記号!$B$6:$C$10,2,FALSE),\"\")","v":"・●"},{"$f":"IFERROR(VLOOKUP(後攻T!AQ76,記号!$B$6:$C$10,2,FALSE),\"\")","v":"・〇"},{"$f":"IFERROR(VLOOKUP(後攻T!AR76,記号!$B$6:$C$10,2,FALSE),\"\")","v":"・△"},{"$f":"IFERROR(VLOOKUP(後攻T!AS76,記号!$B$6:$C$10,2,FALSE),\"\")","v":"・〇"},{"$f":"IFERROR(VLOOKUP(後攻T!AT76,記号!$B$6:$C$10,2,FALSE),\"\")","v":""},{"$f":"IFERROR(VLOOKUP(後攻T!BB76,記号!$B$6:$C$10,2,FALSE),\"\")","v":"・◎"},{"$f":"IFERROR(VLOOKUP(後攻T!BC76,記号!$B$6:$C$10,2,FALSE),\"\")","v":""},{"$f":"IFERROR(VLOOKUP(後攻T!BD76,記号!$B$6:$C$10,2,FALSE),\"\")","v":""},{"$f":"IFERROR(VLOOKUP(後攻T!BE76,記号!$B$6:$C$10,2,FALSE),\"\")","v":""},{"$f":"IFERROR(VLOOKUP(後攻T!BF76,記号!$B$6:$C$10,2,FALSE),\"\")","v":""},{"$f":"IFERROR(VLOOKUP(後攻T!BN76,記号!$B$6:$C$10,2,FALSE),\"\")","v":""},{"$f":"IFERROR(VLOOKUP(後攻T!BO76,記号!$B$6:$C$10,2,FALSE),\"\")","v":""},{"$f":"IFERROR(VLOOKUP(後攻T!BP76,記号!$B$6:$C$10,2,FALSE),\"\")","v":""},{"$f":"IFERROR(VLOOKUP(後攻T!BQ76,記号!$B$6:$C$10,2,FALSE),\"\")","v":""},{"$f":"IFERROR(VLOOKUP(後攻T!BR76,記号!$B$6:$C$10,2,FALSE),\"\")","v":""},{"$f":"IFERROR(VLOOKUP(後攻T!BZ76,記号!$B$6:$C$10,2,FALSE),\"\")","v":"・●"},{"$f":"IFERROR(VLOOKUP(後攻T!CA76,記号!$B$6:$C$10,2,FALSE),\"\")","v":"・●"},{"$f":"IFERROR(VLOOKUP(後攻T!CB76,記号!$B$6:$C$10,2,FALSE),\"\")","v":"・〇"},{"$f":"IFERROR(VLOOKUP(後攻T!CC76,記号!$B$6:$C$10,2,FALSE),\"\")","v":"・◎"},{"$f":"IFERROR(VLOOKUP(後攻T!CD76,記号!$B$6:$C$10,2,FALSE),\"\")","v":""},{"$f":"IFERROR(VLOOKUP(後攻T!CL76,記号!$B$6:$C$10,2,FALSE),\"\")","v":""},{"$f":"IFERROR(VLOOKUP(後攻T!CM76,記号!$B$6:$C$10,2,FALSE),\"\")","v":""},{"$f":"IFERROR(VLOOKUP(後攻T!CN76,記号!$B$6:$C$10,2,FALSE),\"\")","v":""},{"$f":"IFERROR(VLOOKUP(後攻T!CO76,記号!$B$6:$C$10,2,FALSE),\"\")","v":""},{"$f":"IFERROR(VLOOKUP(後攻T!CP76,記号!$B$6:$C$10,2,FALSE),\"\")","v":""},{"$f":"IFERROR(VLOOKUP(後攻T!CX76,記号!$B$6:$C$10,2,FALSE),\"\")","v":"・〇"},{"$f":"IFERROR(VLOOKUP(後攻T!CY76,記号!$B$6:$C$10,2,FALSE),\"\")","v":"・□"},{"$f":"IFERROR(VLOOKUP(後攻T!CZ76,記号!$B$6:$C$10,2,FALSE),\"\")","v":"・〇"},{"$f":"IFERROR(VLOOKUP(後攻T!DA76,記号!$B$6:$C$10,2,FALSE),\"\")","v":""},{"$f":"IFERROR(VLOOKUP(後攻T!DB76,記号!$B$6:$C$10,2,FALSE),\"\")","v":""},{"$f":"IFERROR(VLOOKUP(後攻T!DJ76,記号!$B$6:$C$10,2,FALSE),\"\")","v":""},{"$f":"IFERROR(VLOOKUP(後攻T!DK76,記号!$B$6:$C$10,2,FALSE),\"\")","v":""},{"$f":"IFERROR(VLOOKUP(後攻T!DL76,記号!$B$6:$C$10,2,FALSE),\"\")","v":""},{"$f":"IFERROR(VLOOKUP(後攻T!DM76,記号!$B$6:$C$10,2,FALSE),\"\")","v":""},{"$f":"IFERROR(VLOOKUP(後攻T!DN76,記号!$B$6:$C$10,2,FALSE),\"\")","v":""},{"$f":"IFERROR(VLOOKUP(後攻T!DV76,記号!$B$6:$C$10,2,FALSE),\"\")","v":""},{"$f":"IFERROR(VLOOKUP(後攻T!DW76,記号!$B$6:$C$10,2,FALSE),\"\")","v":""},{"$f":"IFERROR(VLOOKUP(後攻T!DX76,記号!$B$6:$C$10,2,FALSE),\"\")","v":""},{"$f":"IFERROR(VLOOKUP(後攻T!DY76,記号!$B$6:$C$10,2,FALSE),\"\")","v":""},{"$f":"IFERROR(VLOOKUP(後攻T!DZ76,記号!$B$6:$C$10,2,FALSE),\"\")","v":""},{"$f":"IFERROR(VLOOKUP(後攻T!EH76,記号!$B$6:$C$10,2,FALSE),\"\")","v":""},{"$f":"IFERROR(VLOOKUP(後攻T!EI76,記号!$B$6:$C$10,2,FALSE),\"\")","v":""},{"$f":"IFERROR(VLOOKUP(後攻T!EJ76,記号!$B$6:$C$10,2,FALSE),\"\")","v":""},{"$f":"IFERROR(VLOOKUP(後攻T!EK76,記号!$B$6:$C$10,2,FALSE),\"\")","v":""},{"$f":"IFERROR(VLOOKUP(後攻T!EL76,記号!$B$6:$C$10,2,FALSE),\"\")","v":""},{"$f":"IF(K119=\"\",\"\",VLOOKUP(K119,$C$19:$E$24,3,FALSE))","v":"RR"},{"$f":"IF(L119=\"\",\"\",(BX119+CG119+CH119+CI119))","v":4},3,{"$f":"IF(L119=\"\",\"\",COUNTIFS($N$118:$BU$118,L119,$N$123:$BU$123,$BY$68))","v":1},{"$f":"IF(L119=\"\",\"\",COUNTIFS($N$118:$BU$118,L119,$N$123:$BU$123,$BZ$68))","v":0},{"$f":"IF(L119=\"\",\"\",COUNTIFS($N$118:$BU$118,L119,$N$121:$BU$121,$CA$68))","v":0},{"$f":"IF(L119=\"\",\"\",COUNTIFS($N$118:$BU$118,L119,$N$121:$BU$121,$CB$68))","v":0},{"$f":"IF(L119=\"\",\"\",COUNTIFS($N$118:$BU$118,L119,$N$123:$BU$123,$CC$68))","v":0},{"$f":"IF(L119=\"\",\"\",SUMIF($N$118:$BU$118,L119,$N$123:$BU$123))","v":0},{"$f":"IF(L119=\"\",\"\",COUNTIFS($N$118:$BU$118,L119,$N$122:$BU$122,$CE$68))","v":1},{"$f":"IF(L119=\"\",\"\",COUNTIFS($N$118:$BU$118,L119,$N$123:$BU$123,$CF$68))","v":1},{"$f":"IF(L119=\"\",\"\",COUNTIFS($N$118:$BU$118,L119,$N$123:$BU$123,$CG$68))","v":0},{"$f":"IF(L119=\"\",\"\",COUNTIFS($N$118:$BU$118,L119,$N$123:$BU$123,$CH$68))","v":0},{"$f":"IF(L119=\"\",\"\",COUNTIFS($N$118:$BU$118,L119,$N$123:$BU$123,$CI$68))","v":1},{"$f":"IF(L119=\"\",\"\",COUNTIFS($N$118:$BU$118,L119,$N$123:$BU$123,$CJ$68))","v":0},{"$f":"IF(L119=\"\",\"\",COUNTIFS($N$118:$BU$118,L119,$N$123:$BU$123,$CK$68)+COUNTIFS($N$118:$BU$118,L119,$N$121:$BU$121,$CK$68))","v":0},{"$f":"IF(L119=\"\",\"\",COUNTIFS($N$118:$BU$118,L119,$N$123:$BU$123,$CL$68)+COUNTIFS($N$118:$BU$118,L119,$N$121:$BU$121,$CL$68))","v":0},{"$f":"IF(L119=\"\",\"\",COUNTIFS($N$118:$BU$118,L119,$N$123:$BU$123,$CM$68))","v":0},{"$f":"IF(L119=\"\",\"\",COUNTIFS($N$118:$BU$118,L119,$N$123:$BU$123,$CN$68))","v":1},{"$f":"IF(L119=\"\",\"\",COUNTIFS($N$118:$BU$118,L119,$N$119:$BU$119,$CO$68)+COUNTIFS($N$118:$BU$118,L119,$N$120:$BU$120,$CO$68))","v":10},"先","一ゴロ",null,null,null,null,"G",{"$f":"IF(DA119=\"\",\"\",VLOOKUP(DA119,$C$19:$F$24,3,FALSE))","v":"RR"},1,"一",{"$f":"IF(CY119=\"\",\"\",VLOOKUP(CY119,$C$5:$F$14,4,FALSE))","v":5},"先",null,null,null,null,null,null,null,null,null,null,null,null,null,null,null,null,null,null,null,null,null,null,null,null,null,null,null,{"$f":"IF(L119=\"\",\"\",L119)","v":1},{"$f":"IF(EC119=\"\",\"\",VLOOKUP(EC119,$C$94:$D$123,2,FALSE))","v":"柿木　蓮"},{"$f":"IF(EC119=\"\",\"\",COUNTIFS($N$118:$BU$118,EC119,$N$123:$BU$123,\"RZ\"))","v":0},{"$f":"IF(EC119=\"\",\"\",COUNTIFS($N$118:$BU$118,EC119,$N$122:$BU$122,\"ZH\"))","v":0},null,null,null,null,null,null,null,null,null,null,null,null,null,null,null,null,null,null,null,null,null,null,null,null,null,null,null,null,null,null,null,null,null,null,null,null,null,null,null,null,null,null,null,null,null,null,null,null,null,null,null,null,null,null,null,null,null,null,null,null,null,null,null,null,null,null,null,null,null,null,null,null,null,null,null,null,null,null,null,null,null,null,null,null,null,null,null,null,null,null,null,null,"柿木　蓮",1,{"$f":"IF(HU119=\"\",\"\",COUNTIFS($N$118:$BU$118,HV119,$N$119:$BU$119,$HW$68)+COUNTIFS($N$118:$BU$118,HV119,$N$120:$BU$120,$HW$68))","v":10},{"$f":"IF(HU119=\"\",\"\",COUNTIFS($N$118:$BU$118,HV119,$N$119:$BU$119,$HX$68)+COUNTIFS($N$118:$BU$118,HV119,$N$120:$BU$120,$HX$68))","v":3},{"$f":"IF(HU119=\"\",\"\",COUNTIFS($N$118:$BU$118,HV119,$N$119:$BU$119,$HY$68)+COUNTIFS($N$118:$BU$118,HV119,$N$120:$BU$120,$HY$68))","v":3},{"$f":"IF(HU119=\"\",\"\",COUNTIFS($N$118:$BU$118,HV119,$N$119:$BU$119,$HZ$68)+COUNTIFS($N$118:$BU$118,HV119,$N$120:$BU$120,$HZ$68))","v":1},{"$f":"IF(HU119=\"\",\"\",COUNTIFS($N$118:$BU$118,HV119,$N$119:$BU$119,$IA$68)+COUNTIFS($N$118:$BU$118,HV119,$N$120:$BU$120,$IA$68))","v":0},{"$f":"IF(HU119=\"\",\"\",COUNTIFS($N$118:$BU$118,HV119,$N$119:$BU$119,$IB$68)+COUNTIFS($N$118:$BU$118,HV119,$N$120:$BU$120,$IB$68))","v":3}]
[null,null,0,null,null,null,null,null,null,"柿木　蓮",2,1.2,null,{"$f":"IFERROR(VLOOKUP(後攻T!K76,記号!$B$6:$C$10,2,FALSE),\"\")","v":""},{"$f":"IFERROR(VLOOKUP(後攻T!L76,記号!$B$6:$C$10,2,FALSE),\"\")","v":""},{"$f":"IFERROR(VLOOKUP(後攻T!F78,記号!$B$6:$C$10,2,FALSE),\"\")","v":""},{"$f":"IFERROR(VLOOKUP(後攻T!G78,記号!$B$6:$C$10,2,FALSE),\"\")","v":""},{"$f":"IFERROR(VLOOKUP(後攻T!H78,記号!$B$6:$C$10,2,FALSE),\"\")","v":""},{"$f":"IFERROR(VLOOKUP(後攻T!W76,記号!$B$6:$C$10,2,FALSE),\"\")","v":""},{"$f":"IFERROR(VLOOKUP(後攻T!X76,記号!$B$6:$C$10,2,FALSE),\"\")","v":""},{"$f":"IFERROR(VLOOKUP(後攻T!R78,記号!$B$6:$C$10,2,FALSE),\"\")","v":""},{"$f":"IFERROR(VLOOKUP(後攻T!S78,記号!$B$6:$C$10,2,FALSE),\"\")","v":""},{"$f":"IFERROR(VLOOKUP(後攻T!T78,記号!$B$6:$C$10,2,FALSE),\"\")","v":""},{"$f":"IFERROR(VLOOKUP(後攻T!AI76,記号!$B$6:$C$10,2,FALSE),\"\")","v":""},{"$f":"IFERROR(VLOOKUP(後攻T!AJ76,記号!$B$6:$C$10,2,FALSE),\"\")","v":""},{"$f":"IFERROR(VLOOKUP(後攻T!AD78,記号!$B$6:$C$10,2,FALSE),\"\")","v":""},{"$f":"IFERROR(VLOOKUP(後攻T!AE78,記号!$B$6:$C$10,2,FALSE),\"\")","v":""},{"$f":"IFERROR(VLOOKUP(後攻T!AF78,記号!$B$6:$C$10,2,FALSE),\"\")","v":""},{"$f":"IFERROR(VLOOKUP(後攻T!AU76,記号!$B$6:$C$10,2,FALSE),\"\")","v":""},{"$f":"IFERROR(VLOOKUP(後攻T!AV76,記号!$B$6:$C$10,2,FALSE),\"\")","v":""},{"$f":"IFERROR(VLOOKUP(後攻T!AP78,記号!$B$6:$C$10,2,FALSE),\"\")","v":""},{"$f":"IFERROR(VLOOKUP(後攻T!AQ78,記号!$B$6:$C$10,2,FALSE),\"\")","v":""},{"$f":"IFERROR(VLOOKUP(後攻T!AR78,記号!$B$6:$C$10,2,FALSE),\"\")","v":""},{"$f":"IFERROR(VLOOKUP(後攻T!BG76,記号!$B$6:$C$10,2,FALSE),\"\")","v":""},{"$f":"IFERROR(VLOOKUP(後攻T!BH76,記号!$B$6:$C$10,2,FALSE),\"\")","v":""},{"$f":"IFERROR(VLOOKUP(後攻T!BB78,記号!$B$6:$C$10,2,FALSE),\"\")","v":""},{"$f":"IFERROR(VLOOKUP(後攻T!BC78,記号!$B$6:$C$10,2,FALSE),\"\")","v":""},{"$f":"IFERROR(VLOOKUP(後攻T!BD78,記号!$B$6:$C$10,2,FALSE),\"\")","v":""},{"$f":"IFERROR(VLOOKUP(後攻T!BS76,記号!$B$6:$C$10,2,FALSE),\"\")","v":""},{"$f":"IFERROR(VLOOKUP(後攻T!BT76,記号!$B$6:$C$10,2,FALSE),\"\")","v":""},{"$f":"IFERROR(VLOOKUP(後攻T!BN78,記号!$B$6:$C$10,2,FALSE),\"\")","v":""},{"$f":"IFERROR(VLOOKUP(後攻T!BO78,記号!$B$6:$C$10,2,FALSE),\"\")","v":""},{"$f":"IFERROR(VLOOKUP(後攻T!BP78,記号!$B$6:$C$10,2,FALSE),\"\")","v":""},{"$f":"IFERROR(VLOOKUP(後攻T!CE76,記号!$B$6:$C$10,2,FALSE),\"\")","v":""},{"$f":"IFERROR(VLOOKUP(後攻T!CF76,記号!$B$6:$C$10,2,FALSE),\"\")","v":""},{"$f":"IFERROR(VLOOKUP(後攻T!BZ78,記号!$B$6:$C$10,2,FALSE),\"\")","v":""},{"$f":"IFERROR(VLOOKUP(後攻T!CA78,記号!$B$6:$C$10,2,FALSE),\"\")","v":""},{"$f":"IFERROR(VLOOKUP(後攻T!CB78,記号!$B$6:$C$10,2,FALSE),\"\")","v":""},{"$f":"IFERROR(VLOOKUP(後攻T!CQ76,記号!$B$6:$C$10,2,FALSE),\"\")","v":""},{"$f":"IFERROR(VLOOKUP(後攻T!CR76,記号!$B$6:$C$10,2,FALSE),\"\")","v":""},{"$f":"IFERROR(VLOOKUP(後攻T!CL78,記号!$B$6:$C$10,2,FALSE),\"\")","v":""},{"$f":"IFERROR(VLOOKUP(後攻T!CM78,記号!$B$6:$C$10,2,FALSE),\"\")","v":""},{"$f":"IFERROR(VLOOKUP(後攻T!CN78,記号!$B$6:$C$10,2,FALSE),\"\")","v":""},{"$f":"IFERROR(VLOOKUP(後攻T!DC76,記号!$B$6:$C$10,2,FALSE),\"\")","v":""},{"$f":"IFERROR(VLOOKUP(後攻T!DD76,記号!$B$6:$C$10,2,FALSE),\"\")","v":""},{"$f":"IFERROR(VLOOKUP(後攻T!DE78,記号!$B$6:$C$10,2,FALSE),\"\")","v":""},{"$f":"IFERROR(VLOOKUP(後攻T!DF78,記号!$B$6:$C$10,2,FALSE),\"\")","v":""},{"$f":"IFERROR(VLOOKUP(後攻T!DG78,記号!$B$6:$C$10,2,FALSE),\"\")","v":""},{"$f":"IFERROR(VLOOKUP(後攻T!DO76,記号!$B$6:$C$10,2,FALSE),\"\")","v":""},{"$f":"IFERROR(VLOOKUP(後攻T!DP76,記号!$B$6:$C$10,2,FALSE),\"\")","v":""},{"$f":"IFERROR(VLOOKUP(後攻T!DJ78,記号!$B$6:$C$10,2,FALSE),\"\")","v":""},{"$f":"IFERROR(VLOOKUP(後攻T!DK78,記号!$B$6:$C$10,2,FALSE),\"\")","v":""},{"$f":"IFERROR(VLOOKUP(後攻T!DL78,記号!$B$6:$C$10,2,FALSE),\"\")","v":""},{"$f":"IFERROR(VLOOKUP(後攻T!EA76,記号!$B$6:$C$10,2,FALSE),\"\")","v":""},{"$f":"IFERROR(VLOOKUP(後攻T!EB76,記号!$B$6:$C$10,2,FALSE),\"\")","v":""},{"$f":"IFERROR(VLOOKUP(後攻T!DV78,記号!$B$6:$C$10,2,FALSE),\"\")","v":""},{"$f":"IFERROR(VLOOKUP(後攻T!DW78,記号!$B$6:$C$10,2,FALSE),\"\")","v":""},{"$f":"IFERROR(VLOOKUP(後攻T!DX78,記号!$B$6:$C$10,2,FALSE),\"\")","v":""},{"$f":"IFERROR(VLOOKUP(後攻T!EM76,記号!$B$6:$C$10,2,FALSE),\"\")","v":""},{"$f":"IFERROR(VLOOKUP(後攻T!EN76,記号!$B$6:$C$10,2,FALSE),\"\")","v":""},{"$f":"IFERROR(VLOOKUP(後攻T!EH78,記号!$B$6:$C$10,2,FALSE),\"\")","v":""},{"$f":"IFERROR(VLOOKUP(後攻T!EI78,記号!$B$6:$C$10,2,FALSE),\"\")","v":""},{"$f":"IFERROR(VLOOKUP(後攻T!EJ78,記号!$B$6:$C$10,2,FALSE),\"\")","v":""},{"$f":"IF(K120=\"\",\"\",VLOOKUP(K120,$C$19:$E$24,3,FALSE))","v":"RR"},{"$f":"IF(L120=\"\",\"\",(BX120+CG120+CH120+CI120))","v":1},1,{"$f":"IF(L120=\"\",\"\",COUNTIFS($N$118:$BU$118,L120,$N$123:$BU$123,$BY$68))","v":0},{"$f":"IF(L120=\"\",\"\",COUNTIFS($N$118:$BU$118,L120,$N$123:$BU$123,$BZ$68))","v":0},{"$f":"IF(L120=\"\",\"\",COUNTIFS($N$118:$BU$118,L120,$N$121:$BU$121,$CA$68))","v":0},{"$f":"IF(L120=\"\",\"\",COUNTIFS($N$118:$BU$118,L120,$N$121:$BU$121,$CB$68))","v":0},{"$f":"IF(L120=\"\",\"\",COUNTIFS($N$118:$BU$118,L120,$N$123:$BU$123,$CC$68))","v":0},{"$f":"IF(L120=\"\",\"\",SUMIF($N$118:$BU$118,L120,$N$123:$BU$123))","v":0},{"$f":"IF(L120=\"\",\"\",COUNTIFS($N$118:$BU$118,L120,$N$122:$BU$122,$CE$68))","v":0},{"$f":"IF(L120=\"\",\"\",COUNTIFS($N$118:$BU$118,L120,$N$123:$BU$123,$CF$68))","v":1},{"$f":"IF(L120=\"\",\"\",COUNTIFS($N$118:$BU$118,L120,$N$123:$BU$123,$CG$68))","v":0},{"$f":"IF(L120=\"\",\"\",COUNTIFS($N$118:$BU$118,L120,$N$123:$BU$123,$CH$68))","v":0},{"$f":"IF(L120=\"\",\"\",COUNTIFS($N$118:$BU$118,L120,$N$123:$BU$123,$CI$68))","v":0},{"$f":"IF(L120=\"\",\"\",COUNTIFS($N$118:$BU$118,L120,$N$123:$BU$123,$CJ$68))","v":0},{"$f":"IF(L120=\"\",\"\",COUNTIFS($N$118:$BU$118,L120,$N$123:$BU$123,$CK$68)+COUNTIFS($N$118:$BU$118,L120,$N$121:$BU$121,$CK$68))","v":0},{"$f":"IF(L120=\"\",\"\",COUNTIFS($N$118:$BU$118,L120,$N$123:$BU$123,$CL$68)+COUNTIFS($N$118:$BU$118,L120,$N$121:$BU$121,$CL$68))","v":0},{"$f":"IF(L120=\"\",\"\",COUNTIFS($N$118:$BU$118,L120,$N$123:$BU$123,$CM$68))","v":0},{"$f":"IF(L120=\"\",\"\",COUNTIFS($N$118:$BU$118,L120,$N$123:$BU$123,$CN$68))","v":0},{"$f":"IF(L120=\"\",\"\",COUNTIFS($N$118:$BU$118,L120,$N$119:$BU$119,$CO$68)+COUNTIFS($N$118:$BU$118,L120,$N$120:$BU$120,$CO$68))","v":3},2,"見三振",null,null,null,null,null,{"$f":"IF(DA120=\"\",\"\",VLOOKUP(DA120,$C$19:$F$24,3,FALSE))","v":"RR"},1,null,{"$f":"IF(CY120=\"\",\"\",VLOOKUP(CY120,$C$5:$F$14,4,FALSE))","v":""},"先",null,null,null,null,null,null,null,null,null,null,null,null,null,null,null,null,null,null,null,null,null,null,null,null,null,null,null,{"$f":"IF(L120=\"\",\"\",L120)","v":1.2},"柿木　蓮",{"$f":"IF(EC120=\"\",\"\",COUNTIFS($N$118:$BU$118,EC120,$N$123:$BU$123,\"RZ\"))","v":0},{"$f":"IF(EC120=\"\",\"\",COUNTIFS($N$118:$BU$118,EC120,$N$122:$BU$122,\"ZH\"))","v":0},null,null,null,null,null,null,null,null,null,null,null,null,null,null,null,null,null,null,null,null,null,null,null,null,null,null,null,null,null,null,null,null,null,null,null,null,null,null,null,null,null,null,null,null,null,null,null,null,null,null,null,null,null,null,null,null,null,null,null,null,null,null,null,null,null,null,null,null,null,null,null,null,null,null,null,null,null,null,null,null,null,null,null,null,null,null,null,null,null,null,null,null,"柿木　蓮",1.2,{"$f":"IF(HU120=\"\",\"\",COUNTIFS($N$118:$BU$118,HV120,$N$119:$BU$119,$HW$68)+COUNTIFS($N$118:$BU$118,HV120,$N$120:$BU$120,$HW$68))","v":3},{"$f":"IF(HU120=\"\",\"\",COUNTIFS($N$118:$BU$118,HV120,$N$119:$BU$119,$HX$68)+COUNTIFS($N$118:$BU$118,HV120,$N$120:$BU$120,$HX$68))","v":0},{"$f":"IF(HU120=\"\",\"\",COUNTIFS($N$118:$BU$118,HV120,$N$119:$BU$119,$HY$68)+COUNTIFS($N$118:$BU$118,HV120,$N$120:$BU$120,$HY$68))","v":2},{"$f":"IF(HU120=\"\",\"\",COUNTIFS($N$118:$BU$118,HV120,$N$119:$BU$119,$HZ$68)+COUNTIFS($N$118:$BU$118,HV120,$N$120:$BU$120,$HZ$68))","v":0},{"$f":"IF(HU120=\"\",\"\",COUNTIFS($N$118:$BU$118,HV120,$N$119:$BU$119,$IA$68)+COUNTIFS($N$118:$BU$118,HV120,$N$120:$BU$120,$IA$68))","v":1},{"$f":"IF(HU120=\"\",\"\",COUNTIFS($N$118:$BU$118,HV120,$N$119:$BU$119,$IB$68)+COUNTIFS($N$118:$BU$118,HV120,$N$120:$BU$120,$IB$68))","v":0}]
[null,null,0,null,null,null,null,null,null,{"$f":"IF(L121=\"\",\"\",VLOOKUP(L121,$C$94:$D$123,2,FALSE))","v":""},null,null,null,{"$f":"IFERROR(VLOOKUP(後攻T!F81,記号!$I$27:$J$30,2,FALSE),\"\")","v":""},{"$f":"IFERROR(VLOOKUP(後攻T!H80,記号!$L$5:$M$21,2,FALSE),\"\")","v":""},{"$f":"IFERROR(VLOOKUP(後攻T!H82,記号!$F$27:$G$37,2,FALSE),\"\")","v":""},{"$f":"IFERROR(VLOOKUP(後攻T!G80,記号!$I$5:$J$23,2,FALSE),\"\")","v":""},null,{"$f":"IFERROR(VLOOKUP(後攻T!R81,記号!$I$27:$J$30,2,FALSE),\"\")","v":"G"},{"$f":"IFERROR(VLOOKUP(後攻T!T80,記号!$L$5:$M$21,2,FALSE),\"\")","v":""},{"$f":"IFERROR(VLOOKUP(後攻T!T82,記号!$F$27:$G$37,2,FALSE),\"\")","v":""},{"$f":"IFERROR(VLOOKUP(後攻T!S80,記号!$I$5:$J$23,2,FALSE),\"\")","v":""},null,{"$f":"IFERROR(VLOOKUP(後攻T!AD81,記号!$I$27:$J$30,2,FALSE),\"\")","v":""},{"$f":"IFERROR(VLOOKUP(後攻T!AF80,記号!$L$5:$M$21,2,FALSE),\"\")","v":""},{"$f":"IFERROR(VLOOKUP(後攻T!AF82,記号!$F$27:$G$37,2,FALSE),\"\")","v":""},{"$f":"IFERROR(VLOOKUP(後攻T!AE80,記号!$I$5:$J$23,2,FALSE),\"\")","v":""},null,{"$f":"IFERROR(VLOOKUP(後攻T!AP81,記号!$I$27:$J$30,2,FALSE),\"\")","v":""},{"$f":"IFERROR(VLOOKUP(後攻T!AR80,記号!$L$5:$M$21,2,FALSE),\"\")","v":""},{"$f":"IFERROR(VLOOKUP(後攻T!AR82,記号!$F$27:$G$37,2,FALSE),\"\")","v":""},{"$f":"IFERROR(VLOOKUP(後攻T!AQ80,記号!$I$5:$J$23,2,FALSE),\"\")","v":""},null,{"$f":"IFERROR(VLOOKUP(後攻T!BB81,記号!$I$27:$J$30,2,FALSE),\"\")","v":"G"},{"$f":"IFERROR(VLOOKUP(後攻T!BD80,記号!$L$5:$M$21,2,FALSE),\"\")","v":""},{"$f":"IFERROR(VLOOKUP(後攻T!BD82,記号!$F$27:$G$37,2,FALSE),\"\")","v":""},{"$f":"IFERROR(VLOOKUP(後攻T!BO80,記号!$I$5:$J$23,2,FALSE),\"\")","v":""},null,{"$f":"IFERROR(VLOOKUP(後攻T!BN81,記号!$I$27:$J$30,2,FALSE),\"\")","v":""},{"$f":"IFERROR(VLOOKUP(後攻T!BP80,記号!$L$5:$M$21,2,FALSE),\"\")","v":""},{"$f":"IFERROR(VLOOKUP(後攻T!BP82,記号!$F$27:$G$37,2,FALSE),\"\")","v":""},{"$f":"IFERROR(VLOOKUP(後攻T!BO80,記号!$I$5:$J$23,2,FALSE),\"\")","v":""},null,{"$f":"IFERROR(VLOOKUP(後攻T!BZ81,記号!$I$27:$J$30,2,FALSE),\"\")","v":"G"},{"$f":"IFERROR(VLOOKUP(後攻T!CB80,記号!$L$5:$M$21,2,FALSE),\"\")","v":""},{"$f":"IFERROR(VLOOKUP(後攻T!CB82,記号!$F$27:$G$37,2,FALSE),\"\")","v":""},{"$f":"IFERROR(VLOOKUP(後攻T!CA80,記号!$I$5:$J$23,2,FALSE),\"\")","v":""},null,{"$f":"IFERROR(VLOOKUP(後攻T!CL81,記号!$I$27:$J$30,2,FALSE),\"\")","v":""},{"$f":"IFERROR(VLOOKUP(後攻T!CN80,記号!$L$5:$M$21,2,FALSE),\"\")","v":""},{"$f":"IFERROR(VLOOKUP(後攻T!CN82,記号!$F$27:$G$37,2,FALSE),\"\")","v":""},{"$f":"IFERROR(VLOOKUP(後攻T!CM80,記号!$I$5:$J$23,2,FALSE),\"\")","v":""},null,{"$f":"IFERROR(VLOOKUP(後攻T!CX81,記号!$I$27:$J$30,2,FALSE),\"\")","v":""},{"$f":"IFERROR(VLOOKUP(後攻T!CZ80,記号!$L$5:$M$21,2,FALSE),\"\")","v":""},{"$f":"IFERROR(VLOOKUP(後攻T!CZ82,記号!$F$27:$G$37,2,FALSE),\"\")","v":""},{"$f":"IFERROR(VLOOKUP(後攻T!CY80,記号!$I$5:$J$23,2,FALSE),\"\")","v":""},null,{"$f":"IFERROR(VLOOKUP(後攻T!DJ81,記号!$I$27:$J$30,2,FALSE),\"\")","v":""},{"$f":"IFERROR(VLOOKUP(後攻T!DL80,記号!$L$5:$M$21,2,FALSE),\"\")","v":""},{"$f":"IFERROR(VLOOKUP(後攻T!DL82,記号!$F$27:$G$37,2,FALSE),\"\")","v":""},{"$f":"IFERROR(VLOOKUP(後攻T!DK80,記号!$I$5:$J$23,2,FALSE),\"\")","v":""},null,{"$f":"IFERROR(VLOOKUP(後攻T!DV81,記号!$I$27:$J$30,2,FALSE),\"\")","v":""},{"$f":"IFERROR(VLOOKUP(後攻T!DX80,記号!$L$5:$M$21,2,FALSE),\"\")","v":""},{"$f":"IFERROR(VLOOKUP(後攻T!DX82,記号!$F$27:$G$37,2,FALSE),\"\")","v":""},{"$f":"IFERROR(VLOOKUP(後攻T!DW80,記号!$I$5:$J$23,2,FALSE),\"\")","v":""},null,{"$f":"IFERROR(VLOOKUP(後攻T!EH81,記号!$I$27:$J$30,2,FALSE),\"\")","v":""},{"$f":"IFERROR(VLOOKUP(後攻T!EJ80,記号!$I$27:$J$30,2,FALSE),\"\")","v":""},{"$f":"IFERROR(VLOOKUP(後攻T!EJ82,記号!$I$27:$J$30,2,FALSE),\"\")","v":""},{"$f":"IFERROR(VLOOKUP(後攻T!EI80,記号!$I$27:$J$30,2,FALSE),\"\")","v":""},null,{"$f":"IF(K121=\"\",\"\",VLOOKUP(K121,$C$19:$E$24,3,FALSE))","v":""},{"$f":"IF(L121=\"\",\"\",(BX121+CG121+CH121+CI121))","v":""},"",{"$f":"IF(L121=\"\",\"\",COUNTIFS($N$118:$BU$118,L121,$N$123:$BU$123,$BY$68))","v":""},{"$f":"IF(L121=\"\",\"\",COUNTIFS($N$118:$BU$118,L121,$N$123:$BU$123,$BZ$68))","v":""},{"$f":"IF(L121=\"\",\"\",COUNTIFS($N$118:$BU$118,L121,$N$121:$BU$121,$CA$68))","v":""},{"$f":"IF(L121=\"\",\"\",COUNTIFS($N$118:$BU$118,L121,$N$121:$BU$121,$CB$68))","v":""},{"$f":"IF(L121=\"\",\"\",COUNTIFS($N$118:$BU$118,L121,$N$123:$BU$123,$CC$68))","v":""},{"$f":"IF(L121=\"\",\"\",SUMIF($N$118:$BU$118,L121,$N$123:$BU$123))","v":""},{"$f":"IF(L121=\"\",\"\",COUNTIFS($N$118:$BU$118,L121,$N$122:$BU$122,$CE$68))","v":""},{"$f":"IF(L121=\"\",\"\",COUNTIFS($N$118:$BU$118,L121,$N$123:$BU$123,$CF$68))","v":""},{"$f":"IF(L121=\"\",\"\",COUNTIFS($N$118:$BU$118,L121,$N$123:$BU$123,$CG$68))","v":""},{"$f":"IF(L121=\"\",\"\",COUNTIFS($N$118:$BU$118,L121,$N$123:$BU$123,$CH$68))","v":""},{"$f":"IF(L121=\"\",\"\",COUNTIFS($N$118:$BU$118,L121,$N$123:$BU$123,$CI$68))","v":""},{"$f":"IF(L121=\"\",\"\",COUNTIFS($N$118:$BU$118,L121,$N$123:$BU$123,$CJ$68))","v":""},{"$f":"IF(L121=\"\",\"\",COUNTIFS($N$118:$BU$118,L121,$N$123:$BU$123,$CK$68)+COUNTIFS($N$118:$BU$118,L121,$N$121:$BU$121,$CK$68))","v":""},{"$f":"IF(L121=\"\",\"\",COUNTIFS($N$118:$BU$118,L121,$N$123:$BU$123,$CL$68)+COUNTIFS($N$118:$BU$118,L121,$N$121:$BU$121,$CL$68))","v":""},{"$f":"IF(L121=\"\",\"\",COUNTIFS($N$118:$BU$118,L121,$N$123:$BU$123,$CM$68))","v":""},{"$f":"IF(L121=\"\",\"\",COUNTIFS($N$118:$BU$118,L121,$N$123:$BU$123,$CN$68))","v":""},{"$f":"IF(L121=\"\",\"\",COUNTIFS($N$118:$BU$118,L121,$N$119:$BU$119,$CO$68)+COUNTIFS($N$118:$BU$118,L121,$N$120:$BU$120,$CO$68))","v":""},null,"投内野安打",null,null,null,null,"G","RR",1,"投",1,"先",null,null,null,null,null,null,null,null,null,null,null,null,null,null,null,null,null,null,null,null,null,null,null,null,null,null,null,{"$f":"IF(L121=\"\",\"\",L121)","v":""},"",{"$f":"IF(EC121=\"\",\"\",COUNTIFS($N$118:$BU$118,EC121,$N$123:$BU$123,\"RZ\"))","v":""},{"$f":"IF(EC121=\"\",\"\",COUNTIFS($N$118:$BU$118,EC121,$N$122:$BU$122,\"ZH\"))","v":""},null,null,null,null,null,null,null,null,null,null,null,null,null,null,null,null,null,null,null,null,null,null,null,null,null,null,null,null,null,null,null,null,null,null,null,null,null,null,null,null,null,null,null,null,null,null,null,null,null,null,null,null,null,null,null,null,null,null,null,null,null,null,null,null,null,null,null,null,null,null,null,null,null,null,null,null,null,null,null,null,null,null,null,null,null,null,null,null,null,null,null,null,"","","","","","","",""]
[null,null,0,null,null,null,null,null,null,{"$f":"IF(L122=\"\",\"\",VLOOKUP(L122,$C$94:$D$123,2,FALSE))","v":""},null,null,null,{"$f":"IF(N118=\"\",\"\",IF(N118=L119+0.2,\"2\",IF(N118=L119+0.3,\"3\",IF(N118=L119+0.4,\"4\",IF(N118=L119+0.5,\"5\",\"先\")))))","v":"先"},{"$f":"IFERROR(VLOOKUP(後攻T!I82,記号!$F$27:$G$37,2,FALSE),\"\")","v":""},{"$f":"IFERROR(VLOOKUP(後攻T!J80,記号!$R$5:$S$10,2,FALSE),\"\")","v":""},{"$f":"IFERROR(VLOOKUP(後攻T!G82,記号!$F$27:$G$37,2,FALSE),\"\")","v":""},{"$f":"IFERROR(VLOOKUP(後攻T!L80,記号!$U$12:$V$13,2,FALSE),\"\")","v":""},{"$f":"IF(S118=\"\",\"\",IF(S118=L119+0.2,\"2\",IF(S118=L119+0.3,\"3\",IF(S118=L119+0.4,\"4\",IF(S118=L119+0.5,\"5\",\"先\")))))","v":"先"},{"$f":"IFERROR(VLOOKUP(後攻T!U82,記号!$F$27:$G$37,2,FALSE),\"\")","v":""},{"$f":"IFERROR(VLOOKUP(後攻T!V80,記号!$R$5:$S$10,2,FALSE),\"\")","v":"Ⅱ"},{"$f":"IFERROR(VLOOKUP(後攻T!S82,記号!$F$27:$G$37,2,FALSE),\"\")","v":""},{"$f":"IFERROR(VLOOKUP(後攻T!X80,記号!$U$12:$V$13,2,FALSE),\"\")","v":""},{"$f":"IF(X118=\"\",\"\",IF(X118=L119+0.2,\"2\",IF(X118=L119+0.3,\"3\",IF(X118=L119+0.4,\"4\",IF(X118=L119+0.5,\"5\",\"先\")))))","v":"先"},{"$f":"IFERROR(VLOOKUP(後攻T!AG82,記号!$F$27:$G$37,2,FALSE),\"\")","v":""},{"$f":"IFERROR(VLOOKUP(後攻T!AH80,記号!$R$5:$S$10,2,FALSE),\"\")","v":""},{"$f":"IFERROR(VLOOKUP(後攻T!AE82,記号!$F$27:$G$37,2,FALSE),\"\")","v":""},{"$f":"IFERROR(VLOOKUP(後攻T!AJ80,記号!$U$12:$V$13,2,FALSE),\"\")","v":""},{"$f":"IF(AC118=\"\",\"\",IF(AC118=L119+0.2,\"2\",IF(AC118=L119+0.3,\"3\",IF(AC118=L119+0.4,\"4\",IF(AC118=L119+0.5,\"5\",\"先\")))))","v":"先"},{"$f":"IFERROR(VLOOKUP(後攻T!AS82,記号!$F$27:$G$37,2,FALSE),\"\")","v":""},{"$f":"IFERROR(VLOOKUP(後攻T!AT80,記号!$R$5:$S$10,2,FALSE),\"\")","v":"Ⅰ"},{"$f":"IFERROR(VLOOKUP(後攻T!AQ82,記号!$F$27:$G$37,2,FALSE),\"\")","v":""},{"$f":"IFERROR(VLOOKUP(後攻T!AV80,記号!$U$12:$V$13,2,FALSE),\"\")","v":""},{"$f":"IF(AH118=\"\",\"\",IF(AH118=L119+0.2,\"2\",IF(AH118=L119+0.3,\"3\",IF(AH118=L119+0.4,\"4\",IF(AH118=L119+0.5,\"5\",\"先\")))))","v":"先"},{"$f":"IFERROR(VLOOKUP(後攻T!BE82,記号!$F$27:$G$37,2,FALSE),\"\")","v":""},{"$f":"IFERROR(VLOOKUP(後攻T!BF80,記号!$R$5:$S$10,2,FALSE),\"\")","v":"○"},{"$f":"IFERROR(VLOOKUP(後攻T!BC82,記号!$F$27:$G$37,2,FALSE),\"\")","v":""},{"$f":"IFERROR(VLOOKUP(後攻T!BH80,記号!$U$12:$V$13,2,FALSE),\"\")","v":""},{"$f":"IF(AM118=\"\",\"\",IF(AM118=L119+0.2,\"2\",IF(AM118=L119+0.3,\"3\",IF(AM118=L119+0.4,\"4\",IF(AM118=L119+0.5,\"5\",\"先\")))))","v":"先"},{"$f":"IFERROR(VLOOKUP(後攻T!BQ82,記号!$F$27:$G$37,2,FALSE),\"\")","v":""},{"$f":"IFERROR(VLOOKUP(後攻T!BR80,記号!$R$5:$S$10,2,FALSE),\"\")","v":""},{"$f":"IFERROR(VLOOKUP(後攻T!BO82,記号!$F$27:$G$37,2,FALSE),\"\")","v":""},{"$f":"IFERROR(VLOOKUP(後攻T!BT80,記号!$U$12:$V$13,2,FALSE),\"\")","v":""},{"$f":"IF(AR118=\"\",\"\",IF(AR118=L119+0.2,\"2\",IF(AR118=L119+0.3,\"3\",IF(AR118=L119+0.4,\"4\",IF(AR118=L119+0.5,\"5\",\"先\")))))","v":"先"},{"$f":"IFERROR(VLOOKUP(後攻T!CC82,記号!$F$27:$G$37,2,FALSE),\"\")","v":""},{"$f":"IFERROR(VLOOKUP(後攻T!CD80,記号!$R$5:$S$10,2,FALSE),\"\")","v":"Ⅱ"},{"$f":"IFERROR(VLOOKUP(後攻T!CA82,記号!$F$27:$G$37,2,FALSE),\"\")","v":""},{"$f":"IFERROR(VLOOKUP(後攻T!CF80,記号!$U$12:$V$13,2,FALSE),\"\")","v":""},{"$f":"IF(AW118=\"\",\"\",IF(AW118=L119+0.2,\"2\",IF(AW118=L119+0.3,\"3\",IF(AW118=L119+0.4,\"4\",IF(AW118=L119+0.5,\"5\",\"先\")))))","v":"2"},{"$f":"IFERROR(VLOOKUP(後攻T!CO82,記号!$F$27:$G$37,2,FALSE),\"\")","v":""},{"$f":"IFERROR(VLOOKUP(後攻T!CP80,記号!$R$5:$S$10,2,FALSE),\"\")","v":""},{"$f":"IFERROR(VLOOKUP(後攻T!CM82,記号!$F$27:$G$37,2,FALSE),\"\")","v":""},{"$f":"IFERROR(VLOOKUP(後攻T!CR80,記号!$U$12:$V$13,2,FALSE),\"\")","v":""},{"$f":"IF(BB118=\"\",\"\",IF(BB118=L119+0.2,\"2\",IF(BB118=L119+0.3,\"3\",IF(BB118=L119+0.4,\"4\",IF(BB118=L119+0.5,\"5\",\"先\")))))","v":"2"},{"$f":"IFERROR(VLOOKUP(後攻T!DA82,記号!$F$27:$G$37,2,FALSE),\"\")","v":""},{"$f":"IFERROR(VLOOKUP(後攻T!DB80,記号!$R$5:$S$10,2,FALSE),\"\")","v":"Ⅲ"},{"$f":"IFERROR(VLOOKUP(後攻T!CY82,記号!$F$27:$G$37,2,FALSE),\"\")","v":""},{"$f":"IFERROR(VLOOKUP(後攻T!DD80,記号!$U$12:$V$13,2,FALSE),\"\")","v":""},{"$f":"IF(BG118=\"\",\"\",IF(BG118=L119+0.2,\"2\",IF(BG118=L119+0.3,\"3\",IF(BG118=L119+0.4,\"4\",IF(BG118=L119+0.5,\"5\",\"先\")))))","v":"2"},{"$f":"IFERROR(VLOOKUP(後攻T!DM82,記号!$F$27:$G$37,2,FALSE),\"\")","v":""},{"$f":"IFERROR(VLOOKUP(後攻T!DN80,記号!$R$5:$S$10,2,FALSE),\"\")","v":""},{"$f":"IFERROR(VLOOKUP(後攻T!DK82,記号!$F$27:$G$37,2,FALSE),\"\")","v":""},{"$f":"IFERROR(VLOOKUP(後攻T!DP80,記号!$U$12:$V$13,2,FALSE),\"\")","v":""},{"$f":"IF(BL118=\"\",\"\",IF(BL118=L119+0.2,\"2\",IF(BL118=L119+0.3,\"3\",IF(BL118=L119+0.4,\"4\",IF(BL118=L119+0.5,\"5\",\"先\")))))","v":"2"},{"$f":"IFERROR(VLOOKUP(後攻T!DY82,記号!$F$27:$G$37,2,FALSE),\"\")","v":""},{"$f":"IFERROR(VLOOKUP(後攻T!DZ80,記号!$R$5:$S$10,2,FALSE),\"\")","v":""},{"$f":"IFERROR(VLOOKUP(後攻T!DW82,記号!$F$27:$G$37,2,FALSE),\"\")","v":""},{"$f":"IFERROR(VLOOKUP(後攻T!EB80,記号!$U$12:$V$13,2,FALSE),\"\")","v":""},{"$f":"IF(BQ118=\"\",\"\",IF(BQ118=L119+0.2,\"2\",IF(BQ118=L119+0.3,\"3\",IF(BQ118=L119+0.4,\"4\",IF(BQ118=L119+0.5,\"5\",\"先\")))))","v":"2"},{"$f":"IFERROR(VLOOKUP(後攻T!EK82,記号!$F$27:$G$37,2,FALSE),\"\")","v":""},{"$f":"IFERROR(VLOOKUP(後攻T!EL80,記号!$R$5:$S$10,2,FALSE),\"\")","v":""},{"$f":"IFERROR(VLOOKUP(後攻T!EI82,記号!$F$27:$G$37,2,FALSE),\"\")","v":""},{"$f":"IFERROR(VLOOKUP(後攻T!EN80,記号!$U$12:$V$13,2,FALSE),\"\")","v":""},{"$f":"IF(K122=\"\",\"\",VLOOKUP(K122,$C$19:$E$24,3,FALSE))","v":""},{"$f":"IF(L122=\"\",\"\",(BX122+CG122+CH122+CI122))","v":""},"",{"$f":"IF(L122=\"\",\"\",COUNTIFS($N$118:$BU$118,L122,$N$123:$BU$123,$BY$68))","v":""},{"$f":"IF(L122=\"\",\"\",COUNTIFS($N$118:$BU$118,L122,$N$123:$BU$123,$BZ$68))","v":""},{"$f":"IF(L122=\"\",\"\",COUNTIFS($N$118:$BU$118,L122,$N$121:$BU$121,$CA$68))","v":""},{"$f":"IF(L122=\"\",\"\",COUNTIFS($N$118:$BU$118,L122,$N$121:$BU$121,$CB$68))","v":""},{"$f":"IF(L122=\"\",\"\",COUNTIFS($N$118:$BU$118,L122,$N$123:$BU$123,$CC$68))","v":""},{"$f":"IF(L122=\"\",\"\",SUMIF($N$118:$BU$118,L122,$N$123:$BU$123))","v":""},{"$f":"IF(L122=\"\",\"\",COUNTIFS($N$118:$BU$118,L122,$N$122:$BU$122,$CE$68))","v":""},{"$f":"IF(L122=\"\",\"\",COUNTIFS($N$118:$BU$118,L122,$N$123:$BU$123,$CF$68))","v":""},{"$f":"IF(L122=\"\",\"\",COUNTIFS($N$118:$BU$118,L122,$N$123:$BU$123,$CG$68))","v":""},{"$f":"IF(L122=\"\",\"\",COUNTIFS($N$118:$BU$118,L122,$N$123:$BU$123,$CH$68))","v":""},{"$f":"IF(L122=\"\",\"\",COUNTIFS($N$118:$BU$118,L122,$N$123:$BU$123,$CI$68))","v":""},{"$f":"IF(L122=\"\",\"\",COUNTIFS($N$118:$BU$118,L122,$N$123:$BU$123,$CJ$68))","v":""},{"$f":"IF(L122=\"\",\"\",COUNTIFS($N$118:$BU$118,L122,$N$123:$BU$123,$CK$68)+COUNTIFS($N$118:$BU$118,L122,$N$121:$BU$121,$CK$68))","v":""},{"$f":"IF(L122=\"\",\"\",COUNTIFS($N$118:$BU$118,L122,$N$123:$BU$123,$CL$68)+COUNTIFS($N$118:$BU$118,L122,$N$121:$BU$121,$CL$68))","v":""},{"$f":"IF(L122=\"\",\"\",COUNTIFS($N$118:$BU$118,L122,$N$123:$BU$123,$CM$68))","v":""},{"$f":"IF(L122=\"\",\"\",COUNTIFS($N$118:$BU$118,L122,$N$123:$BU$123,$CN$68))","v":""},{"$f":"IF(L122=\"\",\"\",COUNTIFS($N$118:$BU$118,L122,$N$119:$BU$119,$CO$68)+COUNTIFS($N$118:$BU$118,L122,$N$120:$BU$120,$CO$68))","v":""},null,"一犠",null,null,null,null,"G","RR",1,"一",5,"先",null,null,null,null,null,null,null,null,null,null,null,null,null,null,null,null,null,null,null,null,null,null,null,null,null,null,null,{"$f":"IF(L122=\"\",\"\",L122)","v":""},"",{"$f":"IF(EC122=\"\",\"\",COUNTIFS($N$118:$BU$118,EC122,$N$123:$BU$123,\"RZ\"))","v":""},{"$f":"IF(EC122=\"\",\"\",COUNTIFS($N$118:$BU$118,EC122,$N$122:$BU$122,\"ZH\"))","v":""},null,null,null,null,null,null,null,null,null,null,null,null,null,null,null,null,null,null,null,null,null,null,null,null,null,null,null,null,null,null,null,null,null,null,null,null,null,null,null,null,null,null,null,null,null,null,null,null,null,null,null,null,null,null,null,null,null,null,null,null,null,null,null,null,null,null,null,null,null,null,null,null,null,null,null,null,null,null,null,null,null,null,null,null,null,null,null,null,null,null,null,null,"","","","","","","",""]
[null,null,0,null,null,null,null,null,null,{"$f":"IF(L123=\"\",\"\",VLOOKUP(L123,$C$94:$D$123,2,FALSE))","v":""},null,null,null,{"$f":"IFERROR(VLOOKUP(後攻T!K80,記号!$R$15:$S$20,2,FALSE),\"\")","v":""},{"$f":"IFERROR(VLOOKUP(後攻T!I80,記号!$O$5:$P$21,2,FALSE),\"\")","v":""},{"$f":"IFERROR(VLOOKUP(後攻T!F82,記号!$F$27:$G$37,2,FALSE),\"\")","v":""},{"$f":"IFERROR(VLOOKUP(後攻T!F80,記号!$F$5:$G$21,2,FALSE),\"\")","v":""},{"$f":"IFERROR(VLOOKUP(後攻T!L81,記号!$U$5:$V$6,2,FALSE),\"\")","v":""},{"$f":"IFERROR(VLOOKUP(後攻T!W80,記号!$R$15:$S$20,2,FALSE),\"\")","v":""},{"$f":"IFERROR(VLOOKUP(後攻T!U80,記号!$O$5:$P$21,2,FALSE),\"\")","v":""},{"$f":"IFERROR(VLOOKUP(後攻T!R82,記号!$F$27:$G$37,2,FALSE),\"\")","v":"3'"},{"$f":"IFERROR(VLOOKUP(後攻T!R80,記号!$F$5:$G$21,2,FALSE),\"\")","v":"O"},{"$f":"IFERROR(VLOOKUP(後攻T!X81,記号!$U$5:$V$6,2,FALSE),\"\")","v":""},{"$f":"IFERROR(VLOOKUP(後攻T!AI80,記号!$R$15:$S$20,2,FALSE),\"\")","v":""},{"$f":"IFERROR(VLOOKUP(後攻T!AG80,記号!$O$5:$P$21,2,FALSE),\"\")","v":""},{"$f":"IFERROR(VLOOKUP(後攻T!AD82,記号!$F$27:$G$37,2,FALSE),\"\")","v":""},{"$f":"IFERROR(VLOOKUP(後攻T!AD80,記号!$F$5:$G$21,2,FALSE),\"\")","v":""},{"$f":"IFERROR(VLOOKUP(後攻T!AJ81,記号!$U$5:$V$6,2,FALSE),\"\")","v":""},{"$f":"IFERROR(VLOOKUP(後攻T!AU80,記号!$R$15:$S$20,2,FALSE),\"\")","v":""},{"$f":"IFERROR(VLOOKUP(後攻T!AS80,記号!$O$5:$P$21,2,FALSE),\"\")","v":""},{"$f":"IFERROR(VLOOKUP(後攻T!AP82,記号!$F$27:$G$37,2,FALSE),\"\")","v":""},{"$f":"IFERROR(VLOOKUP(後攻T!AP80,記号!$F$5:$G$21,2,FALSE),\"\")","v":"K"},{"$f":"IFERROR(VLOOKUP(後攻T!AV81,記号!$U$5:$V$6,2,FALSE),\"\")","v":""},{"$f":"IFERROR(VLOOKUP(後攻T!BG80,記号!$R$15:$S$20,2,FALSE),\"\")","v":""},{"$f":"IFERROR(VLOOKUP(後攻T!BE80,記号!$O$5:$P$21,2,FALSE),\"\")","v":""},{"$f":"IFERROR(VLOOKUP(後攻T!BB82,記号!$F$27:$G$37,2,FALSE),\"\")","v":"3'"},{"$f":"IFERROR(VLOOKUP(後攻T!BB80,記号!$F$5:$G$21,2,FALSE),\"\")","v":"E"},{"$f":"IFERROR(VLOOKUP(後攻T!BH81,記号!$U$5:$V$6,2,FALSE),\"\")","v":""},{"$f":"IFERROR(VLOOKUP(後攻T!BS80,記号!$R$15:$S$20,2,FALSE),\"\")","v":""},{"$f":"IFERROR(VLOOKUP(後攻T!BQ80,記号!$O$5:$P$21,2,FALSE),\"\")","v":""},{"$f":"IFERROR(VLOOKUP(後攻T!BN82,記号!$F$27:$G$37,2,FALSE),\"\")","v":""},{"$f":"IFERROR(VLOOKUP(後攻T!BN80,記号!$F$5:$G$21,2,FALSE),\"\")","v":""},{"$f":"IFERROR(VLOOKUP(後攻T!BT81,記号!$U$5:$V$6,2,FALSE),\"\")","v":""},{"$f":"IFERROR(VLOOKUP(後攻T!CE80,記号!$R$15:$S$20,2,FALSE),\"\")","v":""},{"$f":"IFERROR(VLOOKUP(後攻T!CC80,記号!$O$5:$P$21,2,FALSE),\"\")","v":""},{"$f":"IFERROR(VLOOKUP(後攻T!BZ82,記号!$F$27:$G$37,2,FALSE),\"\")","v":"3'"},{"$f":"IFERROR(VLOOKUP(後攻T!BZ80,記号!$F$5:$G$21,2,FALSE),\"\")","v":"G"},{"$f":"IFERROR(VLOOKUP(後攻T!CF81,記号!$U$5:$V$6,2,FALSE),\"\")","v":""},{"$f":"IFERROR(VLOOKUP(後攻T!CQ80,記号!$R$15:$S$20,2,FALSE),\"\")","v":""},{"$f":"IFERROR(VLOOKUP(後攻T!CO80,記号!$O$5:$P$21,2,FALSE),\"\")","v":""},{"$f":"IFERROR(VLOOKUP(後攻T!CL82,記号!$F$27:$G$37,2,FALSE),\"\")","v":""},{"$f":"IFERROR(VLOOKUP(後攻T!CL80,記号!$F$5:$G$21,2,FALSE),\"\")","v":""},{"$f":"IFERROR(VLOOKUP(後攻T!CR81,記号!$U$5:$V$6,2,FALSE),\"\")","v":""},{"$f":"IFERROR(VLOOKUP(後攻T!DC80,記号!$R$15:$S$20,2,FALSE),\"\")","v":""},{"$f":"IFERROR(VLOOKUP(後攻T!DA80,記号!$O$5:$P$21,2,FALSE),\"\")","v":""},{"$f":"IFERROR(VLOOKUP(後攻T!CX82,記号!$F$27:$G$37,2,FALSE),\"\")","v":""},{"$f":"IFERROR(VLOOKUP(後攻T!CX80,記号!$F$5:$G$21,2,FALSE),\"\")","v":"K"},{"$f":"IFERROR(VLOOKUP(後攻T!DD81,記号!$U$5:$V$6,2,FALSE),\"\")","v":""},{"$f":"IFERROR(VLOOKUP(後攻T!DO80,記号!$R$15:$S$20,2,FALSE),\"\")","v":""},{"$f":"IFERROR(VLOOKUP(後攻T!DM80,記号!$O$5:$P$21,2,FALSE),\"\")","v":""},{"$f":"IFERROR(VLOOKUP(後攻T!DJ82,記号!$F$27:$G$37,2,FALSE),\"\")","v":""},{"$f":"IFERROR(VLOOKUP(後攻T!DJ80,記号!$F$5:$G$21,2,FALSE),\"\")","v":""},{"$f":"IFERROR(VLOOKUP(後攻T!DP81,記号!$U$5:$V$6,2,FALSE),\"\")","v":""},{"$f":"IFERROR(VLOOKUP(後攻T!EA80,記号!$R$15:$S$20,2,FALSE),\"\")","v":""},{"$f":"IFERROR(VLOOKUP(後攻T!DY80,記号!$O$5:$P$21,2,FALSE),\"\")","v":""},{"$f":"IFERROR(VLOOKUP(後攻T!DV82,記号!$F$27:$G$37,2,FALSE),\"\")","v":""},{"$f":"IFERROR(VLOOKUP(後攻T!DV80,記号!$F$5:$G$21,2,FALSE),\"\")","v":""},{"$f":"IFERROR(VLOOKUP(後攻T!EB81,記号!$U$5:$V$6,2,FALSE),\"\")","v":""},{"$f":"IFERROR(VLOOKUP(後攻T!EM80,記号!$R$15:$S$20,2,FALSE),\"\")","v":""},{"$f":"IFERROR(VLOOKUP(後攻T!EK80,記号!$O$5:$P$21,2,FALSE),\"\")","v":""},{"$f":"IFERROR(VLOOKUP(後攻T!EH82,記号!$F$27:$G$37,2,FALSE),\"\")","v":""},{"$f":"IFERROR(VLOOKUP(後攻T!EH80,記号!$F$5:$G$21,2,FALSE),\"\")","v":""},{"$f":"IFERROR(VLOOKUP(後攻T!EN81,記号!$U$5:$V$6,2,FALSE),\"\")","v":""},{"$f":"IF(K123=\"\",\"\",VLOOKUP(K123,$C$19:$E$24,3,FALSE))","v":""},{"$f":"IF(L123=\"\",\"\",(BX123+CG123+CH123+CI123))","v":""},"",{"$f":"IF(L123=\"\",\"\",COUNTIFS($N$118:$BU$118,L123,$N$123:$BU$123,$BY$68))","v":""},{"$f":"IF(L123=\"\",\"\",COUNTIFS($N$118:$BU$118,L123,$N$123:$BU$123,$BZ$68))","v":""},{"$f":"IF(L123=\"\",\"\",COUNTIFS($N$118:$BU$118,L123,$N$121:$BU$121,$CA$68))","v":""},{"$f":"IF(L123=\"\",\"\",COUNTIFS($N$118:$BU$118,L123,$N$121:$BU$121,$CB$68))","v":""},{"$f":"IF(L123=\"\",\"\",COUNTIFS($N$118:$BU$118,L123,$N$123:$BU$123,$CC$68))","v":""},{"$f":"IF(L123=\"\",\"\",SUMIF($N$118:$BU$118,L123,$N$123:$BU$123))","v":""},{"$f":"IF(L123=\"\",\"\",COUNTIFS($N$118:$BU$118,L123,$N$122:$BU$122,$CE$68))","v":""},{"$f":"IF(L123=\"\",\"\",COUNTIFS($N$118:$BU$118,L123,$N$123:$BU$123,$CF$68))","v":""},{"$f":"IF(L123=\"\",\"\",COUNTIFS($N$118:$BU$118,L123,$N$123:$BU$123,$CG$68))","v":""},{"$f":"IF(L123=\"\",\"\",COUNTIFS($N$118:$BU$118,L123,$N$123:$BU$123,$CH$68))","v":""},{"$f":"IF(L123=\"\",\"\",COUNTIFS($N$118:$BU$118,L123,$N$123:$BU$123,$CI$68))","v":""},{"$f":"IF(L123=\"\",\"\",COUNTIFS($N$118:$BU$118,L123,$N$123:$BU$123,$CJ$68))","v":""},{"$f":"IF(L123=\"\",\"\",COUNTIFS($N$118:$BU$118,L123,$N$123:$BU$123,$CK$68)+COUNTIFS($N$118:$BU$118,L123,$N$121:$BU$121,$CK$68))","v":""},{"$f":"IF(L123=\"\",\"\",COUNTIFS($N$118:$BU$118,L123,$N$123:$BU$123,$CL$68)+COUNTIFS($N$118:$BU$118,L123,$N$121:$BU$121,$CL$68))","v":""},{"$f":"IF(L123=\"\",\"\",COUNTIFS($N$118:$BU$118,L123,$N$123:$BU$123,$CM$68))","v":""},{"$f":"IF(L123=\"\",\"\",COUNTIFS($N$118:$BU$118,L123,$N$123:$BU$123,$CN$68))","v":""},{"$f":"IF(L123=\"\",\"\",COUNTIFS($N$118:$BU$118,L123,$N$119:$BU$119,$CO$68)+COUNTIFS($N$118:$BU$118,L123,$N$120:$BU$120,$CO$68))","v":""},null,"見三振",null,null,null,null,null,"RR",1,null,"",2,null,null,null,null,null,null,null,null,null,null,null,null,null,null,null,null,null,null,null,null,null,null,null,null,null,null,null,{"$f":"IF(L123=\"\",\"\",L123)","v":""},"",{"$f":"IF(EC123=\"\",\"\",COUNTIFS($N$118:$BU$118,EC123,$N$123:$BU$123,\"RZ\"))","v":""},{"$f":"IF(EC123=\"\",\"\",COUNTIFS($N$118:$BU$118,EC123,$N$122:$BU$122,\"ZH\"))","v":""},null,null,null,null,null,null,null,null,null,null,null,null,null,null,null,null,null,null,null,null,null,null,null,null,null,null,null,null,null,null,null,null,null,null,null,null,null,null,null,null,null,null,null,null,null,null,null,null,null,null,null,null,null,null,null,null,null,null,null,null,null,null,null,null,null,null,null,null,null,null,null,null,null,null,null,null,null,null,null,null,null,null,null,null,null,null,null,null,null,null,null,null,"","","","","","","",""]

{"sheet":"打席リンク","index":5,"n_rows":26,"n_cols":52,"rows_kept":26,"cut":false,"hidden":false,"merged":[[3,49,3,51],[3,16,3,18],[3,19,3,21],[3,22,3,24],[3,25,3,27],[3,28,3,30],[3,31,3,33],[3,34,3,36],[3,37,3,39],[3,40,3,42],[3,43,3,45],[3,46,3,48],[4,49,4,51],[4,16,4,18],[4,19,4,21],[4,22,4,24],[4,25,4,27],[4,28,4,30],[4,31,4,33],[4,34,4,36],[4,37,4,39],[4,40,4,42],[4,43,4,45],[4,46,4,48],[15,37,15,39],[15,40,15,42],[15,43,15,45],[15,46,15,48],[5,15,13,15],[15,16,15,18],[15,19,15,21],[15,22,15,24],[15,25,15,27],[15,28,15,30],[16,43,16,45],[16,46,16,48],[16,49,16,51],[17,15,25,15],[15,49,15,51],[16,16,16,18],[16,19,16,21],[16,22,16,24],[16,25,16,27],[16,28,16,30],[16,31,16,33],[16,34,16,36],[16,37,16,39],[16,40,16,42],[15,31,15,33],[15,34,15,36]]}
[]
[null,null,1,2,3,4,5,6,7,8,9,10,11,12,"計"]
[null,{"$f":"score!J63","v":"金足農業"},{"$f":"score!N63","v":0},{"$f":"score!S63","v":0},{"$f":"score!X63","v":1},{"$f":"score!AC63","v":0},{"$f":"score!AH63","v":0},{"$f":"score!AM63","v":0},{"$f":"score!AR63","v":1},{"$f":"score!AW63","v":0},{"$f":"score!BB63","v":0},{"$f":"score!BG63","v":""},{"$f":"score!BL63","v":""},{"$f":"score!BQ63","v":""},{"$f":"score!BV63","v":2}]
[null,{"$f":"score!J64","v":"大阪桐蔭"},{"$f":"score!N64","v":3},{"$f":"score!S64","v":0},{"$f":"score!X64","v":0},{"$f":"score!AC64","v":3},{"$f":"score!AH64","v":6},{"$f":"score!AM64","v":0},{"$f":"score!AR64","v":1},{"$f":"score!AW64","v":0},{"$f":"score!BB64","v":0},{"$f":"score!BG64","v":""},{"$f":"score!BL64","v":""},{"$f":"score!BQ64","v":""},{"$f":"score!BV64","v":13}]
[null,null,null,null,null,null,null,null,null,null,null,null,null,null,null,null,{"$f":"score!N4","v":1},null,null,{"$f":"score!S4","v":2},null,null,{"$f":"score!X4","v":3},null,null,{"$f":"score!AC4","v":4},null,null,{"$f":"score!AH4","v":5},null,null,{"$f":"score!AM4","v":6},null,null,{"$f":"score!AR4","v":7},null,null,{"$f":"score!AW4","v":8},null,null,{"$f":"score!BB4","v":9},null,null,{"$f":"score!BG4","v":10},null,null,{"$f":"score!BL4","v":11},null,null,{"$f":"score!BQ4","v":12}]
[null,null,null,null,null,null,null,null,null,null,null,null,null,null,1,"先攻",{"$f":"$Q$5*10+O6","v":11},{"$f":"IF(Q6=$E$9,\"〇\",\"\")","v":""},{"$f":"HYPERLINK(\"#先攻T!B2:L10\",\" 1 番\")","v":" 1 番"},{"$f":"$T$5*10+O6","v":21},{"$f":"IF(T6=$E$9,\"〇\",\"\")","v":""},{"$f":"HYPERLINK(\"#先攻T!N2:X10\",\" 1 番\")","v":" 1 番"},{"$f":"$W$5*10+O6","v":31},{"$f":"IF(W6=$E$9,\"〇\",\"\")","v":""},{"$f":"HYPERLINK(\"#先攻T!Z2:AJ10\",\" 1 番\")","v":" 1 番"},{"$f":"$Z$5*10+O6","v":41},{"$f":"IF(Z6=$E$9,\"〇\",\"\")","v":""},{"$f":"HYPERLINK(\"#先攻T!AL2:AV10\",\" 1 番\")","v":" 1 番"},{"$f":"$AC$5*10+O6","v":51},{"$f":"IF(AC6=$E$9,\"〇\",\"\")","v":""},{"$f":"HYPERLINK(\"#先攻T!AX2:BH10\",\" 1 番\")","v":" 1 番"},{"$f":"$AF$5*10+O6","v":61},{"$f":"IF(AF6=$E$9,\"〇\",\"\")","v":""},{"$f":"HYPERLINK(\"#先攻T!BJ2:BT10\",\" 1 番\")","v":" 1 番"},{"$f":"$AI$5*10+O6","v":71},{"$f":"IF(AI6=$E$9,\"〇\",\"\")","v":""},{"$f":"HYPERLINK(\"#先攻T!BV2:CF10\",\" 1 番\")","v":" 1 番"},{"$f":"$AL$5*10+O6","v":81},{"$f":"IF(AL6=$E$9,\"〇\",\"\")","v":""},{"$f":"HYPERLINK(\"#先攻T!CH2:CR10\",\" 1 番\")","v":" 1 番"},{"$f":"$AO$5*10+O6","v":91},{"$f":"IF(AO6=$E$9,\"〇\",\"\")","v":""},{"$f":"HYPERLINK(\"#先攻T!CT2:DD10\",\" 1 番\")","v":" 1 番"},{"$f":"$AR$5*10+O6","v":101},{"$f":"IF(AR6=$E$9,\"〇\",\"\")","v":""},{"$f":"HYPERLINK(\"#先攻T!DF2:DP10\",\" 1 番\")","v":" 1 番"},{"$f":"$AU$5*10+O6","v":111},{"$f":"IF(AU6=$E$9,\"〇\",\"\")","v":""},{"$f":"HYPERLINK(\"#先攻T!DR2:EB10\",\" 1 番\")","v":" 1 番"},{"$f":"$AX$5*10+O6","v":121},{"$f":"IF(AX6=$E$9,\"〇\",\"\")","v":""},{"$f":"HYPERLINK(\"#先攻T!ED2:EN10\",\" 1 番\")","v":" 1 番"}]
[null,null,null,null,null,null,null,null,null,null,null,null,null,null,2,null,{"$f":"$Q$5*10+O7","v":12},{"$f":"IF(Q7=$E$9,\"〇\",\"\")","v":""},{"$f":"HYPERLINK(\"#先攻T!B11:L19\",\" 2番\")","v":" 2番"},{"$f":"$T$5*10+O7","v":22},{"$f":"IF(T7=$E$9,\"〇\",\"\")","v":""},{"$f":"HYPERLINK(\"#先攻T!N11:X19\",\" 2番\")","v":" 2番"},{"$f":"$W$5*10+O7","v":32},{"$f":"IF(W7=$E$9,\"〇\",\"\")","v":""},{"$f":"HYPERLINK(\"#先攻T!Z11:AJ19\",\" 2番\")","v":" 2番"},{"$f":"$Z$5*10+O7","v":42},{"$f":"IF(Z7=$E$9,\"〇\",\"\")","v":""},{"$f":"HYPERLINK(\"#先攻T!AL11:AV19\",\" 2番\")","v":" 2番"},{"$f":"$AC$5*10+O7","v":52},{"$f":"IF(AC7=$E$9,\"〇\",\"\")","v":""},{"$f":"HYPERLINK(\"#先攻T!AX11:BH19\",\" 2番\")","v":" 2番"},{"$f":"$AF$5*10+O7","v":62},{"$f":"IF(AF7=$E$9,\"〇\",\"\")","v":""},{"$f":"HYPERLINK(\"#先攻T!BJ11:BT19\",\" 2番\")","v":" 2番"},{"$f":"$AI$5*10+O7","v":72},{"$f":"IF(AI7=$E$9,\"〇\",\"\")","v":""},{"$f":"HYPERLINK(\"#先攻T!BV11:CF19\",\" 2番\")","v":" 2番"},{"$f":"$AL$5*10+O7","v":82},{"$f":"IF(AL7=$E$9,\"〇\",\"\")","v":""},{"$f":"HYPERLINK(\"#先攻T!CH11:CR19\",\" 2番\")","v":" 2番"},{"$f":"$AO$5*10+O7","v":92},{"$f":"IF(AO7=$E$9,\"〇\",\"\")","v":""},{"$f":"HYPERLINK(\"#先攻T!CT11:DD19\",\" 2番\")","v":" 2番"},{"$f":"$AR$5*10+O7","v":102},{"$f":"IF(AR7=$E$9,\"〇\",\"\")","v":""},{"$f":"HYPERLINK(\"#先攻T!DF11:DP19\",\" 2番\")","v":" 2番"},{"$f":"$AU$5*10+O7","v":112},{"$f":"IF(AU7=$E$9,\"〇\",\"\")","v":""},{"$f":"HYPERLINK(\"#先攻T!DR11:EB19\",\" 2番\")","v":" 2番"},{"$f":"$AX$5*10+O7","v":122},{"$f":"IF(AX7=$E$9,\"〇\",\"\")","v":""},{"$f":"HYPERLINK(\"#先攻T!ED11:EN19\",\" 2番\")","v":" 2番"}]
[null,null,"回","番",null,null,null,null,null,null,null,null,null,null,3,null,{"$f":"$Q$5*10+O8","v":13},"",{"$f":"HYPERLINK(\"#先攻T!B20:L28\",\" 3番\")","v":" 3番"},23,"",{"$f":"HYPERLINK(\"#先攻T!N20:X28\",\" 3番\")","v":" 3番"},33,"",{"$f":"HYPERLINK(\"#先攻T!Z20:AJ28\",\" 3番\")","v":" 3番"},43,"",{"$f":"HYPERLINK(\"#先攻T!AL20:AV28\",\" 3番\")","v":" 3番"},53,"",{"$f":"HYPERLINK(\"#先攻T!AX20:BH28\",\" 3番\")","v":" 3番"},63,"",{"$f":"HYPERLINK(\"#先攻T!BJ20:BT28\",\" 3番\")","v":" 3番"},73,"",{"$f":"HYPERLINK(\"#先攻T!BV20:CF28\",\" 3番\")","v":" 3番"},83,"",{"$f":"HYPERLINK(\"#先攻T!CH20:CR28\",\" 3番\")","v":" 3番"},93,"",{"$f":"HYPERLINK(\"#先攻T!CT20:DD28\",\" 3番\")","v":" 3番"},103,"",{"$f":"HYPERLINK(\"#先攻T!DF20:DP28\",\" 3番\")","v":" 3番"},113,"",{"$f":"HYPERLINK(\"#先攻T!DR20:EB28\",\" 3番\")","v":" 3番"},123,"",{"$f":"HYPERLINK(\"#先攻T!ED20:EN28\",\" 3番\")","v":" 3番"}]
[null,"次回どの選手？",2,4,{"$f":"C9*10+D9","v":24},null,null,null,null,null,null,null,null,null,4,null,14,"",{"$f":"HYPERLINK(\"#先攻T!B29:L37\",\" 4番\")","v":" 4番"},24,"〇",{"$f":"HYPERLINK(\"#先攻T!N29:X37\",\" 4番\")","v":" 4番"},34,"",{"$f":"HYPERLINK(\"#先攻T!Z29:AJ37\",\" 4番\")","v":" 4番"},44,"",{"$f":"HYPERLINK(\"#先攻T!AL29:AV37\",\" 4番\")","v":" 4番"},54,"",{"$f":"HYPERLINK(\"#先攻T!AX29:BH37\",\" 4番\")","v":" 4番"},64,"",{"$f":"HYPERLINK(\"#先攻T!BJ29:BT37\",\" 4番\")","v":" 4番"},74,"",{"$f":"HYPERLINK(\"#先攻T!BV29:CF37\",\" 4番\")","v":" 4番"},84,"",{"$f":"HYPERLINK(\"#先攻T!CH29:CR37\",\" 4番\")","v":" 4番"},94,"",{"$f":"HYPERLINK(\"#先攻T!CT29:DD37\",\" 4番\")","v":" 4番"},104,"",{"$f":"HYPERLINK(\"#先攻T!DF29:DP37\",\" 4番\")","v":" 4番"},114,"",{"$f":"HYPERLINK(\"#先攻T!DR29:EB37\",\" 4番\")","v":" 4番"},124,"",{"$f":"HYPERLINK(\"#先攻T!ED29:EN37\",\" 4番\")","v":" 4番"}]
[null,null,null,null,null,null,null,null,null,null,null,null,null,null,5,null,15,"",{"$f":"HYPERLINK(\"#先攻T!B38:L46\",\" 5番\")","v":" 5番"},25,"",{"$f":"HYPERLINK(\"#先攻T!N38:X46\",\" 5番\")","v":" 5番"},35,"",{"$f":"HYPERLINK(\"#先攻T!Z38:AJ46\",\" 5番\")","v":" 5番"},45,"",{"$f":"HYPERLINK(\"#先攻T!AL38:AV46\",\" 5番\")","v":" 5番"},55,"",{"$f":"HYPERLINK(\"#先攻T!AX38:BH46\",\" 5番\")","v":" 5番"},65,"",{"$f":"HYPERLINK(\"#先攻T!BJ38:BT46\",\" 5番\")","v":" 5番"},75,"",{"$f":"HYPERLINK(\"#先攻T!BV38:CF46\",\" 5番\")","v":" 5番"},85,"",{"$f":"HYPERLINK(\"#先攻T!CH38:CR46\",\" 5番\")","v":" 5番"},95,"",{"$f":"HYPERLINK(\"#先攻T!CT38:DD46\",\" 5番\")","v":" 5番"},105,"",{"$f":"HYPERLINK(\"#先攻T!DF38:DP46\",\" 5番\")","v":" 5番"},115,"",{"$f":"HYPERLINK(\"#先攻T!DR38:EB46\",\" 5番\")","v":" 5番"},125,"",{"$f":"HYPERLINK(\"#先攻T!ED38:EN46\",\" 5番\")","v":" 5番"}]
[null,null,null,null,null,null,null,null,null,null,null,null,null,null,6,null,16,"",{"$f":"HYPERLINK(\"#先攻T!B47:L55\",\" 6番\")","v":" 6番"},26,"",{"$f":"HYPERLINK(\"#先攻T!N47:X55\",\" 6番\")","v":" 6番"},36,"",{"$f":"HYPERLINK(\"#先攻T!Z47:AJ55\",\" 6番\")","v":" 6番"},46,"",{"$f":"HYPERLINK(\"#先攻T!AL47:AV55\",\" 6番\")","v":" 6番"},56,"",{"$f":"HYPERLINK(\"#先攻T!AX47:BH55\",\" 6番\")","v":" 6番"},66,"",{"$f":"HYPERLINK(\"#先攻T!BJ47:BT55\",\" 6番\")","v":" 6番"},76,"",{"$f":"HYPERLINK(\"#先攻T!BV47:CF55\",\" 6番\")","v":" 6番"},86,"",{"$f":"HYPERLINK(\"#先攻T!CH47:CR55\",\" 6番\")","v":" 6番"},96,"",{"$f":"HYPERLINK(\"#先攻T!CT47:DD55\",\" 6番\")","v":" 6番"},106,"",{"$f":"HYPERLINK(\"#先攻T!DF47:DP55\",\" 6番\")","v":" 6番"},116,"",{"$f":"HYPERLINK(\"#先攻T!DR47:EB55\",\" 6番\")","v":" 6番"},126,"",{"$f":"HYPERLINK(\"#先攻T!ED47:EN55\",\" 6番\")","v":" 6番"}]
[null,null,null,null,null,null,null,null,null,null,null,null,null,null,7,null,17,"",{"$f":"HYPERLINK(\"#先攻T!B56:64\",\" 7番\")","v":" 7番"},27,"",{"$f":"HYPERLINK(\"#先攻T!N56:X64\",\" 7番\")","v":" 7番"},37,"",{"$f":"HYPERLINK(\"#先攻T!Z56:AJ64\",\" 7番\")","v":" 7番"},47,"",{"$f":"HYPERLINK(\"#先攻T!AL56:AV64\",\" 7番\")","v":" 7番"},57,"",{"$f":"HYPERLINK(\"#先攻T!AX56:BH64\",\" 7番\")","v":" 7番"},67,"",{"$f":"HYPERLINK(\"#先攻T!BJ56:BT64\",\" 7番\")","v":" 7番"},77,"",{"$f":"HYPERLINK(\"#先攻T!BV56:CF64\",\" 7番\")","v":" 7番"},87,"",{"$f":"HYPERLINK(\"#先攻T!CH56:CR64\",\" 7番\")","v":" 7番"},97,"",{"$f":"HYPERLINK(\"#先攻T!CT56:DD64\",\" 7番\")","v":" 7番"},107,"",{"$f":"HYPERLINK(\"#先攻T!DF56:DP64\",\" 7番\")","v":" 7番"},117,"",{"$f":"HYPERLINK(\"#先攻T!DR56:EB64\",\" 7番\")","v":" 7番"},127,"",{"$f":"HYPERLINK(\"#先攻T!ED56:EN64\",\" 7番\")","v":" 7番"}]
[null,null,null,null,null,null,null,null,null,null,null,null,null,null,8,null,18,"",{"$f":"HYPERLINK(\"#先攻T!B65:L73\",\" 8番\")","v":" 8番"},28,"",{"$f":"HYPERLINK(\"#先攻T!N65:X73\",\" 8番\")","v":" 8番"},38,"",{"$f":"HYPERLINK(\"#先攻T!Z65:AJ73\",\" 8番\")","v":" 8番"},48,"",{"$f":"HYPERLINK(\"#先攻T!AL65:AV73\",\" 8番\")","v":" 8番"},58,"",{"$f":"HYPERLINK(\"#先攻T!AX65:BH73\",\" 8番\")","v":" 8番"},68,"",{"$f":"HYPERLINK(\"#先攻T!BJ65:BT73\",\" 8番\")","v":" 8番"},78,"",{"$f":"HYPERLINK(\"#先攻T!BV65:CF73\",\" 8番\")","v":" 8番"},88,"",{"$f":"HYPERLINK(\"#先攻T!CH65:CR73\",\" 8番\")","v":" 8番"},98,"",{"$f":"HYPERLINK(\"#先攻T!CT65:DD73\",\" 8番\")","v":" 8番"},108,{"$f":"IF(AR13=$E$9,\"〇\",\"\")","v":""},{"$f":"HYPERLINK(\"#先攻T!DF65:DP73\",\" 8番\")","v":" 8番"},118,"",{"$f":"HYPERLINK(\"#先攻T!DR65:EB73\",\" 8番\")","v":" 8番"},128,"",{"$f":"HYPERLINK(\"#先攻T!ED65:EN73\",\" 8番\")","v":" 8番"}]
[null,null,null,null,null,null,null,null,null,null,null,null,null,null,9,null,19,"",{"$f":"HYPERLINK(\"#先攻T!B74:L82\",\" 9番\")","v":" 9番"},29,"",{"$f":"HYPERLINK(\"#先攻T!N74:X82\",\" 9番\")","v":" 9番"},39,"",{"$f":"HYPERLINK(\"#先攻T!Z74:AJ82\",\" 9番\")","v":" 9番"},49,"",{"$f":"HYPERLINK(\"#先攻T!AL74:AV82\",\" 9番\")","v":" 9番"},59,"",{"$f":"HYPERLINK(\"#先攻T!AX74:BH82\",\" 9番\")","v":" 9番"},69,"",{"$f":"HYPERLINK(\"#先攻T!BJ74:BT82\",\" 9番\")","v":" 9番"},79,"",{"$f":"HYPERLINK(\"#先攻T!BV74:CF82\",\" 9番\")","v":" 9番"},89,"",{"$f":"HYPERLINK(\"#先攻T!CH74:CR82\",\" 9番\")","v":" 9番"},99,"",{"$f":"HYPERLINK(\"#先攻T!CT74:DD82\",\" 9番\")","v":" 9番"},109,"",{"$f":"HYPERLINK(\"#先攻T!DF74:DP82\",\" 9番\")","v":" 9番"},119,"",{"$f":"HYPERLINK(\"#先攻T!DR74:EB82\",\" 9番\")","v":" 9番"},129,"",{"$f":"HYPERLINK(\"#先攻T!ED74:EN82\",\" 9番\")","v":" 9番"}]
[]
[]
[null,null,null,null,null,null,null,null,null,null,null,null,null,null,null,null,{"$f":"score!N69","v":1},null,null,{"$f":"score!S69","v":2},null,null,{"$f":"score!X69","v":3},null,null,{"$f":"score!AC69","v":4},null,null,{"$f":"score!AH69","v":5},null,null,{"$f":"score!AM69","v":5},null,null,{"$f":"score!AR69","v":6},null,null,{"$f":"score!AW69","v":7},null,null,{"$f":"score!BB69","v":8},null,null,{"$f":"score!BG69","v":9},null,null,{"$f":"score!BL69","v":10},null,null,{"$f":"score!BQ69","v":11}]
[null,null,null,null,null,null,null,null,null,null,null,null,null,null,1,"後攻",{"$f":"$Q$17*10+O18","v":11},{"$f":"IF(Q18=$E$21,\"〇\",\"\")","v":""},{"$f":"HYPERLINK(\"#後攻T!B2:L10\",\" 1 番\")","v":" 1 番"},{"$f":"$T$17*10+O18","v":21},{"$f":"IF(T18=$E$21,\"〇\",\"\")","v":""},{"$f":"HYPERLINK(\"#後攻T!N2:X10\",\" 1 番\")","v":" 1 番"},{"$f":"$W$17*10+O18","v":31},{"$f":"IF(W18=$E$21,\"〇\",\"\")","v":""},{"$f":"HYPERLINK(\"#後攻T!Z2:AJ10\",\" 1 番\")","v":" 1 番"},{"$f":"$Z$17*10+O18","v":41},{"$f":"IF(Z18=$E$21,\"〇\",\"\")","v":""},{"$f":"HYPERLINK(\"#後攻T!AL2:AV10\",\" 1 番\")","v":" 1 番"},{"$f":"$AC$17*10+O18","v":51},{"$f":"IF(AC18=$E$21,\"〇\",\"\")","v":""},{"$f":"HYPERLINK(\"#後攻T!AX2:BH10\",\" 1 番\")","v":" 1 番"},{"$f":"$AF$17*10+O18","v":51},{"$f":"IF(AF18=$E$21,\"〇\",\"\")","v":""},{"$f":"HYPERLINK(\"#後攻T!BJ2:BT10\",\" 1 番\")","v":" 1 番"},{"$f":"$AI$17*10+O18","v":61},{"$f":"IF(AI18=$E$21,\"〇\",\"\")","v":""},{"$f":"HYPERLINK(\"#後攻T!BV2:CF10\",\" 1 番\")","v":" 1 番"},{"$f":"$AL$17*10+O18","v":71},{"$f":"IF(AL18=$E$21,\"〇\",\"\")","v":""},{"$f":"HYPERLINK(\"#後攻T!CH2:CR10\",\" 1 番\")","v":" 1 番"},{"$f":"$AO$17*10+O18","v":81},{"$f":"IF(AO18=$E$21,\"〇\",\"\")","v":""},{"$f":"HYPERLINK(\"#後攻T!CT2:DD10\",\" 1 番\")","v":" 1 番"},{"$f":"$AR$17*10+O18","v":91},{"$f":"IF(AR18=$E$21,\"〇\",\"\")","v":""},{"$f":"HYPERLINK(\"#後攻T!DF2:DP10\",\" 1 番\")","v":" 1 番"},{"$f":"$AU$17*10+O18","v":101},{"$f":"IF(AU18=$E$21,\"〇\",\"\")","v":""},{"$f":"HYPERLINK(\"#後攻T!DR2:EB10\",\" 1 番\")","v":" 1 番"},{"$f":"$AX$17*10+O18","v":111},{"$f":"IF(AX18=$E$21,\"〇\",\"\")","v":""},{"$f":"HYPERLINK(\"#後攻T!ED2:EN10\",\" 1 番\")","v":" 1 番"}]
[null,null,null,null,null,null,null,null,null,null,null,null,null,null,2,null,{"$f":"$Q$17*10+O19","v":12},{"$f":"IF(Q19=$E$21,\"〇\",\"\")","v":""},{"$f":"HYPERLINK(\"#後攻T!B11:L19\",\" 2番\")","v":" 2番"},{"$f":"$T$17*10+O19","v":22},{"$f":"IF(T19=$E$21,\"〇\",\"\")","v":""},{"$f":"HYPERLINK(\"#後攻T!N11:X19\",\" 2番\")","v":" 2番"},{"$f":"$W$17*10+O19","v":32},{"$f":"IF(W19=$E$21,\"〇\",\"\")","v":""},{"$f":"HYPERLINK(\"#後攻T!Z11:AJ19\",\" 2番\")","v":" 2番"},{"$f":"$Z$17*10+O19","v":42},{"$f":"IF(Z19=$E$21,\"〇\",\"\")","v":""},{"$f":"HYPERLINK(\"#後攻T!AL11:AV19\",\" 2番\")","v":" 2番"},{"$f":"$AC$17*10+O19","v":52},{"$f":"IF(AC19=$E$21,\"〇\",\"\")","v":""},{"$f":"HYPERLINK(\"#後攻T!AX11:BH19\",\" 2番\")","v":" 2番"},{"$f":"$AF$17*10+O19","v":52},{"$f":"IF(AF19=$E$21,\"〇\",\"\")","v":""},{"$f":"HYPERLINK(\"#後攻T!BJ11:BT19\",\" 2番\")","v":" 2番"},{"$f":"$AI$17*10+O19","v":62},{"$f":"IF(AI19=$E$21,\"〇\",\"\")","v":""},{"$f":"HYPERLINK(\"#後攻T!BV11:CF19\",\" 2番\")","v":" 2番"},{"$f":"$AL$17*10+O19","v":72},{"$f":"IF(AL19=$E$21,\"〇\",\"\")","v":""},{"$f":"HYPERLINK(\"#後攻T!CH11:CR19\",\" 2番\")","v":" 2番"},{"$f":"$AO$17*10+O19","v":82},{"$f":"IF(AO19=$E$21,\"〇\",\"\")","v":""},{"$f":"HYPERLINK(\"#後攻T!CT11:DD19\",\" 2番\")","v":" 2番"},{"$f":"$AR$17*10+O19","v":92},{"$f":"IF(AR19=$E$21,\"〇\",\"\")","v":""},{"$f":"HYPERLINK(\"#後攻T!DF11:DP19\",\" 2番\")","v":" 2番"},{"$f":"$AU$17*10+O19","v":102},{"$f":"IF(AU19=$E$21,\"〇\",\"\")","v":""},{"$f":"HYPERLINK(\"#後攻T!DR11:EB19\",\" 2番\")","v":" 2番"},{"$f":"$AX$17*10+O19","v":112},{"$f":"IF(AX19=$E$21,\"〇\",\"\")","v":""},{"$f":"HYPERLINK(\"#後攻T!ED11:EN19\",\" 2番\")","v":" 2番"}]
[null,null,"回","番",null,null,null,null,null,null,null,null,null,null,3,null,13,"",{"$f":"HYPERLINK(\"#後攻T!B20:L28\",\" 3番\")","v":" 3番"},23,"",{"$f":"HYPERLINK(\"#後攻T!N20:X28\",\" 3番\")","v":" 3番"},33,"",{"$f":"HYPERLINK(\"#後攻T!Z20:AJ28\",\" 3番\")","v":" 3番"},43,"",{"$f":"HYPERLINK(\"#後攻T!AL20:AV28\",\" 3番\")","v":" 3番"},53,"",{"$f":"HYPERLINK(\"#後攻T!AX20:BH28\",\" 3番\")","v":" 3番"},53,"",{"$f":"HYPERLINK(\"#後攻T!BJ20:BT28\",\" 3番\")","v":" 3番"},63,"",{"$f":"HYPERLINK(\"#後攻T!BV20:CF28\",\" 3番\")","v":" 3番"},73,"",{"$f":"HYPERLINK(\"#後攻T!CH20:CR28\",\" 3番\")","v":" 3番"},83,"",{"$f":"HYPERLINK(\"#後攻T!CT20:DD28\",\" 3番\")","v":" 3番"},93,"",{"$f":"HYPERLINK(\"#後攻T!DF20:DP28\",\" 3番\")","v":" 3番"},103,"",{"$f":"HYPERLINK(\"#後攻T!DR20:EB28\",\" 3番\")","v":" 3番"},113,"",{"$f":"HYPERLINK(\"#後攻T!ED20:EN28\",\" 3番\")","v":" 3番"}]
[null,"次回どの選手？",6,6,{"$f":"C21*10+D21","v":66},null,null,null,null,null,null,null,null,null,4,null,14,"",{"$f":"HYPERLINK(\"#後攻T!B29:L37\",\" 4番\")","v":" 4番"},24,"",{"$f":"HYPERLINK(\"#後攻T!N29:X37\",\" 4番\")","v":" 4番"},34,"",{"$f":"HYPERLINK(\"#後攻T!Z29:AJ37\",\" 4番\")","v":" 4番"},44,"",{"$f":"HYPERLINK(\"#後攻T!AL29:AV37\",\" 4番\")","v":" 4番"},54,"",{"$f":"HYPERLINK(\"#後攻T!AX29:BH37\",\" 4番\")","v":" 4番"},54,"",{"$f":"HYPERLINK(\"#後攻T!BJ29:BT37\",\" 4番\")","v":" 4番"},64,"",{"$f":"HYPERLINK(\"#後攻T!BV29:CF37\",\" 4番\")","v":" 4番"},74,"",{"$f":"HYPERLINK(\"#後攻T!CH29:CR37\",\" 4番\")","v":" 4番"},84,"",{"$f":"HYPERLINK(\"#後攻T!CT29:DD37\",\" 4番\")","v":" 4番"},94,"",{"$f":"HYPERLINK(\"#後攻T!DF29:DP37\",\" 4番\")","v":" 4番"},104,"",{"$f":"HYPERLINK(\"#後攻T!DR29:EB37\",\" 4番\")","v":" 4番"},114,"",{"$f":"HYPERLINK(\"#後攻T!ED29:EN37\",\" 4番\")","v":" 4番"}]
[null,null,null,null,null,null,null,null,null,null,null,null,null,null,5,null,15,"",{"$f":"HYPERLINK(\"#後攻T!B38:L46\",\" 5番\")","v":" 5番"},25,"",{"$f":"HYPERLINK(\"#後攻T!N38:X46\",\" 5番\")","v":" 5番"},35,"",{"$f":"HYPERLINK(\"#後攻T!Z38:AJ46\",\" 5番\")","v":" 5番"},45,"",{"$f":"HYPERLINK(\"#後攻T!AL38:AV46\",\" 5番\")","v":" 5番"},55,"",{"$f":"HYPERLINK(\"#後攻T!AX38:BH46\",\" 5番\")","v":" 5番"},55,"",{"$f":"HYPERLINK(\"#後攻T!BJ38:BT46\",\" 5番\")","v":" 5番"},65,"",{"$f":"HYPERLINK(\"#後攻T!BV38:CF46\",\" 5番\")","v":" 5番"},75,"",{"$f":"HYPERLINK(\"#後攻T!CH38:CR46\",\" 5番\")","v":" 5番"},85,"",{"$f":"HYPERLINK(\"#後攻T!CT38:DD46\",\" 5番\")","v":" 5番"},95,"",{"$f":"HYPERLINK(\"#後攻T!DF38:DP46\",\" 5番\")","v":" 5番"},105,"",{"$f":"HYPERLINK(\"#後攻T!DR38:EB46\",\" 5番\")","v":" 5番"},115,"",{"$f":"HYPERLINK(\"#後攻T!ED38:EN46\",\" 5番\")","v":" 5番"}]
[null,null,null,null,null,null,null,null,null,null,null,null,null,null,6,null,16,"",{"$f":"HYPERLINK(\"#後攻T!B47:L55\",\" 6番\")","v":" 6番"},26,"",{"$f":"HYPERLINK(\"#後攻T!N47:X55\",\" 6番\")","v":" 6番"},36,"",{"$f":"HYPERLINK(\"#後攻T!Z47:AJ55\",\" 6番\")","v":" 6番"},46,"",{"$f":"HYPERLINK(\"#後攻T!AL47:AV55\",\" 6番\")","v":" 6番"},56,"",{"$f":"HYPERLINK(\"#後攻T!AX47:BH55\",\" 6番\")","v":" 6番"},56,"",{"$f":"HYPERLINK(\"#後攻T!BJ47:BT55\",\" 6番\")","v":" 6番"},66,"〇",{"$f":"HYPERLINK(\"#後攻T!BV47:CF55\",\" 6番\")","v":" 6番"},76,"",{"$f":"HYPERLINK(\"#後攻T!CH47:CR55\",\" 6番\")","v":" 6番"},86,"",{"$f":"HYPERLINK(\"#後攻T!CT47:DD55\",\" 6番\")","v":" 6番"},96,"",{"$f":"HYPERLINK(\"#後攻T!DF47:DP55\",\" 6番\")","v":" 6番"},106,"",{"$f":"HYPERLINK(\"#後攻T!DR47:EB55\",\" 6番\")","v":" 6番"},116,"",{"$f":"HYPERLINK(\"#後攻T!ED47:EN55\",\" 6番\")","v":" 6番"}]
[null,null,null,null,null,null,null,null,null,null,null,null,null,null,7,null,17,"",{"$f":"HYPERLINK(\"#後攻T!B56:64\",\" 7番\")","v":" 7番"},27,"",{"$f":"HYPERLINK(\"#後攻T!N56:X64\",\" 7番\")","v":" 7番"},37,"",{"$f":"HYPERLINK(\"#後攻T!Z56:AJ64\",\" 7番\")","v":" 7番"},47,"",{"$f":"HYPERLINK(\"#後攻T!AL56:AV64\",\" 7番\")","v":" 7番"},57,"",{"$f":"HYPERLINK(\"#後攻T!AX56:BH64\",\" 7番\")","v":" 7番"},57,"",{"$f":"HYPERLINK(\"#後攻T!BJ56:BT64\",\" 7番\")","v":" 7番"},67,"",{"$f":"HYPERLINK(\"#後攻T!BV56:CF64\",\" 7番\")","v":" 7番"},77,"",{"$f":"HYPERLINK(\"#後攻T!CH56:CR64\",\" 7番\")","v":" 7番"},87,"",{"$f":"HYPERLINK(\"#後攻T!CT56:DD64\",\" 7番\")","v":" 7番"},97,"",{"$f":"HYPERLINK(\"#後攻T!DF56:DP64\",\" 7番\")","v":" 7番"},107,"",{"$f":"HYPERLINK(\"#後攻T!DR56:EB64\",\" 7番\")","v":" 7番"},117,"",{"$f":"HYPERLINK(\"#後攻T!ED56:EN64\",\" 7番\")","v":" 7番"}]
[null,null,null,null,null,null,null,null,null,null,null,null,null,null,8,null,18,"",{"$f":"HYPERLINK(\"#後攻T!B65:L73\",\" 8番\")","v":" 8番"},28,"",{"$f":"HYPERLINK(\"#後攻T!N65:X73\",\" 8番\")","v":" 8番"},38,"",{"$f":"HYPERLINK(\"#後攻T!Z65:AJ73\",\" 8番\")","v":" 8番"},48,"",{"$f":"HYPERLINK(\"#後攻T!AL65:AV73\",\" 8番\")","v":" 8番"},58,"",{"$f":"HYPERLINK(\"#後攻T!AX65:BH73\",\" 8番\")","v":" 8番"},58,"",{"$f":"HYPERLINK(\"#後攻T!BJ65:BT73\",\" 8番\")","v":" 8番"},68,"",{"$f":"HYPERLINK(\"#後攻T!BV65:CF73\",\" 8番\")","v":" 8番"},78,"",{"$f":"HYPERLINK(\"#後攻T!CH65:CR73\",\" 8番\")","v":" 8番"},88,"",{"$f":"HYPERLINK(\"#後攻T!CT65:DD73\",\" 8番\")","v":" 8番"},98,"",{"$f":"HYPERLINK(\"#後攻T!DF65:DP73\",\" 8番\")","v":" 8番"},108,"",{"$f":"HYPERLINK(\"#後攻T!DR65:EB73\",\" 8番\")","v":" 8番"},118,"",{"$f":"HYPERLINK(\"#後攻T!ED65:EN73\",\" 8番\")","v":" 8番"}]
[null,null,null,null,null,null,null,null,null,null,null,null,null,null,9,null,19,"",{"$f":"HYPERLINK(\"#後攻T!B74:L82\",\" 9番\")","v":" 9番"},29,"",{"$f":"HYPERLINK(\"#後攻T!N74:X82\",\" 9番\")","v":" 9番"},39,"",{"$f":"HYPERLINK(\"#後攻T!Z74:AJ82\",\" 9番\")","v":" 9番"},49,"",{"$f":"HYPERLINK(\"#後攻T!AL74:AV82\",\" 9番\")","v":" 9番"},59,"",{"$f":"HYPERLINK(\"#後攻T!AX74:BH82\",\" 9番\")","v":" 9番"},59,"",{"$f":"HYPERLINK(\"#後攻T!BJ74:BT82\",\" 9番\")","v":" 9番"},69,"",{"$f":"HYPERLINK(\"#後攻T!BV74:CF82\",\" 9番\")","v":" 9番"},79,"",{"$f":"HYPERLINK(\"#後攻T!CH74:CR82\",\" 9番\")","v":" 9番"},89,"",{"$f":"HYPERLINK(\"#後攻T!CT74:DD82\",\" 9番\")","v":" 9番"},99,"",{"$f":"HYPERLINK(\"#後攻T!DF74:DP82\",\" 9番\")","v":" 9番"},109,"",{"$f":"HYPERLINK(\"#後攻T!DR74:EB82\",\" 9番\")","v":" 9番"},119,"",{"$f":"HYPERLINK(\"#後攻T!ED74:EN82\",\" 9番\")","v":" 9番"}]

{"sheet":"先攻T","index":6,"n_rows":82,"n_cols":144,"rows_kept":82,"cut":false,"hidden":false,"merged":[[74,76,77,76],[74,88,77,88],[74,100,77,100],[74,112,77,112],[74,124,77,124],[74,136,77,136],[74,4,77,4],[74,16,77,16],[74,28,77,28],[74,40,77,40],[74,52,77,52],[74,64,77,64],[65,76,68,76],[65,88,68,88],[65,100,68,100],[65,112,68,112],[65,124,68,124],[65,136,68,136],[65,4,68,4],[65,16,68,16],[65,28,68,28],[65,40,68,40],[65,52,68,52],[65,64,68,64],[56,76,59,76],[56,88,59,88],[56,100,59,100],[56,112,59,112],[56,124,59,124],[56,136,59,136],[56,4,59,4],[56,16,59,16],[56,28,59,28],[56,40,59,40],[56,52,59,52],[56,64,59,64],[47,76,50,76],[47,88,50,88],[47,100,50,100],[47,112,50,112],[47,124,50,124],[47,136,50,136],[47,4,50,4],[47,16,50,16],[47,28,50,28],[47,40,50,40],[47,52,50,52],[47,64,50,64],[38,76,41,76],[38,88,41,88],[38,100,41,100],[38,112,41,112],[38,124,41,124],[38,136,41,136],[38,4,41,4],[38,16,41,16],[38,28,41,28],[38,40,41,40],[38,52,41,52],[38,64,41,64],[29,76,32,76],[29,88,32,88],[29,100,32,100],[29,112,32,112],[29,124,32,124],[29,136,32,136],[29,4,32,4],[29,16,32,16],[29,28,32,28],[29,40,32,40],[29,52,32,52],[29,64,32,64],[20,76,23,76],[20,88,23,88],[20,100,23,100],[20,112,23,112],[20,124,23,124],[20,136,23,136],[20,4,23,4],[20,16,23,16],[20,28,23,28],[20,40,23,40],[20,52,23,52],[20,64,23,64],[11,76,14,76],[11,88,14,88],[11,100,14,100],[11,112,14,112],[11,124,14,124],[11,136,14,136],[11,4,14,4],[11,16,14,16],[11,28,14,28],[11,40,14,40],[11,52,14,52],[11,64,14,64],[2,76,5,76],[2,88,5,88],[2,100,5,100],[2,112,5,112],[2,124,5,124],[2,136,5,136],[2,4,5,4],[2,16,5,16],[2,28,5,28],[2,40,5,40],[2,52,5,52],[2,64,5,64]]}
[]
[null,1,"回表","確定:",{"$f":"D4","v":4},"相手T投手:",{"$f":"IF(E2=\"\",\"\",IF(E2=(D4+0.2),\"2\",IF(E2=(D4+0.3),\"3\",IF(E2=(D4+0.4),\"4\",IF(E2=(D4+0.5),\"5\",\"先\")))))","v":"先"},null,null,null,null,null,null,2,"回表","確定:",{"$f":"P4","v":4},"相手T投手:",{"$f":"IF(Q2=\"\",\"\",IF(Q2=(P4+0.2),\"2\",IF(Q2=(P4+0.3),\"3\",IF(Q2=(P4+0.4),\"4\",IF(Q2=(P4+0.5),\"5\",\"先\")))))","v":"先"},null,null,null,null,null,null,{"$f":"N2+1","v":3},"回表","確定:",{"$f":"AB4","v":4},"相手T投手:",{"$f":"IF(AC2=\"\",\"\",IF(AC2=(AB4+0.2),\"2\",IF(AC2=(AB4+0.3),\"3\",IF(AC2=(AB4+0.4),\"4\",IF(AC2=(AB4+0.5),\"5\",\"先\")))))","v":"先"},null,null,null,null,null,null,{"$f":"Z2+1","v":4},"回表","確定:",{"$f":"AN4","v":4},"相手T投手:",{"$f":"IF(AO2=\"\",\"\",IF(AO2=(AN4+0.2),\"2\",IF(AO2=(AN4+0.3),\"3\",IF(AO2=(AN4+0.4),\"4\",IF(AO2=(AN4+0.5),\"5\",\"先\")))))","v":"先"},null,null,null,null,null,null,{"$f":"AL2+1","v":5},"回表","確定:",{"$f":"AO2","v":4},"相手T投手:",{"$f":"IF(BA2=\"\",\"\",IF(BA2=(AZ4+0.2),\"2\",IF(BA2=(AZ4+0.3),\"3\",IF(BA2=(AZ4+0.4),\"4\",IF(BA2=(AZ4+0.5),\"5\",\"先\")))))","v":"先"},null,null,null,null,null,null,{"$f":"AX2+1","v":6},"回表","確定:",{"$f":"BA2","v":4},"相手T投手:",{"$f":"IF(BM2=\"\",\"\",IF(BM2=(BL4+0.2),\"2\",IF(BM2=(BL4+0.3),\"3\",IF(BM2=(BL4+0.4),\"4\",IF(BM2=(BL4+0.5),\"5\",\"先\")))))","v":"先"},null,null,null,null,null,null,{"$f":"BJ2+1","v":7},"回表","確定:",{"$f":"BM2","v":4},"相手T投手:",{"$f":"IF(BY2=\"\",\"\",IF(BY2=(BX4+0.2),\"2\",IF(BY2=(BX4+0.3),\"3\",IF(BY2=(BX4+0.4),\"4\",IF(BY2=(BX4+0.5),\"5\",\"先\")))))","v":"先"},null,null,null,null,null,null,{"$f":"BV2+1","v":8},"回表","確定:",{"$f":"BY2","v":4},"相手T投手:",{"$f":"IF(CK2=\"\",\"\",IF(CK2=(CJ4+0.2),\"2\",IF(CK2=(CJ4+0.3),\"3\",IF(CK2=(CJ4+0.4),\"4\",IF(CK2=(CJ4+0.5),\"5\",\"先\")))))","v":"先"},null,null,null,null,null,null,{"$f":"CH2+1","v":9},"回表","確定:",{"$f":"CK2","v":4},"相手T投手:",{"$f":"IF(CW2=\"\",\"\",IF(CW2=(CV4+0.2),\"2\",IF(CW2=(CV4+0.3),\"3\",IF(CW2=(CV4+0.4),\"4\",IF(CW2=(CV4+0.5),\"5\",\"先\")))))","v":"先"},null,null,null,null,null,null,{"$f":"CT2+1","v":10},"回表","確定:",{"$f":"CW2","v":4},"相手T投手:",{"$f":"IF(DI2=\"\",\"\",IF(DI2=(DH4+0.2),\"2\",IF(DI2=(DH4+0.3),\"3\",IF(DI2=(DH4+0.4),\"4\",IF(DI2=(DH4+0.5),\"5\",\"先\")))))","v":"先"},null,null,null,null,null,null,{"$f":"DF2+1","v":11},"回表","確定:",{"$f":"DI2","v":4},"相手T投手:",{"$f":"IF(DU2=\"\",\"\",IF(DU2=(DT4+0.2),\"2\",IF(DU2=(DT4+0.3),\"3\",IF(DU2=(DT4+0.4),\"4\",IF(DU2=(DT4+0.5),\"5\",\"先\")))))","v":"先"},null,null,null,null,null,null,{"$f":"DR2+1","v":12},"回表","確定:",{"$f":"DU2","v":4},"相手T投手:",{"$f":"IF(EG2=\"\",\"\",IF(EG2=(EF4+0.2),\"2\",IF(EG2=(EF4+0.3),\"3\",IF(EG2=(EF4+0.4),\"4\",IF(EG2=(EF4+0.5),\"5\",\"先\")))))","v":"先"}]
[null,"打順","打者","背番","投球判定","1球目","2球目","3球目","4球目","5球目","6球目","7球目",null,"打順","打者","背番","投球判定","1球目","2球目","3球目","4球目","5球目","6球目","7球目",null,"打順","打者","背番","投球判定","1球目","2球目","3球目","4球目","5球目","6球目","7球目",null,"打順","打者","背番","投球判定","1球目","2球目","3球目","4球目","5球目","6球目","7球目",null,"打順","打者","背番","投球判定","1球目","2球目","3球目","4球目","5球目","6球目","7球目",null,"打順","打者","背番","投球判定","1球目","2球目","3球目","4球目","5球目","6球目","7球目",null,"打順","打者","背番","投球判定","1球目","2球目","3球目","4球目","5球目","6球目","7球目",null,"打順","打者","背番","投球判定","1球目","2球目","3球目","4球目","5球目","6球目","7球目",null,"打順","打者","背番","投球判定","1球目","2球目","3球目","4球目","5球目","6球目","7球目",null,"打順","打者","背番","投球判定","1球目","2球目","3球目","4球目","5球目","6球目","7球目",null,"打順","打者","背番","投球判定","1球目","2球目","3球目","4球目","5球目","6球目","7球目",null,"打順","打者","背番","投球判定","1球目","2球目","3球目","4球目","5球目","6球目","7球目"]
[null,"①",{"$f":"IF(score!$J$6=\"\",\"\",score!$J$6)","v":"菅原　天空"},{"$f":"IF(score!$L$6=\"\",\"\",score!$L$6)","v":4},null,"見逃ストライク","ボール","見逃ストライク","ヒッティング",null,null,null,null,"①",{"$f":"IF(score!$J$6=\"\",\"\",score!$J$6)","v":"菅原　天空"},{"$f":"IF(score!$L$6=\"\",\"\",score!$L$6)","v":4},null,null,null,null,null,null,null,null,null,"①",{"$f":"IF(score!$J$6=\"\",\"\",score!$J$6)","v":"菅原　天空"},{"$f":"IF(score!$L$6=\"\",\"\",score!$L$6)","v":4},null,"ヒッティング",null,null,null,null,null,null,null,"①",{"$f":"IF(score!$J$6=\"\",\"\",score!$J$6)","v":"菅原　天空"},{"$f":"IF(score!$L$6=\"\",\"\",score!$L$6)","v":4},null,null,null,null,null,null,null,null,null,"①",{"$f":"IF(score!$J$6=\"\",\"\",score!$J$6)","v":"菅原　天空"},{"$f":"IF(score!$L$6=\"\",\"\",score!$L$6)","v":4},null,"ヒッティング",null,null,null,null,null,null,null,"①",{"$f":"IF(score!$J$6=\"\",\"\",score!$J$6)","v":"菅原　天空"},{"$f":"IF(score!$L$6=\"\",\"\",score!$L$6)","v":4},null,null,null,null,null,null,null,null,null,"①",{"$f":"IF(score!$J$6=\"\",\"\",score!$J$6)","v":"菅原　天空"},{"$f":"IF(score!$L$6=\"\",\"\",score!$L$6)","v":4},null,"ボール","ボール","空振ストライク","ボール","ヒッティング",null,null,null,"①",{"$f":"IF(score!$J$6=\"\",\"\",score!$J$6)","v":"菅原　天空"},{"$f":"IF(score!$L$6=\"\",\"\",score!$L$6)","v":4},null,null,null,null,null,null,null,null,null,"①",{"$f":"IF(score!$J$6=\"\",\"\",score!$J$6)","v":"菅原　天空"},{"$f":"IF(score!$L$6=\"\",\"\",score!$L$6)","v":4},null,null,null,null,null,null,null,null,null,"①",{"$f":"IF(score!$J$6=\"\",\"\",score!$J$6)","v":"菅原　天空"},{"$f":"IF(score!$L$6=\"\",\"\",score!$L$6)","v":4},null,null,null,null,null,null,null,null,null,"①",{"$f":"IF(score!$J$6=\"\",\"\",score!$J$6)","v":"菅原　天空"},{"$f":"IF(score!$L$6=\"\",\"\",score!$L$6)","v":4},null,null,null,null,null,null,null,null,null,"①",{"$f":"IF(score!$J$6=\"\",\"\",score!$J$6)","v":"菅原　天空"},{"$f":"IF(score!$L$6=\"\",\"\",score!$L$6)","v":4}]
[null,null,{"$f":"IF(score!$J$7=\"\",\"\",score!$J$7)","v":""},{"$f":"IF(score!$L$7=\"\",\"\",score!$L$7)","v":""},null,"8球目","9球目","10球目","11球目","12球目","13球目","14球目",null,null,{"$f":"IF(score!$J$7=\"\",\"\",score!$J$7)","v":""},{"$f":"IF(score!$L$7=\"\",\"\",score!$L$7)","v":""},null,"8球目","9球目","10球目","11球目","12球目","13球目","14球目",null,null,{"$f":"IF(score!$J$7=\"\",\"\",score!$J$7)","v":""},{"$f":"IF(score!$L$7=\"\",\"\",score!$L$7)","v":""},null,"8球目","9球目","10球目","11球目","12球目","13球目","14球目",null,null,{"$f":"IF(score!$J$7=\"\",\"\",score!$J$7)","v":""},{"$f":"IF(score!$L$7=\"\",\"\",score!$L$7)","v":""},null,"8球目","9球目","10球目","11球目","12球目","13球目","14球目",null,null,{"$f":"IF(score!$J$7=\"\",\"\",score!$J$7)","v":""},{"$f":"IF(score!$L$7=\"\",\"\",score!$L$7)","v":""},null,"8球目","9球目","10球目","11球目","12球目","13球目","14球目",null,null,{"$f":"IF(score!$J$7=\"\",\"\",score!$J$7)","v":""},{"$f":"IF(score!$L$7=\"\",\"\",score!$L$7)","v":""},null,"8球目","9球目","10球目","11球目","12球目","13球目","14球目",null,null,{"$f":"IF(score!$J$7=\"\",\"\",score!$J$7)","v":""},{"$f":"IF(score!$L$7=\"\",\"\",score!$L$7)","v":""},null,"8球目","9球目","10球目","11球目","12球目","13球目","14球目",null,null,{"$f":"IF(score!$J$7=\"\",\"\",score!$J$7)","v":""},{"$f":"IF(score!$L$7=\"\",\"\",score!$L$7)","v":""},null,"8球目","9球目","10球目","11球目","12球目","13球目","14球目",null,null,{"$f":"IF(score!$J$7=\"\",\"\",score!$J$7)","v":""},{"$f":"IF(score!$L$7=\"\",\"\",score!$L$7)","v":""},null,"8球目","9球目","10球目","11球目","12球目","13球目","14球目",null,null,{"$f":"IF(score!$J$7=\"\",\"\",score!$J$7)","v":""},{"$f":"IF(score!$L$7=\"\",\"\",score!$L$7)","v":""},null,"8球目","9球目","10球目","11球目","12球目","13球目","14球目",null,null,{"$f":"IF(score!$J$7=\"\",\"\",score!$J$7)","v":""},{"$f":"IF(score!$L$7=\"\",\"\",score!$L$7)","v":""},null,"8球目","9球目","10球目","11球目","12球目","13球目","14球目",null,null,{"$f":"IF(score!$J$7=\"\",\"\",score!$J$7)","v":""},{"$f":"IF(score!$L$7=\"\",\"\",score!$L$7)","v":""},null,"8球目","9球目","10球目","11球目","12球目","13球目","14球目"]
[null,null,{"$f":"IF(score!$J$8=\"\",\"\",score!$J$8)","v":""},{"$f":"IF(score!$L$8=\"\",\"\",score!$L$8)","v":""},null,null,null,null,null,null,null,null,null,null,{"$f":"IF(score!$J$8=\"\",\"\",score!$J$8)","v":""},{"$f":"IF(score!$L$8=\"\",\"\",score!$L$8)","v":""},null,null,null,null,null,null,null,null,null,null,{"$f":"IF(score!$J$8=\"\",\"\",score!$J$8)","v":""},{"$f":"IF(score!$L$8=\"\",\"\",score!$L$8)","v":""},null,null,null,null,null,null,null,null,null,null,{"$f":"IF(score!$J$8=\"\",\"\",score!$J$8)","v":""},{"$f":"IF(score!$L$8=\"\",\"\",score!$L$8)","v":""},null,null,null,null,null,null,null,null,null,null,{"$f":"IF(score!$J$8=\"\",\"\",score!$J$8)","v":""},{"$f":"IF(score!$L$8=\"\",\"\",score!$L$8)","v":""},null,null,null,null,null,null,null,null,null,null,{"$f":"IF(score!$J$8=\"\",\"\",score!$J$8)","v":""},{"$f":"IF(score!$L$8=\"\",\"\",score!$L$8)","v":""},null,null,null,null,null,null,null,null,null,null,{"$f":"IF(score!$J$8=\"\",\"\",score!$J$8)","v":""},{"$f":"IF(score!$L$8=\"\",\"\",score!$L$8)","v":""},null,null,null,null,null,null,null,null,null,null,{"$f":"IF(score!$J$8=\"\",\"\",score!$J$8)","v":""},{"$f":"IF(score!$L$8=\"\",\"\",score!$L$8)","v":""},null,null,null,null,null,null,null,null,null,null,{"$f":"IF(score!$J$8=\"\",\"\",score!$J$8)","v":""},{"$f":"IF(score!$L$8=\"\",\"\",score!$L$8)","v":""},null,null,null,null,null,null,null,null,null,null,{"$f":"IF(score!$J$8=\"\",\"\",score!$J$8)","v":""},{"$f":"IF(score!$L$8=\"\",\"\",score!$L$8)","v":""},null,null,null,null,null,null,null,null,null,null,{"$f":"IF(score!$J$8=\"\",\"\",score!$J$8)","v":""},{"$f":"IF(score!$L$8=\"\",\"\",score!$L$8)","v":""},null,null,null,null,null,null,null,null,null,null,{"$f":"IF(score!$J$8=\"\",\"\",score!$J$8)","v":""},{"$f":"IF(score!$L$8=\"\",\"\",score!$L$8)","v":""}]
[null,null,{"$f":"IF(score!$J$9=\"\",\"\",score!$J$9)","v":""},{"$f":"IF(score!$L$9=\"\",\"\",score!$L$9)","v":""},null,"1塁ベース","2塁ベース","3塁ベース","ホームベース","アウト・得点等","打点","得点圏打席？",null,null,{"$f":"IF(score!$J$9=\"\",\"\",score!$J$9)","v":""},{"$f":"IF(score!$L$9=\"\",\"\",score!$L$9)","v":""},null,"1塁ベース","2塁ベース","3塁ベース","ホームベース","アウト・得点等","打点","得点圏打席？",null,null,{"$f":"IF(score!$J$9=\"\",\"\",score!$J$9)","v":""},{"$f":"IF(score!$L$9=\"\",\"\",score!$L$9)","v":""},null,"1塁ベース","2塁ベース","3塁ベース","ホームベース","アウト・得点等","打点","得点圏打席？",null,null,{"$f":"IF(score!$J$9=\"\",\"\",score!$J$9)","v":""},{"$f":"IF(score!$L$9=\"\",\"\",score!$L$9)","v":""},null,"1塁ベース","2塁ベース","3塁ベース","ホームベース","アウト・得点等","打点","得点圏打席？",null,null,{"$f":"IF(score!$J$9=\"\",\"\",score!$J$9)","v":""},{"$f":"IF(score!$L$9=\"\",\"\",score!$L$9)","v":""},null,"1塁ベース","2塁ベース","3塁ベース","ホームベース","アウト・得点等","打点","得点圏打席？",null,null,{"$f":"IF(score!$J$9=\"\",\"\",score!$J$9)","v":""},{"$f":"IF(score!$L$9=\"\",\"\",score!$L$9)","v":""},null,"1塁ベース","2塁ベース","3塁ベース","ホームベース","アウト・得点等","打点","得点圏打席？",null,null,{"$f":"IF(score!$J$9=\"\",\"\",score!$J$9)","v":""},{"$f":"IF(score!$L$9=\"\",\"\",score!$L$9)","v":""},null,"1塁ベース","2塁ベース","3塁ベース","ホームベース","アウト・得点等","打点","得点圏打席？",null,null,{"$f":"IF(score!$J$9=\"\",\"\",score!$J$9)","v":""},{"$f":"IF(score!$L$9=\"\",\"\",score!$L$9)","v":""},null,"1塁ベース","2塁ベース","3塁ベース","ホームベース","アウト・得点等","打点","得点圏打席？",null,null,{"$f":"IF(score!$J$9=\"\",\"\",score!$J$9)","v":""},{"$f":"IF(score!$L$9=\"\",\"\",score!$L$9)","v":""},null,"1塁ベース","2塁ベース","3塁ベース","ホームベース","アウト・得点等","打点","得点圏打席？",null,null,{"$f":"IF(score!$J$9=\"\",\"\",score!$J$9)","v":""},{"$f":"IF(score!$L$9=\"\",\"\",score!$L$9)","v":""},null,"1塁ベース","2塁ベース","3塁ベース","ホームベース","アウト・得点等","打点","得点圏打席？",null,null,{"$f":"IF(score!$J$9=\"\",\"\",score!$J$9)","v":""},{"$f":"IF(score!$L$9=\"\",\"\",score!$L$9)","v":""},null,"1塁ベース","2塁ベース","3塁ベース","ホームベース","アウト・得点等","打点","得点圏打席？",null,null,{"$f":"IF(score!$J$9=\"\",\"\",score!$J$9)","v":""},{"$f":"IF(score!$L$9=\"\",\"\",score!$L$9)","v":""},null,"1塁ベース","2塁ベース","3塁ベース","ホームベース","アウト・得点等","打点","得点圏打席？"]
[null,null,{"$f":"IF(score!$J$10=\"\",\"\",score!$J$10)","v":""},{"$f":"IF(score!$L$10=\"\",\"\",score!$L$10)","v":""},"打撃結果","凡打",null,null,null,"1アウト",null,null,null,null,{"$f":"IF(score!$J$10=\"\",\"\",score!$J$10)","v":""},{"$f":"IF(score!$L$10=\"\",\"\",score!$L$10)","v":""},"打撃結果",null,null,null,null,null,null,null,null,null,{"$f":"IF(score!$J$10=\"\",\"\",score!$J$10)","v":""},{"$f":"IF(score!$L$10=\"\",\"\",score!$L$10)","v":""},"打撃結果","犠打",null,null,null,"1アウト",null,null,null,null,{"$f":"IF(score!$J$10=\"\",\"\",score!$J$10)","v":""},{"$f":"IF(score!$L$10=\"\",\"\",score!$L$10)","v":""},"打撃結果",null,null,null,null,null,null,null,null,null,{"$f":"IF(score!$J$10=\"\",\"\",score!$J$10)","v":""},{"$f":"IF(score!$L$10=\"\",\"\",score!$L$10)","v":""},"打撃結果","凡打",null,null,null,"2アウト",null,null,null,null,{"$f":"IF(score!$J$10=\"\",\"\",score!$J$10)","v":""},{"$f":"IF(score!$L$10=\"\",\"\",score!$L$10)","v":""},"打撃結果",null,null,null,null,null,null,null,null,null,{"$f":"IF(score!$J$10=\"\",\"\",score!$J$10)","v":""},{"$f":"IF(score!$L$10=\"\",\"\",score!$L$10)","v":""},"打撃結果","凡打",null,null,null,"3アウト",null,null,null,null,{"$f":"IF(score!$J$10=\"\",\"\",score!$J$10)","v":""},{"$f":"IF(score!$L$10=\"\",\"\",score!$L$10)","v":""},"打撃結果",null,null,null,null,null,null,null,null,null,{"$f":"IF(score!$J$10=\"\",\"\",score!$J$10)","v":""},{"$f":"IF(score!$L$10=\"\",\"\",score!$L$10)","v":""},"打撃結果",null,null,null,null,null,null,null,null,null,{"$f":"IF(score!$J$10=\"\",\"\",score!$J$10)","v":""},{"$f":"IF(score!$L$10=\"\",\"\",score!$L$10)","v":""},"打撃結果",null,null,null,null,null,null,null,null,null,{"$f":"IF(score!$J$10=\"\",\"\",score!$J$10)","v":""},{"$f":"IF(score!$L$10=\"\",\"\",score!$L$10)","v":""},"打撃結果",null,null,null,null,null,null,null,null,null,{"$f":"IF(score!$J$10=\"\",\"\",score!$J$10)","v":""},{"$f":"IF(score!$L$10=\"\",\"\",score!$L$10)","v":""},"打撃結果"]
[null,null,null,{"$f":"IFERROR(VLOOKUP(C9,#REF!,3,FALSE),\"\")","v":""},"打球状態","ゴロ",null,null,null,null,null,null,null,null,null,{"$f":"IFERROR(VLOOKUP(O9,#REF!,3,FALSE),\"\")","v":""},"打球状態",null,null,null,null,null,null,null,null,null,null,{"$f":"IFERROR(VLOOKUP(AA9,#REF!,3,FALSE),\"\")","v":""},"打球状態","ゴロ",null,null,null,null,0,null,null,null,null,{"$f":"IFERROR(VLOOKUP(AM9,#REF!,3,FALSE),\"\")","v":""},"打球状態",null,0,0,0,0,0,null,null,null,null,{"$f":"IFERROR(VLOOKUP(AY9,#REF!,3,FALSE),\"\")","v":""},"打球状態","ゴロ",null,null,null,null,0,null,null,null,null,{"$f":"IFERROR(VLOOKUP(BK9,#REF!,3,FALSE),\"\")","v":""},"打球状態",null,0,0,0,0,0,null,null,null,null,{"$f":"IFERROR(VLOOKUP(BW9,#REF!,3,FALSE),\"\")","v":""},"打球状態","ゴロ",null,null,null,null,null,"得点圏打席",null,null,null,{"$f":"IFERROR(VLOOKUP(CI9,#REF!,3,FALSE),\"\")","v":""},"打球状態",null,0,0,0,0,0,null,null,null,null,{"$f":"IFERROR(VLOOKUP(CU9,#REF!,3,FALSE),\"\")","v":""},"打球状態",null,0,0,0,0,0,null,null,null,null,{"$f":"IFERROR(VLOOKUP(DG9,#REF!,3,FALSE),\"\")","v":""},"打球状態",null,0,0,0,0,0,null,null,null,null,{"$f":"IFERROR(VLOOKUP(DS9,#REF!,3,FALSE),\"\")","v":""},"打球状態",null,0,0,0,0,0,null,null,null,null,{"$f":"IFERROR(VLOOKUP(EE9,#REF!,3,FALSE),\"\")","v":""},"打球状態",null,0,0,0,0,0]
[null,null,null,{"$f":"IFERROR(VLOOKUP(C10,#REF!,3,FALSE),\"\")","v":""},"打球方向","2塁手",null,null,null,null,null,null,null,null,null,{"$f":"IFERROR(VLOOKUP(O10,#REF!,3,FALSE),\"\")","v":""},"打球方向",null,null,null,null,null,null,null,null,null,null,{"$f":"IFERROR(VLOOKUP(AA10,#REF!,3,FALSE),\"\")","v":""},"打球方向","捕手",null,null,null,null,0,0,null,null,null,{"$f":"IFERROR(VLOOKUP(AM10,#REF!,3,FALSE),\"\")","v":""},"打球方向",null,null,null,null,0,0,0,null,null,null,{"$f":"IFERROR(VLOOKUP(AY10,#REF!,3,FALSE),\"\")","v":""},"打球方向","1塁手",null,null,null,null,0,0,null,null,null,{"$f":"IFERROR(VLOOKUP(BK10,#REF!,3,FALSE),\"\")","v":""},"打球方向",null,null,null,null,0,0,0,null,null,null,{"$f":"IFERROR(VLOOKUP(BW10,#REF!,3,FALSE),\"\")","v":""},"打球方向","2塁手",null,null,null,null,null,null,null,null,null,{"$f":"IFERROR(VLOOKUP(CI10,#REF!,3,FALSE),\"\")","v":""},"打球方向",null,null,null,null,0,0,0,null,null,null,{"$f":"IFERROR(VLOOKUP(CU10,#REF!,3,FALSE),\"\")","v":""},"打球方向",null,null,null,null,0,0,0,null,null,null,{"$f":"IFERROR(VLOOKUP(DG10,#REF!,3,FALSE),\"\")","v":""},"打球方向",null,null,null,null,0,0,0,null,null,null,{"$f":"IFERROR(VLOOKUP(DS10,#REF!,3,FALSE),\"\")","v":""},"打球方向",null,null,null,null,0,0,0,null,null,null,{"$f":"IFERROR(VLOOKUP(EE10,#REF!,3,FALSE),\"\")","v":""},"打球方向",null,null,null,null,0,0,0]
[null,{"$f":"B2","v":1},{"$f":"C2","v":"回表"},"確定:",{"$f":"D13","v":7},"相手T投手:",{"$f":"IF(E11=\"\",\"\",IF(E11=(D13+0.2),\"2\",IF(E11=(D13+0.3),\"3\",IF(E11=(D13+0.4),\"4\",IF(E11=(D13+0.5),\"5\",\"先\")))))","v":"先"},null,null,null,null,null,null,{"$f":"N2","v":2},{"$f":"O2","v":"回表"},"確定:",{"$f":"P13","v":7},"相手T投手:",{"$f":"IF(Q11=\"\",\"\",IF(Q11=(P13+0.2),\"2\",IF(Q11=(P13+0.3),\"3\",IF(Q11=(P13+0.4),\"4\",IF(Q11=(P13+0.5),\"5\",\"先\")))))","v":"先"},null,null,null,null,null,null,{"$f":"Z2","v":3},{"$f":"AA2","v":"回表"},"確定:",{"$f":"AB13","v":7},"相手T投手:",{"$f":"IF(AC11=\"\",\"\",IF(AC11=(AB13+0.2),\"2\",IF(AC11=(AB13+0.3),\"3\",IF(AC11=(AB13+0.4),\"4\",IF(AC11=(AB13+0.5),\"5\",\"先\")))))","v":"先"},null,null,null,null,null,null,{"$f":"AL2","v":4},{"$f":"AM2","v":"回表"},"確定:",{"$f":"AN13","v":7},"相手T投手:",{"$f":"IF(AO11=\"\",\"\",IF(AO11=(AN13+0.2),\"2\",IF(AO11=(AN13+0.3),\"3\",IF(AO11=(AN13+0.4),\"4\",IF(AO11=(AN13+0.5),\"5\",\"先\")))))","v":"先"},null,null,null,null,null,null,{"$f":"AX2","v":5},{"$f":"AY2","v":"回表"},"確定:",{"$f":"AO11","v":7},"相手T投手:",{"$f":"IF(BA11=\"\",\"\",IF(BA11=(AZ13+0.2),\"2\",IF(BA11=(AZ13+0.3),\"3\",IF(BA11=(AZ13+0.4),\"4\",IF(BA11=(AZ13+0.5),\"5\",\"先\")))))","v":"先"},null,null,null,null,null,null,{"$f":"BJ2","v":6},{"$f":"BK2","v":"回表"},"確定:",{"$f":"BA11","v":7},"相手T投手:",{"$f":"IF(BM11=\"\",\"\",IF(BM11=(BL13+0.2),\"2\",IF(BM11=(BL13+0.3),\"3\",IF(BM11=(BL13+0.4),\"4\",IF(BM11=(BL13+0.5),\"5\",\"先\")))))","v":"先"},null,null,null,null,null,null,{"$f":"BV2","v":7},{"$f":"BW2","v":"回表"},"確定:",{"$f":"BM11","v":7},"相手T投手:",{"$f":"IF(BY11=\"\",\"\",IF(BY11=(BX13+0.2),\"2\",IF(BY11=(BX13+0.3),\"3\",IF(BY11=(BX13+0.4),\"4\",IF(BY11=(BX13+0.5),\"5\",\"先\")))))","v":"先"},null,null,null,null,null,null,{"$f":"CH2","v":8},{"$f":"CI2","v":"回表"},"確定:",{"$f":"BY11","v":7},"相手T投手:",{"$f":"IF(CK11=\"\",\"\",IF(CK11=(CJ13+0.2),\"2\",IF(CK11=(CJ13+0.3),\"3\",IF(CK11=(CJ13+0.4),\"4\",IF(CK11=(CJ13+0.5),\"5\",\"先\")))))","v":"先"},null,null,null,null,null,null,{"$f":"CT2","v":9},{"$f":"CU2","v":"回表"},"確定:",{"$f":"CK11","v":7},"相手T投手:",{"$f":"IF(CW11=\"\",\"\",IF(CW11=(CV13+0.2),\"2\",IF(CW11=(CV13+0.3),\"3\",IF(CW11=(CV13+0.4),\"4\",IF(CW11=(CV13+0.5),\"5\",\"先\")))))","v":"先"},null,null,null,null,null,null,{"$f":"DF2","v":10},{"$f":"DG2","v":"回表"},"確定:",{"$f":"CW11","v":7},"相手T投手:",{"$f":"IF(DI11=\"\",\"\",IF(DI11=(DH13+0.2),\"2\",IF(DI11=(DH13+0.3),\"3\",IF(DI11=(DH13+0.4),\"4\",IF(DI11=(DH13+0.5),\"5\",\"先\")))))","v":"先"},null,null,null,null,null,null,{"$f":"DR2","v":11},{"$f":"DS2","v":"回表"},"確定:",{"$f":"DI11","v":7},"相手T投手:",{"$f":"IF(DU11=\"\",\"\",IF(DU11=(DT13+0.2),\"2\",IF(DU11=(DT13+0.3),\"3\",IF(DU11=(DT13+0.4),\"4\",IF(DU11=(DT13+0.5),\"5\",\"先\")))))","v":"先"},null,null,null,null,null,null,{"$f":"ED2","v":12},{"$f":"EE2","v":"回表"},"確定:",{"$f":"DU11","v":7},"相手T投手:",{"$f":"IF(EG11=\"\",\"\",IF(EG11=(EF13+0.2),\"2\",IF(EG11=(EF13+0.3),\"3\",IF(EG11=(EF13+0.4),\"4\",IF(EG11=(EF13+0.5),\"5\",\"先\")))))","v":"先"}]
[null,"打順","打者","背番","投球判定","1球目","2球目","3球目","4球目","5球目","6球目","7球目",null,"打順","打者","背番","投球判定","1球目","2球目","3球目","4球目","5球目","6球目","7球目",null,"打順","打者","背番","投球判定","1球目","2球目","3球目","4球目","5球目","6球目","7球目",null,"打順","打者","背番","投球判定","1球目","2球目","3球目","4球目","5球目","6球目","7球目",null,"打順","打者","背番","投球判定","1球目","2球目","3球目","4球目","5球目","6球目","7球目",null,"打順","打者","背番","投球判定","1球目","2球目","3球目","4球目","5球目","6球目","7球目",null,"打順","打者","背番","投球判定","1球目","2球目","3球目","4球目","5球目","6球目","7球目",null,"打順","打者","背番","投球判定","1球目","2球目","3球目","4球目","5球目","6球目","7球目",null,"打順","打者","背番","投球判定","1球目","2球目","3球目","4球目","5球目","6球目","7球目",null,"打順","打者","背番","投球判定","1球目","2球目","3球目","4球目","5球目","6球目","7球目",null,"打順","打者","背番","投球判定","1球目","2球目","3球目","4球目","5球目","6球目","7球目",null,"打順","打者","背番","投球判定","1球目","2球目","3球目","4球目","5球目","6球目","7球目"]
[null,"②",{"$f":"IF(score!$J$12=\"\",\"\",score!$J$12)","v":"佐々木　大夢"},{"$f":"IF(score!$L$12=\"\",\"\",score!$L$12)","v":7},null,"空振ストライク","ボール","ボール","見逃ストライク","ボール","ヒッティング",null,null,"②",{"$f":"IF(score!$J$12=\"\",\"\",score!$J$12)","v":"佐々木　大夢"},{"$f":"IF(score!$L$12=\"\",\"\",score!$L$12)","v":7},null,null,null,null,null,null,null,null,null,"②",{"$f":"IF(score!$J$12=\"\",\"\",score!$J$12)","v":"佐々木　大夢"},{"$f":"IF(score!$L$12=\"\",\"\",score!$L$12)","v":7},null,"ボール","ヒッティング",null,null,null,null,null,null,"②",{"$f":"IF(score!$J$12=\"\",\"\",score!$J$12)","v":"佐々木　大夢"},{"$f":"IF(score!$L$12=\"\",\"\",score!$L$12)","v":7},null,null,null,null,null,null,null,null,null,"②",{"$f":"IF(score!$J$12=\"\",\"\",score!$J$12)","v":"佐々木　大夢"},{"$f":"IF(score!$L$12=\"\",\"\",score!$L$12)","v":7},null,"見逃ストライク","見逃ストライク","見逃ストライク",null,null,null,null,null,"②",{"$f":"IF(score!$J$12=\"\",\"\",score!$J$12)","v":"佐々木　大夢"},{"$f":"IF(score!$L$12=\"\",\"\",score!$L$12)","v":7},null,null,null,null,null,null,null,null,null,"②",{"$f":"IF(score!$J$12=\"\",\"\",score!$J$12)","v":"佐々木　大夢"},{"$f":"IF(score!$L$12=\"\",\"\",score!$L$12)","v":7},null,null,null,null,null,null,null,null,null,"②",{"$f":"IF(score!$J$12=\"\",\"\",score!$J$12)","v":"佐々木　大夢"},{"$f":"IF(score!$L$12=\"\",\"\",score!$L$12)","v":7},null,"ボール","ファウル","ボール","空振ストライク","見逃ストライク",null,null,null,"②",{"$f":"IF(score!$J$12=\"\",\"\",score!$J$12)","v":"佐々木　大夢"},{"$f":"IF(score!$L$12=\"\",\"\",score!$L$12)","v":7},null,null,null,null,null,null,null,null,null,"②",{"$f":"IF(score!$J$12=\"\",\"\",score!$J$12)","v":"佐々木　大夢"},{"$f":"IF(score!$L$12=\"\",\"\",score!$L$12)","v":7},null,null,null,null,null,null,null,null,null,"②",{"$f":"IF(score!$J$12=\"\",\"\",score!$J$12)","v":"佐々木　大夢"},{"$f":"IF(score!$L$12=\"\",\"\",score!$L$12)","v":7},null,null,null,null,null,null,null,null,null,"②",{"$f":"IF(score!$J$12=\"\",\"\",score!$J$12)","v":"佐々木　大夢"},{"$f":"IF(score!$L$12=\"\",\"\",score!$L$12)","v":7}]
[null,null,{"$f":"IF(score!$J$13=\"\",\"\",score!$J$13)","v":""},{"$f":"IF(score!$L$13=\"\",\"\",score!$L$13)","v":""},null,"8球目","9球目","10球目","11球目","12球目","13球目","14球目",null,null,{"$f":"IF(score!$J$13=\"\",\"\",score!$J$13)","v":""},{"$f":"IF(score!$L$13=\"\",\"\",score!$L$13)","v":""},null,"8球目","9球目","10球目","11球目","12球目","13球目","14球目",null,null,{"$f":"IF(score!$J$13=\"\",\"\",score!$J$13)","v":""},{"$f":"IF(score!$L$13=\"\",\"\",score!$L$13)","v":""},null,"8球目","9球目","10球目","11球目","12球目","13球目","14球目",null,null,{"$f":"IF(score!$J$13=\"\",\"\",score!$J$13)","v":""},{"$f":"IF(score!$L$13=\"\",\"\",score!$L$13)","v":""},null,"8球目","9球目","10球目","11球目","12球目","13球目","14球目",null,null,{"$f":"IF(score!$J$13=\"\",\"\",score!$J$13)","v":""},{"$f":"IF(score!$L$13=\"\",\"\",score!$L$13)","v":""},null,"8球目","9球目","10球目","11球目","12球目","13球目","14球目",null,null,{"$f":"IF(score!$J$13=\"\",\"\",score!$J$13)","v":""},{"$f":"IF(score!$L$13=\"\",\"\",score!$L$13)","v":""},null,"8球目","9球目","10球目","11球目","12球目","13球目","14球目",null,null,{"$f":"IF(score!$J$13=\"\",\"\",score!$J$13)","v":""},{"$f":"IF(score!$L$13=\"\",\"\",score!$L$13)","v":""},null,"8球目","9球目","10球目","11球目","12球目","13球目","14球目",null,null,{"$f":"IF(score!$J$13=\"\",\"\",score!$J$13)","v":""},{"$f":"IF(score!$L$13=\"\",\"\",score!$L$13)","v":""},null,"8球目","9球目","10球目","11球目","12球目","13球目","14球目",null,null,{"$f":"IF(score!$J$13=\"\",\"\",score!$J$13)","v":""},{"$f":"IF(score!$L$13=\"\",\"\",score!$L$13)","v":""},null,"8球目","9球目","10球目","11球目","12球目","13球目","14球目",null,null,{"$f":"IF(score!$J$13=\"\",\"\",score!$J$13)","v":""},{"$f":"IF(score!$L$13=\"\",\"\",score!$L$13)","v":""},null,"8球目","9球目","10球目","11球目","12球目","13球目","14球目",null,null,{"$f":"IF(score!$J$13=\"\",\"\",score!$J$13)","v":""},{"$f":"IF(score!$L$13=\"\",\"\",score!$L$13)","v":""},null,"8球目","9球目","10球目","11球目","12球目","13球目","14球目",null,null,{"$f":"IF(score!$J$13=\"\",\"\",score!$J$13)","v":""},{"$f":"IF(score!$L$13=\"\",\"\",score!$L$13)","v":""},null,"8球目","9球目","10球目","11球目","12球目","13球目","14球目"]
[null,null,{"$f":"IF(score!$J$14=\"\",\"\",score!$J$14)","v":""},{"$f":"IF(score!$L$14=\"\",\"\",score!$L$14)","v":""},null,null,null,null,null,null,null,null,null,null,{"$f":"IF(score!$J$14=\"\",\"\",score!$J$14)","v":""},{"$f":"IF(score!$L$14=\"\",\"\",score!$L$14)","v":""},null,null,null,null,null,null,null,null,null,null,{"$f":"IF(score!$J$14=\"\",\"\",score!$J$14)","v":""},{"$f":"IF(score!$L$14=\"\",\"\",score!$L$14)","v":""},null,null,null,null,null,null,null,null,null,null,{"$f":"IF(score!$J$14=\"\",\"\",score!$J$14)","v":""},{"$f":"IF(score!$L$14=\"\",\"\",score!$L$14)","v":""},null,null,null,null,null,null,null,null,null,null,{"$f":"IF(score!$J$14=\"\",\"\",score!$J$14)","v":""},{"$f":"IF(score!$L$14=\"\",\"\",score!$L$14)","v":""},null,null,null,null,null,null,null,null,null,null,{"$f":"IF(score!$J$14=\"\",\"\",score!$J$14)","v":""},{"$f":"IF(score!$L$14=\"\",\"\",score!$L$14)","v":""},null,null,null,null,null,null,null,null,null,null,{"$f":"IF(score!$J$14=\"\",\"\",score!$J$14)","v":""},{"$f":"IF(score!$L$14=\"\",\"\",score!$L$14)","v":""},null,null,null,null,null,null,null,null,null,null,{"$f":"IF(score!$J$14=\"\",\"\",score!$J$14)","v":""},{"$f":"IF(score!$L$14=\"\",\"\",score!$L$14)","v":""},null,null,null,null,null,null,null,null,null,null,{"$f":"IF(score!$J$14=\"\",\"\",score!$J$14)","v":""},{"$f":"IF(score!$L$14=\"\",\"\",score!$L$14)","v":""},null,null,null,null,null,null,null,null,null,null,{"$f":"IF(score!$J$14=\"\",\"\",score!$J$14)","v":""},{"$f":"IF(score!$L$14=\"\",\"\",score!$L$14)","v":""},null,null,null,null,null,null,null,null,null,null,{"$f":"IF(score!$J$14=\"\",\"\",score!$J$14)","v":""},{"$f":"IF(score!$L$14=\"\",\"\",score!$L$14)","v":""},null,null,null,null,null,null,null,null,null,null,{"$f":"IF(score!$J$14=\"\",\"\",score!$J$14)","v":""},{"$f":"IF(score!$L$14=\"\",\"\",score!$L$14)","v":""}]
[null,null,{"$f":"IF(score!$J$15=\"\",\"\",score!$J$15)","v":""},{"$f":"IF(score!$L$15=\"\",\"\",score!$L$15)","v":""},null,"1塁ベース","2塁ベース","3塁ベース","ホームベース","アウト・得点等","打点","得点圏打席？",null,null,{"$f":"IF(score!$J$15=\"\",\"\",score!$J$15)","v":""},{"$f":"IF(score!$L$15=\"\",\"\",score!$L$15)","v":""},null,"1塁ベース","2塁ベース","3塁ベース","ホームベース","アウト・得点等","打点","得点圏打席？",null,null,{"$f":"IF(score!$J$15=\"\",\"\",score!$J$15)","v":""},{"$f":"IF(score!$L$15=\"\",\"\",score!$L$15)","v":""},null,"1塁ベース","2塁ベース","3塁ベース","ホームベース","アウト・得点等","打点","得点圏打席？",null,null,{"$f":"IF(score!$J$15=\"\",\"\",score!$J$15)","v":""},{"$f":"IF(score!$L$15=\"\",\"\",score!$L$15)","v":""},null,"1塁ベース","2塁ベース","3塁ベース","ホームベース","アウト・得点等","打点","得点圏打席？",null,null,{"$f":"IF(score!$J$15=\"\",\"\",score!$J$15)","v":""},{"$f":"IF(score!$L$15=\"\",\"\",score!$L$15)","v":""},null,"1塁ベース","2塁ベース","3塁ベース","ホームベース","アウト・得点等","打点","得点圏打席？",null,null,{"$f":"IF(score!$J$15=\"\",\"\",score!$J$15)","v":""},{"$f":"IF(score!$L$15=\"\",\"\",score!$L$15)","v":""},null,"1塁ベース","2塁ベース","3塁ベース","ホームベース","アウト・得点等","打点","得点圏打席？",null,null,{"$f":"IF(score!$J$15=\"\",\"\",score!$J$15)","v":""},{"$f":"IF(score!$L$15=\"\",\"\",score!$L$15)","v":""},null,"1塁ベース","2塁ベース","3塁ベース","ホームベース","アウト・得点等","打点","得点圏打席？",null,null,{"$f":"IF(score!$J$15=\"\",\"\",score!$J$15)","v":""},{"$f":"IF(score!$L$15=\"\",\"\",score!$L$15)","v":""},null,"1塁ベース","2塁ベース","3塁ベース","ホームベース","アウト・得点等","打点","得点圏打席？",null,null,{"$f":"IF(score!$J$15=\"\",\"\",score!$J$15)","v":""},{"$f":"IF(score!$L$15=\"\",\"\",score!$L$15)","v":""},null,"1塁ベース","2塁ベース","3塁ベース","ホームベース","アウト・得点等","打点","得点圏打席？",null,null,{"$f":"IF(score!$J$15=\"\",\"\",score!$J$15)","v":""},{"$f":"IF(score!$L$15=\"\",\"\",score!$L$15)","v":""},null,"1塁ベース","2塁ベース","3塁ベース","ホームベース","アウト・得点等","打点","得点圏打席？",null,null,{"$f":"IF(score!$J$15=\"\",\"\",score!$J$15)","v":""},{"$f":"IF(score!$L$15=\"\",\"\",score!$L$15)","v":""},null,"1塁ベース","2塁ベース","3塁ベース","ホームベース","アウト・得点等","打点","得点圏打席？",null,null,{"$f":"IF(score!$J$15=\"\",\"\",score!$J$15)","v":""},{"$f":"IF(score!$L$15=\"\",\"\",score!$L$15)","v":""},null,"1塁ベース","2塁ベース","3塁ベース","ホームベース","アウト・得点等","打点","得点圏打席？"]
[null,null,{"$f":"IF(score!$J$16=\"\",\"\",score!$J$16)","v":""},{"$f":"IF(score!$L$16=\"\",\"\",score!$L$16)","v":""},"打撃結果","凡打",null,null,null,"2アウト",null,null,null,null,{"$f":"IF(score!$J$16=\"\",\"\",score!$J$16)","v":""},{"$f":"IF(score!$L$16=\"\",\"\",score!$L$16)","v":""},"打撃結果",null,null,null,null,null,null,null,null,null,{"$f":"IF(score!$J$16=\"\",\"\",score!$J$16)","v":""},{"$f":"IF(score!$L$16=\"\",\"\",score!$L$16)","v":""},"打撃結果","犠牲フライ",null,null,null,"2アウト","1打点",null,null,null,{"$f":"IF(score!$J$16=\"\",\"\",score!$J$16)","v":""},{"$f":"IF(score!$L$16=\"\",\"\",score!$L$16)","v":""},"打撃結果",null,null,null,null,null,null,null,null,null,{"$f":"IF(score!$J$16=\"\",\"\",score!$J$16)","v":""},{"$f":"IF(score!$L$16=\"\",\"\",score!$L$16)","v":""},"打撃結果","見送り三振",null,null,null,"3アウト",null,null,null,null,{"$f":"IF(score!$J$16=\"\",\"\",score!$J$16)","v":""},{"$f":"IF(score!$L$16=\"\",\"\",score!$L$16)","v":""},"打撃結果",null,null,null,null,null,null,null,null,null,{"$f":"IF(score!$J$16=\"\",\"\",score!$J$16)","v":""},{"$f":"IF(score!$L$16=\"\",\"\",score!$L$16)","v":""},"打撃結果",null,null,null,null,null,null,null,null,null,{"$f":"IF(score!$J$16=\"\",\"\",score!$J$16)","v":""},{"$f":"IF(score!$L$16=\"\",\"\",score!$L$16)","v":""},"打撃結果","見送り三振",null,null,null,"1アウト",null,null,null,null,{"$f":"IF(score!$J$16=\"\",\"\",score!$J$16)","v":""},{"$f":"IF(score!$L$16=\"\",\"\",score!$L$16)","v":""},"打撃結果",null,null,null,null,null,null,null,null,null,{"$f":"IF(score!$J$16=\"\",\"\",score!$J$16)","v":""},{"$f":"IF(score!$L$16=\"\",\"\",score!$L$16)","v":""},"打撃結果",null,null,null,null,null,null,null,null,null,{"$f":"IF(score!$J$16=\"\",\"\",score!$J$16)","v":""},{"$f":"IF(score!$L$16=\"\",\"\",score!$L$16)","v":""},"打撃結果",null,null,null,null,null,null,null,null,null,{"$f":"IF(score!$J$16=\"\",\"\",score!$J$16)","v":""},{"$f":"IF(score!$L$16=\"\",\"\",score!$L$16)","v":""},"打撃結果"]
[null,null,null,{"$f":"IFERROR(VLOOKUP(C18,#REF!,3,FALSE),\"\")","v":""},"打球状態","フライ",null,null,null,null,null,null,null,null,null,{"$f":"IFERROR(VLOOKUP(O18,#REF!,3,FALSE),\"\")","v":""},"打球状態",null,null,null,null,null,null,null,null,null,null,{"$f":"IFERROR(VLOOKUP(AA18,#REF!,3,FALSE),\"\")","v":""},"打球状態","フライ",null,null,null,null,null,"得点圏打席",null,null,null,{"$f":"IFERROR(VLOOKUP(AM18,#REF!,3,FALSE),\"\")","v":""},"打球状態",null,0,0,0,0,0,null,null,null,null,{"$f":"IFERROR(VLOOKUP(AY18,#REF!,3,FALSE),\"\")","v":""},"打球状態",null,0,0,0,0,0,null,null,null,null,{"$f":"IFERROR(VLOOKUP(BK18,#REF!,3,FALSE),\"\")","v":""},"打球状態",null,0,0,0,0,0,null,null,null,null,{"$f":"IFERROR(VLOOKUP(BW18,#REF!,3,FALSE),\"\")","v":""},"打球状態",null,0,0,0,0,0,null,null,null,null,{"$f":"IFERROR(VLOOKUP(CI18,#REF!,3,FALSE),\"\")","v":""},"打球状態",null,null,null,null,null,0,null,null,null,null,{"$f":"IFERROR(VLOOKUP(CU18,#REF!,3,FALSE),\"\")","v":""},"打球状態",null,0,0,0,0,0,null,null,null,null,{"$f":"IFERROR(VLOOKUP(DG18,#REF!,3,FALSE),\"\")","v":""},"打球状態",null,0,0,0,0,0,null,null,null,null,{"$f":"IFERROR(VLOOKUP(DS18,#REF!,3,FALSE),\"\")","v":""},"打球状態",null,0,0,0,0,0,null,null,null,null,{"$f":"IFERROR(VLOOKUP(EE18,#REF!,3,FALSE),\"\")","v":""},"打球状態",null,0,0,0,0,0]
[null,null,null,{"$f":"IFERROR(VLOOKUP(C19,#REF!,3,FALSE),\"\")","v":""},"打球方向","ライト",null,null,null,null,null,null,null,null,null,{"$f":"IFERROR(VLOOKUP(O19,#REF!,3,FALSE),\"\")","v":""},"打球方向",null,null,null,null,null,null,null,null,null,null,{"$f":"IFERROR(VLOOKUP(AA19,#REF!,3,FALSE),\"\")","v":""},"打球方向","ライト",null,null,null,null,null,null,null,null,null,{"$f":"IFERROR(VLOOKUP(AM19,#REF!,3,FALSE),\"\")","v":""},"打球方向",null,null,null,null,0,0,0,null,null,null,{"$f":"IFERROR(VLOOKUP(AY19,#REF!,3,FALSE),\"\")","v":""},"打球方向",null,null,null,null,0,0,0,null,null,null,{"$f":"IFERROR(VLOOKUP(BK19,#REF!,3,FALSE),\"\")","v":""},"打球方向",null,null,null,null,0,0,0,null,null,null,{"$f":"IFERROR(VLOOKUP(BW19,#REF!,3,FALSE),\"\")","v":""},"打球方向",null,null,null,null,0,0,0,null,null,null,{"$f":"IFERROR(VLOOKUP(CI19,#REF!,3,FALSE),\"\")","v":""},"打球方向",null,null,null,null,0,0,0,null,null,null,{"$f":"IFERROR(VLOOKUP(CU19,#REF!,3,FALSE),\"\")","v":""},"打球方向",null,null,null,null,0,0,0,null,null,null,{"$f":"IFERROR(VLOOKUP(DG19,#REF!,3,FALSE),\"\")","v":""},"打球方向",null,null,null,null,0,0,0,null,null,null,{"$f":"IFERROR(VLOOKUP(DS19,#REF!,3,FALSE),\"\")","v":""},"打球方向",null,null,null,null,0,0,0,null,null,null,{"$f":"IFERROR(VLOOKUP(EE19,#REF!,3,FALSE),\"\")","v":""},"打球方向",null,null,null,null,0,0,0]
[null,{"$f":"B11","v":1},{"$f":"C11","v":"回表"},"確定:",{"$f":"D22","v":1},"相手T投手:",{"$f":"IF(E20=\"\",\"\",IF(E20=(D22+0.2),\"2\",IF(E20=(D22+0.3),\"3\",IF(E20=(D22+0.4),\"4\",IF(E20=(D22+0.5),\"5\",\"先\")))))","v":"先"},null,null,null,null,null,null,{"$f":"N11","v":2},{"$f":"O11","v":"回表"},"確定:",{"$f":"P22","v":1},"相手T投手:",{"$f":"IF(Q20=\"\",\"\",IF(Q20=(P22+0.2),\"2\",IF(Q20=(P22+0.3),\"3\",IF(Q20=(P22+0.4),\"4\",IF(Q20=(P22+0.5),\"5\",\"先\")))))","v":"先"},null,null,null,null,null,null,{"$f":"Z11","v":3},{"$f":"AA11","v":"回表"},"確定:",{"$f":"AB22","v":1},"相手T投手:",{"$f":"IF(AC20=\"\",\"\",IF(AC20=(AB22+0.2),\"2\",IF(AC20=(AB22+0.3),\"3\",IF(AC20=(AB22+0.4),\"4\",IF(AC20=(AB22+0.5),\"5\",\"先\")))))","v":"先"},null,null,null,null,null,null,{"$f":"AL11","v":4},{"$f":"AM11","v":"回表"},"確定:",{"$f":"AN22","v":1},"相手T投手:",{"$f":"IF(AO20=\"\",\"\",IF(AO20=(AN22+0.2),\"2\",IF(AO20=(AN22+0.3),\"3\",IF(AO20=(AN22+0.4),\"4\",IF(AO20=(AN22+0.5),\"5\",\"先\")))))","v":"先"},null,null,null,null,null,null,{"$f":"AX11","v":5},{"$f":"AY11","v":"回表"},"確定:",{"$f":"AO20","v":1},"相手T投手:",{"$f":"IF(BA20=\"\",\"\",IF(BA20=(AZ22+0.2),\"2\",IF(BA20=(AZ22+0.3),\"3\",IF(BA20=(AZ22+0.4),\"4\",IF(BA20=(AZ22+0.5),\"5\",\"先\")))))","v":"先"},null,null,null,null,null,null,{"$f":"BJ11","v":6},{"$f":"BK11","v":"回表"},"確定:",{"$f":"BA20","v":1},"相手T投手:",{"$f":"IF(BM20=\"\",\"\",IF(BM20=(BL22+0.2),\"2\",IF(BM20=(BL22+0.3),\"3\",IF(BM20=(BL22+0.4),\"4\",IF(BM20=(BL22+0.5),\"5\",\"先\")))))","v":"先"},null,null,null,null,null,null,{"$f":"BV11","v":7},{"$f":"BW11","v":"回表"},"確定:",{"$f":"BM20","v":1},"相手T投手:",{"$f":"IF(BY20=\"\",\"\",IF(BY20=(BX22+0.2),\"2\",IF(BY20=(BX22+0.3),\"3\",IF(BY20=(BX22+0.4),\"4\",IF(BY20=(BX22+0.5),\"5\",\"先\")))))","v":"先"},null,null,null,null,null,null,{"$f":"CH11","v":8},{"$f":"CI11","v":"回表"},"確定:",{"$f":"BY20","v":1},"相手T投手:",{"$f":"IF(CK20=\"\",\"\",IF(CK20=(CJ22+0.2),\"2\",IF(CK20=(CJ22+0.3),\"3\",IF(CK20=(CJ22+0.4),\"4\",IF(CK20=(CJ22+0.5),\"5\",\"先\")))))","v":"先"},null,null,null,null,null,null,{"$f":"CT11","v":9},{"$f":"CU11","v":"回表"},"確定:",{"$f":"CK20","v":1},"相手T投手:",{"$f":"IF(CW20=\"\",\"\",IF(CW20=(CV22+0.2),\"2\",IF(CW20=(CV22+0.3),\"3\",IF(CW20=(CV22+0.4),\"4\",IF(CW20=(CV22+0.5),\"5\",\"先\")))))","v":"先"},null,null,null,null,null,null,{"$f":"DF11","v":10},{"$f":"DG11","v":"回表"},"確定:",{"$f":"CW20","v":1},"相手T投手:",{"$f":"IF(DI20=\"\",\"\",IF(DI20=(DH22+0.2),\"2\",IF(DI20=(DH22+0.3),\"3\",IF(DI20=(DH22+0.4),\"4\",IF(DI20=(DH22+0.5),\"5\",\"先\")))))","v":"先"},null,null,null,null,null,null,{"$f":"DR11","v":11},{"$f":"DS11","v":"回表"},"確定:",{"$f":"DI20","v":1},"相手T投手:",{"$f":"IF(DU20=\"\",\"\",IF(DU20=(DT22+0.2),\"2\",IF(DU20=(DT22+0.3),\"3\",IF(DU20=(DT22+0.4),\"4\",IF(DU20=(DT22+0.5),\"5\",\"先\")))))","v":"先"},null,null,null,null,null,null,{"$f":"ED11","v":12},{"$f":"EE11","v":"回表"},"確定:",{"$f":"DU20","v":1},"相手T投手:",{"$f":"IF(EG20=\"\",\"\",IF(EG20=(EF22+0.2),\"2\",IF(EG20=(EF22+0.3),\"3\",IF(EG20=(EF22+0.4),\"4\",IF(EG20=(EF22+0.5),\"5\",\"先\")))))","v":"先"}]
[null,"打順","打者","背番","投球判定","1球目","2球目","3球目","4球目","5球目","6球目","7球目",null,"打順","打者","背番","投球判定","1球目","2球目","3球目","4球目","5球目","6球目","7球目",null,"打順","打者","背番","投球判定","1球目","2球目","3球目","4球目","5球目","6球目","7球目",null,"打順","打者","背番","投球判定","1球目","2球目","3球目","4球目","5球目","6球目","7球目",null,"打順","打者","背番","投球判定","1球目","2球目","3球目","4球目","5球目","6球目","7球目",null,"打順","打者","背番","投球判定","1球目","2球目","3球目","4球目","5球目","6球目","7球目",null,"打順","打者","背番","投球判定","1球目","2球目","3球目","4球目","5球目","6球目","7球目",null,"打順","打者","背番","投球判定","1球目","2球目","3球目","4球目","5球目","6球目","7球目",null,"打順","打者","背番","投球判定","1球目","2球目","3球目","4球目","5球目","6球目","7球目",null,"打順","打者","背番","投球判定","1球目","2球目","3球目","4球目","5球目","6球目","7球目",null,"打順","打者","背番","投球判定","1球目","2球目","3球目","4球目","5球目","6球目","7球目",null,"打順","打者","背番","投球判定","1球目","2球目","3球目","4球目","5球目","6球目","7球目"]
[null,"③",{"$f":"IF(score!$J$18=\"\",\"\",score!$J$18)","v":"吉田　輝星"},{"$f":"IF(score!$L$18=\"\",\"\",score!$L$18)","v":1},null,"空振ストライク","見逃ストライク","見逃ストライク",null,null,null,null,null,"③",{"$f":"IF(score!$J$18=\"\",\"\",score!$J$18)","v":"吉田　輝星"},{"$f":"IF(score!$L$18=\"\",\"\",score!$L$18)","v":1},null,null,null,null,null,null,null,null,null,"③",{"$f":"IF(score!$J$18=\"\",\"\",score!$J$18)","v":"吉田　輝星"},{"$f":"IF(score!$L$18=\"\",\"\",score!$L$18)","v":1},null,"見逃ストライク","ヒッティング",null,null,null,null,null,null,"③",{"$f":"IF(score!$J$18=\"\",\"\",score!$J$18)","v":"吉田　輝星"},{"$f":"IF(score!$L$18=\"\",\"\",score!$L$18)","v":1},null,null,null,null,null,null,null,null,null,"③",{"$f":"IF(score!$J$18=\"\",\"\",score!$J$18)","v":"吉田　輝星"},{"$f":"IF(score!$L$18=\"\",\"\",score!$L$18)","v":1},null,null,null,null,null,null,null,null,null,"③",{"$f":"IF(score!$J$18=\"\",\"\",score!$J$18)","v":"吉田　輝星"},{"$f":"IF(score!$L$18=\"\",\"\",score!$L$18)","v":1},null,"ヒッティング",null,null,null,null,null,null,null,"③",{"$f":"IF(score!$J$18=\"\",\"\",score!$J$18)","v":"吉田　輝星"},{"$f":"IF(score!$L$18=\"\",\"\",score!$L$18)","v":1},null,null,null,null,null,null,null,null,null,"③",{"$f":"IF(score!$J$18=\"\",\"\",score!$J$18)","v":"吉田　輝星"},{"$f":"IF(score!$L$18=\"\",\"\",score!$L$18)","v":1},null,"ボール","ヒッティング",null,null,null,null,null,null,"③",{"$f":"IF(score!$J$18=\"\",\"\",score!$J$18)","v":"吉田　輝星"},{"$f":"IF(score!$L$18=\"\",\"\",score!$L$18)","v":1},null,null,null,null,null,null,null,null,null,"③",{"$f":"IF(score!$J$18=\"\",\"\",score!$J$18)","v":"吉田　輝星"},{"$f":"IF(score!$L$18=\"\",\"\",score!$L$18)","v":1},null,null,null,null,null,null,null,null,null,"③",{"$f":"IF(score!$J$18=\"\",\"\",score!$J$18)","v":"吉田　輝星"},{"$f":"IF(score!$L$18=\"\",\"\",score!$L$18)","v":1},null,null,null,null,null,null,null,null,null,"③",{"$f":"IF(score!$J$18=\"\",\"\",score!$J$18)","v":"吉田　輝星"},{"$f":"IF(score!$L$18=\"\",\"\",score!$L$18)","v":1}]
[null,null,{"$f":"IF(score!$J$19=\"\",\"\",score!$J$19)","v":""},{"$f":"IF(score!$L$19=\"\",\"\",score!$L$19)","v":""},null,"8球目","9球目","10球目","11球目","12球目","13球目","14球目",null,null,{"$f":"IF(score!$J$19=\"\",\"\",score!$J$19)","v":""},{"$f":"IF(score!$L$19=\"\",\"\",score!$L$19)","v":""},null,"8球目","9球目","10球目","11球目","12球目","13球目","14球目",null,null,{"$f":"IF(score!$J$19=\"\",\"\",score!$J$19)","v":""},{"$f":"IF(score!$L$19=\"\",\"\",score!$L$19)","v":""},null,"8球目","9球目","10球目","11球目","12球目","13球目","14球目",null,null,{"$f":"IF(score!$J$19=\"\",\"\",score!$J$19)","v":""},{"$f":"IF(score!$L$19=\"\",\"\",score!$L$19)","v":""},null,"8球目","9球目","10球目","11球目","12球目","13球目","14球目",null,null,{"$f":"IF(score!$J$19=\"\",\"\",score!$J$19)","v":""},{"$f":"IF(score!$L$19=\"\",\"\",score!$L$19)","v":""},null,"8球目","9球目","10球目","11球目","12球目","13球目","14球目",null,null,{"$f":"IF(score!$J$19=\"\",\"\",score!$J$19)","v":""},{"$f":"IF(score!$L$19=\"\",\"\",score!$L$19)","v":""},null,"8球目","9球目","10球目","11球目","12球目","13球目","14球目",null,null,{"$f":"IF(score!$J$19=\"\",\"\",score!$J$19)","v":""},{"$f":"IF(score!$L$19=\"\",\"\",score!$L$19)","v":""},null,"8球目","9球目","10球目","11球目","12球目","13球目","14球目",null,null,{"$f":"IF(score!$J$19=\"\",\"\",score!$J$19)","v":""},{"$f":"IF(score!$L$19=\"\",\"\",score!$L$19)","v":""},null,"8球目","9球目","10球目","11球目","12球目","13球目","14球目",null,null,{"$f":"IF(score!$J$19=\"\",\"\",score!$J$19)","v":""},{"$f":"IF(score!$L$19=\"\",\"\",score!$L$19)","v":""},null,"8球目","9球目","10球目","11球目","12球目","13球目","14球目",null,null,{"$f":"IF(score!$J$19=\"\",\"\",score!$J$19)","v":""},{"$f":"IF(score!$L$19=\"\",\"\",score!$L$19)","v":""},null,"8球目","9球目","10球目","11球目","12球目","13球目","14球目",null,null,{"$f":"IF(score!$J$19=\"\",\"\",score!$J$19)","v":""},{"$f":"IF(score!$L$19=\"\",\"\",score!$L$19)","v":""},null,"8球目","9球目","10球目","11球目","12球目","13球目","14球目",null,null,{"$f":"IF(score!$J$19=\"\",\"\",score!$J$19)","v":""},{"$f":"IF(score!$L$19=\"\",\"\",score!$L$19)","v":""},null,"8球目","9球目","10球目","11球目","12球目","13球目","14球目"]
[null,null,{"$f":"IF(score!$J$20=\"\",\"\",score!$J$20)","v":""},{"$f":"IF(score!$L$20=\"\",\"\",score!$L$20)","v":""},null,null,null,null,null,null,null,null,null,null,{"$f":"IF(score!$J$20=\"\",\"\",score!$J$20)","v":""},{"$f":"IF(score!$L$20=\"\",\"\",score!$L$20)","v":""},null,null,null,null,null,null,null,null,null,null,{"$f":"IF(score!$J$20=\"\",\"\",score!$J$20)","v":""},{"$f":"IF(score!$L$20=\"\",\"\",score!$L$20)","v":""},null,null,null,null,null,null,null,null,null,null,{"$f":"IF(score!$J$20=\"\",\"\",score!$J$20)","v":""},{"$f":"IF(score!$L$20=\"\",\"\",score!$L$20)","v":""},null,null,null,null,null,null,null,null,null,null,{"$f":"IF(score!$J$20=\"\",\"\",score!$J$20)","v":""},{"$f":"IF(score!$L$20=\"\",\"\",score!$L$20)","v":""},null,null,null,null,null,null,null,null,null,null,{"$f":"IF(score!$J$20=\"\",\"\",score!$J$20)","v":""},{"$f":"IF(score!$L$20=\"\",\"\",score!$L$20)","v":""},null,null,null,null,null,null,null,null,null,null,{"$f":"IF(score!$J$20=\"\",\"\",score!$J$20)","v":""},{"$f":"IF(score!$L$20=\"\",\"\",score!$L$20)","v":""},null,null,null,null,null,null,null,null,null,null,{"$f":"IF(score!$J$20=\"\",\"\",score!$J$20)","v":""},{"$f":"IF(score!$L$20=\"\",\"\",score!$L$20)","v":""},null,null,null,null,null,null,null,null,null,null,{"$f":"IF(score!$J$20=\"\",\"\",score!$J$20)","v":""},{"$f":"IF(score!$L$20=\"\",\"\",score!$L$20)","v":""},null,null,null,null,null,null,null,null,null,null,{"$f":"IF(score!$J$20=\"\",\"\",score!$J$20)","v":""},{"$f":"IF(score!$L$20=\"\",\"\",score!$L$20)","v":""},null,null,null,null,null,null,null,null,null,null,{"$f":"IF(score!$J$20=\"\",\"\",score!$J$20)","v":""},{"$f":"IF(score!$L$20=\"\",\"\",score!$L$20)","v":""},null,null,null,null,null,null,null,null,null,null,{"$f":"IF(score!$J$20=\"\",\"\",score!$J$20)","v":""},{"$f":"IF(score!$L$20=\"\",\"\",score!$L$20)","v":""}]
[null,null,{"$f":"IF(score!$J$21=\"\",\"\",score!$J$21)","v":""},{"$f":"IF(score!$L$21=\"\",\"\",score!$L$21)","v":""},null,"1塁ベース","2塁ベース","3塁ベース","ホームベース","アウト・得点等","打点","得点圏打席？",null,null,{"$f":"IF(score!$J$21=\"\",\"\",score!$J$21)","v":""},{"$f":"IF(score!$L$21=\"\",\"\",score!$L$21)","v":""},null,"1塁ベース","2塁ベース","3塁ベース","ホームベース","アウト・得点等","打点","得点圏打席？",null,null,{"$f":"IF(score!$J$21=\"\",\"\",score!$J$21)","v":""},{"$f":"IF(score!$L$21=\"\",\"\",score!$L$21)","v":""},null,"1塁ベース","2塁ベース","3塁ベース","ホームベース","アウト・得点等","打点","得点圏打席？",null,null,{"$f":"IF(score!$J$21=\"\",\"\",score!$J$21)","v":""},{"$f":"IF(score!$L$21=\"\",\"\",score!$L$21)","v":""},null,"1塁ベース","2塁ベース","3塁ベース","ホームベース","アウト・得点等","打点","得点圏打席？",null,null,{"$f":"IF(score!$J$21=\"\",\"\",score!$J$21)","v":""},{"$f":"IF(score!$L$21=\"\",\"\",score!$L$21)","v":""},null,"1塁ベース","2塁ベース","3塁ベース","ホームベース","アウト・得点等","打点","得点圏打席？",null,null,{"$f":"IF(score!$J$21=\"\",\"\",score!$J$21)","v":""},{"$f":"IF(score!$L$21=\"\",\"\",score!$L$21)","v":""},null,"1塁ベース","2塁ベース","3塁ベース","ホームベース","アウト・得点等","打点","得点圏打席？",null,null,{"$f":"IF(score!$J$21=\"\",\"\",score!$J$21)","v":""},{"$f":"IF(score!$L$21=\"\",\"\",score!$L$21)","v":""},null,"1塁ベース","2塁ベース","3塁ベース","ホームベース","アウト・得点等","打点","得点圏打席？",null,null,{"$f":"IF(score!$J$21=\"\",\"\",score!$J$21)","v":""},{"$f":"IF(score!$L$21=\"\",\"\",score!$L$21)","v":""},null,"1塁ベース","2塁ベース","3塁ベース","ホームベース","アウト・得点等","打点","得点圏打席？",null,null,{"$f":"IF(score!$J$21=\"\",\"\",score!$J$21)","v":""},{"$f":"IF(score!$L$21=\"\",\"\",score!$L$21)","v":""},null,"1塁ベース","2塁ベース","3塁ベース","ホームベース","アウト・得点等","打点","得点圏打席？",null,null,{"$f":"IF(score!$J$21=\"\",\"\",score!$J$21)","v":""},{"$f":"IF(score!$L$21=\"\",\"\",score!$L$21)","v":""},null,"1塁ベース","2塁ベース","3塁ベース","ホームベース","アウト・得点等","打点","得点圏打席？",null,null,{"$f":"IF(score!$J$21=\"\",\"\",score!$J$21)","v":""},{"$f":"IF(score!$L$21=\"\",\"\",score!$L$21)","v":""},null,"1塁ベース","2塁ベース","3塁ベース","ホームベース","アウト・得点等","打点","得点圏打席？",null,null,{"$f":"IF(score!$J$21=\"\",\"\",score!$J$21)","v":""},{"$f":"IF(score!$L$21=\"\",\"\",score!$L$21)","v":""},null,"1塁ベース","2塁ベース","3塁ベース","ホームベース","アウト・得点等","打点","得点圏打席？"]
[null,null,{"$f":"IF(score!$J$22=\"\",\"\",score!$J$22)","v":""},{"$f":"IF(score!$L$22=\"\",\"\",score!$L$22)","v":""},"打撃結果","見送り三振",null,null,null,"3アウト",null,null,null,null,{"$f":"IF(score!$J$22=\"\",\"\",score!$J$22)","v":""},{"$f":"IF(score!$L$22=\"\",\"\",score!$L$22)","v":""},"打撃結果",null,null,null,null,null,null,null,null,null,{"$f":"IF(score!$J$22=\"\",\"\",score!$J$22)","v":""},{"$f":"IF(score!$L$22=\"\",\"\",score!$L$22)","v":""},"打撃結果","凡打",null,null,null,"3アウト",null,null,null,null,{"$f":"IF(score!$J$22=\"\",\"\",score!$J$22)","v":""},{"$f":"IF(score!$L$22=\"\",\"\",score!$L$22)","v":""},"打撃結果",null,null,null,null,null,null,null,null,null,{"$f":"IF(score!$J$22=\"\",\"\",score!$J$22)","v":""},{"$f":"IF(score!$L$22=\"\",\"\",score!$L$22)","v":""},"打撃結果",null,null,null,null,null,null,null,null,null,{"$f":"IF(score!$J$22=\"\",\"\",score!$J$22)","v":""},{"$f":"IF(score!$L$22=\"\",\"\",score!$L$22)","v":""},"打撃結果","凡打",null,null,null,"1アウト",null,null,null,null,{"$f":"IF(score!$J$22=\"\",\"\",score!$J$22)","v":""},{"$f":"IF(score!$L$22=\"\",\"\",score!$L$22)","v":""},"打撃結果",null,null,null,null,null,null,null,null,null,{"$f":"IF(score!$J$22=\"\",\"\",score!$J$22)","v":""},{"$f":"IF(score!$L$22=\"\",\"\",score!$L$22)","v":""},"打撃結果","凡打",null,null,null,"2アウト",null,null,null,null,{"$f":"IF(score!$J$22=\"\",\"\",score!$J$22)","v":""},{"$f":"IF(score!$L$22=\"\",\"\",score!$L$22)","v":""},"打撃結果",null,null,null,null,null,null,null,null,null,{"$f":"IF(score!$J$22=\"\",\"\",score!$J$22)","v":""},{"$f":"IF(score!$L$22=\"\",\"\",score!$L$22)","v":""},"打撃結果",null,null,null,null,null,null,null,null,null,{"$f":"IF(score!$J$22=\"\",\"\",score!$J$22)","v":""},{"$f":"IF(score!$L$22=\"\",\"\",score!$L$22)","v":""},"打撃結果",null,null,null,null,null,null,null,null,null,{"$f":"IF(score!$J$22=\"\",\"\",score!$J$22)","v":""},{"$f":"IF(score!$L$22=\"\",\"\",score!$L$22)","v":""},"打撃結果"]
[null,null,null,{"$f":"IFERROR(VLOOKUP(C27,#REF!,3,FALSE),\"\")","v":""},"打球状態",null,null,null,null,null,null,null,null,null,null,{"$f":"IFERROR(VLOOKUP(O27,#REF!,3,FALSE),\"\")","v":""},"打球状態",null,null,null,null,null,null,null,null,null,null,{"$f":"IFERROR(VLOOKUP(AA27,#REF!,3,FALSE),\"\")","v":""},"打球状態","ゴロ",null,null,null,null,0,null,null,null,null,{"$f":"IFERROR(VLOOKUP(AM27,#REF!,3,FALSE),\"\")","v":""},"打球状態",null,0,0,0,0,0,null,null,null,null,{"$f":"IFERROR(VLOOKUP(AY27,#REF!,3,FALSE),\"\")","v":""},"打球状態",null,0,0,0,0,0,null,null,null,null,{"$f":"IFERROR(VLOOKUP(BK27,#REF!,3,FALSE),\"\")","v":""},"打球状態","ゴロ",null,null,null,null,0,null,null,null,null,{"$f":"IFERROR(VLOOKUP(BW27,#REF!,3,FALSE),\"\")","v":""},"打球状態",null,0,0,0,0,0,null,null,null,null,{"$f":"IFERROR(VLOOKUP(CI27,#REF!,3,FALSE),\"\")","v":""},"打球状態","フライ",null,null,null,null,0,null,null,null,null,{"$f":"IFERROR(VLOOKUP(CU27,#REF!,3,FALSE),\"\")","v":""},"打球状態",null,0,0,0,0,0,null,null,null,null,{"$f":"IFERROR(VLOOKUP(DG27,#REF!,3,FALSE),\"\")","v":""},"打球状態",null,0,0,0,0,0,null,null,null,null,{"$f":"IFERROR(VLOOKUP(DS27,#REF!,3,FALSE),\"\")","v":""},"打球状態",null,0,0,0,0,0,null,null,null,null,{"$f":"IFERROR(VLOOKUP(EE27,#REF!,3,FALSE),\"\")","v":""},"打球状態",null,0,0,0,0,0]
[null,null,null,{"$f":"IFERROR(VLOOKUP(C28,#REF!,3,FALSE),\"\")","v":""},"打球方向",null,null,null,null,null,null,null,null,null,null,{"$f":"IFERROR(VLOOKUP(O28,#REF!,3,FALSE),\"\")","v":""},"打球方向",null,null,null,null,null,null,null,null,null,null,{"$f":"IFERROR(VLOOKUP(AA28,#REF!,3,FALSE),\"\")","v":""},"打球方向","1塁手",null,null,null,null,0,0,null,null,null,{"$f":"IFERROR(VLOOKUP(AM28,#REF!,3,FALSE),\"\")","v":""},"打球方向",null,null,null,null,0,0,0,null,null,null,{"$f":"IFERROR(VLOOKUP(AY28,#REF!,3,FALSE),\"\")","v":""},"打球方向",null,null,null,null,0,0,0,null,null,null,{"$f":"IFERROR(VLOOKUP(BK28,#REF!,3,FALSE),\"\")","v":""},"打球方向","遊撃手",null,null,null,null,0,0,null,null,null,{"$f":"IFERROR(VLOOKUP(BW28,#REF!,3,FALSE),\"\")","v":""},"打球方向",null,null,null,null,0,0,0,null,null,null,{"$f":"IFERROR(VLOOKUP(CI28,#REF!,3,FALSE),\"\")","v":""},"打球方向","レフト",null,null,null,null,0,0,null,null,null,{"$f":"IFERROR(VLOOKUP(CU28,#REF!,3,FALSE),\"\")","v":""},"打球方向",null,null,null,null,0,0,0,null,null,null,{"$f":"IFERROR(VLOOKUP(DG28,#REF!,3,FALSE),\"\")","v":""},"打球方向",null,null,null,null,0,0,0,null,null,null,{"$f":"IFERROR(VLOOKUP(DS28,#REF!,3,FALSE),\"\")","v":""},"打球方向",null,null,null,null,0,0,0,null,null,null,{"$f":"IFERROR(VLOOKUP(EE28,#REF!,3,FALSE),\"\")","v":""},"打球方向",null,null,null,null,0,0,0]
[null,{"$f":"B20","v":1},{"$f":"C20","v":"回表"},"確定:",{"$f":"D31","v":5},"相手T投手:",{"$f":"IF(E29=\"\",\"\",IF(E29=(D31+0.2),\"2\",IF(E29=(D31+0.3),\"3\",IF(E29=(D31+0.4),\"4\",IF(E29=(D31+0.5),\"5\",\"先\")))))","v":"先"},null,null,null,null,null,null,{"$f":"N20","v":2},{"$f":"O20","v":"回表"},"確定:",{"$f":"P31","v":5},"相手T投手:",{"$f":"IF(Q29=\"\",\"\",IF(Q29=(P31+0.2),\"2\",IF(Q29=(P31+0.3),\"3\",IF(Q29=(P31+0.4),\"4\",IF(Q29=(P31+0.5),\"5\",\"先\")))))","v":"先"},null,null,null,null,null,null,{"$f":"Z20","v":3},{"$f":"AA20","v":"回表"},"確定:",{"$f":"AB31","v":5},"相手T投手:",{"$f":"IF(AC29=\"\",\"\",IF(AC29=(AB31+0.2),\"2\",IF(AC29=(AB31+0.3),\"3\",IF(AC29=(AB31+0.4),\"4\",IF(AC29=(AB31+0.5),\"5\",\"先\")))))","v":"先"},null,null,null,null,null,null,{"$f":"AL20","v":4},{"$f":"AM20","v":"回表"},"確定:",{"$f":"AN31","v":5},"相手T投手:",{"$f":"IF(AO29=\"\",\"\",IF(AO29=(AN31+0.2),\"2\",IF(AO29=(AN31+0.3),\"3\",IF(AO29=(AN31+0.4),\"4\",IF(AO29=(AN31+0.5),\"5\",\"先\")))))","v":"先"},null,null,null,null,null,null,{"$f":"AX20","v":5},{"$f":"AY20","v":"回表"},"確定:",{"$f":"AO29","v":5},"相手T投手:",{"$f":"IF(BA29=\"\",\"\",IF(BA29=(AZ31+0.2),\"2\",IF(BA29=(AZ31+0.3),\"3\",IF(BA29=(AZ31+0.4),\"4\",IF(BA29=(AZ31+0.5),\"5\",\"先\")))))","v":"先"},null,null,null,null,null,null,{"$f":"BJ20","v":6},{"$f":"BK20","v":"回表"},"確定:",{"$f":"BA29","v":5},"相手T投手:",{"$f":"IF(BM29=\"\",\"\",IF(BM29=(BL31+0.2),\"2\",IF(BM29=(BL31+0.3),\"3\",IF(BM29=(BL31+0.4),\"4\",IF(BM29=(BL31+0.5),\"5\",\"先\")))))","v":"先"},null,null,null,null,null,null,{"$f":"BV20","v":7},{"$f":"BW20","v":"回表"},"確定:",{"$f":"BM29","v":5},"相手T投手:",{"$f":"IF(BY29=\"\",\"\",IF(BY29=(BX31+0.2),\"2\",IF(BY29=(BX31+0.3),\"3\",IF(BY29=(BX31+0.4),\"4\",IF(BY29=(BX31+0.5),\"5\",\"先\")))))","v":"先"},null,null,null,null,null,null,{"$f":"CH20","v":8},{"$f":"CI20","v":"回表"},"確定:",{"$f":"BY29","v":5},"相手T投手:",{"$f":"IF(CK29=\"\",\"\",IF(CK29=(CJ31+0.2),\"2\",IF(CK29=(CJ31+0.3),\"3\",IF(CK29=(CJ31+0.4),\"4\",IF(CK29=(CJ31+0.5),\"5\",\"先\")))))","v":"先"},null,null,null,null,null,null,{"$f":"CT20","v":9},{"$f":"CU20","v":"回表"},"確定:",{"$f":"CK29","v":5},"相手T投手:",{"$f":"IF(CW29=\"\",\"\",IF(CW29=(CV31+0.2),\"2\",IF(CW29=(CV31+0.3),\"3\",IF(CW29=(CV31+0.4),\"4\",IF(CW29=(CV31+0.5),\"5\",\"先\")))))","v":"先"},null,null,null,null,null,null,{"$f":"DF20","v":10},{"$f":"DG20","v":"回表"},"確定:",{"$f":"CW29","v":5},"相手T投手:",{"$f":"IF(DI29=\"\",\"\",IF(DI29=(DH31+0.2),\"2\",IF(DI29=(DH31+0.3),\"3\",IF(DI29=(DH31+0.4),\"4\",IF(DI29=(DH31+0.5),\"5\",\"先\")))))","v":"先"},null,null,null,null,null,null,{"$f":"DR20","v":11},{"$f":"DS20","v":"回表"},"確定:",{"$f":"DI29","v":5},"相手T投手:",{"$f":"IF(DU29=\"\",\"\",IF(DU29=(DT31+0.2),\"2\",IF(DU29=(DT31+0.3),\"3\",IF(DU29=(DT31+0.4),\"4\",IF(DU29=(DT31+0.5),\"5\",\"先\")))))","v":"先"},null,null,null,null,null,null,{"$f":"ED20","v":12},{"$f":"EE20","v":"回表"},"確定:",{"$f":"DU29","v":5},"相手T投手:",{"$f":"IF(EG29=\"\",\"\",IF(EG29=(EF31+0.2),\"2\",IF(EG29=(EF31+0.3),\"3\",IF(EG29=(EF31+0.4),\"4\",IF(EG29=(EF31+0.5),\"5\",\"先\")))))","v":"先"}]
[null,"打順","打者","背番","投球判定","1球目","2球目","3球目","4球目","5球目","6球目","7球目",null,"打順","打者","背番","投球判定","1球目","2球目","3球目","4球目","5球目","6球目","7球目",null,"打順","打者","背番","投球判定","1球目","2球目","3球目","4球目","5球目","6球目","7球目",null,"打順","打者","背番","投球判定","1球目","2球目","3球目","4球目","5球目","6球目","7球目",null,"打順","打者","背番","投球判定","1球目","2球目","3球目","4球目","5球目","6球目","7球目",null,"打順","打者","背番","投球判定","1球目","2球目","3球目","4球目","5球目","6球目","7球目",null,"打順","打者","背番","投球判定","1球目","2球目","3球目","4球目","5球目","6球目","7球目",null,"打順","打者","背番","投球判定","1球目","2球目","3球目","4球目","5球目","6球目","7球目",null,"打順","打者","背番","投球判定","1球目","2球目","3球目","4球目","5球目","6球目","7球目",null,"打順","打者","背番","投球判定","1球目","2球目","3球目","4球目","5球目","6球目","7球目",null,"打順","打者","背番","投球判定","1球目","2球目","3球目","4球目","5球目","6球目","7球目",null,"打順","打者","背番","投球判定","1球目","2球目","3球目","4球目","5球目","6球目","7球目"]
[null,"④",{"$f":"IF(score!$J$24=\"\",\"\",score!$J$24)","v":"打川　和輝"},{"$f":"IF(score!$L$24=\"\",\"\",score!$L$24)","v":5},null,null,null,null,null,null,null,null,null,"④",{"$f":"IF(score!$J$24=\"\",\"\",score!$J$24)","v":"打川　和輝"},{"$f":"IF(score!$L$24=\"\",\"\",score!$L$24)","v":5},null,"ボール","ヒッティング",null,null,null,null,null,null,"④",{"$f":"IF(score!$J$24=\"\",\"\",score!$J$24)","v":"打川　和輝"},{"$f":"IF(score!$L$24=\"\",\"\",score!$L$24)","v":5},null,null,null,null,null,null,null,null,null,"④",{"$f":"IF(score!$J$24=\"\",\"\",score!$J$24)","v":"打川　和輝"},{"$f":"IF(score!$L$24=\"\",\"\",score!$L$24)","v":5},null,"ボール","ヒッティング",null,null,null,null,null,null,"④",{"$f":"IF(score!$J$24=\"\",\"\",score!$J$24)","v":"打川　和輝"},{"$f":"IF(score!$L$24=\"\",\"\",score!$L$24)","v":5},null,null,null,null,null,null,null,null,null,"④",{"$f":"IF(score!$J$24=\"\",\"\",score!$J$24)","v":"打川　和輝"},{"$f":"IF(score!$L$24=\"\",\"\",score!$L$24)","v":5},null,"ボール","見逃ストライク","ヒッティング",null,null,null,null,null,"④",{"$f":"IF(score!$J$24=\"\",\"\",score!$J$24)","v":"打川　和輝"},{"$f":"IF(score!$L$24=\"\",\"\",score!$L$24)","v":5},null,null,null,null,null,null,null,null,null,"④",{"$f":"IF(score!$J$24=\"\",\"\",score!$J$24)","v":"打川　和輝"},{"$f":"IF(score!$L$24=\"\",\"\",score!$L$24)","v":5},null,"見逃ストライク","ボール","ファウル","ボール","ファウル","空振ストライク",null,null,"④",{"$f":"IF(score!$J$24=\"\",\"\",score!$J$24)","v":"打川　和輝"},{"$f":"IF(score!$L$24=\"\",\"\",score!$L$24)","v":5},null,null,null,null,null,null,null,null,null,"④",{"$f":"IF(score!$J$24=\"\",\"\",score!$J$24)","v":"打川　和輝"},{"$f":"IF(score!$L$24=\"\",\"\",score!$L$24)","v":5},null,null,null,null,null,null,null,null,null,"④",{"$f":"IF(score!$J$24=\"\",\"\",score!$J$24)","v":"打川　和輝"},{"$f":"IF(score!$L$24=\"\",\"\",score!$L$24)","v":5},null,null,null,null,null,null,null,null,null,"④",{"$f":"IF(score!$J$24=\"\",\"\",score!$J$24)","v":"打川　和輝"},{"$f":"IF(score!$L$24=\"\",\"\",score!$L$24)","v":5}]
[null,null,{"$f":"IF(score!$J$25=\"\",\"\",score!$J$25)","v":""},{"$f":"IF(score!$L$25=\"\",\"\",score!$L$25)","v":""},null,"8球目","9球目","10球目","11球目","12球目","13球目","14球目",null,null,{"$f":"IF(score!$J$25=\"\",\"\",score!$J$25)","v":""},{"$f":"IF(score!$L$25=\"\",\"\",score!$L$25)","v":""},null,"8球目","9球目","10球目","11球目","12球目","13球目","14球目",null,null,{"$f":"IF(score!$J$25=\"\",\"\",score!$J$25)","v":""},{"$f":"IF(score!$L$25=\"\",\"\",score!$L$25)","v":""},null,"8球目","9球目","10球目","11球目","12球目","13球目","14球目",null,null,{"$f":"IF(score!$J$25=\"\",\"\",score!$J$25)","v":""},{"$f":"IF(score!$L$25=\"\",\"\",score!$L$25)","v":""},null,"8球目","9球目","10球目","11球目","12球目","13球目","14球目",null,null,{"$f":"IF(score!$J$25=\"\",\"\",score!$J$25)","v":""},{"$f":"IF(score!$L$25=\"\",\"\",score!$L$25)","v":""},null,"8球目","9球目","10球目","11球目","12球目","13球目","14球目",null,null,{"$f":"IF(score!$J$25=\"\",\"\",score!$J$25)","v":""},{"$f":"IF(score!$L$25=\"\",\"\",score!$L$25)","v":""},null,"8球目","9球目","10球目","11球目","12球目","13球目","14球目",null,null,{"$f":"IF(score!$J$25=\"\",\"\",score!$J$25)","v":""},{"$f":"IF(score!$L$25=\"\",\"\",score!$L$25)","v":""},null,"8球目","9球目","10球目","11球目","12球目","13球目","14球目",null,null,{"$f":"IF(score!$J$25=\"\",\"\",score!$J$25)","v":""},{"$f":"IF(score!$L$25=\"\",\"\",score!$L$25)","v":""},null,"8球目","9球目","10球目","11球目","12球目","13球目","14球目",null,null,{"$f":"IF(score!$J$25=\"\",\"\",score!$J$25)","v":""},{"$f":"IF(score!$L$25=\"\",\"\",score!$L$25)","v":""},null,"8球目","9球目","10球目","11球目","12球目","13球目","14球目",null,null,{"$f":"IF(score!$J$25=\"\",\"\",score!$J$25)","v":""},{"$f":"IF(score!$L$25=\"\",\"\",score!$L$25)","v":""},null,"8球目","9球目","10球目","11球目","12球目","13球目","14球目",null,null,{"$f":"IF(score!$J$25=\"\",\"\",score!$J$25)","v":""},{"$f":"IF(score!$L$25=\"\",\"\",score!$L$25)","v":""},null,"8球目","9球目","10球目","11球目","12球目","13球目","14球目",null,null,{"$f":"IF(score!$J$25=\"\",\"\",score!$J$25)","v":""},{"$f":"IF(score!$L$25=\"\",\"\",score!$L$25)","v":""},null,"8球目","9球目","10球目","11球目","12球目","13球目","14球目"]
[null,null,{"$f":"IF(score!$J$26=\"\",\"\",score!$J$26)","v":""},{"$f":"IF(score!$L$26=\"\",\"\",score!$L$26)","v":""},null,null,null,null,null,null,null,null,null,null,{"$f":"IF(score!$J$26=\"\",\"\",score!$J$26)","v":""},{"$f":"IF(score!$L$26=\"\",\"\",score!$L$26)","v":""},null,null,null,null,null,null,null,null,null,null,{"$f":"IF(score!$J$26=\"\",\"\",score!$J$26)","v":""},{"$f":"IF(score!$L$26=\"\",\"\",score!$L$26)","v":""},null,null,null,null,null,null,null,null,null,null,{"$f":"IF(score!$J$26=\"\",\"\",score!$J$26)","v":""},{"$f":"IF(score!$L$26=\"\",\"\",score!$L$26)","v":""},null,null,null,null,null,null,null,null,null,null,{"$f":"IF(score!$J$26=\"\",\"\",score!$J$26)","v":""},{"$f":"IF(score!$L$26=\"\",\"\",score!$L$26)","v":""},null,null,null,null,null,null,null,null,null,null,{"$f":"IF(score!$J$26=\"\",\"\",score!$J$26)","v":""},{"$f":"IF(score!$L$26=\"\",\"\",score!$L$26)","v":""},null,null,null,null,null,null,null,null,null,null,{"$f":"IF(score!$J$26=\"\",\"\",score!$J$26)","v":""},{"$f":"IF(score!$L$26=\"\",\"\",score!$L$26)","v":""},null,null,null,null,null,null,null,null,null,null,{"$f":"IF(score!$J$26=\"\",\"\",score!$J$26)","v":""},{"$f":"IF(score!$L$26=\"\",\"\",score!$L$26)","v":""},null,null,null,null,null,null,null,null,null,null,{"$f":"IF(score!$J$26=\"\",\"\",score!$J$26)","v":""},{"$f":"IF(score!$L$26=\"\",\"\",score!$L$26)","v":""},null,null,null,null,null,null,null,null,null,null,{"$f":"IF(score!$J$26=\"\",\"\",score!$J$26)","v":""},{"$f":"IF(score!$L$26=\"\",\"\",score!$L$26)","v":""},null,null,null,null,null,null,null,null,null,null,{"$f":"IF(score!$J$26=\"\",\"\",score!$J$26)","v":""},{"$f":"IF(score!$L$26=\"\",\"\",score!$L$26)","v":""},null,null,null,null,null,null,null,null,null,null,{"$f":"IF(score!$J$26=\"\",\"\",score!$J$26)","v":""},{"$f":"IF(score!$L$26=\"\",\"\",score!$L$26)","v":""}]
[null,null,{"$f":"IF(score!$J$27=\"\",\"\",score!$J$27)","v":""},{"$f":"IF(score!$L$27=\"\",\"\",score!$L$27)","v":""},null,"1塁ベース","2塁ベース","3塁ベース","ホームベース","アウト・得点等","打点","得点圏打席？",null,null,{"$f":"IF(score!$J$27=\"\",\"\",score!$J$27)","v":""},{"$f":"IF(score!$L$27=\"\",\"\",score!$L$27)","v":""},null,"1塁ベース","2塁ベース","3塁ベース","ホームベース","アウト・得点等","打点","得点圏打席？",null,null,{"$f":"IF(score!$J$27=\"\",\"\",score!$J$27)","v":""},{"$f":"IF(score!$L$27=\"\",\"\",score!$L$27)","v":""},null,"1塁ベース","2塁ベース","3塁ベース","ホームベース","アウト・得点等","打点","得点圏打席？",null,null,{"$f":"IF(score!$J$27=\"\",\"\",score!$J$27)","v":""},{"$f":"IF(score!$L$27=\"\",\"\",score!$L$27)","v":""},null,"1塁ベース","2塁ベース","3塁ベース","ホームベース","アウト・得点等","打点","得点圏打席？",null,null,{"$f":"IF(score!$J$27=\"\",\"\",score!$J$27)","v":""},{"$f":"IF(score!$L$27=\"\",\"\",score!$L$27)","v":""},null,"1塁ベース","2塁ベース","3塁ベース","ホームベース","アウト・得点等","打点","得点圏打席？",null,null,{"$f":"IF(score!$J$27=\"\",\"\",score!$J$27)","v":""},{"$f":"IF(score!$L$27=\"\",\"\",score!$L$27)","v":""},null,"1塁ベース","2塁ベース","3塁ベース","ホームベース","アウト・得点等","打点","得点圏打席？",null,null,{"$f":"IF(score!$J$27=\"\",\"\",score!$J$27)","v":""},{"$f":"IF(score!$L$27=\"\",\"\",score!$L$27)","v":""},null,"1塁ベース","2塁ベース","3塁ベース","ホームベース","アウト・得点等","打点","得点圏打席？",null,null,{"$f":"IF(score!$J$27=\"\",\"\",score!$J$27)","v":""},{"$f":"IF(score!$L$27=\"\",\"\",score!$L$27)","v":""},null,"1塁ベース","2塁ベース","3塁ベース","ホームベース","アウト・得点等","打点","得点圏打席？",null,null,{"$f":"IF(score!$J$27=\"\",\"\",score!$J$27)","v":""},{"$f":"IF(score!$L$27=\"\",\"\",score!$L$27)","v":""},null,"1塁ベース","2塁ベース","3塁ベース","ホームベース","アウト・得点等","打点","得点圏打席？",null,null,{"$f":"IF(score!$J$27=\"\",\"\",score!$J$27)","v":""},{"$f":"IF(score!$L$27=\"\",\"\",score!$L$27)","v":""},null,"1塁ベース","2塁ベース","3塁ベース","ホームベース","アウト・得点等","打点","得点圏打席？",null,null,{"$f":"IF(score!$J$27=\"\",\"\",score!$J$27)","v":""},{"$f":"IF(score!$L$27=\"\",\"\",score!$L$27)","v":""},null,"1塁ベース","2塁ベース","3塁ベース","ホームベース","アウト・得点等","打点","得点圏打席？",null,null,{"$f":"IF(score!$J$27=\"\",\"\",score!$J$27)","v":""},{"$f":"IF(score!$L$27=\"\",\"\",score!$L$27)","v":""},null,"1塁ベース","2塁ベース","3塁ベース","ホームベース","アウト・得点等","打点","得点圏打席？"]
[null,null,{"$f":"IF(score!$J$28=\"\",\"\",score!$J$28)","v":""},{"$f":"IF(score!$L$28=\"\",\"\",score!$L$28)","v":""},"打撃結果",null,null,null,null,null,null,null,null,null,{"$f":"IF(score!$J$28=\"\",\"\",score!$J$28)","v":""},{"$f":"IF(score!$L$28=\"\",\"\",score!$L$28)","v":""},"打撃結果","ヒット出塁","5番打者","盗塁失敗",null,"2アウト",null,null,null,null,{"$f":"IF(score!$J$28=\"\",\"\",score!$J$28)","v":""},{"$f":"IF(score!$L$28=\"\",\"\",score!$L$28)","v":""},"打撃結果",null,null,null,null,null,null,null,null,null,{"$f":"IF(score!$J$28=\"\",\"\",score!$J$28)","v":""},{"$f":"IF(score!$L$28=\"\",\"\",score!$L$28)","v":""},"打撃結果","ヒット出塁","5番打者",null,null,"残塁",null,null,null,null,{"$f":"IF(score!$J$28=\"\",\"\",score!$J$28)","v":""},{"$f":"IF(score!$L$28=\"\",\"\",score!$L$28)","v":""},"打撃結果",null,null,null,null,null,null,null,null,null,{"$f":"IF(score!$J$28=\"\",\"\",score!$J$28)","v":""},{"$f":"IF(score!$L$28=\"\",\"\",score!$L$28)","v":""},"打撃結果","凡打",null,null,null,"2アウト",null,null,null,null,{"$f":"IF(score!$J$28=\"\",\"\",score!$J$28)","v":""},{"$f":"IF(score!$L$28=\"\",\"\",score!$L$28)","v":""},"打撃結果",null,null,null,null,null,null,null,null,null,{"$f":"IF(score!$J$28=\"\",\"\",score!$J$28)","v":""},{"$f":"IF(score!$L$28=\"\",\"\",score!$L$28)","v":""},"打撃結果","空振り三振",null,null,null,"3アウト",null,null,null,null,{"$f":"IF(score!$J$28=\"\",\"\",score!$J$28)","v":""},{"$f":"IF(score!$L$28=\"\",\"\",score!$L$28)","v":""},"打撃結果",null,null,null,null,null,null,null,null,null,{"$f":"IF(score!$J$28=\"\",\"\",score!$J$28)","v":""},{"$f":"IF(score!$L$28=\"\",\"\",score!$L$28)","v":""},"打撃結果",null,null,null,null,null,null,null,null,null,{"$f":"IF(score!$J$28=\"\",\"\",score!$J$28)","v":""},{"$f":"IF(score!$L$28=\"\",\"\",score!$L$28)","v":""},"打撃結果",null,null,null,null,null,null,null,null,null,{"$f":"IF(score!$J$28=\"\",\"\",score!$J$28)","v":""},{"$f":"IF(score!$L$28=\"\",\"\",score!$L$28)","v":""},"打撃結果"]
[null,null,null,{"$f":"IFERROR(VLOOKUP(C36,#REF!,3,FALSE),\"\")","v":""},"打球状態",null,null,null,null,null,null,null,null,null,null,{"$f":"IFERROR(VLOOKUP(O36,#REF!,3,FALSE),\"\")","v":""},"打球状態","ゴロ",null,null,null,null,null,null,null,null,null,{"$f":"IFERROR(VLOOKUP(AA36,#REF!,3,FALSE),\"\")","v":""},"打球状態",null,0,0,0,0,0,null,null,null,null,{"$f":"IFERROR(VLOOKUP(AM36,#REF!,3,FALSE),\"\")","v":""},"打球状態","ゴロ",null,null,null,null,0,null,null,null,null,{"$f":"IFERROR(VLOOKUP(AY36,#REF!,3,FALSE),\"\")","v":""},"打球状態",null,0,0,0,0,0,null,null,null,null,{"$f":"IFERROR(VLOOKUP(BK36,#REF!,3,FALSE),\"\")","v":""},"打球状態","フライ",null,null,null,null,0,null,null,null,null,{"$f":"IFERROR(VLOOKUP(BW36,#REF!,3,FALSE),\"\")","v":""},"打球状態",null,0,0,0,0,0,null,null,null,null,{"$f":"IFERROR(VLOOKUP(CI36,#REF!,3,FALSE),\"\")","v":""},"打球状態",null,0,0,0,0,0,null,null,null,null,{"$f":"IFERROR(VLOOKUP(CU36,#REF!,3,FALSE),\"\")","v":""},"打球状態",null,0,0,0,0,0,null,null,null,null,{"$f":"IFERROR(VLOOKUP(DG36,#REF!,3,FALSE),\"\")","v":""},"打球状態",null,0,0,0,0,0,null,null,null,null,{"$f":"IFERROR(VLOOKUP(DS36,#REF!,3,FALSE),\"\")","v":""},"打球状態",null,0,0,0,0,0,null,null,null,null,{"$f":"IFERROR(VLOOKUP(EE36,#REF!,3,FALSE),\"\")","v":""},"打球状態",null,0,0,0,0,0]
[null,null,null,{"$f":"IFERROR(VLOOKUP(C37,#REF!,3,FALSE),\"\")","v":""},"打球方向",null,null,null,null,null,null,null,null,null,null,{"$f":"IFERROR(VLOOKUP(O37,#REF!,3,FALSE),\"\")","v":""},"打球方向","センター",null,null,null,null,null,null,null,null,null,{"$f":"IFERROR(VLOOKUP(AA37,#REF!,3,FALSE),\"\")","v":""},"打球方向",null,null,null,null,0,0,0,null,null,null,{"$f":"IFERROR(VLOOKUP(AM37,#REF!,3,FALSE),\"\")","v":""},"打球方向","センター",null,null,null,null,0,0,null,null,null,{"$f":"IFERROR(VLOOKUP(AY37,#REF!,3,FALSE),\"\")","v":""},"打球方向",null,null,null,null,0,0,0,null,null,null,{"$f":"IFERROR(VLOOKUP(BK37,#REF!,3,FALSE),\"\")","v":""},"打球方向","遊撃手",null,null,null,null,0,0,null,null,null,{"$f":"IFERROR(VLOOKUP(BW37,#REF!,3,FALSE),\"\")","v":""},"打球方向",null,null,null,null,0,0,0,null,null,null,{"$f":"IFERROR(VLOOKUP(CI37,#REF!,3,FALSE),\"\")","v":""},"打球方向",null,null,null,null,0,0,0,null,null,null,{"$f":"IFERROR(VLOOKUP(CU37,#REF!,3,FALSE),\"\")","v":""},"打球方向",null,null,null,null,0,0,0,null,null,null,{"$f":"IFERROR(VLOOKUP(DG37,#REF!,3,FALSE),\"\")","v":""},"打球方向",null,null,null,null,0,0,0,null,null,null,{"$f":"IFERROR(VLOOKUP(DS37,#REF!,3,FALSE),\"\")","v":""},"打球方向",null,null,null,null,0,0,0,null,null,null,{"$f":"IFERROR(VLOOKUP(EE37,#REF!,3,FALSE),\"\")","v":""},"打球方向",null,null,null,null,0,0,0]
[null,{"$f":"B29","v":1},{"$f":"C29","v":"回表"},"確定:",{"$f":"D40","v":8},"相手T投手:",{"$f":"IF(E38=\"\",\"\",IF(E38=(D40+0.2),\"2\",IF(E38=(D40+0.3),\"3\",IF(E38=(D40+0.4),\"4\",IF(E38=(D40+0.5),\"5\",\"先\")))))","v":"先"},null,null,null,null,null,null,{"$f":"N29","v":2},{"$f":"O29","v":"回表"},"確定:",{"$f":"P40","v":8},"相手T投手:",{"$f":"IF(Q38=\"\",\"\",IF(Q38=(P40+0.2),\"2\",IF(Q38=(P40+0.3),\"3\",IF(Q38=(P40+0.4),\"4\",IF(Q38=(P40+0.5),\"5\",\"先\")))))","v":"先"},null,null,null,null,null,null,{"$f":"Z29","v":3},{"$f":"AA29","v":"回表"},"確定:",{"$f":"AB40","v":8},"相手T投手:",{"$f":"IF(AC38=\"\",\"\",IF(AC38=(AB40+0.2),\"2\",IF(AC38=(AB40+0.3),\"3\",IF(AC38=(AB40+0.4),\"4\",IF(AC38=(AB40+0.5),\"5\",\"先\")))))","v":"先"},null,null,null,null,null,null,{"$f":"AL29","v":4},{"$f":"AM29","v":"回表"},"確定:",{"$f":"AN40","v":8},"相手T投手:",{"$f":"IF(AO38=\"\",\"\",IF(AO38=(AN40+0.2),\"2\",IF(AO38=(AN40+0.3),\"3\",IF(AO38=(AN40+0.4),\"4\",IF(AO38=(AN40+0.5),\"5\",\"先\")))))","v":"先"},null,null,null,null,null,null,{"$f":"AX29","v":5},{"$f":"AY29","v":"回表"},"確定:",{"$f":"AO38","v":8},"相手T投手:",{"$f":"IF(BA38=\"\",\"\",IF(BA38=(AZ40+0.2),\"2\",IF(BA38=(AZ40+0.3),\"3\",IF(BA38=(AZ40+0.4),\"4\",IF(BA38=(AZ40+0.5),\"5\",\"先\")))))","v":"先"},null,null,null,null,null,null,{"$f":"BJ29","v":6},{"$f":"BK29","v":"回表"},"確定:",{"$f":"BA38","v":8},"相手T投手:",{"$f":"IF(BM38=\"\",\"\",IF(BM38=(BL40+0.2),\"2\",IF(BM38=(BL40+0.3),\"3\",IF(BM38=(BL40+0.4),\"4\",IF(BM38=(BL40+0.5),\"5\",\"先\")))))","v":"先"},null,null,null,null,null,null,{"$f":"BV29","v":7},{"$f":"BW29","v":"回表"},"確定:",{"$f":"BM38","v":8},"相手T投手:",{"$f":"IF(BY38=\"\",\"\",IF(BY38=(BX40+0.2),\"2\",IF(BY38=(BX40+0.3),\"3\",IF(BY38=(BX40+0.4),\"4\",IF(BY38=(BX40+0.5),\"5\",\"先\")))))","v":"先"},null,null,null,null,null,null,{"$f":"CH29","v":8},{"$f":"CI29","v":"回表"},"確定:",{"$f":"BY38","v":8},"相手T投手:",{"$f":"IF(CK38=\"\",\"\",IF(CK38=(CJ40+0.2),\"2\",IF(CK38=(CJ40+0.3),\"3\",IF(CK38=(CJ40+0.4),\"4\",IF(CK38=(CJ40+0.5),\"5\",\"先\")))))","v":"先"},null,null,null,null,null,null,{"$f":"CT29","v":9},{"$f":"CU29","v":"回表"},"確定:",{"$f":"CK38","v":8},"相手T投手:",{"$f":"IF(CW38=\"\",\"\",IF(CW38=(CV40+0.2),\"2\",IF(CW38=(CV40+0.3),\"3\",IF(CW38=(CV40+0.4),\"4\",IF(CW38=(CV40+0.5),\"5\",\"先\")))))","v":"先"},null,null,null,null,null,null,{"$f":"DF29","v":10},{"$f":"DG29","v":"回表"},"確定:",{"$f":"CW38","v":8},"相手T投手:",{"$f":"IF(DI38=\"\",\"\",IF(DI38=(DH40+0.2),\"2\",IF(DI38=(DH40+0.3),\"3\",IF(DI38=(DH40+0.4),\"4\",IF(DI38=(DH40+0.5),\"5\",\"先\")))))","v":"先"},null,null,null,null,null,null,{"$f":"DR29","v":11},{"$f":"DS29","v":"回表"},"確定:",{"$f":"DI38","v":8},"相手T投手:",{"$f":"IF(DU38=\"\",\"\",IF(DU38=(DT40+0.2),\"2\",IF(DU38=(DT40+0.3),\"3\",IF(DU38=(DT40+0.4),\"4\",IF(DU38=(DT40+0.5),\"5\",\"先\")))))","v":"先"},null,null,null,null,null,null,{"$f":"ED29","v":12},{"$f":"EE29","v":"回表"},"確定:",{"$f":"DU38","v":8},"相手T投手:",{"$f":"IF(EG38=\"\",\"\",IF(EG38=(EF40+0.2),\"2\",IF(EG38=(EF40+0.3),\"3\",IF(EG38=(EF40+0.4),\"4\",IF(EG38=(EF40+0.5),\"5\",\"先\")))))","v":"先"}]
[null,"打順","打者","背番","投球判定","1球目","2球目","3球目","4球目","5球目","6球目","7球目",null,"打順","打者","背番","投球判定","1球目","2球目","3球目","4球目","5球目","6球目","7球目",null,"打順","打者","背番","投球判定","1球目","2球目","3球目","4球目","5球目","6球目","7球目",null,"打順","打者","背番","投球判定","1球目","2球目","3球目","4球目","5球目","6球目","7球目",null,"打順","打者","背番","投球判定","1球目","2球目","3球目","4球目","5球目","6球目","7球目",null,"打順","打者","背番","投球判定","1球目","2球目","3球目","4球目","5球目","6球目","7球目",null,"打順","打者","背番","投球判定","1球目","2球目","3球目","4球目","5球目","6球目","7球目",null,"打順","打者","背番","投球判定","1球目","2球目","3球目","4球目","5球目","6球目","7球目",null,"打順","打者","背番","投球判定","1球目","2球目","3球目","4球目","5球目","6球目","7球目",null,"打順","打者","背番","投球判定","1球目","2球目","3球目","4球目","5球目","6球目","7球目",null,"打順","打者","背番","投球判定","1球目","2球目","3球目","4球目","5球目","6球目","7球目",null,"打順","打者","背番","投球判定","1球目","2球目","3球目","4球目","5球目","6球目","7球目"]
[null,"⑤",{"$f":"IF(score!$J$30=\"\",\"\",score!$J$30)","v":"大友　朝陽"},{"$f":"IF(score!$L$30=\"\",\"\",score!$L$30)","v":8},null,null,null,null,null,null,null,null,null,"⑤",{"$f":"IF(score!$J$30=\"\",\"\",score!$J$30)","v":"大友　朝陽"},{"$f":"IF(score!$L$30=\"\",\"\",score!$L$30)","v":8},null,"ボール","ヒッティング",null,null,null,null,null,null,"⑤",{"$f":"IF(score!$J$30=\"\",\"\",score!$J$30)","v":"大友　朝陽"},{"$f":"IF(score!$L$30=\"\",\"\",score!$L$30)","v":8},null,null,null,null,null,null,null,null,null,"⑤",{"$f":"IF(score!$J$30=\"\",\"\",score!$J$30)","v":"大友　朝陽"},{"$f":"IF(score!$L$30=\"\",\"\",score!$L$30)","v":8},null,"ヒッティング",null,null,null,null,null,null,null,"⑤",{"$f":"IF(score!$J$30=\"\",\"\",score!$J$30)","v":"大友　朝陽"},{"$f":"IF(score!$L$30=\"\",\"\",score!$L$30)","v":8},null,null,null,null,null,null,null,null,null,"⑤",{"$f":"IF(score!$J$30=\"\",\"\",score!$J$30)","v":"大友　朝陽"},{"$f":"IF(score!$L$30=\"\",\"\",score!$L$30)","v":8},null,"ボール","ファウル","見逃ストライク","空振ストライク",null,null,null,null,"⑤",{"$f":"IF(score!$J$30=\"\",\"\",score!$J$30)","v":"大友　朝陽"},{"$f":"IF(score!$L$30=\"\",\"\",score!$L$30)","v":8},null,null,null,null,null,null,null,null,null,"⑤",{"$f":"IF(score!$J$30=\"\",\"\",score!$J$30)","v":"大友　朝陽"},{"$f":"IF(score!$L$30=\"\",\"\",score!$L$30)","v":8},null,null,null,null,null,null,null,null,null,"⑤",{"$f":"IF(score!$J$30=\"\",\"\",score!$J$30)","v":"大友　朝陽"},{"$f":"IF(score!$L$30=\"\",\"\",score!$L$30)","v":8},null,"ボール","ヒッティング",null,null,null,null,null,null,"⑤",{"$f":"IF(score!$J$30=\"\",\"\",score!$J$30)","v":"大友　朝陽"},{"$f":"IF(score!$L$30=\"\",\"\",score!$L$30)","v":8},null,null,null,null,null,null,null,null,null,"⑤",{"$f":"IF(score!$J$30=\"\",\"\",score!$J$30)","v":"大友　朝陽"},{"$f":"IF(score!$L$30=\"\",\"\",score!$L$30)","v":8},null,null,null,null,null,null,null,null,null,"⑤",{"$f":"IF(score!$J$30=\"\",\"\",score!$J$30)","v":"大友　朝陽"},{"$f":"IF(score!$L$30=\"\",\"\",score!$L$30)","v":8}]
[null,null,{"$f":"IF(score!$J$31=\"\",\"\",score!$J$31)","v":""},{"$f":"IF(score!$L$31=\"\",\"\",score!$L$31)","v":""},null,"8球目","9球目","10球目","11球目","12球目","13球目","14球目",null,null,{"$f":"IF(score!$J$31=\"\",\"\",score!$J$31)","v":""},{"$f":"IF(score!$L$31=\"\",\"\",score!$L$31)","v":""},null,"8球目","9球目","10球目","11球目","12球目","13球目","14球目",null,null,{"$f":"IF(score!$J$31=\"\",\"\",score!$J$31)","v":""},{"$f":"IF(score!$L$31=\"\",\"\",score!$L$31)","v":""},null,"8球目","9球目","10球目","11球目","12球目","13球目","14球目",null,null,{"$f":"IF(score!$J$31=\"\",\"\",score!$J$31)","v":""},{"$f":"IF(score!$L$31=\"\",\"\",score!$L$31)","v":""},null,"8球目","9球目","10球目","11球目","12球目","13球目","14球目",null,null,{"$f":"IF(score!$J$31=\"\",\"\",score!$J$31)","v":""},{"$f":"IF(score!$L$31=\"\",\"\",score!$L$31)","v":""},null,"8球目","9球目","10球目","11球目","12球目","13球目","14球目",null,null,{"$f":"IF(score!$J$31=\"\",\"\",score!$J$31)","v":""},{"$f":"IF(score!$L$31=\"\",\"\",score!$L$31)","v":""},null,"8球目","9球目","10球目","11球目","12球目","13球目","14球目",null,null,{"$f":"IF(score!$J$31=\"\",\"\",score!$J$31)","v":""},{"$f":"IF(score!$L$31=\"\",\"\",score!$L$31)","v":""},null,"8球目","9球目","10球目","11球目","12球目","13球目","14球目",null,null,{"$f":"IF(score!$J$31=\"\",\"\",score!$J$31)","v":""},{"$f":"IF(score!$L$31=\"\",\"\",score!$L$31)","v":""},null,"8球目","9球目","10球目","11球目","12球目","13球目","14球目",null,null,{"$f":"IF(score!$J$31=\"\",\"\",score!$J$31)","v":""},{"$f":"IF(score!$L$31=\"\",\"\",score!$L$31)","v":""},null,"8球目","9球目","10球目","11球目","12球目","13球目","14球目",null,null,{"$f":"IF(score!$J$31=\"\",\"\",score!$J$31)","v":""},{"$f":"IF(score!$L$31=\"\",\"\",score!$L$31)","v":""},null,"8球目","9球目","10球目","11球目","12球目","13球目","14球目",null,null,{"$f":"IF(score!$J$31=\"\",\"\",score!$J$31)","v":""},{"$f":"IF(score!$L$31=\"\",\"\",score!$L$31)","v":""},null,"8球目","9球目","10球目","11球目","12球目","13球目","14球目",null,null,{"$f":"IF(score!$J$31=\"\",\"\",score!$J$31)","v":""},{"$f":"IF(score!$L$31=\"\",\"\",score!$L$31)","v":""},null,"8球目","9球目","10球目","11球目","12球目","13球目","14球目"]
[null,null,{"$f":"IF(score!$J$32=\"\",\"\",score!$J$32)","v":""},{"$f":"IF(score!$L$32=\"\",\"\",score!$L$32)","v":""},null,null,null,null,null,null,null,null,null,null,{"$f":"IF(score!$J$32=\"\",\"\",score!$J$32)","v":""},{"$f":"IF(score!$L$32=\"\",\"\",score!$L$32)","v":""},null,null,null,null,null,null,null,null,null,null,{"$f":"IF(score!$J$32=\"\",\"\",score!$J$32)","v":""},{"$f":"IF(score!$L$32=\"\",\"\",score!$L$32)","v":""},null,null,null,null,null,null,null,null,null,null,{"$f":"IF(score!$J$32=\"\",\"\",score!$J$32)","v":""},{"$f":"IF(score!$L$32=\"\",\"\",score!$L$32)","v":""},null,null,null,null,null,null,null,null,null,null,{"$f":"IF(score!$J$32=\"\",\"\",score!$J$32)","v":""},{"$f":"IF(score!$L$32=\"\",\"\",score!$L$32)","v":""},null,null,null,null,null,null,null,null,null,null,{"$f":"IF(score!$J$32=\"\",\"\",score!$J$32)","v":""},{"$f":"IF(score!$L$32=\"\",\"\",score!$L$32)","v":""},null,null,null,null,null,null,null,null,null,null,{"$f":"IF(score!$J$32=\"\",\"\",score!$J$32)","v":""},{"$f":"IF(score!$L$32=\"\",\"\",score!$L$32)","v":""},null,null,null,null,null,null,null,null,null,null,{"$f":"IF(score!$J$32=\"\",\"\",score!$J$32)","v":""},{"$f":"IF(score!$L$32=\"\",\"\",score!$L$32)","v":""},null,null,null,null,null,null,null,null,null,null,{"$f":"IF(score!$J$32=\"\",\"\",score!$J$32)","v":""},{"$f":"IF(score!$L$32=\"\",\"\",score!$L$32)","v":""},null,null,null,null,null,null,null,null,null,null,{"$f":"IF(score!$J$32=\"\",\"\",score!$J$32)","v":""},{"$f":"IF(score!$L$32=\"\",\"\",score!$L$32)","v":""},null,null,null,null,null,null,null,null,null,null,{"$f":"IF(score!$J$32=\"\",\"\",score!$J$32)","v":""},{"$f":"IF(score!$L$32=\"\",\"\",score!$L$32)","v":""},null,null,null,null,null,null,null,null,null,null,{"$f":"IF(score!$J$32=\"\",\"\",score!$J$32)","v":""},{"$f":"IF(score!$L$32=\"\",\"\",score!$L$32)","v":""}]
[null,null,{"$f":"IF(score!$J$33=\"\",\"\",score!$J$33)","v":""},{"$f":"IF(score!$L$33=\"\",\"\",score!$L$33)","v":""},null,"1塁ベース","2塁ベース","3塁ベース","ホームベース","アウト・得点等","打点","得点圏打席？",null,null,{"$f":"IF(score!$J$33=\"\",\"\",score!$J$33)","v":""},{"$f":"IF(score!$L$33=\"\",\"\",score!$L$33)","v":""},null,"1塁ベース","2塁ベース","3塁ベース","ホームベース","アウト・得点等","打点","得点圏打席？",null,null,{"$f":"IF(score!$J$33=\"\",\"\",score!$J$33)","v":""},{"$f":"IF(score!$L$33=\"\",\"\",score!$L$33)","v":""},null,"1塁ベース","2塁ベース","3塁ベース","ホームベース","アウト・得点等","打点","得点圏打席？",null,null,{"$f":"IF(score!$J$33=\"\",\"\",score!$J$33)","v":""},{"$f":"IF(score!$L$33=\"\",\"\",score!$L$33)","v":""},null,"1塁ベース","2塁ベース","3塁ベース","ホームベース","アウト・得点等","打点","得点圏打席？",null,null,{"$f":"IF(score!$J$33=\"\",\"\",score!$J$33)","v":""},{"$f":"IF(score!$L$33=\"\",\"\",score!$L$33)","v":""},null,"1塁ベース","2塁ベース","3塁ベース","ホームベース","アウト・得点等","打点","得点圏打席？",null,null,{"$f":"IF(score!$J$33=\"\",\"\",score!$J$33)","v":""},{"$f":"IF(score!$L$33=\"\",\"\",score!$L$33)","v":""},null,"1塁ベース","2塁ベース","3塁ベース","ホームベース","アウト・得点等","打点","得点圏打席？",null,null,{"$f":"IF(score!$J$33=\"\",\"\",score!$J$33)","v":""},{"$f":"IF(score!$L$33=\"\",\"\",score!$L$33)","v":""},null,"1塁ベース","2塁ベース","3塁ベース","ホームベース","アウト・得点等","打点","得点圏打席？",null,null,{"$f":"IF(score!$J$33=\"\",\"\",score!$J$33)","v":""},{"$f":"IF(score!$L$33=\"\",\"\",score!$L$33)","v":""},null,"1塁ベース","2塁ベース","3塁ベース","ホームベース","アウト・得点等","打点","得点圏打席？",null,null,{"$f":"IF(score!$J$33=\"\",\"\",score!$J$33)","v":""},{"$f":"IF(score!$L$33=\"\",\"\",score!$L$33)","v":""},null,"1塁ベース","2塁ベース","3塁ベース","ホームベース","アウト・得点等","打点","得点圏打席？",null,null,{"$f":"IF(score!$J$33=\"\",\"\",score!$J$33)","v":""},{"$f":"IF(score!$L$33=\"\",\"\",score!$L$33)","v":""},null,"1塁ベース","2塁ベース","3塁ベース","ホームベース","アウト・得点等","打点","得点圏打席？",null,null,{"$f":"IF(score!$J$33=\"\",\"\",score!$J$33)","v":""},{"$f":"IF(score!$L$33=\"\",\"\",score!$L$33)","v":""},null,"1塁ベース","2塁ベース","3塁ベース","ホームベース","アウト・得点等","打点","得点圏打席？",null,null,{"$f":"IF(score!$J$33=\"\",\"\",score!$J$33)","v":""},{"$f":"IF(score!$L$33=\"\",\"\",score!$L$33)","v":""},null,"1塁ベース","2塁ベース","3塁ベース","ホームベース","アウト・得点等","打点","得点圏打席？"]
[null,null,{"$f":"IF(score!$J$34=\"\",\"\",score!$J$34)","v":""},{"$f":"IF(score!$L$34=\"\",\"\",score!$L$34)","v":""},"打撃結果",null,null,null,null,null,null,null,null,null,{"$f":"IF(score!$J$34=\"\",\"\",score!$J$34)","v":""},{"$f":"IF(score!$L$34=\"\",\"\",score!$L$34)","v":""},"打撃結果","犠打",null,null,null,"1アウト",null,null,null,null,{"$f":"IF(score!$J$34=\"\",\"\",score!$J$34)","v":""},{"$f":"IF(score!$L$34=\"\",\"\",score!$L$34)","v":""},"打撃結果",null,null,null,null,null,null,null,null,null,{"$f":"IF(score!$J$34=\"\",\"\",score!$J$34)","v":""},{"$f":"IF(score!$L$34=\"\",\"\",score!$L$34)","v":""},"打撃結果","犠打",null,null,null,"1アウト",null,null,null,null,{"$f":"IF(score!$J$34=\"\",\"\",score!$J$34)","v":""},{"$f":"IF(score!$L$34=\"\",\"\",score!$L$34)","v":""},"打撃結果",null,null,null,null,null,null,null,null,null,{"$f":"IF(score!$J$34=\"\",\"\",score!$J$34)","v":""},{"$f":"IF(score!$L$34=\"\",\"\",score!$L$34)","v":""},"打撃結果","空振り三振",null,null,null,"3アウト",null,null,null,null,{"$f":"IF(score!$J$34=\"\",\"\",score!$J$34)","v":""},{"$f":"IF(score!$L$34=\"\",\"\",score!$L$34)","v":""},"打撃結果",null,null,null,null,null,null,null,null,null,{"$f":"IF(score!$J$34=\"\",\"\",score!$J$34)","v":""},{"$f":"IF(score!$L$34=\"\",\"\",score!$L$34)","v":""},"打撃結果",null,null,null,null,null,null,null,null,null,{"$f":"IF(score!$J$34=\"\",\"\",score!$J$34)","v":""},{"$f":"IF(score!$L$34=\"\",\"\",score!$L$34)","v":""},"打撃結果","凡打",null,null,null,"1アウト",null,null,null,null,{"$f":"IF(score!$J$34=\"\",\"\",score!$J$34)","v":""},{"$f":"IF(score!$L$34=\"\",\"\",score!$L$34)","v":""},"打撃結果",null,null,null,null,null,null,null,null,null,{"$f":"IF(score!$J$34=\"\",\"\",score!$J$34)","v":""},{"$f":"IF(score!$L$34=\"\",\"\",score!$L$34)","v":""},"打撃結果",null,null,null,null,null,null,null,null,null,{"$f":"IF(score!$J$34=\"\",\"\",score!$J$34)","v":""},{"$f":"IF(score!$L$34=\"\",\"\",score!$L$34)","v":""},"打撃結果"]
[null,null,null,{"$f":"IFERROR(VLOOKUP(C45,#REF!,3,FALSE),\"\")","v":""},"打球状態",null,null,null,null,null,null,null,null,null,null,{"$f":"IFERROR(VLOOKUP(O45,#REF!,3,FALSE),\"\")","v":""},"打球状態","ゴロ",null,null,null,null,null,null,null,null,null,{"$f":"IFERROR(VLOOKUP(AA45,#REF!,3,FALSE),\"\")","v":""},"打球状態",null,0,0,0,0,0,null,null,null,null,{"$f":"IFERROR(VLOOKUP(AM45,#REF!,3,FALSE),\"\")","v":""},"打球状態",null,null,null,null,null,0,null,null,null,null,{"$f":"IFERROR(VLOOKUP(AY45,#REF!,3,FALSE),\"\")","v":""},"打球状態",null,0,0,0,0,0,null,null,null,null,{"$f":"IFERROR(VLOOKUP(BK45,#REF!,3,FALSE),\"\")","v":""},"打球状態",null,0,0,0,0,0,null,null,null,null,{"$f":"IFERROR(VLOOKUP(BW45,#REF!,3,FALSE),\"\")","v":""},"打球状態",null,0,0,0,0,0,null,null,null,null,{"$f":"IFERROR(VLOOKUP(CI45,#REF!,3,FALSE),\"\")","v":""},"打球状態",null,0,0,0,0,0,null,null,null,null,{"$f":"IFERROR(VLOOKUP(CU45,#REF!,3,FALSE),\"\")","v":""},"打球状態","ゴロ",null,null,null,null,0,null,null,null,null,{"$f":"IFERROR(VLOOKUP(DG45,#REF!,3,FALSE),\"\")","v":""},"打球状態",null,0,0,0,0,0,null,null,null,null,{"$f":"IFERROR(VLOOKUP(DS45,#REF!,3,FALSE),\"\")","v":""},"打球状態",null,0,0,0,0,0,null,null,null,null,{"$f":"IFERROR(VLOOKUP(EE45,#REF!,3,FALSE),\"\")","v":""},"打球状態",null,0,0,0,0,0]
[null,null,null,{"$f":"IFERROR(VLOOKUP(C46,#REF!,3,FALSE),\"\")","v":""},"打球方向",null,null,null,null,null,null,null,null,null,null,{"$f":"IFERROR(VLOOKUP(O46,#REF!,3,FALSE),\"\")","v":""},"打球方向","投手",null,null,null,null,null,null,null,null,null,{"$f":"IFERROR(VLOOKUP(AA46,#REF!,3,FALSE),\"\")","v":""},"打球方向",null,null,null,null,0,0,0,null,null,null,{"$f":"IFERROR(VLOOKUP(AM46,#REF!,3,FALSE),\"\")","v":""},"打球方向","投手",null,null,null,null,0,0,null,null,null,{"$f":"IFERROR(VLOOKUP(AY46,#REF!,3,FALSE),\"\")","v":""},"打球方向",null,null,null,null,0,0,0,null,null,null,{"$f":"IFERROR(VLOOKUP(BK46,#REF!,3,FALSE),\"\")","v":""},"打球方向",null,null,null,null,0,0,0,null,null,null,{"$f":"IFERROR(VLOOKUP(BW46,#REF!,3,FALSE),\"\")","v":""},"打球方向",null,null,null,null,0,0,0,null,null,null,{"$f":"IFERROR(VLOOKUP(CI46,#REF!,3,FALSE),\"\")","v":""},"打球方向",null,null,null,null,0,0,0,null,null,null,{"$f":"IFERROR(VLOOKUP(CU46,#REF!,3,FALSE),\"\")","v":""},"打球方向","投手",null,null,null,null,0,0,null,null,null,{"$f":"IFERROR(VLOOKUP(DG46,#REF!,3,FALSE),\"\")","v":""},"打球方向",null,null,null,null,0,0,0,null,null,null,{"$f":"IFERROR(VLOOKUP(DS46,#REF!,3,FALSE),\"\")","v":""},"打球方向",null,null,null,null,0,0,0,null,null,null,{"$f":"IFERROR(VLOOKUP(EE46,#REF!,3,FALSE),\"\")","v":""},"打球方向",null,null,null,null,0,0,0]
[null,{"$f":"B38","v":1},{"$f":"C38","v":"回表"},"確定:",{"$f":"D49","v":3},"相手T投手:",{"$f":"IF(E47=\"\",\"\",IF(E47=(D49+0.2),\"2\",IF(E47=(D49+0.3),\"3\",IF(E47=(D49+0.4),\"4\",IF(E47=(D49+0.5),\"5\",\"先\")))))","v":"先"},null,null,null,null,null,null,{"$f":"N38","v":2},{"$f":"O38","v":"回表"},"確定:",{"$f":"P49","v":3},"相手T投手:",{"$f":"IF(Q47=\"\",\"\",IF(Q47=(P49+0.2),\"2\",IF(Q47=(P49+0.3),\"3\",IF(Q47=(P49+0.4),\"4\",IF(Q47=(P49+0.5),\"5\",\"先\")))))","v":"先"},null,null,null,null,null,null,{"$f":"Z38","v":3},{"$f":"AA38","v":"回表"},"確定:",{"$f":"AB49","v":3},"相手T投手:",{"$f":"IF(AC47=\"\",\"\",IF(AC47=(AB49+0.2),\"2\",IF(AC47=(AB49+0.3),\"3\",IF(AC47=(AB49+0.4),\"4\",IF(AC47=(AB49+0.5),\"5\",\"先\")))))","v":"先"},null,null,null,null,null,null,{"$f":"AL38","v":4},{"$f":"AM38","v":"回表"},"確定:",{"$f":"AN49","v":3},"相手T投手:",{"$f":"IF(AO47=\"\",\"\",IF(AO47=(AN49+0.2),\"2\",IF(AO47=(AN49+0.3),\"3\",IF(AO47=(AN49+0.4),\"4\",IF(AO47=(AN49+0.5),\"5\",\"先\")))))","v":"先"},null,null,null,null,null,null,{"$f":"AX38","v":5},{"$f":"AY38","v":"回表"},"確定:",{"$f":"AO47","v":3},"相手T投手:",{"$f":"IF(BA47=\"\",\"\",IF(BA47=(AZ49+0.2),\"2\",IF(BA47=(AZ49+0.3),\"3\",IF(BA47=(AZ49+0.4),\"4\",IF(BA47=(AZ49+0.5),\"5\",\"先\")))))","v":"先"},null,null,null,null,null,null,{"$f":"BJ38","v":6},{"$f":"BK38","v":"回表"},"確定:",{"$f":"BA47","v":3},"相手T投手:",{"$f":"IF(BM47=\"\",\"\",IF(BM47=(BL49+0.2),\"2\",IF(BM47=(BL49+0.3),\"3\",IF(BM47=(BL49+0.4),\"4\",IF(BM47=(BL49+0.5),\"5\",\"先\")))))","v":"先"},null,null,null,null,null,null,{"$f":"BV38","v":7},{"$f":"BW38","v":"回表"},"確定:",{"$f":"BM47","v":3},"相手T投手:",{"$f":"IF(BY47=\"\",\"\",IF(BY47=(BX49+0.2),\"2\",IF(BY47=(BX49+0.3),\"3\",IF(BY47=(BX49+0.4),\"4\",IF(BY47=(BX49+0.5),\"5\",\"先\")))))","v":"先"},null,null,null,null,null,null,{"$f":"CH38","v":8},{"$f":"CI38","v":"回表"},"確定:",{"$f":"BY47","v":3},"相手T投手:",{"$f":"IF(CK47=\"\",\"\",IF(CK47=(CJ49+0.2),\"2\",IF(CK47=(CJ49+0.3),\"3\",IF(CK47=(CJ49+0.4),\"4\",IF(CK47=(CJ49+0.5),\"5\",\"先\")))))","v":"先"},null,null,null,null,null,null,{"$f":"CT38","v":9},{"$f":"CU38","v":"回表"},"確定:",{"$f":"CK47","v":3},"相手T投手:",{"$f":"IF(CW47=\"\",\"\",IF(CW47=(CV49+0.2),\"2\",IF(CW47=(CV49+0.3),\"3\",IF(CW47=(CV49+0.4),\"4\",IF(CW47=(CV49+0.5),\"5\",\"先\")))))","v":"先"},null,null,null,null,null,null,{"$f":"DF38","v":10},{"$f":"DG38","v":"回表"},"確定:",{"$f":"CW47","v":3},"相手T投手:",{"$f":"IF(DI47=\"\",\"\",IF(DI47=(DH49+0.2),\"2\",IF(DI47=(DH49+0.3),\"3\",IF(DI47=(DH49+0.4),\"4\",IF(DI47=(DH49+0.5),\"5\",\"先\")))))","v":"先"},null,null,null,null,null,null,{"$f":"DR38","v":11},{"$f":"DS38","v":"回表"},"確定:",{"$f":"DI47","v":3},"相手T投手:",{"$f":"IF(DU47=\"\",\"\",IF(DU47=(DT49+0.2),\"2\",IF(DU47=(DT49+0.3),\"3\",IF(DU47=(DT49+0.4),\"4\",IF(DU47=(DT49+0.5),\"5\",\"先\")))))","v":"先"},null,null,null,null,null,null,{"$f":"ED38","v":12},{"$f":"EE38","v":"回表"},"確定:",{"$f":"DU47","v":3},"相手T投手:",{"$f":"IF(EG47=\"\",\"\",IF(EG47=(EF49+0.2),\"2\",IF(EG47=(EF49+0.3),\"3\",IF(EG47=(EF49+0.4),\"4\",IF(EG47=(EF49+0.5),\"5\",\"先\")))))","v":"先"}]
[null,"打順","打者","背番","投球判定","1球目","2球目","3球目","4球目","5球目","6球目","7球目",null,"打順","打者","背番","投球判定","1球目","2球目","3球目","4球目","5球目","6球目","7球目",null,"打順","打者","背番","投球判定","1球目","2球目","3球目","4球目","5球目","6球目","7球目",null,"打順","打者","背番","投球判定","1球目","2球目","3球目","4球目","5球目","6球目","7球目",null,"打順","打者","背番","投球判定","1球目","2球目","3球目","4球目","5球目","6球目","7球目",null,"打順","打者","背番","投球判定","1球目","2球目","3球目","4球目","5球目","6球目","7球目",null,"打順","打者","背番","投球判定","1球目","2球目","3球目","4球目","5球目","6球目","7球目",null,"打順","打者","背番","投球判定","1球目","2球目","3球目","4球目","5球目","6球目","7球目",null,"打順","打者","背番","投球判定","1球目","2球目","3球目","4球目","5球目","6球目","7球目",null,"打順","打者","背番","投球判定","1球目","2球目","3球目","4球目","5球目","6球目","7球目",null,"打順","打者","背番","投球判定","1球目","2球目","3球目","4球目","5球目","6球目","7球目",null,"打順","打者","背番","投球判定","1球目","2球目","3球目","4球目","5球目","6球目","7球目"]
[null,"⑥",{"$f":"IF(score!$J$36=\"\",\"\",score!$J$36)","v":"高橋　佑輔"},{"$f":"IF(score!$L$36=\"\",\"\",score!$L$36)","v":3},null,null,null,null,null,null,null,null,null,"⑥",{"$f":"IF(score!$J$36=\"\",\"\",score!$J$36)","v":"高橋　佑輔"},{"$f":"IF(score!$L$36=\"\",\"\",score!$L$36)","v":3},null,"ボール","ボール","ファウル","ヒッティング",null,null,null,null,"⑥",{"$f":"IF(score!$J$36=\"\",\"\",score!$J$36)","v":"高橋　佑輔"},{"$f":"IF(score!$L$36=\"\",\"\",score!$L$36)","v":3},null,null,null,null,null,null,null,null,null,"⑥",{"$f":"IF(score!$J$36=\"\",\"\",score!$J$36)","v":"高橋　佑輔"},{"$f":"IF(score!$L$36=\"\",\"\",score!$L$36)","v":3},null,"ヒッティング",null,null,null,null,null,null,null,"⑥",{"$f":"IF(score!$J$36=\"\",\"\",score!$J$36)","v":"高橋　佑輔"},{"$f":"IF(score!$L$36=\"\",\"\",score!$L$36)","v":3},null,null,null,null,null,null,null,null,null,"⑥",{"$f":"IF(score!$J$36=\"\",\"\",score!$J$36)","v":"高橋　佑輔"},{"$f":"IF(score!$L$36=\"\",\"\",score!$L$36)","v":3},null,null,null,null,null,null,null,null,null,"⑥",{"$f":"IF(score!$J$36=\"\",\"\",score!$J$36)","v":"高橋　佑輔"},{"$f":"IF(score!$L$36=\"\",\"\",score!$L$36)","v":3},null,"見逃ストライク","ボール","見逃ストライク","ボール","ボール","ヒッティング",null,null,"⑥",{"$f":"IF(score!$J$36=\"\",\"\",score!$J$36)","v":"高橋　佑輔"},{"$f":"IF(score!$L$36=\"\",\"\",score!$L$36)","v":3},null,null,null,null,null,null,null,null,null,"⑥",{"$f":"IF(score!$J$36=\"\",\"\",score!$J$36)","v":"高橋　佑輔"},{"$f":"IF(score!$L$36=\"\",\"\",score!$L$36)","v":3},null,"見逃ストライク","ボール","空振ストライク","ファウル","ボール","空振ストライク",null,null,"⑥",{"$f":"IF(score!$J$36=\"\",\"\",score!$J$36)","v":"高橋　佑輔"},{"$f":"IF(score!$L$36=\"\",\"\",score!$L$36)","v":3},null,null,null,null,null,null,null,null,null,"⑥",{"$f":"IF(score!$J$36=\"\",\"\",score!$J$36)","v":"高橋　佑輔"},{"$f":"IF(score!$L$36=\"\",\"\",score!$L$36)","v":3},null,null,null,null,null,null,null,null,null,"⑥",{"$f":"IF(score!$J$36=\"\",\"\",score!$J$36)","v":"高橋　佑輔"},{"$f":"IF(score!$L$36=\"\",\"\",score!$L$36)","v":3}]
[null,null,{"$f":"IF(score!$J$37=\"\",\"\",score!$J$37)","v":""},{"$f":"IF(score!$L$37=\"\",\"\",score!$L$37)","v":""},null,"8球目","9球目","10球目","11球目","12球目","13球目","14球目",null,null,{"$f":"IF(score!$J$37=\"\",\"\",score!$J$37)","v":""},{"$f":"IF(score!$L$37=\"\",\"\",score!$L$37)","v":""},null,"8球目","9球目","10球目","11球目","12球目","13球目","14球目",null,null,{"$f":"IF(score!$J$37=\"\",\"\",score!$J$37)","v":""},{"$f":"IF(score!$L$37=\"\",\"\",score!$L$37)","v":""},null,"8球目","9球目","10球目","11球目","12球目","13球目","14球目",null,null,{"$f":"IF(score!$J$37=\"\",\"\",score!$J$37)","v":""},{"$f":"IF(score!$L$37=\"\",\"\",score!$L$37)","v":""},null,"8球目","9球目","10球目","11球目","12球目","13球目","14球目",null,null,{"$f":"IF(score!$J$37=\"\",\"\",score!$J$37)","v":""},{"$f":"IF(score!$L$37=\"\",\"\",score!$L$37)","v":""},null,"8球目","9球目","10球目","11球目","12球目","13球目","14球目",null,null,{"$f":"IF(score!$J$37=\"\",\"\",score!$J$37)","v":""},{"$f":"IF(score!$L$37=\"\",\"\",score!$L$37)","v":""},null,"8球目","9球目","10球目","11球目","12球目","13球目","14球目",null,null,{"$f":"IF(score!$J$37=\"\",\"\",score!$J$37)","v":""},{"$f":"IF(score!$L$37=\"\",\"\",score!$L$37)","v":""},null,"8球目","9球目","10球目","11球目","12球目","13球目","14球目",null,null,{"$f":"IF(score!$J$37=\"\",\"\",score!$J$37)","v":""},{"$f":"IF(score!$L$37=\"\",\"\",score!$L$37)","v":""},null,"8球目","9球目","10球目","11球目","12球目","13球目","14球目",null,null,{"$f":"IF(score!$J$37=\"\",\"\",score!$J$37)","v":""},{"$f":"IF(score!$L$37=\"\",\"\",score!$L$37)","v":""},null,"8球目","9球目","10球目","11球目","12球目","13球目","14球目",null,null,{"$f":"IF(score!$J$37=\"\",\"\",score!$J$37)","v":""},{"$f":"IF(score!$L$37=\"\",\"\",score!$L$37)","v":""},null,"8球目","9球目","10球目","11球目","12球目","13球目","14球目",null,null,{"$f":"IF(score!$J$37=\"\",\"\",score!$J$37)","v":""},{"$f":"IF(score!$L$37=\"\",\"\",score!$L$37)","v":""},null,"8球目","9球目","10球目","11球目","12球目","13球目","14球目",null,null,{"$f":"IF(score!$J$37=\"\",\"\",score!$J$37)","v":""},{"$f":"IF(score!$L$37=\"\",\"\",score!$L$37)","v":""},null,"8球目","9球目","10球目","11球目","12球目","13球目","14球目"]
[null,null,{"$f":"IF(score!$J$38=\"\",\"\",score!$J$38)","v":""},{"$f":"IF(score!$L$38=\"\",\"\",score!$L$38)","v":""},null,null,null,null,null,null,null,null,null,null,{"$f":"IF(score!$J$38=\"\",\"\",score!$J$38)","v":""},{"$f":"IF(score!$L$38=\"\",\"\",score!$L$38)","v":""},null,null,null,null,null,null,null,null,null,null,{"$f":"IF(score!$J$38=\"\",\"\",score!$J$38)","v":""},{"$f":"IF(score!$L$38=\"\",\"\",score!$L$38)","v":""},null,null,null,null,null,null,null,null,null,null,{"$f":"IF(score!$J$38=\"\",\"\",score!$J$38)","v":""},{"$f":"IF(score!$L$38=\"\",\"\",score!$L$38)","v":""},null,null,null,null,null,null,null,null,null,null,{"$f":"IF(score!$J$38=\"\",\"\",score!$J$38)","v":""},{"$f":"IF(score!$L$38=\"\",\"\",score!$L$38)","v":""},null,null,null,null,null,null,null,null,null,null,{"$f":"IF(score!$J$38=\"\",\"\",score!$J$38)","v":""},{"$f":"IF(score!$L$38=\"\",\"\",score!$L$38)","v":""},null,null,null,null,null,null,null,null,null,null,{"$f":"IF(score!$J$38=\"\",\"\",score!$J$38)","v":""},{"$f":"IF(score!$L$38=\"\",\"\",score!$L$38)","v":""},null,null,null,null,null,null,null,null,null,null,{"$f":"IF(score!$J$38=\"\",\"\",score!$J$38)","v":""},{"$f":"IF(score!$L$38=\"\",\"\",score!$L$38)","v":""},null,null,null,null,null,null,null,null,null,null,{"$f":"IF(score!$J$38=\"\",\"\",score!$J$38)","v":""},{"$f":"IF(score!$L$38=\"\",\"\",score!$L$38)","v":""},null,null,null,null,null,null,null,null,null,null,{"$f":"IF(score!$J$38=\"\",\"\",score!$J$38)","v":""},{"$f":"IF(score!$L$38=\"\",\"\",score!$L$38)","v":""},null,null,null,null,null,null,null,null,null,null,{"$f":"IF(score!$J$38=\"\",\"\",score!$J$38)","v":""},{"$f":"IF(score!$L$38=\"\",\"\",score!$L$38)","v":""},null,null,null,null,null,null,null,null,null,null,{"$f":"IF(score!$J$38=\"\",\"\",score!$J$38)","v":""},{"$f":"IF(score!$L$38=\"\",\"\",score!$L$38)","v":""}]
[null,null,{"$f":"IF(score!$J$39=\"\",\"\",score!$J$39)","v":""},{"$f":"IF(score!$L$39=\"\",\"\",score!$L$39)","v":""},null,"1塁ベース","2塁ベース","3塁ベース","ホームベース","アウト・得点等","打点","得点圏打席？",null,null,{"$f":"IF(score!$J$39=\"\",\"\",score!$J$39)","v":""},{"$f":"IF(score!$L$39=\"\",\"\",score!$L$39)","v":""},null,"1塁ベース","2塁ベース","3塁ベース","ホームベース","アウト・得点等","打点","得点圏打席？",null,null,{"$f":"IF(score!$J$39=\"\",\"\",score!$J$39)","v":""},{"$f":"IF(score!$L$39=\"\",\"\",score!$L$39)","v":""},null,"1塁ベース","2塁ベース","3塁ベース","ホームベース","アウト・得点等","打点","得点圏打席？",null,null,{"$f":"IF(score!$J$39=\"\",\"\",score!$J$39)","v":""},{"$f":"IF(score!$L$39=\"\",\"\",score!$L$39)","v":""},null,"1塁ベース","2塁ベース","3塁ベース","ホームベース","アウト・得点等","打点","得点圏打席？",null,null,{"$f":"IF(score!$J$39=\"\",\"\",score!$J$39)","v":""},{"$f":"IF(score!$L$39=\"\",\"\",score!$L$39)","v":""},null,"1塁ベース","2塁ベース","3塁ベース","ホームベース","アウト・得点等","打点","得点圏打席？",null,null,{"$f":"IF(score!$J$39=\"\",\"\",score!$J$39)","v":""},{"$f":"IF(score!$L$39=\"\",\"\",score!$L$39)","v":""},null,"1塁ベース","2塁ベース","3塁ベース","ホームベース","アウト・得点等","打点","得点圏打席？",null,null,{"$f":"IF(score!$J$39=\"\",\"\",score!$J$39)","v":""},{"$f":"IF(score!$L$39=\"\",\"\",score!$L$39)","v":""},null,"1塁ベース","2塁ベース","3塁ベース","ホームベース","アウト・得点等","打点","得点圏打席？",null,null,{"$f":"IF(score!$J$39=\"\",\"\",score!$J$39)","v":""},{"$f":"IF(score!$L$39=\"\",\"\",score!$L$39)","v":""},null,"1塁ベース","2塁ベース","3塁ベース","ホームベース","アウト・得点等","打点","得点圏打席？",null,null,{"$f":"IF(score!$J$39=\"\",\"\",score!$J$39)","v":""},{"$f":"IF(score!$L$39=\"\",\"\",score!$L$39)","v":""},null,"1塁ベース","2塁ベース","3塁ベース","ホームベース","アウト・得点等","打点","得点圏打席？",null,null,{"$f":"IF(score!$J$39=\"\",\"\",score!$J$39)","v":""},{"$f":"IF(score!$L$39=\"\",\"\",score!$L$39)","v":""},null,"1塁ベース","2塁ベース","3塁ベース","ホームベース","アウト・得点等","打点","得点圏打席？",null,null,{"$f":"IF(score!$J$39=\"\",\"\",score!$J$39)","v":""},{"$f":"IF(score!$L$39=\"\",\"\",score!$L$39)","v":""},null,"1塁ベース","2塁ベース","3塁ベース","ホームベース","アウト・得点等","打点","得点圏打席？",null,null,{"$f":"IF(score!$J$39=\"\",\"\",score!$J$39)","v":""},{"$f":"IF(score!$L$39=\"\",\"\",score!$L$39)","v":""},null,"1塁ベース","2塁ベース","3塁ベース","ホームベース","アウト・得点等","打点","得点圏打席？"]
[null,null,{"$f":"IF(score!$J$40=\"\",\"\",score!$J$40)","v":""},{"$f":"IF(score!$L$40=\"\",\"\",score!$L$40)","v":""},"打撃結果",null,null,null,null,null,null,null,null,null,{"$f":"IF(score!$J$40=\"\",\"\",score!$J$40)","v":""},{"$f":"IF(score!$L$40=\"\",\"\",score!$L$40)","v":""},"打撃結果","ヒット出塁","盗塁成功",null,null,"残塁",null,null,null,null,{"$f":"IF(score!$J$40=\"\",\"\",score!$J$40)","v":""},{"$f":"IF(score!$L$40=\"\",\"\",score!$L$40)","v":""},"打撃結果",null,null,null,null,null,null,null,null,null,{"$f":"IF(score!$J$40=\"\",\"\",score!$J$40)","v":""},{"$f":"IF(score!$L$40=\"\",\"\",score!$L$40)","v":""},"打撃結果","凡打",null,null,null,"2アウト",null,null,null,null,{"$f":"IF(score!$J$40=\"\",\"\",score!$J$40)","v":""},{"$f":"IF(score!$L$40=\"\",\"\",score!$L$40)","v":""},"打撃結果",null,null,null,null,null,null,null,null,null,{"$f":"IF(score!$J$40=\"\",\"\",score!$J$40)","v":""},{"$f":"IF(score!$L$40=\"\",\"\",score!$L$40)","v":""},"打撃結果",null,null,null,null,null,null,null,null,null,{"$f":"IF(score!$J$40=\"\",\"\",score!$J$40)","v":""},{"$f":"IF(score!$L$40=\"\",\"\",score!$L$40)","v":""},"打撃結果","ヒット出塁",null,null,"8番打者","得点",null,null,null,null,{"$f":"IF(score!$J$40=\"\",\"\",score!$J$40)","v":""},{"$f":"IF(score!$L$40=\"\",\"\",score!$L$40)","v":""},"打撃結果",null,null,null,null,null,null,null,null,null,{"$f":"IF(score!$J$40=\"\",\"\",score!$J$40)","v":""},{"$f":"IF(score!$L$40=\"\",\"\",score!$L$40)","v":""},"打撃結果","空振り三振",null,null,null,"2アウト",null,null,null,null,{"$f":"IF(score!$J$40=\"\",\"\",score!$J$40)","v":""},{"$f":"IF(score!$L$40=\"\",\"\",score!$L$40)","v":""},"打撃結果",null,null,null,null,null,null,null,null,null,{"$f":"IF(score!$J$40=\"\",\"\",score!$J$40)","v":""},{"$f":"IF(score!$L$40=\"\",\"\",score!$L$40)","v":""},"打撃結果",null,null,null,null,null,null,null,null,null,{"$f":"IF(score!$J$40=\"\",\"\",score!$J$40)","v":""},{"$f":"IF(score!$L$40=\"\",\"\",score!$L$40)","v":""},"打撃結果"]
[null,null,null,{"$f":"IFERROR(VLOOKUP(C54,#REF!,3,FALSE),\"\")","v":""},"打球状態",null,null,null,null,null,null,null,null,null,null,{"$f":"IFERROR(VLOOKUP(O54,#REF!,3,FALSE),\"\")","v":""},"打球状態","ゴロ",null,null,null,null,null,null,null,null,null,{"$f":"IFERROR(VLOOKUP(AA54,#REF!,3,FALSE),\"\")","v":""},"打球状態",null,0,0,0,0,0,null,null,null,null,{"$f":"IFERROR(VLOOKUP(AM54,#REF!,3,FALSE),\"\")","v":""},"打球状態","ゴロ",null,null,null,null,null,"得点圏打席",null,null,null,{"$f":"IFERROR(VLOOKUP(AY54,#REF!,3,FALSE),\"\")","v":""},"打球状態",null,0,0,0,0,0,null,null,null,null,{"$f":"IFERROR(VLOOKUP(BK54,#REF!,3,FALSE),\"\")","v":""},"打球状態",null,0,0,0,0,0,null,null,null,null,{"$f":"IFERROR(VLOOKUP(BW54,#REF!,3,FALSE),\"\")","v":""},"打球状態","ゴロ",null,null,null,null,null,null,null,null,null,{"$f":"IFERROR(VLOOKUP(CI54,#REF!,3,FALSE),\"\")","v":""},"打球状態",null,0,0,0,0,0,null,null,null,null,{"$f":"IFERROR(VLOOKUP(CU54,#REF!,3,FALSE),\"\")","v":""},"打球状態",null,null,null,null,null,null,null,null,null,null,{"$f":"IFERROR(VLOOKUP(DG54,#REF!,3,FALSE),\"\")","v":""},"打球状態",null,0,0,0,0,0,null,null,null,null,{"$f":"IFERROR(VLOOKUP(DS54,#REF!,3,FALSE),\"\")","v":""},"打球状態",null,0,0,0,0,0,null,null,null,null,{"$f":"IFERROR(VLOOKUP(EE54,#REF!,3,FALSE),\"\")","v":""},"打球状態",null,0,0,0,0,0]
[null,null,null,{"$f":"IFERROR(VLOOKUP(C55,#REF!,3,FALSE),\"\")","v":""},"打球方向",null,null,null,null,null,null,null,null,null,null,{"$f":"IFERROR(VLOOKUP(O55,#REF!,3,FALSE),\"\")","v":""},"打球方向","レフト",null,null,null,null,null,null,null,null,null,{"$f":"IFERROR(VLOOKUP(AA55,#REF!,3,FALSE),\"\")","v":""},"打球方向",null,null,null,null,0,0,0,null,null,null,{"$f":"IFERROR(VLOOKUP(AM55,#REF!,3,FALSE),\"\")","v":""},"打球方向","遊撃手",null,null,null,null,null,null,null,null,null,{"$f":"IFERROR(VLOOKUP(AY55,#REF!,3,FALSE),\"\")","v":""},"打球方向",null,null,null,null,0,0,0,null,null,null,{"$f":"IFERROR(VLOOKUP(BK55,#REF!,3,FALSE),\"\")","v":""},"打球方向",null,null,null,null,0,0,0,null,null,null,{"$f":"IFERROR(VLOOKUP(BW55,#REF!,3,FALSE),\"\")","v":""},"打球方向","センター",null,null,null,null,null,0,null,null,null,{"$f":"IFERROR(VLOOKUP(CI55,#REF!,3,FALSE),\"\")","v":""},"打球方向",null,null,null,null,0,0,0,null,null,null,{"$f":"IFERROR(VLOOKUP(CU55,#REF!,3,FALSE),\"\")","v":""},"打球方向",null,null,null,null,0,0,0,null,null,null,{"$f":"IFERROR(VLOOKUP(DG55,#REF!,3,FALSE),\"\")","v":""},"打球方向",null,null,null,null,0,0,0,null,null,null,{"$f":"IFERROR(VLOOKUP(DS55,#REF!,3,FALSE),\"\")","v":""},"打球方向",null,null,null,null,0,0,0,null,null,null,{"$f":"IFERROR(VLOOKUP(EE55,#REF!,3,FALSE),\"\")","v":""},"打球方向",null,null,null,null,0,0,0]
[null,{"$f":"B47","v":1},{"$f":"C47","v":"回表"},"確定:",{"$f":"D58","v":9},"相手T投手:",{"$f":"IF(E56=\"\",\"\",IF(E56=(D58+0.2),\"2\",IF(E56=(D58+0.3),\"3\",IF(E56=(D58+0.4),\"4\",IF(E56=(D58+0.5),\"5\",\"先\")))))","v":"先"},null,null,null,null,null,null,{"$f":"N47","v":2},{"$f":"O47","v":"回表"},"確定:",{"$f":"P58","v":9},"相手T投手:",{"$f":"IF(Q56=\"\",\"\",IF(Q56=(P58+0.2),\"2\",IF(Q56=(P58+0.3),\"3\",IF(Q56=(P58+0.4),\"4\",IF(Q56=(P58+0.5),\"5\",\"先\")))))","v":"先"},null,null,null,null,null,null,{"$f":"Z47","v":3},{"$f":"AA47","v":"回表"},"確定:",{"$f":"AB58","v":9},"相手T投手:",{"$f":"IF(AC56=\"\",\"\",IF(AC56=(AB58+0.2),\"2\",IF(AC56=(AB58+0.3),\"3\",IF(AC56=(AB58+0.4),\"4\",IF(AC56=(AB58+0.5),\"5\",\"先\")))))","v":"先"},null,null,null,null,null,null,{"$f":"AL47","v":4},{"$f":"AM47","v":"回表"},"確定:",{"$f":"AN58","v":9},"相手T投手:",{"$f":"IF(AO56=\"\",\"\",IF(AO56=(AN58+0.2),\"2\",IF(AO56=(AN58+0.3),\"3\",IF(AO56=(AN58+0.4),\"4\",IF(AO56=(AN58+0.5),\"5\",\"先\")))))","v":"先"},null,null,null,null,null,null,{"$f":"AX47","v":5},{"$f":"AY47","v":"回表"},"確定:",{"$f":"AO56","v":9},"相手T投手:",{"$f":"IF(BA56=\"\",\"\",IF(BA56=(AZ58+0.2),\"2\",IF(BA56=(AZ58+0.3),\"3\",IF(BA56=(AZ58+0.4),\"4\",IF(BA56=(AZ58+0.5),\"5\",\"先\")))))","v":"先"},null,null,null,null,null,null,{"$f":"BJ47","v":6},{"$f":"BK47","v":"回表"},"確定:",{"$f":"BA56","v":9},"相手T投手:",{"$f":"IF(BM56=\"\",\"\",IF(BM56=(BL58+0.2),\"2\",IF(BM56=(BL58+0.3),\"3\",IF(BM56=(BL58+0.4),\"4\",IF(BM56=(BL58+0.5),\"5\",\"先\")))))","v":"先"},null,null,null,null,null,null,{"$f":"BV47","v":7},{"$f":"BW47","v":"回表"},"確定:",{"$f":"BM56","v":9},"相手T投手:",{"$f":"IF(BY56=\"\",\"\",IF(BY56=(BX58+0.2),\"2\",IF(BY56=(BX58+0.3),\"3\",IF(BY56=(BX58+0.4),\"4\",IF(BY56=(BX58+0.5),\"5\",\"先\")))))","v":"先"},null,null,null,null,null,null,{"$f":"CH47","v":8},{"$f":"CI47","v":"回表"},"確定:",{"$f":"BY56","v":9},"相手T投手:",{"$f":"IF(CK56=\"\",\"\",IF(CK56=(CJ58+0.2),\"2\",IF(CK56=(CJ58+0.3),\"3\",IF(CK56=(CJ58+0.4),\"4\",IF(CK56=(CJ58+0.5),\"5\",\"先\")))))","v":"先"},null,null,null,null,null,null,{"$f":"CT47","v":9},{"$f":"CU47","v":"回表"},"確定:",{"$f":"CK56","v":9},"相手T投手:",{"$f":"IF(CW56=\"\",\"\",IF(CW56=(CV58+0.2),\"2\",IF(CW56=(CV58+0.3),\"3\",IF(CW56=(CV58+0.4),\"4\",IF(CW56=(CV58+0.5),\"5\",\"先\")))))","v":"先"},null,null,null,null,null,null,{"$f":"DF47","v":10},{"$f":"DG47","v":"回表"},"確定:",{"$f":"CW56","v":9},"相手T投手:",{"$f":"IF(DI56=\"\",\"\",IF(DI56=(DH58+0.2),\"2\",IF(DI56=(DH58+0.3),\"3\",IF(DI56=(DH58+0.4),\"4\",IF(DI56=(DH58+0.5),\"5\",\"先\")))))","v":"先"},null,null,null,null,null,null,{"$f":"DR47","v":11},{"$f":"DS47","v":"回表"},"確定:",{"$f":"DI56","v":9},"相手T投手:",{"$f":"IF(DU56=\"\",\"\",IF(DU56=(DT58+0.2),\"2\",IF(DU56=(DT58+0.3),\"3\",IF(DU56=(DT58+0.4),\"4\",IF(DU56=(DT58+0.5),\"5\",\"先\")))))","v":"先"},null,null,null,null,null,null,{"$f":"ED47","v":12},{"$f":"EE47","v":"回表"},"確定:",{"$f":"DU56","v":9},"相手T投手:",{"$f":"IF(EG56=\"\",\"\",IF(EG56=(EF58+0.2),\"2\",IF(EG56=(EF58+0.3),\"3\",IF(EG56=(EF58+0.4),\"4\",IF(EG56=(EF58+0.5),\"5\",\"先\")))))","v":"先"}]
[null,"打順","打者","背番","投球判定","1球目","2球目","3球目","4球目","5球目","6球目","7球目",null,"打順","打者","背番","投球判定","1球目","2球目","3球目","4球目","5球目","6球目","7球目",null,"打順","打者","背番","投球判定","1球目","2球目","3球目","4球目","5球目","6球目","7球目",null,"打順","打者","背番","投球判定","1球目","2球目","3球目","4球目","5球目","6球目","7球目",null,"打順","打者","背番","投球判定","1球目","2球目","3球目","4球目","5球目","6球目","7球目",null,"打順","打者","背番","投球判定","1球目","2球目","3球目","4球目","5球目","6球目","7球目",null,"打順","打者","背番","投球判定","1球目","2球目","3球目","4球目","5球目","6球目","7球目",null,"打順","打者","背番","投球判定","1球目","2球目","3球目","4球目","5球目","6球目","7球目",null,"打順","打者","背番","投球判定","1球目","2球目","3球目","4球目","5球目","6球目","7球目",null,"打順","打者","背番","投球判定","1球目","2球目","3球目","4球目","5球目","6球目","7球目",null,"打順","打者","背番","投球判定","1球目","2球目","3球目","4球目","5球目","6球目","7球目",null,"打順","打者","背番","投球判定","1球目","2球目","3球目","4球目","5球目","6球目","7球目"]
[null,"⑦",{"$f":"IF(score!$J$42=\"\",\"\",score!$J$42)","v":"菊池　彪吾"},{"$f":"IF(score!$L$42=\"\",\"\",score!$L$42)","v":9},null,null,null,null,null,null,null,null,null,"⑦",{"$f":"IF(score!$J$42=\"\",\"\",score!$J$42)","v":"菊池　彪吾"},{"$f":"IF(score!$L$42=\"\",\"\",score!$L$42)","v":9},null,"見逃ストライク","ファウル","ボール","ボール","ボール","ボール",null,null,"⑦",{"$f":"IF(score!$J$42=\"\",\"\",score!$J$42)","v":"菊池　彪吾"},{"$f":"IF(score!$L$42=\"\",\"\",score!$L$42)","v":9},null,null,null,null,null,null,null,null,null,"⑦",{"$f":"IF(score!$J$42=\"\",\"\",score!$J$42)","v":"菊池　彪吾"},{"$f":"IF(score!$L$42=\"\",\"\",score!$L$42)","v":9},null,"見逃ストライク","ボール","ボール","空振ストライク","ボール","ボール",null,null,"⑦",{"$f":"IF(score!$J$42=\"\",\"\",score!$J$42)","v":"菊池　彪吾"},{"$f":"IF(score!$L$42=\"\",\"\",score!$L$42)","v":9},null,null,null,null,null,null,null,null,null,"⑦",{"$f":"IF(score!$J$42=\"\",\"\",score!$J$42)","v":"菊池　彪吾"},{"$f":"IF(score!$L$42=\"\",\"\",score!$L$42)","v":9},null,null,null,null,null,null,null,null,null,"⑦",{"$f":"IF(score!$J$42=\"\",\"\",score!$J$42)","v":"菊池　彪吾"},{"$f":"IF(score!$L$42=\"\",\"\",score!$L$42)","v":9},null,"見逃ストライク","ヒッティング",null,null,null,null,null,null,"⑦",{"$f":"IF(score!$J$42=\"\",\"\",score!$J$42)","v":"菊池　彪吾"},{"$f":"IF(score!$L$42=\"\",\"\",score!$L$42)","v":9},null,null,null,null,null,null,null,null,null,"⑦",{"$f":"IF(score!$J$42=\"\",\"\",score!$J$42)","v":"菊池　彪吾"},{"$f":"IF(score!$L$42=\"\",\"\",score!$L$42)","v":9},null,"ボール","ボール","ヒッティング",null,null,null,null,null,"⑦",{"$f":"IF(score!$J$42=\"\",\"\",score!$J$42)","v":"菊池　彪吾"},{"$f":"IF(score!$L$42=\"\",\"\",score!$L$42)","v":9},null,null,null,null,null,null,null,null,null,"⑦",{"$f":"IF(score!$J$42=\"\",\"\",score!$J$42)","v":"菊池　彪吾"},{"$f":"IF(score!$L$42=\"\",\"\",score!$L$42)","v":9},null,null,null,null,null,null,null,null,null,"⑦",{"$f":"IF(score!$J$42=\"\",\"\",score!$J$42)","v":"菊池　彪吾"},{"$f":"IF(score!$L$42=\"\",\"\",score!$L$42)","v":9}]
[null,null,{"$f":"IF(score!$J$43=\"\",\"\",score!$J$43)","v":""},{"$f":"IF(score!$L$43=\"\",\"\",score!$L$43)","v":""},null,"8球目","9球目","10球目","11球目","12球目","13球目","14球目",null,null,{"$f":"IF(score!$J$43=\"\",\"\",score!$J$43)","v":""},{"$f":"IF(score!$L$43=\"\",\"\",score!$L$43)","v":""},null,"8球目","9球目","10球目","11球目","12球目","13球目","14球目",null,null,{"$f":"IF(score!$J$43=\"\",\"\",score!$J$43)","v":""},{"$f":"IF(score!$L$43=\"\",\"\",score!$L$43)","v":""},null,"8球目","9球目","10球目","11球目","12球目","13球目","14球目",null,null,{"$f":"IF(score!$J$43=\"\",\"\",score!$J$43)","v":""},{"$f":"IF(score!$L$43=\"\",\"\",score!$L$43)","v":""},null,"8球目","9球目","10球目","11球目","12球目","13球目","14球目",null,null,{"$f":"IF(score!$J$43=\"\",\"\",score!$J$43)","v":""},{"$f":"IF(score!$L$43=\"\",\"\",score!$L$43)","v":""},null,"8球目","9球目","10球目","11球目","12球目","13球目","14球目",null,null,{"$f":"IF(score!$J$43=\"\",\"\",score!$J$43)","v":""},{"$f":"IF(score!$L$43=\"\",\"\",score!$L$43)","v":""},null,"8球目","9球目","10球目","11球目","12球目","13球目","14球目",null,null,{"$f":"IF(score!$J$43=\"\",\"\",score!$J$43)","v":""},{"$f":"IF(score!$L$43=\"\",\"\",score!$L$43)","v":""},null,"8球目","9球目","10球目","11球目","12球目","13球目","14球目",null,null,{"$f":"IF(score!$J$43=\"\",\"\",score!$J$43)","v":""},{"$f":"IF(score!$L$43=\"\",\"\",score!$L$43)","v":""},null,"8球目","9球目","10球目","11球目","12球目","13球目","14球目",null,null,{"$f":"IF(score!$J$43=\"\",\"\",score!$J$43)","v":""},{"$f":"IF(score!$L$43=\"\",\"\",score!$L$43)","v":""},null,"8球目","9球目","10球目","11球目","12球目","13球目","14球目",null,null,{"$f":"IF(score!$J$43=\"\",\"\",score!$J$43)","v":""},{"$f":"IF(score!$L$43=\"\",\"\",score!$L$43)","v":""},null,"8球目","9球目","10球目","11球目","12球目","13球目","14球目",null,null,{"$f":"IF(score!$J$43=\"\",\"\",score!$J$43)","v":""},{"$f":"IF(score!$L$43=\"\",\"\",score!$L$43)","v":""},null,"8球目","9球目","10球目","11球目","12球目","13球目","14球目",null,null,{"$f":"IF(score!$J$43=\"\",\"\",score!$J$43)","v":""},{"$f":"IF(score!$L$43=\"\",\"\",score!$L$43)","v":""},null,"8球目","9球目","10球目","11球目","12球目","13球目","14球目"]
[null,null,{"$f":"IF(score!$J$44=\"\",\"\",score!$J$44)","v":""},{"$f":"IF(score!$L$44=\"\",\"\",score!$L$44)","v":""},null,null,null,null,null,null,null,null,null,null,{"$f":"IF(score!$J$44=\"\",\"\",score!$J$44)","v":""},{"$f":"IF(score!$L$44=\"\",\"\",score!$L$44)","v":""},null,null,null,null,null,null,null,null,null,null,{"$f":"IF(score!$J$44=\"\",\"\",score!$J$44)","v":""},{"$f":"IF(score!$L$44=\"\",\"\",score!$L$44)","v":""},null,null,null,null,null,null,null,null,null,null,{"$f":"IF(score!$J$44=\"\",\"\",score!$J$44)","v":""},{"$f":"IF(score!$L$44=\"\",\"\",score!$L$44)","v":""},null,null,null,null,null,null,null,null,null,null,{"$f":"IF(score!$J$44=\"\",\"\",score!$J$44)","v":""},{"$f":"IF(score!$L$44=\"\",\"\",score!$L$44)","v":""},null,null,null,null,null,null,null,null,null,null,{"$f":"IF(score!$J$44=\"\",\"\",score!$J$44)","v":""},{"$f":"IF(score!$L$44=\"\",\"\",score!$L$44)","v":""},null,null,null,null,null,null,null,null,null,null,{"$f":"IF(score!$J$44=\"\",\"\",score!$J$44)","v":""},{"$f":"IF(score!$L$44=\"\",\"\",score!$L$44)","v":""},null,null,null,null,null,null,null,null,null,null,{"$f":"IF(score!$J$44=\"\",\"\",score!$J$44)","v":""},{"$f":"IF(score!$L$44=\"\",\"\",score!$L$44)","v":""},null,null,null,null,null,null,null,null,null,null,{"$f":"IF(score!$J$44=\"\",\"\",score!$J$44)","v":""},{"$f":"IF(score!$L$44=\"\",\"\",score!$L$44)","v":""},null,null,null,null,null,null,null,null,null,null,{"$f":"IF(score!$J$44=\"\",\"\",score!$J$44)","v":""},{"$f":"IF(score!$L$44=\"\",\"\",score!$L$44)","v":""},null,null,null,null,null,null,null,null,null,null,{"$f":"IF(score!$J$44=\"\",\"\",score!$J$44)","v":""},{"$f":"IF(score!$L$44=\"\",\"\",score!$L$44)","v":""},null,null,null,null,null,null,null,null,null,null,{"$f":"IF(score!$J$44=\"\",\"\",score!$J$44)","v":""},{"$f":"IF(score!$L$44=\"\",\"\",score!$L$44)","v":""}]
[null,null,{"$f":"IF(score!$J$45=\"\",\"\",score!$J$45)","v":""},{"$f":"IF(score!$L$45=\"\",\"\",score!$L$45)","v":""},null,"1塁ベース","2塁ベース","3塁ベース","ホームベース","アウト・得点等","打点","得点圏打席？",null,null,{"$f":"IF(score!$J$45=\"\",\"\",score!$J$45)","v":""},{"$f":"IF(score!$L$45=\"\",\"\",score!$L$45)","v":""},null,"1塁ベース","2塁ベース","3塁ベース","ホームベース","アウト・得点等","打点","得点圏打席？",null,null,{"$f":"IF(score!$J$45=\"\",\"\",score!$J$45)","v":""},{"$f":"IF(score!$L$45=\"\",\"\",score!$L$45)","v":""},null,"1塁ベース","2塁ベース","3塁ベース","ホームベース","アウト・得点等","打点","得点圏打席？",null,null,{"$f":"IF(score!$J$45=\"\",\"\",score!$J$45)","v":""},{"$f":"IF(score!$L$45=\"\",\"\",score!$L$45)","v":""},null,"1塁ベース","2塁ベース","3塁ベース","ホームベース","アウト・得点等","打点","得点圏打席？",null,null,{"$f":"IF(score!$J$45=\"\",\"\",score!$J$45)","v":""},{"$f":"IF(score!$L$45=\"\",\"\",score!$L$45)","v":""},null,"1塁ベース","2塁ベース","3塁ベース","ホームベース","アウト・得点等","打点","得点圏打席？",null,null,{"$f":"IF(score!$J$45=\"\",\"\",score!$J$45)","v":""},{"$f":"IF(score!$L$45=\"\",\"\",score!$L$45)","v":""},null,"1塁ベース","2塁ベース","3塁ベース","ホームベース","アウト・得点等","打点","得点圏打席？",null,null,{"$f":"IF(score!$J$45=\"\",\"\",score!$J$45)","v":""},{"$f":"IF(score!$L$45=\"\",\"\",score!$L$45)","v":""},null,"1塁ベース","2塁ベース","3塁ベース","ホームベース","アウト・得点等","打点","得点圏打席？",null,null,{"$f":"IF(score!$J$45=\"\",\"\",score!$J$45)","v":""},{"$f":"IF(score!$L$45=\"\",\"\",score!$L$45)","v":""},null,"1塁ベース","2塁ベース","3塁ベース","ホームベース","アウト・得点等","打点","得点圏打席？",null,null,{"$f":"IF(score!$J$45=\"\",\"\",score!$J$45)","v":""},{"$f":"IF(score!$L$45=\"\",\"\",score!$L$45)","v":""},null,"1塁ベース","2塁ベース","3塁ベース","ホームベース","アウト・得点等","打点","得点圏打席？",null,null,{"$f":"IF(score!$J$45=\"\",\"\",score!$J$45)","v":""},{"$f":"IF(score!$L$45=\"\",\"\",score!$L$45)","v":""},null,"1塁ベース","2塁ベース","3塁ベース","ホームベース","アウト・得点等","打点","得点圏打席？",null,null,{"$f":"IF(score!$J$45=\"\",\"\",score!$J$45)","v":""},{"$f":"IF(score!$L$45=\"\",\"\",score!$L$45)","v":""},null,"1塁ベース","2塁ベース","3塁ベース","ホームベース","アウト・得点等","打点","得点圏打席？",null,null,{"$f":"IF(score!$J$45=\"\",\"\",score!$J$45)","v":""},{"$f":"IF(score!$L$45=\"\",\"\",score!$L$45)","v":""},null,"1塁ベース","2塁ベース","3塁ベース","ホームベース","アウト・得点等","打点","得点圏打席？"]
[null,null,{"$f":"IF(score!$J$46=\"\",\"\",score!$J$46)","v":""},{"$f":"IF(score!$L$46=\"\",\"\",score!$L$46)","v":""},"打撃結果",null,null,null,null,null,null,null,null,null,{"$f":"IF(score!$J$46=\"\",\"\",score!$J$46)","v":""},{"$f":"IF(score!$L$46=\"\",\"\",score!$L$46)","v":""},"打撃結果","四球出塁",null,null,null,"残塁",null,null,null,null,{"$f":"IF(score!$J$46=\"\",\"\",score!$J$46)","v":""},{"$f":"IF(score!$L$46=\"\",\"\",score!$L$46)","v":""},"打撃結果",null,null,null,null,null,null,null,null,null,{"$f":"IF(score!$J$46=\"\",\"\",score!$J$46)","v":""},{"$f":"IF(score!$L$46=\"\",\"\",score!$L$46)","v":""},"打撃結果","四球出塁",null,null,null,"残塁",null,null,null,null,{"$f":"IF(score!$J$46=\"\",\"\",score!$J$46)","v":""},{"$f":"IF(score!$L$46=\"\",\"\",score!$L$46)","v":""},"打撃結果",null,null,null,null,null,null,null,null,null,{"$f":"IF(score!$J$46=\"\",\"\",score!$J$46)","v":""},{"$f":"IF(score!$L$46=\"\",\"\",score!$L$46)","v":""},"打撃結果",null,null,null,null,null,null,null,null,null,{"$f":"IF(score!$J$46=\"\",\"\",score!$J$46)","v":""},{"$f":"IF(score!$L$46=\"\",\"\",score!$L$46)","v":""},"打撃結果","凡打",null,null,null,"1アウト",null,null,null,null,{"$f":"IF(score!$J$46=\"\",\"\",score!$J$46)","v":""},{"$f":"IF(score!$L$46=\"\",\"\",score!$L$46)","v":""},"打撃結果",null,null,null,null,null,null,null,null,null,{"$f":"IF(score!$J$46=\"\",\"\",score!$J$46)","v":""},{"$f":"IF(score!$L$46=\"\",\"\",score!$L$46)","v":""},"打撃結果","凡打",null,null,null,"3アウト",null,null,null,null,{"$f":"IF(score!$J$46=\"\",\"\",score!$J$46)","v":""},{"$f":"IF(score!$L$46=\"\",\"\",score!$L$46)","v":""},"打撃結果",null,null,null,null,null,null,null,null,null,{"$f":"IF(score!$J$46=\"\",\"\",score!$J$46)","v":""},{"$f":"IF(score!$L$46=\"\",\"\",score!$L$46)","v":""},"打撃結果",null,null,null,null,null,null,null,null,null,{"$f":"IF(score!$J$46=\"\",\"\",score!$J$46)","v":""},{"$f":"IF(score!$L$46=\"\",\"\",score!$L$46)","v":""},"打撃結果"]
[null,null,null,{"$f":"IFERROR(VLOOKUP(C63,#REF!,3,FALSE),\"\")","v":""},"打球状態",null,null,null,null,null,null,null,null,null,null,{"$f":"IFERROR(VLOOKUP(O63,#REF!,3,FALSE),\"\")","v":""},"打球状態",null,null,null,null,null,null,null,null,null,null,{"$f":"IFERROR(VLOOKUP(AA63,#REF!,3,FALSE),\"\")","v":""},"打球状態",null,0,0,0,0,0,null,null,null,null,{"$f":"IFERROR(VLOOKUP(AM63,#REF!,3,FALSE),\"\")","v":""},"打球状態",null,null,null,null,null,null,null,null,null,null,{"$f":"IFERROR(VLOOKUP(AY63,#REF!,3,FALSE),\"\")","v":""},"打球状態",null,0,0,0,0,0,null,null,null,null,{"$f":"IFERROR(VLOOKUP(BK63,#REF!,3,FALSE),\"\")","v":""},"打球状態",null,0,0,0,0,0,null,null,null,null,{"$f":"IFERROR(VLOOKUP(BW63,#REF!,3,FALSE),\"\")","v":""},"打球状態","フライ",0,0,0,0,0,null,null,null,null,{"$f":"IFERROR(VLOOKUP(CI63,#REF!,3,FALSE),\"\")","v":""},"打球状態",null,0,0,0,0,0,null,null,null,null,{"$f":"IFERROR(VLOOKUP(CU63,#REF!,3,FALSE),\"\")","v":""},"打球状態","フライ",null,null,null,null,0,null,null,null,null,{"$f":"IFERROR(VLOOKUP(DG63,#REF!,3,FALSE),\"\")","v":""},"打球状態",null,0,0,0,0,0,null,null,null,null,{"$f":"IFERROR(VLOOKUP(DS63,#REF!,3,FALSE),\"\")","v":""},"打球状態",null,0,0,0,0,0,null,null,null,null,{"$f":"IFERROR(VLOOKUP(EE63,#REF!,3,FALSE),\"\")","v":""},"打球状態",null,0,0,0,0,0]
[null,null,null,{"$f":"IFERROR(VLOOKUP(C64,#REF!,3,FALSE),\"\")","v":""},"打球方向",null,null,null,null,null,null,null,null,null,null,{"$f":"IFERROR(VLOOKUP(O64,#REF!,3,FALSE),\"\")","v":""},"打球方向",null,null,null,null,null,null,null,null,null,null,{"$f":"IFERROR(VLOOKUP(AA64,#REF!,3,FALSE),\"\")","v":""},"打球方向",null,null,null,null,0,0,0,null,null,null,{"$f":"IFERROR(VLOOKUP(AM64,#REF!,3,FALSE),\"\")","v":""},"打球方向",null,null,null,null,null,null,0,null,null,null,{"$f":"IFERROR(VLOOKUP(AY64,#REF!,3,FALSE),\"\")","v":""},"打球方向",null,null,null,null,0,0,0,null,null,null,{"$f":"IFERROR(VLOOKUP(BK64,#REF!,3,FALSE),\"\")","v":""},"打球方向",null,null,null,null,0,0,0,null,null,null,{"$f":"IFERROR(VLOOKUP(BW64,#REF!,3,FALSE),\"\")","v":""},"打球方向","遊撃手",null,null,null,0,0,0,null,null,null,{"$f":"IFERROR(VLOOKUP(CI64,#REF!,3,FALSE),\"\")","v":""},"打球方向",null,null,null,null,0,0,0,null,null,null,{"$f":"IFERROR(VLOOKUP(CU64,#REF!,3,FALSE),\"\")","v":""},"打球方向","ライト",null,null,null,null,0,0,null,null,null,{"$f":"IFERROR(VLOOKUP(DG64,#REF!,3,FALSE),\"\")","v":""},"打球方向",null,null,null,null,0,0,0,null,null,null,{"$f":"IFERROR(VLOOKUP(DS64,#REF!,3,FALSE),\"\")","v":""},"打球方向",null,null,null,null,0,0,0,null,null,null,{"$f":"IFERROR(VLOOKUP(EE64,#REF!,3,FALSE),\"\")","v":""},"打球方向",null,null,null,null,0,0,0]
[null,{"$f":"B56","v":1},{"$f":"C56","v":"回表"},"確定:",{"$f":"D67","v":2},"相手T投手:",{"$f":"IF(E65=\"\",\"\",IF(E65=(D67+0.2),\"2\",IF(E65=(D67+0.3),\"3\",IF(E65=(D67+0.4),\"4\",IF(E65=(D67+0.5),\"5\",\"先\")))))","v":"先"},null,null,null,null,null,null,{"$f":"N56","v":2},{"$f":"O56","v":"回表"},"確定:",{"$f":"P67","v":2},"相手T投手:",{"$f":"IF(Q65=\"\",\"\",IF(Q65=(P67+0.2),\"2\",IF(Q65=(P67+0.3),\"3\",IF(Q65=(P67+0.4),\"4\",IF(Q65=(P67+0.5),\"5\",\"先\")))))","v":"先"},null,null,null,null,null,null,{"$f":"Z56","v":3},{"$f":"AA56","v":"回表"},"確定:",{"$f":"AB67","v":2},"相手T投手:",{"$f":"IF(AC65=\"\",\"\",IF(AC65=(AB67+0.2),\"2\",IF(AC65=(AB67+0.3),\"3\",IF(AC65=(AB67+0.4),\"4\",IF(AC65=(AB67+0.5),\"5\",\"先\")))))","v":"先"},null,null,null,null,null,null,{"$f":"AL56","v":4},{"$f":"AM56","v":"回表"},"確定:",{"$f":"AN67","v":2},"相手T投手:",{"$f":"IF(AO65=\"\",\"\",IF(AO65=(AN67+0.2),\"2\",IF(AO65=(AN67+0.3),\"3\",IF(AO65=(AN67+0.4),\"4\",IF(AO65=(AN67+0.5),\"5\",\"先\")))))","v":"先"},null,null,null,null,null,null,{"$f":"AX56","v":5},{"$f":"AY56","v":"回表"},"確定:",{"$f":"AO65","v":2},"相手T投手:",{"$f":"IF(BA65=\"\",\"\",IF(BA65=(AZ67+0.2),\"2\",IF(BA65=(AZ67+0.3),\"3\",IF(BA65=(AZ67+0.4),\"4\",IF(BA65=(AZ67+0.5),\"5\",\"先\")))))","v":"先"},null,null,null,null,null,null,{"$f":"BJ56","v":6},{"$f":"BK56","v":"回表"},"確定:",{"$f":"BA65","v":2},"相手T投手:",{"$f":"IF(BM65=\"\",\"\",IF(BM65=(BL67+0.2),\"2\",IF(BM65=(BL67+0.3),\"3\",IF(BM65=(BL67+0.4),\"4\",IF(BM65=(BL67+0.5),\"5\",\"先\")))))","v":"先"},null,null,null,null,null,null,{"$f":"BV56","v":7},{"$f":"BW56","v":"回表"},"確定:",{"$f":"BM65","v":2},"相手T投手:",{"$f":"IF(BY65=\"\",\"\",IF(BY65=(BX67+0.2),\"2\",IF(BY65=(BX67+0.3),\"3\",IF(BY65=(BX67+0.4),\"4\",IF(BY65=(BX67+0.5),\"5\",\"先\")))))","v":"先"},null,null,null,null,null,null,{"$f":"CH56","v":8},{"$f":"CI56","v":"回表"},"確定:",{"$f":"BY65","v":2},"相手T投手:",{"$f":"IF(CK65=\"\",\"\",IF(CK65=(CJ67+0.2),\"2\",IF(CK65=(CJ67+0.3),\"3\",IF(CK65=(CJ67+0.4),\"4\",IF(CK65=(CJ67+0.5),\"5\",\"先\")))))","v":"先"},null,null,null,null,null,null,{"$f":"CT56","v":9},{"$f":"CU56","v":"回表"},"確定:",{"$f":"CK65","v":2},"相手T投手:",{"$f":"IF(CW65=\"\",\"\",IF(CW65=(CV67+0.2),\"2\",IF(CW65=(CV67+0.3),\"3\",IF(CW65=(CV67+0.4),\"4\",IF(CW65=(CV67+0.5),\"5\",\"先\")))))","v":"先"},null,null,null,null,null,null,{"$f":"DF56","v":10},{"$f":"DG56","v":"回表"},"確定:",{"$f":"CW65","v":2},"相手T投手:",{"$f":"IF(DI65=\"\",\"\",IF(DI65=(DH67+0.2),\"2\",IF(DI65=(DH67+0.3),\"3\",IF(DI65=(DH67+0.4),\"4\",IF(DI65=(DH67+0.5),\"5\",\"先\")))))","v":"先"},null,null,null,null,null,null,{"$f":"DR56","v":11},{"$f":"DS56","v":"回表"},"確定:",{"$f":"DI65","v":2},"相手T投手:",{"$f":"IF(DU65=\"\",\"\",IF(DU65=(DT67+0.2),\"2\",IF(DU65=(DT67+0.3),\"3\",IF(DU65=(DT67+0.4),\"4\",IF(DU65=(DT67+0.5),\"5\",\"先\")))))","v":"先"},null,null,null,null,null,null,{"$f":"ED56","v":12},{"$f":"EE56","v":"回表"},"確定:",{"$f":"DU65","v":2},"相手T投手:",{"$f":"IF(EG65=\"\",\"\",IF(EG65=(EF67+0.2),\"2\",IF(EG65=(EF67+0.3),\"3\",IF(EG65=(EF67+0.4),\"4\",IF(EG65=(EF67+0.5),\"5\",\"先\")))))","v":"先"}]
[null,"打順","打者","背番","投球判定","1球目","2球目","3球目","4球目","5球目","6球目","7球目",null,"打順","打者","背番","投球判定","1球目","2球目","3球目","4球目","5球目","6球目","7球目",null,"打順","打者","背番","投球判定","1球目","2球目","3球目","4球目","5球目","6球目","7球目",null,"打順","打者","背番","投球判定","1球目","2球目","3球目","4球目","5球目","6球目","7球目",null,"打順","打者","背番","投球判定","1球目","2球目","3球目","4球目","5球目","6球目","7球目",null,"打順","打者","背番","投球判定","1球目","2球目","3球目","4球目","5球目","6球目","7球目",null,"打順","打者","背番","投球判定","1球目","2球目","3球目","4球目","5球目","6球目","7球目",null,"打順","打者","背番","投球判定","1球目","2球目","3球目","4球目","5球目","6球目","7球目",null,"打順","打者","背番","投球判定","1球目","2球目","3球目","4球目","5球目","6球目","7球目",null,"打順","打者","背番","投球判定","1球目","2球目","3球目","4球目","5球目","6球目","7球目",null,"打順","打者","背番","投球判定","1球目","2球目","3球目","4球目","5球目","6球目","7球目",null,"打順","打者","背番","投球判定","1球目","2球目","3球目","4球目","5球目","6球目","7球目"]
[null,"⑧",{"$f":"IF(score!$J$48=\"\",\"\",score!$J$48)","v":"菊池　亮太"},{"$f":"IF(score!$L$48=\"\",\"\",score!$L$48)","v":2},null,null,null,null,null,null,null,null,null,"⑧",{"$f":"IF(score!$J$48=\"\",\"\",score!$J$48)","v":"菊池　亮太"},{"$f":"IF(score!$L$48=\"\",\"\",score!$L$48)","v":2},null,"見逃ストライク","ヒッティング",null,null,null,null,null,null,"⑧",{"$f":"IF(score!$J$48=\"\",\"\",score!$J$48)","v":"菊池　亮太"},{"$f":"IF(score!$L$48=\"\",\"\",score!$L$48)","v":2},null,null,null,null,null,null,null,null,null,"⑧",{"$f":"IF(score!$J$48=\"\",\"\",score!$J$48)","v":"菊池　亮太"},{"$f":"IF(score!$L$48=\"\",\"\",score!$L$48)","v":2},null,"ボール","ヒッティング",null,null,null,null,null,null,"⑧",{"$f":"IF(score!$J$48=\"\",\"\",score!$J$48)","v":"菊池　亮太"},{"$f":"IF(score!$L$48=\"\",\"\",score!$L$48)","v":2},null,null,null,null,null,null,null,null,null,"⑧",{"$f":"IF(score!$J$48=\"\",\"\",score!$J$48)","v":"菊池　亮太"},{"$f":"IF(score!$L$48=\"\",\"\",score!$L$48)","v":2},null,null,null,null,null,null,null,null,null,"⑧",{"$f":"IF(score!$J$48=\"\",\"\",score!$J$48)","v":"菊池　亮太"},{"$f":"IF(score!$L$48=\"\",\"\",score!$L$48)","v":2},null,"ボール","見逃ストライク","ヒッティング",null,null,null,null,null,"⑧",{"$f":"IF(score!$J$48=\"\",\"\",score!$J$48)","v":"菊池　亮太"},{"$f":"IF(score!$L$48=\"\",\"\",score!$L$48)","v":2},null,null,null,null,null,null,null,null,null,"⑧",{"$f":"IF(score!$J$48=\"\",\"\",score!$J$48)","v":"菊池　亮太"},{"$f":"IF(score!$L$48=\"\",\"\",score!$L$48)","v":2},null,null,null,null,null,null,null,null,null,"⑧",{"$f":"IF(score!$J$48=\"\",\"\",score!$J$48)","v":"菊池　亮太"},{"$f":"IF(score!$L$48=\"\",\"\",score!$L$48)","v":2},null,null,null,null,null,null,null,null,null,"⑧",{"$f":"IF(score!$J$48=\"\",\"\",score!$J$48)","v":"菊池　亮太"},{"$f":"IF(score!$L$48=\"\",\"\",score!$L$48)","v":2},null,null,null,null,null,null,null,null,null,"⑧",{"$f":"IF(score!$J$48=\"\",\"\",score!$J$48)","v":"菊池　亮太"},{"$f":"IF(score!$L$48=\"\",\"\",score!$L$48)","v":2}]
[null,null,{"$f":"IF(score!$J$49=\"\",\"\",score!$J$49)","v":""},{"$f":"IF(score!$L$49=\"\",\"\",score!$L$49)","v":""},null,"8球目","9球目","10球目","11球目","12球目","13球目","14球目",null,null,{"$f":"IF(score!$J$49=\"\",\"\",score!$J$49)","v":""},{"$f":"IF(score!$L$49=\"\",\"\",score!$L$49)","v":""},null,"8球目","9球目","10球目","11球目","12球目","13球目","14球目",null,null,{"$f":"IF(score!$J$49=\"\",\"\",score!$J$49)","v":""},{"$f":"IF(score!$L$49=\"\",\"\",score!$L$49)","v":""},null,"8球目","9球目","10球目","11球目","12球目","13球目","14球目",null,null,{"$f":"IF(score!$J$49=\"\",\"\",score!$J$49)","v":""},{"$f":"IF(score!$L$49=\"\",\"\",score!$L$49)","v":""},null,"8球目","9球目","10球目","11球目","12球目","13球目","14球目",null,null,{"$f":"IF(score!$J$49=\"\",\"\",score!$J$49)","v":""},{"$f":"IF(score!$L$49=\"\",\"\",score!$L$49)","v":""},null,"8球目","9球目","10球目","11球目","12球目","13球目","14球目",null,null,{"$f":"IF(score!$J$49=\"\",\"\",score!$J$49)","v":""},{"$f":"IF(score!$L$49=\"\",\"\",score!$L$49)","v":""},null,"8球目","9球目","10球目","11球目","12球目","13球目","14球目",null,null,{"$f":"IF(score!$J$49=\"\",\"\",score!$J$49)","v":""},{"$f":"IF(score!$L$49=\"\",\"\",score!$L$49)","v":""},null,"8球目","9球目","10球目","11球目","12球目","13球目","14球目",null,null,{"$f":"IF(score!$J$49=\"\",\"\",score!$J$49)","v":""},{"$f":"IF(score!$L$49=\"\",\"\",score!$L$49)","v":""},null,"8球目","9球目","10球目","11球目","12球目","13球目","14球目",null,null,{"$f":"IF(score!$J$49=\"\",\"\",score!$J$49)","v":""},{"$f":"IF(score!$L$49=\"\",\"\",score!$L$49)","v":""},null,"8球目","9球目","10球目","11球目","12球目","13球目","14球目",null,null,{"$f":"IF(score!$J$49=\"\",\"\",score!$J$49)","v":""},{"$f":"IF(score!$L$49=\"\",\"\",score!$L$49)","v":""},null,"8球目","9球目","10球目","11球目","12球目","13球目","14球目",null,null,{"$f":"IF(score!$J$49=\"\",\"\",score!$J$49)","v":""},{"$f":"IF(score!$L$49=\"\",\"\",score!$L$49)","v":""},null,"8球目","9球目","10球目","11球目","12球目","13球目","14球目",null,null,{"$f":"IF(score!$J$49=\"\",\"\",score!$J$49)","v":""},{"$f":"IF(score!$L$49=\"\",\"\",score!$L$49)","v":""},null,"8球目","9球目","10球目","11球目","12球目","13球目","14球目"]
[null,null,{"$f":"IF(score!$J$50=\"\",\"\",score!$J$50)","v":""},{"$f":"IF(score!$L$50=\"\",\"\",score!$L$50)","v":""},null,null,null,null,null,null,null,null,null,null,{"$f":"IF(score!$J$50=\"\",\"\",score!$J$50)","v":""},{"$f":"IF(score!$L$50=\"\",\"\",score!$L$50)","v":""},null,null,null,null,null,null,null,null,null,null,{"$f":"IF(score!$J$50=\"\",\"\",score!$J$50)","v":""},{"$f":"IF(score!$L$50=\"\",\"\",score!$L$50)","v":""},null,null,null,null,null,null,null,null,null,null,{"$f":"IF(score!$J$50=\"\",\"\",score!$J$50)","v":""},{"$f":"IF(score!$L$50=\"\",\"\",score!$L$50)","v":""},null,null,null,null,null,null,null,null,null,null,{"$f":"IF(score!$J$50=\"\",\"\",score!$J$50)","v":""},{"$f":"IF(score!$L$50=\"\",\"\",score!$L$50)","v":""},null,null,null,null,null,null,null,null,null,null,{"$f":"IF(score!$J$50=\"\",\"\",score!$J$50)","v":""},{"$f":"IF(score!$L$50=\"\",\"\",score!$L$50)","v":""},null,null,null,null,null,null,null,null,null,null,{"$f":"IF(score!$J$50=\"\",\"\",score!$J$50)","v":""},{"$f":"IF(score!$L$50=\"\",\"\",score!$L$50)","v":""},null,null,null,null,null,null,null,null,null,null,{"$f":"IF(score!$J$50=\"\",\"\",score!$J$50)","v":""},{"$f":"IF(score!$L$50=\"\",\"\",score!$L$50)","v":""},null,null,null,null,null,null,null,null,null,null,{"$f":"IF(score!$J$50=\"\",\"\",score!$J$50)","v":""},{"$f":"IF(score!$L$50=\"\",\"\",score!$L$50)","v":""},null,null,null,null,null,null,null,null,null,null,{"$f":"IF(score!$J$50=\"\",\"\",score!$J$50)","v":""},{"$f":"IF(score!$L$50=\"\",\"\",score!$L$50)","v":""},null,null,null,null,null,null,null,null,null,null,{"$f":"IF(score!$J$50=\"\",\"\",score!$J$50)","v":""},{"$f":"IF(score!$L$50=\"\",\"\",score!$L$50)","v":""},null,null,null,null,null,null,null,null,null,null,{"$f":"IF(score!$J$50=\"\",\"\",score!$J$50)","v":""},{"$f":"IF(score!$L$50=\"\",\"\",score!$L$50)","v":""}]
[null,null,{"$f":"IF(score!$J$51=\"\",\"\",score!$J$51)","v":""},{"$f":"IF(score!$L$51=\"\",\"\",score!$L$51)","v":""},null,"1塁ベース","2塁ベース","3塁ベース","ホームベース","アウト・得点等","打点","得点圏打席？",null,null,{"$f":"IF(score!$J$51=\"\",\"\",score!$J$51)","v":""},{"$f":"IF(score!$L$51=\"\",\"\",score!$L$51)","v":""},null,"1塁ベース","2塁ベース","3塁ベース","ホームベース","アウト・得点等","打点","得点圏打席？",null,null,{"$f":"IF(score!$J$51=\"\",\"\",score!$J$51)","v":""},{"$f":"IF(score!$L$51=\"\",\"\",score!$L$51)","v":""},null,"1塁ベース","2塁ベース","3塁ベース","ホームベース","アウト・得点等","打点","得点圏打席？",null,null,{"$f":"IF(score!$J$51=\"\",\"\",score!$J$51)","v":""},{"$f":"IF(score!$L$51=\"\",\"\",score!$L$51)","v":""},null,"1塁ベース","2塁ベース","3塁ベース","ホームベース","アウト・得点等","打点","得点圏打席？",null,null,{"$f":"IF(score!$J$51=\"\",\"\",score!$J$51)","v":""},{"$f":"IF(score!$L$51=\"\",\"\",score!$L$51)","v":""},null,"1塁ベース","2塁ベース","3塁ベース","ホームベース","アウト・得点等","打点","得点圏打席？",null,null,{"$f":"IF(score!$J$51=\"\",\"\",score!$J$51)","v":""},{"$f":"IF(score!$L$51=\"\",\"\",score!$L$51)","v":""},null,"1塁ベース","2塁ベース","3塁ベース","ホームベース","アウト・得点等","打点","得点圏打席？",null,null,{"$f":"IF(score!$J$51=\"\",\"\",score!$J$51)","v":""},{"$f":"IF(score!$L$51=\"\",\"\",score!$L$51)","v":""},null,"1塁ベース","2塁ベース","3塁ベース","ホームベース","アウト・得点等","打点","得点圏打席？",null,null,{"$f":"IF(score!$J$51=\"\",\"\",score!$J$51)","v":""},{"$f":"IF(score!$L$51=\"\",\"\",score!$L$51)","v":""},null,"1塁ベース","2塁ベース","3塁ベース","ホームベース","アウト・得点等","打点","得点圏打席？",null,null,{"$f":"IF(score!$J$51=\"\",\"\",score!$J$51)","v":""},{"$f":"IF(score!$L$51=\"\",\"\",score!$L$51)","v":""},null,"1塁ベース","2塁ベース","3塁ベース","ホームベース","アウト・得点等","打点","得点圏打席？",null,null,{"$f":"IF(score!$J$51=\"\",\"\",score!$J$51)","v":""},{"$f":"IF(score!$L$51=\"\",\"\",score!$L$51)","v":""},null,"1塁ベース","2塁ベース","3塁ベース","ホームベース","アウト・得点等","打点","得点圏打席？",null,null,{"$f":"IF(score!$J$51=\"\",\"\",score!$J$51)","v":""},{"$f":"IF(score!$L$51=\"\",\"\",score!$L$51)","v":""},null,"1塁ベース","2塁ベース","3塁ベース","ホームベース","アウト・得点等","打点","得点圏打席？",null,null,{"$f":"IF(score!$J$51=\"\",\"\",score!$J$51)","v":""},{"$f":"IF(score!$L$51=\"\",\"\",score!$L$51)","v":""},null,"1塁ベース","2塁ベース","3塁ベース","ホームベース","アウト・得点等","打点","得点圏打席？"]
[null,null,{"$f":"IF(score!$J$52=\"\",\"\",score!$J$52)","v":""},{"$f":"IF(score!$L$52=\"\",\"\",score!$L$52)","v":""},"打撃結果",null,null,null,null,null,null,null,null,null,{"$f":"IF(score!$J$52=\"\",\"\",score!$J$52)","v":""},{"$f":"IF(score!$L$52=\"\",\"\",score!$L$52)","v":""},"打撃結果","凡打",null,null,null,"3アウト",null,null,null,null,{"$f":"IF(score!$J$52=\"\",\"\",score!$J$52)","v":""},{"$f":"IF(score!$L$52=\"\",\"\",score!$L$52)","v":""},"打撃結果",null,null,null,null,null,null,null,null,null,{"$f":"IF(score!$J$52=\"\",\"\",score!$J$52)","v":""},{"$f":"IF(score!$L$52=\"\",\"\",score!$L$52)","v":""},"打撃結果","凡打",null,null,null,"3アウト",null,null,null,null,{"$f":"IF(score!$J$52=\"\",\"\",score!$J$52)","v":""},{"$f":"IF(score!$L$52=\"\",\"\",score!$L$52)","v":""},"打撃結果",null,null,null,null,null,null,null,null,null,{"$f":"IF(score!$J$52=\"\",\"\",score!$J$52)","v":""},{"$f":"IF(score!$L$52=\"\",\"\",score!$L$52)","v":""},"打撃結果",null,null,null,null,null,null,null,null,null,{"$f":"IF(score!$J$52=\"\",\"\",score!$J$52)","v":""},{"$f":"IF(score!$L$52=\"\",\"\",score!$L$52)","v":""},"打撃結果",null,"2塁打",null,null,"残塁","1打点",null,null,null,{"$f":"IF(score!$J$52=\"\",\"\",score!$J$52)","v":""},{"$f":"IF(score!$L$52=\"\",\"\",score!$L$52)","v":""},"打撃結果",null,null,null,null,null,null,null,null,null,{"$f":"IF(score!$J$52=\"\",\"\",score!$J$52)","v":""},{"$f":"IF(score!$L$52=\"\",\"\",score!$L$52)","v":""},"打撃結果",null,null,null,null,null,null,null,null,null,{"$f":"IF(score!$J$52=\"\",\"\",score!$J$52)","v":""},{"$f":"IF(score!$L$52=\"\",\"\",score!$L$52)","v":""},"打撃結果",null,null,null,null,null,null,null,null,null,{"$f":"IF(score!$J$52=\"\",\"\",score!$J$52)","v":""},{"$f":"IF(score!$L$52=\"\",\"\",score!$L$52)","v":""},"打撃結果",null,null,null,null,null,null,null,null,null,{"$f":"IF(score!$J$52=\"\",\"\",score!$J$52)","v":""},{"$f":"IF(score!$L$52=\"\",\"\",score!$L$52)","v":""},"打撃結果"]
[null,null,null,{"$f":"IFERROR(VLOOKUP(C72,#REF!,3,FALSE),\"\")","v":""},"打球状態",null,null,null,null,null,null,null,null,null,null,{"$f":"IFERROR(VLOOKUP(O72,#REF!,3,FALSE),\"\")","v":""},"打球状態","ゴロ",null,null,null,null,null,"得点圏打席",null,null,null,{"$f":"IFERROR(VLOOKUP(AA72,#REF!,3,FALSE),\"\")","v":""},"打球状態",null,0,0,0,0,0,null,null,null,null,{"$f":"IFERROR(VLOOKUP(AM72,#REF!,3,FALSE),\"\")","v":""},"打球状態","ゴロ",null,null,null,null,null,"得点圏打席",null,null,null,{"$f":"IFERROR(VLOOKUP(AY72,#REF!,3,FALSE),\"\")","v":""},"打球状態",null,0,0,0,0,0,null,null,null,null,{"$f":"IFERROR(VLOOKUP(BK72,#REF!,3,FALSE),\"\")","v":""},"打球状態",null,0,0,0,0,0,null,null,null,null,{"$f":"IFERROR(VLOOKUP(BW72,#REF!,3,FALSE),\"\")","v":""},"打球状態","フライ",null,null,null,null,null,null,null,null,null,{"$f":"IFERROR(VLOOKUP(CI72,#REF!,3,FALSE),\"\")","v":""},"打球状態",null,0,0,0,0,0,null,null,null,null,{"$f":"IFERROR(VLOOKUP(CU72,#REF!,3,FALSE),\"\")","v":""},"打球状態",null,0,0,0,0,0,null,null,null,null,{"$f":"IFERROR(VLOOKUP(DG72,#REF!,3,FALSE),\"\")","v":""},"打球状態",null,0,0,0,0,0,null,null,null,null,{"$f":"IFERROR(VLOOKUP(DS72,#REF!,3,FALSE),\"\")","v":""},"打球状態",null,0,0,0,0,0,null,null,null,null,{"$f":"IFERROR(VLOOKUP(EE72,#REF!,3,FALSE),\"\")","v":""},"打球状態",null,0,0,0,0,0]
[null,null,null,{"$f":"IFERROR(VLOOKUP(C73,#REF!,3,FALSE),\"\")","v":""},"打球方向",null,null,null,null,null,null,null,null,null,null,{"$f":"IFERROR(VLOOKUP(O73,#REF!,3,FALSE),\"\")","v":""},"打球方向","遊撃手",null,null,null,null,null,null,null,null,null,{"$f":"IFERROR(VLOOKUP(AA73,#REF!,3,FALSE),\"\")","v":""},"打球方向",null,null,null,null,0,0,0,null,null,null,{"$f":"IFERROR(VLOOKUP(AM73,#REF!,3,FALSE),\"\")","v":""},"打球方向","1塁手",null,null,null,null,null,null,null,null,null,{"$f":"IFERROR(VLOOKUP(AY73,#REF!,3,FALSE),\"\")","v":""},"打球方向",null,null,null,null,0,0,0,null,null,null,{"$f":"IFERROR(VLOOKUP(BK73,#REF!,3,FALSE),\"\")","v":""},"打球方向",null,null,null,null,0,0,0,null,null,null,{"$f":"IFERROR(VLOOKUP(BW73,#REF!,3,FALSE),\"\")","v":""},"打球方向","レフト",null,null,null,null,null,0,null,null,null,{"$f":"IFERROR(VLOOKUP(CI73,#REF!,3,FALSE),\"\")","v":""},"打球方向",null,null,null,null,0,0,0,null,null,null,{"$f":"IFERROR(VLOOKUP(CU73,#REF!,3,FALSE),\"\")","v":""},"打球方向",null,null,null,null,0,0,0,null,null,null,{"$f":"IFERROR(VLOOKUP(DG73,#REF!,3,FALSE),\"\")","v":""},"打球方向",null,null,null,null,0,0,0,null,null,null,{"$f":"IFERROR(VLOOKUP(DS73,#REF!,3,FALSE),\"\")","v":""},"打球方向",null,null,null,null,0,0,0,null,null,null,{"$f":"IFERROR(VLOOKUP(EE73,#REF!,3,FALSE),\"\")","v":""},"打球方向",null,null,null,null,0,0,0]
[null,{"$f":"B65","v":1},{"$f":"C65","v":"回表"},"確定:",{"$f":"D76","v":6},"相手T投手:",{"$f":"IF(E74=\"\",\"\",IF(E74=(D76+0.2),\"2\",IF(E74=(D76+0.3),\"3\",IF(E74=(D76+0.4),\"4\",IF(E74=(D76+0.5),\"5\",\"先\")))))","v":"先"},null,null,null,null,null,null,{"$f":"N65","v":2},{"$f":"O65","v":"回表"},"確定:",{"$f":"P76","v":6},"相手T投手:",{"$f":"IF(Q74=\"\",\"\",IF(Q74=(P76+0.2),\"2\",IF(Q74=(P76+0.3),\"3\",IF(Q74=(P76+0.4),\"4\",IF(Q74=(P76+0.5),\"5\",\"先\")))))","v":"先"},null,null,null,null,null,null,{"$f":"Z65","v":3},{"$f":"AA65","v":"回表"},"確定:",{"$f":"AB76","v":6},"相手T投手:",{"$f":"IF(AC74=\"\",\"\",IF(AC74=(AB76+0.2),\"2\",IF(AC74=(AB76+0.3),\"3\",IF(AC74=(AB76+0.4),\"4\",IF(AC74=(AB76+0.5),\"5\",\"先\")))))","v":"先"},null,null,null,null,null,null,{"$f":"AL65","v":4},{"$f":"AM65","v":"回表"},"確定:",{"$f":"AN76","v":6},"相手T投手:",{"$f":"IF(AO74=\"\",\"\",IF(AO74=(AN76+0.2),\"2\",IF(AO74=(AN76+0.3),\"3\",IF(AO74=(AN76+0.4),\"4\",IF(AO74=(AN76+0.5),\"5\",\"先\")))))","v":"先"},null,null,null,null,null,null,{"$f":"AX65","v":5},{"$f":"AY65","v":"回表"},"確定:",{"$f":"AO74","v":6},"相手T投手:",{"$f":"IF(BA74=\"\",\"\",IF(BA74=(AZ76+0.2),\"2\",IF(BA74=(AZ76+0.3),\"3\",IF(BA74=(AZ76+0.4),\"4\",IF(BA74=(AZ76+0.5),\"5\",\"先\")))))","v":"先"},null,null,null,null,null,null,null,null,"確定:",{"$f":"BA74","v":6},"相手T投手:",{"$f":"IF(BM74=\"\",\"\",IF(BM74=(BL76+0.2),\"2\",IF(BM74=(BL76+0.3),\"3\",IF(BM74=(BL76+0.4),\"4\",IF(BM74=(BL76+0.5),\"5\",\"先\")))))","v":"先"},null,null,null,null,null,null,{"$f":"BV65","v":7},{"$f":"BW65","v":"回表"},"確定:",{"$f":"BM74","v":6},"相手T投手:",{"$f":"IF(BY74=\"\",\"\",IF(BY74=(BX76+0.2),\"2\",IF(BY74=(BX76+0.3),\"3\",IF(BY74=(BX76+0.4),\"4\",IF(BY74=(BX76+0.5),\"5\",\"先\")))))","v":"先"},null,null,null,null,null,null,{"$f":"CH65","v":8},{"$f":"CI65","v":"回表"},"確定:",{"$f":"BY74","v":6},"相手T投手:",{"$f":"IF(CK74=\"\",\"\",IF(CK74=(CJ76+0.2),\"2\",IF(CK74=(CJ76+0.3),\"3\",IF(CK74=(CJ76+0.4),\"4\",IF(CK74=(CJ76+0.5),\"5\",\"先\")))))","v":"先"},null,null,null,null,null,null,{"$f":"CT65","v":9},{"$f":"CU65","v":"回表"},"確定:",{"$f":"CK74","v":6},"相手T投手:",{"$f":"IF(CW74=\"\",\"\",IF(CW74=(CV76+0.2),\"2\",IF(CW74=(CV76+0.3),\"3\",IF(CW74=(CV76+0.4),\"4\",IF(CW74=(CV76+0.5),\"5\",\"先\")))))","v":"先"},null,null,null,null,null,null,{"$f":"DF65","v":10},{"$f":"DG65","v":"回表"},"確定:",{"$f":"CW74","v":6},"相手T投手:",{"$f":"IF(DI74=\"\",\"\",IF(DI74=(DH76+0.2),\"2\",IF(DI74=(DH76+0.3),\"3\",IF(DI74=(DH76+0.4),\"4\",IF(DI74=(DH76+0.5),\"5\",\"先\")))))","v":"先"},null,null,null,null,null,null,{"$f":"DR65","v":11},{"$f":"DS65","v":"回表"},"確定:",{"$f":"DI74","v":6},"相手T投手:",{"$f":"IF(DU74=\"\",\"\",IF(DU74=(DT76+0.2),\"2\",IF(DU74=(DT76+0.3),\"3\",IF(DU74=(DT76+0.4),\"4\",IF(DU74=(DT76+0.5),\"5\",\"先\")))))","v":"先"},null,null,null,null,null,null,{"$f":"ED65","v":12},{"$f":"EE65","v":"回表"},"確定:",{"$f":"DU74","v":6},"相手T投手:",{"$f":"IF(EG74=\"\",\"\",IF(EG74=(EF76+0.2),\"2\",IF(EG74=(EF76+0.3),\"3\",IF(EG74=(EF76+0.4),\"4\",IF(EG74=(EF76+0.5),\"5\",\"先\")))))","v":"先"}]
[null,"打順","打者","背番","投球判定","1球目","2球目","3球目","4球目","5球目","6球目","7球目",null,"打順","打者","背番","投球判定","1球目","2球目","3球目","4球目","5球目","6球目","7球目",null,"打順","打者","背番","投球判定","1球目","2球目","3球目","4球目","5球目","6球目","7球目",null,"打順","打者","背番","投球判定","1球目","2球目","3球目","4球目","5球目","6球目","7球目",null,"打順","打者","背番","投球判定","1球目","2球目","3球目","4球目","5球目","6球目","7球目",null,"打順","打者","背番","投球判定","1球目","2球目","3球目","4球目","5球目","6球目","7球目",null,"打順","打者","背番","投球判定","1球目","2球目","3球目","4球目","5球目","6球目","7球目",null,"打順","打者","背番","投球判定","1球目","2球目","3球目","4球目","5球目","6球目","7球目",null,"打順","打者","背番","投球判定","1球目","2球目","3球目","4球目","5球目","6球目","7球目",null,"打順","打者","背番","投球判定","1球目","2球目","3球目","4球目","5球目","6球目","7球目",null,"打順","打者","背番","投球判定","1球目","2球目","3球目","4球目","5球目","6球目","7球目",null,"打順","打者","背番","投球判定","1球目","2球目","3球目","4球目","5球目","6球目","7球目"]
[null,"⑨",{"$f":"IF(score!$J$54=\"\",\"\",score!$J$54)","v":"斉藤　璃玖"},{"$f":"IF(score!$L$54=\"\",\"\",score!$L$54)","v":6},null,null,null,null,null,null,null,null,null,"⑨",{"$f":"IF(score!$J$54=\"\",\"\",score!$J$54)","v":"斉藤　璃玖"},{"$f":"IF(score!$L$54=\"\",\"\",score!$L$54)","v":6},null,null,null,null,null,null,null,null,null,"⑨",{"$f":"IF(score!$J$54=\"\",\"\",score!$J$54)","v":"斉藤　璃玖"},{"$f":"IF(score!$L$54=\"\",\"\",score!$L$54)","v":6},null,"ボール","ボール","見逃ストライク","ファウル","ボール","ファウル","ファウル",null,"⑨",{"$f":"IF(score!$J$54=\"\",\"\",score!$J$54)","v":"斉藤　璃玖"},{"$f":"IF(score!$L$54=\"\",\"\",score!$L$54)","v":6},null,null,null,null,null,null,null,null,null,"⑨",{"$f":"IF(score!$J$54=\"\",\"\",score!$J$54)","v":"斉藤　璃玖"},{"$f":"IF(score!$L$54=\"\",\"\",score!$L$54)","v":6},null,"見逃ストライク","見逃ストライク","空振ストライク",null,null,null,null,null,"⑨",{"$f":"IF(score!$J$54=\"\",\"\",score!$J$54)","v":"斉藤　璃玖"},{"$f":"IF(score!$L$54=\"\",\"\",score!$L$54)","v":6},null,null,null,null,null,null,null,null,null,"⑨",{"$f":"IF(score!$J$54=\"\",\"\",score!$J$54)","v":"斉藤　璃玖"},{"$f":"IF(score!$L$54=\"\",\"\",score!$L$54)","v":6},null,"見逃ストライク","ボール","ヒッティング",null,null,null,null,null,"⑨",{"$f":"IF(score!$J$54=\"\",\"\",score!$J$54)","v":"斉藤　璃玖"},{"$f":"IF(score!$L$54=\"\",\"\",score!$L$54)","v":6},null,null,null,null,null,null,null,null,null,"⑨",{"$f":"IF(score!$J$54=\"\",\"\",score!$J$54)","v":"斉藤　璃玖"},{"$f":"IF(score!$L$54=\"\",\"\",score!$L$54)","v":6},null,null,null,null,null,null,null,null,null,"⑨",{"$f":"IF(score!$J$54=\"\",\"\",score!$J$54)","v":"斉藤　璃玖"},{"$f":"IF(score!$L$54=\"\",\"\",score!$L$54)","v":6},null,null,null,null,null,null,null,null,null,"⑨",{"$f":"IF(score!$J$54=\"\",\"\",score!$J$54)","v":"斉藤　璃玖"},{"$f":"IF(score!$L$54=\"\",\"\",score!$L$54)","v":6},null,null,null,null,null,null,null,null,null,"⑨",{"$f":"IF(score!$J$54=\"\",\"\",score!$J$54)","v":"斉藤　璃玖"},{"$f":"IF(score!$L$54=\"\",\"\",score!$L$54)","v":6}]
[null,null,{"$f":"IF(score!$J$55=\"\",\"\",score!$J$55)","v":""},{"$f":"IF(score!$L$55=\"\",\"\",score!$L$55)","v":""},null,"8球目","9球目","10球目","11球目","12球目","13球目","14球目",null,null,{"$f":"IF(score!$J$55=\"\",\"\",score!$J$55)","v":""},{"$f":"IF(score!$L$55=\"\",\"\",score!$L$55)","v":""},null,"8球目","9球目","10球目","11球目","12球目","13球目","14球目",null,null,{"$f":"IF(score!$J$55=\"\",\"\",score!$J$55)","v":""},{"$f":"IF(score!$L$55=\"\",\"\",score!$L$55)","v":""},null,"8球目","9球目","10球目","11球目","12球目","13球目","14球目",null,null,{"$f":"IF(score!$J$55=\"\",\"\",score!$J$55)","v":""},{"$f":"IF(score!$L$55=\"\",\"\",score!$L$55)","v":""},null,"8球目","9球目","10球目","11球目","12球目","13球目","14球目",null,null,{"$f":"IF(score!$J$55=\"\",\"\",score!$J$55)","v":""},{"$f":"IF(score!$L$55=\"\",\"\",score!$L$55)","v":""},null,"8球目","9球目","10球目","11球目","12球目","13球目","14球目",null,null,{"$f":"IF(score!$J$55=\"\",\"\",score!$J$55)","v":""},{"$f":"IF(score!$L$55=\"\",\"\",score!$L$55)","v":""},null,"8球目","9球目","10球目","11球目","12球目","13球目","14球目",null,null,{"$f":"IF(score!$J$55=\"\",\"\",score!$J$55)","v":""},{"$f":"IF(score!$L$55=\"\",\"\",score!$L$55)","v":""},null,"8球目","9球目","10球目","11球目","12球目","13球目","14球目",null,null,{"$f":"IF(score!$J$55=\"\",\"\",score!$J$55)","v":""},{"$f":"IF(score!$L$55=\"\",\"\",score!$L$55)","v":""},null,"8球目","9球目","10球目","11球目","12球目","13球目","14球目",null,null,{"$f":"IF(score!$J$55=\"\",\"\",score!$J$55)","v":""},{"$f":"IF(score!$L$55=\"\",\"\",score!$L$55)","v":""},null,"8球目","9球目","10球目","11球目","12球目","13球目","14球目",null,null,{"$f":"IF(score!$J$55=\"\",\"\",score!$J$55)","v":""},{"$f":"IF(score!$L$55=\"\",\"\",score!$L$55)","v":""},null,"8球目","9球目","10球目","11球目","12球目","13球目","14球目",null,null,{"$f":"IF(score!$J$55=\"\",\"\",score!$J$55)","v":""},{"$f":"IF(score!$L$55=\"\",\"\",score!$L$55)","v":""},null,"8球目","9球目","10球目","11球目","12球目","13球目","14球目",null,null,{"$f":"IF(score!$J$55=\"\",\"\",score!$J$55)","v":""},{"$f":"IF(score!$L$55=\"\",\"\",score!$L$55)","v":""},null,"8球目","9球目","10球目","11球目","12球目","13球目","14球目"]
[null,null,{"$f":"IF(score!$J$56=\"\",\"\",score!$J$56)","v":""},{"$f":"IF(score!$L$56=\"\",\"\",score!$L$56)","v":""},null,null,null,null,null,null,null,null,null,null,{"$f":"IF(score!$J$56=\"\",\"\",score!$J$56)","v":""},{"$f":"IF(score!$L$56=\"\",\"\",score!$L$56)","v":""},null,null,null,null,null,null,null,null,null,null,{"$f":"IF(score!$J$56=\"\",\"\",score!$J$56)","v":""},{"$f":"IF(score!$L$56=\"\",\"\",score!$L$56)","v":""},null,"ボール",null,null,null,null,null,null,null,null,{"$f":"IF(score!$J$56=\"\",\"\",score!$J$56)","v":""},{"$f":"IF(score!$L$56=\"\",\"\",score!$L$56)","v":""},null,null,null,null,null,null,null,null,null,null,{"$f":"IF(score!$J$56=\"\",\"\",score!$J$56)","v":""},{"$f":"IF(score!$L$56=\"\",\"\",score!$L$56)","v":""},null,null,null,null,null,null,null,null,null,null,{"$f":"IF(score!$J$56=\"\",\"\",score!$J$56)","v":""},{"$f":"IF(score!$L$56=\"\",\"\",score!$L$56)","v":""},null,null,null,null,null,null,null,null,null,null,{"$f":"IF(score!$J$56=\"\",\"\",score!$J$56)","v":""},{"$f":"IF(score!$L$56=\"\",\"\",score!$L$56)","v":""},null,null,null,null,null,null,null,null,null,null,{"$f":"IF(score!$J$56=\"\",\"\",score!$J$56)","v":""},{"$f":"IF(score!$L$56=\"\",\"\",score!$L$56)","v":""},null,null,null,null,null,null,null,null,null,null,{"$f":"IF(score!$J$56=\"\",\"\",score!$J$56)","v":""},{"$f":"IF(score!$L$56=\"\",\"\",score!$L$56)","v":""},null,null,null,null,null,null,null,null,null,null,{"$f":"IF(score!$J$56=\"\",\"\",score!$J$56)","v":""},{"$f":"IF(score!$L$56=\"\",\"\",score!$L$56)","v":""},null,null,null,null,null,null,null,null,null,null,{"$f":"IF(score!$J$56=\"\",\"\",score!$J$56)","v":""},{"$f":"IF(score!$L$56=\"\",\"\",score!$L$56)","v":""},null,null,null,null,null,null,null,null,null,null,{"$f":"IF(score!$J$56=\"\",\"\",score!$J$56)","v":""},{"$f":"IF(score!$L$56=\"\",\"\",score!$L$56)","v":""}]
[null,null,{"$f":"IF(score!$J$57=\"\",\"\",score!$J$57)","v":""},{"$f":"IF(score!$L$57=\"\",\"\",score!$L$57)","v":""},null,"1塁ベース","2塁ベース","3塁ベース","ホームベース","アウト・得点等","打点","得点圏打席？",null,null,{"$f":"IF(score!$J$57=\"\",\"\",score!$J$57)","v":""},{"$f":"IF(score!$L$57=\"\",\"\",score!$L$57)","v":""},null,"1塁ベース","2塁ベース","3塁ベース","ホームベース","アウト・得点等","打点","得点圏打席？",null,null,{"$f":"IF(score!$J$57=\"\",\"\",score!$J$57)","v":""},{"$f":"IF(score!$L$57=\"\",\"\",score!$L$57)","v":""},null,"1塁ベース","2塁ベース","3塁ベース","ホームベース","アウト・得点等","打点","得点圏打席？",null,null,{"$f":"IF(score!$J$57=\"\",\"\",score!$J$57)","v":""},{"$f":"IF(score!$L$57=\"\",\"\",score!$L$57)","v":""},null,"1塁ベース","2塁ベース","3塁ベース","ホームベース","アウト・得点等","打点","得点圏打席？",null,null,{"$f":"IF(score!$J$57=\"\",\"\",score!$J$57)","v":""},{"$f":"IF(score!$L$57=\"\",\"\",score!$L$57)","v":""},null,"1塁ベース","2塁ベース","3塁ベース","ホームベース","アウト・得点等","打点","得点圏打席？",null,null,{"$f":"IF(score!$J$57=\"\",\"\",score!$J$57)","v":""},{"$f":"IF(score!$L$57=\"\",\"\",score!$L$57)","v":""},null,"1塁ベース","2塁ベース","3塁ベース","ホームベース","アウト・得点等","打点","得点圏打席？",null,null,{"$f":"IF(score!$J$57=\"\",\"\",score!$J$57)","v":""},{"$f":"IF(score!$L$57=\"\",\"\",score!$L$57)","v":""},null,"1塁ベース","2塁ベース","3塁ベース","ホームベース","アウト・得点等","打点","得点圏打席？",null,null,{"$f":"IF(score!$J$57=\"\",\"\",score!$J$57)","v":""},{"$f":"IF(score!$L$57=\"\",\"\",score!$L$57)","v":""},null,"1塁ベース","2塁ベース","3塁ベース","ホームベース","アウト・得点等","打点","得点圏打席？",null,null,{"$f":"IF(score!$J$57=\"\",\"\",score!$J$57)","v":""},{"$f":"IF(score!$L$57=\"\",\"\",score!$L$57)","v":""},null,"1塁ベース","2塁ベース","3塁ベース","ホームベース","アウト・得点等","打点","得点圏打席？",null,null,{"$f":"IF(score!$J$57=\"\",\"\",score!$J$57)","v":""},{"$f":"IF(score!$L$57=\"\",\"\",score!$L$57)","v":""},null,"1塁ベース","2塁ベース","3塁ベース","ホームベース","アウト・得点等","打点","得点圏打席？",null,null,{"$f":"IF(score!$J$57=\"\",\"\",score!$J$57)","v":""},{"$f":"IF(score!$L$57=\"\",\"\",score!$L$57)","v":""},null,"1塁ベース","2塁ベース","3塁ベース","ホームベース","アウト・得点等","打点","得点圏打席？",null,null,{"$f":"IF(score!$J$57=\"\",\"\",score!$J$57)","v":""},{"$f":"IF(score!$L$57=\"\",\"\",score!$L$57)","v":""},null,"1塁ベース","2塁ベース","3塁ベース","ホームベース","アウト・得点等","打点","得点圏打席？"]
[null,null,{"$f":"IF(score!$J$58=\"\",\"\",score!$J$58)","v":""},{"$f":"IF(score!$L$58=\"\",\"\",score!$L$58)","v":""},"打撃結果",null,null,null,null,null,null,null,null,null,{"$f":"IF(score!$J$58=\"\",\"\",score!$J$58)","v":""},{"$f":"IF(score!$L$58=\"\",\"\",score!$L$58)","v":""},"打撃結果",null,null,null,null,null,null,null,null,null,{"$f":"IF(score!$J$58=\"\",\"\",score!$J$58)","v":""},{"$f":"IF(score!$L$58=\"\",\"\",score!$L$58)","v":""},"打撃結果","四球出塁","1番打者","エラー進・出塁","2番打者","得点",null,null,null,null,{"$f":"IF(score!$J$58=\"\",\"\",score!$J$58)","v":""},{"$f":"IF(score!$L$58=\"\",\"\",score!$L$58)","v":""},"打撃結果",null,null,null,null,null,null,null,null,null,{"$f":"IF(score!$J$58=\"\",\"\",score!$J$58)","v":""},{"$f":"IF(score!$L$58=\"\",\"\",score!$L$58)","v":""},"打撃結果","空振り三振",null,null,null,"1アウト",null,null,null,null,{"$f":"IF(score!$J$58=\"\",\"\",score!$J$58)","v":""},{"$f":"IF(score!$L$58=\"\",\"\",score!$L$58)","v":""},"打撃結果",null,null,null,null,null,null,null,null,null,{"$f":"IF(score!$J$58=\"\",\"\",score!$J$58)","v":""},{"$f":"IF(score!$L$58=\"\",\"\",score!$L$58)","v":""},"打撃結果","凡打",null,null,null,"2アウト",null,null,null,null,{"$f":"IF(score!$J$58=\"\",\"\",score!$J$58)","v":""},{"$f":"IF(score!$L$58=\"\",\"\",score!$L$58)","v":""},"打撃結果",null,null,null,null,null,null,null,null,null,{"$f":"IF(score!$J$58=\"\",\"\",score!$J$58)","v":""},{"$f":"IF(score!$L$58=\"\",\"\",score!$L$58)","v":""},"打撃結果",null,null,null,null,null,null,null,null,null,{"$f":"IF(score!$J$58=\"\",\"\",score!$J$58)","v":""},{"$f":"IF(score!$L$58=\"\",\"\",score!$L$58)","v":""},"打撃結果",null,null,null,null,null,null,null,null,null,{"$f":"IF(score!$J$58=\"\",\"\",score!$J$58)","v":""},{"$f":"IF(score!$L$58=\"\",\"\",score!$L$58)","v":""},"打撃結果",null,null,null,null,null,null,null,null,null,{"$f":"IF(score!$J$58=\"\",\"\",score!$J$58)","v":""},{"$f":"IF(score!$L$58=\"\",\"\",score!$L$58)","v":""},"打撃結果"]
[null,null,null,{"$f":"IFERROR(VLOOKUP(C81,#REF!,3,FALSE),\"\")","v":""},"打球状態",null,null,null,null,null,null,null,null,null,null,{"$f":"IFERROR(VLOOKUP(O81,#REF!,3,FALSE),\"\")","v":""},"打球状態",null,null,null,null,null,null,null,null,null,null,{"$f":"IFERROR(VLOOKUP(AA81,#REF!,3,FALSE),\"\")","v":""},"打球状態",null,null,null,null,null,null,null,null,null,null,{"$f":"IFERROR(VLOOKUP(AM81,#REF!,3,FALSE),\"\")","v":""},"打球状態",null,0,0,0,0,0,null,null,null,null,{"$f":"IFERROR(VLOOKUP(AY81,#REF!,3,FALSE),\"\")","v":""},"打球状態",null,0,0,0,0,0,null,null,null,null,{"$f":"IFERROR(VLOOKUP(BK81,#REF!,3,FALSE),\"\")","v":""},"打球状態",null,0,0,0,0,0,null,null,null,null,{"$f":"IFERROR(VLOOKUP(BW81,#REF!,3,FALSE),\"\")","v":""},"打球状態","ゴロ",null,null,null,null,null,"得点圏打席",null,null,null,{"$f":"IFERROR(VLOOKUP(CI81,#REF!,3,FALSE),\"\")","v":""},"打球状態",null,0,0,0,0,0,null,null,null,null,{"$f":"IFERROR(VLOOKUP(CU81,#REF!,3,FALSE),\"\")","v":""},"打球状態",null,0,0,0,0,0,null,null,null,null,{"$f":"IFERROR(VLOOKUP(DG81,#REF!,3,FALSE),\"\")","v":""},"打球状態",null,0,0,0,0,0,null,null,null,null,{"$f":"IFERROR(VLOOKUP(DS81,#REF!,3,FALSE),\"\")","v":""},"打球状態",null,0,0,0,0,0,null,null,null,null,{"$f":"IFERROR(VLOOKUP(EE81,#REF!,3,FALSE),\"\")","v":""},"打球状態",null,0,0,0,0,0]
[null,null,null,{"$f":"IFERROR(VLOOKUP(C82,#REF!,3,FALSE),\"\")","v":""},"打球方向",null,null,null,null,null,null,null,null,null,null,{"$f":"IFERROR(VLOOKUP(O82,#REF!,3,FALSE),\"\")","v":""},"打球方向",null,null,null,null,null,null,null,null,null,null,{"$f":"IFERROR(VLOOKUP(AA82,#REF!,3,FALSE),\"\")","v":""},"打球方向",null,null,null,null,null,null,null,null,null,null,{"$f":"IFERROR(VLOOKUP(AM82,#REF!,3,FALSE),\"\")","v":""},"打球方向",null,null,null,null,0,0,0,null,null,null,{"$f":"IFERROR(VLOOKUP(AY82,#REF!,3,FALSE),\"\")","v":""},"打球方向",null,null,null,null,0,0,0,null,null,null,{"$f":"IFERROR(VLOOKUP(BK82,#REF!,3,FALSE),\"\")","v":""},"打球方向",null,null,null,null,0,0,0,null,null,null,{"$f":"IFERROR(VLOOKUP(BW82,#REF!,3,FALSE),\"\")","v":""},"打球方向","遊撃手",null,null,null,null,null,null,null,null,null,{"$f":"IFERROR(VLOOKUP(CI82,#REF!,3,FALSE),\"\")","v":""},"打球方向",null,null,null,null,0,0,0,null,null,null,{"$f":"IFERROR(VLOOKUP(CU82,#REF!,3,FALSE),\"\")","v":""},"打球方向",null,null,null,null,0,0,0,null,null,null,{"$f":"IFERROR(VLOOKUP(DG82,#REF!,3,FALSE),\"\")","v":""},"打球方向",null,null,null,null,0,0,0,null,null,null,{"$f":"IFERROR(VLOOKUP(DS82,#REF!,3,FALSE),\"\")","v":""},"打球方向",null,null,null,null,0,0,0,null,null,null,{"$f":"IFERROR(VLOOKUP(EE82,#REF!,3,FALSE),\"\")","v":""},"打球方向",null,null,null,null,0,0,0]

{"sheet":"後攻T","index":7,"n_rows":82,"n_cols":156,"rows_kept":82,"cut":false,"hidden":false,"merged":[[2,148,5,148],[11,148,14,148],[20,148,23,148],[29,148,32,148],[38,148,41,148],[47,148,50,148],[56,148,59,148],[65,148,68,148],[74,148,77,148],[2,76,5,76],[2,88,5,88],[2,100,5,100],[2,112,5,112],[2,124,5,124],[2,136,5,136],[2,4,5,4],[2,16,5,16],[2,28,5,28],[2,40,5,40],[2,52,5,52],[2,64,5,64],[11,76,14,76],[11,88,14,88],[11,100,14,100],[11,112,14,112],[11,124,14,124],[11,136,14,136],[11,4,14,4],[11,16,14,16],[11,28,14,28],[11,40,14,40],[11,52,14,52],[11,64,14,64],[20,76,23,76],[20,88,23,88],[20,100,23,100],[20,112,23,112],[20,124,23,124],[20,136,23,136],[20,4,23,4],[20,16,23,16],[20,28,23,28],[20,40,23,40],[20,52,23,52],[20,64,23,64],[29,76,32,76],[29,88,32,88],[29,100,32,100],[29,112,32,112],[29,124,32,124],[29,136,32,136],[29,4,32,4],[29,16,32,16],[29,28,32,28],[29,40,32,40],[29,52,32,52],[29,64,32,64],[38,76,41,76],[38,88,41,88],[38,100,41,100],[38,112,41,112],[38,124,41,124],[38,136,41,136],[38,4,41,4],[38,16,41,16],[38,28,41,28],[38,40,41,40],[38,52,41,52],[38,64,41,64],[47,76,50,76],[47,88,50,88],[47,100,50,100],[47,112,50,112],[47,124,50,124],[47,136,50,136],[47,4,50,4],[47,16,50,16],[47,28,50,28],[47,40,50,40],[47,52,50,52],[47,64,50,64],[56,76,59,76],[56,88,59,88],[56,100,59,100],[56,112,59,112],[56,124,59,124],[56,136,59,136],[56,4,59,4],[56,16,59,16],[56,28,59,28],[56,40,59,40],[56,52,59,52],[56,64,59,64],[65,76,68,76],[65,88,68,88],[65,100,68,100],[65,112,68,112],[65,124,68,124],[65,136,68,136],[65,4,68,4],[65,16,68,16],[65,28,68,28],[65,40,68,40],[65,52,68,52],[65,64,68,64],[74,76,77,76],[74,88,77,88],[74,100,77,100],[74,112,77,112],[74,124,77,124],[74,136,77,136],[74,4,77,4],[74,16,77,16],[74,28,77,28],[74,40,77,40],[74,52,77,52],[74,64,77,64]]}
[]
[null,1,"回裏","確定:",{"$f":"D4","v":7},"相手T投手:",{"$f":"IF(E2=\"\",\"\",IF(E2=(D4+0.2),\"2\",IF(E2=(D4+0.3),\"3\",IF(E2=(D4+0.4),\"4\",IF(E2=(D4+0.5),\"5\",\"先\")))))","v":"先"},null,null,null,null,null,null,{"$f":"B2+1","v":2},"回裏","確定:",{"$f":"E2","v":7},"相手T投手:",{"$f":"IF(Q2=\"\",\"\",IF(Q2=(P4+0.2),\"2\",IF(Q2=(P4+0.3),\"3\",IF(Q2=(P4+0.4),\"4\",IF(Q2=(P4+0.5),\"5\",\"先\")))))","v":"先"},null,null,null,null,null,null,{"$f":"N2+1","v":3},"回裏","確定:",{"$f":"Q2","v":7},"相手T投手:",{"$f":"IF(AC2=\"\",\"\",IF(AC2=(AB4+0.2),\"2\",IF(AC2=(AB4+0.3),\"3\",IF(AC2=(AB4+0.4),\"4\",IF(AC2=(AB4+0.5),\"5\",\"先\")))))","v":"先"},null,null,null,null,null,null,{"$f":"Z2+1","v":4},"回裏","確定:",{"$f":"AC2","v":7},"相手T投手:",{"$f":"IF(AO2=\"\",\"\",IF(AO2=(AN4+0.2),\"2\",IF(AO2=(AN4+0.3),\"3\",IF(AO2=(AN4+0.4),\"4\",IF(AO2=(AN4+0.5),\"5\",\"先\")))))","v":"先"},null,null,null,null,null,null,{"$f":"AL2+1","v":5},"回裏","確定:",{"$f":"AO2","v":7},"相手T投手:",{"$f":"IF(BA2=\"\",\"\",IF(BA2=(AZ4+0.2),\"2\",IF(BA2=(AZ4+0.3),\"3\",IF(BA2=(AZ4+0.4),\"4\",IF(BA2=(AZ4+0.5),\"5\",\"先\")))))","v":"先"},null,null,null,null,null,null,5,"回裏","確定:",{"$f":"BA2","v":7},"相手T投手:",{"$f":"IF(BM2=\"\",\"\",IF(BM2=(BL4+0.2),\"2\",IF(BM2=(BL4+0.3),\"3\",IF(BM2=(BL4+0.4),\"4\",IF(BM2=(BL4+0.5),\"5\",\"先\")))))","v":"先"},null,null,null,null,null,null,{"$f":"BJ2+1","v":6},"回裏","確定:",7.2,"相手T投手:",{"$f":"IF(BY2=\"\",\"\",IF(BY2=(BX4+0.2),\"2\",IF(BY2=(BX4+0.3),\"3\",IF(BY2=(BX4+0.4),\"4\",IF(BY2=(BX4+0.5),\"5\",\"先\")))))","v":"2"},null,null,null,null,null,null,{"$f":"BV2+1","v":7},"回裏","確定:",{"$f":"BY2","v":7.2},"相手T投手:",{"$f":"IF(CK2=\"\",\"\",IF(CK2=(CJ4+0.2),\"2\",IF(CK2=(CJ4+0.3),\"3\",IF(CK2=(CJ4+0.4),\"4\",IF(CK2=(CJ4+0.5),\"5\",\"先\")))))","v":"2"},null,null,null,null,null,null,{"$f":"CH2+1","v":8},"回裏","確定:",{"$f":"CK2","v":7.2},"相手T投手:",{"$f":"IF(CW2=\"\",\"\",IF(CW2=(CV4+0.2),\"2\",IF(CW2=(CV4+0.3),\"3\",IF(CW2=(CV4+0.4),\"4\",IF(CW2=(CV4+0.5),\"5\",\"先\")))))","v":"2"},null,null,null,null,null,null,{"$f":"CT2+1","v":9},"回裏","確定:",{"$f":"CW2","v":7.2},"相手T投手:",{"$f":"IF(DI2=\"\",\"\",IF(DI2=(DH4+0.2),\"2\",IF(DI2=(DH4+0.3),\"3\",IF(DI2=(DH4+0.4),\"4\",IF(DI2=(DH4+0.5),\"5\",\"先\")))))","v":"2"},null,null,null,null,null,null,{"$f":"DF2+1","v":10},"回裏","確定:",{"$f":"DI2","v":7.2},"相手T投手:",{"$f":"IF(DU2=\"\",\"\",IF(DU2=(DT4+0.2),\"2\",IF(DU2=(DT4+0.3),\"3\",IF(DU2=(DT4+0.4),\"4\",IF(DU2=(DT4+0.5),\"5\",\"先\")))))","v":"2"},null,null,null,null,null,null,{"$f":"DR2+1","v":11},"回裏","確定:",{"$f":"DU2","v":7.2},"相手T投手:",{"$f":"IF(EG2=\"\",\"\",IF(EG2=(EF4+0.2),\"2\",IF(EG2=(EF4+0.3),\"3\",IF(EG2=(EF4+0.4),\"4\",IF(EG2=(EF4+0.5),\"5\",\"先\")))))","v":"2"},null,null,null,null,null,null,{"$f":"ED2+1","v":12},"回裏","確定:",{"$f":"EG2","v":7.2},"相手T投手:",{"$f":"IF(ES2=\"\",\"\",IF(ES2=(ER4+0.2),\"2\",IF(ES2=(ER4+0.3),\"3\",IF(ES2=(ER4+0.4),\"4\",IF(ES2=(ER4+0.5),\"5\",\"先\")))))","v":"2"},{"$f":"HYPERLINK(\"#score!J66\",\"スコアシートへ戻る\")","v":"スコアシートへ戻る"}]
[null,"打順","打者","背番","投球判定","1球目","2球目","3球目","4球目","5球目","6球目","7球目",null,"打順","打者","背番","投球判定","1球目","2球目","3球目","4球目","5球目","6球目","7球目",null,"打順","打者","背番","投球判定","1球目","2球目","3球目","4球目","5球目","6球目","7球目",null,"打順","打者","背番","投球判定","1球目","2球目","3球目","4球目","5球目","6球目","7球目",null,"打順","打者","背番","投球判定","1球目","2球目","3球目","4球目","5球目","6球目","7球目",null,"打順","打者","背番","投球判定","1球目","2球目","3球目","4球目","5球目","6球目","7球目",null,"打順","打者","背番","投球判定","1球目","2球目","3球目","4球目","5球目","6球目","7球目",null,"打順","打者","背番","投球判定","1球目","2球目","3球目","4球目","5球目","6球目","7球目",null,"打順","打者","背番","投球判定","1球目","2球目","3球目","4球目","5球目","6球目","7球目",null,"打順","打者","背番","投球判定","1球目","2球目","3球目","4球目","5球目","6球目","7球目",null,"打順","打者","背番","投球判定","1球目","2球目","3球目","4球目","5球目","6球目","7球目",null,"打順","打者","背番","投球判定","1球目","2球目","3球目","4球目","5球目","6球目","7球目",null,"打順","打者","背番","投球判定","1球目","2球目","3球目","4球目","5球目","6球目","7球目"]
[null,"①",{"$f":"IF(score!$J$71=\"\",\"\",score!$J$71)","v":"宮崎　仁斗"},{"$f":"IF(score!$L$71=\"\",\"\",score!$L$71)","v":7},null,"ボール","見逃ストライク","ボール","ボール","見逃ストライク","ボール",null,null,"①",{"$f":"IF(score!$J$71=\"\",\"\",score!$J$71)","v":"宮崎　仁斗"},{"$f":"IF(score!$L$71=\"\",\"\",score!$L$71)","v":7},null,"ボール","ボール","ヒッティング",null,null,null,null,null,"①",{"$f":"IF(score!$J$71=\"\",\"\",score!$J$71)","v":"宮崎　仁斗"},{"$f":"IF(score!$L$71=\"\",\"\",score!$L$71)","v":7},null,null,null,null,null,null,null,null,null,"①",{"$f":"IF(score!$J$71=\"\",\"\",score!$J$71)","v":"宮崎　仁斗"},{"$f":"IF(score!$L$71=\"\",\"\",score!$L$71)","v":7},null,"ボール","ファウル","ファウル","ファウル","ボール","ヒッティング",null,null,"①",{"$f":"IF(score!$J$71=\"\",\"\",score!$J$71)","v":"宮崎　仁斗"},{"$f":"IF(score!$L$71=\"\",\"\",score!$L$71)","v":7},null,"ボール","ファウル","ボール","ヒッティング",null,null,null,null,"①",{"$f":"IF(score!$J$71=\"\",\"\",score!$J$71)","v":"宮崎　仁斗"},{"$f":"IF(score!$L$71=\"\",\"\",score!$L$71)","v":7},null,null,null,null,null,null,null,null,null,"①",{"$f":"IF(score!$J$71=\"\",\"\",score!$J$71)","v":"宮崎　仁斗"},{"$f":"IF(score!$L$71=\"\",\"\",score!$L$71)","v":7},null,"ボール","見逃ストライク","ボール","ボール","ヒッティング",null,null,null,"①",{"$f":"IF(score!$J$71=\"\",\"\",score!$J$71)","v":"宮崎　仁斗"},{"$f":"IF(score!$L$71=\"\",\"\",score!$L$71)","v":7},null,null,null,null,null,null,null,null,null,"①",{"$f":"IF(score!$J$71=\"\",\"\",score!$J$71)","v":"宮崎　仁斗"},{"$f":"IF(score!$L$71=\"\",\"\",score!$L$71)","v":7},null,null,null,null,null,null,null,null,null,"①",{"$f":"IF(score!$J$71=\"\",\"\",score!$J$71)","v":"宮崎　仁斗"},{"$f":"IF(score!$L$71=\"\",\"\",score!$L$71)","v":7},null,null,null,null,null,null,null,null,null,"①",{"$f":"IF(score!$J$71=\"\",\"\",score!$J$71)","v":"宮崎　仁斗"},{"$f":"IF(score!$L$71=\"\",\"\",score!$L$71)","v":7},null,null,null,null,null,null,null,null,null,"①",{"$f":"IF(score!$J$71=\"\",\"\",score!$J$71)","v":"宮崎　仁斗"},{"$f":"IF(score!$L$71=\"\",\"\",score!$L$71)","v":7},null,null,null,null,null,null,null,null,null,"①",{"$f":"IF(score!$J$71=\"\",\"\",score!$J$71)","v":"宮崎　仁斗"},{"$f":"IF(score!$L$71=\"\",\"\",score!$L$71)","v":7}]
[null,null,{"$f":"IF(score!$J$72=\"\",\"\",score!$J$72)","v":"宮崎　仁斗"},{"$f":"IF(score!$L$72=\"\",\"\",score!$L$72)","v":7.2},null,"8球目","9球目","10球目","11球目","12球目","13球目","14球目",null,null,{"$f":"IF(score!$J$72=\"\",\"\",score!$J$72)","v":"宮崎　仁斗"},{"$f":"IF(score!$L$72=\"\",\"\",score!$L$72)","v":7.2},null,"8球目","9球目","10球目","11球目","12球目","13球目","14球目",null,null,{"$f":"IF(score!$J$72=\"\",\"\",score!$J$72)","v":"宮崎　仁斗"},{"$f":"IF(score!$L$72=\"\",\"\",score!$L$72)","v":7.2},null,"8球目","9球目","10球目","11球目","12球目","13球目","14球目",null,null,{"$f":"IF(score!$J$72=\"\",\"\",score!$J$72)","v":"宮崎　仁斗"},{"$f":"IF(score!$L$72=\"\",\"\",score!$L$72)","v":7.2},null,"8球目","9球目","10球目","11球目","12球目","13球目","14球目",null,null,{"$f":"IF(score!$J$72=\"\",\"\",score!$J$72)","v":"宮崎　仁斗"},{"$f":"IF(score!$L$72=\"\",\"\",score!$L$72)","v":7.2},null,"8球目","9球目","10球目","11球目","12球目","13球目","14球目",null,null,{"$f":"IF(score!$J$72=\"\",\"\",score!$J$72)","v":"宮崎　仁斗"},{"$f":"IF(score!$L$72=\"\",\"\",score!$L$72)","v":7.2},null,"8球目","9球目","10球目","11球目","12球目","13球目","14球目",null,null,{"$f":"IF(score!$J$72=\"\",\"\",score!$J$72)","v":"宮崎　仁斗"},{"$f":"IF(score!$L$72=\"\",\"\",score!$L$72)","v":7.2},null,"8球目","9球目","10球目","11球目","12球目","13球目","14球目",null,null,{"$f":"IF(score!$J$72=\"\",\"\",score!$J$72)","v":"宮崎　仁斗"},{"$f":"IF(score!$L$72=\"\",\"\",score!$L$72)","v":7.2},null,"8球目","9球目","10球目","11球目","12球目","13球目","14球目",null,null,{"$f":"IF(score!$J$72=\"\",\"\",score!$J$72)","v":"宮崎　仁斗"},{"$f":"IF(score!$L$72=\"\",\"\",score!$L$72)","v":7.2},null,"8球目","9球目","10球目","11球目","12球目","13球目","14球目",null,null,{"$f":"IF(score!$J$72=\"\",\"\",score!$J$72)","v":"宮崎　仁斗"},{"$f":"IF(score!$L$72=\"\",\"\",score!$L$72)","v":7.2},null,"8球目","9球目","10球目","11球目","12球目","13球目","14球目",null,null,{"$f":"IF(score!$J$72=\"\",\"\",score!$J$72)","v":"宮崎　仁斗"},{"$f":"IF(score!$L$72=\"\",\"\",score!$L$72)","v":7.2},null,"8球目","9球目","10球目","11球目","12球目","13球目","14球目",null,null,{"$f":"IF(score!$J$72=\"\",\"\",score!$J$72)","v":"宮崎　仁斗"},{"$f":"IF(score!$L$72=\"\",\"\",score!$L$72)","v":7.2},null,"8球目","9球目","10球目","11球目","12球目","13球目","14球目",null,null,{"$f":"IF(score!$J$72=\"\",\"\",score!$J$72)","v":"宮崎　仁斗"},{"$f":"IF(score!$L$72=\"\",\"\",score!$L$72)","v":7.2},null,"8球目","9球目","10球目","11球目","12球目","13球目","14球目"]
[null,null,{"$f":"IF(score!$J$73=\"\",\"\",score!$J$73)","v":""},{"$f":"IF(score!$L$73=\"\",\"\",score!$L$73)","v":""},null,null,null,null,null,null,null,null,null,null,{"$f":"IF(score!$J$73=\"\",\"\",score!$J$73)","v":""},{"$f":"IF(score!$L$73=\"\",\"\",score!$L$73)","v":""},null,null,null,null,null,null,null,null,null,null,{"$f":"IF(score!$J$73=\"\",\"\",score!$J$73)","v":""},{"$f":"IF(score!$L$73=\"\",\"\",score!$L$73)","v":""},null,null,null,null,null,null,null,null,null,null,{"$f":"IF(score!$J$73=\"\",\"\",score!$J$73)","v":""},{"$f":"IF(score!$L$73=\"\",\"\",score!$L$73)","v":""},null,null,null,null,null,null,null,null,null,null,{"$f":"IF(score!$J$73=\"\",\"\",score!$J$73)","v":""},{"$f":"IF(score!$L$73=\"\",\"\",score!$L$73)","v":""},null,null,null,null,null,null,null,null,null,null,{"$f":"IF(score!$J$73=\"\",\"\",score!$J$73)","v":""},{"$f":"IF(score!$L$73=\"\",\"\",score!$L$73)","v":""},null,null,null,null,null,null,null,null,null,null,{"$f":"IF(score!$J$73=\"\",\"\",score!$J$73)","v":""},{"$f":"IF(score!$L$73=\"\",\"\",score!$L$73)","v":""},null,null,null,null,null,null,null,null,null,null,{"$f":"IF(score!$J$73=\"\",\"\",score!$J$73)","v":""},{"$f":"IF(score!$L$73=\"\",\"\",score!$L$73)","v":""},null,null,null,null,null,null,null,null,null,null,{"$f":"IF(score!$J$73=\"\",\"\",score!$J$73)","v":""},{"$f":"IF(score!$L$73=\"\",\"\",score!$L$73)","v":""},null,null,null,null,null,null,null,null,null,null,{"$f":"IF(score!$J$73=\"\",\"\",score!$J$73)","v":""},{"$f":"IF(score!$L$73=\"\",\"\",score!$L$73)","v":""},null,null,null,null,null,null,null,null,null,null,{"$f":"IF(score!$J$73=\"\",\"\",score!$J$73)","v":""},{"$f":"IF(score!$L$73=\"\",\"\",score!$L$73)","v":""},null,null,null,null,null,null,null,null,null,null,{"$f":"IF(score!$J$73=\"\",\"\",score!$J$73)","v":""},{"$f":"IF(score!$L$73=\"\",\"\",score!$L$73)","v":""},null,null,null,null,null,null,null,null,null,null,{"$f":"IF(score!$J$73=\"\",\"\",score!$J$73)","v":""},{"$f":"IF(score!$L$73=\"\",\"\",score!$L$73)","v":""}]
[null,null,{"$f":"IF(score!$J$74=\"\",\"\",score!$J$74)","v":""},{"$f":"IF(score!$L$74=\"\",\"\",score!$L$74)","v":""},null,"1塁ベース","2塁ベース","3塁ベース","ホームベース","アウト・得点等","打点","得点圏打席？",null,null,{"$f":"IF(score!$J$74=\"\",\"\",score!$J$74)","v":""},{"$f":"IF(score!$L$74=\"\",\"\",score!$L$74)","v":""},null,"1塁ベース","2塁ベース","3塁ベース","ホームベース","アウト・得点等","打点","得点圏打席？",null,null,{"$f":"IF(score!$J$74=\"\",\"\",score!$J$74)","v":""},{"$f":"IF(score!$L$74=\"\",\"\",score!$L$74)","v":""},null,"1塁ベース","2塁ベース","3塁ベース","ホームベース","アウト・得点等","打点","得点圏打席？",null,null,{"$f":"IF(score!$J$74=\"\",\"\",score!$J$74)","v":""},{"$f":"IF(score!$L$74=\"\",\"\",score!$L$74)","v":""},null,"1塁ベース","2塁ベース","3塁ベース","ホームベース","アウト・得点等","打点","得点圏打席？",null,null,{"$f":"IF(score!$J$74=\"\",\"\",score!$J$74)","v":""},{"$f":"IF(score!$L$74=\"\",\"\",score!$L$74)","v":""},null,"1塁ベース","2塁ベース","3塁ベース","ホームベース","アウト・得点等","打点","得点圏打席？",null,null,{"$f":"IF(score!$J$74=\"\",\"\",score!$J$74)","v":""},{"$f":"IF(score!$L$74=\"\",\"\",score!$L$74)","v":""},null,"1塁ベース","2塁ベース","3塁ベース","ホームベース","アウト・得点等","打点","得点圏打席？",null,null,{"$f":"IF(score!$J$74=\"\",\"\",score!$J$74)","v":""},{"$f":"IF(score!$L$74=\"\",\"\",score!$L$74)","v":""},null,"1塁ベース","2塁ベース","3塁ベース","ホームベース","アウト・得点等","打点","得点圏打席？",null,null,{"$f":"IF(score!$J$74=\"\",\"\",score!$J$74)","v":""},{"$f":"IF(score!$L$74=\"\",\"\",score!$L$74)","v":""},null,"1塁ベース","2塁ベース","3塁ベース","ホームベース","アウト・得点等","打点","得点圏打席？",null,null,{"$f":"IF(score!$J$74=\"\",\"\",score!$J$74)","v":""},{"$f":"IF(score!$L$74=\"\",\"\",score!$L$74)","v":""},null,"1塁ベース","2塁ベース","3塁ベース","ホームベース","アウト・得点等","打点","得点圏打席？",null,null,{"$f":"IF(score!$J$74=\"\",\"\",score!$J$74)","v":""},{"$f":"IF(score!$L$74=\"\",\"\",score!$L$74)","v":""},null,"1塁ベース","2塁ベース","3塁ベース","ホームベース","アウト・得点等","打点","得点圏打席？",null,null,{"$f":"IF(score!$J$74=\"\",\"\",score!$J$74)","v":""},{"$f":"IF(score!$L$74=\"\",\"\",score!$L$74)","v":""},null,"1塁ベース","2塁ベース","3塁ベース","ホームベース","アウト・得点等","打点","得点圏打席？",null,null,{"$f":"IF(score!$J$74=\"\",\"\",score!$J$74)","v":""},{"$f":"IF(score!$L$74=\"\",\"\",score!$L$74)","v":""},null,"1塁ベース","2塁ベース","3塁ベース","ホームベース","アウト・得点等","打点","得点圏打席？",null,null,{"$f":"IF(score!$J$74=\"\",\"\",score!$J$74)","v":""},{"$f":"IF(score!$L$74=\"\",\"\",score!$L$74)","v":""},null,"1塁ベース","2塁ベース","3塁ベース","ホームベース","アウト・得点等","打点","得点圏打席？"]
[null,null,{"$f":"IF(score!$J$75=\"\",\"\",score!$J$75)","v":""},{"$f":"IF(score!$L$75=\"\",\"\",score!$L$75)","v":""},"打撃結果","四球出塁",null,"2番打者",null,"得点",null,null,null,null,{"$f":"IF(score!$J$75=\"\",\"\",score!$J$75)","v":""},{"$f":"IF(score!$L$75=\"\",\"\",score!$L$75)","v":""},"打撃結果","凡打",null,null,null,"3アウト",null,null,null,null,{"$f":"IF(score!$J$75=\"\",\"\",score!$J$75)","v":""},{"$f":"IF(score!$L$75=\"\",\"\",score!$L$75)","v":""},"打撃結果",null,null,null,null,null,null,null,null,null,{"$f":"IF(score!$J$75=\"\",\"\",score!$J$75)","v":""},{"$f":"IF(score!$L$75=\"\",\"\",score!$L$75)","v":""},"打撃結果",null,null,null,"ホームラン","得点","３打点","ヒット",null,null,{"$f":"IF(score!$J$75=\"\",\"\",score!$J$75)","v":""},{"$f":"IF(score!$L$75=\"\",\"\",score!$L$75)","v":""},"打撃結果","ヒット出塁","2番打者",null,"4番打者","得点",null,"ヒット",null,null,{"$f":"IF(score!$J$75=\"\",\"\",score!$J$75)","v":""},{"$f":"IF(score!$L$75=\"\",\"\",score!$L$75)","v":""},"打撃結果",null,null,null,null,null,null,null,null,null,{"$f":"IF(score!$J$75=\"\",\"\",score!$J$75)","v":""},{"$f":"IF(score!$L$75=\"\",\"\",score!$L$75)","v":""},"打撃結果","凡打",null,null,null,"3アウト",null,null,null,null,{"$f":"IF(score!$J$75=\"\",\"\",score!$J$75)","v":""},{"$f":"IF(score!$L$75=\"\",\"\",score!$L$75)","v":""},"打撃結果",null,null,null,null,null,null,null,null,null,{"$f":"IF(score!$J$75=\"\",\"\",score!$J$75)","v":""},{"$f":"IF(score!$L$75=\"\",\"\",score!$L$75)","v":""},"打撃結果",null,null,null,null,null,null,null,null,null,{"$f":"IF(score!$J$75=\"\",\"\",score!$J$75)","v":""},{"$f":"IF(score!$L$75=\"\",\"\",score!$L$75)","v":""},"打撃結果",null,null,null,null,null,null,null,null,null,{"$f":"IF(score!$J$75=\"\",\"\",score!$J$75)","v":""},{"$f":"IF(score!$L$75=\"\",\"\",score!$L$75)","v":""},"打撃結果",null,null,null,null,null,null,null,null,null,{"$f":"IF(score!$J$75=\"\",\"\",score!$J$75)","v":""},{"$f":"IF(score!$L$75=\"\",\"\",score!$L$75)","v":""},"打撃結果",null,null,null,null,null,null,null,null,null,{"$f":"IF(score!$J$75=\"\",\"\",score!$J$75)","v":""},{"$f":"IF(score!$L$75=\"\",\"\",score!$L$75)","v":""},"打撃結果"]
[null,null,null,{"$f":"IFERROR(VLOOKUP(C9,#REF!,3,FALSE),\"\")","v":""},"打球状態",null,null,0,0,0,0,null,null,null,null,{"$f":"IFERROR(VLOOKUP(O9,#REF!,3,FALSE),\"\")","v":""},"打球状態","フライ",null,null,null,null,0,null,null,null,null,{"$f":"IFERROR(VLOOKUP(AA9,#REF!,3,FALSE),\"\")","v":""},"打球状態",null,null,0,0,0,0,null,null,null,null,{"$f":"IFERROR(VLOOKUP(AM9,#REF!,3,FALSE),\"\")","v":""},"打球状態","フライ",null,null,null,null,null,"得点圏打席",null,null,null,{"$f":"IFERROR(VLOOKUP(AY9,#REF!,3,FALSE),\"\")","v":""},"打球状態","ゴロ",null,null,null,null,null,"得点圏打席",null,null,null,{"$f":"IFERROR(VLOOKUP(BK9,#REF!,3,FALSE),\"\")","v":""},"打球状態",null,null,0,0,0,0,null,null,null,null,{"$f":"IFERROR(VLOOKUP(BW9,#REF!,3,FALSE),\"\")","v":""},"打球状態","ゴロ",null,null,null,null,null,"得点圏打席",null,null,null,{"$f":"IFERROR(VLOOKUP(CI9,#REF!,3,FALSE),\"\")","v":""},"打球状態",null,null,0,0,0,0,null,null,null,null,{"$f":"IFERROR(VLOOKUP(CU9,#REF!,3,FALSE),\"\")","v":""},"打球状態",null,null,0,0,0,0,null,null,null,null,{"$f":"IFERROR(VLOOKUP(DG9,#REF!,3,FALSE),\"\")","v":""},"打球状態",null,null,0,0,0,0,null,null,null,null,{"$f":"IFERROR(VLOOKUP(DS9,#REF!,3,FALSE),\"\")","v":""},"打球状態",null,null,0,0,0,0,null,null,null,null,{"$f":"IFERROR(VLOOKUP(EE9,#REF!,3,FALSE),\"\")","v":""},"打球状態",null,null,0,0,0,0,null,null,null,null,{"$f":"IFERROR(VLOOKUP(EQ9,#REF!,3,FALSE),\"\")","v":""},"打球状態",null,null,0,0,0,0]
[null,null,null,{"$f":"IFERROR(VLOOKUP(C10,#REF!,3,FALSE),\"\")","v":""},"打球方向",null,null,null,null,0,0,0,null,null,null,{"$f":"IFERROR(VLOOKUP(O10,#REF!,3,FALSE),\"\")","v":""},"打球方向","2塁手",null,null,null,null,0,0,null,null,null,{"$f":"IFERROR(VLOOKUP(AA10,#REF!,3,FALSE),\"\")","v":""},"打球方向",null,null,null,null,0,0,0,null,null,null,{"$f":"IFERROR(VLOOKUP(AM10,#REF!,3,FALSE),\"\")","v":""},"打球方向","レフト",null,null,null,null,null,null,null,null,null,{"$f":"IFERROR(VLOOKUP(AY10,#REF!,3,FALSE),\"\")","v":""},"打球方向","センター",null,null,null,null,null,null,null,null,null,{"$f":"IFERROR(VLOOKUP(BK10,#REF!,3,FALSE),\"\")","v":""},"打球方向",null,null,null,null,0,0,0,null,null,null,{"$f":"IFERROR(VLOOKUP(BW10,#REF!,3,FALSE),\"\")","v":""},"打球方向","遊撃手",null,null,null,null,null,null,null,null,null,{"$f":"IFERROR(VLOOKUP(CI10,#REF!,3,FALSE),\"\")","v":""},"打球方向",null,null,null,null,0,0,0,null,null,null,{"$f":"IFERROR(VLOOKUP(CU10,#REF!,3,FALSE),\"\")","v":""},"打球方向",null,null,null,null,0,0,0,null,null,null,{"$f":"IFERROR(VLOOKUP(DG10,#REF!,3,FALSE),\"\")","v":""},"打球方向",null,null,null,null,0,0,0,null,null,null,{"$f":"IFERROR(VLOOKUP(DS10,#REF!,3,FALSE),\"\")","v":""},"打球方向",null,null,null,null,0,0,0,null,null,null,{"$f":"IFERROR(VLOOKUP(EE10,#REF!,3,FALSE),\"\")","v":""},"打球方向",null,null,null,null,0,0,0,null,null,null,{"$f":"IFERROR(VLOOKUP(EQ10,#REF!,3,FALSE),\"\")","v":""},"打球方向",null,null,null,null,0,0,0]
[null,{"$f":"B2","v":1},{"$f":"C2","v":"回裏"},"確定:",{"$f":"D13","v":9},"相手T投手:",{"$f":"IF(E11=\"\",\"\",IF(E11=(D13+0.2),\"2\",IF(E11=(D13+0.3),\"3\",IF(E11=(D13+0.4),\"4\",IF(E11=(D13+0.5),\"5\",\"先\")))))","v":"先"},null,null,null,null,null,null,{"$f":"N2","v":2},{"$f":"O2","v":"回裏"},"確定:",{"$f":"E11","v":9},"相手T投手:",{"$f":"IF(Q11=\"\",\"\",IF(Q11=(P13+0.2),\"2\",IF(Q11=(P13+0.3),\"3\",IF(Q11=(P13+0.4),\"4\",IF(Q11=(P13+0.5),\"5\",\"先\")))))","v":"先"},null,null,null,null,null,null,{"$f":"Z2","v":3},{"$f":"AA2","v":"回裏"},"確定:",{"$f":"Q11","v":9},"相手T投手:",{"$f":"IF(AC11=\"\",\"\",IF(AC11=(AB13+0.2),\"2\",IF(AC11=(AB13+0.3),\"3\",IF(AC11=(AB13+0.4),\"4\",IF(AC11=(AB13+0.5),\"5\",\"先\")))))","v":"先"},null,null,null,null,null,null,{"$f":"AL2","v":4},{"$f":"AM2","v":"回裏"},"確定:",{"$f":"AC11","v":9},"相手T投手:",{"$f":"IF(AO11=\"\",\"\",IF(AO11=(AN13+0.2),\"2\",IF(AO11=(AN13+0.3),\"3\",IF(AO11=(AN13+0.4),\"4\",IF(AO11=(AN13+0.5),\"5\",\"先\")))))","v":"先"},null,null,null,null,null,null,{"$f":"AX2","v":5},{"$f":"AY2","v":"回裏"},"確定:",{"$f":"AO11","v":9},"相手T投手:",{"$f":"IF(BA11=\"\",\"\",IF(BA11=(AZ13+0.2),\"2\",IF(BA11=(AZ13+0.3),\"3\",IF(BA11=(AZ13+0.4),\"4\",IF(BA11=(AZ13+0.5),\"5\",\"先\")))))","v":"先"},null,null,null,null,null,null,{"$f":"BJ2","v":5},{"$f":"BK2","v":"回裏"},"確定:",{"$f":"BA11","v":9},"相手T投手:",{"$f":"IF(BM11=\"\",\"\",IF(BM11=(BL13+0.2),\"2\",IF(BM11=(BL13+0.3),\"3\",IF(BM11=(BL13+0.4),\"4\",IF(BM11=(BL13+0.5),\"5\",\"先\")))))","v":"先"},null,null,null,null,null,null,{"$f":"BV2","v":6},{"$f":"BW2","v":"回裏"},"確定:",{"$f":"BM11","v":9},"相手T投手:",{"$f":"IF(BY11=\"\",\"\",IF(BY11=(BX13+0.2),\"2\",IF(BY11=(BX13+0.3),\"3\",IF(BY11=(BX13+0.4),\"4\",IF(BY11=(BX13+0.5),\"5\",\"先\")))))","v":"先"},null,null,null,null,null,null,{"$f":"CH2","v":7},{"$f":"CI2","v":"回裏"},"確定:",9.1999999999999993,"相手T投手:",{"$f":"IF(CK11=\"\",\"\",IF(CK11=(CJ13+0.2),\"2\",IF(CK11=(CJ13+0.3),\"3\",IF(CK11=(CJ13+0.4),\"4\",IF(CK11=(CJ13+0.5),\"5\",\"先\")))))","v":"2"},null,null,null,null,null,null,{"$f":"CT2","v":8},{"$f":"CU2","v":"回裏"},"確定:",{"$f":"CK11","v":9.1999999999999993},"相手T投手:",{"$f":"IF(CW11=\"\",\"\",IF(CW11=(CV13+0.2),\"2\",IF(CW11=(CV13+0.3),\"3\",IF(CW11=(CV13+0.4),\"4\",IF(CW11=(CV13+0.5),\"5\",\"先\")))))","v":"2"},null,null,null,null,null,null,{"$f":"DF2","v":9},{"$f":"DG2","v":"回裏"},"確定:",{"$f":"CW11","v":9.1999999999999993},"相手T投手:",{"$f":"IF(DI11=\"\",\"\",IF(DI11=(DH13+0.2),\"2\",IF(DI11=(DH13+0.3),\"3\",IF(DI11=(DH13+0.4),\"4\",IF(DI11=(DH13+0.5),\"5\",\"先\")))))","v":"2"},null,null,null,null,null,null,{"$f":"DR2","v":10},{"$f":"DS2","v":"回裏"},"確定:",{"$f":"DI11","v":9.1999999999999993},"相手T投手:",{"$f":"IF(DU11=\"\",\"\",IF(DU11=(DT13+0.2),\"2\",IF(DU11=(DT13+0.3),\"3\",IF(DU11=(DT13+0.4),\"4\",IF(DU11=(DT13+0.5),\"5\",\"先\")))))","v":"2"},null,null,null,null,null,null,{"$f":"ED2","v":11},{"$f":"EE2","v":"回裏"},"確定:",{"$f":"DU11","v":9.1999999999999993},"相手T投手:",{"$f":"IF(EG11=\"\",\"\",IF(EG11=(EF13+0.2),\"2\",IF(EG11=(EF13+0.3),\"3\",IF(EG11=(EF13+0.4),\"4\",IF(EG11=(EF13+0.5),\"5\",\"先\")))))","v":"2"},null,null,null,null,null,null,{"$f":"EP2","v":12},{"$f":"EQ2","v":"回裏"},"確定:",{"$f":"EG11","v":9.1999999999999993},"相手T投手:",{"$f":"IF(ES11=\"\",\"\",IF(ES11=(ER13+0.2),\"2\",IF(ES11=(ER13+0.3),\"3\",IF(ES11=(ER13+0.4),\"4\",IF(ES11=(ER13+0.5),\"5\",\"先\")))))","v":"2"}]
[null,"打順","打者","背番","投球判定","1球目","2球目","3球目","4球目","5球目","6球目","7球目",null,"打順","打者","背番","投球判定","1球目","2球目","3球目","4球目","5球目","6球目","7球目",null,"打順","打者","背番","投球判定","1球目","2球目","3球目","4球目","5球目","6球目","7球目",null,"打順","打者","背番","投球判定","1球目","2球目","3球目","4球目","5球目","6球目","7球目",null,"打順","打者","背番","投球判定","1球目","2球目","3球目","4球目","5球目","6球目","7球目",null,"打順","打者","背番","投球判定","1球目","2球目","3球目","4球目","5球目","6球目","7球目",null,"打順","打者","背番","投球判定","1球目","2球目","3球目","4球目","5球目","6球目","7球目",null,"打順","打者","背番","投球判定","1球目","2球目","3球目","4球目","5球目","6球目","7球目",null,"打順","打者","背番","投球判定","1球目","2球目","3球目","4球目","5球目","6球目","7球目",null,"打順","打者","背番","投球判定","1球目","2球目","3球目","4球目","5球目","6球目","7球目",null,"打順","打者","背番","投球判定","1球目","2球目","3球目","4球目","5球目","6球目","7球目",null,"打順","打者","背番","投球判定","1球目","2球目","3球目","4球目","5球目","6球目","7球目",null,"打順","打者","背番","投球判定","1球目","2球目","3球目","4球目","5球目","6球目","7球目"]
[null,"②",{"$f":"IF(score!$J$77=\"\",\"\",score!$J$77)","v":"青地　斗舞"},{"$f":"IF(score!$L$77=\"\",\"\",score!$L$77)","v":9},null,"見逃ストライク","空振ストライク","ヒッティング",null,null,null,null,null,"②",{"$f":"IF(score!$J$77=\"\",\"\",score!$J$77)","v":"青地　斗舞"},{"$f":"IF(score!$L$77=\"\",\"\",score!$L$77)","v":9},null,null,null,null,null,null,null,null,null,"②",{"$f":"IF(score!$J$77=\"\",\"\",score!$J$77)","v":"青地　斗舞"},{"$f":"IF(score!$L$77=\"\",\"\",score!$L$77)","v":9},null,"ボール","ヒッティング",null,null,null,null,null,null,"②",{"$f":"IF(score!$J$77=\"\",\"\",score!$J$77)","v":"青地　斗舞"},{"$f":"IF(score!$L$77=\"\",\"\",score!$L$77)","v":9},null,"ボール","ボール","見逃ストライク","ヒッティング",null,null,null,null,"②",{"$f":"IF(score!$J$77=\"\",\"\",score!$J$77)","v":"青地　斗舞"},{"$f":"IF(score!$L$77=\"\",\"\",score!$L$77)","v":9},null,"ボール","見逃ストライク","ファウル","ヒッティング",null,null,null,null,"②",{"$f":"IF(score!$J$77=\"\",\"\",score!$J$77)","v":"青地　斗舞"},{"$f":"IF(score!$L$77=\"\",\"\",score!$L$77)","v":9},null,null,null,null,null,null,null,null,null,"②",{"$f":"IF(score!$J$77=\"\",\"\",score!$J$77)","v":"青地　斗舞"},{"$f":"IF(score!$L$77=\"\",\"\",score!$L$77)","v":9},null,null,null,null,null,null,null,null,null,"②",{"$f":"IF(score!$J$77=\"\",\"\",score!$J$77)","v":"青地　斗舞"},{"$f":"IF(score!$L$77=\"\",\"\",score!$L$77)","v":9},null,"ボール","見逃ストライク","ボール","ボール","見逃ストライク","ヒッティング",null,null,"②",{"$f":"IF(score!$J$77=\"\",\"\",score!$J$77)","v":"青地　斗舞"},{"$f":"IF(score!$L$77=\"\",\"\",score!$L$77)","v":9},null,null,null,null,null,null,null,null,null,"②",{"$f":"IF(score!$J$77=\"\",\"\",score!$J$77)","v":"青地　斗舞"},{"$f":"IF(score!$L$77=\"\",\"\",score!$L$77)","v":9},null,null,null,null,null,null,null,null,null,"②",{"$f":"IF(score!$J$77=\"\",\"\",score!$J$77)","v":"青地　斗舞"},{"$f":"IF(score!$L$77=\"\",\"\",score!$L$77)","v":9},null,null,null,null,null,null,null,null,null,"②",{"$f":"IF(score!$J$77=\"\",\"\",score!$J$77)","v":"青地　斗舞"},{"$f":"IF(score!$L$77=\"\",\"\",score!$L$77)","v":9},null,null,null,null,null,null,null,null,null,"②",{"$f":"IF(score!$J$77=\"\",\"\",score!$J$77)","v":"青地　斗舞"},{"$f":"IF(score!$L$77=\"\",\"\",score!$L$77)","v":9}]
[null,null,{"$f":"IF(score!$J$78=\"\",\"\",score!$J$78)","v":"青地　斗舞"},{"$f":"IF(score!$L$78=\"\",\"\",score!$L$78)","v":9.1999999999999993},null,"8球目","9球目","10球目","11球目","12球目","13球目","14球目",null,null,{"$f":"IF(score!$J$78=\"\",\"\",score!$J$78)","v":"青地　斗舞"},{"$f":"IF(score!$L$78=\"\",\"\",score!$L$78)","v":9.1999999999999993},null,"8球目","9球目","10球目","11球目","12球目","13球目","14球目",null,null,{"$f":"IF(score!$J$78=\"\",\"\",score!$J$78)","v":"青地　斗舞"},{"$f":"IF(score!$L$78=\"\",\"\",score!$L$78)","v":9.1999999999999993},null,"8球目","9球目","10球目","11球目","12球目","13球目","14球目",null,null,{"$f":"IF(score!$J$78=\"\",\"\",score!$J$78)","v":"青地　斗舞"},{"$f":"IF(score!$L$78=\"\",\"\",score!$L$78)","v":9.1999999999999993},null,"8球目","9球目","10球目","11球目","12球目","13球目","14球目",null,null,{"$f":"IF(score!$J$78=\"\",\"\",score!$J$78)","v":"青地　斗舞"},{"$f":"IF(score!$L$78=\"\",\"\",score!$L$78)","v":9.1999999999999993},null,"8球目","9球目","10球目","11球目","12球目","13球目","14球目",null,null,{"$f":"IF(score!$J$78=\"\",\"\",score!$J$78)","v":"青地　斗舞"},{"$f":"IF(score!$L$78=\"\",\"\",score!$L$78)","v":9.1999999999999993},null,"8球目","9球目","10球目","11球目","12球目","13球目","14球目",null,null,{"$f":"IF(score!$J$78=\"\",\"\",score!$J$78)","v":"青地　斗舞"},{"$f":"IF(score!$L$78=\"\",\"\",score!$L$78)","v":9.1999999999999993},null,"8球目","9球目","10球目","11球目","12球目","13球目","14球目",null,null,{"$f":"IF(score!$J$78=\"\",\"\",score!$J$78)","v":"青地　斗舞"},{"$f":"IF(score!$L$78=\"\",\"\",score!$L$78)","v":9.1999999999999993},null,"8球目","9球目","10球目","11球目","12球目","13球目","14球目",null,null,{"$f":"IF(score!$J$78=\"\",\"\",score!$J$78)","v":"青地　斗舞"},{"$f":"IF(score!$L$78=\"\",\"\",score!$L$78)","v":9.1999999999999993},null,"8球目","9球目","10球目","11球目","12球目","13球目","14球目",null,null,{"$f":"IF(score!$J$78=\"\",\"\",score!$J$78)","v":"青地　斗舞"},{"$f":"IF(score!$L$78=\"\",\"\",score!$L$78)","v":9.1999999999999993},null,"8球目","9球目","10球目","11球目","12球目","13球目","14球目",null,null,{"$f":"IF(score!$J$78=\"\",\"\",score!$J$78)","v":"青地　斗舞"},{"$f":"IF(score!$L$78=\"\",\"\",score!$L$78)","v":9.1999999999999993},null,"8球目","9球目","10球目","11球目","12球目","13球目","14球目",null,null,{"$f":"IF(score!$J$78=\"\",\"\",score!$J$78)","v":"青地　斗舞"},{"$f":"IF(score!$L$78=\"\",\"\",score!$L$78)","v":9.1999999999999993},null,"8球目","9球目","10球目","11球目","12球目","13球目","14球目",null,null,{"$f":"IF(score!$J$78=\"\",\"\",score!$J$78)","v":"青地　斗舞"},{"$f":"IF(score!$L$78=\"\",\"\",score!$L$78)","v":9.1999999999999993},null,"8球目","9球目","10球目","11球目","12球目","13球目","14球目"]
[null,null,{"$f":"IF(score!$J$79=\"\",\"\",score!$J$79)","v":""},{"$f":"IF(score!$L$79=\"\",\"\",score!$L$79)","v":""},null,null,null,null,null,null,null,null,null,null,{"$f":"IF(score!$J$79=\"\",\"\",score!$J$79)","v":""},{"$f":"IF(score!$L$79=\"\",\"\",score!$L$79)","v":""},null,null,null,null,null,null,null,null,null,null,{"$f":"IF(score!$J$79=\"\",\"\",score!$J$79)","v":""},{"$f":"IF(score!$L$79=\"\",\"\",score!$L$79)","v":""},null,null,null,null,null,null,null,null,null,null,{"$f":"IF(score!$J$79=\"\",\"\",score!$J$79)","v":""},{"$f":"IF(score!$L$79=\"\",\"\",score!$L$79)","v":""},null,null,null,null,null,null,null,null,null,null,{"$f":"IF(score!$J$79=\"\",\"\",score!$J$79)","v":""},{"$f":"IF(score!$L$79=\"\",\"\",score!$L$79)","v":""},null,null,null,null,null,null,null,null,null,null,{"$f":"IF(score!$J$79=\"\",\"\",score!$J$79)","v":""},{"$f":"IF(score!$L$79=\"\",\"\",score!$L$79)","v":""},null,null,null,null,null,null,null,null,null,null,{"$f":"IF(score!$J$79=\"\",\"\",score!$J$79)","v":""},{"$f":"IF(score!$L$79=\"\",\"\",score!$L$79)","v":""},null,null,null,null,null,null,null,null,null,null,{"$f":"IF(score!$J$79=\"\",\"\",score!$J$79)","v":""},{"$f":"IF(score!$L$79=\"\",\"\",score!$L$79)","v":""},null,null,null,null,null,null,null,null,null,null,{"$f":"IF(score!$J$79=\"\",\"\",score!$J$79)","v":""},{"$f":"IF(score!$L$79=\"\",\"\",score!$L$79)","v":""},null,null,null,null,null,null,null,null,null,null,{"$f":"IF(score!$J$79=\"\",\"\",score!$J$79)","v":""},{"$f":"IF(score!$L$79=\"\",\"\",score!$L$79)","v":""},null,null,null,null,null,null,null,null,null,null,{"$f":"IF(score!$J$79=\"\",\"\",score!$J$79)","v":""},{"$f":"IF(score!$L$79=\"\",\"\",score!$L$79)","v":""},null,null,null,null,null,null,null,null,null,null,{"$f":"IF(score!$J$79=\"\",\"\",score!$J$79)","v":""},{"$f":"IF(score!$L$79=\"\",\"\",score!$L$79)","v":""},null,null,null,null,null,null,null,null,null,null,{"$f":"IF(score!$J$79=\"\",\"\",score!$J$79)","v":""},{"$f":"IF(score!$L$79=\"\",\"\",score!$L$79)","v":""}]
[null,null,{"$f":"IF(score!$J$80=\"\",\"\",score!$J$80)","v":""},{"$f":"IF(score!$L$80=\"\",\"\",score!$L$80)","v":""},null,"1塁ベース","2塁ベース","3塁ベース","ホームベース","アウト・得点等","打点","得点圏打席？",null,null,{"$f":"IF(score!$J$80=\"\",\"\",score!$J$80)","v":""},{"$f":"IF(score!$L$80=\"\",\"\",score!$L$80)","v":""},null,"1塁ベース","2塁ベース","3塁ベース","ホームベース","アウト・得点等","打点","得点圏打席？",null,null,{"$f":"IF(score!$J$80=\"\",\"\",score!$J$80)","v":""},{"$f":"IF(score!$L$80=\"\",\"\",score!$L$80)","v":""},null,"1塁ベース","2塁ベース","3塁ベース","ホームベース","アウト・得点等","打点","得点圏打席？",null,null,{"$f":"IF(score!$J$80=\"\",\"\",score!$J$80)","v":""},{"$f":"IF(score!$L$80=\"\",\"\",score!$L$80)","v":""},null,"1塁ベース","2塁ベース","3塁ベース","ホームベース","アウト・得点等","打点","得点圏打席？",null,null,{"$f":"IF(score!$J$80=\"\",\"\",score!$J$80)","v":""},{"$f":"IF(score!$L$80=\"\",\"\",score!$L$80)","v":""},null,"1塁ベース","2塁ベース","3塁ベース","ホームベース","アウト・得点等","打点","得点圏打席？",null,null,{"$f":"IF(score!$J$80=\"\",\"\",score!$J$80)","v":""},{"$f":"IF(score!$L$80=\"\",\"\",score!$L$80)","v":""},null,"1塁ベース","2塁ベース","3塁ベース","ホームベース","アウト・得点等","打点","得点圏打席？",null,null,{"$f":"IF(score!$J$80=\"\",\"\",score!$J$80)","v":""},{"$f":"IF(score!$L$80=\"\",\"\",score!$L$80)","v":""},null,"1塁ベース","2塁ベース","3塁ベース","ホームベース","アウト・得点等","打点","得点圏打席？",null,null,{"$f":"IF(score!$J$80=\"\",\"\",score!$J$80)","v":""},{"$f":"IF(score!$L$80=\"\",\"\",score!$L$80)","v":""},null,"1塁ベース","2塁ベース","3塁ベース","ホームベース","アウト・得点等","打点","得点圏打席？",null,null,{"$f":"IF(score!$J$80=\"\",\"\",score!$J$80)","v":""},{"$f":"IF(score!$L$80=\"\",\"\",score!$L$80)","v":""},null,"1塁ベース","2塁ベース","3塁ベース","ホームベース","アウト・得点等","打点","得点圏打席？",null,null,{"$f":"IF(score!$J$80=\"\",\"\",score!$J$80)","v":""},{"$f":"IF(score!$L$80=\"\",\"\",score!$L$80)","v":""},null,"1塁ベース","2塁ベース","3塁ベース","ホームベース","アウト・得点等","打点","得点圏打席？",null,null,{"$f":"IF(score!$J$80=\"\",\"\",score!$J$80)","v":""},{"$f":"IF(score!$L$80=\"\",\"\",score!$L$80)","v":""},null,"1塁ベース","2塁ベース","3塁ベース","ホームベース","アウト・得点等","打点","得点圏打席？",null,null,{"$f":"IF(score!$J$80=\"\",\"\",score!$J$80)","v":""},{"$f":"IF(score!$L$80=\"\",\"\",score!$L$80)","v":""},null,"1塁ベース","2塁ベース","3塁ベース","ホームベース","アウト・得点等","打点","得点圏打席？",null,null,{"$f":"IF(score!$J$80=\"\",\"\",score!$J$80)","v":""},{"$f":"IF(score!$L$80=\"\",\"\",score!$L$80)","v":""},null,"1塁ベース","2塁ベース","3塁ベース","ホームベース","アウト・得点等","打点","得点圏打席？"]
[null,null,{"$f":"IF(score!$J$81=\"\",\"\",score!$J$81)","v":""},{"$f":"IF(score!$L$81=\"\",\"\",score!$L$81)","v":""},"打撃結果","ヒット出塁",null,"エラー進・出塁","6番打者","得点",null,null,null,null,{"$f":"IF(score!$J$81=\"\",\"\",score!$J$81)","v":""},{"$f":"IF(score!$L$81=\"\",\"\",score!$L$81)","v":""},"打撃結果",null,null,null,null,null,null,null,null,null,{"$f":"IF(score!$J$81=\"\",\"\",score!$J$81)","v":""},{"$f":"IF(score!$L$81=\"\",\"\",score!$L$81)","v":""},"打撃結果","凡打",null,null,null,"1アウト",null,null,null,null,{"$f":"IF(score!$J$81=\"\",\"\",score!$J$81)","v":""},{"$f":"IF(score!$L$81=\"\",\"\",score!$L$81)","v":""},"打撃結果","凡打",null,null,null,"2アウト",null,null,null,null,{"$f":"IF(score!$J$81=\"\",\"\",score!$J$81)","v":""},{"$f":"IF(score!$L$81=\"\",\"\",score!$L$81)","v":""},"打撃結果","ヒット出塁",null,"4番打者",null,"残塁",null,null,null,null,{"$f":"IF(score!$J$81=\"\",\"\",score!$J$81)","v":""},{"$f":"IF(score!$L$81=\"\",\"\",score!$L$81)","v":""},"打撃結果",null,null,null,null,null,null,null,null,null,{"$f":"IF(score!$J$81=\"\",\"\",score!$J$81)","v":""},{"$f":"IF(score!$L$81=\"\",\"\",score!$L$81)","v":""},"打撃結果",null,null,null,null,null,null,null,null,null,{"$f":"IF(score!$J$81=\"\",\"\",score!$J$81)","v":""},{"$f":"IF(score!$L$81=\"\",\"\",score!$L$81)","v":""},"打撃結果","ヒット出塁",null,"3番打者","5番打者","得点",null,null,null,null,{"$f":"IF(score!$J$81=\"\",\"\",score!$J$81)","v":""},{"$f":"IF(score!$L$81=\"\",\"\",score!$L$81)","v":""},"打撃結果",null,null,null,null,null,null,null,null,null,{"$f":"IF(score!$J$81=\"\",\"\",score!$J$81)","v":""},{"$f":"IF(score!$L$81=\"\",\"\",score!$L$81)","v":""},"打撃結果",null,null,null,null,null,null,null,null,null,{"$f":"IF(score!$J$81=\"\",\"\",score!$J$81)","v":""},{"$f":"IF(score!$L$81=\"\",\"\",score!$L$81)","v":""},"打撃結果",null,null,null,null,null,null,null,null,null,{"$f":"IF(score!$J$81=\"\",\"\",score!$J$81)","v":""},{"$f":"IF(score!$L$81=\"\",\"\",score!$L$81)","v":""},"打撃結果",null,null,null,null,null,null,null,null,null,{"$f":"IF(score!$J$81=\"\",\"\",score!$J$81)","v":""},{"$f":"IF(score!$L$81=\"\",\"\",score!$L$81)","v":""},"打撃結果"]
[null,null,null,{"$f":"IFERROR(VLOOKUP(C18,#REF!,3,FALSE),\"\")","v":""},"打球状態","ゴロ",null,null,null,null,0,null,null,null,null,{"$f":"IFERROR(VLOOKUP(O18,#REF!,3,FALSE),\"\")","v":""},"打球状態",null,null,0,0,0,0,null,null,null,null,{"$f":"IFERROR(VLOOKUP(AA18,#REF!,3,FALSE),\"\")","v":""},"打球状態","フライ",null,null,null,null,0,null,null,null,null,{"$f":"IFERROR(VLOOKUP(AM18,#REF!,3,FALSE),\"\")","v":""},"打球状態","フライ",null,null,null,null,0,null,null,null,null,{"$f":"IFERROR(VLOOKUP(AY18,#REF!,3,FALSE),\"\")","v":""},"打球状態","フライ",null,null,null,null,0,null,null,null,null,{"$f":"IFERROR(VLOOKUP(BK18,#REF!,3,FALSE),\"\")","v":""},"打球状態",null,null,0,0,0,0,null,null,null,null,{"$f":"IFERROR(VLOOKUP(BW18,#REF!,3,FALSE),\"\")","v":""},"打球状態",null,null,0,0,0,0,null,null,null,null,{"$f":"IFERROR(VLOOKUP(CI18,#REF!,3,FALSE),\"\")","v":""},"打球状態","ゴロ",null,null,null,null,null,null,null,null,null,{"$f":"IFERROR(VLOOKUP(CU18,#REF!,3,FALSE),\"\")","v":""},"打球状態",null,null,0,0,0,0,null,null,null,null,{"$f":"IFERROR(VLOOKUP(DG18,#REF!,3,FALSE),\"\")","v":""},"打球状態",null,null,0,0,0,0,null,null,null,null,{"$f":"IFERROR(VLOOKUP(DS18,#REF!,3,FALSE),\"\")","v":""},"打球状態",null,null,0,0,0,0,null,null,null,null,{"$f":"IFERROR(VLOOKUP(EE18,#REF!,3,FALSE),\"\")","v":""},"打球状態",null,null,0,0,0,0,null,null,null,null,{"$f":"IFERROR(VLOOKUP(EQ18,#REF!,3,FALSE),\"\")","v":""},"打球状態",null,null,0,0,0,0]
[null,null,null,{"$f":"IFERROR(VLOOKUP(C19,#REF!,3,FALSE),\"\")","v":""},"打球方向","ライト",null,null,null,null,0,0,null,null,null,{"$f":"IFERROR(VLOOKUP(O19,#REF!,3,FALSE),\"\")","v":""},"打球方向",null,null,null,null,0,0,0,null,null,null,{"$f":"IFERROR(VLOOKUP(AA19,#REF!,3,FALSE),\"\")","v":""},"打球方向","センター",null,null,null,null,0,0,null,null,null,{"$f":"IFERROR(VLOOKUP(AM19,#REF!,3,FALSE),\"\")","v":""},"打球方向","レフト",null,null,null,null,0,0,null,null,null,{"$f":"IFERROR(VLOOKUP(AY19,#REF!,3,FALSE),\"\")","v":""},"打球方向","センター",null,null,null,null,0,0,null,null,null,{"$f":"IFERROR(VLOOKUP(BK19,#REF!,3,FALSE),\"\")","v":""},"打球方向",null,null,null,null,0,0,0,null,null,null,{"$f":"IFERROR(VLOOKUP(BW19,#REF!,3,FALSE),\"\")","v":""},"打球方向",null,null,null,null,0,0,0,null,null,null,{"$f":"IFERROR(VLOOKUP(CI19,#REF!,3,FALSE),\"\")","v":""},"打球方向","ライト",null,null,null,null,null,0,null,null,null,{"$f":"IFERROR(VLOOKUP(CU19,#REF!,3,FALSE),\"\")","v":""},"打球方向",null,null,null,null,0,0,0,null,null,null,{"$f":"IFERROR(VLOOKUP(DG19,#REF!,3,FALSE),\"\")","v":""},"打球方向",null,null,null,null,0,0,0,null,null,null,{"$f":"IFERROR(VLOOKUP(DS19,#REF!,3,FALSE),\"\")","v":""},"打球方向",null,null,null,null,0,0,0,null,null,null,{"$f":"IFERROR(VLOOKUP(EE19,#REF!,3,FALSE),\"\")","v":""},"打球方向",null,null,null,null,0,0,0,null,null,null,{"$f":"IFERROR(VLOOKUP(EQ19,#REF!,3,FALSE),\"\")","v":""},"打球方向",null,null,null,null,0,0,0]
[null,{"$f":"B11","v":1},{"$f":"C11","v":"回裏"},"確定:",{"$f":"D22","v":5},"相手T投手:",{"$f":"IF(E20=\"\",\"\",IF(E20=(D22+0.2),\"2\",IF(E20=(D22+0.3),\"3\",IF(E20=(D22+0.4),\"4\",IF(E20=(D22+0.5),\"5\",\"先\")))))","v":"先"},null,null,null,null,null,null,{"$f":"N11","v":2},{"$f":"O11","v":"回裏"},"確定:",{"$f":"E20","v":5},"相手T投手:",{"$f":"IF(Q20=\"\",\"\",IF(Q20=(P22+0.2),\"2\",IF(Q20=(P22+0.3),\"3\",IF(Q20=(P22+0.4),\"4\",IF(Q20=(P22+0.5),\"5\",\"先\")))))","v":"先"},null,null,null,null,null,null,{"$f":"Z11","v":3},{"$f":"AA11","v":"回裏"},"確定:",{"$f":"Q20","v":5},"相手T投手:",{"$f":"IF(AC20=\"\",\"\",IF(AC20=(AB22+0.2),\"2\",IF(AC20=(AB22+0.3),\"3\",IF(AC20=(AB22+0.4),\"4\",IF(AC20=(AB22+0.5),\"5\",\"先\")))))","v":"先"},null,null,null,null,null,null,{"$f":"AL11","v":4},{"$f":"AM11","v":"回裏"},"確定:",{"$f":"AC20","v":5},"相手T投手:",{"$f":"IF(AO20=\"\",\"\",IF(AO20=(AN22+0.2),\"2\",IF(AO20=(AN22+0.3),\"3\",IF(AO20=(AN22+0.4),\"4\",IF(AO20=(AN22+0.5),\"5\",\"先\")))))","v":"先"},null,null,null,null,null,null,{"$f":"AX11","v":5},{"$f":"AY11","v":"回裏"},"確定:",{"$f":"AO20","v":5},null,null,null,null,null,null,null,null,{"$f":"BJ11","v":5},{"$f":"BK11","v":"回裏"},"確定:",{"$f":"BA20","v":5},"相手T投手:",{"$f":"IF(BM20=\"\",\"\",IF(BM20=(BL22+0.2),\"2\",IF(BM20=(BL22+0.3),\"3\",IF(BM20=(BL22+0.4),\"4\",IF(BM20=(BL22+0.5),\"5\",\"先\")))))","v":"先"},null,null,null,null,null,null,{"$f":"BV11","v":6},{"$f":"BW11","v":"回裏"},"確定:",{"$f":"BM20","v":5},"相手T投手:",{"$f":"IF(BY20=\"\",\"\",IF(BY20=(BX22+0.2),\"2\",IF(BY20=(BX22+0.3),\"3\",IF(BY20=(BX22+0.4),\"4\",IF(BY20=(BX22+0.5),\"5\",\"先\")))))","v":"先"},null,null,null,null,null,null,{"$f":"CH11","v":7},{"$f":"CI11","v":"回裏"},"確定:",5.2,"相手T投手:",{"$f":"IF(CK20=\"\",\"\",IF(CK20=(CJ22+0.2),\"2\",IF(CK20=(CJ22+0.3),\"3\",IF(CK20=(CJ22+0.4),\"4\",IF(CK20=(CJ22+0.5),\"5\",\"先\")))))","v":"2"},null,null,null,null,null,null,{"$f":"CT11","v":8},{"$f":"CU11","v":"回裏"},"確定:",{"$f":"CK20","v":5.2},"相手T投手:",{"$f":"IF(CW20=\"\",\"\",IF(CW20=(CV22+0.2),\"2\",IF(CW20=(CV22+0.3),\"3\",IF(CW20=(CV22+0.4),\"4\",IF(CW20=(CV22+0.5),\"5\",\"先\")))))","v":"2"},null,null,null,null,null,null,{"$f":"DF11","v":9},{"$f":"DG11","v":"回裏"},"確定:",{"$f":"CW20","v":5.2},"相手T投手:",{"$f":"IF(DI20=\"\",\"\",IF(DI20=(DH22+0.2),\"2\",IF(DI20=(DH22+0.3),\"3\",IF(DI20=(DH22+0.4),\"4\",IF(DI20=(DH22+0.5),\"5\",\"先\")))))","v":"2"},null,null,null,null,null,null,{"$f":"DR11","v":10},{"$f":"DS11","v":"回裏"},"確定:",{"$f":"DI20","v":5.2},"相手T投手:",{"$f":"IF(DU20=\"\",\"\",IF(DU20=(DT22+0.2),\"2\",IF(DU20=(DT22+0.3),\"3\",IF(DU20=(DT22+0.4),\"4\",IF(DU20=(DT22+0.5),\"5\",\"先\")))))","v":"2"},null,null,null,null,null,null,{"$f":"ED11","v":11},{"$f":"EE11","v":"回裏"},"確定:",{"$f":"DU20","v":5.2},"相手T投手:",{"$f":"IF(EG20=\"\",\"\",IF(EG20=(EF22+0.2),\"2\",IF(EG20=(EF22+0.3),\"3\",IF(EG20=(EF22+0.4),\"4\",IF(EG20=(EF22+0.5),\"5\",\"先\")))))","v":"2"},null,null,null,null,null,null,{"$f":"EP11","v":12},{"$f":"EQ11","v":"回裏"},"確定:",{"$f":"EG20","v":5.2},"相手T投手:",{"$f":"IF(ES20=\"\",\"\",IF(ES20=(ER22+0.2),\"2\",IF(ES20=(ER22+0.3),\"3\",IF(ES20=(ER22+0.4),\"4\",IF(ES20=(ER22+0.5),\"5\",\"先\")))))","v":"2"}]
[null,"打順","打者","背番","投球判定","1球目","2球目","3球目","4球目","5球目","6球目","7球目",null,"打順","打者","背番","投球判定","1球目","2球目","3球目","4球目","5球目","6球目","7球目",null,"打順","打者","背番","投球判定","1球目","2球目","3球目","4球目","5球目","6球目","7球目",null,"打順","打者","背番","投球判定","1球目","2球目","3球目","4球目","5球目","6球目","7球目",null,"打順","打者","背番","投球判定","1球目","2球目","3球目","4球目","5球目","6球目","7球目",null,"打順","打者","背番","投球判定","1球目","2球目","3球目","4球目","5球目","6球目","7球目",null,"打順","打者","背番","投球判定","1球目","2球目","3球目","4球目","5球目","6球目","7球目",null,"打順","打者","背番","投球判定","1球目","2球目","3球目","4球目","5球目","6球目","7球目",null,"打順","打者","背番","投球判定","1球目","2球目","3球目","4球目","5球目","6球目","7球目",null,"打順","打者","背番","投球判定","1球目","2球目","3球目","4球目","5球目","6球目","7球目",null,"打順","打者","背番","投球判定","1球目","2球目","3球目","4球目","5球目","6球目","7球目",null,"打順","打者","背番","投球判定","1球目","2球目","3球目","4球目","5球目","6球目","7球目",null,"打順","打者","背番","投球判定","1球目","2球目","3球目","4球目","5球目","6球目","7球目"]
[null,"③",{"$f":"IF(score!$J$83=\"\",\"\",score!$J$83)","v":"中川　卓也"},{"$f":"IF(score!$L$83=\"\",\"\",score!$L$83)","v":5},null,"ボール","見逃ストライク","ファウル","ファウル","ファウル","空振ストライク",null,null,"③",{"$f":"IF(score!$J$83=\"\",\"\",score!$J$83)","v":"中川　卓也"},{"$f":"IF(score!$L$83=\"\",\"\",score!$L$83)","v":5},null,null,null,null,null,null,null,null,null,"③",{"$f":"IF(score!$J$83=\"\",\"\",score!$J$83)","v":"中川　卓也"},{"$f":"IF(score!$L$83=\"\",\"\",score!$L$83)","v":5},null,"ボール","ボール","見逃ストライク","見逃ストライク","ファウル","ファウル","ファウル",null,"③",{"$f":"IF(score!$J$83=\"\",\"\",score!$J$83)","v":"中川　卓也"},{"$f":"IF(score!$L$83=\"\",\"\",score!$L$83)","v":5},null,"見逃ストライク","ファウル","ファウル","ファウル","ボール","見逃ストライク",null,null,"③",{"$f":"IF(score!$J$83=\"\",\"\",score!$J$83)","v":"中川　卓也"},{"$f":"IF(score!$L$83=\"\",\"\",score!$L$83)","v":5},null,"ヒッティング",null,null,null,null,null,null,null,"③",{"$f":"IF(score!$J$83=\"\",\"\",score!$J$83)","v":"中川　卓也"},{"$f":"IF(score!$L$83=\"\",\"\",score!$L$83)","v":5},null,null,null,null,null,null,null,null,null,"③",{"$f":"IF(score!$J$83=\"\",\"\",score!$J$83)","v":"中川　卓也"},{"$f":"IF(score!$L$83=\"\",\"\",score!$L$83)","v":5},null,null,null,null,null,null,null,null,null,"③",{"$f":"IF(score!$J$83=\"\",\"\",score!$J$83)","v":"中川　卓也"},{"$f":"IF(score!$L$83=\"\",\"\",score!$L$83)","v":5},null,"ボール","見逃ストライク","見逃ストライク","ボール","ヒッティング",null,null,null,"③",{"$f":"IF(score!$J$83=\"\",\"\",score!$J$83)","v":"中川　卓也"},{"$f":"IF(score!$L$83=\"\",\"\",score!$L$83)","v":5},null,null,null,null,null,null,null,null,null,"③",{"$f":"IF(score!$J$83=\"\",\"\",score!$J$83)","v":"中川　卓也"},{"$f":"IF(score!$L$83=\"\",\"\",score!$L$83)","v":5},null,null,null,null,null,null,null,null,null,"③",{"$f":"IF(score!$J$83=\"\",\"\",score!$J$83)","v":"中川　卓也"},{"$f":"IF(score!$L$83=\"\",\"\",score!$L$83)","v":5},null,null,null,null,null,null,null,null,null,"③",{"$f":"IF(score!$J$83=\"\",\"\",score!$J$83)","v":"中川　卓也"},{"$f":"IF(score!$L$83=\"\",\"\",score!$L$83)","v":5},null,null,null,null,null,null,null,null,null,"③",{"$f":"IF(score!$J$83=\"\",\"\",score!$J$83)","v":"中川　卓也"},{"$f":"IF(score!$L$83=\"\",\"\",score!$L$83)","v":5}]
[null,null,{"$f":"IF(score!$J$84=\"\",\"\",score!$J$84)","v":"中川　卓也"},{"$f":"IF(score!$L$84=\"\",\"\",score!$L$84)","v":5.2},null,"8球目","9球目","10球目","11球目","12球目","13球目","14球目",null,null,{"$f":"IF(score!$J$84=\"\",\"\",score!$J$84)","v":"中川　卓也"},{"$f":"IF(score!$L$84=\"\",\"\",score!$L$84)","v":5.2},null,"8球目","9球目","10球目","11球目","12球目","13球目","14球目",null,null,{"$f":"IF(score!$J$84=\"\",\"\",score!$J$84)","v":"中川　卓也"},{"$f":"IF(score!$L$84=\"\",\"\",score!$L$84)","v":5.2},null,"8球目","9球目","10球目","11球目","12球目","13球目","14球目",null,null,{"$f":"IF(score!$J$84=\"\",\"\",score!$J$84)","v":"中川　卓也"},{"$f":"IF(score!$L$84=\"\",\"\",score!$L$84)","v":5.2},null,"8球目","9球目","10球目","11球目","12球目","13球目","14球目",null,null,{"$f":"IF(score!$J$84=\"\",\"\",score!$J$84)","v":"中川　卓也"},{"$f":"IF(score!$L$84=\"\",\"\",score!$L$84)","v":5.2},null,"8球目","9球目","10球目","11球目","12球目","13球目","14球目",null,null,{"$f":"IF(score!$J$84=\"\",\"\",score!$J$84)","v":"中川　卓也"},{"$f":"IF(score!$L$84=\"\",\"\",score!$L$84)","v":5.2},null,"8球目","9球目","10球目","11球目","12球目","13球目","14球目",null,null,{"$f":"IF(score!$J$84=\"\",\"\",score!$J$84)","v":"中川　卓也"},{"$f":"IF(score!$L$84=\"\",\"\",score!$L$84)","v":5.2},null,"8球目","9球目","10球目","11球目","12球目","13球目","14球目",null,null,{"$f":"IF(score!$J$84=\"\",\"\",score!$J$84)","v":"中川　卓也"},{"$f":"IF(score!$L$84=\"\",\"\",score!$L$84)","v":5.2},null,"8球目","9球目","10球目","11球目","12球目","13球目","14球目",null,null,{"$f":"IF(score!$J$84=\"\",\"\",score!$J$84)","v":"中川　卓也"},{"$f":"IF(score!$L$84=\"\",\"\",score!$L$84)","v":5.2},null,"8球目","9球目","10球目","11球目","12球目","13球目","14球目",null,null,{"$f":"IF(score!$J$84=\"\",\"\",score!$J$84)","v":"中川　卓也"},{"$f":"IF(score!$L$84=\"\",\"\",score!$L$84)","v":5.2},null,"8球目","9球目","10球目","11球目","12球目","13球目","14球目",null,null,{"$f":"IF(score!$J$84=\"\",\"\",score!$J$84)","v":"中川　卓也"},{"$f":"IF(score!$L$84=\"\",\"\",score!$L$84)","v":5.2},null,"8球目","9球目","10球目","11球目","12球目","13球目","14球目",null,null,{"$f":"IF(score!$J$84=\"\",\"\",score!$J$84)","v":"中川　卓也"},{"$f":"IF(score!$L$84=\"\",\"\",score!$L$84)","v":5.2},null,"8球目","9球目","10球目","11球目","12球目","13球目","14球目",null,null,{"$f":"IF(score!$J$84=\"\",\"\",score!$J$84)","v":"中川　卓也"},{"$f":"IF(score!$L$84=\"\",\"\",score!$L$84)","v":5.2},null,"8球目","9球目","10球目","11球目","12球目","13球目","14球目"]
[null,null,{"$f":"IF(score!$J$85=\"\",\"\",score!$J$85)","v":""},{"$f":"IF(score!$L$85=\"\",\"\",score!$L$85)","v":""},null,null,null,null,null,null,null,null,null,null,{"$f":"IF(score!$J$85=\"\",\"\",score!$J$85)","v":""},{"$f":"IF(score!$L$85=\"\",\"\",score!$L$85)","v":""},null,null,null,null,null,null,null,null,null,null,{"$f":"IF(score!$J$85=\"\",\"\",score!$J$85)","v":""},{"$f":"IF(score!$L$85=\"\",\"\",score!$L$85)","v":""},null,"ヒッティング",null,null,null,null,null,null,null,null,{"$f":"IF(score!$J$85=\"\",\"\",score!$J$85)","v":""},{"$f":"IF(score!$L$85=\"\",\"\",score!$L$85)","v":""},null,null,null,null,null,null,null,null,null,null,{"$f":"IF(score!$J$85=\"\",\"\",score!$J$85)","v":""},{"$f":"IF(score!$L$85=\"\",\"\",score!$L$85)","v":""},null,null,null,null,null,null,null,null,null,null,{"$f":"IF(score!$J$85=\"\",\"\",score!$J$85)","v":""},{"$f":"IF(score!$L$85=\"\",\"\",score!$L$85)","v":""},null,null,null,null,null,null,null,null,null,null,{"$f":"IF(score!$J$85=\"\",\"\",score!$J$85)","v":""},{"$f":"IF(score!$L$85=\"\",\"\",score!$L$85)","v":""},null,null,null,null,null,null,null,null,null,null,{"$f":"IF(score!$J$85=\"\",\"\",score!$J$85)","v":""},{"$f":"IF(score!$L$85=\"\",\"\",score!$L$85)","v":""},null,null,null,null,null,null,null,null,null,null,{"$f":"IF(score!$J$85=\"\",\"\",score!$J$85)","v":""},{"$f":"IF(score!$L$85=\"\",\"\",score!$L$85)","v":""},null,null,null,null,null,null,null,null,null,null,{"$f":"IF(score!$J$85=\"\",\"\",score!$J$85)","v":""},{"$f":"IF(score!$L$85=\"\",\"\",score!$L$85)","v":""},null,null,null,null,null,null,null,null,null,null,{"$f":"IF(score!$J$85=\"\",\"\",score!$J$85)","v":""},{"$f":"IF(score!$L$85=\"\",\"\",score!$L$85)","v":""},null,null,null,null,null,null,null,null,null,null,{"$f":"IF(score!$J$85=\"\",\"\",score!$J$85)","v":""},{"$f":"IF(score!$L$85=\"\",\"\",score!$L$85)","v":""},null,null,null,null,null,null,null,null,null,null,{"$f":"IF(score!$J$85=\"\",\"\",score!$J$85)","v":""},{"$f":"IF(score!$L$85=\"\",\"\",score!$L$85)","v":""}]
[null,null,{"$f":"IF(score!$J$86=\"\",\"\",score!$J$86)","v":""},{"$f":"IF(score!$L$86=\"\",\"\",score!$L$86)","v":""},null,"1塁ベース","2塁ベース","3塁ベース","ホームベース","アウト・得点等","打点","得点圏打席？",null,null,{"$f":"IF(score!$J$86=\"\",\"\",score!$J$86)","v":""},{"$f":"IF(score!$L$86=\"\",\"\",score!$L$86)","v":""},null,"1塁ベース","2塁ベース","3塁ベース","ホームベース","アウト・得点等","打点","得点圏打席？",null,null,{"$f":"IF(score!$J$86=\"\",\"\",score!$J$86)","v":""},{"$f":"IF(score!$L$86=\"\",\"\",score!$L$86)","v":""},null,"1塁ベース","2塁ベース","3塁ベース","ホームベース","アウト・得点等","打点","得点圏打席？",null,null,{"$f":"IF(score!$J$86=\"\",\"\",score!$J$86)","v":""},{"$f":"IF(score!$L$86=\"\",\"\",score!$L$86)","v":""},null,"1塁ベース","2塁ベース","3塁ベース","ホームベース","アウト・得点等","打点","得点圏打席？",null,null,{"$f":"IF(score!$J$86=\"\",\"\",score!$J$86)","v":""},{"$f":"IF(score!$L$86=\"\",\"\",score!$L$86)","v":""},null,"1塁ベース","2塁ベース","3塁ベース","ホームベース","アウト・得点等","打点","得点圏打席？",null,null,{"$f":"IF(score!$J$86=\"\",\"\",score!$J$86)","v":""},{"$f":"IF(score!$L$86=\"\",\"\",score!$L$86)","v":""},null,"1塁ベース","2塁ベース","3塁ベース","ホームベース","アウト・得点等","打点","得点圏打席？",null,null,{"$f":"IF(score!$J$86=\"\",\"\",score!$J$86)","v":""},{"$f":"IF(score!$L$86=\"\",\"\",score!$L$86)","v":""},null,"1塁ベース","2塁ベース","3塁ベース","ホームベース","アウト・得点等","打点","得点圏打席？",null,null,{"$f":"IF(score!$J$86=\"\",\"\",score!$J$86)","v":""},{"$f":"IF(score!$L$86=\"\",\"\",score!$L$86)","v":""},null,"1塁ベース","2塁ベース","3塁ベース","ホームベース","アウト・得点等","打点","得点圏打席？",null,null,{"$f":"IF(score!$J$86=\"\",\"\",score!$J$86)","v":""},{"$f":"IF(score!$L$86=\"\",\"\",score!$L$86)","v":""},null,"1塁ベース","2塁ベース","3塁ベース","ホームベース","アウト・得点等","打点","得点圏打席？",null,null,{"$f":"IF(score!$J$86=\"\",\"\",score!$J$86)","v":""},{"$f":"IF(score!$L$86=\"\",\"\",score!$L$86)","v":""},null,"1塁ベース","2塁ベース","3塁ベース","ホームベース","アウト・得点等","打点","得点圏打席？",null,null,{"$f":"IF(score!$J$86=\"\",\"\",score!$J$86)","v":""},{"$f":"IF(score!$L$86=\"\",\"\",score!$L$86)","v":""},null,"1塁ベース","2塁ベース","3塁ベース","ホームベース","アウト・得点等","打点","得点圏打席？",null,null,{"$f":"IF(score!$J$86=\"\",\"\",score!$J$86)","v":""},{"$f":"IF(score!$L$86=\"\",\"\",score!$L$86)","v":""},null,"1塁ベース","2塁ベース","3塁ベース","ホームベース","アウト・得点等","打点","得点圏打席？",null,null,{"$f":"IF(score!$J$86=\"\",\"\",score!$J$86)","v":""},{"$f":"IF(score!$L$86=\"\",\"\",score!$L$86)","v":""},null,"1塁ベース","2塁ベース","3塁ベース","ホームベース","アウト・得点等","打点","得点圏打席？"]
[null,null,{"$f":"IF(score!$J$87=\"\",\"\",score!$J$87)","v":""},{"$f":"IF(score!$L$87=\"\",\"\",score!$L$87)","v":""},"打撃結果","空振り三振",null,null,null,"1アウト",null,null,null,null,{"$f":"IF(score!$J$87=\"\",\"\",score!$J$87)","v":""},{"$f":"IF(score!$L$87=\"\",\"\",score!$L$87)","v":""},"打撃結果",null,null,null,null,null,null,null,null,null,{"$f":"IF(score!$J$87=\"\",\"\",score!$J$87)","v":""},{"$f":"IF(score!$L$87=\"\",\"\",score!$L$87)","v":""},"打撃結果","ヒット出塁",null,"4番打者",null,"残塁",null,null,null,null,{"$f":"IF(score!$J$87=\"\",\"\",score!$J$87)","v":""},{"$f":"IF(score!$L$87=\"\",\"\",score!$L$87)","v":""},"打撃結果","見送り三振",null,null,null,"3アウト",null,null,null,null,{"$f":"IF(score!$J$87=\"\",\"\",score!$J$87)","v":""},{"$f":"IF(score!$L$87=\"\",\"\",score!$L$87)","v":""},"打撃結果","凡打",null,null,null,"2アウト",null,null,null,null,{"$f":"IF(score!$J$87=\"\",\"\",score!$J$87)","v":""},{"$f":"IF(score!$L$87=\"\",\"\",score!$L$87)","v":""},"打撃結果",null,null,null,null,null,null,null,null,null,{"$f":"IF(score!$J$87=\"\",\"\",score!$J$87)","v":""},{"$f":"IF(score!$L$87=\"\",\"\",score!$L$87)","v":""},"打撃結果",null,null,null,null,null,null,null,null,null,{"$f":"IF(score!$J$87=\"\",\"\",score!$J$87)","v":""},{"$f":"IF(score!$L$87=\"\",\"\",score!$L$87)","v":""},"打撃結果",null,"2塁打",null,null,"残塁",null,null,null,null,{"$f":"IF(score!$J$87=\"\",\"\",score!$J$87)","v":""},{"$f":"IF(score!$L$87=\"\",\"\",score!$L$87)","v":""},"打撃結果",null,null,null,null,null,null,null,null,null,{"$f":"IF(score!$J$87=\"\",\"\",score!$J$87)","v":""},{"$f":"IF(score!$L$87=\"\",\"\",score!$L$87)","v":""},"打撃結果",null,null,null,null,null,null,null,null,null,{"$f":"IF(score!$J$87=\"\",\"\",score!$J$87)","v":""},{"$f":"IF(score!$L$87=\"\",\"\",score!$L$87)","v":""},"打撃結果",null,null,null,null,null,null,null,null,null,{"$f":"IF(score!$J$87=\"\",\"\",score!$J$87)","v":""},{"$f":"IF(score!$L$87=\"\",\"\",score!$L$87)","v":""},"打撃結果",null,null,null,null,null,null,null,null,null,{"$f":"IF(score!$J$87=\"\",\"\",score!$J$87)","v":""},{"$f":"IF(score!$L$87=\"\",\"\",score!$L$87)","v":""},"打撃結果"]
[null,null,null,{"$f":"IFERROR(VLOOKUP(C27,#REF!,3,FALSE),\"\")","v":""},"打球状態",null,null,null,null,null,null,"得点圏打席",null,null,null,{"$f":"IFERROR(VLOOKUP(O27,#REF!,3,FALSE),\"\")","v":""},"打球状態",null,null,0,0,0,0,null,null,null,null,{"$f":"IFERROR(VLOOKUP(AA27,#REF!,3,FALSE),\"\")","v":""},"打球状態","ゴロ",null,null,null,null,null,null,null,null,null,{"$f":"IFERROR(VLOOKUP(AM27,#REF!,3,FALSE),\"\")","v":""},"打球状態",null,null,0,0,0,0,null,null,null,null,{"$f":"IFERROR(VLOOKUP(AY27,#REF!,3,FALSE),\"\")","v":""},"打球状態","フライ",null,null,null,null,0,null,null,null,null,{"$f":"IFERROR(VLOOKUP(BK27,#REF!,3,FALSE),\"\")","v":""},"打球状態",null,null,0,0,0,0,null,null,null,null,{"$f":"IFERROR(VLOOKUP(BW27,#REF!,3,FALSE),\"\")","v":""},"打球状態",null,null,0,0,0,0,null,null,null,null,{"$f":"IFERROR(VLOOKUP(CI27,#REF!,3,FALSE),\"\")","v":""},"打球状態","フライ",null,null,null,null,0,null,null,null,null,{"$f":"IFERROR(VLOOKUP(CU27,#REF!,3,FALSE),\"\")","v":""},"打球状態",null,null,0,0,0,0,null,null,null,null,{"$f":"IFERROR(VLOOKUP(DG27,#REF!,3,FALSE),\"\")","v":""},"打球状態",null,null,0,0,0,0,null,null,null,null,{"$f":"IFERROR(VLOOKUP(DS27,#REF!,3,FALSE),\"\")","v":""},"打球状態",null,null,0,0,0,0,null,null,null,null,{"$f":"IFERROR(VLOOKUP(EE27,#REF!,3,FALSE),\"\")","v":""},"打球状態",null,null,0,0,0,0,null,null,null,null,{"$f":"IFERROR(VLOOKUP(EQ27,#REF!,3,FALSE),\"\")","v":""},"打球状態",null,null,0,0,0,0]
[null,null,null,{"$f":"IFERROR(VLOOKUP(C28,#REF!,3,FALSE),\"\")","v":""},"打球方向",null,null,null,null,null,null,null,null,null,null,{"$f":"IFERROR(VLOOKUP(O28,#REF!,3,FALSE),\"\")","v":""},"打球方向",null,null,null,null,0,0,0,null,null,null,{"$f":"IFERROR(VLOOKUP(AA28,#REF!,3,FALSE),\"\")","v":""},"打球方向","遊撃手",null,null,null,null,null,null,null,null,null,{"$f":"IFERROR(VLOOKUP(AM28,#REF!,3,FALSE),\"\")","v":""},"打球方向",null,null,null,null,0,0,0,null,null,null,{"$f":"IFERROR(VLOOKUP(AY28,#REF!,3,FALSE),\"\")","v":""},"打球方向","レフト",null,null,null,null,0,0,null,null,null,{"$f":"IFERROR(VLOOKUP(BK28,#REF!,3,FALSE),\"\")","v":""},"打球方向",null,null,null,null,0,0,0,null,null,null,{"$f":"IFERROR(VLOOKUP(BW28,#REF!,3,FALSE),\"\")","v":""},"打球方向",null,null,null,null,0,0,0,null,null,null,{"$f":"IFERROR(VLOOKUP(CI28,#REF!,3,FALSE),\"\")","v":""},"打球方向","レフト",null,null,null,null,0,0,null,null,null,{"$f":"IFERROR(VLOOKUP(CU28,#REF!,3,FALSE),\"\")","v":""},"打球方向",null,null,null,null,0,0,0,null,null,null,{"$f":"IFERROR(VLOOKUP(DG28,#REF!,3,FALSE),\"\")","v":""},"打球方向",null,null,null,null,0,0,0,null,null,null,{"$f":"IFERROR(VLOOKUP(DS28,#REF!,3,FALSE),\"\")","v":""},"打球方向",null,null,null,null,0,0,0,null,null,null,{"$f":"IFERROR(VLOOKUP(EE28,#REF!,3,FALSE),\"\")","v":""},"打球方向",null,null,null,null,0,0,0,null,null,null,{"$f":"IFERROR(VLOOKUP(EQ28,#REF!,3,FALSE),\"\")","v":""},"打球方向",null,null,null,null,0,0,0]
[null,{"$f":"B20","v":1},{"$f":"C20","v":"回裏"},"確定:",{"$f":"D31","v":8},"相手T投手:",{"$f":"IF(E29=\"\",\"\",IF(E29=(D31+0.2),\"2\",IF(E29=(D31+0.3),\"3\",IF(E29=(D31+0.4),\"4\",IF(E29=(D31+0.5),\"5\",\"先\")))))","v":"先"},null,null,null,null,null,null,{"$f":"N20","v":2},{"$f":"O20","v":"回裏"},"確定:",{"$f":"E29","v":8},"相手T投手:",{"$f":"IF(Q29=\"\",\"\",IF(Q29=(P31+0.2),\"2\",IF(Q29=(P31+0.3),\"3\",IF(Q29=(P31+0.4),\"4\",IF(Q29=(P31+0.5),\"5\",\"先\")))))","v":"先"},null,null,null,null,null,null,{"$f":"Z20","v":3},{"$f":"AA20","v":"回裏"},"確定:",{"$f":"Q29","v":8},"相手T投手:",{"$f":"IF(AC29=\"\",\"\",IF(AC29=(AB31+0.2),\"2\",IF(AC29=(AB31+0.3),\"3\",IF(AC29=(AB31+0.4),\"4\",IF(AC29=(AB31+0.5),\"5\",\"先\")))))","v":"先"},null,null,null,null,null,null,{"$f":"AL20","v":4},{"$f":"AM20","v":"回裏"},"確定:",{"$f":"AC29","v":8},"相手T投手:",{"$f":"IF(AO29=\"\",\"\",IF(AO29=(AN31+0.2),\"2\",IF(AO29=(AN31+0.3),\"3\",IF(AO29=(AN31+0.4),\"4\",IF(AO29=(AN31+0.5),\"5\",\"先\")))))","v":"先"},null,null,null,null,null,null,{"$f":"AX20","v":5},{"$f":"AY20","v":"回裏"},"確定:",{"$f":"AO29","v":8},"相手T投手:",{"$f":"IF(BA29=\"\",\"\",IF(BA29=(AZ31+0.2),\"2\",IF(BA29=(AZ31+0.3),\"3\",IF(BA29=(AZ31+0.4),\"4\",IF(BA29=(AZ31+0.5),\"5\",\"先\")))))","v":"先"},null,null,null,null,null,null,{"$f":"BJ20","v":5},{"$f":"BK20","v":"回裏"},"確定:",{"$f":"BA29","v":8},"相手T投手:",{"$f":"IF(BM29=\"\",\"\",IF(BM29=(BL31+0.2),\"2\",IF(BM29=(BL31+0.3),\"3\",IF(BM29=(BL31+0.4),\"4\",IF(BM29=(BL31+0.5),\"5\",\"先\")))))","v":"先"},null,null,null,null,null,null,{"$f":"BV20","v":6},{"$f":"BW20","v":"回裏"},"確定:",{"$f":"BM29","v":8},"相手T投手:",{"$f":"IF(BY29=\"\",\"\",IF(BY29=(BX31+0.2),\"2\",IF(BY29=(BX31+0.3),\"3\",IF(BY29=(BX31+0.4),\"4\",IF(BY29=(BX31+0.5),\"5\",\"先\")))))","v":"先"},null,null,null,null,null,null,{"$f":"CH20","v":7},{"$f":"CI20","v":"回裏"},"確定:",8.1999999999999993,"相手T投手:",{"$f":"IF(CK29=\"\",\"\",IF(CK29=(CJ31+0.2),\"2\",IF(CK29=(CJ31+0.3),\"3\",IF(CK29=(CJ31+0.4),\"4\",IF(CK29=(CJ31+0.5),\"5\",\"先\")))))","v":"2"},null,null,null,null,null,null,{"$f":"CT20","v":8},{"$f":"CU20","v":"回裏"},"確定:",{"$f":"CK29","v":8.1999999999999993},"相手T投手:",{"$f":"IF(CW29=\"\",\"\",IF(CW29=(CV31+0.2),\"2\",IF(CW29=(CV31+0.3),\"3\",IF(CW29=(CV31+0.4),\"4\",IF(CW29=(CV31+0.5),\"5\",\"先\")))))","v":"2"},null,null,null,null,null,null,{"$f":"DF20","v":9},{"$f":"DG20","v":"回裏"},"確定:",{"$f":"CW29","v":8.1999999999999993},"相手T投手:",{"$f":"IF(DI29=\"\",\"\",IF(DI29=(DH31+0.2),\"2\",IF(DI29=(DH31+0.3),\"3\",IF(DI29=(DH31+0.4),\"4\",IF(DI29=(DH31+0.5),\"5\",\"先\")))))","v":"2"},null,null,null,null,null,null,{"$f":"DR20","v":10},{"$f":"DS20","v":"回裏"},"確定:",{"$f":"DI29","v":8.1999999999999993},"相手T投手:",{"$f":"IF(DU29=\"\",\"\",IF(DU29=(DT31+0.2),\"2\",IF(DU29=(DT31+0.3),\"3\",IF(DU29=(DT31+0.4),\"4\",IF(DU29=(DT31+0.5),\"5\",\"先\")))))","v":"2"},null,null,null,null,null,null,{"$f":"ED20","v":11},{"$f":"EE20","v":"回裏"},"確定:",{"$f":"DU29","v":8.1999999999999993},"相手T投手:",{"$f":"IF(EG29=\"\",\"\",IF(EG29=(EF31+0.2),\"2\",IF(EG29=(EF31+0.3),\"3\",IF(EG29=(EF31+0.4),\"4\",IF(EG29=(EF31+0.5),\"5\",\"先\")))))","v":"2"},null,null,null,null,null,null,{"$f":"EP20","v":12},{"$f":"EQ20","v":"回裏"},"確定:",{"$f":"EG29","v":8.1999999999999993},"相手T投手:",{"$f":"IF(ES29=\"\",\"\",IF(ES29=(ER31+0.2),\"2\",IF(ES29=(ER31+0.3),\"3\",IF(ES29=(ER31+0.4),\"4\",IF(ES29=(ER31+0.5),\"5\",\"先\")))))","v":"2"}]
[null,"打順","打者","背番","投球判定","1球目","2球目","3球目","4球目","5球目","6球目","7球目",null,"打順","打者","背番","投球判定","1球目","2球目","3球目","4球目","5球目","6球目","7球目",null,"打順","打者","背番","投球判定","1球目","2球目","3球目","4球目","5球目","6球目","7球目",null,"打順","打者","背番","投球判定","1球目","2球目","3球目","4球目","5球目","6球目","7球目",null,"打順","打者","背番","投球判定","1球目","2球目","3球目","4球目","5球目","6球目","7球目",null,"打順","打者","背番","投球判定","1球目","2球目","3球目","4球目","5球目","6球目","7球目",null,"打順","打者","背番","投球判定","1球目","2球目","3球目","4球目","5球目","6球目","7球目",null,"打順","打者","背番","投球判定","1球目","2球目","3球目","4球目","5球目","6球目","7球目",null,"打順","打者","背番","投球判定","1球目","2球目","3球目","4球目","5球目","6球目","7球目",null,"打順","打者","背番","投球判定","1球目","2球目","3球目","4球目","5球目","6球目","7球目",null,"打順","打者","背番","投球判定","1球目","2球目","3球目","4球目","5球目","6球目","7球目",null,"打順","打者","背番","投球判定","1球目","2球目","3球目","4球目","5球目","6球目","7球目",null,"打順","打者","背番","投球判定","1球目","2球目","3球目","4球目","5球目","6球目","7球目"]
[null,"④",{"$f":"IF(score!$J$89=\"\",\"\",score!$J$89)","v":"藤原　恭大"},{"$f":"IF(score!$L$89=\"\",\"\",score!$L$89)","v":8},null,"ボール","ファウル","見逃ストライク","ファウル","空振ストライク",null,null,null,"④",{"$f":"IF(score!$J$89=\"\",\"\",score!$J$89)","v":"藤原　恭大"},{"$f":"IF(score!$L$89=\"\",\"\",score!$L$89)","v":8},null,null,null,null,null,null,null,null,null,"④",{"$f":"IF(score!$J$89=\"\",\"\",score!$J$89)","v":"藤原　恭大"},{"$f":"IF(score!$L$89=\"\",\"\",score!$L$89)","v":8},null,"空振ストライク","ファウル","ファウル","ファウル","ヒッティング",null,null,null,"④",{"$f":"IF(score!$J$89=\"\",\"\",score!$J$89)","v":"藤原　恭大"},{"$f":"IF(score!$L$89=\"\",\"\",score!$L$89)","v":8},null,null,null,null,null,null,null,null,null,"④",{"$f":"IF(score!$J$89=\"\",\"\",score!$J$89)","v":"藤原　恭大"},{"$f":"IF(score!$L$89=\"\",\"\",score!$L$89)","v":8},null,"見逃ストライク","ボール","見逃ストライク","ボール","ファウル","ヒッティング",null,null,"④",{"$f":"IF(score!$J$89=\"\",\"\",score!$J$89)","v":"藤原　恭大"},{"$f":"IF(score!$L$89=\"\",\"\",score!$L$89)","v":8},null,"ボール","ボール","ヒッティング",null,null,null,null,null,"④",{"$f":"IF(score!$J$89=\"\",\"\",score!$J$89)","v":"藤原　恭大"},{"$f":"IF(score!$L$89=\"\",\"\",score!$L$89)","v":8},null,null,null,null,null,null,null,null,null,"④",{"$f":"IF(score!$J$89=\"\",\"\",score!$J$89)","v":"藤原　恭大"},{"$f":"IF(score!$L$89=\"\",\"\",score!$L$89)","v":8},null,"見逃ストライク","ボール","ボール","ファウル","ファウル","空振ストライク",null,null,"④",{"$f":"IF(score!$J$89=\"\",\"\",score!$J$89)","v":"藤原　恭大"},{"$f":"IF(score!$L$89=\"\",\"\",score!$L$89)","v":8},null,null,null,null,null,null,null,null,null,"④",{"$f":"IF(score!$J$89=\"\",\"\",score!$J$89)","v":"藤原　恭大"},{"$f":"IF(score!$L$89=\"\",\"\",score!$L$89)","v":8},null,null,null,null,null,null,null,null,null,"④",{"$f":"IF(score!$J$89=\"\",\"\",score!$J$89)","v":"藤原　恭大"},{"$f":"IF(score!$L$89=\"\",\"\",score!$L$89)","v":8},null,null,null,null,null,null,null,null,null,"④",{"$f":"IF(score!$J$89=\"\",\"\",score!$J$89)","v":"藤原　恭大"},{"$f":"IF(score!$L$89=\"\",\"\",score!$L$89)","v":8},null,null,null,null,null,null,null,null,null,"④",{"$f":"IF(score!$J$89=\"\",\"\",score!$J$89)","v":"藤原　恭大"},{"$f":"IF(score!$L$89=\"\",\"\",score!$L$89)","v":8}]
[null,null,{"$f":"IF(score!$J$90=\"\",\"\",score!$J$90)","v":"藤原　恭大"},{"$f":"IF(score!$L$90=\"\",\"\",score!$L$90)","v":8.1999999999999993},null,"8球目","9球目","10球目","11球目","12球目","13球目","14球目",null,null,{"$f":"IF(score!$J$90=\"\",\"\",score!$J$90)","v":"藤原　恭大"},{"$f":"IF(score!$L$90=\"\",\"\",score!$L$90)","v":8.1999999999999993},null,"8球目","9球目","10球目","11球目","12球目","13球目","14球目",null,null,{"$f":"IF(score!$J$90=\"\",\"\",score!$J$90)","v":"藤原　恭大"},{"$f":"IF(score!$L$90=\"\",\"\",score!$L$90)","v":8.1999999999999993},null,"8球目","9球目","10球目","11球目","12球目","13球目","14球目",null,null,{"$f":"IF(score!$J$90=\"\",\"\",score!$J$90)","v":"藤原　恭大"},{"$f":"IF(score!$L$90=\"\",\"\",score!$L$90)","v":8.1999999999999993},null,"8球目","9球目","10球目","11球目","12球目","13球目","14球目",null,null,{"$f":"IF(score!$J$90=\"\",\"\",score!$J$90)","v":"藤原　恭大"},{"$f":"IF(score!$L$90=\"\",\"\",score!$L$90)","v":8.1999999999999993},null,"8球目","9球目","10球目","11球目","12球目","13球目","14球目",null,null,{"$f":"IF(score!$J$90=\"\",\"\",score!$J$90)","v":"藤原　恭大"},{"$f":"IF(score!$L$90=\"\",\"\",score!$L$90)","v":8.1999999999999993},null,"8球目","9球目","10球目","11球目","12球目","13球目","14球目",null,null,{"$f":"IF(score!$J$90=\"\",\"\",score!$J$90)","v":"藤原　恭大"},{"$f":"IF(score!$L$90=\"\",\"\",score!$L$90)","v":8.1999999999999993},null,"8球目","9球目","10球目","11球目","12球目","13球目","14球目",null,null,{"$f":"IF(score!$J$90=\"\",\"\",score!$J$90)","v":"藤原　恭大"},{"$f":"IF(score!$L$90=\"\",\"\",score!$L$90)","v":8.1999999999999993},null,"8球目","9球目","10球目","11球目","12球目","13球目","14球目",null,null,{"$f":"IF(score!$J$90=\"\",\"\",score!$J$90)","v":"藤原　恭大"},{"$f":"IF(score!$L$90=\"\",\"\",score!$L$90)","v":8.1999999999999993},null,"8球目","9球目","10球目","11球目","12球目","13球目","14球目",null,null,{"$f":"IF(score!$J$90=\"\",\"\",score!$J$90)","v":"藤原　恭大"},{"$f":"IF(score!$L$90=\"\",\"\",score!$L$90)","v":8.1999999999999993},null,"8球目","9球目","10球目","11球目","12球目","13球目","14球目",null,null,{"$f":"IF(score!$J$90=\"\",\"\",score!$J$90)","v":"藤原　恭大"},{"$f":"IF(score!$L$90=\"\",\"\",score!$L$90)","v":8.1999999999999993},null,"8球目","9球目","10球目","11球目","12球目","13球目","14球目",null,null,{"$f":"IF(score!$J$90=\"\",\"\",score!$J$90)","v":"藤原　恭大"},{"$f":"IF(score!$L$90=\"\",\"\",score!$L$90)","v":8.1999999999999993},null,"8球目","9球目","10球目","11球目","12球目","13球目","14球目",null,null,{"$f":"IF(score!$J$90=\"\",\"\",score!$J$90)","v":"藤原　恭大"},{"$f":"IF(score!$L$90=\"\",\"\",score!$L$90)","v":8.1999999999999993},null,"8球目","9球目","10球目","11球目","12球目","13球目","14球目"]
[null,null,{"$f":"IF(score!$J$91=\"\",\"\",score!$J$91)","v":""},{"$f":"IF(score!$L$91=\"\",\"\",score!$L$91)","v":""},null,null,null,null,null,null,null,null,null,null,{"$f":"IF(score!$J$91=\"\",\"\",score!$J$91)","v":""},{"$f":"IF(score!$L$91=\"\",\"\",score!$L$91)","v":""},null,null,null,null,null,null,null,null,null,null,{"$f":"IF(score!$J$91=\"\",\"\",score!$J$91)","v":""},{"$f":"IF(score!$L$91=\"\",\"\",score!$L$91)","v":""},null,null,null,null,null,null,null,null,null,null,{"$f":"IF(score!$J$91=\"\",\"\",score!$J$91)","v":""},{"$f":"IF(score!$L$91=\"\",\"\",score!$L$91)","v":""},null,null,null,null,null,null,null,null,null,null,{"$f":"IF(score!$J$91=\"\",\"\",score!$J$91)","v":""},{"$f":"IF(score!$L$91=\"\",\"\",score!$L$91)","v":""},null,null,null,null,null,null,null,null,null,null,{"$f":"IF(score!$J$91=\"\",\"\",score!$J$91)","v":""},{"$f":"IF(score!$L$91=\"\",\"\",score!$L$91)","v":""},null,null,null,null,null,null,null,null,null,null,{"$f":"IF(score!$J$91=\"\",\"\",score!$J$91)","v":""},{"$f":"IF(score!$L$91=\"\",\"\",score!$L$91)","v":""},null,null,null,null,null,null,null,null,null,null,{"$f":"IF(score!$J$91=\"\",\"\",score!$J$91)","v":""},{"$f":"IF(score!$L$91=\"\",\"\",score!$L$91)","v":""},null,null,null,null,null,null,null,null,null,null,{"$f":"IF(score!$J$91=\"\",\"\",score!$J$91)","v":""},{"$f":"IF(score!$L$91=\"\",\"\",score!$L$91)","v":""},null,null,null,null,null,null,null,null,null,null,{"$f":"IF(score!$J$91=\"\",\"\",score!$J$91)","v":""},{"$f":"IF(score!$L$91=\"\",\"\",score!$L$91)","v":""},null,null,null,null,null,null,null,null,null,null,{"$f":"IF(score!$J$91=\"\",\"\",score!$J$91)","v":""},{"$f":"IF(score!$L$91=\"\",\"\",score!$L$91)","v":""},null,null,null,null,null,null,null,null,null,null,{"$f":"IF(score!$J$91=\"\",\"\",score!$J$91)","v":""},{"$f":"IF(score!$L$91=\"\",\"\",score!$L$91)","v":""},null,null,null,null,null,null,null,null,null,null,{"$f":"IF(score!$J$91=\"\",\"\",score!$J$91)","v":""},{"$f":"IF(score!$L$91=\"\",\"\",score!$L$91)","v":""}]
[null,null,{"$f":"IF(score!$J$92=\"\",\"\",score!$J$92)","v":""},{"$f":"IF(score!$L$92=\"\",\"\",score!$L$92)","v":""},null,"1塁ベース","2塁ベース","3塁ベース","ホームベース","アウト・得点等","打点","得点圏打席？",null,null,{"$f":"IF(score!$J$92=\"\",\"\",score!$J$92)","v":""},{"$f":"IF(score!$L$92=\"\",\"\",score!$L$92)","v":""},null,"1塁ベース","2塁ベース","3塁ベース","ホームベース","アウト・得点等","打点","得点圏打席？",null,null,{"$f":"IF(score!$J$92=\"\",\"\",score!$J$92)","v":""},{"$f":"IF(score!$L$92=\"\",\"\",score!$L$92)","v":""},null,"1塁ベース","2塁ベース","3塁ベース","ホームベース","アウト・得点等","打点","得点圏打席？",null,null,{"$f":"IF(score!$J$92=\"\",\"\",score!$J$92)","v":""},{"$f":"IF(score!$L$92=\"\",\"\",score!$L$92)","v":""},null,"1塁ベース","2塁ベース","3塁ベース","ホームベース","アウト・得点等","打点","得点圏打席？",null,null,{"$f":"IF(score!$J$92=\"\",\"\",score!$J$92)","v":""},{"$f":"IF(score!$L$92=\"\",\"\",score!$L$92)","v":""},null,"1塁ベース","2塁ベース","3塁ベース","ホームベース","アウト・得点等","打点","得点圏打席？",null,null,{"$f":"IF(score!$J$92=\"\",\"\",score!$J$92)","v":""},{"$f":"IF(score!$L$92=\"\",\"\",score!$L$92)","v":""},null,"1塁ベース","2塁ベース","3塁ベース","ホームベース","アウト・得点等","打点","得点圏打席？",null,null,{"$f":"IF(score!$J$92=\"\",\"\",score!$J$92)","v":""},{"$f":"IF(score!$L$92=\"\",\"\",score!$L$92)","v":""},null,"1塁ベース","2塁ベース","3塁ベース","ホームベース","アウト・得点等","打点","得点圏打席？",null,null,{"$f":"IF(score!$J$92=\"\",\"\",score!$J$92)","v":""},{"$f":"IF(score!$L$92=\"\",\"\",score!$L$92)","v":""},null,"1塁ベース","2塁ベース","3塁ベース","ホームベース","アウト・得点等","打点","得点圏打席？",null,null,{"$f":"IF(score!$J$92=\"\",\"\",score!$J$92)","v":""},{"$f":"IF(score!$L$92=\"\",\"\",score!$L$92)","v":""},null,"1塁ベース","2塁ベース","3塁ベース","ホームベース","アウト・得点等","打点","得点圏打席？",null,null,{"$f":"IF(score!$J$92=\"\",\"\",score!$J$92)","v":""},{"$f":"IF(score!$L$92=\"\",\"\",score!$L$92)","v":""},null,"1塁ベース","2塁ベース","3塁ベース","ホームベース","アウト・得点等","打点","得点圏打席？",null,null,{"$f":"IF(score!$J$92=\"\",\"\",score!$J$92)","v":""},{"$f":"IF(score!$L$92=\"\",\"\",score!$L$92)","v":""},null,"1塁ベース","2塁ベース","3塁ベース","ホームベース","アウト・得点等","打点","得点圏打席？",null,null,{"$f":"IF(score!$J$92=\"\",\"\",score!$J$92)","v":""},{"$f":"IF(score!$L$92=\"\",\"\",score!$L$92)","v":""},null,"1塁ベース","2塁ベース","3塁ベース","ホームベース","アウト・得点等","打点","得点圏打席？",null,null,{"$f":"IF(score!$J$92=\"\",\"\",score!$J$92)","v":""},{"$f":"IF(score!$L$92=\"\",\"\",score!$L$92)","v":""},null,"1塁ベース","2塁ベース","3塁ベース","ホームベース","アウト・得点等","打点","得点圏打席？"]
[null,null,{"$f":"IF(score!$J$93=\"\",\"\",score!$J$93)","v":""},{"$f":"IF(score!$L$93=\"\",\"\",score!$L$93)","v":""},"打撃結果","空振り三振",null,null,null,"2アウト",null,null,null,null,{"$f":"IF(score!$J$93=\"\",\"\",score!$J$93)","v":""},{"$f":"IF(score!$L$93=\"\",\"\",score!$L$93)","v":""},"打撃結果",null,null,null,null,null,null,null,null,null,{"$f":"IF(score!$J$93=\"\",\"\",score!$J$93)","v":""},{"$f":"IF(score!$L$93=\"\",\"\",score!$L$93)","v":""},"打撃結果","ヒット出塁","盗塁成功",null,null,"残塁",null,null,null,null,{"$f":"IF(score!$J$93=\"\",\"\",score!$J$93)","v":""},{"$f":"IF(score!$L$93=\"\",\"\",score!$L$93)","v":""},"打撃結果",null,null,null,null,null,null,null,null,null,{"$f":"IF(score!$J$93=\"\",\"\",score!$J$93)","v":""},{"$f":"IF(score!$L$93=\"\",\"\",score!$L$93)","v":""},"打撃結果","ヒット出塁",null,null,"5番打者","得点",null,null,null,null,{"$f":"IF(score!$J$93=\"\",\"\",score!$J$93)","v":""},{"$f":"IF(score!$L$93=\"\",\"\",score!$L$93)","v":""},"打撃結果",null,"2塁打",null,null,"残塁","2打点","ヒット",null,null,{"$f":"IF(score!$J$93=\"\",\"\",score!$J$93)","v":""},{"$f":"IF(score!$L$93=\"\",\"\",score!$L$93)","v":""},"打撃結果",null,null,null,null,null,null,null,null,null,{"$f":"IF(score!$J$93=\"\",\"\",score!$J$93)","v":""},{"$f":"IF(score!$L$93=\"\",\"\",score!$L$93)","v":""},"打撃結果","空振り三振",null,null,null,"1アウト",null,null,null,null,{"$f":"IF(score!$J$93=\"\",\"\",score!$J$93)","v":""},{"$f":"IF(score!$L$93=\"\",\"\",score!$L$93)","v":""},"打撃結果",null,null,null,null,null,null,null,null,null,{"$f":"IF(score!$J$93=\"\",\"\",score!$J$93)","v":""},{"$f":"IF(score!$L$93=\"\",\"\",score!$L$93)","v":""},"打撃結果",null,null,null,null,null,null,null,null,null,{"$f":"IF(score!$J$93=\"\",\"\",score!$J$93)","v":""},{"$f":"IF(score!$L$93=\"\",\"\",score!$L$93)","v":""},"打撃結果",null,null,null,null,null,null,null,null,null,{"$f":"IF(score!$J$93=\"\",\"\",score!$J$93)","v":""},{"$f":"IF(score!$L$93=\"\",\"\",score!$L$93)","v":""},"打撃結果",null,null,null,null,null,null,null,null,null,{"$f":"IF(score!$J$93=\"\",\"\",score!$J$93)","v":""},{"$f":"IF(score!$L$93=\"\",\"\",score!$L$93)","v":""},"打撃結果"]
[null,null,null,{"$f":"IFERROR(VLOOKUP(C36,#REF!,3,FALSE),\"\")","v":""},"打球状態",null,null,null,null,null,null,"得点圏打席",null,null,null,{"$f":"IFERROR(VLOOKUP(O36,#REF!,3,FALSE),\"\")","v":""},"打球状態",null,null,0,0,0,0,null,null,null,null,{"$f":"IFERROR(VLOOKUP(AA36,#REF!,3,FALSE),\"\")","v":""},"打球状態","フライ",null,null,null,null,0,null,null,null,null,{"$f":"IFERROR(VLOOKUP(AM36,#REF!,3,FALSE),\"\")","v":""},"打球状態",null,null,0,0,0,0,null,null,null,null,{"$f":"IFERROR(VLOOKUP(AY36,#REF!,3,FALSE),\"\")","v":""},"打球状態","フライ",null,null,null,null,null,null,null,null,null,{"$f":"IFERROR(VLOOKUP(BK36,#REF!,3,FALSE),\"\")","v":""},"打球状態","フライ",null,null,null,null,null,"得点圏打席",null,null,null,{"$f":"IFERROR(VLOOKUP(BW36,#REF!,3,FALSE),\"\")","v":""},"打球状態",null,null,0,0,0,0,null,null,null,null,{"$f":"IFERROR(VLOOKUP(CI36,#REF!,3,FALSE),\"\")","v":""},"打球状態",null,null,null,null,null,null,"得点圏打席",null,null,null,{"$f":"IFERROR(VLOOKUP(CU36,#REF!,3,FALSE),\"\")","v":""},"打球状態",null,null,0,0,0,0,null,null,null,null,{"$f":"IFERROR(VLOOKUP(DG36,#REF!,3,FALSE),\"\")","v":""},"打球状態",null,null,0,0,0,0,null,null,null,null,{"$f":"IFERROR(VLOOKUP(DS36,#REF!,3,FALSE),\"\")","v":""},"打球状態",null,null,0,0,0,0,null,null,null,null,{"$f":"IFERROR(VLOOKUP(EE36,#REF!,3,FALSE),\"\")","v":""},"打球状態",null,null,0,0,0,0,null,null,null,null,{"$f":"IFERROR(VLOOKUP(EQ36,#REF!,3,FALSE),\"\")","v":""},"打球状態",null,null,0,0,0,0]
[null,null,null,{"$f":"IFERROR(VLOOKUP(C37,#REF!,3,FALSE),\"\")","v":""},"打球方向",null,null,null,null,null,null,null,null,null,null,{"$f":"IFERROR(VLOOKUP(O37,#REF!,3,FALSE),\"\")","v":""},"打球方向",null,null,null,null,0,0,0,null,null,null,{"$f":"IFERROR(VLOOKUP(AA37,#REF!,3,FALSE),\"\")","v":""},"打球方向","ライト",null,null,null,null,0,0,null,null,null,{"$f":"IFERROR(VLOOKUP(AM37,#REF!,3,FALSE),\"\")","v":""},"打球方向",null,null,null,null,0,0,0,null,null,null,{"$f":"IFERROR(VLOOKUP(AY37,#REF!,3,FALSE),\"\")","v":""},"打球方向","ライト",null,null,null,null,null,0,null,null,null,{"$f":"IFERROR(VLOOKUP(BK37,#REF!,3,FALSE),\"\")","v":""},"打球方向","センター",null,null,null,null,null,null,null,null,null,{"$f":"IFERROR(VLOOKUP(BW37,#REF!,3,FALSE),\"\")","v":""},"打球方向",null,null,null,null,0,0,0,null,null,null,{"$f":"IFERROR(VLOOKUP(CI37,#REF!,3,FALSE),\"\")","v":""},"打球方向",null,null,null,null,0,0,0,null,null,null,{"$f":"IFERROR(VLOOKUP(CU37,#REF!,3,FALSE),\"\")","v":""},"打球方向",null,null,null,null,0,0,0,null,null,null,{"$f":"IFERROR(VLOOKUP(DG37,#REF!,3,FALSE),\"\")","v":""},"打球方向",null,null,null,null,0,0,0,null,null,null,{"$f":"IFERROR(VLOOKUP(DS37,#REF!,3,FALSE),\"\")","v":""},"打球方向",null,null,null,null,0,0,0,null,null,null,{"$f":"IFERROR(VLOOKUP(EE37,#REF!,3,FALSE),\"\")","v":""},"打球方向",null,null,null,null,0,0,0,null,null,null,{"$f":"IFERROR(VLOOKUP(EQ37,#REF!,3,FALSE),\"\")","v":""},"打球方向",null,null,null,null,0,0,0]
[null,{"$f":"B29","v":1},{"$f":"C29","v":"回裏"},"確定:",{"$f":"D40","v":6},"相手T投手:",{"$f":"IF(E38=\"\",\"\",IF(E38=(D40+0.2),\"2\",IF(E38=(D40+0.3),\"3\",IF(E38=(D40+0.4),\"4\",IF(E38=(D40+0.5),\"5\",\"先\")))))","v":"先"},null,null,null,null,null,null,{"$f":"N29","v":2},{"$f":"O29","v":"回裏"},"確定:",{"$f":"E38","v":6},"相手T投手:",{"$f":"IF(Q38=\"\",\"\",IF(Q38=(P40+0.2),\"2\",IF(Q38=(P40+0.3),\"3\",IF(Q38=(P40+0.4),\"4\",IF(Q38=(P40+0.5),\"5\",\"先\")))))","v":"先"},null,null,null,null,null,null,{"$f":"Z29","v":3},{"$f":"AA29","v":"回裏"},"確定:",{"$f":"Q38","v":6},"相手T投手:",{"$f":"IF(AC38=\"\",\"\",IF(AC38=(AB40+0.2),\"2\",IF(AC38=(AB40+0.3),\"3\",IF(AC38=(AB40+0.4),\"4\",IF(AC38=(AB40+0.5),\"5\",\"先\")))))","v":"先"},null,null,null,null,null,null,{"$f":"AL29","v":4},{"$f":"AM29","v":"回裏"},"確定:",{"$f":"AC38","v":6},"相手T投手:",{"$f":"IF(AO38=\"\",\"\",IF(AO38=(AN40+0.2),\"2\",IF(AO38=(AN40+0.3),\"3\",IF(AO38=(AN40+0.4),\"4\",IF(AO38=(AN40+0.5),\"5\",\"先\")))))","v":"先"},null,null,null,null,null,null,{"$f":"AX29","v":5},{"$f":"AY29","v":"回裏"},"確定:",{"$f":"AO38","v":6},"相手T投手:",{"$f":"IF(BA38=\"\",\"\",IF(BA38=(AZ40+0.2),\"2\",IF(BA38=(AZ40+0.3),\"3\",IF(BA38=(AZ40+0.4),\"4\",IF(BA38=(AZ40+0.5),\"5\",\"先\")))))","v":"先"},null,null,null,null,null,null,{"$f":"BJ29","v":5},{"$f":"BK29","v":"回裏"},"確定:",{"$f":"BA38","v":6},"相手T投手:",{"$f":"IF(BM38=\"\",\"\",IF(BM38=(BL40+0.2),\"2\",IF(BM38=(BL40+0.3),\"3\",IF(BM38=(BL40+0.4),\"4\",IF(BM38=(BL40+0.5),\"5\",\"先\")))))","v":"先"},null,null,null,null,null,null,{"$f":"BV29","v":6},{"$f":"BW29","v":"回裏"},"確定:",{"$f":"BM38","v":6},"相手T投手:",{"$f":"IF(BY38=\"\",\"\",IF(BY38=(BX40+0.2),\"2\",IF(BY38=(BX40+0.3),\"3\",IF(BY38=(BX40+0.4),\"4\",IF(BY38=(BX40+0.5),\"5\",\"先\")))))","v":"先"},null,null,null,null,null,null,{"$f":"CH29","v":7},{"$f":"CI29","v":"回裏"},"確定:",6.2,"相手T投手:",{"$f":"IF(CK38=\"\",\"\",IF(CK38=(CJ40+0.2),\"2\",IF(CK38=(CJ40+0.3),\"3\",IF(CK38=(CJ40+0.4),\"4\",IF(CK38=(CJ40+0.5),\"5\",\"先\")))))","v":"2"},null,null,null,null,null,null,{"$f":"CT29","v":8},{"$f":"CU29","v":"回裏"},"確定:",{"$f":"CK38","v":6.2},"相手T投手:",{"$f":"IF(CW38=\"\",\"\",IF(CW38=(CV40+0.2),\"2\",IF(CW38=(CV40+0.3),\"3\",IF(CW38=(CV40+0.4),\"4\",IF(CW38=(CV40+0.5),\"5\",\"先\")))))","v":"2"},null,null,null,null,null,null,{"$f":"DF29","v":9},{"$f":"DG29","v":"回裏"},"確定:",{"$f":"CW38","v":6.2},"相手T投手:",{"$f":"IF(DI38=\"\",\"\",IF(DI38=(DH40+0.2),\"2\",IF(DI38=(DH40+0.3),\"3\",IF(DI38=(DH40+0.4),\"4\",IF(DI38=(DH40+0.5),\"5\",\"先\")))))","v":"2"},null,null,null,null,null,null,{"$f":"DR29","v":10},{"$f":"DS29","v":"回裏"},"確定:",{"$f":"DI38","v":6.2},"相手T投手:",{"$f":"IF(DU38=\"\",\"\",IF(DU38=(DT40+0.2),\"2\",IF(DU38=(DT40+0.3),\"3\",IF(DU38=(DT40+0.4),\"4\",IF(DU38=(DT40+0.5),\"5\",\"先\")))))","v":"2"},null,null,null,null,null,null,{"$f":"ED29","v":11},{"$f":"EE29","v":"回裏"},"確定:",{"$f":"DU38","v":6.2},"相手T投手:",{"$f":"IF(EG38=\"\",\"\",IF(EG38=(EF40+0.2),\"2\",IF(EG38=(EF40+0.3),\"3\",IF(EG38=(EF40+0.4),\"4\",IF(EG38=(EF40+0.5),\"5\",\"先\")))))","v":"2"},null,null,null,null,null,null,{"$f":"EP29","v":12},{"$f":"EQ29","v":"回裏"},"確定:",{"$f":"EG38","v":6.2},"相手T投手:",{"$f":"IF(ES38=\"\",\"\",IF(ES38=(ER40+0.2),\"2\",IF(ES38=(ER40+0.3),\"3\",IF(ES38=(ER40+0.4),\"4\",IF(ES38=(ER40+0.5),\"5\",\"先\")))))","v":"2"}]
[null,"打順","打者","背番","投球判定","1球目","2球目","3球目","4球目","5球目","6球目","7球目",null,"打順","打者","背番","投球判定","1球目","2球目","3球目","4球目","5球目","6球目","7球目",null,"打順","打者","背番","投球判定","1球目","2球目","3球目","4球目","5球目","6球目","7球目",null,"打順","打者","背番","投球判定","1球目","2球目","3球目","4球目","5球目","6球目","7球目",null,"打順","打者","背番","投球判定","1球目","2球目","3球目","4球目","5球目","6球目","7球目",null,"打順","打者","背番","投球判定","1球目","2球目","3球目","4球目","5球目","6球目","7球目",null,"打順","打者","背番","投球判定","1球目","2球目","3球目","4球目","5球目","6球目","7球目",null,"打順","打者","背番","投球判定","1球目","2球目","3球目","4球目","5球目","6球目","7球目",null,"打順","打者","背番","投球判定","1球目","2球目","3球目","4球目","5球目","6球目","7球目",null,"打順","打者","背番","投球判定","1球目","2球目","3球目","4球目","5球目","6球目","7球目",null,"打順","打者","背番","投球判定","1球目","2球目","3球目","4球目","5球目","6球目","7球目",null,"打順","打者","背番","投球判定","1球目","2球目","3球目","4球目","5球目","6球目","7球目",null,"打順","打者","背番","投球判定","1球目","2球目","3球目","4球目","5球目","6球目","7球目"]
[null,"⑤",{"$f":"IF(score!$J$95=\"\",\"\",score!$J$95)","v":"根尾　昴"},{"$f":"IF(score!$L$95=\"\",\"\",score!$L$95)","v":6},null,"ボール","見逃ストライク","見逃ストライク","ボール","ボール","ボール",null,null,"⑤",{"$f":"IF(score!$J$95=\"\",\"\",score!$J$95)","v":"根尾　昴"},{"$f":"IF(score!$L$95=\"\",\"\",score!$L$95)","v":6},null,null,null,null,null,null,null,null,null,"⑤",{"$f":"IF(score!$J$95=\"\",\"\",score!$J$95)","v":"根尾　昴"},{"$f":"IF(score!$L$95=\"\",\"\",score!$L$95)","v":6},null,"ヒッティング",null,null,null,null,null,null,null,"⑤",{"$f":"IF(score!$J$95=\"\",\"\",score!$J$95)","v":"根尾　昴"},{"$f":"IF(score!$L$95=\"\",\"\",score!$L$95)","v":6},null,null,null,null,null,null,null,null,null,"⑤",{"$f":"IF(score!$J$95=\"\",\"\",score!$J$95)","v":"根尾　昴"},{"$f":"IF(score!$L$95=\"\",\"\",score!$L$95)","v":6},null,"ファウル","ファウル","ヒッティング",null,null,null,null,null,"⑤",{"$f":"IF(score!$J$95=\"\",\"\",score!$J$95)","v":"根尾　昴"},{"$f":"IF(score!$L$95=\"\",\"\",score!$L$95)","v":6},null,"ボール","ファウル","ボール","ヒッティング",null,null,null,null,"⑤",{"$f":"IF(score!$J$95=\"\",\"\",score!$J$95)","v":"根尾　昴"},{"$f":"IF(score!$L$95=\"\",\"\",score!$L$95)","v":6},null,null,null,null,null,null,null,null,null,"⑤",{"$f":"IF(score!$J$95=\"\",\"\",score!$J$95)","v":"根尾　昴"},{"$f":"IF(score!$L$95=\"\",\"\",score!$L$95)","v":6},null,"空振ストライク","ヒッティング",null,null,null,null,null,null,"⑤",{"$f":"IF(score!$J$95=\"\",\"\",score!$J$95)","v":"根尾　昴"},{"$f":"IF(score!$L$95=\"\",\"\",score!$L$95)","v":6},null,null,null,null,null,null,null,null,null,"⑤",{"$f":"IF(score!$J$95=\"\",\"\",score!$J$95)","v":"根尾　昴"},{"$f":"IF(score!$L$95=\"\",\"\",score!$L$95)","v":6},null,null,null,null,null,null,null,null,null,"⑤",{"$f":"IF(score!$J$95=\"\",\"\",score!$J$95)","v":"根尾　昴"},{"$f":"IF(score!$L$95=\"\",\"\",score!$L$95)","v":6},null,null,null,null,null,null,null,null,null,"⑤",{"$f":"IF(score!$J$95=\"\",\"\",score!$J$95)","v":"根尾　昴"},{"$f":"IF(score!$L$95=\"\",\"\",score!$L$95)","v":6},null,null,null,null,null,null,null,null,null,"⑤",{"$f":"IF(score!$J$95=\"\",\"\",score!$J$95)","v":"根尾　昴"},{"$f":"IF(score!$L$95=\"\",\"\",score!$L$95)","v":6}]
[null,null,{"$f":"IF(score!$J$96=\"\",\"\",score!$J$96)","v":"根尾　昴"},{"$f":"IF(score!$L$96=\"\",\"\",score!$L$96)","v":6.2},null,"8球目","9球目","10球目","11球目","12球目","13球目","14球目",null,null,{"$f":"IF(score!$J$96=\"\",\"\",score!$J$96)","v":"根尾　昴"},{"$f":"IF(score!$L$96=\"\",\"\",score!$L$96)","v":6.2},null,"8球目","9球目","10球目","11球目","12球目","13球目","14球目",null,null,{"$f":"IF(score!$J$96=\"\",\"\",score!$J$96)","v":"根尾　昴"},{"$f":"IF(score!$L$96=\"\",\"\",score!$L$96)","v":6.2},null,"8球目","9球目","10球目","11球目","12球目","13球目","14球目",null,null,{"$f":"IF(score!$J$96=\"\",\"\",score!$J$96)","v":"根尾　昴"},{"$f":"IF(score!$L$96=\"\",\"\",score!$L$96)","v":6.2},null,"8球目","9球目","10球目","11球目","12球目","13球目","14球目",null,null,{"$f":"IF(score!$J$96=\"\",\"\",score!$J$96)","v":"根尾　昴"},{"$f":"IF(score!$L$96=\"\",\"\",score!$L$96)","v":6.2},null,"8球目","9球目","10球目","11球目","12球目","13球目","14球目",null,null,{"$f":"IF(score!$J$96=\"\",\"\",score!$J$96)","v":"根尾　昴"},{"$f":"IF(score!$L$96=\"\",\"\",score!$L$96)","v":6.2},null,"8球目","9球目","10球目","11球目","12球目","13球目","14球目",null,null,{"$f":"IF(score!$J$96=\"\",\"\",score!$J$96)","v":"根尾　昴"},{"$f":"IF(score!$L$96=\"\",\"\",score!$L$96)","v":6.2},null,"8球目","9球目","10球目","11球目","12球目","13球目","14球目",null,null,{"$f":"IF(score!$J$96=\"\",\"\",score!$J$96)","v":"根尾　昴"},{"$f":"IF(score!$L$96=\"\",\"\",score!$L$96)","v":6.2},null,"8球目","9球目","10球目","11球目","12球目","13球目","14球目",null,null,{"$f":"IF(score!$J$96=\"\",\"\",score!$J$96)","v":"根尾　昴"},{"$f":"IF(score!$L$96=\"\",\"\",score!$L$96)","v":6.2},null,"8球目","9球目","10球目","11球目","12球目","13球目","14球目",null,null,{"$f":"IF(score!$J$96=\"\",\"\",score!$J$96)","v":"根尾　昴"},{"$f":"IF(score!$L$96=\"\",\"\",score!$L$96)","v":6.2},null,"8球目","9球目","10球目","11球目","12球目","13球目","14球目",null,null,{"$f":"IF(score!$J$96=\"\",\"\",score!$J$96)","v":"根尾　昴"},{"$f":"IF(score!$L$96=\"\",\"\",score!$L$96)","v":6.2},null,"8球目","9球目","10球目","11球目","12球目","13球目","14球目",null,null,{"$f":"IF(score!$J$96=\"\",\"\",score!$J$96)","v":"根尾　昴"},{"$f":"IF(score!$L$96=\"\",\"\",score!$L$96)","v":6.2},null,"8球目","9球目","10球目","11球目","12球目","13球目","14球目",null,null,{"$f":"IF(score!$J$96=\"\",\"\",score!$J$96)","v":"根尾　昴"},{"$f":"IF(score!$L$96=\"\",\"\",score!$L$96)","v":6.2},null,"8球目","9球目","10球目","11球目","12球目","13球目","14球目"]
[null,null,{"$f":"IF(score!$J$97=\"\",\"\",score!$J$97)","v":""},{"$f":"IF(score!$L$97=\"\",\"\",score!$L$97)","v":""},null,null,null,null,null,null,null,null,null,null,{"$f":"IF(score!$J$97=\"\",\"\",score!$J$97)","v":""},{"$f":"IF(score!$L$97=\"\",\"\",score!$L$97)","v":""},null,null,null,null,null,null,null,null,null,null,{"$f":"IF(score!$J$97=\"\",\"\",score!$J$97)","v":""},{"$f":"IF(score!$L$97=\"\",\"\",score!$L$97)","v":""},null,null,null,null,null,null,null,null,null,null,{"$f":"IF(score!$J$97=\"\",\"\",score!$J$97)","v":""},{"$f":"IF(score!$L$97=\"\",\"\",score!$L$97)","v":""},null,null,null,null,null,null,null,null,null,null,{"$f":"IF(score!$J$97=\"\",\"\",score!$J$97)","v":""},{"$f":"IF(score!$L$97=\"\",\"\",score!$L$97)","v":""},null,null,null,null,null,null,null,null,null,null,{"$f":"IF(score!$J$97=\"\",\"\",score!$J$97)","v":""},{"$f":"IF(score!$L$97=\"\",\"\",score!$L$97)","v":""},null,null,null,null,null,null,null,null,null,null,{"$f":"IF(score!$J$97=\"\",\"\",score!$J$97)","v":""},{"$f":"IF(score!$L$97=\"\",\"\",score!$L$97)","v":""},null,null,null,null,null,null,null,null,null,null,{"$f":"IF(score!$J$97=\"\",\"\",score!$J$97)","v":""},{"$f":"IF(score!$L$97=\"\",\"\",score!$L$97)","v":""},null,null,null,null,null,null,null,null,null,null,{"$f":"IF(score!$J$97=\"\",\"\",score!$J$97)","v":""},{"$f":"IF(score!$L$97=\"\",\"\",score!$L$97)","v":""},null,null,null,null,null,null,null,null,null,null,{"$f":"IF(score!$J$97=\"\",\"\",score!$J$97)","v":""},{"$f":"IF(score!$L$97=\"\",\"\",score!$L$97)","v":""},null,null,null,null,null,null,null,null,null,null,{"$f":"IF(score!$J$97=\"\",\"\",score!$J$97)","v":""},{"$f":"IF(score!$L$97=\"\",\"\",score!$L$97)","v":""},null,null,null,null,null,null,null,null,null,null,{"$f":"IF(score!$J$97=\"\",\"\",score!$J$97)","v":""},{"$f":"IF(score!$L$97=\"\",\"\",score!$L$97)","v":""},null,null,null,null,null,null,null,null,null,null,{"$f":"IF(score!$J$97=\"\",\"\",score!$J$97)","v":""},{"$f":"IF(score!$L$97=\"\",\"\",score!$L$97)","v":""}]
[null,null,{"$f":"IF(score!$J$98=\"\",\"\",score!$J$98)","v":""},{"$f":"IF(score!$L$98=\"\",\"\",score!$L$98)","v":""},null,"1塁ベース","2塁ベース","3塁ベース","ホームベース","アウト・得点等","打点","得点圏打席？",null,null,{"$f":"IF(score!$J$98=\"\",\"\",score!$J$98)","v":""},{"$f":"IF(score!$L$98=\"\",\"\",score!$L$98)","v":""},null,"1塁ベース","2塁ベース","3塁ベース","ホームベース","アウト・得点等","打点","得点圏打席？",null,null,{"$f":"IF(score!$J$98=\"\",\"\",score!$J$98)","v":""},{"$f":"IF(score!$L$98=\"\",\"\",score!$L$98)","v":""},null,"1塁ベース","2塁ベース","3塁ベース","ホームベース","アウト・得点等","打点","得点圏打席？",null,null,{"$f":"IF(score!$J$98=\"\",\"\",score!$J$98)","v":""},{"$f":"IF(score!$L$98=\"\",\"\",score!$L$98)","v":""},null,"1塁ベース","2塁ベース","3塁ベース","ホームベース","アウト・得点等","打点","得点圏打席？",null,null,{"$f":"IF(score!$J$98=\"\",\"\",score!$J$98)","v":""},{"$f":"IF(score!$L$98=\"\",\"\",score!$L$98)","v":""},null,"1塁ベース","2塁ベース","3塁ベース","ホームベース","アウト・得点等","打点","得点圏打席？",null,null,{"$f":"IF(score!$J$98=\"\",\"\",score!$J$98)","v":""},{"$f":"IF(score!$L$98=\"\",\"\",score!$L$98)","v":""},null,"1塁ベース","2塁ベース","3塁ベース","ホームベース","アウト・得点等","打点","得点圏打席？",null,null,{"$f":"IF(score!$J$98=\"\",\"\",score!$J$98)","v":""},{"$f":"IF(score!$L$98=\"\",\"\",score!$L$98)","v":""},null,"1塁ベース","2塁ベース","3塁ベース","ホームベース","アウト・得点等","打点","得点圏打席？",null,null,{"$f":"IF(score!$J$98=\"\",\"\",score!$J$98)","v":""},{"$f":"IF(score!$L$98=\"\",\"\",score!$L$98)","v":""},null,"1塁ベース","2塁ベース","3塁ベース","ホームベース","アウト・得点等","打点","得点圏打席？",null,null,{"$f":"IF(score!$J$98=\"\",\"\",score!$J$98)","v":""},{"$f":"IF(score!$L$98=\"\",\"\",score!$L$98)","v":""},null,"1塁ベース","2塁ベース","3塁ベース","ホームベース","アウト・得点等","打点","得点圏打席？",null,null,{"$f":"IF(score!$J$98=\"\",\"\",score!$J$98)","v":""},{"$f":"IF(score!$L$98=\"\",\"\",score!$L$98)","v":""},null,"1塁ベース","2塁ベース","3塁ベース","ホームベース","アウト・得点等","打点","得点圏打席？",null,null,{"$f":"IF(score!$J$98=\"\",\"\",score!$J$98)","v":""},{"$f":"IF(score!$L$98=\"\",\"\",score!$L$98)","v":""},null,"1塁ベース","2塁ベース","3塁ベース","ホームベース","アウト・得点等","打点","得点圏打席？",null,null,{"$f":"IF(score!$J$98=\"\",\"\",score!$J$98)","v":""},{"$f":"IF(score!$L$98=\"\",\"\",score!$L$98)","v":""},null,"1塁ベース","2塁ベース","3塁ベース","ホームベース","アウト・得点等","打点","得点圏打席？",null,null,{"$f":"IF(score!$J$98=\"\",\"\",score!$J$98)","v":""},{"$f":"IF(score!$L$98=\"\",\"\",score!$L$98)","v":""},null,"1塁ベース","2塁ベース","3塁ベース","ホームベース","アウト・得点等","打点","得点圏打席？"]
[null,null,{"$f":"IF(score!$J$99=\"\",\"\",score!$J$99)","v":""},{"$f":"IF(score!$L$99=\"\",\"\",score!$L$99)","v":""},"打撃結果","四球出塁","エラー進・出塁",null,"6番打者","得点",null,null,null,null,{"$f":"IF(score!$J$99=\"\",\"\",score!$J$99)","v":""},{"$f":"IF(score!$L$99=\"\",\"\",score!$L$99)","v":""},"打撃結果",null,null,null,null,null,null,null,null,null,{"$f":"IF(score!$J$99=\"\",\"\",score!$J$99)","v":""},{"$f":"IF(score!$L$99=\"\",\"\",score!$L$99)","v":""},"打撃結果","凡打",null,null,null,"2アウト",null,null,null,null,{"$f":"IF(score!$J$99=\"\",\"\",score!$J$99)","v":""},{"$f":"IF(score!$L$99=\"\",\"\",score!$L$99)","v":""},"打撃結果",null,null,null,null,null,null,null,null,null,{"$f":"IF(score!$J$99=\"\",\"\",score!$J$99)","v":""},{"$f":"IF(score!$L$99=\"\",\"\",score!$L$99)","v":""},"打撃結果",null,null,null,"ホームラン","得点","2打点",null,null,null,{"$f":"IF(score!$J$99=\"\",\"\",score!$J$99)","v":""},{"$f":"IF(score!$L$99=\"\",\"\",score!$L$99)","v":""},"打撃結果","凡打",null,null,null,"3アウト",null,null,null,null,{"$f":"IF(score!$J$99=\"\",\"\",score!$J$99)","v":""},{"$f":"IF(score!$L$99=\"\",\"\",score!$L$99)","v":""},"打撃結果",null,null,null,null,null,null,null,null,null,{"$f":"IF(score!$J$99=\"\",\"\",score!$J$99)","v":""},{"$f":"IF(score!$L$99=\"\",\"\",score!$L$99)","v":""},"打撃結果","凡打",null,null,null,"2アウト","1打点",null,null,null,{"$f":"IF(score!$J$99=\"\",\"\",score!$J$99)","v":""},{"$f":"IF(score!$L$99=\"\",\"\",score!$L$99)","v":""},"打撃結果",null,null,null,null,null,null,null,null,null,{"$f":"IF(score!$J$99=\"\",\"\",score!$J$99)","v":""},{"$f":"IF(score!$L$99=\"\",\"\",score!$L$99)","v":""},"打撃結果",null,null,null,null,null,null,null,null,null,{"$f":"IF(score!$J$99=\"\",\"\",score!$J$99)","v":""},{"$f":"IF(score!$L$99=\"\",\"\",score!$L$99)","v":""},"打撃結果",null,null,null,null,null,null,null,null,null,{"$f":"IF(score!$J$99=\"\",\"\",score!$J$99)","v":""},{"$f":"IF(score!$L$99=\"\",\"\",score!$L$99)","v":""},"打撃結果",null,null,null,null,null,null,null,null,null,{"$f":"IF(score!$J$99=\"\",\"\",score!$J$99)","v":""},{"$f":"IF(score!$L$99=\"\",\"\",score!$L$99)","v":""},"打撃結果"]
[null,null,null,{"$f":"IFERROR(VLOOKUP(C45,#REF!,3,FALSE),\"\")","v":""},"打球状態",null,null,0,0,0,0,null,null,null,null,{"$f":"IFERROR(VLOOKUP(O45,#REF!,3,FALSE),\"\")","v":""},"打球状態",null,null,0,0,0,0,null,null,null,null,{"$f":"IFERROR(VLOOKUP(AA45,#REF!,3,FALSE),\"\")","v":""},"打球状態","ゴロ",null,null,null,null,null,"得点圏打席",null,null,null,{"$f":"IFERROR(VLOOKUP(AM45,#REF!,3,FALSE),\"\")","v":""},"打球状態",null,null,0,0,0,0,null,null,null,null,{"$f":"IFERROR(VLOOKUP(AY45,#REF!,3,FALSE),\"\")","v":""},"打球状態","フライ",null,null,null,null,null,null,null,null,null,{"$f":"IFERROR(VLOOKUP(BK45,#REF!,3,FALSE),\"\")","v":""},"打球状態","フライ",null,null,null,null,0,null,null,null,null,{"$f":"IFERROR(VLOOKUP(BW45,#REF!,3,FALSE),\"\")","v":""},"打球状態",null,null,0,0,0,0,null,null,null,null,{"$f":"IFERROR(VLOOKUP(CI45,#REF!,3,FALSE),\"\")","v":""},"打球状態","ゴロ",null,null,null,null,null,"得点圏打席",null,null,null,{"$f":"IFERROR(VLOOKUP(CU45,#REF!,3,FALSE),\"\")","v":""},"打球状態",null,null,0,0,0,0,null,null,null,null,{"$f":"IFERROR(VLOOKUP(DG45,#REF!,3,FALSE),\"\")","v":""},"打球状態",null,null,0,0,0,0,null,null,null,null,{"$f":"IFERROR(VLOOKUP(DS45,#REF!,3,FALSE),\"\")","v":""},"打球状態",null,null,0,0,0,0,null,null,null,null,{"$f":"IFERROR(VLOOKUP(EE45,#REF!,3,FALSE),\"\")","v":""},"打球状態",null,null,0,0,0,0,null,null,null,null,{"$f":"IFERROR(VLOOKUP(EQ45,#REF!,3,FALSE),\"\")","v":""},"打球状態",null,null,0,0,0,0]
[null,null,null,{"$f":"IFERROR(VLOOKUP(C46,#REF!,3,FALSE),\"\")","v":""},"打球方向",null,null,null,null,0,0,0,null,null,null,{"$f":"IFERROR(VLOOKUP(O46,#REF!,3,FALSE),\"\")","v":""},"打球方向",null,null,null,null,0,0,0,null,null,null,{"$f":"IFERROR(VLOOKUP(AA46,#REF!,3,FALSE),\"\")","v":""},"打球方向","1塁手",null,null,null,null,null,null,null,null,null,{"$f":"IFERROR(VLOOKUP(AM46,#REF!,3,FALSE),\"\")","v":""},"打球方向",null,null,null,null,0,0,0,null,null,null,{"$f":"IFERROR(VLOOKUP(AY46,#REF!,3,FALSE),\"\")","v":""},"打球方向","レフト",null,null,null,null,null,0,null,null,null,{"$f":"IFERROR(VLOOKUP(BK46,#REF!,3,FALSE),\"\")","v":""},"打球方向","レフト",null,null,null,null,0,0,null,null,null,{"$f":"IFERROR(VLOOKUP(BW46,#REF!,3,FALSE),\"\")","v":""},"打球方向",null,null,null,null,0,0,0,null,null,null,{"$f":"IFERROR(VLOOKUP(CI46,#REF!,3,FALSE),\"\")","v":""},"打球方向","2塁手",null,null,null,null,null,null,null,null,null,{"$f":"IFERROR(VLOOKUP(CU46,#REF!,3,FALSE),\"\")","v":""},"打球方向",null,null,null,null,0,0,0,null,null,null,{"$f":"IFERROR(VLOOKUP(DG46,#REF!,3,FALSE),\"\")","v":""},"打球方向",null,null,null,null,0,0,0,null,null,null,{"$f":"IFERROR(VLOOKUP(DS46,#REF!,3,FALSE),\"\")","v":""},"打球方向",null,null,null,null,0,0,0,null,null,null,{"$f":"IFERROR(VLOOKUP(EE46,#REF!,3,FALSE),\"\")","v":""},"打球方向",null,null,null,null,0,0,0,null,null,null,{"$f":"IFERROR(VLOOKUP(EQ46,#REF!,3,FALSE),\"\")","v":""},"打球方向",null,null,null,null,0,0,0]
[null,{"$f":"B38","v":1},{"$f":"C38","v":"回裏"},"確定:",{"$f":"D49","v":3},"相手T投手:",{"$f":"IF(E47=\"\",\"\",IF(E47=(D49+0.2),\"2\",IF(E47=(D49+0.3),\"3\",IF(E47=(D49+0.4),\"4\",IF(E47=(D49+0.5),\"5\",\"先\")))))","v":"先"},null,null,null,null,null,null,{"$f":"N38","v":2},{"$f":"O38","v":"回裏"},"確定:",{"$f":"E47","v":3},"相手T投手:",{"$f":"IF(Q47=\"\",\"\",IF(Q47=(P49+0.2),\"2\",IF(Q47=(P49+0.3),\"3\",IF(Q47=(P49+0.4),\"4\",IF(Q47=(P49+0.5),\"5\",\"先\")))))","v":"先"},null,null,null,null,null,null,{"$f":"Z38","v":3},{"$f":"AA38","v":"回裏"},"確定:",{"$f":"Q47","v":3},"相手T投手:",{"$f":"IF(AC47=\"\",\"\",IF(AC47=(AB49+0.2),\"2\",IF(AC47=(AB49+0.3),\"3\",IF(AC47=(AB49+0.4),\"4\",IF(AC47=(AB49+0.5),\"5\",\"先\")))))","v":"先"},null,null,null,null,null,null,{"$f":"AL38","v":4},{"$f":"AM38","v":"回裏"},"確定:",{"$f":"AC47","v":3},"相手T投手:",{"$f":"IF(AO47=\"\",\"\",IF(AO47=(AN49+0.2),\"2\",IF(AO47=(AN49+0.3),\"3\",IF(AO47=(AN49+0.4),\"4\",IF(AO47=(AN49+0.5),\"5\",\"先\")))))","v":"先"},null,null,null,null,null,null,{"$f":"AX38","v":5},{"$f":"AY38","v":"回裏"},"確定:",{"$f":"AO47","v":3},"相手T投手:",{"$f":"IF(BA47=\"\",\"\",IF(BA47=(AZ49+0.2),\"2\",IF(BA47=(AZ49+0.3),\"3\",IF(BA47=(AZ49+0.4),\"4\",IF(BA47=(AZ49+0.5),\"5\",\"先\")))))","v":"先"},null,null,null,null,null,null,{"$f":"BJ38","v":5},{"$f":"BK38","v":"回裏"},"確定:",{"$f":"BA47","v":3},"相手T投手:",{"$f":"IF(BM47=\"\",\"\",IF(BM47=(BL49+0.2),\"2\",IF(BM47=(BL49+0.3),\"3\",IF(BM47=(BL49+0.4),\"4\",IF(BM47=(BL49+0.5),\"5\",\"先\")))))","v":"先"},null,null,null,null,null,null,{"$f":"BV38","v":6},{"$f":"BW38","v":"回裏"},"確定:",{"$f":"BM47","v":3},"相手T投手:",{"$f":"IF(BY47=\"\",\"\",IF(BY47=(BX49+0.2),\"2\",IF(BY47=(BX49+0.3),\"3\",IF(BY47=(BX49+0.4),\"4\",IF(BY47=(BX49+0.5),\"5\",\"先\")))))","v":"先"},null,null,null,null,null,null,{"$f":"CH38","v":7},{"$f":"CI38","v":"回裏"},"確定:",3.2,"相手T投手:",{"$f":"IF(CK47=\"\",\"\",IF(CK47=(CJ49+0.2),\"2\",IF(CK47=(CJ49+0.3),\"3\",IF(CK47=(CJ49+0.4),\"4\",IF(CK47=(CJ49+0.5),\"5\",\"先\")))))","v":"2"},null,null,null,null,null,null,{"$f":"CT38","v":8},{"$f":"CU38","v":"回裏"},"確定:",{"$f":"CK47","v":3.2},"相手T投手:",{"$f":"IF(CW47=\"\",\"\",IF(CW47=(CV49+0.2),\"2\",IF(CW47=(CV49+0.3),\"3\",IF(CW47=(CV49+0.4),\"4\",IF(CW47=(CV49+0.5),\"5\",\"先\")))))","v":"2"},null,null,null,null,null,null,{"$f":"DF38","v":9},{"$f":"DG38","v":"回裏"},"確定:",{"$f":"CW47","v":3.2},"相手T投手:",{"$f":"IF(DI47=\"\",\"\",IF(DI47=(DH49+0.2),\"2\",IF(DI47=(DH49+0.3),\"3\",IF(DI47=(DH49+0.4),\"4\",IF(DI47=(DH49+0.5),\"5\",\"先\")))))","v":"2"},null,null,null,null,null,null,{"$f":"DR38","v":10},{"$f":"DS38","v":"回裏"},"確定:",{"$f":"DI47","v":3.2},"相手T投手:",{"$f":"IF(DU47=\"\",\"\",IF(DU47=(DT49+0.2),\"2\",IF(DU47=(DT49+0.3),\"3\",IF(DU47=(DT49+0.4),\"4\",IF(DU47=(DT49+0.5),\"5\",\"先\")))))","v":"2"},null,null,null,null,null,null,{"$f":"ED38","v":11},{"$f":"EE38","v":"回裏"},"確定:",{"$f":"DU47","v":3.2},"相手T投手:",{"$f":"IF(EG47=\"\",\"\",IF(EG47=(EF49+0.2),\"2\",IF(EG47=(EF49+0.3),\"3\",IF(EG47=(EF49+0.4),\"4\",IF(EG47=(EF49+0.5),\"5\",\"先\")))))","v":"2"},null,null,null,null,null,null,{"$f":"EP38","v":12},{"$f":"EQ38","v":"回裏"},"確定:",{"$f":"EG47","v":3.2},"相手T投手:",{"$f":"IF(ES47=\"\",\"\",IF(ES47=(ER49+0.2),\"2\",IF(ES47=(ER49+0.3),\"3\",IF(ES47=(ER49+0.4),\"4\",IF(ES47=(ER49+0.5),\"5\",\"先\")))))","v":"2"}]
[null,"打順","打者","背番","投球判定","1球目","2球目","3球目","4球目","5球目","6球目","7球目",null,"打順","打者","背番","投球判定","1球目","2球目","3球目","4球目","5球目","6球目","7球目",null,"打順","打者","背番","投球判定","1球目","2球目","3球目","4球目","5球目","6球目","7球目",null,"打順","打者","背番","投球判定","1球目","2球目","3球目","4球目","5球目","6球目","7球目",null,"打順","打者","背番","投球判定","1球目","2球目","3球目","4球目","5球目","6球目","7球目",null,"打順","打者","背番","投球判定","1球目","2球目","3球目","4球目","5球目","6球目","7球目",null,"打順","打者","背番","投球判定","1球目","2球目","3球目","4球目","5球目","6球目","7球目",null,"打順","打者","背番","投球判定","1球目","2球目","3球目","4球目","5球目","6球目","7球目",null,"打順","打者","背番","投球判定","1球目","2球目","3球目","4球目","5球目","6球目","7球目",null,"打順","打者","背番","投球判定","1球目","2球目","3球目","4球目","5球目","6球目","7球目",null,"打順","打者","背番","投球判定","1球目","2球目","3球目","4球目","5球目","6球目","7球目",null,"打順","打者","背番","投球判定","1球目","2球目","3球目","4球目","5球目","6球目","7球目",null,"打順","打者","背番","投球判定","1球目","2球目","3球目","4球目","5球目","6球目","7球目"]
[null,"⑥",{"$f":"IF(score!$J$101=\"\",\"\",score!$J$101)","v":"石川　端貴"},{"$f":"IF(score!$L$101=\"\",\"\",score!$L$101)","v":3},null,"ボール","ボール","見逃ストライク","ボール","見逃ストライク","ヒッティング",null,null,"⑥",{"$f":"IF(score!$J$101=\"\",\"\",score!$J$101)","v":"石川　端貴"},{"$f":"IF(score!$L$101=\"\",\"\",score!$L$101)","v":3},null,null,null,null,null,null,null,null,null,"⑥",{"$f":"IF(score!$J$101=\"\",\"\",score!$J$101)","v":"石川　端貴"},{"$f":"IF(score!$L$101=\"\",\"\",score!$L$101)","v":3},null,"ヒッティング",null,null,null,null,null,null,null,"⑥",{"$f":"IF(score!$J$101=\"\",\"\",score!$J$101)","v":"石川　端貴"},{"$f":"IF(score!$L$101=\"\",\"\",score!$L$101)","v":3},null,null,null,null,null,null,null,null,null,"⑥",{"$f":"IF(score!$J$101=\"\",\"\",score!$J$101)","v":"石川　端貴"},{"$f":"IF(score!$L$101=\"\",\"\",score!$L$101)","v":3},null,"見逃ストライク","見逃ストライク","ボール","ボール","ファウル","ヒッティング",null,null,"⑥",{"$f":"IF(score!$J$101=\"\",\"\",score!$J$101)","v":"石川　端貴"},{"$f":"IF(score!$L$101=\"\",\"\",score!$L$101)","v":3},null,null,null,null,null,null,null,null,null,"⑥",{"$f":"IF(score!$J$101=\"\",\"\",score!$J$101)","v":"石川　端貴"},{"$f":"IF(score!$L$101=\"\",\"\",score!$L$101)","v":3},null,"ボール","ヒッティング",null,null,null,null,null,null,"⑥",{"$f":"IF(score!$J$101=\"\",\"\",score!$J$101)","v":"石川　端貴"},{"$f":"IF(score!$L$101=\"\",\"\",score!$L$101)","v":3},null,"見逃ストライク","ファウル","ボール","ヒッティング",null,null,null,null,"⑥",{"$f":"IF(score!$J$101=\"\",\"\",score!$J$101)","v":"石川　端貴"},{"$f":"IF(score!$L$101=\"\",\"\",score!$L$101)","v":3},null,null,null,null,null,null,null,null,null,"⑥",{"$f":"IF(score!$J$101=\"\",\"\",score!$J$101)","v":"石川　端貴"},{"$f":"IF(score!$L$101=\"\",\"\",score!$L$101)","v":3},null,null,null,null,null,null,null,null,null,"⑥",{"$f":"IF(score!$J$101=\"\",\"\",score!$J$101)","v":"石川　端貴"},{"$f":"IF(score!$L$101=\"\",\"\",score!$L$101)","v":3},null,null,null,null,null,null,null,null,null,"⑥",{"$f":"IF(score!$J$101=\"\",\"\",score!$J$101)","v":"石川　端貴"},{"$f":"IF(score!$L$101=\"\",\"\",score!$L$101)","v":3},null,null,null,null,null,null,null,null,null,"⑥",{"$f":"IF(score!$J$101=\"\",\"\",score!$J$101)","v":"石川　端貴"},{"$f":"IF(score!$L$101=\"\",\"\",score!$L$101)","v":3}]
[null,null,{"$f":"IF(score!$J$102=\"\",\"\",score!$J$102)","v":"石川　端貴"},{"$f":"IF(score!$L$102=\"\",\"\",score!$L$102)","v":3.2},null,"8球目","9球目","10球目","11球目","12球目","13球目","14球目",null,null,{"$f":"IF(score!$J$102=\"\",\"\",score!$J$102)","v":"石川　端貴"},{"$f":"IF(score!$L$102=\"\",\"\",score!$L$102)","v":3.2},null,"8球目","9球目","10球目","11球目","12球目","13球目","14球目",null,null,{"$f":"IF(score!$J$102=\"\",\"\",score!$J$102)","v":"石川　端貴"},{"$f":"IF(score!$L$102=\"\",\"\",score!$L$102)","v":3.2},null,"8球目","9球目","10球目","11球目","12球目","13球目","14球目",null,null,{"$f":"IF(score!$J$102=\"\",\"\",score!$J$102)","v":"石川　端貴"},{"$f":"IF(score!$L$102=\"\",\"\",score!$L$102)","v":3.2},null,"8球目","9球目","10球目","11球目","12球目","13球目","14球目",null,null,{"$f":"IF(score!$J$102=\"\",\"\",score!$J$102)","v":"石川　端貴"},{"$f":"IF(score!$L$102=\"\",\"\",score!$L$102)","v":3.2},null,"8球目","9球目","10球目","11球目","12球目","13球目","14球目",null,null,{"$f":"IF(score!$J$102=\"\",\"\",score!$J$102)","v":"石川　端貴"},{"$f":"IF(score!$L$102=\"\",\"\",score!$L$102)","v":3.2},null,"8球目","9球目","10球目","11球目","12球目","13球目","14球目",null,null,{"$f":"IF(score!$J$102=\"\",\"\",score!$J$102)","v":"石川　端貴"},{"$f":"IF(score!$L$102=\"\",\"\",score!$L$102)","v":3.2},null,"8球目","9球目","10球目","11球目","12球目","13球目","14球目",null,null,{"$f":"IF(score!$J$102=\"\",\"\",score!$J$102)","v":"石川　端貴"},{"$f":"IF(score!$L$102=\"\",\"\",score!$L$102)","v":3.2},null,"8球目","9球目","10球目","11球目","12球目","13球目","14球目",null,null,{"$f":"IF(score!$J$102=\"\",\"\",score!$J$102)","v":"石川　端貴"},{"$f":"IF(score!$L$102=\"\",\"\",score!$L$102)","v":3.2},null,"8球目","9球目","10球目","11球目","12球目","13球目","14球目",null,null,{"$f":"IF(score!$J$102=\"\",\"\",score!$J$102)","v":"石川　端貴"},{"$f":"IF(score!$L$102=\"\",\"\",score!$L$102)","v":3.2},null,"8球目","9球目","10球目","11球目","12球目","13球目","14球目",null,null,{"$f":"IF(score!$J$102=\"\",\"\",score!$J$102)","v":"石川　端貴"},{"$f":"IF(score!$L$102=\"\",\"\",score!$L$102)","v":3.2},null,"8球目","9球目","10球目","11球目","12球目","13球目","14球目",null,null,{"$f":"IF(score!$J$102=\"\",\"\",score!$J$102)","v":"石川　端貴"},{"$f":"IF(score!$L$102=\"\",\"\",score!$L$102)","v":3.2},null,"8球目","9球目","10球目","11球目","12球目","13球目","14球目",null,null,{"$f":"IF(score!$J$102=\"\",\"\",score!$J$102)","v":"石川　端貴"},{"$f":"IF(score!$L$102=\"\",\"\",score!$L$102)","v":3.2},null,"8球目","9球目","10球目","11球目","12球目","13球目","14球目"]
[null,null,{"$f":"IF(score!$J$103=\"\",\"\",score!$J$103)","v":""},{"$f":"IF(score!$L$103=\"\",\"\",score!$L$103)","v":""},null,null,null,null,null,null,null,null,null,null,{"$f":"IF(score!$J$103=\"\",\"\",score!$J$103)","v":""},{"$f":"IF(score!$L$103=\"\",\"\",score!$L$103)","v":""},null,null,null,null,null,null,null,null,null,null,{"$f":"IF(score!$J$103=\"\",\"\",score!$J$103)","v":""},{"$f":"IF(score!$L$103=\"\",\"\",score!$L$103)","v":""},null,null,null,null,null,null,null,null,null,null,{"$f":"IF(score!$J$103=\"\",\"\",score!$J$103)","v":""},{"$f":"IF(score!$L$103=\"\",\"\",score!$L$103)","v":""},null,null,null,null,null,null,null,null,null,null,{"$f":"IF(score!$J$103=\"\",\"\",score!$J$103)","v":""},{"$f":"IF(score!$L$103=\"\",\"\",score!$L$103)","v":""},null,null,null,null,null,null,null,null,null,null,{"$f":"IF(score!$J$103=\"\",\"\",score!$J$103)","v":""},{"$f":"IF(score!$L$103=\"\",\"\",score!$L$103)","v":""},null,null,null,null,null,null,null,null,null,null,{"$f":"IF(score!$J$103=\"\",\"\",score!$J$103)","v":""},{"$f":"IF(score!$L$103=\"\",\"\",score!$L$103)","v":""},null,null,null,null,null,null,null,null,null,null,{"$f":"IF(score!$J$103=\"\",\"\",score!$J$103)","v":""},{"$f":"IF(score!$L$103=\"\",\"\",score!$L$103)","v":""},null,null,null,null,null,null,null,null,null,null,{"$f":"IF(score!$J$103=\"\",\"\",score!$J$103)","v":""},{"$f":"IF(score!$L$103=\"\",\"\",score!$L$103)","v":""},null,null,null,null,null,null,null,null,null,null,{"$f":"IF(score!$J$103=\"\",\"\",score!$J$103)","v":""},{"$f":"IF(score!$L$103=\"\",\"\",score!$L$103)","v":""},null,null,null,null,null,null,null,null,null,null,{"$f":"IF(score!$J$103=\"\",\"\",score!$J$103)","v":""},{"$f":"IF(score!$L$103=\"\",\"\",score!$L$103)","v":""},null,null,null,null,null,null,null,null,null,null,{"$f":"IF(score!$J$103=\"\",\"\",score!$J$103)","v":""},{"$f":"IF(score!$L$103=\"\",\"\",score!$L$103)","v":""},null,null,null,null,null,null,null,null,null,null,{"$f":"IF(score!$J$103=\"\",\"\",score!$J$103)","v":""},{"$f":"IF(score!$L$103=\"\",\"\",score!$L$103)","v":""}]
[null,null,{"$f":"IF(score!$J$104=\"\",\"\",score!$J$104)","v":""},{"$f":"IF(score!$L$104=\"\",\"\",score!$L$104)","v":""},null,"1塁ベース","2塁ベース","3塁ベース","ホームベース","アウト・得点等","打点","得点圏打席？",null,null,{"$f":"IF(score!$J$104=\"\",\"\",score!$J$104)","v":""},{"$f":"IF(score!$L$104=\"\",\"\",score!$L$104)","v":""},null,"1塁ベース","2塁ベース","3塁ベース","ホームベース","アウト・得点等","打点","得点圏打席？",null,null,{"$f":"IF(score!$J$104=\"\",\"\",score!$J$104)","v":""},{"$f":"IF(score!$L$104=\"\",\"\",score!$L$104)","v":""},null,"1塁ベース","2塁ベース","3塁ベース","ホームベース","アウト・得点等","打点","得点圏打席？",null,null,{"$f":"IF(score!$J$104=\"\",\"\",score!$J$104)","v":""},{"$f":"IF(score!$L$104=\"\",\"\",score!$L$104)","v":""},null,"1塁ベース","2塁ベース","3塁ベース","ホームベース","アウト・得点等","打点","得点圏打席？",null,null,{"$f":"IF(score!$J$104=\"\",\"\",score!$J$104)","v":""},{"$f":"IF(score!$L$104=\"\",\"\",score!$L$104)","v":""},null,"1塁ベース","2塁ベース","3塁ベース","ホームベース","アウト・得点等","打点","得点圏打席？",null,null,{"$f":"IF(score!$J$104=\"\",\"\",score!$J$104)","v":""},{"$f":"IF(score!$L$104=\"\",\"\",score!$L$104)","v":""},null,"1塁ベース","2塁ベース","3塁ベース","ホームベース","アウト・得点等","打点","得点圏打席？",null,null,{"$f":"IF(score!$J$104=\"\",\"\",score!$J$104)","v":""},{"$f":"IF(score!$L$104=\"\",\"\",score!$L$104)","v":""},null,"1塁ベース","2塁ベース","3塁ベース","ホームベース","アウト・得点等","打点","得点圏打席？",null,null,{"$f":"IF(score!$J$104=\"\",\"\",score!$J$104)","v":""},{"$f":"IF(score!$L$104=\"\",\"\",score!$L$104)","v":""},null,"1塁ベース","2塁ベース","3塁ベース","ホームベース","アウト・得点等","打点","得点圏打席？",null,null,{"$f":"IF(score!$J$104=\"\",\"\",score!$J$104)","v":""},{"$f":"IF(score!$L$104=\"\",\"\",score!$L$104)","v":""},null,"1塁ベース","2塁ベース","3塁ベース","ホームベース","アウト・得点等","打点","得点圏打席？",null,null,{"$f":"IF(score!$J$104=\"\",\"\",score!$J$104)","v":""},{"$f":"IF(score!$L$104=\"\",\"\",score!$L$104)","v":""},null,"1塁ベース","2塁ベース","3塁ベース","ホームベース","アウト・得点等","打点","得点圏打席？",null,null,{"$f":"IF(score!$J$104=\"\",\"\",score!$J$104)","v":""},{"$f":"IF(score!$L$104=\"\",\"\",score!$L$104)","v":""},null,"1塁ベース","2塁ベース","3塁ベース","ホームベース","アウト・得点等","打点","得点圏打席？",null,null,{"$f":"IF(score!$J$104=\"\",\"\",score!$J$104)","v":""},{"$f":"IF(score!$L$104=\"\",\"\",score!$L$104)","v":""},null,"1塁ベース","2塁ベース","3塁ベース","ホームベース","アウト・得点等","打点","得点圏打席？",null,null,{"$f":"IF(score!$J$104=\"\",\"\",score!$J$104)","v":""},{"$f":"IF(score!$L$104=\"\",\"\",score!$L$104)","v":""},null,"1塁ベース","2塁ベース","3塁ベース","ホームベース","アウト・得点等","打点","得点圏打席？"]
[null,null,{"$f":"IF(score!$J$105=\"\",\"\",score!$J$105)","v":""},{"$f":"IF(score!$L$105=\"\",\"\",score!$L$105)","v":""},"打撃結果",null,"2塁打",null,null,"残塁","2打点","ヒット",null,null,{"$f":"IF(score!$J$105=\"\",\"\",score!$J$105)","v":""},{"$f":"IF(score!$L$105=\"\",\"\",score!$L$105)","v":""},"打撃結果",null,null,null,null,null,null,null,null,null,{"$f":"IF(score!$J$105=\"\",\"\",score!$J$105)","v":""},{"$f":"IF(score!$L$105=\"\",\"\",score!$L$105)","v":""},"打撃結果","凡打",null,null,null,"3アウト",null,null,null,null,{"$f":"IF(score!$J$105=\"\",\"\",score!$J$105)","v":""},{"$f":"IF(score!$L$105=\"\",\"\",score!$L$105)","v":""},"打撃結果",null,null,null,null,null,null,null,null,null,{"$f":"IF(score!$J$105=\"\",\"\",score!$J$105)","v":""},{"$f":"IF(score!$L$105=\"\",\"\",score!$L$105)","v":""},"打撃結果","凡打",null,null,null,"1アウト",null,null,null,null,{"$f":"IF(score!$J$105=\"\",\"\",score!$J$105)","v":""},{"$f":"IF(score!$L$105=\"\",\"\",score!$L$105)","v":""},"打撃結果",null,null,null,null,null,null,null,null,null,{"$f":"IF(score!$J$105=\"\",\"\",score!$J$105)","v":""},{"$f":"IF(score!$L$105=\"\",\"\",score!$L$105)","v":""},"打撃結果","凡打",null,null,null,"1アウト",null,null,null,null,{"$f":"IF(score!$J$105=\"\",\"\",score!$J$105)","v":""},{"$f":"IF(score!$L$105=\"\",\"\",score!$L$105)","v":""},"打撃結果","凡打",null,null,null,"3アウト",null,null,null,null,{"$f":"IF(score!$J$105=\"\",\"\",score!$J$105)","v":""},{"$f":"IF(score!$L$105=\"\",\"\",score!$L$105)","v":""},"打撃結果",null,null,null,null,null,null,null,null,null,{"$f":"IF(score!$J$105=\"\",\"\",score!$J$105)","v":""},{"$f":"IF(score!$L$105=\"\",\"\",score!$L$105)","v":""},"打撃結果",null,null,null,null,null,null,null,null,null,{"$f":"IF(score!$J$105=\"\",\"\",score!$J$105)","v":""},{"$f":"IF(score!$L$105=\"\",\"\",score!$L$105)","v":""},"打撃結果",null,null,null,null,null,null,null,null,null,{"$f":"IF(score!$J$105=\"\",\"\",score!$J$105)","v":""},{"$f":"IF(score!$L$105=\"\",\"\",score!$L$105)","v":""},"打撃結果",null,null,null,null,null,null,null,null,null,{"$f":"IF(score!$J$105=\"\",\"\",score!$J$105)","v":""},{"$f":"IF(score!$L$105=\"\",\"\",score!$L$105)","v":""},"打撃結果"]
[null,null,null,{"$f":"IFERROR(VLOOKUP(C54,#REF!,3,FALSE),\"\")","v":""},"打球状態","フライ",null,null,null,null,null,"得点圏打席",null,null,null,{"$f":"IFERROR(VLOOKUP(O54,#REF!,3,FALSE),\"\")","v":""},"打球状態",null,null,0,0,0,0,null,null,null,null,{"$f":"IFERROR(VLOOKUP(AA54,#REF!,3,FALSE),\"\")","v":""},"打球状態","フライ",null,null,null,null,null,"得点圏打席",null,null,null,{"$f":"IFERROR(VLOOKUP(AM54,#REF!,3,FALSE),\"\")","v":""},"打球状態",null,null,0,0,0,0,null,null,null,null,{"$f":"IFERROR(VLOOKUP(AY54,#REF!,3,FALSE),\"\")","v":""},"打球状態","フライ",null,null,null,null,null,null,null,null,null,{"$f":"IFERROR(VLOOKUP(BK54,#REF!,3,FALSE),\"\")","v":""},"打球状態",null,null,0,0,0,0,null,null,null,null,{"$f":"IFERROR(VLOOKUP(BW54,#REF!,3,FALSE),\"\")","v":""},"打球状態","ゴロ",null,null,null,null,0,null,null,null,null,{"$f":"IFERROR(VLOOKUP(CI54,#REF!,3,FALSE),\"\")","v":""},"打球状態","ゴロ",null,null,null,null,0,null,null,null,null,{"$f":"IFERROR(VLOOKUP(CU54,#REF!,3,FALSE),\"\")","v":""},"打球状態",null,null,0,0,0,0,null,null,null,null,{"$f":"IFERROR(VLOOKUP(DG54,#REF!,3,FALSE),\"\")","v":""},"打球状態",null,null,0,0,0,0,null,null,null,null,{"$f":"IFERROR(VLOOKUP(DS54,#REF!,3,FALSE),\"\")","v":""},"打球状態",null,null,0,0,0,0,null,null,null,null,{"$f":"IFERROR(VLOOKUP(EE54,#REF!,3,FALSE),\"\")","v":""},"打球状態",null,null,0,0,0,0,null,null,null,null,{"$f":"IFERROR(VLOOKUP(EQ54,#REF!,3,FALSE),\"\")","v":""},"打球状態",null,null,0,0,0,0]
[null,null,null,{"$f":"IFERROR(VLOOKUP(C55,#REF!,3,FALSE),\"\")","v":""},"打球方向","センター",null,null,null,null,null,null,null,null,null,{"$f":"IFERROR(VLOOKUP(O55,#REF!,3,FALSE),\"\")","v":""},"打球方向",null,null,null,null,0,0,0,null,null,null,{"$f":"IFERROR(VLOOKUP(AA55,#REF!,3,FALSE),\"\")","v":""},"打球方向","2塁手",null,null,null,null,null,null,null,null,null,{"$f":"IFERROR(VLOOKUP(AM55,#REF!,3,FALSE),\"\")","v":""},"打球方向",null,null,null,null,0,0,0,null,null,null,{"$f":"IFERROR(VLOOKUP(AY55,#REF!,3,FALSE),\"\")","v":""},"打球方向","1塁手",null,null,null,null,null,0,null,null,null,{"$f":"IFERROR(VLOOKUP(BK55,#REF!,3,FALSE),\"\")","v":""},"打球方向",null,null,null,null,0,0,0,null,null,null,{"$f":"IFERROR(VLOOKUP(BW55,#REF!,3,FALSE),\"\")","v":""},"打球方向","1塁手",null,null,null,null,0,0,null,null,null,{"$f":"IFERROR(VLOOKUP(CI55,#REF!,3,FALSE),\"\")","v":""},"打球方向","2塁手",null,null,null,null,0,0,null,null,null,{"$f":"IFERROR(VLOOKUP(CU55,#REF!,3,FALSE),\"\")","v":""},"打球方向",null,null,null,null,0,0,0,null,null,null,{"$f":"IFERROR(VLOOKUP(DG55,#REF!,3,FALSE),\"\")","v":""},"打球方向",null,null,null,null,0,0,0,null,null,null,{"$f":"IFERROR(VLOOKUP(DS55,#REF!,3,FALSE),\"\")","v":""},"打球方向",null,null,null,null,0,0,0,null,null,null,{"$f":"IFERROR(VLOOKUP(EE55,#REF!,3,FALSE),\"\")","v":""},"打球方向",null,null,null,null,0,0,0,null,null,null,{"$f":"IFERROR(VLOOKUP(EQ55,#REF!,3,FALSE),\"\")","v":""},"打球方向",null,null,null,null,0,0,0]
[null,{"$f":"B47","v":1},{"$f":"C47","v":"回裏"},"確定:",{"$f":"D58","v":4},"相手T投手:",{"$f":"IF(E56=\"\",\"\",IF(E56=(D58+0.2),\"2\",IF(E56=(D58+0.3),\"3\",IF(E56=(D58+0.4),\"4\",IF(E56=(D58+0.5),\"5\",\"先\")))))","v":"先"},null,null,null,null,null,null,{"$f":"N47","v":2},{"$f":"O47","v":"回裏"},"確定:",{"$f":"E56","v":4},"相手T投手:",{"$f":"IF(Q56=\"\",\"\",IF(Q56=(P58+0.2),\"2\",IF(Q56=(P58+0.3),\"3\",IF(Q56=(P58+0.4),\"4\",IF(Q56=(P58+0.5),\"5\",\"先\")))))","v":"先"},null,null,null,null,null,null,{"$f":"Z47","v":3},{"$f":"AA47","v":"回裏"},"確定:",{"$f":"Q56","v":4},"相手T投手:",{"$f":"IF(AC56=\"\",\"\",IF(AC56=(AB58+0.2),\"2\",IF(AC56=(AB58+0.3),\"3\",IF(AC56=(AB58+0.4),\"4\",IF(AC56=(AB58+0.5),\"5\",\"先\")))))","v":"先"},null,null,null,null,null,null,{"$f":"AL47","v":4},{"$f":"AM47","v":"回裏"},"確定:",{"$f":"AC56","v":4},"相手T投手:",{"$f":"IF(AO56=\"\",\"\",IF(AO56=(AN58+0.2),\"2\",IF(AO56=(AN58+0.3),\"3\",IF(AO56=(AN58+0.4),\"4\",IF(AO56=(AN58+0.5),\"5\",\"先\")))))","v":"先"},null,null,null,null,null,null,{"$f":"AX47","v":5},{"$f":"AY47","v":"回裏"},"確定:",{"$f":"AO56","v":4},"相手T投手:",{"$f":"IF(BA56=\"\",\"\",IF(BA56=(AZ58+0.2),\"2\",IF(BA56=(AZ58+0.3),\"3\",IF(BA56=(AZ58+0.4),\"4\",IF(BA56=(AZ58+0.5),\"5\",\"先\")))))","v":"先"},null,null,null,null,null,null,{"$f":"BJ47","v":5},{"$f":"BK47","v":"回裏"},"確定:",{"$f":"BA56","v":4},"相手T投手:",{"$f":"IF(BM56=\"\",\"\",IF(BM56=(BL58+0.2),\"2\",IF(BM56=(BL58+0.3),\"3\",IF(BM56=(BL58+0.4),\"4\",IF(BM56=(BL58+0.5),\"5\",\"先\")))))","v":"先"},null,null,null,null,null,null,{"$f":"BV47","v":6},{"$f":"BW47","v":"回裏"},"確定:",{"$f":"BM56","v":4},"相手T投手:",{"$f":"IF(BY56=\"\",\"\",IF(BY56=(BX58+0.2),\"2\",IF(BY56=(BX58+0.3),\"3\",IF(BY56=(BX58+0.4),\"4\",IF(BY56=(BX58+0.5),\"5\",\"先\")))))","v":"先"},null,null,null,null,null,null,{"$f":"CH47","v":7},{"$f":"CI47","v":"回裏"},"確定:",4.2,"相手T投手:",{"$f":"IF(CK56=\"\",\"\",IF(CK56=(CJ58+0.2),\"2\",IF(CK56=(CJ58+0.3),\"3\",IF(CK56=(CJ58+0.4),\"4\",IF(CK56=(CJ58+0.5),\"5\",\"先\")))))","v":"2"},null,null,null,null,null,null,{"$f":"CT47","v":8},{"$f":"CU47","v":"回裏"},"確定:",{"$f":"CK56","v":4.2},"相手T投手:",{"$f":"IF(CW56=\"\",\"\",IF(CW56=(CV58+0.2),\"2\",IF(CW56=(CV58+0.3),\"3\",IF(CW56=(CV58+0.4),\"4\",IF(CW56=(CV58+0.5),\"5\",\"先\")))))","v":"2"},null,null,null,null,null,null,{"$f":"DF47","v":9},{"$f":"DG47","v":"回裏"},"確定:",{"$f":"CW56","v":4.2},"相手T投手:",{"$f":"IF(DI56=\"\",\"\",IF(DI56=(DH58+0.2),\"2\",IF(DI56=(DH58+0.3),\"3\",IF(DI56=(DH58+0.4),\"4\",IF(DI56=(DH58+0.5),\"5\",\"先\")))))","v":"2"},null,null,null,null,null,null,{"$f":"DR47","v":10},{"$f":"DS47","v":"回裏"},"確定:",{"$f":"DI56","v":4.2},"相手T投手:",{"$f":"IF(DU56=\"\",\"\",IF(DU56=(DT58+0.2),\"2\",IF(DU56=(DT58+0.3),\"3\",IF(DU56=(DT58+0.4),\"4\",IF(DU56=(DT58+0.5),\"5\",\"先\")))))","v":"2"},null,null,null,null,null,null,{"$f":"ED47","v":11},{"$f":"EE47","v":"回裏"},"確定:",{"$f":"DU56","v":4.2},"相手T投手:",{"$f":"IF(EG56=\"\",\"\",IF(EG56=(EF58+0.2),\"2\",IF(EG56=(EF58+0.3),\"3\",IF(EG56=(EF58+0.4),\"4\",IF(EG56=(EF58+0.5),\"5\",\"先\")))))","v":"2"},null,null,null,null,null,null,{"$f":"EP47","v":12},{"$f":"EQ47","v":"回裏"},"確定:",{"$f":"EG56","v":4.2},"相手T投手:",{"$f":"IF(ES56=\"\",\"\",IF(ES56=(ER58+0.2),\"2\",IF(ES56=(ER58+0.3),\"3\",IF(ES56=(ER58+0.4),\"4\",IF(ES56=(ER58+0.5),\"5\",\"先\")))))","v":"2"}]
[null,"打順","打者","背番","投球判定","1球目","2球目","3球目","4球目","5球目","6球目","7球目",null,"打順","打者","背番","投球判定","1球目","2球目","3球目","4球目","5球目","6球目","7球目",null,"打順","打者","背番","投球判定","1球目","2球目","3球目","4球目","5球目","6球目","7球目",null,"打順","打者","背番","投球判定","1球目","2球目","3球目","4球目","5球目","6球目","7球目",null,"打順","打者","背番","投球判定","1球目","2球目","3球目","4球目","5球目","6球目","7球目",null,"打順","打者","背番","投球判定","1球目","2球目","3球目","4球目","5球目","6球目","7球目",null,"打順","打者","背番","投球判定","1球目","2球目","3球目","4球目","5球目","6球目","7球目",null,"打順","打者","背番","投球判定","1球目","2球目","3球目","4球目","5球目","6球目","7球目",null,"打順","打者","背番","投球判定","1球目","2球目","3球目","4球目","5球目","6球目","7球目",null,"打順","打者","背番","投球判定","1球目","2球目","3球目","4球目","5球目","6球目","7球目",null,"打順","打者","背番","投球判定","1球目","2球目","3球目","4球目","5球目","6球目","7球目",null,"打順","打者","背番","投球判定","1球目","2球目","3球目","4球目","5球目","6球目","7球目",null,"打順","打者","背番","投球判定","1球目","2球目","3球目","4球目","5球目","6球目","7球目"]
[null,"⑦",{"$f":"IF(score!$J$107=\"\",\"\",score!$J$107)","v":"山田　健太"},{"$f":"IF(score!$L$107=\"\",\"\",score!$L$107)","v":4},null,"ボール","ボール","ヒッティング",null,null,null,null,null,"⑦",{"$f":"IF(score!$J$107=\"\",\"\",score!$J$107)","v":"山田　健太"},{"$f":"IF(score!$L$107=\"\",\"\",score!$L$107)","v":4},null,null,null,null,null,null,null,null,null,"⑦",{"$f":"IF(score!$J$107=\"\",\"\",score!$J$107)","v":"山田　健太"},{"$f":"IF(score!$L$107=\"\",\"\",score!$L$107)","v":4},null,null,null,null,null,null,null,null,null,"⑦",{"$f":"IF(score!$J$107=\"\",\"\",score!$J$107)","v":"山田　健太"},{"$f":"IF(score!$L$107=\"\",\"\",score!$L$107)","v":4},null,"ボール","ボール","ボール","見逃ストライク","見逃ストライク","ヒッティング",null,null,"⑦",{"$f":"IF(score!$J$107=\"\",\"\",score!$J$107)","v":"山田　健太"},{"$f":"IF(score!$L$107=\"\",\"\",score!$L$107)","v":4},null,"ボール","見逃ストライク","ヒッティング",null,null,null,null,null,"⑦",{"$f":"IF(score!$J$107=\"\",\"\",score!$J$107)","v":"山田　健太"},{"$f":"IF(score!$L$107=\"\",\"\",score!$L$107)","v":4},null,null,null,null,null,null,null,null,null,"⑦",{"$f":"IF(score!$J$107=\"\",\"\",score!$J$107)","v":"山田　健太"},{"$f":"IF(score!$L$107=\"\",\"\",score!$L$107)","v":4},null,"ヒッティング",null,null,null,null,null,null,null,"⑦",{"$f":"IF(score!$J$107=\"\",\"\",score!$J$107)","v":"山田　健太"},{"$f":"IF(score!$L$107=\"\",\"\",score!$L$107)","v":4},null,null,null,null,null,null,null,null,null,"⑦",{"$f":"IF(score!$J$107=\"\",\"\",score!$J$107)","v":"山田　健太"},{"$f":"IF(score!$L$107=\"\",\"\",score!$L$107)","v":4},null,"ファウル","ボール","ボール","ボール","ヒッティング",null,null,null,"⑦",{"$f":"IF(score!$J$107=\"\",\"\",score!$J$107)","v":"山田　健太"},{"$f":"IF(score!$L$107=\"\",\"\",score!$L$107)","v":4},null,null,null,null,null,null,null,null,null,"⑦",{"$f":"IF(score!$J$107=\"\",\"\",score!$J$107)","v":"山田　健太"},{"$f":"IF(score!$L$107=\"\",\"\",score!$L$107)","v":4},null,null,null,null,null,null,null,null,null,"⑦",{"$f":"IF(score!$J$107=\"\",\"\",score!$J$107)","v":"山田　健太"},{"$f":"IF(score!$L$107=\"\",\"\",score!$L$107)","v":4},null,null,null,null,null,null,null,null,null,"⑦",{"$f":"IF(score!$J$107=\"\",\"\",score!$J$107)","v":"山田　健太"},{"$f":"IF(score!$L$107=\"\",\"\",score!$L$107)","v":4}]
[null,null,{"$f":"IF(score!$J$108=\"\",\"\",score!$J$108)","v":"山田　健太"},{"$f":"IF(score!$L$108=\"\",\"\",score!$L$108)","v":4.2},null,"8球目","9球目","10球目","11球目","12球目","13球目","14球目",null,null,{"$f":"IF(score!$J$108=\"\",\"\",score!$J$108)","v":"山田　健太"},{"$f":"IF(score!$L$108=\"\",\"\",score!$L$108)","v":4.2},null,"8球目","9球目","10球目","11球目","12球目","13球目","14球目",null,null,{"$f":"IF(score!$J$108=\"\",\"\",score!$J$108)","v":"山田　健太"},{"$f":"IF(score!$L$108=\"\",\"\",score!$L$108)","v":4.2},null,"8球目","9球目","10球目","11球目","12球目","13球目","14球目",null,null,{"$f":"IF(score!$J$108=\"\",\"\",score!$J$108)","v":"山田　健太"},{"$f":"IF(score!$L$108=\"\",\"\",score!$L$108)","v":4.2},null,"8球目","9球目","10球目","11球目","12球目","13球目","14球目",null,null,{"$f":"IF(score!$J$108=\"\",\"\",score!$J$108)","v":"山田　健太"},{"$f":"IF(score!$L$108=\"\",\"\",score!$L$108)","v":4.2},null,"8球目","9球目","10球目","11球目","12球目","13球目","14球目",null,null,{"$f":"IF(score!$J$108=\"\",\"\",score!$J$108)","v":"山田　健太"},{"$f":"IF(score!$L$108=\"\",\"\",score!$L$108)","v":4.2},null,"8球目","9球目","10球目","11球目","12球目","13球目","14球目",null,null,{"$f":"IF(score!$J$108=\"\",\"\",score!$J$108)","v":"山田　健太"},{"$f":"IF(score!$L$108=\"\",\"\",score!$L$108)","v":4.2},null,"8球目","9球目","10球目","11球目","12球目","13球目","14球目",null,null,{"$f":"IF(score!$J$108=\"\",\"\",score!$J$108)","v":"山田　健太"},{"$f":"IF(score!$L$108=\"\",\"\",score!$L$108)","v":4.2},null,"8球目","9球目","10球目","11球目","12球目","13球目","14球目",null,null,{"$f":"IF(score!$J$108=\"\",\"\",score!$J$108)","v":"山田　健太"},{"$f":"IF(score!$L$108=\"\",\"\",score!$L$108)","v":4.2},null,"8球目","9球目","10球目","11球目","12球目","13球目","14球目",null,null,{"$f":"IF(score!$J$108=\"\",\"\",score!$J$108)","v":"山田　健太"},{"$f":"IF(score!$L$108=\"\",\"\",score!$L$108)","v":4.2},null,"8球目","9球目","10球目","11球目","12球目","13球目","14球目",null,null,{"$f":"IF(score!$J$108=\"\",\"\",score!$J$108)","v":"山田　健太"},{"$f":"IF(score!$L$108=\"\",\"\",score!$L$108)","v":4.2},null,"8球目","9球目","10球目","11球目","12球目","13球目","14球目",null,null,{"$f":"IF(score!$J$108=\"\",\"\",score!$J$108)","v":"山田　健太"},{"$f":"IF(score!$L$108=\"\",\"\",score!$L$108)","v":4.2},null,"8球目","9球目","10球目","11球目","12球目","13球目","14球目",null,null,{"$f":"IF(score!$J$108=\"\",\"\",score!$J$108)","v":"山田　健太"},{"$f":"IF(score!$L$108=\"\",\"\",score!$L$108)","v":4.2},null,"8球目","9球目","10球目","11球目","12球目","13球目","14球目"]
[null,null,{"$f":"IF(score!$J$109=\"\",\"\",score!$J$109)","v":""},{"$f":"IF(score!$L$109=\"\",\"\",score!$L$109)","v":""},null,null,null,null,null,null,null,null,null,null,{"$f":"IF(score!$J$109=\"\",\"\",score!$J$109)","v":""},{"$f":"IF(score!$L$109=\"\",\"\",score!$L$109)","v":""},null,null,null,null,null,null,null,null,null,null,{"$f":"IF(score!$J$109=\"\",\"\",score!$J$109)","v":""},{"$f":"IF(score!$L$109=\"\",\"\",score!$L$109)","v":""},null,null,null,null,null,null,null,null,null,null,{"$f":"IF(score!$J$109=\"\",\"\",score!$J$109)","v":""},{"$f":"IF(score!$L$109=\"\",\"\",score!$L$109)","v":""},null,null,null,null,null,null,null,null,null,null,{"$f":"IF(score!$J$109=\"\",\"\",score!$J$109)","v":""},{"$f":"IF(score!$L$109=\"\",\"\",score!$L$109)","v":""},null,null,null,null,null,null,null,null,null,null,{"$f":"IF(score!$J$109=\"\",\"\",score!$J$109)","v":""},{"$f":"IF(score!$L$109=\"\",\"\",score!$L$109)","v":""},null,null,null,null,null,null,null,null,null,null,{"$f":"IF(score!$J$109=\"\",\"\",score!$J$109)","v":""},{"$f":"IF(score!$L$109=\"\",\"\",score!$L$109)","v":""},null,null,null,null,null,null,null,null,null,null,{"$f":"IF(score!$J$109=\"\",\"\",score!$J$109)","v":""},{"$f":"IF(score!$L$109=\"\",\"\",score!$L$109)","v":""},null,null,null,null,null,null,null,null,null,null,{"$f":"IF(score!$J$109=\"\",\"\",score!$J$109)","v":""},{"$f":"IF(score!$L$109=\"\",\"\",score!$L$109)","v":""},null,null,null,null,null,null,null,null,null,null,{"$f":"IF(score!$J$109=\"\",\"\",score!$J$109)","v":""},{"$f":"IF(score!$L$109=\"\",\"\",score!$L$109)","v":""},null,null,null,null,null,null,null,null,null,null,{"$f":"IF(score!$J$109=\"\",\"\",score!$J$109)","v":""},{"$f":"IF(score!$L$109=\"\",\"\",score!$L$109)","v":""},null,null,null,null,null,null,null,null,null,null,{"$f":"IF(score!$J$109=\"\",\"\",score!$J$109)","v":""},{"$f":"IF(score!$L$109=\"\",\"\",score!$L$109)","v":""},null,null,null,null,null,null,null,null,null,null,{"$f":"IF(score!$J$109=\"\",\"\",score!$J$109)","v":""},{"$f":"IF(score!$L$109=\"\",\"\",score!$L$109)","v":""}]
[null,null,{"$f":"IF(score!$J$110=\"\",\"\",score!$J$110)","v":""},{"$f":"IF(score!$L$110=\"\",\"\",score!$L$110)","v":""},null,"1塁ベース","2塁ベース","3塁ベース","ホームベース","アウト・得点等","打点","得点圏打席？",null,null,{"$f":"IF(score!$J$110=\"\",\"\",score!$J$110)","v":""},{"$f":"IF(score!$L$110=\"\",\"\",score!$L$110)","v":""},null,"1塁ベース","2塁ベース","3塁ベース","ホームベース","アウト・得点等","打点","得点圏打席？",null,null,{"$f":"IF(score!$J$110=\"\",\"\",score!$J$110)","v":""},{"$f":"IF(score!$L$110=\"\",\"\",score!$L$110)","v":""},null,"1塁ベース","2塁ベース","3塁ベース","ホームベース","アウト・得点等","打点","得点圏打席？",null,null,{"$f":"IF(score!$J$110=\"\",\"\",score!$J$110)","v":""},{"$f":"IF(score!$L$110=\"\",\"\",score!$L$110)","v":""},null,"1塁ベース","2塁ベース","3塁ベース","ホームベース","アウト・得点等","打点","得点圏打席？",null,null,{"$f":"IF(score!$J$110=\"\",\"\",score!$J$110)","v":""},{"$f":"IF(score!$L$110=\"\",\"\",score!$L$110)","v":""},null,"1塁ベース","2塁ベース","3塁ベース","ホームベース","アウト・得点等","打点","得点圏打席？",null,null,{"$f":"IF(score!$J$110=\"\",\"\",score!$J$110)","v":""},{"$f":"IF(score!$L$110=\"\",\"\",score!$L$110)","v":""},null,"1塁ベース","2塁ベース","3塁ベース","ホームベース","アウト・得点等","打点","得点圏打席？",null,null,{"$f":"IF(score!$J$110=\"\",\"\",score!$J$110)","v":""},{"$f":"IF(score!$L$110=\"\",\"\",score!$L$110)","v":""},null,"1塁ベース","2塁ベース","3塁ベース","ホームベース","アウト・得点等","打点","得点圏打席？",null,null,{"$f":"IF(score!$J$110=\"\",\"\",score!$J$110)","v":""},{"$f":"IF(score!$L$110=\"\",\"\",score!$L$110)","v":""},null,"1塁ベース","2塁ベース","3塁ベース","ホームベース","アウト・得点等","打点","得点圏打席？",null,null,{"$f":"IF(score!$J$110=\"\",\"\",score!$J$110)","v":""},{"$f":"IF(score!$L$110=\"\",\"\",score!$L$110)","v":""},null,"1塁ベース","2塁ベース","3塁ベース","ホームベース","アウト・得点等","打点","得点圏打席？",null,null,{"$f":"IF(score!$J$110=\"\",\"\",score!$J$110)","v":""},{"$f":"IF(score!$L$110=\"\",\"\",score!$L$110)","v":""},null,"1塁ベース","2塁ベース","3塁ベース","ホームベース","アウト・得点等","打点","得点圏打席？",null,null,{"$f":"IF(score!$J$110=\"\",\"\",score!$J$110)","v":""},{"$f":"IF(score!$L$110=\"\",\"\",score!$L$110)","v":""},null,"1塁ベース","2塁ベース","3塁ベース","ホームベース","アウト・得点等","打点","得点圏打席？",null,null,{"$f":"IF(score!$J$110=\"\",\"\",score!$J$110)","v":""},{"$f":"IF(score!$L$110=\"\",\"\",score!$L$110)","v":""},null,"1塁ベース","2塁ベース","3塁ベース","ホームベース","アウト・得点等","打点","得点圏打席？",null,null,{"$f":"IF(score!$J$110=\"\",\"\",score!$J$110)","v":""},{"$f":"IF(score!$L$110=\"\",\"\",score!$L$110)","v":""},null,"1塁ベース","2塁ベース","3塁ベース","ホームベース","アウト・得点等","打点","得点圏打席？"]
[null,null,{"$f":"IF(score!$J$111=\"\",\"\",score!$J$111)","v":""},{"$f":"IF(score!$L$111=\"\",\"\",score!$L$111)","v":""},"打撃結果","凡打",null,null,null,"3アウト",null,null,null,null,{"$f":"IF(score!$J$111=\"\",\"\",score!$J$111)","v":""},{"$f":"IF(score!$L$111=\"\",\"\",score!$L$111)","v":""},"打撃結果",null,null,null,null,null,null,null,null,null,{"$f":"IF(score!$J$111=\"\",\"\",score!$J$111)","v":""},{"$f":"IF(score!$L$111=\"\",\"\",score!$L$111)","v":""},"打撃結果",null,null,null,null,null,null,null,null,null,{"$f":"IF(score!$J$111=\"\",\"\",score!$J$111)","v":""},{"$f":"IF(score!$L$111=\"\",\"\",score!$L$111)","v":""},"打撃結果","エラー出塁","8番打者",null,"1番打者","得点",null,null,null,null,{"$f":"IF(score!$J$111=\"\",\"\",score!$J$111)","v":""},{"$f":"IF(score!$L$111=\"\",\"\",score!$L$111)","v":""},"打撃結果","ヒット出塁","エラー進・出塁",null,"8番打者","得点",null,null,null,null,{"$f":"IF(score!$J$111=\"\",\"\",score!$J$111)","v":""},{"$f":"IF(score!$L$111=\"\",\"\",score!$L$111)","v":""},"打撃結果",null,null,null,null,null,null,null,null,null,{"$f":"IF(score!$J$111=\"\",\"\",score!$J$111)","v":""},{"$f":"IF(score!$L$111=\"\",\"\",score!$L$111)","v":""},"打撃結果","ヒット出塁","8番打者","9番打者",null,"残塁",null,null,null,null,{"$f":"IF(score!$J$111=\"\",\"\",score!$J$111)","v":""},{"$f":"IF(score!$L$111=\"\",\"\",score!$L$111)","v":""},"打撃結果",null,null,null,null,null,null,null,null,null,{"$f":"IF(score!$J$111=\"\",\"\",score!$J$111)","v":""},{"$f":"IF(score!$L$111=\"\",\"\",score!$L$111)","v":""},"打撃結果","凡打",null,null,null,"1アウト",null,null,null,null,{"$f":"IF(score!$J$111=\"\",\"\",score!$J$111)","v":""},{"$f":"IF(score!$L$111=\"\",\"\",score!$L$111)","v":""},"打撃結果",null,null,null,null,null,null,null,null,null,{"$f":"IF(score!$J$111=\"\",\"\",score!$J$111)","v":""},{"$f":"IF(score!$L$111=\"\",\"\",score!$L$111)","v":""},"打撃結果",null,null,null,null,null,null,null,null,null,{"$f":"IF(score!$J$111=\"\",\"\",score!$J$111)","v":""},{"$f":"IF(score!$L$111=\"\",\"\",score!$L$111)","v":""},"打撃結果",null,null,null,null,null,null,null,null,null,{"$f":"IF(score!$J$111=\"\",\"\",score!$J$111)","v":""},{"$f":"IF(score!$L$111=\"\",\"\",score!$L$111)","v":""},"打撃結果"]
[null,null,null,{"$f":"IFERROR(VLOOKUP(C63,#REF!,3,FALSE),\"\")","v":""},"打球状態","フライ",null,null,null,null,null,"得点圏打席",null,null,null,{"$f":"IFERROR(VLOOKUP(O63,#REF!,3,FALSE),\"\")","v":""},"打球状態",null,null,0,0,0,0,null,null,null,null,{"$f":"IFERROR(VLOOKUP(AA63,#REF!,3,FALSE),\"\")","v":""},"打球状態",null,null,0,0,0,0,null,null,null,null,{"$f":"IFERROR(VLOOKUP(AM63,#REF!,3,FALSE),\"\")","v":""},"打球状態","ゴロ",null,null,null,null,null,null,null,null,null,{"$f":"IFERROR(VLOOKUP(AY63,#REF!,3,FALSE),\"\")","v":""},"打球状態","ゴロ",null,null,null,null,0,null,null,null,null,{"$f":"IFERROR(VLOOKUP(BK63,#REF!,3,FALSE),\"\")","v":""},"打球状態",null,null,0,0,0,0,null,null,null,null,{"$f":"IFERROR(VLOOKUP(BW63,#REF!,3,FALSE),\"\")","v":""},"打球状態","ゴロ",null,null,null,null,0,null,null,null,null,{"$f":"IFERROR(VLOOKUP(CI63,#REF!,3,FALSE),\"\")","v":""},"打球状態",null,null,0,0,0,0,null,null,null,null,{"$f":"IFERROR(VLOOKUP(CU63,#REF!,3,FALSE),\"\")","v":""},"打球状態","フライ",null,null,null,null,0,null,null,null,null,{"$f":"IFERROR(VLOOKUP(DG63,#REF!,3,FALSE),\"\")","v":""},"打球状態",null,null,0,0,0,0,null,null,null,null,{"$f":"IFERROR(VLOOKUP(DS63,#REF!,3,FALSE),\"\")","v":""},"打球状態",null,null,0,0,0,0,null,null,null,null,{"$f":"IFERROR(VLOOKUP(EE63,#REF!,3,FALSE),\"\")","v":""},"打球状態",null,null,0,0,0,0,null,null,null,null,{"$f":"IFERROR(VLOOKUP(EQ63,#REF!,3,FALSE),\"\")","v":""},"打球状態",null,null,0,0,0,0]
[null,null,null,{"$f":"IFERROR(VLOOKUP(C64,#REF!,3,FALSE),\"\")","v":""},"打球方向","センター",null,null,null,null,null,null,null,null,null,{"$f":"IFERROR(VLOOKUP(O64,#REF!,3,FALSE),\"\")","v":""},"打球方向",null,null,null,null,0,0,0,null,null,null,{"$f":"IFERROR(VLOOKUP(AA64,#REF!,3,FALSE),\"\")","v":""},"打球方向",null,null,null,null,0,0,0,null,null,null,{"$f":"IFERROR(VLOOKUP(AM64,#REF!,3,FALSE),\"\")","v":""},"打球方向","2塁手",null,null,null,null,null,0,null,null,null,{"$f":"IFERROR(VLOOKUP(AY64,#REF!,3,FALSE),\"\")","v":""},"打球方向","レフト",null,null,null,null,0,0,null,null,null,{"$f":"IFERROR(VLOOKUP(BK64,#REF!,3,FALSE),\"\")","v":""},"打球方向",null,null,null,null,0,0,0,null,null,null,{"$f":"IFERROR(VLOOKUP(BW64,#REF!,3,FALSE),\"\")","v":""},"打球方向","センター",null,null,null,null,0,0,null,null,null,{"$f":"IFERROR(VLOOKUP(CI64,#REF!,3,FALSE),\"\")","v":""},"打球方向",null,null,null,null,0,0,0,null,null,null,{"$f":"IFERROR(VLOOKUP(CU64,#REF!,3,FALSE),\"\")","v":""},"打球方向","センター",null,null,null,null,0,0,null,null,null,{"$f":"IFERROR(VLOOKUP(DG64,#REF!,3,FALSE),\"\")","v":""},"打球方向",null,null,null,null,0,0,0,null,null,null,{"$f":"IFERROR(VLOOKUP(DS64,#REF!,3,FALSE),\"\")","v":""},"打球方向",null,null,null,null,0,0,0,null,null,null,{"$f":"IFERROR(VLOOKUP(EE64,#REF!,3,FALSE),\"\")","v":""},"打球方向",null,null,null,null,0,0,0,null,null,null,{"$f":"IFERROR(VLOOKUP(EQ64,#REF!,3,FALSE),\"\")","v":""},"打球方向",null,null,null,null,0,0,0]
[null,{"$f":"B56","v":1},{"$f":"C56","v":"回裏"},"確定:",{"$f":"D67","v":2},"相手T投手:",{"$f":"IF(E65=\"\",\"\",IF(E65=(D67+0.2),\"2\",IF(E65=(D67+0.3),\"3\",IF(E65=(D67+0.4),\"4\",IF(E65=(D67+0.5),\"5\",\"先\")))))","v":"先"},null,null,null,null,null,null,{"$f":"N56","v":2},{"$f":"O56","v":"回裏"},"確定:",{"$f":"E65","v":2},"相手T投手:",{"$f":"IF(Q65=\"\",\"\",IF(Q65=(P67+0.2),\"2\",IF(Q65=(P67+0.3),\"3\",IF(Q65=(P67+0.4),\"4\",IF(Q65=(P67+0.5),\"5\",\"先\")))))","v":"先"},null,null,null,null,null,null,{"$f":"Z56","v":3},{"$f":"AA56","v":"回裏"},"確定:",{"$f":"Q65","v":2},"相手T投手:",{"$f":"IF(AC65=\"\",\"\",IF(AC65=(AB67+0.2),\"2\",IF(AC65=(AB67+0.3),\"3\",IF(AC65=(AB67+0.4),\"4\",IF(AC65=(AB67+0.5),\"5\",\"先\")))))","v":"先"},null,null,null,null,null,null,{"$f":"AL56","v":4},{"$f":"AM56","v":"回裏"},"確定:",{"$f":"AC65","v":2},"相手T投手:",{"$f":"IF(AO65=\"\",\"\",IF(AO65=(AN67+0.2),\"2\",IF(AO65=(AN67+0.3),\"3\",IF(AO65=(AN67+0.4),\"4\",IF(AO65=(AN67+0.5),\"5\",\"先\")))))","v":"先"},null,null,null,null,null,null,{"$f":"AX56","v":5},{"$f":"AY56","v":"回裏"},"確定:",{"$f":"AO65","v":2},"相手T投手:",{"$f":"IF(BA65=\"\",\"\",IF(BA65=(AZ67+0.2),\"2\",IF(BA65=(AZ67+0.3),\"3\",IF(BA65=(AZ67+0.4),\"4\",IF(BA65=(AZ67+0.5),\"5\",\"先\")))))","v":"先"},null,null,null,null,null,null,{"$f":"BJ56","v":5},{"$f":"BK56","v":"回裏"},"確定:",{"$f":"BA65","v":2},"相手T投手:",{"$f":"IF(BM65=\"\",\"\",IF(BM65=(BL67+0.2),\"2\",IF(BM65=(BL67+0.3),\"3\",IF(BM65=(BL67+0.4),\"4\",IF(BM65=(BL67+0.5),\"5\",\"先\")))))","v":"先"},null,null,null,null,null,null,{"$f":"BV56","v":6},{"$f":"BW56","v":"回裏"},"確定:",{"$f":"BM65","v":2},"相手T投手:",{"$f":"IF(BY65=\"\",\"\",IF(BY65=(BX67+0.2),\"2\",IF(BY65=(BX67+0.3),\"3\",IF(BY65=(BX67+0.4),\"4\",IF(BY65=(BX67+0.5),\"5\",\"先\")))))","v":"先"},null,null,null,null,null,null,{"$f":"CH56","v":7},{"$f":"CI56","v":"回裏"},"確定:",2.2000000000000002,"相手T投手:",{"$f":"IF(CK65=\"\",\"\",IF(CK65=(CJ67+0.2),\"2\",IF(CK65=(CJ67+0.3),\"3\",IF(CK65=(CJ67+0.4),\"4\",IF(CK65=(CJ67+0.5),\"5\",\"先\")))))","v":"2"},null,null,null,null,null,null,{"$f":"CT56","v":8},{"$f":"CU56","v":"回裏"},"確定:",{"$f":"CK65","v":2.2000000000000002},"相手T投手:",{"$f":"IF(CW65=\"\",\"\",IF(CW65=(CV67+0.2),\"2\",IF(CW65=(CV67+0.3),\"3\",IF(CW65=(CV67+0.4),\"4\",IF(CW65=(CV67+0.5),\"5\",\"先\")))))","v":"2"},null,null,null,null,null,null,{"$f":"DF56","v":9},{"$f":"DG56","v":"回裏"},"確定:",{"$f":"CW65","v":2.2000000000000002},"相手T投手:",{"$f":"IF(DI65=\"\",\"\",IF(DI65=(DH67+0.2),\"2\",IF(DI65=(DH67+0.3),\"3\",IF(DI65=(DH67+0.4),\"4\",IF(DI65=(DH67+0.5),\"5\",\"先\")))))","v":"2"},null,null,null,null,null,null,{"$f":"DR56","v":10},{"$f":"DS56","v":"回裏"},"確定:",{"$f":"DI65","v":2.2000000000000002},"相手T投手:",{"$f":"IF(DU65=\"\",\"\",IF(DU65=(DT67+0.2),\"2\",IF(DU65=(DT67+0.3),\"3\",IF(DU65=(DT67+0.4),\"4\",IF(DU65=(DT67+0.5),\"5\",\"先\")))))","v":"2"},null,null,null,null,null,null,{"$f":"ED56","v":11},{"$f":"EE56","v":"回裏"},"確定:",{"$f":"DU65","v":2.2000000000000002},"相手T投手:",{"$f":"IF(EG65=\"\",\"\",IF(EG65=(EF67+0.2),\"2\",IF(EG65=(EF67+0.3),\"3\",IF(EG65=(EF67+0.4),\"4\",IF(EG65=(EF67+0.5),\"5\",\"先\")))))","v":"2"},null,null,null,null,null,null,{"$f":"EP56","v":12},{"$f":"EQ56","v":"回裏"},"確定:",{"$f":"EG65","v":2.2000000000000002},"相手T投手:",{"$f":"IF(ES65=\"\",\"\",IF(ES65=(ER67+0.2),\"2\",IF(ES65=(ER67+0.3),\"3\",IF(ES65=(ER67+0.4),\"4\",IF(ES65=(ER67+0.5),\"5\",\"先\")))))","v":"2"}]
[null,"打順","打者","背番","投球判定","1球目","2球目","3球目","4球目","5球目","6球目","7球目",null,"打順","打者","背番","投球判定","1球目","2球目","3球目","4球目","5球目","6球目","7球目",null,"打順","打者","背番","投球判定","1球目","2球目","3球目","4球目","5球目","6球目","7球目",null,"打順","打者","背番","投球判定","1球目","2球目","3球目","4球目","5球目","6球目","7球目",null,"打順","打者","背番","投球判定","1球目","2球目","3球目","4球目","5球目","6球目","7球目",null,"打順","打者","背番","投球判定","1球目","2球目","3球目","4球目","5球目","6球目","7球目",null,"打順","打者","背番","投球判定","1球目","2球目","3球目","4球目","5球目","6球目","7球目",null,"打順","打者","背番","投球判定","1球目","2球目","3球目","4球目","5球目","6球目","7球目",null,"打順","打者","背番","投球判定","1球目","2球目","3球目","4球目","5球目","6球目","7球目",null,"打順","打者","背番","投球判定","1球目","2球目","3球目","4球目","5球目","6球目","7球目",null,"打順","打者","背番","投球判定","1球目","2球目","3球目","4球目","5球目","6球目","7球目",null,"打順","打者","背番","投球判定","1球目","2球目","3球目","4球目","5球目","6球目","7球目",null,"打順","打者","背番","投球判定","1球目","2球目","3球目","4球目","5球目","6球目","7球目"]
[null,"⑧",{"$f":"IF(score!$J$113=\"\",\"\",score!$J$113)","v":"小泉　航平"},{"$f":"IF(score!$L$113=\"\",\"\",score!$L$113)","v":2},null,null,null,null,null,null,null,null,null,"⑧",{"$f":"IF(score!$J$113=\"\",\"\",score!$J$113)","v":"小泉　航平"},{"$f":"IF(score!$L$113=\"\",\"\",score!$L$113)","v":2},null,"見逃ストライク","ボール","ボール","ヒッティング",null,null,null,null,"⑧",{"$f":"IF(score!$J$113=\"\",\"\",score!$J$113)","v":"小泉　航平"},{"$f":"IF(score!$L$113=\"\",\"\",score!$L$113)","v":2},null,null,null,null,null,null,null,null,null,"⑧",{"$f":"IF(score!$J$113=\"\",\"\",score!$J$113)","v":"小泉　航平"},{"$f":"IF(score!$L$113=\"\",\"\",score!$L$113)","v":2},null,"ボール","ボール","見逃ストライク","ボール","空振ストライク","ボール",null,null,"⑧",{"$f":"IF(score!$J$113=\"\",\"\",score!$J$113)","v":"小泉　航平"},{"$f":"IF(score!$L$113=\"\",\"\",score!$L$113)","v":2},null,"ボール","見逃ストライク","ヒッティング",null,null,null,null,null,"⑧",{"$f":"IF(score!$J$113=\"\",\"\",score!$J$113)","v":"小泉　航平"},{"$f":"IF(score!$L$113=\"\",\"\",score!$L$113)","v":2},null,null,null,null,null,null,null,null,null,"⑧",{"$f":"IF(score!$J$113=\"\",\"\",score!$J$113)","v":"小泉　航平"},{"$f":"IF(score!$L$113=\"\",\"\",score!$L$113)","v":2},null,"ボール","ボール","ファウル","ボール","見逃ストライク","ボール",null,null,"⑧",{"$f":"IF(score!$J$113=\"\",\"\",score!$J$113)","v":"小泉　航平"},{"$f":"IF(score!$L$113=\"\",\"\",score!$L$113)","v":2},null,null,null,null,null,null,null,null,null,"⑧",{"$f":"IF(score!$J$113=\"\",\"\",score!$J$113)","v":"小泉　航平"},{"$f":"IF(score!$L$113=\"\",\"\",score!$L$113)","v":2},null,"見逃ストライク","ボール","ボール","ボール","見逃ストライク","ファウル","ファウル",null,"⑧",{"$f":"IF(score!$J$113=\"\",\"\",score!$J$113)","v":"小泉　航平"},{"$f":"IF(score!$L$113=\"\",\"\",score!$L$113)","v":2},null,null,null,null,null,null,null,null,null,"⑧",{"$f":"IF(score!$J$113=\"\",\"\",score!$J$113)","v":"小泉　航平"},{"$f":"IF(score!$L$113=\"\",\"\",score!$L$113)","v":2},null,null,null,null,null,null,null,null,null,"⑧",{"$f":"IF(score!$J$113=\"\",\"\",score!$J$113)","v":"小泉　航平"},{"$f":"IF(score!$L$113=\"\",\"\",score!$L$113)","v":2},null,null,null,null,null,null,null,null,null,"⑧",{"$f":"IF(score!$J$113=\"\",\"\",score!$J$113)","v":"小泉　航平"},{"$f":"IF(score!$L$113=\"\",\"\",score!$L$113)","v":2}]
[null,null,{"$f":"IF(score!$J$114=\"\",\"\",score!$J$114)","v":"小泉　航平"},{"$f":"IF(score!$L$114=\"\",\"\",score!$L$114)","v":2.2000000000000002},null,"8球目","9球目","10球目","11球目","12球目","13球目","14球目",null,null,{"$f":"IF(score!$J$114=\"\",\"\",score!$J$114)","v":"小泉　航平"},{"$f":"IF(score!$L$114=\"\",\"\",score!$L$114)","v":2.2000000000000002},null,"8球目","9球目","10球目","11球目","12球目","13球目","14球目",null,null,{"$f":"IF(score!$J$114=\"\",\"\",score!$J$114)","v":"小泉　航平"},{"$f":"IF(score!$L$114=\"\",\"\",score!$L$114)","v":2.2000000000000002},null,"8球目","9球目","10球目","11球目","12球目","13球目","14球目",null,null,{"$f":"IF(score!$J$114=\"\",\"\",score!$J$114)","v":"小泉　航平"},{"$f":"IF(score!$L$114=\"\",\"\",score!$L$114)","v":2.2000000000000002},null,"8球目","9球目","10球目","11球目","12球目","13球目","14球目",null,null,{"$f":"IF(score!$J$114=\"\",\"\",score!$J$114)","v":"小泉　航平"},{"$f":"IF(score!$L$114=\"\",\"\",score!$L$114)","v":2.2000000000000002},null,"8球目","9球目","10球目","11球目","12球目","13球目","14球目",null,null,{"$f":"IF(score!$J$114=\"\",\"\",score!$J$114)","v":"小泉　航平"},{"$f":"IF(score!$L$114=\"\",\"\",score!$L$114)","v":2.2000000000000002},null,"8球目","9球目","10球目","11球目","12球目","13球目","14球目",null,null,{"$f":"IF(score!$J$114=\"\",\"\",score!$J$114)","v":"小泉　航平"},{"$f":"IF(score!$L$114=\"\",\"\",score!$L$114)","v":2.2000000000000002},null,"8球目","9球目","10球目","11球目","12球目","13球目","14球目",null,null,{"$f":"IF(score!$J$114=\"\",\"\",score!$J$114)","v":"小泉　航平"},{"$f":"IF(score!$L$114=\"\",\"\",score!$L$114)","v":2.2000000000000002},null,"8球目","9球目","10球目","11球目","12球目","13球目","14球目",null,null,{"$f":"IF(score!$J$114=\"\",\"\",score!$J$114)","v":"小泉　航平"},{"$f":"IF(score!$L$114=\"\",\"\",score!$L$114)","v":2.2000000000000002},null,"8球目","9球目","10球目","11球目","12球目","13球目","14球目",null,null,{"$f":"IF(score!$J$114=\"\",\"\",score!$J$114)","v":"小泉　航平"},{"$f":"IF(score!$L$114=\"\",\"\",score!$L$114)","v":2.2000000000000002},null,"8球目","9球目","10球目","11球目","12球目","13球目","14球目",null,null,{"$f":"IF(score!$J$114=\"\",\"\",score!$J$114)","v":"小泉　航平"},{"$f":"IF(score!$L$114=\"\",\"\",score!$L$114)","v":2.2000000000000002},null,"8球目","9球目","10球目","11球目","12球目","13球目","14球目",null,null,{"$f":"IF(score!$J$114=\"\",\"\",score!$J$114)","v":"小泉　航平"},{"$f":"IF(score!$L$114=\"\",\"\",score!$L$114)","v":2.2000000000000002},null,"8球目","9球目","10球目","11球目","12球目","13球目","14球目",null,null,{"$f":"IF(score!$J$114=\"\",\"\",score!$J$114)","v":"小泉　航平"},{"$f":"IF(score!$L$114=\"\",\"\",score!$L$114)","v":2.2000000000000002},null,"8球目","9球目","10球目","11球目","12球目","13球目","14球目"]
[null,null,{"$f":"IF(score!$J$115=\"\",\"\",score!$J$115)","v":""},{"$f":"IF(score!$L$115=\"\",\"\",score!$L$115)","v":""},null,null,null,null,null,null,null,null,null,null,{"$f":"IF(score!$J$115=\"\",\"\",score!$J$115)","v":""},{"$f":"IF(score!$L$115=\"\",\"\",score!$L$115)","v":""},null,null,null,null,null,null,null,null,null,null,{"$f":"IF(score!$J$115=\"\",\"\",score!$J$115)","v":""},{"$f":"IF(score!$L$115=\"\",\"\",score!$L$115)","v":""},null,null,null,null,null,null,null,null,null,null,{"$f":"IF(score!$J$115=\"\",\"\",score!$J$115)","v":""},{"$f":"IF(score!$L$115=\"\",\"\",score!$L$115)","v":""},null,null,null,null,null,null,null,null,null,null,{"$f":"IF(score!$J$115=\"\",\"\",score!$J$115)","v":""},{"$f":"IF(score!$L$115=\"\",\"\",score!$L$115)","v":""},null,null,null,null,null,null,null,null,null,null,{"$f":"IF(score!$J$115=\"\",\"\",score!$J$115)","v":""},{"$f":"IF(score!$L$115=\"\",\"\",score!$L$115)","v":""},null,null,null,null,null,null,null,null,null,null,{"$f":"IF(score!$J$115=\"\",\"\",score!$J$115)","v":""},{"$f":"IF(score!$L$115=\"\",\"\",score!$L$115)","v":""},null,null,null,null,null,null,null,null,null,null,{"$f":"IF(score!$J$115=\"\",\"\",score!$J$115)","v":""},{"$f":"IF(score!$L$115=\"\",\"\",score!$L$115)","v":""},null,null,null,null,null,null,null,null,null,null,{"$f":"IF(score!$J$115=\"\",\"\",score!$J$115)","v":""},{"$f":"IF(score!$L$115=\"\",\"\",score!$L$115)","v":""},null,"空振ストライク",null,null,null,null,null,null,null,null,{"$f":"IF(score!$J$115=\"\",\"\",score!$J$115)","v":""},{"$f":"IF(score!$L$115=\"\",\"\",score!$L$115)","v":""},null,null,null,null,null,null,null,null,null,null,{"$f":"IF(score!$J$115=\"\",\"\",score!$J$115)","v":""},{"$f":"IF(score!$L$115=\"\",\"\",score!$L$115)","v":""},null,null,null,null,null,null,null,null,null,null,{"$f":"IF(score!$J$115=\"\",\"\",score!$J$115)","v":""},{"$f":"IF(score!$L$115=\"\",\"\",score!$L$115)","v":""},null,null,null,null,null,null,null,null,null,null,{"$f":"IF(score!$J$115=\"\",\"\",score!$J$115)","v":""},{"$f":"IF(score!$L$115=\"\",\"\",score!$L$115)","v":""}]
[null,null,{"$f":"IF(score!$J$116=\"\",\"\",score!$J$116)","v":""},{"$f":"IF(score!$L$116=\"\",\"\",score!$L$116)","v":""},null,"1塁ベース","2塁ベース","3塁ベース","ホームベース","アウト・得点等","打点","得点圏打席？",null,null,{"$f":"IF(score!$J$116=\"\",\"\",score!$J$116)","v":""},{"$f":"IF(score!$L$116=\"\",\"\",score!$L$116)","v":""},null,"1塁ベース","2塁ベース","3塁ベース","ホームベース","アウト・得点等","打点","得点圏打席？",null,null,{"$f":"IF(score!$J$116=\"\",\"\",score!$J$116)","v":""},{"$f":"IF(score!$L$116=\"\",\"\",score!$L$116)","v":""},null,"1塁ベース","2塁ベース","3塁ベース","ホームベース","アウト・得点等","打点","得点圏打席？",null,null,{"$f":"IF(score!$J$116=\"\",\"\",score!$J$116)","v":""},{"$f":"IF(score!$L$116=\"\",\"\",score!$L$116)","v":""},null,"1塁ベース","2塁ベース","3塁ベース","ホームベース","アウト・得点等","打点","得点圏打席？",null,null,{"$f":"IF(score!$J$116=\"\",\"\",score!$J$116)","v":""},{"$f":"IF(score!$L$116=\"\",\"\",score!$L$116)","v":""},null,"1塁ベース","2塁ベース","3塁ベース","ホームベース","アウト・得点等","打点","得点圏打席？",null,null,{"$f":"IF(score!$J$116=\"\",\"\",score!$J$116)","v":""},{"$f":"IF(score!$L$116=\"\",\"\",score!$L$116)","v":""},null,"1塁ベース","2塁ベース","3塁ベース","ホームベース","アウト・得点等","打点","得点圏打席？",null,null,{"$f":"IF(score!$J$116=\"\",\"\",score!$J$116)","v":""},{"$f":"IF(score!$L$116=\"\",\"\",score!$L$116)","v":""},null,"1塁ベース","2塁ベース","3塁ベース","ホームベース","アウト・得点等","打点","得点圏打席？",null,null,{"$f":"IF(score!$J$116=\"\",\"\",score!$J$116)","v":""},{"$f":"IF(score!$L$116=\"\",\"\",score!$L$116)","v":""},null,"1塁ベース","2塁ベース","3塁ベース","ホームベース","アウト・得点等","打点","得点圏打席？",null,null,{"$f":"IF(score!$J$116=\"\",\"\",score!$J$116)","v":""},{"$f":"IF(score!$L$116=\"\",\"\",score!$L$116)","v":""},null,"1塁ベース","2塁ベース","3塁ベース","ホームベース","アウト・得点等","打点","得点圏打席？",null,null,{"$f":"IF(score!$J$116=\"\",\"\",score!$J$116)","v":""},{"$f":"IF(score!$L$116=\"\",\"\",score!$L$116)","v":""},null,"1塁ベース","2塁ベース","3塁ベース","ホームベース","アウト・得点等","打点","得点圏打席？",null,null,{"$f":"IF(score!$J$116=\"\",\"\",score!$J$116)","v":""},{"$f":"IF(score!$L$116=\"\",\"\",score!$L$116)","v":""},null,"1塁ベース","2塁ベース","3塁ベース","ホームベース","アウト・得点等","打点","得点圏打席？",null,null,{"$f":"IF(score!$J$116=\"\",\"\",score!$J$116)","v":""},{"$f":"IF(score!$L$116=\"\",\"\",score!$L$116)","v":""},null,"1塁ベース","2塁ベース","3塁ベース","ホームベース","アウト・得点等","打点","得点圏打席？",null,null,{"$f":"IF(score!$J$116=\"\",\"\",score!$J$116)","v":""},{"$f":"IF(score!$L$116=\"\",\"\",score!$L$116)","v":""},null,"1塁ベース","2塁ベース","3塁ベース","ホームベース","アウト・得点等","打点","得点圏打席？"]
[null,null,{"$f":"IF(score!$J$117=\"\",\"\",score!$J$117)","v":""},{"$f":"IF(score!$L$117=\"\",\"\",score!$L$117)","v":""},"打撃結果",null,null,null,null,null,null,null,null,null,{"$f":"IF(score!$J$117=\"\",\"\",score!$J$117)","v":""},{"$f":"IF(score!$L$117=\"\",\"\",score!$L$117)","v":""},"打撃結果","凡打",null,null,null,"1アウト",null,null,null,null,{"$f":"IF(score!$J$117=\"\",\"\",score!$J$117)","v":""},{"$f":"IF(score!$L$117=\"\",\"\",score!$L$117)","v":""},"打撃結果",null,null,null,null,null,null,null,null,null,{"$f":"IF(score!$J$117=\"\",\"\",score!$J$117)","v":""},{"$f":"IF(score!$L$117=\"\",\"\",score!$L$117)","v":""},"打撃結果","四球出塁",null,null,"1番打者","得点",null,null,null,null,{"$f":"IF(score!$J$117=\"\",\"\",score!$J$117)","v":""},{"$f":"IF(score!$L$117=\"\",\"\",score!$L$117)","v":""},"打撃結果","ヒット出塁",null,null,null,"得点","1打点","ヒット",null,null,{"$f":"IF(score!$J$117=\"\",\"\",score!$J$117)","v":""},{"$f":"IF(score!$L$117=\"\",\"\",score!$L$117)","v":""},"打撃結果",null,null,null,null,null,null,null,null,null,{"$f":"IF(score!$J$117=\"\",\"\",score!$J$117)","v":""},{"$f":"IF(score!$L$117=\"\",\"\",score!$L$117)","v":""},"打撃結果","四球出塁","9番打者",null,null,"残塁",null,null,null,null,{"$f":"IF(score!$J$117=\"\",\"\",score!$J$117)","v":""},{"$f":"IF(score!$L$117=\"\",\"\",score!$L$117)","v":""},"打撃結果",null,null,null,null,null,null,null,null,null,{"$f":"IF(score!$J$117=\"\",\"\",score!$J$117)","v":""},{"$f":"IF(score!$L$117=\"\",\"\",score!$L$117)","v":""},"打撃結果","空振り三振",null,null,null,"2アウト",null,null,null,null,{"$f":"IF(score!$J$117=\"\",\"\",score!$J$117)","v":""},{"$f":"IF(score!$L$117=\"\",\"\",score!$L$117)","v":""},"打撃結果",null,null,null,null,null,null,null,null,null,{"$f":"IF(score!$J$117=\"\",\"\",score!$J$117)","v":""},{"$f":"IF(score!$L$117=\"\",\"\",score!$L$117)","v":""},"打撃結果",null,null,null,null,null,null,null,null,null,{"$f":"IF(score!$J$117=\"\",\"\",score!$J$117)","v":""},{"$f":"IF(score!$L$117=\"\",\"\",score!$L$117)","v":""},"打撃結果",null,null,null,null,null,null,null,null,null,{"$f":"IF(score!$J$117=\"\",\"\",score!$J$117)","v":""},{"$f":"IF(score!$L$117=\"\",\"\",score!$L$117)","v":""},"打撃結果"]
[null,null,null,{"$f":"IFERROR(VLOOKUP(C72,#REF!,3,FALSE),\"\")","v":""},"打球状態",null,null,0,0,0,0,null,null,null,null,{"$f":"IFERROR(VLOOKUP(O72,#REF!,3,FALSE),\"\")","v":""},"打球状態","ゴロ",null,null,null,null,0,null,null,null,null,{"$f":"IFERROR(VLOOKUP(AA72,#REF!,3,FALSE),\"\")","v":""},"打球状態",null,null,0,0,0,0,null,null,null,null,{"$f":"IFERROR(VLOOKUP(AM72,#REF!,3,FALSE),\"\")","v":""},"打球状態",null,null,null,null,null,null,null,null,null,null,{"$f":"IFERROR(VLOOKUP(AY72,#REF!,3,FALSE),\"\")","v":""},"打球状態","フライ",null,null,null,null,null,"得点圏打席",null,null,null,{"$f":"IFERROR(VLOOKUP(BK72,#REF!,3,FALSE),\"\")","v":""},"打球状態",null,null,0,0,0,0,null,null,null,null,{"$f":"IFERROR(VLOOKUP(BW72,#REF!,3,FALSE),\"\")","v":""},"打球状態",null,null,0,0,0,0,null,null,null,null,{"$f":"IFERROR(VLOOKUP(CI72,#REF!,3,FALSE),\"\")","v":""},"打球状態",null,null,0,0,0,0,null,null,null,null,{"$f":"IFERROR(VLOOKUP(CU72,#REF!,3,FALSE),\"\")","v":""},"打球状態",null,null,0,0,0,0,null,null,null,null,{"$f":"IFERROR(VLOOKUP(DG72,#REF!,3,FALSE),\"\")","v":""},"打球状態",null,null,0,0,0,0,null,null,null,null,{"$f":"IFERROR(VLOOKUP(DS72,#REF!,3,FALSE),\"\")","v":""},"打球状態",null,null,0,0,0,0,null,null,null,null,{"$f":"IFERROR(VLOOKUP(EE72,#REF!,3,FALSE),\"\")","v":""},"打球状態",null,null,0,0,0,0,null,null,null,null,{"$f":"IFERROR(VLOOKUP(EQ72,#REF!,3,FALSE),\"\")","v":""},"打球状態",null,null,0,0,0,0]
[null,null,null,{"$f":"IFERROR(VLOOKUP(C73,#REF!,3,FALSE),\"\")","v":""},"打球方向",null,null,null,null,0,0,0,null,null,null,{"$f":"IFERROR(VLOOKUP(O73,#REF!,3,FALSE),\"\")","v":""},"打球方向","捕手",null,null,null,null,0,0,null,null,null,{"$f":"IFERROR(VLOOKUP(AA73,#REF!,3,FALSE),\"\")","v":""},"打球方向",null,null,null,null,0,0,0,null,null,null,{"$f":"IFERROR(VLOOKUP(AM73,#REF!,3,FALSE),\"\")","v":""},"打球方向",null,null,null,null,null,null,0,null,null,null,{"$f":"IFERROR(VLOOKUP(AY73,#REF!,3,FALSE),\"\")","v":""},"打球方向","センター",null,null,null,0,0,0,null,null,null,{"$f":"IFERROR(VLOOKUP(BK73,#REF!,3,FALSE),\"\")","v":""},"打球方向",null,null,null,null,0,0,0,null,null,null,{"$f":"IFERROR(VLOOKUP(BW73,#REF!,3,FALSE),\"\")","v":""},"打球方向",null,null,null,null,0,0,0,null,null,null,{"$f":"IFERROR(VLOOKUP(CI73,#REF!,3,FALSE),\"\")","v":""},"打球方向",null,null,null,null,0,0,0,null,null,null,{"$f":"IFERROR(VLOOKUP(CU73,#REF!,3,FALSE),\"\")","v":""},"打球方向",null,null,null,null,0,0,0,null,null,null,{"$f":"IFERROR(VLOOKUP(DG73,#REF!,3,FALSE),\"\")","v":""},"打球方向",null,null,null,null,0,0,0,null,null,null,{"$f":"IFERROR(VLOOKUP(DS73,#REF!,3,FALSE),\"\")","v":""},"打球方向",null,null,null,null,0,0,0,null,null,null,{"$f":"IFERROR(VLOOKUP(EE73,#REF!,3,FALSE),\"\")","v":""},"打球方向",null,null,null,null,0,0,0,null,null,null,{"$f":"IFERROR(VLOOKUP(EQ73,#REF!,3,FALSE),\"\")","v":""},"打球方向",null,null,null,null,0,0,0]
[null,{"$f":"B65","v":1},{"$f":"C65","v":"回裏"},"確定:",{"$f":"D76","v":1},"相手T投手:",{"$f":"IF(E74=\"\",\"\",IF(E74=(D76+0.2),\"2\",IF(E74=(D76+0.3),\"3\",IF(E74=(D76+0.4),\"4\",IF(E74=(D76+0.5),\"5\",\"先\")))))","v":"先"},null,null,null,null,null,null,{"$f":"N65","v":2},{"$f":"O65","v":"回裏"},"確定:",{"$f":"E74","v":1},"相手T投手:",{"$f":"IF(Q74=\"\",\"\",IF(Q74=(P76+0.2),\"2\",IF(Q74=(P76+0.3),\"3\",IF(Q74=(P76+0.4),\"4\",IF(Q74=(P76+0.5),\"5\",\"先\")))))","v":"先"},null,null,null,null,null,null,{"$f":"Z65","v":3},{"$f":"AA65","v":"回裏"},"確定:",{"$f":"Q74","v":1},"相手T投手:",{"$f":"IF(AC74=\"\",\"\",IF(AC74=(AB76+0.2),\"2\",IF(AC74=(AB76+0.3),\"3\",IF(AC74=(AB76+0.4),\"4\",IF(AC74=(AB76+0.5),\"5\",\"先\")))))","v":"先"},null,null,null,null,null,null,{"$f":"AL65","v":4},{"$f":"AM65","v":"回裏"},"確定:",{"$f":"AC74","v":1},"相手T投手:",{"$f":"IF(AO74=\"\",\"\",IF(AO74=(AN76+0.2),\"2\",IF(AO74=(AN76+0.3),\"3\",IF(AO74=(AN76+0.4),\"4\",IF(AO74=(AN76+0.5),\"5\",\"先\")))))","v":"先"},null,null,null,null,null,null,{"$f":"AX65","v":5},{"$f":"AY65","v":"回裏"},"確定:",{"$f":"AO74","v":1},"相手T投手:",{"$f":"IF(BA74=\"\",\"\",IF(BA74=(AZ76+0.2),\"2\",IF(BA74=(AZ76+0.3),\"3\",IF(BA74=(AZ76+0.4),\"4\",IF(BA74=(AZ76+0.5),\"5\",\"先\")))))","v":"先"},null,null,null,null,null,null,{"$f":"BJ65","v":5},{"$f":"BK65","v":"回裏"},"確定:",{"$f":"BA74","v":1},"相手T投手:",{"$f":"IF(BM74=\"\",\"\",IF(BM74=(BL76+0.2),\"2\",IF(BM74=(BL76+0.3),\"3\",IF(BM74=(BL76+0.4),\"4\",IF(BM74=(BL76+0.5),\"5\",\"先\")))))","v":"先"},null,null,null,null,null,null,{"$f":"BV65","v":6},{"$f":"BW65","v":"回裏"},"確定:",{"$f":"BM74","v":1},"相手T投手:",{"$f":"IF(BY74=\"\",\"\",IF(BY74=(BX76+0.2),\"2\",IF(BY74=(BX76+0.3),\"3\",IF(BY74=(BX76+0.4),\"4\",IF(BY74=(BX76+0.5),\"5\",\"先\")))))","v":"先"},null,null,null,null,null,null,{"$f":"CH65","v":7},{"$f":"CI65","v":"回裏"},"確定:",1.2,"相手T投手:",{"$f":"IF(CK74=\"\",\"\",IF(CK74=(CJ76+0.2),\"2\",IF(CK74=(CJ76+0.3),\"3\",IF(CK74=(CJ76+0.4),\"4\",IF(CK74=(CJ76+0.5),\"5\",\"先\")))))","v":"2"},null,null,null,null,null,null,{"$f":"CT65","v":8},{"$f":"CU65","v":"回裏"},"確定:",{"$f":"CK74","v":1.2},"相手T投手:",{"$f":"IF(CW74=\"\",\"\",IF(CW74=(CV76+0.2),\"2\",IF(CW74=(CV76+0.3),\"3\",IF(CW74=(CV76+0.4),\"4\",IF(CW74=(CV76+0.5),\"5\",\"先\")))))","v":"2"},null,null,null,null,null,null,{"$f":"DF65","v":9},{"$f":"DG65","v":"回裏"},"確定:",{"$f":"CW74","v":1.2},"相手T投手:",{"$f":"IF(DI74=\"\",\"\",IF(DI74=(DH76+0.2),\"2\",IF(DI74=(DH76+0.3),\"3\",IF(DI74=(DH76+0.4),\"4\",IF(DI74=(DH76+0.5),\"5\",\"先\")))))","v":"2"},null,null,null,null,null,null,{"$f":"DR65","v":10},{"$f":"DS65","v":"回裏"},"確定:",{"$f":"DI74","v":1.2},"相手T投手:",{"$f":"IF(DU74=\"\",\"\",IF(DU74=(DT76+0.2),\"2\",IF(DU74=(DT76+0.3),\"3\",IF(DU74=(DT76+0.4),\"4\",IF(DU74=(DT76+0.5),\"5\",\"先\")))))","v":"2"},null,null,null,null,null,null,{"$f":"ED65","v":11},{"$f":"EE65","v":"回裏"},"確定:",{"$f":"DU74","v":1.2},"相手T投手:",{"$f":"IF(EG74=\"\",\"\",IF(EG74=(EF76+0.2),\"2\",IF(EG74=(EF76+0.3),\"3\",IF(EG74=(EF76+0.4),\"4\",IF(EG74=(EF76+0.5),\"5\",\"先\")))))","v":"2"},null,null,null,null,null,null,{"$f":"EP65","v":12},{"$f":"EQ65","v":"回裏"},"確定:",{"$f":"EG74","v":1.2},"相手T投手:",{"$f":"IF(ES74=\"\",\"\",IF(ES74=(ER76+0.2),\"2\",IF(ES74=(ER76+0.3),\"3\",IF(ES74=(ER76+0.4),\"4\",IF(ES74=(ER76+0.5),\"5\",\"先\")))))","v":"2"}]
[null,"打順","打者","背番","投球判定","1球目","2球目","3球目","4球目","5球目","6球目","7球目",null,"打順","打者","背番","投球判定","1球目","2球目","3球目","4球目","5球目","6球目","7球目",null,"打順","打者","背番","投球判定","1球目","2球目","3球目","4球目","5球目","6球目","7球目",null,"打順","打者","背番","投球判定","1球目","2球目","3球目","4球目","5球目","6球目","7球目",null,"打順","打者","背番","投球判定","1球目","2球目","3球目","4球目","5球目","6球目","7球目",null,"打順","打者","背番","投球判定","1球目","2球目","3球目","4球目","5球目","6球目","7球目",null,"打順","打者","背番","投球判定","1球目","2球目","3球目","4球目","5球目","6球目","7球目",null,"打順","打者","背番","投球判定","1球目","2球目","3球目","4球目","5球目","6球目","7球目",null,"打順","打者","背番","投球判定","1球目","2球目","3球目","4球目","5球目","6球目","7球目",null,"打順","打者","背番","投球判定","1球目","2球目","3球目","4球目","5球目","6球目","7球目",null,"打順","打者","背番","投球判定","1球目","2球目","3球目","4球目","5球目","6球目","7球目",null,"打順","打者","背番","投球判定","1球目","2球目","3球目","4球目","5球目","6球目","7球目",null,"打順","打者","背番","投球判定","1球目","2球目","3球目","4球目","5球目","6球目","7球目"]
[null,"⑨",{"$f":"IF(score!$J$119=\"\",\"\",score!$J$119)","v":"柿木　蓮"},{"$f":"IF(score!$L$119=\"\",\"\",score!$L$119)","v":1},null,null,null,null,null,null,null,null,null,"⑨",{"$f":"IF(score!$J$119=\"\",\"\",score!$J$119)","v":"柿木　蓮"},{"$f":"IF(score!$L$119=\"\",\"\",score!$L$119)","v":1},null,"見逃しストライク","ヒッティング",null,null,null,null,null,null,"⑨",{"$f":"IF(score!$J$119=\"\",\"\",score!$J$119)","v":"柿木　蓮"},{"$f":"IF(score!$L$119=\"\",\"\",score!$L$119)","v":1},null,null,null,null,null,null,null,null,null,"⑨",{"$f":"IF(score!$J$119=\"\",\"\",score!$J$119)","v":"柿木　蓮"},{"$f":"IF(score!$L$119=\"\",\"\",score!$L$119)","v":1},null,"ボール","見逃ストライク","ファウル","見逃ストライク",null,null,null,null,"⑨",{"$f":"IF(score!$J$119=\"\",\"\",score!$J$119)","v":"柿木　蓮"},{"$f":"IF(score!$L$119=\"\",\"\",score!$L$119)","v":1},null,"ヒッティング",null,null,null,null,null,null,null,"⑨",{"$f":"IF(score!$J$119=\"\",\"\",score!$J$119)","v":"柿木　蓮"},{"$f":"IF(score!$L$119=\"\",\"\",score!$L$119)","v":1},null,null,null,null,null,null,null,null,null,"⑨",{"$f":"IF(score!$J$119=\"\",\"\",score!$J$119)","v":"柿木　蓮"},{"$f":"IF(score!$L$119=\"\",\"\",score!$L$119)","v":1},null,"ボール","ボール","見逃ストライク","ヒッティング",null,null,null,null,"⑨",{"$f":"IF(score!$J$119=\"\",\"\",score!$J$119)","v":"柿木　蓮"},{"$f":"IF(score!$L$119=\"\",\"\",score!$L$119)","v":1},null,null,null,null,null,null,null,null,null,"⑨",{"$f":"IF(score!$J$119=\"\",\"\",score!$J$119)","v":"柿木　蓮"},{"$f":"IF(score!$L$119=\"\",\"\",score!$L$119)","v":1},null,"見逃ストライク","空振ストライク","見逃ストライク",null,null,null,null,null,"⑨",{"$f":"IF(score!$J$119=\"\",\"\",score!$J$119)","v":"柿木　蓮"},{"$f":"IF(score!$L$119=\"\",\"\",score!$L$119)","v":1},null,null,null,null,null,null,null,null,null,"⑨",{"$f":"IF(score!$J$119=\"\",\"\",score!$J$119)","v":"柿木　蓮"},{"$f":"IF(score!$L$119=\"\",\"\",score!$L$119)","v":1},null,null,null,null,null,null,null,null,null,"⑨",{"$f":"IF(score!$J$119=\"\",\"\",score!$J$119)","v":"柿木　蓮"},{"$f":"IF(score!$L$119=\"\",\"\",score!$L$119)","v":1},null,null,null,null,null,null,null,null,null,"⑨",{"$f":"IF(score!$J$119=\"\",\"\",score!$J$119)","v":"柿木　蓮"},{"$f":"IF(score!$L$119=\"\",\"\",score!$L$119)","v":1}]
[null,null,{"$f":"IF(score!$J$120=\"\",\"\",score!$J$120)","v":"柿木　蓮"},{"$f":"IF(score!$L$120=\"\",\"\",score!$L$120)","v":1.2},null,"8球目","9球目","10球目","11球目","12球目","13球目","14球目",null,null,{"$f":"IF(score!$J$120=\"\",\"\",score!$J$120)","v":"柿木　蓮"},{"$f":"IF(score!$L$120=\"\",\"\",score!$L$120)","v":1.2},null,"8球目","9球目","10球目","11球目","12球目","13球目","14球目",null,null,{"$f":"IF(score!$J$120=\"\",\"\",score!$J$120)","v":"柿木　蓮"},{"$f":"IF(score!$L$120=\"\",\"\",score!$L$120)","v":1.2},null,"8球目","9球目","10球目","11球目","12球目","13球目","14球目",null,null,{"$f":"IF(score!$J$120=\"\",\"\",score!$J$120)","v":"柿木　蓮"},{"$f":"IF(score!$L$120=\"\",\"\",score!$L$120)","v":1.2},null,"8球目","9球目","10球目","11球目","12球目","13球目","14球目",null,null,{"$f":"IF(score!$J$120=\"\",\"\",score!$J$120)","v":"柿木　蓮"},{"$f":"IF(score!$L$120=\"\",\"\",score!$L$120)","v":1.2},null,"8球目","9球目","10球目","11球目","12球目","13球目","14球目",null,null,{"$f":"IF(score!$J$120=\"\",\"\",score!$J$120)","v":"柿木　蓮"},{"$f":"IF(score!$L$120=\"\",\"\",score!$L$120)","v":1.2},null,"8球目","9球目","10球目","11球目","12球目","13球目","14球目",null,null,{"$f":"IF(score!$J$120=\"\",\"\",score!$J$120)","v":"柿木　蓮"},{"$f":"IF(score!$L$120=\"\",\"\",score!$L$120)","v":1.2},null,"8球目","9球目","10球目","11球目","12球目","13球目","14球目",null,null,{"$f":"IF(score!$J$120=\"\",\"\",score!$J$120)","v":"柿木　蓮"},{"$f":"IF(score!$L$120=\"\",\"\",score!$L$120)","v":1.2},null,"8球目","9球目","10球目","11球目","12球目","13球目","14球目",null,null,{"$f":"IF(score!$J$120=\"\",\"\",score!$J$120)","v":"柿木　蓮"},{"$f":"IF(score!$L$120=\"\",\"\",score!$L$120)","v":1.2},null,"8球目","9球目","10球目","11球目","12球目","13球目","14球目",null,null,{"$f":"IF(score!$J$120=\"\",\"\",score!$J$120)","v":"柿木　蓮"},{"$f":"IF(score!$L$120=\"\",\"\",score!$L$120)","v":1.2},null,"8球目","9球目","10球目","11球目","12球目","13球目","14球目",null,null,{"$f":"IF(score!$J$120=\"\",\"\",score!$J$120)","v":"柿木　蓮"},{"$f":"IF(score!$L$120=\"\",\"\",score!$L$120)","v":1.2},null,"8球目","9球目","10球目","11球目","12球目","13球目","14球目",null,null,{"$f":"IF(score!$J$120=\"\",\"\",score!$J$120)","v":"柿木　蓮"},{"$f":"IF(score!$L$120=\"\",\"\",score!$L$120)","v":1.2},null,"8球目","9球目","10球目","11球目","12球目","13球目","14球目",null,null,{"$f":"IF(score!$J$120=\"\",\"\",score!$J$120)","v":"柿木　蓮"},{"$f":"IF(score!$L$120=\"\",\"\",score!$L$120)","v":1.2},null,"8球目","9球目","10球目","11球目","12球目","13球目","14球目"]
[null,null,{"$f":"IF(score!$J$121=\"\",\"\",score!$J$121)","v":""},{"$f":"IF(score!$L$121=\"\",\"\",score!$L$121)","v":""},null,null,null,null,null,null,null,null,null,null,{"$f":"IF(score!$J$121=\"\",\"\",score!$J$121)","v":""},{"$f":"IF(score!$L$121=\"\",\"\",score!$L$121)","v":""},null,null,null,null,null,null,null,null,null,null,{"$f":"IF(score!$J$121=\"\",\"\",score!$J$121)","v":""},{"$f":"IF(score!$L$121=\"\",\"\",score!$L$121)","v":""},null,null,null,null,null,null,null,null,null,null,{"$f":"IF(score!$J$121=\"\",\"\",score!$J$121)","v":""},{"$f":"IF(score!$L$121=\"\",\"\",score!$L$121)","v":""},null,null,null,null,null,null,null,null,null,null,{"$f":"IF(score!$J$121=\"\",\"\",score!$J$121)","v":""},{"$f":"IF(score!$L$121=\"\",\"\",score!$L$121)","v":""},null,null,null,null,null,null,null,null,null,null,{"$f":"IF(score!$J$121=\"\",\"\",score!$J$121)","v":""},{"$f":"IF(score!$L$121=\"\",\"\",score!$L$121)","v":""},null,null,null,null,null,null,null,null,null,null,{"$f":"IF(score!$J$121=\"\",\"\",score!$J$121)","v":""},{"$f":"IF(score!$L$121=\"\",\"\",score!$L$121)","v":""},null,null,null,null,null,null,null,null,null,null,{"$f":"IF(score!$J$121=\"\",\"\",score!$J$121)","v":""},{"$f":"IF(score!$L$121=\"\",\"\",score!$L$121)","v":""},null,null,null,null,null,null,null,null,null,null,{"$f":"IF(score!$J$121=\"\",\"\",score!$J$121)","v":""},{"$f":"IF(score!$L$121=\"\",\"\",score!$L$121)","v":""},null,null,null,null,null,null,null,null,null,null,{"$f":"IF(score!$J$121=\"\",\"\",score!$J$121)","v":""},{"$f":"IF(score!$L$121=\"\",\"\",score!$L$121)","v":""},null,null,null,null,null,null,null,null,null,null,{"$f":"IF(score!$J$121=\"\",\"\",score!$J$121)","v":""},{"$f":"IF(score!$L$121=\"\",\"\",score!$L$121)","v":""},null,null,null,null,null,null,null,null,null,null,{"$f":"IF(score!$J$121=\"\",\"\",score!$J$121)","v":""},{"$f":"IF(score!$L$121=\"\",\"\",score!$L$121)","v":""},null,null,null,null,null,null,null,null,null,null,{"$f":"IF(score!$J$121=\"\",\"\",score!$J$121)","v":""},{"$f":"IF(score!$L$121=\"\",\"\",score!$L$121)","v":""}]
[null,null,{"$f":"IF(score!$J$122=\"\",\"\",score!$J$122)","v":""},{"$f":"IF(score!$L$122=\"\",\"\",score!$L$122)","v":""},null,"1塁ベース","2塁ベース","3塁ベース","ホームベース","アウト・得点等","打点","得点圏打席？",null,null,{"$f":"IF(score!$J$122=\"\",\"\",score!$J$122)","v":""},{"$f":"IF(score!$L$122=\"\",\"\",score!$L$122)","v":""},null,"1塁ベース","2塁ベース","3塁ベース","ホームベース","アウト・得点等","打点","得点圏打席？",null,null,{"$f":"IF(score!$J$122=\"\",\"\",score!$J$122)","v":""},{"$f":"IF(score!$L$122=\"\",\"\",score!$L$122)","v":""},null,"1塁ベース","2塁ベース","3塁ベース","ホームベース","アウト・得点等","打点","得点圏打席？",null,null,{"$f":"IF(score!$J$122=\"\",\"\",score!$J$122)","v":""},{"$f":"IF(score!$L$122=\"\",\"\",score!$L$122)","v":""},null,"1塁ベース","2塁ベース","3塁ベース","ホームベース","アウト・得点等","打点","得点圏打席？",null,null,{"$f":"IF(score!$J$122=\"\",\"\",score!$J$122)","v":""},{"$f":"IF(score!$L$122=\"\",\"\",score!$L$122)","v":""},null,"1塁ベース","2塁ベース","3塁ベース","ホームベース","アウト・得点等","打点","得点圏打席？",null,null,{"$f":"IF(score!$J$122=\"\",\"\",score!$J$122)","v":""},{"$f":"IF(score!$L$122=\"\",\"\",score!$L$122)","v":""},null,"1塁ベース","2塁ベース","3塁ベース","ホームベース","アウト・得点等","打点","得点圏打席？",null,null,{"$f":"IF(score!$J$122=\"\",\"\",score!$J$122)","v":""},{"$f":"IF(score!$L$122=\"\",\"\",score!$L$122)","v":""},null,"1塁ベース","2塁ベース","3塁ベース","ホームベース","アウト・得点等","打点","得点圏打席？",null,null,{"$f":"IF(score!$J$122=\"\",\"\",score!$J$122)","v":""},{"$f":"IF(score!$L$122=\"\",\"\",score!$L$122)","v":""},null,"1塁ベース","2塁ベース","3塁ベース","ホームベース","アウト・得点等","打点","得点圏打席？",null,null,{"$f":"IF(score!$J$122=\"\",\"\",score!$J$122)","v":""},{"$f":"IF(score!$L$122=\"\",\"\",score!$L$122)","v":""},null,"1塁ベース","2塁ベース","3塁ベース","ホームベース","アウト・得点等","打点","得点圏打席？",null,null,{"$f":"IF(score!$J$122=\"\",\"\",score!$J$122)","v":""},{"$f":"IF(score!$L$122=\"\",\"\",score!$L$122)","v":""},null,"1塁ベース","2塁ベース","3塁ベース","ホームベース","アウト・得点等","打点","得点圏打席？",null,null,{"$f":"IF(score!$J$122=\"\",\"\",score!$J$122)","v":""},{"$f":"IF(score!$L$122=\"\",\"\",score!$L$122)","v":""},null,"1塁ベース","2塁ベース","3塁ベース","ホームベース","アウト・得点等","打点","得点圏打席？",null,null,{"$f":"IF(score!$J$122=\"\",\"\",score!$J$122)","v":""},{"$f":"IF(score!$L$122=\"\",\"\",score!$L$122)","v":""},null,"1塁ベース","2塁ベース","3塁ベース","ホームベース","アウト・得点等","打点","得点圏打席？",null,null,{"$f":"IF(score!$J$122=\"\",\"\",score!$J$122)","v":""},{"$f":"IF(score!$L$122=\"\",\"\",score!$L$122)","v":""},null,"1塁ベース","2塁ベース","3塁ベース","ホームベース","アウト・得点等","打点","得点圏打席？"]
[null,null,{"$f":"IF(score!$J$123=\"\",\"\",score!$J$123)","v":""},{"$f":"IF(score!L123=\"\",\"\",score!L123)","v":""},"打撃結果",null,null,null,null,null,null,null,null,null,{"$f":"IF(score!$J$123=\"\",\"\",score!$J$123)","v":""},{"$f":"IF(score!X123=\"\",\"\",score!X123)","v":""},"打撃結果","凡打",null,null,null,"2アウト",null,null,null,null,{"$f":"IF(score!$J$123=\"\",\"\",score!$J$123)","v":""},{"$f":"IF(score!AJ123=\"\",\"\",score!AJ123)","v":"3'"},"打撃結果",null,null,null,null,null,null,null,null,null,{"$f":"IF(score!$J$123=\"\",\"\",score!$J$123)","v":""},{"$f":"IF(score!AV123=\"\",\"\",score!AV123)","v":""},"打撃結果","見送り三振",null,null,null,"1アウト",null,null,null,null,{"$f":"IF(score!$J$123=\"\",\"\",score!$J$123)","v":""},{"$f":"IF(score!BH123=\"\",\"\",score!BH123)","v":""},"打撃結果","エラー出塁",null,null,null,"得点",null,null,null,null,{"$f":"IF(score!$J$123=\"\",\"\",score!$J$123)","v":""},{"$f":"IF(score!BT123=\"\",\"\",score!BT123)","v":""},"打撃結果",null,null,null,null,null,null,null,null,null,{"$f":"IF(score!$J$123=\"\",\"\",score!$J$123)","v":""},{"$f":"IF(score!CF123=\"\",\"\",score!CF123)","v":""},"打撃結果","犠打",null,null,null,"2アウト",null,null,null,null,{"$f":"IF(score!$J$123=\"\",\"\",score!$J$123)","v":""},{"$f":"IF(score!CR123=\"\",\"\",score!CR123)","v":""},"打撃結果",null,null,null,null,null,null,null,null,null,{"$f":"IF(score!$J$123=\"\",\"\",score!$J$123)","v":""},{"$f":"IF(score!DD123=\"\",\"\",score!DD123)","v":""},"打撃結果","見送り三振",null,null,null,"3アウト",null,null,null,null,{"$f":"IF(score!$J$123=\"\",\"\",score!$J$123)","v":""},{"$f":"IF(score!DP123=\"\",\"\",score!DP123)","v":""},"打撃結果",null,null,null,null,null,null,null,null,null,{"$f":"IF(score!$J$123=\"\",\"\",score!$J$123)","v":""},{"$f":"IF(score!EB123=\"\",\"\",score!EB123)","v":""},"打撃結果",null,null,null,null,null,null,null,null,null,{"$f":"IF(score!$J$123=\"\",\"\",score!$J$123)","v":""},{"$f":"IF(score!EN123=\"\",\"\",score!EN123)","v":""},"打撃結果",null,null,null,null,null,null,null,null,null,{"$f":"IF(score!$J$123=\"\",\"\",score!$J$123)","v":""},{"$f":"IF(score!EZ123=\"\",\"\",score!EZ123)","v":""},"打撃結果"]
[null,null,null,{"$f":"IFERROR(VLOOKUP(C81,#REF!,3,FALSE),\"\")","v":""},"打球状態",null,null,0,0,0,0,null,null,null,null,{"$f":"IFERROR(VLOOKUP(O81,#REF!,3,FALSE),\"\")","v":""},"打球状態","ゴロ",null,null,null,null,0,null,null,null,null,{"$f":"IFERROR(VLOOKUP(AA81,#REF!,3,FALSE),\"\")","v":""},"打球状態",null,null,0,0,0,0,null,null,null,null,{"$f":"IFERROR(VLOOKUP(AM81,#REF!,3,FALSE),\"\")","v":""},"打球状態",null,null,null,null,null,0,null,null,null,null,{"$f":"IFERROR(VLOOKUP(AY81,#REF!,3,FALSE),\"\")","v":""},"打球状態","ゴロ",null,null,null,null,0,null,null,null,null,{"$f":"IFERROR(VLOOKUP(BK81,#REF!,3,FALSE),\"\")","v":""},"打球状態",null,null,0,0,0,0,null,null,null,null,{"$f":"IFERROR(VLOOKUP(BW81,#REF!,3,FALSE),\"\")","v":""},"打球状態","ゴロ",null,null,null,null,0,null,null,null,null,{"$f":"IFERROR(VLOOKUP(CI81,#REF!,3,FALSE),\"\")","v":""},"打球状態",null,null,0,0,0,0,null,null,null,null,{"$f":"IFERROR(VLOOKUP(CU81,#REF!,3,FALSE),\"\")","v":""},"打球状態",null,null,0,0,0,0,null,null,null,null,{"$f":"IFERROR(VLOOKUP(DG81,#REF!,3,FALSE),\"\")","v":""},"打球状態",null,null,0,0,0,0,null,null,null,null,{"$f":"IFERROR(VLOOKUP(DS81,#REF!,3,FALSE),\"\")","v":""},"打球状態",null,null,0,0,0,0,null,null,null,null,{"$f":"IFERROR(VLOOKUP(EE81,#REF!,3,FALSE),\"\")","v":""},"打球状態",null,null,0,0,0,0,null,null,null,null,{"$f":"IFERROR(VLOOKUP(EQ81,#REF!,3,FALSE),\"\")","v":""},"打球状態",null,null,0,0,0,0]
[null,null,null,{"$f":"IFERROR(VLOOKUP(C82,#REF!,3,FALSE),\"\")","v":""},"打球方向",null,null,null,null,0,0,0,null,null,null,{"$f":"IFERROR(VLOOKUP(O82,#REF!,3,FALSE),\"\")","v":""},"打球方向","1塁手",null,null,null,null,0,0,null,null,null,{"$f":"IFERROR(VLOOKUP(AA82,#REF!,3,FALSE),\"\")","v":""},"打球方向",null,null,null,null,0,0,0,null,null,null,{"$f":"IFERROR(VLOOKUP(AM82,#REF!,3,FALSE),\"\")","v":""},"打球方向",null,null,null,null,0,0,0,null,null,null,{"$f":"IFERROR(VLOOKUP(AY82,#REF!,3,FALSE),\"\")","v":""},"打球方向","1塁手",null,null,null,0,0,0,null,null,null,{"$f":"IFERROR(VLOOKUP(BK82,#REF!,3,FALSE),\"\")","v":""},"打球方向",null,null,null,null,0,0,0,null,null,null,{"$f":"IFERROR(VLOOKUP(BW82,#REF!,3,FALSE),\"\")","v":""},"打球方向","1塁手",null,null,null,null,0,0,null,null,null,{"$f":"IFERROR(VLOOKUP(CI82,#REF!,3,FALSE),\"\")","v":""},"打球方向",null,null,null,null,0,0,0,null,null,null,{"$f":"IFERROR(VLOOKUP(CU82,#REF!,3,FALSE),\"\")","v":""},"打球方向",null,null,null,null,0,0,0,null,null,null,{"$f":"IFERROR(VLOOKUP(DG82,#REF!,3,FALSE),\"\")","v":""},"打球方向",null,null,null,null,0,0,0,null,null,null,{"$f":"IFERROR(VLOOKUP(DS82,#REF!,3,FALSE),\"\")","v":""},"打球方向",null,null,null,null,0,0,0,null,null,null,{"$f":"IFERROR(VLOOKUP(EE82,#REF!,3,FALSE),\"\")","v":""},"打球方向",null,null,null,null,0,0,0,null,null,null,{"$f":"IFERROR(VLOOKUP(EQ82,#REF!,3,FALSE),\"\")","v":""},"打球方向",null,null,null,null,0,0,0]

{"sheet":"記号","index":8,"n_rows":35,"n_cols":28,"rows_kept":35,"cut":false,"hidden":false,"merged":[[3,1,3,2],[24,5,24,6],[24,8,24,9],[24,11,24,12],[24,14,24,15],[30,8,30,9],[30,11,30,12],[30,14,30,15],[2,23,2,24],[2,5,2,6],[2,8,2,9],[2,11,2,12],[2,14,2,15],[2,17,2,18],[2,20,2,21],[12,17,12,18]]}
[]
[]
[null,null,null,null,null,"1塁ベース",null,null,"2塁ベース",null,null,"3塁ベース",null,null,"ホームベース",null,null,"中央エリア",null,null,"得点圏打席の是非"]
[null,"打者への投球判定",null,null,null,"打撃結果","記号",null,"打撃・進塁結果","記号",null,"打撃・進塁結果","記号",null,"打撃・進塁結果","記号",null,"アウト・得点等","記号",null,"打席内容","記号",null,null,null,null,"回","番"]
[null,"投球内容","記号",null,null,"凡打","O",null,"該当打者状態",null,null,"該当打者状態",null,null,"該当打者状態",null,null,"1アウト","Ⅰ",null,"得点圏打席","RZ",null,null,null,null,1,1]
[null,"見逃ストライク","・〇",null,null,"ヒット出塁","H",null,"2塁打","H2",null,"3塁打","H3",null,"ホームラン","H4",null,"2アウト","Ⅱ",null,null,null,null,null,null,null,{"$f":"AA5+1","v":2},{"$f":"AB5+1","v":2}]
[null,"空振ストライク","・□",null,null,"エラー出塁","E",null,"盗塁成功","S",null,"盗塁成功","S",null,"盗塁成功","S",null,"3アウト","Ⅲ",null,null,null,null,null,null,null,{"$f":"AA6+1","v":3},{"$f":"AB6+1","v":3}]
[null,"ボール","・●",null,null,"四球出塁","B",null,"盗塁失敗","S'",null,"盗塁失敗","S'",null,"盗塁失敗","S'",null,"残塁","L",null,null,null,null,null,null,null,4,4]
[null,"ファウル","・△",null,null,"死球出塁","DB",null,"エラー進・出塁","E",null,"エラー進・出塁","E",null,"エラー進・出塁","E",null,"得点","○",null,null,null,null,null,null,null,5,5]
[null,"ヒッティング","・◎",null,null,"併殺打","WO",null,"牽・進塁アウト","RD",null,"牽・進塁アウト","RO",null,"牽制アウト","RD",null,null,null,null,null,null,null,null,null,null,6,6]
[null,null,null,null,null,"トリプルアウト","OT",null,"状態作成打者",null,null,"状態作成打者",null,null,"状態作成打者",null,null,null,null,null,"打席結果","記号",null,null,null,null,7,7]
[null,null,null,null,null,"犠打","G",null,"1番打者","①",null,"1番打者","①",null,"1番打者","①",null,null,null,null,"ヒット","ZH",null,null,null,null,8,8]
[null,null,null,null,null,"犠牲フライ","GF",null,"2番打者","②",null,"2番打者","②",null,"2番打者","②",null,"打点入力",null,null,null,null,null,null,null,null,9,9]
[null,null,null,null,null,"見送り三振","K",null,"3番打者","③",null,"3番打者","③",null,"3番打者","③",null,"打点数","記号",null,null,null,null,null,null,null,10]
[null,null,null,null,null,"空振り三振","K'",null,"4番打者","④",null,"4番打者","④",null,"4番打者","④",null,"1打点",1,null,null,null,null,null,null,null,11]
[null,null,null,null,null,"振り逃げ","KE",null,"5番打者","⑤",null,"5番打者","⑤",null,"5番打者","⑤",null,"2打点",2,null,null,null,null,null,null,null,12]
[null,null,null,null,null,"守備妨害","OD",null,"6番打者","⑥",null,"6番打者","⑥",null,"6番打者","⑥",null,"3打点",3]
[null,null,null,null,null,"打撃妨害","DB",null,"7番打者","⑦",null,"7番打者","⑦",null,"7番打者","⑦",null,"4打点",4]
[null,null,null,null,null,null,null,null,"8番打者","⑧",null,"8番打者","⑧",null,"8番打者","⑧"]
[null,null,null,null,null,null,null,null,"9番打者","⑨",null,"9番打者","⑨",null,"9番打者","⑨"]
[]
[]
[]
[]
[null,null,null,null,null,"打球方向"]
[null,null,null,null,null,"方向","記号",null,"状態","記号"]
[null,null,null,null,null,"投手","1'",null,"ゴロ","G"]
[null,null,null,null,null,"捕手","2'",null,"フライ","F"]
[null,null,null,null,null,"1塁手","3'"]
[null,null,null,null,null,"2塁手","4'"]
[null,null,null,null,null,"3塁手","5'"]
[null,null,null,null,null,"遊撃手","6'"]
[null,null,null,null,null,"レフト","7'"]
[null,null,null,null,null,"センター","8'"]
[null,null,null,null,null,"ライト","9'"]