{"text_format":"1","workbook":"xlsx","n_sheets":7,"sheets":["検索","戦績","対戦比較","打撃データー","打撃成績","投手データー","投手成績"],"not_rendered":{"charts":0,"images":0,"macros":0,"external_links":0,"defined_names":0,"comments":2,"pivot_tables":0},"unopened":[],"bounds":{"document_bytes":16777216,"sheet_cells":100000,"rows_first":2000,"rows_last":500,"rows_between":2000,"halvings":0,"cell_chars":16384,"cell_head_chars":4096},"cells_cut":0,"cells_raw":0,"read":"whole","date_system":"1900"}

{"sheet":"検索","index":0,"n_rows":19,"n_cols":14,"rows_kept":19,"cut":false,"hidden":false,"merged":[]}
[]
[null,null,null,null,null,null,null,null,null,null,null,null,"＊本ファイルの使用上の注意事項"]
[null,null,null,null,null,null,null,null,null,null,null,null,"　表題の塗りつぶしについて（表のその列は内容にしたがって下さい）"]
[null,null,null,null,null,null,null,null,null,null,null,null,null,"・・・リストによる入力箇所"]
[null,null,"①　戦績データーを見る　➡➡",null,null,null,null,null,null,null,null,null,null,"・・・キーによる直接入力箇所"]
[null,null,null,null,null,null,null,null,null,null,null,null,null,"・・・マクロ入力箇所（入力禁止）"]
[null,null,"②　各チーム戦績を見る　➡➡",null,null,null,null,null,null,null,null,null,null,"・・・数式・数値が入力された箇所（入力禁止）"]
[]
[null,null,"③　対戦相手とのチーム力差を見る　➡➡"]
[]
[null,null,"④　各チームの打撃成績を見る　➡➡"]
[]
[null,null,"⑤　特定チームの選手別打撃成績を見る　➡➡"]
[]
[null,null,"⑥特定チームの投手PS別選手打撃成績を見る　➡➡"]
[]
[null,null,"⑦　各チーム別投手成績を見る　➡➡"]
[]
[null,null,"⑧　特定チームの投手別成績を見る　➡➡"]

{"sheet":"戦績","index":1,"n_rows":38,"n_cols":21,"rows_kept":38,"cut":false,"hidden":false,"merged":[]}
[]
[]
[]
[null,null,null,null,"↓戦績データー",null,null,null,null,null,"＊ここをクリック",null,null,"↓チーム戦績一覧"]
[null,null,null,"回戦","試合日","球場名","チーム名","得点","与点","勝敗","対戦チーム名",null,null,"T番"," チーム名","試数","勝","負","分","勝率","＊"]
[null,null,null,null,null,null,null,null,null,null,null,null,null,"A",null,{"$f":"IF(O6=\"\",\"\",SUM(Q6:S6))","v":""},{"$f":"IF(O6=\"\",\"\",COUNTIFS($G$6:$G$101,O6,$J$6:$J$101,$Q$5))","v":""},{"$f":"IF(O6=\"\",\"\",COUNTIFS($G$6:$G$101,O6,$J$6:$J$101,$R$5))","v":""},{"$f":"IF(O6=\"\",\"\",COUNTIFS($G$6:$G$101,O6,$J$6:$J$101,$S$5))","v":""},{"$f":"IF(O6=\"\",\"\",IFERROR(Q6/P6,\"該当無\"))","v":""},{"$f":"N6","v":"A"}]
[null,null,null,null,null,null,null,null,null,null,null,null,null,"B",null,{"$f":"IF(O7=\"\",\"\",SUM(Q7:S7))","v":""},{"$f":"IF(O7=\"\",\"\",COUNTIFS($G$6:$G$101,O7,$J$6:$J$101,$Q$5))","v":""},{"$f":"IF(O7=\"\",\"\",COUNTIFS($G$6:$G$101,O7,$J$6:$J$101,$R$5))","v":""},{"$f":"IF(O7=\"\",\"\",COUNTIFS($G$6:$G$101,O7,$J$6:$J$101,$S$5))","v":""},{"$f":"IF(O7=\"\",\"\",IFERROR(Q7/P7,\"該当無\"))","v":""},{"$f":"N7","v":"B"}]
[null,null,null,null,null,null,null,null,null,null,null,null,null,"C",null,"","","","","","C"]
[null,null,null,null,null,null,null,null,null,null,null,null,null,"D",null,"","","","","","D"]
[null,null,null,null,null,null,null,null,null,null,null,null,null,"E",null,"","","","","","E"]
[null,null,null,null,null,null,null,null,null,null,null,null,null,"F",null,"","","","","","F"]
[null,null,null,null,null,null,null,null,null,null,null,null,null,"G",null,"","","","","","G"]
[null,null,null,null,null,null,null,null,null,null,null,null,null,"H",null,"","","","","","H"]
[null,null,null,null,null,null,null,null,null,null,null,null,null,"I",null,"","","","","","I"]
[null,null,null,null,null,null,null,null,null,null,null,null,null,"J",null,"","","","","","J"]
[null,null,null,null,null,null,null,null,null,null,null,null,null,"K",null,"","","","","","K"]
[null,null,null,null,null,null,null,null,null,null,null,null,null,"L",null,"","","","","","L"]
[null,null,null,null,null,null,null,null,null,null,null,null,null,"M",null,"","","","","","M"]
[null,null,null,null,null,null,null,null,null,null,null,null,null,"N",null,"","","","","","N"]
[null,null,null,null,null,null,null,null,null,null,null,null,null,"O",null,"","","","","","O"]
[null,null,null,null,null,null,null,null,null,null,null,null,null,"P",null,"","","","","","P"]
[null,null,null,null,null,null,null,null,null,null,null,null,null,"Q",null,"","","","","","Q"]
[null,null,null,null,null,null,null,null,null,null,null,null,null,"R",null,"","","","","","R"]
[null,null,null,null,null,null,null,null,null,null,null,null,null,"S",null,"","","","","","S"]
[null,null,null,null,null,null,null,null,null,null,null,null,null,"T",null,"","","","","","T"]
[null,null,null,null,null,null,null,null,null,null,null,null,null,"U",null,"","","","","","U"]
[null,null,null,null,null,null,null,null,null,null,null,null,null,"V",null,"","","","","","V"]
[null,null,null,null,null,null,null,null,null,null,null,null,null,"W",null,"","","","","","W"]
[null,null,null,null,null,null,null,null,null,null,null,null,null,"X",null,"","","","","","X"]
[null,null,null,null,null,null,null,null,null,null,null,null,null,"Y",null,"","","","","","Y"]
[null,null,null,null,null,null,null,null,null,null,null,null,null,"Z",null,"","","","","","Z"]
[null,null,null,null,null,null,null,null,null,null,null,null,null,"AA",null,"","","","","","AA"]
[null,null,null,null,null,null,null,null,null,null,null,null,null,"AB",null,"","","","","","AB"]
[null,null,null,null,null,null,null,null,null,null,null,null,null,"AC",null,{"$f":"IF(O34=\"\",\"\",SUM(Q34:S34))","v":""},{"$f":"IF(O34=\"\",\"\",COUNTIFS($G$6:$G$101,O34,$J$6:$J$101,$Q$5))","v":""},{"$f":"IF(O34=\"\",\"\",COUNTIFS($G$6:$G$101,O34,$J$6:$J$101,$R$5))","v":""},{"$f":"IF(O34=\"\",\"\",COUNTIFS($G$6:$G$101,O34,$J$6:$J$101,$S$5))","v":""},"","AC"]
[null,null,null,null,null,null,null,null,null,null,null,null,null,"AD",null,"","","","","","AD"]
[null,null,null,null,null,null,null,null,null,null,null,null,null,"AE",null,"","","","","","AE"]
[null,null,null,null,null,null,null,null,null,null,null,null,null,"AF",null,"","","","","","AF"]
[null,null,null,null,null,null,null,null,null,null,null,null,null,"AG",null,{"$f":"IF(O38=\"\",\"\",SUM(Q38:S38))","v":""},{"$f":"IF(O38=\"\",\"\",COUNTIFS($G$6:$G$101,O38,$J$6:$J$101,$Q$5))","v":""},{"$f":"IF(O38=\"\",\"\",COUNTIFS($G$6:$G$101,O38,$J$6:$J$101,$R$5))","v":""},{"$f":"IF(O38=\"\",\"\",COUNTIFS($G$6:$G$101,O38,$J$6:$J$101,$S$5))","v":""},"","AG"]

{"sheet":"対戦比較","index":2,"n_rows":37,"n_cols":60,"rows_kept":37,"cut":false,"hidden":false,"merged":[]}
[]
[null,null,null,null,"対戦比較表","＊ここをクリック",null,null,null,null,null,null,null,null,null,null,null,null,null,null,"↓チーム対戦データー"]
[null,null,null,null,null,null,null,null,null,null,null,null,null,null,null,null,null,"安計",null,"T番","チーム名",null,"打席","打数","凡打","安打","二打","三打","本打","打点","得点","三振","四球","死球","犠打","犠飛","盗塁","盗死","併殺","敵失","投数","番号","対戦相手",null,"投回","被本","被安","四死","与盗","伐振","与点",null,"打率","防率","試数",null,null,null,{"$f":"IF(D5=\"\",\"\",D5)","v":""},{"$f":"IF(F5=\"\",\"\",F5)","v":""}]
[null,null,null,"チーム名","項目","チーム名",null,null,null,null,null,null,null,null,null,null,null,{"$f":"IF(U4=\"\",\"\",SUM(Z4:AC4))","v":""},null,null,null,null,null,null,null,null,null,null,null,null,null,null,null,null,null,null,null,null,null,null,null,null,{"$f":"IF(U4=\"\",\"\",VLOOKUP(AP4,戦績!$N$6:$O$41,2,FALSE))","v":""},null,null,null,null,null,null,null,null,null,{"$f":"IF(U4=\"\",\"\",(Z4+AA4+AB4+AC4)/X4)","v":""},{"$f":"IF(U4=\"\",\"\",AY4/AS4*9)","v":""},{"$f":"IF(U4=\"\",\"\",1)","v":""},null,null,"打数",{"$f":"IF(BG3=\"\",\"\",SUMIFS(X4:X37,$U$4:$U$37,$BG$3,$AQ$4:$AQ$37,$BH$3))","v":""},{"$f":"IF(BH3=\"\",\"\",SUMIFS(X4:X37,$U$4:$U$37,$BH$3,$AQ$4:$AQ$37,$BG$3))","v":""}]
[null,null,null,null,null,null,null,null,null,null,null,null,null,null,null,null,null,{"$f":"IF(U5=\"\",\"\",SUM(Z5:AC5))","v":""},null,null,null,null,null,null,null,null,null,null,null,null,null,null,null,null,null,null,null,null,null,null,null,null,{"$f":"IF(U5=\"\",\"\",VLOOKUP(AP5,戦績!$N$6:$O$41,2,FALSE))","v":""},null,null,null,null,null,null,null,null,null,{"$f":"IF(U5=\"\",\"\",(Z5+AA5+AB5+AC5)/X5)","v":""},{"$f":"IF(U5=\"\",\"\",AY5/AS5*9)","v":""},{"$f":"IF(U5=\"\",\"\",1)","v":""},null,null,"安打数",{"$f":"IF(BG3=\"\",\"\",SUMIFS(R4:R37,$U$4:$U$37,$BG$3,$AQ$4:$AQ$37,$BH$3))","v":""},{"$f":"IF(BH3=\"\",\"\",SUMIFS(R4:R37,$U$4:$U$37,$BH$3,$AQ$4:$AQ$37,$BG$3))","v":""}]
[null,null,null,{"$f":"BG9","v":""},"防御率",{"$f":"BH9","v":""},null,null,null,null,null,null,null,null,null,null,null,"",null,null,null,null,null,null,null,null,null,null,null,null,null,null,null,null,null,null,null,null,null,null,null,null,{"$f":"IF(U6=\"\",\"\",VLOOKUP(AP6,戦績!$N$6:$O$41,2,FALSE))","v":""},null,null,null,null,null,null,null,null,null,"","","",null,null,"T打率",{"$f":"IF(BG3=\"\",\"\",IFERROR(BG5/BG4,\"無\"))","v":""},{"$f":"IF(BH3=\"\",\"\",IFERROR(BH5/BH4,\"無\"))","v":""}]
[null,null,null,{"$f":"BG6","v":""},"打率",{"$f":"BH6","v":""},null,null,null,null,null,null,null,null,null,null,null,"",null,null,null,null,null,null,null,null,null,null,null,null,null,null,null,null,null,null,null,null,null,null,null,null,{"$f":"IF(U7=\"\",\"\",VLOOKUP(AP7,戦績!$N$6:$O$41,2,FALSE))","v":""},null,null,null,null,null,null,null,null,null,"","","",null,null,"与点",{"$f":"IF(BG3=\"\",\"\",SUMIFS(AY4:AY37,$U$4:$U$37,$BG$3,$AQ$4:$AQ$37,$BH$3))","v":""},{"$f":"IF(BH3=\"\",\"\",SUMIFS(AY4:AY37,$U$4:$U$37,$BH$3,$AQ$4:$AQ$37,$BG$3))","v":""}]
[null,null,null,{"$f":"BH7","v":""},"得点",{"$f":"BG7","v":""},null,null,null,null,null,null,null,null,null,null,null,"",null,null,null,null,null,null,null,null,null,null,null,null,null,null,null,null,null,null,null,null,null,null,null,null,{"$f":"IF(U8=\"\",\"\",VLOOKUP(AP8,戦績!$N$6:$O$41,2,FALSE))","v":""},null,null,null,null,null,null,null,null,null,"","","",null,null,"投球回数",{"$f":"IF(BG3=\"\",\"\",SUMIFS(AS4:AS37,$U$4:$U$37,$BG$3,$AQ$4:$AQ$37,$BH$3))","v":""},{"$f":"IF(BH3=\"\",\"\",SUMIFS(AS4:AS37,$U$4:$U$37,$BH$3,$AQ$4:$AQ$37,$BG$3))","v":""}]
[null,null,null,{"$f":"BG5","v":""},"安打",{"$f":"BH5","v":""},null,null,null,null,null,null,null,null,null,null,null,"",null,null,null,null,null,null,null,null,null,null,null,null,null,null,null,null,null,null,null,null,null,null,null,null,{"$f":"IF(U9=\"\",\"\",VLOOKUP(AP9,戦績!$N$6:$O$41,2,FALSE))","v":""},null,null,null,null,null,null,null,null,null,"","","",null,null,"防御率",{"$f":"IF(BG3=\"\",\"\",IFERROR(BG7/BG8*9,\"無\"))","v":""},{"$f":"IF(BH3=\"\",\"\",IFERROR(BH7/BH8*9,\"無\"))","v":""}]
[null,null,null,{"$f":"IF(D5=\"\",\"\",SUMIFS(AC4:AC37,$U$4:$U$37,$D$5,$AQ$4:$AQ$37,$F$5))","v":""},"本塁打",{"$f":"IF(F5=\"\",\"\",SUMIFS(AC4:AC37,$U$4:$U$37,$F$5,$AQ$4:$AQ$37,$D$5))","v":""},null,null,null,null,null,null,null,null,null,null,null,"",null,null,null,null,null,null,null,null,null,null,null,null,null,null,null,null,null,null,null,null,null,null,null,null,{"$f":"IF(U10=\"\",\"\",VLOOKUP(AP10,戦績!$N$6:$O$41,2,FALSE))","v":""},null,null,null,null,null,null,null,null,null,"","",""]
[null,null,null,{"$f":"IF(D5=\"\",\"\",SUMIFS(AK4:AK37,$U$4:$U$37,$D$5,$AQ$4:$AQ$37,$F$5))","v":""},"盗塁",{"$f":"IF(F5=\"\",\"\",SUMIFS(AK4:AK37,$U$4:$U$37,$F$5,$AQ$4:$AQ$37,$D$5))","v":""},null,null,null,null,null,null,null,null,null,null,null,"",null,null,null,null,null,null,null,null,null,null,null,null,null,null,null,null,null,null,null,null,null,null,null,null,{"$f":"IF(U11=\"\",\"\",VLOOKUP(AP11,戦績!$N$6:$O$41,2,FALSE))","v":""},null,null,null,null,null,null,null,null,null,"","",""]
[null,null,null,{"$f":"IF(D5=\"\",\"\",SUMIFS(AF4:AF37,$U$4:$U$37,$D$5,$AQ$4:$AQ$37,$F$5))","v":""},"三振",{"$f":"IF(F5=\"\",\"\",SUMIFS(AF4:AF37,$U$4:$U$37,$F$5,$AQ$4:$AQ$37,$D$5))","v":""},null,null,null,null,null,null,null,null,null,null,null,"",null,null,null,null,null,null,null,null,null,null,null,null,null,null,null,null,null,null,null,null,null,null,null,null,{"$f":"IF(U12=\"\",\"\",VLOOKUP(AP12,戦績!$N$6:$O$41,2,FALSE))","v":""},null,null,null,null,null,null,null,null,null,"","",""]
[null,null,null,{"$f":"IF(D5=\"\",\"\",SUMIFS(AG4:AG37,$U$4:$U$37,$D$5,$AQ$4:$AQ$37,$F$5)+SUMIFS(AH4:AH37,$U$4:$U$37,$D$5,$AQ$4:AQ$37,$F$5))","v":""},"四死球",{"$f":"IF(F5=\"\",\"\",SUMIFS(AG4:AG37,$U$4:$U$37,$F$5,$AQ$4:$AQ$37,$D$5)+SUMIFS(AH4:AH37,$U$4:$U$37,$F$5,$AQ$4:$AQ$37,$D$35))","v":""},null,null,null,null,null,null,null,null,null,null,null,"",null,null,null,null,null,null,null,null,null,null,null,null,null,null,null,null,null,null,null,null,null,null,null,null,{"$f":"IF(U13=\"\",\"\",VLOOKUP(AP13,戦績!$N$6:$O$41,2,FALSE))","v":""},null,null,null,null,null,null,null,null,null,"","",""]
[null,null,null,{"$f":"IF(D5=\"\",\"\",COUNTIFS(U4:U37,D5,AQ4:AQ37,F5))","v":""},"試合数",{"$f":"IF(F5=\"\",\"\",COUNTIFS(U4:U37,F5,AQ4:AQ37,D5))","v":""},null,null,null,null,null,null,null,null,null,null,null,"",null,null,null,null,null,null,null,null,null,null,null,null,null,null,null,null,null,null,null,null,null,null,null,null,{"$f":"IF(U14=\"\",\"\",VLOOKUP(AP14,戦績!$N$6:$O$41,2,FALSE))","v":""},null,null,null,null,null,null,null,null,null,"","",""]
[null,null,null,null,null,null,null,null,null,null,null,null,null,null,null,null,null,"",null,null,null,null,null,null,null,null,null,null,null,null,null,null,null,null,null,null,null,null,null,null,null,null,{"$f":"IF(U15=\"\",\"\",VLOOKUP(AP15,戦績!$N$6:$O$41,2,FALSE))","v":""},null,null,null,null,null,null,null,null,null,"","",""]
[null,null,null,null,null,null,null,null,null,null,null,null,null,null,null,null,null,"",null,null,null,null,null,null,null,null,null,null,null,null,null,null,null,null,null,null,null,null,null,null,null,null,{"$f":"IF(U16=\"\",\"\",VLOOKUP(AP16,戦績!$N$6:$O$41,2,FALSE))","v":""},null,null,null,null,null,null,null,null,null,"","",""]
[null,null,null,null,null,null,null,null,null,null,null,null,null,null,null,null,null,"",null,null,null,null,null,null,null,null,null,null,null,null,null,null,null,null,null,null,null,null,null,null,null,null,{"$f":"IF(U17=\"\",\"\",VLOOKUP(AP17,戦績!$N$6:$O$41,2,FALSE))","v":""},null,null,null,null,null,null,null,null,null,"","",""]
[null,null,null,null,null,null,null,null,null,null,null,null,null,null,null,null,null,"",null,null,null,null,null,null,null,null,null,null,null,null,null,null,null,null,null,null,null,null,null,null,null,null,{"$f":"IF(U18=\"\",\"\",VLOOKUP(AP18,戦績!$N$6:$O$41,2,FALSE))","v":""},null,null,null,null,null,null,null,null,null,"","",""]
[null,null,null,null,null,null,null,null,null,null,null,null,null,null,null,null,null,"",null,null,null,null,null,null,null,null,null,null,null,null,null,null,null,null,null,null,null,null,null,null,null,null,{"$f":"IF(U19=\"\",\"\",VLOOKUP(AP19,戦績!$N$6:$O$41,2,FALSE))","v":""},null,null,null,null,null,null,null,null,null,"","",""]
[null,null,null,null,null,null,null,null,null,null,null,null,null,null,null,null,null,"",null,null,null,null,null,null,null,null,null,null,null,null,null,null,null,null,null,null,null,null,null,null,null,null,{"$f":"IF(U20=\"\",\"\",VLOOKUP(AP20,戦績!$N$6:$O$41,2,FALSE))","v":""},null,null,null,null,null,null,null,null,null,"","",""]
[null,null,null,null,null,null,null,null,null,null,null,null,null,null,null,null,null,"",null,null,null,null,null,null,null,null,null,null,null,null,null,null,null,null,null,null,null,null,null,null,null,null,{"$f":"IF(U21=\"\",\"\",VLOOKUP(AP21,戦績!$N$6:$O$41,2,FALSE))","v":""},null,null,null,null,null,null,null,null,null,"","",""]
[null,null,null,null,null,null,null,null,null,null,null,null,null,null,null,null,null,"",null,null,null,null,null,null,null,null,null,null,null,null,null,null,null,null,null,null,null,null,null,null,null,null,{"$f":"IF(U22=\"\",\"\",VLOOKUP(AP22,戦績!$N$6:$O$41,2,FALSE))","v":""},null,null,null,null,null,null,null,null,null,"","",""]
[null,null,null,null,null,null,null,null,null,null,null,null,null,null,null,null,null,"",null,null,null,null,null,null,null,null,null,null,null,null,null,null,null,null,null,null,null,null,null,null,null,null,{"$f":"IF(U23=\"\",\"\",VLOOKUP(AP23,戦績!$N$6:$O$41,2,FALSE))","v":""},null,null,null,null,null,null,null,null,null,"","",""]
[null,null,null,null,null,null,null,null,null,null,null,null,null,null,null,null,null,"",null,null,null,null,null,null,null,null,null,null,null,null,null,null,null,null,null,null,null,null,null,null,null,null,{"$f":"IF(U24=\"\",\"\",VLOOKUP(AP24,戦績!$N$6:$O$41,2,FALSE))","v":""},null,null,null,null,null,null,null,null,null,"","",""]
[null,null,null,null,null,null,null,null,null,null,null,null,null,null,null,null,null,"",null,null,null,null,null,null,null,null,null,null,null,null,null,null,null,null,null,null,null,null,null,null,null,null,{"$f":"IF(U25=\"\",\"\",VLOOKUP(AP25,戦績!$N$6:$O$41,2,FALSE))","v":""},null,null,null,null,null,null,null,null,null,"","",""]
[null,null,null,null,null,null,null,null,null,null,null,null,null,null,null,null,null,"",null,null,null,null,null,null,null,null,null,null,null,null,null,null,null,null,null,null,null,null,null,null,null,null,{"$f":"IF(U26=\"\",\"\",VLOOKUP(AP26,戦績!$N$6:$O$41,2,FALSE))","v":""},null,null,null,null,null,null,null,null,null,"","",""]
[null,null,null,null,null,null,null,null,null,null,null,null,null,null,null,null,null,"",null,null,null,null,null,null,null,null,null,null,null,null,null,null,null,null,null,null,null,null,null,null,null,null,{"$f":"IF(U27=\"\",\"\",VLOOKUP(AP27,戦績!$N$6:$O$41,2,FALSE))","v":""},null,null,null,null,null,null,null,null,null,"","",""]
[null,null,null,null,null,null,null,null,null,null,null,null,null,null,null,null,null,"",null,null,null,null,null,null,null,null,null,null,null,null,null,null,null,null,null,null,null,null,null,null,null,null,{"$f":"IF(U28=\"\",\"\",VLOOKUP(AP28,戦績!$N$6:$O$41,2,FALSE))","v":""},null,null,null,null,null,null,null,null,null,"","",""]
[null,null,null,null,null,null,null,null,null,null,null,null,null,null,null,null,null,"",null,null,null,null,null,null,null,null,null,null,null,null,null,null,null,null,null,null,null,null,null,null,null,null,{"$f":"IF(U29=\"\",\"\",VLOOKUP(AP29,戦績!$N$6:$O$41,2,FALSE))","v":""},null,null,null,null,null,null,null,null,null,"","",""]
[null,null,null,null,null,null,null,null,null,null,null,null,null,null,null,null,null,"",null,null,null,null,null,null,null,null,null,null,null,null,null,null,null,null,null,null,null,null,null,null,null,null,{"$f":"IF(U30=\"\",\"\",VLOOKUP(AP30,戦績!$N$6:$O$41,2,FALSE))","v":""},null,null,null,null,null,null,null,null,null,"","",""]
[null,null,null,null,null,null,null,null,null,null,null,null,null,null,null,null,null,"",null,null,null,null,null,null,null,null,null,null,null,null,null,null,null,null,null,null,null,null,null,null,null,null,{"$f":"IF(U31=\"\",\"\",VLOOKUP(AP31,戦績!$N$6:$O$41,2,FALSE))","v":""},null,null,null,null,null,null,null,null,null,"","",""]
[null,null,null,null,null,null,null,null,null,null,null,null,null,null,null,null,null,"",null,null,null,null,null,null,null,null,null,null,null,null,null,null,null,null,null,null,null,null,null,null,null,null,{"$f":"IF(U32=\"\",\"\",VLOOKUP(AP32,戦績!$N$6:$O$41,2,FALSE))","v":""},null,null,null,null,null,null,null,null,null,"","",""]
[null,null,null,null,null,null,null,null,null,null,null,null,null,null,null,null,null,"",null,null,null,null,null,null,null,null,null,null,null,null,null,null,null,null,null,null,null,null,null,null,null,null,{"$f":"IF(U33=\"\",\"\",VLOOKUP(AP33,戦績!$N$6:$O$41,2,FALSE))","v":""},null,null,null,null,null,null,null,null,null,"","",""]
[null,null,null,null,null,null,null,null,null,null,null,null,null,null,null,null,null,"",null,null,null,null,null,null,null,null,null,null,null,null,null,null,null,null,null,null,null,null,null,null,null,null,{"$f":"IF(U34=\"\",\"\",VLOOKUP(AP34,戦績!$N$6:$O$41,2,FALSE))","v":""},null,null,null,null,null,null,null,null,null,"","",""]
[null,null,null,null,null,null,null,null,null,null,null,null,null,null,null,null,null,"",null,null,null,null,null,null,null,null,null,null,null,null,null,null,null,null,null,null,null,null,null,null,null,null,{"$f":"IF(U35=\"\",\"\",VLOOKUP(AP35,戦績!$N$6:$O$41,2,FALSE))","v":""},null,null,null,null,null,null,null,null,null,"","",""]
[null,null,null,null,null,null,null,null,null,null,null,null,null,null,null,null,null,"",null,null,null,null,null,null,null,null,null,null,null,null,null,null,null,null,null,null,null,null,null,null,null,null,{"$f":"IF(U36=\"\",\"\",VLOOKUP(AP36,戦績!$N$6:$O$41,2,FALSE))","v":""},null,null,null,null,null,null,null,null,null,"","",""]
[null,null,null,null,null,null,null,null,null,null,null,null,null,null,null,null,null,"",null,null,null,null,null,null,null,null,null,null,null,null,null,null,null,null,null,null,null,null,null,null,null,null,{"$f":"IF(U37=\"\",\"\",VLOOKUP(AP37,戦績!$N$6:$O$41,2,FALSE))","v":""},null,null,null,null,null,null,null,null,null,"","",""]

{"sheet":"打撃データー","index":3,"n_rows":337,"n_cols":76,"rows_kept":337,"cut":false,"hidden":false,"merged":[[3,29,3,30],[3,56,3,57]]}
[]
[]
[]
[null,null,null,null,"↓選手個別打撃データー",null,null,null,null,null,null,null,null,null,null,null,null,null,null,null,null,null,null,null,null,null,null,null,null,"得点圏",null,null,"↓PS別選手打撃データー",null,null,null,null,null,null,null,null,null,null,null,null,null,null,null,null,null,null,null,null,null,null,null,"得点圏",null,null,"↓打球方向データー"]
[null,null,null,"回戦","チーム名","T番","選手名","背番","打席","打数","凡打","安打","二打","三打","本打","打点","得点","三振","四球","死球","犠打","犠飛","盗塁","盗死","併殺","敵失","投数","回戦","塁打","打数","安打",null,"T番","選手名","背番","PS","打席","打数","凡打","安打","二打","三打","本打","打点","得点","三振","四球","死球","犠打","犠飛","盗塁","盗死","併殺","敵失","投数","塁打","打数","安打",null,"T番","選手名","背番","一","二","右","捕","投","中","三","遊","左","回戦",null,"R","C","L"]
[null,null,null,{"$f":"IF(E6=\"\",\"\",AB6)","v":""},{"$f":"IF(F6=\"\",\"\",VLOOKUP(F6,戦績!$N$6:$O$38,2,FALSE))","v":""},null,null,null,null,null,null,null,null,null,null,null,null,null,null,null,null,null,null,null,null,null,null,null,{"$f":"IF(G6=\"\",\"\",(L6*1+M6*2+N6*3+O6*4))","v":""},null,null,null,null,null,null,null,null,null,null,null,null,null,null,null,null,null,null,null,null,null,null,null,null,null,null,{"$f":"IF(AH6=\"\",\"\",(AN6*1+AO6*2+AP6*3+AQ6*4))","v":""},null,null,null,null,null,null,null,null,null,null,null,null,null,null,null,null,null,{"$f":"IF(BI6=\"\",\"\",(BK6+BL6+BM6))","v":""},{"$f":"IF(BI6=\"\",\"\",(BN6+BO6+BP6))","v":""},{"$f":"IF(BI6=\"\",\"\",(BQ6+BR6+BS6))","v":""}]
[null,null,null,{"$f":"IF(E7=\"\",\"\",AB7)","v":""},{"$f":"IF(F7=\"\",\"\",VLOOKUP(F7,戦績!$N$6:$O$38,2,FALSE))","v":""},null,null,null,null,null,null,null,null,null,null,null,null,null,null,null,null,null,null,null,null,null,null,null,{"$f":"IF(G7=\"\",\"\",(L7*1+M7*2+N7*3+O7*4))","v":""},null,null,null,null,null,null,null,null,null,null,null,null,null,null,null,null,null,null,null,null,null,null,null,null,null,null,{"$f":"IF(AH7=\"\",\"\",(AN7*1+AO7*2+AP7*3+AQ7*4))","v":""},null,null,null,null,null,null,null,null,null,null,null,null,null,null,null,null,null,{"$f":"IF(BI7=\"\",\"\",(BK7+BL7+BM7))","v":""},{"$f":"IF(BI7=\"\",\"\",(BN7+BO7+BP7))","v":""},{"$f":"IF(BI7=\"\",\"\",(BQ7+BR7+BS7))","v":""}]
[null,null,null,"",{"$f":"IF(F8=\"\",\"\",VLOOKUP(F8,戦績!$N$6:$O$38,2,FALSE))","v":""},null,null,null,null,null,null,null,null,null,null,null,null,null,null,null,null,null,null,null,null,null,null,null,"",null,null,null,null,null,null,null,null,null,null,null,null,null,null,null,null,null,null,null,null,null,null,null,null,null,null,"",null,null,null,null,null,null,null,null,null,null,null,null,null,null,null,null,null,"","",""]
[null,null,null,"",{"$f":"IF(F9=\"\",\"\",VLOOKUP(F9,戦績!$N$6:$O$38,2,FALSE))","v":""},null,null,null,null,null,null,null,null,null,null,null,null,null,null,null,null,null,null,null,null,null,null,null,"",null,null,null,null,null,null,null,null,null,null,null,null,null,null,null,null,null,null,null,null,null,null,null,null,null,null,"",null,null,null,null,null,null,null,null,null,null,null,null,null,null,null,null,null,"","",""]
[null,null,null,"",{"$f":"IF(F10=\"\",\"\",VLOOKUP(F10,戦績!$N$6:$O$38,2,FALSE))","v":""},null,null,null,null,null,null,null,null,null,null,null,null,null,null,null,null,null,null,null,null,null,null,null,"",null,null,null,null,null,null,null,null,null,null,null,null,null,null,null,null,null,null,null,null,null,null,null,null,null,null,"",null,null,null,null,null,null,null,null,null,null,null,null,null,null,null,null,null,"","",""]
[null,null,null,"",{"$f":"IF(F11=\"\",\"\",VLOOKUP(F11,戦績!$N$6:$O$38,2,FALSE))","v":""},null,null,null,null,null,null,null,null,null,null,null,null,null,null,null,null,null,null,null,null,null,null,null,"",null,null,null,null,null,null,null,null,null,null,null,null,null,null,null,null,null,null,null,null,null,null,null,null,null,null,"",null,null,null,null,null,null,null,null,null,null,null,null,null,null,null,null,null,"","",""]
[null,null,null,"",{"$f":"IF(F12=\"\",\"\",VLOOKUP(F12,戦績!$N$6:$O$38,2,FALSE))","v":""},null,null,null,null,null,null,null,null,null,null,null,null,null,null,null,null,null,null,null,null,null,null,null,"",null,null,null,null,null,null,null,null,null,null,null,null,null,null,null,null,null,null,null,null,null,null,null,null,null,null,"",null,null,null,null,null,null,null,null,null,null,null,null,null,null,null,null,null,"","",""]
[null,null,null,"",{"$f":"IF(F13=\"\",\"\",VLOOKUP(F13,戦績!$N$6:$O$38,2,FALSE))","v":""},null,null,null,null,null,null,null,null,null,null,null,null,null,null,null,null,null,null,null,null,null,null,null,"",null,null,null,null,null,null,null,null,null,null,null,null,null,null,null,null,null,null,null,null,null,null,null,null,null,null,"",null,null,null,null,null,null,null,null,null,null,null,null,null,null,null,null,null,"","",""]
[null,null,null,"",{"$f":"IF(F14=\"\",\"\",VLOOKUP(F14,戦績!$N$6:$O$38,2,FALSE))","v":""},null,null,null,null,null,null,null,null,null,null,null,null,null,null,null,null,null,null,null,null,null,null,null,"",null,null,null,null,null,null,null,null,null,null,null,null,null,null,null,null,null,null,null,null,null,null,null,null,null,null,"",null,null,null,null,null,null,null,null,null,null,null,null,null,null,null,null,null,"","",""]
[null,null,null,"",{"$f":"IF(F15=\"\",\"\",VLOOKUP(F15,戦績!$N$6:$O$38,2,FALSE))","v":""},null,null,null,null,null,null,null,null,null,null,null,null,null,null,null,null,null,null,null,null,null,null,null,"",null,null,null,null,null,null,null,null,null,null,null,null,null,null,null,null,null,null,null,null,null,null,null,null,null,null,"",null,null,null,null,null,null,null,null,null,null,null,null,null,null,null,null,null,"","",""]
[null,null,null,"",{"$f":"IF(F16=\"\",\"\",VLOOKUP(F16,戦績!$N$6:$O$38,2,FALSE))","v":""},null,null,null,null,null,null,null,null,null,null,null,null,null,null,null,null,null,null,null,null,null,null,null,"",null,null,null,null,null,null,null,null,null,null,null,null,null,null,null,null,null,null,null,null,null,null,null,null,null,null,"",null,null,null,null,null,null,null,null,null,null,null,null,null,null,null,null,null,"","",""]
[null,null,null,"",{"$f":"IF(F17=\"\",\"\",VLOOKUP(F17,戦績!$N$6:$O$38,2,FALSE))","v":""},null,null,null,null,null,null,null,null,null,null,null,null,null,null,null,null,null,null,null,null,null,null,null,"",null,null,null,null,null,null,null,null,null,null,null,null,null,null,null,null,null,null,null,null,null,null,null,null,null,null,"",null,null,null,null,null,null,null,null,null,null,null,null,null,null,null,null,null,"","",""]
[null,null,null,"",{"$f":"IF(F18=\"\",\"\",VLOOKUP(F18,戦績!$N$6:$O$38,2,FALSE))","v":""},null,null,null,null,null,null,null,null,null,null,null,null,null,null,null,null,null,null,null,null,null,null,null,{"$f":"IF(G18=\"\",\"\",(L18*1+M18*2+N18*3+O18*4))","v":""},null,null,null,null,null,null,null,null,null,null,null,null,null,null,null,null,null,null,null,null,null,null,null,null,null,null,"",null,null,null,null,null,null,null,null,null,null,null,null,null,null,null,null,null,"","",""]
[null,null,null,"",{"$f":"IF(F19=\"\",\"\",VLOOKUP(F19,戦績!$N$6:$O$38,2,FALSE))","v":""},null,null,null,null,null,null,null,null,null,null,null,null,null,null,null,null,null,null,null,null,null,null,null,"",null,null,null,null,null,null,null,null,null,null,null,null,null,null,null,null,null,null,null,null,null,null,null,null,null,null,"",null,null,null,null,null,null,null,null,null,null,null,null,null,null,null,null,null,"","",""]
[null,null,null,"",{"$f":"IF(F20=\"\",\"\",VLOOKUP(F20,戦績!$N$6:$O$38,2,FALSE))","v":""},null,null,null,null,null,null,null,null,null,null,null,null,null,null,null,null,null,null,null,null,null,null,null,"",null,null,null,null,null,null,null,null,null,null,null,null,null,null,null,null,null,null,null,null,null,null,null,null,null,null,"",null,null,null,null,null,null,null,null,null,null,null,null,null,null,null,null,null,"","",""]
[null,null,null,"",{"$f":"IF(F21=\"\",\"\",VLOOKUP(F21,戦績!$N$6:$O$38,2,FALSE))","v":""},null,null,null,null,null,null,null,null,null,null,null,null,null,null,null,null,null,null,null,null,null,null,null,"",null,null,null,null,null,null,null,null,null,null,null,null,null,null,null,null,null,null,null,null,null,null,null,null,null,null,"",null,null,null,null,null,null,null,null,null,null,null,null,null,null,null,null,null,"","",""]
[null,null,null,"",{"$f":"IF(F22=\"\",\"\",VLOOKUP(F22,戦績!$N$6:$O$38,2,FALSE))","v":""},null,null,null,null,null,null,null,null,null,null,null,null,null,null,null,null,null,null,null,null,null,null,null,"",null,null,null,null,null,null,null,null,null,null,null,null,null,null,null,null,null,null,null,null,null,null,null,null,null,null,"",null,null,null,null,null,null,null,null,null,null,null,null,null,null,null,null,null,"","",""]
[null,null,null,"",{"$f":"IF(F23=\"\",\"\",VLOOKUP(F23,戦績!$N$6:$O$38,2,FALSE))","v":""},null,null,null,null,null,null,null,null,null,null,null,null,null,null,null,null,null,null,null,null,null,null,null,"",null,null,null,null,null,null,null,null,null,null,null,null,null,null,null,null,null,null,null,null,null,null,null,null,null,null,"",null,null,null,null,null,null,null,null,null,null,null,null,null,null,null,null,null,"","",""]
[null,null,null,"",null,null,null,null,null,null,null,null,null,null,null,null,null,null,null,null,null,null,null,null,null,null,null,null,"",null,null,null,null,null,null,null,null,null,null,null,null,null,null,null,null,null,null,null,null,null,null,null,null,null,null,"",null,null,null,null,null,null,null,null,null,null,null,null,null,null,null,null,null,"","",""]
[null,null,null,"",null,null,null,null,null,null,null,null,null,null,null,null,null,null,null,null,null,null,null,null,null,null,null,null,"",null,null,null,null,null,null,null,null,null,null,null,null,null,null,null,null,null,null,null,null,null,null,null,null,null,null,"",null,null,null,null,null,null,null,null,null,null,null,null,null,null,null,null,null,"","",""]
[null,null,null,"",null,null,null,null,null,null,null,null,null,null,null,null,null,null,null,null,null,null,null,null,null,null,null,null,"",null,null,null,null,null,null,null,null,null,null,null,null,null,null,null,null,null,null,null,null,null,null,null,null,null,null,"",null,null,null,null,null,null,null,null,null,null,null,null,null,null,null,null,null,"","",""]
[null,null,null,"",null,null,null,null,null,null,null,null,null,null,null,null,null,null,null,null,null,null,null,null,null,null,null,null,"",null,null,null,null,null,null,null,null,null,null,null,null,null,null,null,null,null,null,null,null,null,null,null,null,null,null,"",null,null,null,null,null,null,null,null,null,null,null,null,null,null,null,null,null,"","",""]
[null,null,null,"",null,null,null,null,null,null,null,null,null,null,null,null,null,null,null,null,null,null,null,null,null,null,null,null,"",null,null,null,null,null,null,null,null,null,null,null,null,null,null,null,null,null,null,null,null,null,null,null,null,null,null,"",null,null,null,null,null,null,null,null,null,null,null,null,null,null,null,null,null,"","",""]
[null,null,null,"",null,null,null,null,null,null,null,null,null,null,null,null,null,null,null,null,null,null,null,null,null,null,null,null,"",null,null,null,null,null,null,null,null,null,null,null,null,null,null,null,null,null,null,null,null,null,null,null,null,null,null,"",null,null,null,null,null,null,null,null,null,null,null,null,null,null,null,null,null,"","",""]
[null,null,null,"",null,null,null,null,null,null,null,null,null,null,null,null,null,null,null,null,null,null,null,null,null,null,null,null,"",null,null,null,null,null,null,null,null,null,null,null,null,null,null,null,null,null,null,null,null,null,null,null,null,null,null,"",null,null,null,null,null,null,null,null,null,null,null,null,null,null,null,null,null,"","",""]
[null,null,null,"",null,null,null,null,null,null,null,null,null,null,null,null,null,null,null,null,null,null,null,null,null,null,null,null,"",null,null,null,null,null,null,null,null,null,null,null,null,null,null,null,null,null,null,null,null,null,null,null,null,null,null,"",null,null,null,null,null,null,null,null,null,null,null,null,null,null,null,null,null,"","",""]
[null,null,null,"",null,null,null,null,null,null,null,null,null,null,null,null,null,null,null,null,null,null,null,null,null,null,null,null,"",null,null,null,null,null,null,null,null,null,null,null,null,null,null,null,null,null,null,null,null,null,null,null,null,null,null,"",null,null,null,null,null,null,null,null,null,null,null,null,null,null,null,null,null,"","",""]
[null,null,null,"",null,null,null,null,null,null,null,null,null,null,null,null,null,null,null,null,null,null,null,null,null,null,null,null,"",null,null,null,null,null,null,null,null,null,null,null,null,null,null,null,null,null,null,null,null,null,null,null,null,null,null,"",null,null,null,null,null,null,null,null,null,null,null,null,null,null,null,null,null,"","",""]
[null,null,null,"",null,null,null,null,null,null,null,null,null,null,null,null,null,null,null,null,null,null,null,null,null,null,null,null,"",null,null,null,null,null,null,null,null,null,null,null,null,null,null,null,null,null,null,null,null,null,null,null,null,null,null,"",null,null,null,null,null,null,null,null,null,null,null,null,null,null,null,null,null,"","",""]
[null,null,null,"",null,null,null,null,null,null,null,null,null,null,null,null,null,null,null,null,null,null,null,null,null,null,null,null,"",null,null,null,null,null,null,null,null,null,null,null,null,null,null,null,null,null,null,null,null,null,null,null,null,null,null,"",null,null,null,null,null,null,null,null,null,null,null,null,null,null,null,null,null,"","",""]
[null,null,null,"",null,null,null,null,null,null,null,null,null,null,null,null,null,null,null,null,null,null,null,null,null,null,null,null,"",null,null,null,null,null,null,null,null,null,null,null,null,null,null,null,null,null,null,null,null,null,null,null,null,null,null,"",null,null,null,null,null,null,null,null,null,null,null,null,null,null,null,null,null,"","",""]
[null,null,null,"",null,null,null,null,null,null,null,null,null,null,null,null,null,null,null,null,null,null,null,null,null,null,null,null,"",null,null,null,null,null,null,null,null,null,null,null,null,null,null,null,null,null,null,null,null,null,null,null,null,null,null,"",null,null,null,null,null,null,null,null,null,null,null,null,null,null,null,null,null,"","",""]
[null,null,null,"",null,null,null,null,null,null,null,null,null,null,null,null,null,null,null,null,null,null,null,null,null,null,null,null,"",null,null,null,null,null,null,null,null,null,null,null,null,null,null,null,null,null,null,null,null,null,null,null,null,null,null,"",null,null,null,null,null,null,null,null,null,null,null,null,null,null,null,null,null,"","",""]
[null,null,null,"",null,null,null,null,null,null,null,null,null,null,null,null,null,null,null,null,null,null,null,null,null,null,null,null,"",null,null,null,null,null,null,null,null,null,null,null,null,null,null,null,null,null,null,null,null,null,null,null,null,null,null,"",null,null,null,null,null,null,null,null,null,null,null,null,null,null,null,null,null,"","",""]
[null,null,null,"",null,null,null,null,null,null,null,null,null,null,null,null,null,null,null,null,null,null,null,null,null,null,null,null,"",null,null,null,null,null,null,null,null,null,null,null,null,null,null,null,null,null,null,null,null,null,null,null,null,null,null,"",null,null,null,null,null,null,null,null,null,null,null,null,null,null,null,null,null,"","",""]
[null,null,null,"",null,null,null,null,null,null,null,null,null,null,null,null,null,null,null,null,null,null,null,null,null,null,null,null,"",null,null,null,null,null,null,null,null,null,null,null,null,null,null,null,null,null,null,null,null,null,null,null,null,null,null,"",null,null,null,null,null,null,null,null,null,null,null,null,null,null,null,null,null,"","",""]
[null,null,null,"",null,null,null,null,null,null,null,null,null,null,null,null,null,null,null,null,null,null,null,null,null,null,null,null,"",null,null,null,null,null,null,null,null,null,null,null,null,null,null,null,null,null,null,null,null,null,null,null,null,null,null,"",null,null,null,null,null,null,null,null,null,null,null,null,null,null,null,null,null,"","",""]
[null,null,null,"",null,null,null,null,null,null,null,null,null,null,null,null,null,null,null,null,null,null,null,null,null,null,null,null,"",null,null,null,null,null,null,null,null,null,null,null,null,null,null,null,null,null,null,null,null,null,null,null,null,null,null,"",null,null,null,null,null,null,null,null,null,null,null,null,null,null,null,null,null,"","",""]
[null,null,null,"",null,null,null,null,null,null,null,null,null,null,null,null,null,null,null,null,null,null,null,null,null,null,null,null,"",null,null,null,null,null,null,null,null,null,null,null,null,null,null,null,null,null,null,null,null,null,null,null,null,null,null,"",null,null,null,null,null,null,null,null,null,null,null,null,null,null,null,null,null,"","",""]
[null,null,null,"",null,null,null,null,null,null,null,null,null,null,null,null,null,null,null,null,null,null,null,null,null,null,null,null,"",null,null,null,null,null,null,null,null,null,null,null,null,null,null,null,null,null,null,null,null,null,null,null,null,null,null,"",null,null,null,null,null,null,null,null,null,null,null,null,null,null,null,null,null,"","",""]
[null,null,null,"",{"$f":"IF(F46=\"\",\"\",VLOOKUP(F46,戦績!$N$6:$O$38,2,FALSE))","v":""},null,null,null,null,null,null,null,null,null,null,null,null,null,null,null,null,null,null,null,null,null,null,null,"",null,null,null,null,null,null,null,null,null,null,null,null,null,null,null,null,null,null,null,null,null,null,null,null,null,null,"",null,null,null,null,null,null,null,null,null,null,null,null,null,null,null,null,null,"","",""]
[null,null,null,"",{"$f":"IF(F47=\"\",\"\",VLOOKUP(F47,戦績!$N$6:$O$38,2,FALSE))","v":""},null,null,null,null,null,null,null,null,null,null,null,null,null,null,null,null,null,null,null,null,null,null,null,"",null,null,null,null,null,null,null,null,null,null,null,null,null,null,null,null,null,null,null,null,null,null,null,null,null,null,"",null,null,null,null,null,null,null,null,null,null,null,null,null,null,null,null,null,"","",""]
[null,null,null,"",{"$f":"IF(F48=\"\",\"\",VLOOKUP(F48,戦績!$N$6:$O$38,2,FALSE))","v":""},null,null,null,null,null,null,null,null,null,null,null,null,null,null,null,null,null,null,null,null,null,null,null,"",null,null,null,null,null,null,null,null,null,null,null,null,null,null,null,null,null,null,null,null,null,null,null,null,null,null,"",null,null,null,null,null,null,null,null,null,null,null,null,null,null,null,null,null,"","",""]
[null,null,null,"",{"$f":"IF(F49=\"\",\"\",VLOOKUP(F49,戦績!$N$6:$O$38,2,FALSE))","v":""},null,null,null,null,null,null,null,null,null,null,null,null,null,null,null,null,null,null,null,null,null,null,null,"",null,null,null,null,null,null,null,null,null,null,null,null,null,null,null,null,null,null,null,null,null,null,null,null,null,null,"",null,null,null,null,null,null,null,null,null,null,null,null,null,null,null,null,null,"","",""]
[null,null,null,"",{"$f":"IF(F50=\"\",\"\",VLOOKUP(F50,戦績!$N$6:$O$38,2,FALSE))","v":""},null,null,null,null,null,null,null,null,null,null,null,null,null,null,null,null,null,null,null,null,null,null,null,"",null,null,null,null,null,null,null,null,null,null,null,null,null,null,null,null,null,null,null,null,null,null,null,null,null,null,"",null,null,null,null,null,null,null,null,null,null,null,null,null,null,null,null,null,"","",""]
[null,null,null,"",{"$f":"IF(F51=\"\",\"\",VLOOKUP(F51,戦績!$N$6:$O$38,2,FALSE))","v":""},null,null,null,null,null,null,null,null,null,null,null,null,null,null,null,null,null,null,null,null,null,null,null,"",null,null,null,null,null,null,null,null,null,null,null,null,null,null,null,null,null,null,null,null,null,null,null,null,null,null,"",null,null,null,null,null,null,null,null,null,null,null,null,null,null,null,null,null,"","",""]
[null,null,null,"",{"$f":"IF(F52=\"\",\"\",VLOOKUP(F52,戦績!$N$6:$O$38,2,FALSE))","v":""},null,null,null,null,null,null,null,null,null,null,null,null,null,null,null,null,null,null,null,null,null,null,null,"",null,null,null,null,null,null,null,null,null,null,null,null,null,null,null,null,null,null,null,null,null,null,null,null,null,null,"",null,null,null,null,null,null,null,null,null,null,null,null,null,null,null,null,null,"","",""]
[null,null,null,"",{"$f":"IF(F53=\"\",\"\",VLOOKUP(F53,戦績!$N$6:$O$38,2,FALSE))","v":""},null,null,null,null,null,null,null,null,null,null,null,null,null,null,null,null,null,null,null,null,null,null,null,"",null,null,null,null,null,null,null,null,null,null,null,null,null,null,null,null,null,null,null,null,null,null,null,null,null,null,"",null,null,null,null,null,null,null,null,null,null,null,null,null,null,null,null,null,"","",""]
[null,null,null,"",{"$f":"IF(F54=\"\",\"\",VLOOKUP(F54,戦績!$N$6:$O$38,2,FALSE))","v":""},null,null,null,null,null,null,null,null,null,null,null,null,null,null,null,null,null,null,null,null,null,null,null,"",null,null,null,null,null,null,null,null,null,null,null,null,null,null,null,null,null,null,null,null,null,null,null,null,null,null,"",null,null,null,null,null,null,null,null,null,null,null,null,null,null,null,null,null,"","",""]
[null,null,null,"",{"$f":"IF(F55=\"\",\"\",VLOOKUP(F55,戦績!$N$6:$O$38,2,FALSE))","v":""},null,null,null,null,null,null,null,null,null,null,null,null,null,null,null,null,null,null,null,null,null,null,null,"",null,null,null,null,null,null,null,null,null,null,null,null,null,null,null,null,null,null,null,null,null,null,null,null,null,null,"",null,null,null,null,null,null,null,null,null,null,null,null,null,null,null,null,null,"","",""]
[null,null,null,"",{"$f":"IF(F56=\"\",\"\",VLOOKUP(F56,戦績!$N$6:$O$38,2,FALSE))","v":""},null,null,null,null,null,null,null,null,null,null,null,null,null,null,null,null,null,null,null,null,null,null,null,"",null,null,null,null,null,null,null,null,null,null,null,null,null,null,null,null,null,null,null,null,null,null,null,null,null,null,"",null,null,null,null,null,null,null,null,null,null,null,null,null,null,null,null,null,"","",""]
[null,null,null,"",{"$f":"IF(F57=\"\",\"\",VLOOKUP(F57,戦績!$N$6:$O$38,2,FALSE))","v":""},null,null,null,null,null,null,null,null,null,null,null,null,null,null,null,null,null,null,null,null,null,null,null,"",null,null,null,null,null,null,null,null,null,null,null,null,null,null,null,null,null,null,null,null,null,null,null,null,null,null,"",null,null,null,null,null,null,null,null,null,null,null,null,null,null,null,null,null,"","",""]
[null,null,null,"",{"$f":"IF(F58=\"\",\"\",VLOOKUP(F58,戦績!$N$6:$O$38,2,FALSE))","v":""},null,null,null,null,null,null,null,null,null,null,null,null,null,null,null,null,null,null,null,null,null,null,null,"",null,null,null,null,null,null,null,null,null,null,null,null,null,null,null,null,null,null,null,null,null,null,null,null,null,null,"",null,null,null,null,null,null,null,null,null,null,null,null,null,null,null,null,null,"","",""]
[null,null,null,"",{"$f":"IF(F59=\"\",\"\",VLOOKUP(F59,戦績!$N$6:$O$38,2,FALSE))","v":""},null,null,null,null,null,null,null,null,null,null,null,null,null,null,null,null,null,null,null,null,null,null,null,"",null,null,null,null,null,null,null,null,null,null,null,null,null,null,null,null,null,null,null,null,null,null,null,null,null,null,"",null,null,null,null,null,null,null,null,null,null,null,null,null,null,null,null,null,"","",""]
[null,null,null,"",{"$f":"IF(F60=\"\",\"\",VLOOKUP(F60,戦績!$N$6:$O$38,2,FALSE))","v":""},null,null,null,null,null,null,null,null,null,null,null,null,null,null,null,null,null,null,null,null,null,null,null,"",null,null,null,null,null,null,null,null,null,null,null,null,null,null,null,null,null,null,null,null,null,null,null,null,null,null,"",null,null,null,null,null,null,null,null,null,null,null,null,null,null,null,null,null,"","",""]
[null,null,null,"",{"$f":"IF(F61=\"\",\"\",VLOOKUP(F61,戦績!$N$6:$O$38,2,FALSE))","v":""},null,null,null,null,null,null,null,null,null,null,null,null,null,null,null,null,null,null,null,null,null,null,null,"",null,null,null,null,null,null,null,null,null,null,null,null,null,null,null,null,null,null,null,null,null,null,null,null,null,null,"",null,null,null,null,null,null,null,null,null,null,null,null,null,null,null,null,null,"","",""]
[null,null,null,"",{"$f":"IF(F62=\"\",\"\",VLOOKUP(F62,戦績!$N$6:$O$38,2,FALSE))","v":""},null,null,null,null,null,null,null,null,null,null,null,null,null,null,null,null,null,null,null,null,null,null,null,"",null,null,null,null,null,null,null,null,null,null,null,null,null,null,null,null,null,null,null,null,null,null,null,null,null,null,"",null,null,null,null,null,null,null,null,null,null,null,null,null,null,null,null,null,"","",""]
[null,null,null,"",{"$f":"IF(F63=\"\",\"\",VLOOKUP(F63,戦績!$N$6:$O$38,2,FALSE))","v":""},null,null,null,null,null,null,null,null,null,null,null,null,null,null,null,null,null,null,null,null,null,null,null,"",null,null,null,null,null,null,null,null,null,null,null,null,null,null,null,null,null,null,null,null,null,null,null,null,null,null,"",null,null,null,null,null,null,null,null,null,null,null,null,null,null,null,null,null,"","",""]
[null,null,null,"",{"$f":"IF(F64=\"\",\"\",VLOOKUP(F64,戦績!$N$6:$O$38,2,FALSE))","v":""},null,null,null,null,null,null,null,null,null,null,null,null,null,null,null,null,null,null,null,null,null,null,null,"",null,null,null,null,null,null,null,null,null,null,null,null,null,null,null,null,null,null,null,null,null,null,null,null,null,null,"",null,null,null,null,null,null,null,null,null,null,null,null,null,null,null,null,null,"","",""]
[null,null,null,"",{"$f":"IF(F65=\"\",\"\",VLOOKUP(F65,戦績!$N$6:$O$38,2,FALSE))","v":""},null,null,null,null,null,null,null,null,null,null,null,null,null,null,null,null,null,null,null,null,null,null,null,"",null,null,null,null,null,null,null,null,null,null,null,null,null,null,null,null,null,null,null,null,null,null,null,null,null,null,"",null,null,null,null,null,null,null,null,null,null,null,null,null,null,null,null,null,"","",""]
[null,null,null,"",{"$f":"IF(F66=\"\",\"\",VLOOKUP(F66,戦績!$N$6:$O$38,2,FALSE))","v":""},null,null,null,null,null,null,null,null,null,null,null,null,null,null,null,null,null,null,null,null,null,null,null,"",null,null,null,null,null,null,null,null,null,null,null,null,null,null,null,null,null,null,null,null,null,null,null,null,null,null,"",null,null,null,null,null,null,null,null,null,null,null,null,null,null,null,null,null,"","",""]
[null,null,null,"",{"$f":"IF(F67=\"\",\"\",VLOOKUP(F67,戦績!$N$6:$O$38,2,FALSE))","v":""},null,null,null,null,null,null,null,null,null,null,null,null,null,null,null,null,null,null,null,null,null,null,null,"",null,null,null,null,null,null,null,null,null,null,null,null,null,null,null,null,null,null,null,null,null,null,null,null,null,null,"",null,null,null,null,null,null,null,null,null,null,null,null,null,null,null,null,null,"","",""]
[null,null,null,"",{"$f":"IF(F68=\"\",\"\",VLOOKUP(F68,戦績!$N$6:$O$38,2,FALSE))","v":""},null,null,null,null,null,null,null,null,null,null,null,null,null,null,null,null,null,null,null,null,null,null,null,"",null,null,null,null,null,null,null,null,null,null,null,null,null,null,null,null,null,null,null,null,null,null,null,null,null,null,"",null,null,null,null,null,null,null,null,null,null,null,null,null,null,null,null,null,"","",""]
[null,null,null,"",{"$f":"IF(F69=\"\",\"\",VLOOKUP(F69,戦績!$N$6:$O$38,2,FALSE))","v":""},null,null,null,null,null,null,null,null,null,null,null,null,null,null,null,null,null,null,null,null,null,null,null,"",null,null,null,null,null,null,null,null,null,null,null,null,null,null,null,null,null,null,null,null,null,null,null,null,null,null,"",null,null,null,null,null,null,null,null,null,null,null,null,null,null,null,null,null,"","",""]
[null,null,null,"",{"$f":"IF(F70=\"\",\"\",VLOOKUP(F70,戦績!$N$6:$O$38,2,FALSE))","v":""},null,null,null,null,null,null,null,null,null,null,null,null,null,null,null,null,null,null,null,null,null,null,null,"",null,null,null,null,null,null,null,null,null,null,null,null,null,null,null,null,null,null,null,null,null,null,null,null,null,null,"",null,null,null,null,null,null,null,null,null,null,null,null,null,null,null,null,null,"","",""]
[null,null,null,{"$f":"IF(E71=\"\",\"\",AB71)","v":""},{"$f":"IF(F71=\"\",\"\",VLOOKUP(F71,戦績!$N$6:$O$38,2,FALSE))","v":""},null,null,null,null,null,null,null,null,null,null,null,null,null,null,null,null,null,null,null,null,null,null,null,{"$f":"IF(G71=\"\",\"\",(L71*1+M71*2+N71*3+O71*4))","v":""},null,null,null,null,null,null,null,null,null,null,null,null,null,null,null,null,null,null,null,null,null,null,null,null,null,null,{"$f":"IF(AH71=\"\",\"\",(AN71*1+AO71*2+AP71*3+AQ71*4))","v":""},null,null,null,null,null,null,null,null,null,null,null,null,null,null,null,null,null,{"$f":"IF(BI71=\"\",\"\",(BK71+BL71+BM71))","v":""},{"$f":"IF(BI71=\"\",\"\",(BN71+BO71+BP71))","v":""},{"$f":"IF(BI71=\"\",\"\",(BQ71+BR71+BS71))","v":""}]
[null,null,null,"",{"$f":"IF(F72=\"\",\"\",VLOOKUP(F72,戦績!$N$6:$O$38,2,FALSE))","v":""},null,null,null,null,null,null,null,null,null,null,null,null,null,null,null,null,null,null,null,null,null,null,null,"",null,null,null,null,null,null,null,null,null,null,null,null,null,null,null,null,null,null,null,null,null,null,null,null,null,null,"",null,null,null,null,null,null,null,null,null,null,null,null,null,null,null,null,null,"","",""]
[null,null,null,"",{"$f":"IF(F73=\"\",\"\",VLOOKUP(F73,戦績!$N$6:$O$38,2,FALSE))","v":""},null,null,null,null,null,null,null,null,null,null,null,null,null,null,null,null,null,null,null,null,null,null,null,"",null,null,null,null,null,null,null,null,null,null,null,null,null,null,null,null,null,null,null,null,null,null,null,null,null,null,"",null,null,null,null,null,null,null,null,null,null,null,null,null,null,null,null,null,"","",""]
[null,null,null,"",{"$f":"IF(F74=\"\",\"\",VLOOKUP(F74,戦績!$N$6:$O$38,2,FALSE))","v":""},null,null,null,null,null,null,null,null,null,null,null,null,null,null,null,null,null,null,null,null,null,null,null,"",null,null,null,null,null,null,null,null,null,null,null,null,null,null,null,null,null,null,null,null,null,null,null,null,null,null,"",null,null,null,null,null,null,null,null,null,null,null,null,null,null,null,null,null,"","",""]
[null,null,null,"",{"$f":"IF(F75=\"\",\"\",VLOOKUP(F75,戦績!$N$6:$O$38,2,FALSE))","v":""},null,null,null,null,null,null,null,null,null,null,null,null,null,null,null,null,null,null,null,null,null,null,null,"",null,null,null,null,null,null,null,null,null,null,null,null,null,null,null,null,null,null,null,null,null,null,null,null,null,null,"",null,null,null,null,null,null,null,null,null,null,null,null,null,null,null,null,null,"","",""]
[null,null,null,"",{"$f":"IF(F76=\"\",\"\",VLOOKUP(F76,戦績!$N$6:$O$38,2,FALSE))","v":""},null,null,null,null,null,null,null,null,null,null,null,null,null,null,null,null,null,null,null,null,null,null,null,"",null,null,null,null,null,null,null,null,null,null,null,null,null,null,null,null,null,null,null,null,null,null,null,null,null,null,"",null,null,null,null,null,null,null,null,null,null,null,null,null,null,null,null,null,"","",""]
[null,null,null,"",{"$f":"IF(F77=\"\",\"\",VLOOKUP(F77,戦績!$N$6:$O$38,2,FALSE))","v":""},null,null,null,null,null,null,null,null,null,null,null,null,null,null,null,null,null,null,null,null,null,null,null,"",null,null,null,null,null,null,null,null,null,null,null,null,null,null,null,null,null,null,null,null,null,null,null,null,null,null,"",null,null,null,null,null,null,null,null,null,null,null,null,null,null,null,null,null,"","",""]
[null,null,null,"",{"$f":"IF(F78=\"\",\"\",VLOOKUP(F78,戦績!$N$6:$O$38,2,FALSE))","v":""},null,null,null,null,null,null,null,null,null,null,null,null,null,null,null,null,null,null,null,null,null,null,null,"",null,null,null,null,null,null,null,null,null,null,null,null,null,null,null,null,null,null,null,null,null,null,null,null,null,null,"",null,null,null,null,null,null,null,null,null,null,null,null,null,null,null,null,null,"","",""]
[null,null,null,"",{"$f":"IF(F79=\"\",\"\",VLOOKUP(F79,戦績!$N$6:$O$38,2,FALSE))","v":""},null,null,null,null,null,null,null,null,null,null,null,null,null,null,null,null,null,null,null,null,null,null,null,"",null,null,null,null,null,null,null,null,null,null,null,null,null,null,null,null,null,null,null,null,null,null,null,null,null,null,"",null,null,null,null,null,null,null,null,null,null,null,null,null,null,null,null,null,"","",""]
[null,null,null,"",{"$f":"IF(F80=\"\",\"\",VLOOKUP(F80,戦績!$N$6:$O$38,2,FALSE))","v":""},null,null,null,null,null,null,null,null,null,null,null,null,null,null,null,null,null,null,null,null,null,null,null,"",null,null,null,null,null,null,null,null,null,null,null,null,null,null,null,null,null,null,null,null,null,null,null,null,null,null,"",null,null,null,null,null,null,null,null,null,null,null,null,null,null,null,null,null,"","",""]
[null,null,null,"",{"$f":"IF(F81=\"\",\"\",VLOOKUP(F81,戦績!$N$6:$O$38,2,FALSE))","v":""},null,null,null,null,null,null,null,null,null,null,null,null,null,null,null,null,null,null,null,null,null,null,null,"",null,null,null,null,null,null,null,null,null,null,null,null,null,null,null,null,null,null,null,null,null,null,null,null,null,null,"",null,null,null,null,null,null,null,null,null,null,null,null,null,null,null,null,null,"","",""]
[null,null,null,"",{"$f":"IF(F82=\"\",\"\",VLOOKUP(F82,戦績!$N$6:$O$38,2,FALSE))","v":""},null,null,null,null,null,null,null,null,null,null,null,null,null,null,null,null,null,null,null,null,null,null,null,"",null,null,null,null,null,null,null,null,null,null,null,null,null,null,null,null,null,null,null,null,null,null,null,null,null,null,"",null,null,null,null,null,null,null,null,null,null,null,null,null,null,null,null,null,"","",""]
[null,null,null,"",{"$f":"IF(F83=\"\",\"\",VLOOKUP(F83,戦績!$N$6:$O$38,2,FALSE))","v":""},null,null,null,null,null,null,null,null,null,null,null,null,null,null,null,null,null,null,null,null,null,null,null,"",null,null,null,null,null,null,null,null,null,null,null,null,null,null,null,null,null,null,null,null,null,null,null,null,null,null,"",null,null,null,null,null,null,null,null,null,null,null,null,null,null,null,null,null,"","",""]
[null,null,null,"",{"$f":"IF(F84=\"\",\"\",VLOOKUP(F84,戦績!$N$6:$O$38,2,FALSE))","v":""},null,null,null,null,null,null,null,null,null,null,null,null,null,null,null,null,null,null,null,null,null,null,null,"",null,null,null,null,null,null,null,null,null,null,null,null,null,null,null,null,null,null,null,null,null,null,null,null,null,null,"",null,null,null,null,null,null,null,null,null,null,null,null,null,null,null,null,null,"","",""]
[null,null,null,"",{"$f":"IF(F85=\"\",\"\",VLOOKUP(F85,戦績!$N$6:$O$38,2,FALSE))","v":""},null,null,null,null,null,null,null,null,null,null,null,null,null,null,null,null,null,null,null,null,null,null,null,"",null,null,null,null,null,null,null,null,null,null,null,null,null,null,null,null,null,null,null,null,null,null,null,null,null,null,"",null,null,null,null,null,null,null,null,null,null,null,null,null,null,null,null,null,"","",""]
[null,null,null,"",{"$f":"IF(F86=\"\",\"\",VLOOKUP(F86,戦績!$N$6:$O$38,2,FALSE))","v":""},null,null,null,null,null,null,null,null,null,null,null,null,null,null,null,null,null,null,null,null,null,null,null,"",null,null,null,null,null,null,null,null,null,null,null,null,null,null,null,null,null,null,null,null,null,null,null,null,null,null,"",null,null,null,null,null,null,null,null,null,null,null,null,null,null,null,null,null,"","",""]
[null,null,null,"",{"$f":"IF(F87=\"\",\"\",VLOOKUP(F87,戦績!$N$6:$O$38,2,FALSE))","v":""},null,null,null,null,null,null,null,null,null,null,null,null,null,null,null,null,null,null,null,null,null,null,null,"",null,null,null,null,null,null,null,null,null,null,null,null,null,null,null,null,null,null,null,null,null,null,null,null,null,null,"",null,null,null,null,null,null,null,null,null,null,null,null,null,null,null,null,null,"","",""]
[null,null,null,"",{"$f":"IF(F88=\"\",\"\",VLOOKUP(F88,戦績!$N$6:$O$38,2,FALSE))","v":""},null,null,null,null,null,null,null,null,null,null,null,null,null,null,null,null,null,null,null,null,null,null,null,"",null,null,null,null,null,null,null,null,null,null,null,null,null,null,null,null,null,null,null,null,null,null,null,null,null,null,"",null,null,null,null,null,null,null,null,null,null,null,null,null,null,null,null,null,"","",""]
[null,null,null,"",{"$f":"IF(F89=\"\",\"\",VLOOKUP(F89,戦績!$N$6:$O$38,2,FALSE))","v":""},null,null,null,null,null,null,null,null,null,null,null,null,null,null,null,null,null,null,null,null,null,null,null,"",null,null,null,null,null,null,null,null,null,null,null,null,null,null,null,null,null,null,null,null,null,null,null,null,null,null,"",null,null,null,null,null,null,null,null,null,null,null,null,null,null,null,null,null,"","",""]
[null,null,null,"",{"$f":"IF(F90=\"\",\"\",VLOOKUP(F90,戦績!$N$6:$O$38,2,FALSE))","v":""},null,null,null,null,null,null,null,null,null,null,null,null,null,null,null,null,null,null,null,null,null,null,null,"",null,null,null,null,null,null,null,null,null,null,null,null,null,null,null,null,null,null,null,null,null,null,null,null,null,null,"",null,null,null,null,null,null,null,null,null,null,null,null,null,null,null,null,null,"","",""]
[null,null,null,"",{"$f":"IF(F91=\"\",\"\",VLOOKUP(F91,戦績!$N$6:$O$38,2,FALSE))","v":""},null,null,null,null,null,null,null,null,null,null,null,null,null,null,null,null,null,null,null,null,null,null,null,"",null,null,null,null,null,null,null,null,null,null,null,null,null,null,null,null,null,null,null,null,null,null,null,null,null,null,"",null,null,null,null,null,null,null,null,null,null,null,null,null,null,null,null,null,"","",""]
[null,null,null,"",{"$f":"IF(F92=\"\",\"\",VLOOKUP(F92,戦績!$N$6:$O$38,2,FALSE))","v":""},null,null,null,null,null,null,null,null,null,null,null,null,null,null,null,null,null,null,null,null,null,null,null,"",null,null,null,null,null,null,null,null,null,null,null,null,null,null,null,null,null,null,null,null,null,null,null,null,null,null,"",null,null,null,null,null,null,null,null,null,null,null,null,null,null,null,null,null,"","",""]
[null,null,null,"",{"$f":"IF(F93=\"\",\"\",VLOOKUP(F93,戦績!$N$6:$O$38,2,FALSE))","v":""},null,null,null,null,null,null,null,null,null,null,null,null,null,null,null,null,null,null,null,null,null,null,null,"",null,null,null,null,null,null,null,null,null,null,null,null,null,null,null,null,null,null,null,null,null,null,null,null,null,null,"",null,null,null,null,null,null,null,null,null,null,null,null,null,null,null,null,null,"","",""]
[null,null,null,"",{"$f":"IF(F94=\"\",\"\",VLOOKUP(F94,戦績!$N$6:$O$38,2,FALSE))","v":""},null,null,null,null,null,null,null,null,null,null,null,null,null,null,null,null,null,null,null,null,null,null,null,"",null,null,null,null,null,null,null,null,null,null,null,null,null,null,null,null,null,null,null,null,null,null,null,null,null,null,"",null,null,null,null,null,null,null,null,null,null,null,null,null,null,null,null,null,"","",""]
[null,null,null,"",{"$f":"IF(F95=\"\",\"\",VLOOKUP(F95,戦績!$N$6:$O$38,2,FALSE))","v":""},null,null,null,null,null,null,null,null,null,null,null,null,null,null,null,null,null,null,null,null,null,null,null,"",null,null,null,null,null,null,null,null,null,null,null,null,null,null,null,null,null,null,null,null,null,null,null,null,null,null,"",null,null,null,null,null,null,null,null,null,null,null,null,null,null,null,null,null,"","",""]
[null,null,null,"",{"$f":"IF(F96=\"\",\"\",VLOOKUP(F96,戦績!$N$6:$O$38,2,FALSE))","v":""},null,null,null,null,null,null,null,null,null,null,null,null,null,null,null,null,null,null,null,null,null,null,null,"",null,null,null,null,null,null,null,null,null,null,null,null,null,null,null,null,null,null,null,null,null,null,null,null,null,null,"",null,null,null,null,null,null,null,null,null,null,null,null,null,null,null,null,null,"","",""]
[null,null,null,"",{"$f":"IF(F97=\"\",\"\",VLOOKUP(F97,戦績!$N$6:$O$38,2,FALSE))","v":""},null,null,null,null,null,null,null,null,null,null,null,null,null,null,null,null,null,null,null,null,null,null,null,"",null,null,null,null,null,null,null,null,null,null,null,null,null,null,null,null,null,null,null,null,null,null,null,null,null,null,"",null,null,null,null,null,null,null,null,null,null,null,null,null,null,null,null,null,"","",""]
[null,null,null,"",{"$f":"IF(F98=\"\",\"\",VLOOKUP(F98,戦績!$N$6:$O$38,2,FALSE))","v":""},null,null,null,null,null,null,null,null,null,null,null,null,null,null,null,null,null,null,null,null,null,null,null,"",null,null,null,null,null,null,null,null,null,null,null,null,null,null,null,null,null,null,null,null,null,null,null,null,null,null,"",null,null,null,null,null,null,null,null,null,null,null,null,null,null,null,null,null,"","",""]
[null,null,null,"",{"$f":"IF(F99=\"\",\"\",VLOOKUP(F99,戦績!$N$6:$O$38,2,FALSE))","v":""},null,null,null,null,null,null,null,null,null,null,null,null,null,null,null,null,null,null,null,null,null,null,null,"",null,null,null,null,null,null,null,null,null,null,null,null,null,null,null,null,null,null,null,null,null,null,null,null,null,null,"",null,null,null,null,null,null,null,null,null,null,null,null,null,null,null,null,null,"","",""]
[null,null,null,"",{"$f":"IF(F100=\"\",\"\",VLOOKUP(F100,戦績!$N$6:$O$38,2,FALSE))","v":""},null,null,null,null,null,null,null,null,null,null,null,null,null,null,null,null,null,null,null,null,null,null,null,"",null,null,null,null,null,null,null,null,null,null,null,null,null,null,null,null,null,null,null,null,null,null,null,null,null,null,"",null,null,null,null,null,null,null,null,null,null,null,null,null,null,null,null,null,"","",""]
[null,null,null,"",{"$f":"IF(F101=\"\",\"\",VLOOKUP(F101,戦績!$N$6:$O$38,2,FALSE))","v":""},null,null,null,null,null,null,null,null,null,null,null,null,null,null,null,null,null,null,null,null,null,null,null,"",null,null,null,null,null,null,null,null,null,null,null,null,null,null,null,null,null,null,null,null,null,null,null,null,null,null,"",null,null,null,null,null,null,null,null,null,null,null,null,null,null,null,null,null,"","",""]
[null,null,null,"",{"$f":"IF(F102=\"\",\"\",VLOOKUP(F102,戦績!$N$6:$O$38,2,FALSE))","v":""},null,null,null,null,null,null,null,null,null,null,null,null,null,null,null,null,null,null,null,null,null,null,null,"",null,null,null,null,null,null,null,null,null,null,null,null,null,null,null,null,null,null,null,null,null,null,null,null,null,null,"",null,null,null,null,null,null,null,null,null,null,null,null,null,null,null,null,null,"","",""]
[null,null,null,"",{"$f":"IF(F103=\"\",\"\",VLOOKUP(F103,戦績!$N$6:$O$38,2,FALSE))","v":""},null,null,null,null,null,null,null,null,null,null,null,null,null,null,null,null,null,null,null,null,null,null,null,"",null,null,null,null,null,null,null,null,null,null,null,null,null,null,null,null,null,null,null,null,null,null,null,null,null,null,"",null,null,null,null,null,null,null,null,null,null,null,null,null,null,null,null,null,"","",""]
[null,null,null,"",{"$f":"IF(F104=\"\",\"\",VLOOKUP(F104,戦績!$N$6:$O$38,2,FALSE))","v":""},null,null,null,null,null,null,null,null,null,null,null,null,null,null,null,null,null,null,null,null,null,null,null,"",null,null,null,null,null,null,null,null,null,null,null,null,null,null,null,null,null,null,null,null,null,null,null,null,null,null,"",null,null,null,null,null,null,null,null,null,null,null,null,null,null,null,null,null,"","",""]
[null,null,null,"",{"$f":"IF(F105=\"\",\"\",VLOOKUP(F105,戦績!$N$6:$O$38,2,FALSE))","v":""},null,null,null,null,null,null,null,null,null,null,null,null,null,null,null,null,null,null,null,null,null,null,null,"",null,null,null,null,null,null,null,null,null,null,null,null,null,null,null,null,null,null,null,null,null,null,null,null,null,null,"",null,null,null,null,null,null,null,null,null,null,null,null,null,null,null,null,null,"","",""]
[null,null,null,"",{"$f":"IF(F106=\"\",\"\",VLOOKUP(F106,戦績!$N$6:$O$38,2,FALSE))","v":""},null,null,null,null,null,null,null,null,null,null,null,null,null,null,null,null,null,null,null,null,null,null,null,"",null,null,null,null,null,null,null,null,null,null,null,null,null,null,null,null,null,null,null,null,null,null,null,null,null,null,"",null,null,null,null,null,null,null,null,null,null,null,null,null,null,null,null,null,"","",""]
[null,null,null,"",{"$f":"IF(F107=\"\",\"\",VLOOKUP(F107,戦績!$N$6:$O$38,2,FALSE))","v":""},null,null,null,null,null,null,null,null,null,null,null,null,null,null,null,null,null,null,null,null,null,null,null,"",null,null,null,null,null,null,null,null,null,null,null,null,null,null,null,null,null,null,null,null,null,null,null,null,null,null,"",null,null,null,null,null,null,null,null,null,null,null,null,null,null,null,null,null,"","",""]
[null,null,null,"",{"$f":"IF(F108=\"\",\"\",VLOOKUP(F108,戦績!$N$6:$O$38,2,FALSE))","v":""},null,null,null,null,null,null,null,null,null,null,null,null,null,null,null,null,null,null,null,null,null,null,null,"",null,null,null,null,null,null,null,null,null,null,null,null,null,null,null,null,null,null,null,null,null,null,null,null,null,null,"",null,null,null,null,null,null,null,null,null,null,null,null,null,null,null,null,null,"","",""]
[null,null,null,"",{"$f":"IF(F109=\"\",\"\",VLOOKUP(F109,戦績!$N$6:$O$38,2,FALSE))","v":""},null,null,null,null,null,null,null,null,null,null,null,null,null,null,null,null,null,null,null,null,null,null,null,"",null,null,null,null,null,null,null,null,null,null,null,null,null,null,null,null,null,null,null,null,null,null,null,null,null,null,"",null,null,null,null,null,null,null,null,null,null,null,null,null,null,null,null,null,"","",""]
[null,null,null,"",{"$f":"IF(F110=\"\",\"\",VLOOKUP(F110,戦績!$N$6:$O$38,2,FALSE))","v":""},null,null,null,null,null,null,null,null,null,null,null,null,null,null,null,null,null,null,null,null,null,null,null,"",null,null,null,null,null,null,null,null,null,null,null,null,null,null,null,null,null,null,null,null,null,null,null,null,null,null,"",null,null,null,null,null,null,null,null,null,null,null,null,null,null,null,null,null,"","",""]
[null,null,null,"",{"$f":"IF(F111=\"\",\"\",VLOOKUP(F111,戦績!$N$6:$O$38,2,FALSE))","v":""},null,null,null,null,null,null,null,null,null,null,null,null,null,null,null,null,null,null,null,null,null,null,null,"",null,null,null,null,null,null,null,null,null,null,null,null,null,null,null,null,null,null,null,null,null,null,null,null,null,null,"",null,null,null,null,null,null,null,null,null,null,null,null,null,null,null,null,null,"","",""]
[null,null,null,"",{"$f":"IF(F112=\"\",\"\",VLOOKUP(F112,戦績!$N$6:$O$38,2,FALSE))","v":""},null,null,null,null,null,null,null,null,null,null,null,null,null,null,null,null,null,null,null,null,null,null,null,"",null,null,null,null,null,null,null,null,null,null,null,null,null,null,null,null,null,null,null,null,null,null,null,null,null,null,"",null,null,null,null,null,null,null,null,null,null,null,null,null,null,null,null,null,"","",""]
[null,null,null,"",{"$f":"IF(F113=\"\",\"\",VLOOKUP(F113,戦績!$N$6:$O$38,2,FALSE))","v":""},null,null,null,null,null,null,null,null,null,null,null,null,null,null,null,null,null,null,null,null,null,null,null,"",null,null,null,null,null,null,null,null,null,null,null,null,null,null,null,null,null,null,null,null,null,null,null,null,null,null,"",null,null,null,null,null,null,null,null,null,null,null,null,null,null,null,null,null,"","",""]
[null,null,null,"",{"$f":"IF(F114=\"\",\"\",VLOOKUP(F114,戦績!$N$6:$O$38,2,FALSE))","v":""},null,null,null,null,null,null,null,null,null,null,null,null,null,null,null,null,null,null,null,null,null,null,null,"",null,null,null,null,null,null,null,null,null,null,null,null,null,null,null,null,null,null,null,null,null,null,null,null,null,null,"",null,null,null,null,null,null,null,null,null,null,null,null,null,null,null,null,null,"","",""]
[null,null,null,"",{"$f":"IF(F115=\"\",\"\",VLOOKUP(F115,戦績!$N$6:$O$38,2,FALSE))","v":""},null,null,null,null,null,null,null,null,null,null,null,null,null,null,null,null,null,null,null,null,null,null,null,"",null,null,null,null,null,null,null,null,null,null,null,null,null,null,null,null,null,null,null,null,null,null,null,null,null,null,"",null,null,null,null,null,null,null,null,null,null,null,null,null,null,null,null,null,"","",""]
[null,null,null,"",{"$f":"IF(F116=\"\",\"\",VLOOKUP(F116,戦績!$N$6:$O$38,2,FALSE))","v":""},null,null,null,null,null,null,null,null,null,null,null,null,null,null,null,null,null,null,null,null,null,null,null,"",null,null,null,null,null,null,null,null,null,null,null,null,null,null,null,null,null,null,null,null,null,null,null,null,null,null,"",null,null,null,null,null,null,null,null,null,null,null,null,null,null,null,null,null,"","",""]
[null,null,null,"",{"$f":"IF(F117=\"\",\"\",VLOOKUP(F117,戦績!$N$6:$O$38,2,FALSE))","v":""},null,null,null,null,null,null,null,null,null,null,null,null,null,null,null,null,null,null,null,null,null,null,null,"",null,null,null,null,null,null,null,null,null,null,null,null,null,null,null,null,null,null,null,null,null,null,null,null,null,null,"",null,null,null,null,null,null,null,null,null,null,null,null,null,null,null,null,null,"","",""]
[null,null,null,"",{"$f":"IF(F118=\"\",\"\",VLOOKUP(F118,戦績!$N$6:$O$38,2,FALSE))","v":""},null,null,null,null,null,null,null,null,null,null,null,null,null,null,null,null,null,null,null,null,null,null,null,"",null,null,null,null,null,null,null,null,null,null,null,null,null,null,null,null,null,null,null,null,null,null,null,null,null,null,"",null,null,null,null,null,null,null,null,null,null,null,null,null,null,null,null,null,"","",""]
[null,null,null,"",{"$f":"IF(F119=\"\",\"\",VLOOKUP(F119,戦績!$N$6:$O$38,2,FALSE))","v":""},null,null,null,null,null,null,null,null,null,null,null,null,null,null,null,null,null,null,null,null,null,null,null,"",null,null,null,null,null,null,null,null,null,null,null,null,null,null,null,null,null,null,null,null,null,null,null,null,null,null,"",null,null,null,null,null,null,null,null,null,null,null,null,null,null,null,null,null,"","",""]
[null,null,null,"",{"$f":"IF(F120=\"\",\"\",VLOOKUP(F120,戦績!$N$6:$O$38,2,FALSE))","v":""},null,null,null,null,null,null,null,null,null,null,null,null,null,null,null,null,null,null,null,null,null,null,null,"",null,null,null,null,null,null,null,null,null,null,null,null,null,null,null,null,null,null,null,null,null,null,null,null,null,null,"",null,null,null,null,null,null,null,null,null,null,null,null,null,null,null,null,null,"","",""]
[null,null,null,"",{"$f":"IF(F121=\"\",\"\",VLOOKUP(F121,戦績!$N$6:$O$38,2,FALSE))","v":""},null,null,null,null,null,null,null,null,null,null,null,null,null,null,null,null,null,null,null,null,null,null,null,"",null,null,null,null,null,null,null,null,null,null,null,null,null,null,null,null,null,null,null,null,null,null,null,null,null,null,"",null,null,null,null,null,null,null,null,null,null,null,null,null,null,null,null,null,"","",""]
[null,null,null,"",{"$f":"IF(F122=\"\",\"\",VLOOKUP(F122,戦績!$N$6:$O$38,2,FALSE))","v":""},null,null,null,null,null,null,null,null,null,null,null,null,null,null,null,null,null,null,null,null,null,null,null,"",null,null,null,null,null,null,null,null,null,null,null,null,null,null,null,null,null,null,null,null,null,null,null,null,null,null,"",null,null,null,null,null,null,null,null,null,null,null,null,null,null,null,null,null,"","",""]
[null,null,null,"",{"$f":"IF(F123=\"\",\"\",VLOOKUP(F123,戦績!$N$6:$O$38,2,FALSE))","v":""},null,null,null,null,null,null,null,null,null,null,null,null,null,null,null,null,null,null,null,null,null,null,null,"",null,null,null,null,null,null,null,null,null,null,null,null,null,null,null,null,null,null,null,null,null,null,null,null,null,null,"",null,null,null,null,null,null,null,null,null,null,null,null,null,null,null,null,null,"","",""]
[null,null,null,"",{"$f":"IF(F124=\"\",\"\",VLOOKUP(F124,戦績!$N$6:$O$38,2,FALSE))","v":""},null,null,null,null,null,null,null,null,null,null,null,null,null,null,null,null,null,null,null,null,null,null,null,"",null,null,null,null,null,null,null,null,null,null,null,null,null,null,null,null,null,null,null,null,null,null,null,null,null,null,"",null,null,null,null,null,null,null,null,null,null,null,null,null,null,null,null,null,"","",""]
[null,null,null,"",{"$f":"IF(F125=\"\",\"\",VLOOKUP(F125,戦績!$N$6:$O$38,2,FALSE))","v":""},null,null,null,null,null,null,null,null,null,null,null,null,null,null,null,null,null,null,null,null,null,null,null,"",null,null,null,null,null,null,null,null,null,null,null,null,null,null,null,null,null,null,null,null,null,null,null,null,null,null,"",null,null,null,null,null,null,null,null,null,null,null,null,null,null,null,null,null,"","",""]
[null,null,null,"",{"$f":"IF(F126=\"\",\"\",VLOOKUP(F126,戦績!$N$6:$O$38,2,FALSE))","v":""},null,null,null,null,null,null,null,null,null,null,null,null,null,null,null,null,null,null,null,null,null,null,null,"",null,null,null,null,null,null,null,null,null,null,null,null,null,null,null,null,null,null,null,null,null,null,null,null,null,null,"",null,null,null,null,null,null,null,null,null,null,null,null,null,null,null,null,null,"","",""]
[null,null,null,"",{"$f":"IF(F127=\"\",\"\",VLOOKUP(F127,戦績!$N$6:$O$38,2,FALSE))","v":""},null,null,null,null,null,null,null,null,null,null,null,null,null,null,null,null,null,null,null,null,null,null,null,"",null,null,null,null,null,null,null,null,null,null,null,null,null,null,null,null,null,null,null,null,null,null,null,null,null,null,"",null,null,null,null,null,null,null,null,null,null,null,null,null,null,null,null,null,"","",""]
[null,null,null,"",{"$f":"IF(F128=\"\",\"\",VLOOKUP(F128,戦績!$N$6:$O$38,2,FALSE))","v":""},null,null,null,null,null,null,null,null,null,null,null,null,null,null,null,null,null,null,null,null,null,null,null,"",null,null,null,null,null,null,null,null,null,null,null,null,null,null,null,null,null,null,null,null,null,null,null,null,null,null,"",null,null,null,null,null,null,null,null,null,null,null,null,null,null,null,null,null,"","",""]
[null,null,null,"",{"$f":"IF(F129=\"\",\"\",VLOOKUP(F129,戦績!$N$6:$O$38,2,FALSE))","v":""},null,null,null,null,null,null,null,null,null,null,null,null,null,null,null,null,null,null,null,null,null,null,null,"",null,null,null,null,null,null,null,null,null,null,null,null,null,null,null,null,null,null,null,null,null,null,null,null,null,null,"",null,null,null,null,null,null,null,null,null,null,null,null,null,null,null,null,null,"","",""]
[null,null,null,"",{"$f":"IF(F130=\"\",\"\",VLOOKUP(F130,戦績!$N$6:$O$38,2,FALSE))","v":""},null,null,null,null,null,null,null,null,null,null,null,null,null,null,null,null,null,null,null,null,null,null,null,"",null,null,null,null,null,null,null,null,null,null,null,null,null,null,null,null,null,null,null,null,null,null,null,null,null,null,"",null,null,null,null,null,null,null,null,null,null,null,null,null,null,null,null,null,"","",""]
[null,null,null,"",{"$f":"IF(F131=\"\",\"\",VLOOKUP(F131,戦績!$N$6:$O$38,2,FALSE))","v":""},null,null,null,null,null,null,null,null,null,null,null,null,null,null,null,null,null,null,null,null,null,null,null,"",null,null,null,null,null,null,null,null,null,null,null,null,null,null,null,null,null,null,null,null,null,null,null,null,null,null,"",null,null,null,null,null,null,null,null,null,null,null,null,null,null,null,null,null,"","",""]
[null,null,null,"",{"$f":"IF(F132=\"\",\"\",VLOOKUP(F132,戦績!$N$6:$O$38,2,FALSE))","v":""},null,null,null,null,null,null,null,null,null,null,null,null,null,null,null,null,null,null,null,null,null,null,null,"",null,null,null,null,null,null,null,null,null,null,null,null,null,null,null,null,null,null,null,null,null,null,null,null,null,null,"",null,null,null,null,null,null,null,null,null,null,null,null,null,null,null,null,null,"","",""]
[null,null,null,"",{"$f":"IF(F133=\"\",\"\",VLOOKUP(F133,戦績!$N$6:$O$38,2,FALSE))","v":""},null,null,null,null,null,null,null,null,null,null,null,null,null,null,null,null,null,null,null,null,null,null,null,"",null,null,null,null,null,null,null,null,null,null,null,null,null,null,null,null,null,null,null,null,null,null,null,null,null,null,"",null,null,null,null,null,null,null,null,null,null,null,null,null,null,null,null,null,"","",""]
[null,null,null,"",{"$f":"IF(F134=\"\",\"\",VLOOKUP(F134,戦績!$N$6:$O$38,2,FALSE))","v":""},null,null,null,null,null,null,null,null,null,null,null,null,null,null,null,null,null,null,null,null,null,null,null,"",null,null,null,null,null,null,null,null,null,null,null,null,null,null,null,null,null,null,null,null,null,null,null,null,null,null,"",null,null,null,null,null,null,null,null,null,null,null,null,null,null,null,null,null,"","",""]
[null,null,null,{"$f":"IF(E135=\"\",\"\",AB135)","v":""},{"$f":"IF(F135=\"\",\"\",VLOOKUP(F135,戦績!$N$6:$O$38,2,FALSE))","v":""},null,null,null,null,null,null,null,null,null,null,null,null,null,null,null,null,null,null,null,null,null,null,null,{"$f":"IF(G135=\"\",\"\",(L135*1+M135*2+N135*3+O135*4))","v":""},null,null,null,null,null,null,null,null,null,null,null,null,null,null,null,null,null,null,null,null,null,null,null,null,null,null,{"$f":"IF(AH135=\"\",\"\",(AN135*1+AO135*2+AP135*3+AQ135*4))","v":""},null,null,null,null,null,null,null,null,null,null,null,null,null,null,null,null,null,{"$f":"IF(BI135=\"\",\"\",(BK135+BL135+BM135))","v":""},{"$f":"IF(BI135=\"\",\"\",(BN135+BO135+BP135))","v":""},{"$f":"IF(BI135=\"\",\"\",(BQ135+BR135+BS135))","v":""}]
[null,null,null,"",{"$f":"IF(F136=\"\",\"\",VLOOKUP(F136,戦績!$N$6:$O$38,2,FALSE))","v":""},null,null,null,null,null,null,null,null,null,null,null,null,null,null,null,null,null,null,null,null,null,null,null,"",null,null,null,null,null,null,null,null,null,null,null,null,null,null,null,null,null,null,null,null,null,null,null,null,null,null,"",null,null,null,null,null,null,null,null,null,null,null,null,null,null,null,null,null,"","",""]
[null,null,null,"",{"$f":"IF(F137=\"\",\"\",VLOOKUP(F137,戦績!$N$6:$O$38,2,FALSE))","v":""},null,null,null,null,null,null,null,null,null,null,null,null,null,null,null,null,null,null,null,null,null,null,null,"",null,null,null,null,null,null,null,null,null,null,null,null,null,null,null,null,null,null,null,null,null,null,null,null,null,null,"",null,null,null,null,null,null,null,null,null,null,null,null,null,null,null,null,null,"","",""]
[null,null,null,"",{"$f":"IF(F138=\"\",\"\",VLOOKUP(F138,戦績!$N$6:$O$38,2,FALSE))","v":""},null,null,null,null,null,null,null,null,null,null,null,null,null,null,null,null,null,null,null,null,null,null,null,"",null,null,null,null,null,null,null,null,null,null,null,null,null,null,null,null,null,null,null,null,null,null,null,null,null,null,"",null,null,null,null,null,null,null,null,null,null,null,null,null,null,null,null,null,"","",""]
[null,null,null,"",{"$f":"IF(F139=\"\",\"\",VLOOKUP(F139,戦績!$N$6:$O$38,2,FALSE))","v":""},null,null,null,null,null,null,null,null,null,null,null,null,null,null,null,null,null,null,null,null,null,null,null,"",null,null,null,null,null,null,null,null,null,null,null,null,null,null,null,null,null,null,null,null,null,null,null,null,null,null,"",null,null,null,null,null,null,null,null,null,null,null,null,null,null,null,null,null,"","",""]
[null,null,null,"",{"$f":"IF(F140=\"\",\"\",VLOOKUP(F140,戦績!$N$6:$O$38,2,FALSE))","v":""},null,null,null,null,null,null,null,null,null,null,null,null,null,null,null,null,null,null,null,null,null,null,null,"",null,null,null,null,null,null,null,null,null,null,null,null,null,null,null,null,null,null,null,null,null,null,null,null,null,null,"",null,null,null,null,null,null,null,null,null,null,null,null,null,null,null,null,null,"","",""]
[null,null,null,"",{"$f":"IF(F141=\"\",\"\",VLOOKUP(F141,戦績!$N$6:$O$38,2,FALSE))","v":""},null,null,null,null,null,null,null,null,null,null,null,null,null,null,null,null,null,null,null,null,null,null,null,"",null,null,null,null,null,null,null,null,null,null,null,null,null,null,null,null,null,null,null,null,null,null,null,null,null,null,"",null,null,null,null,null,null,null,null,null,null,null,null,null,null,null,null,null,"","",""]
[null,null,null,"",{"$f":"IF(F142=\"\",\"\",VLOOKUP(F142,戦績!$N$6:$O$38,2,FALSE))","v":""},null,null,null,null,null,null,null,null,null,null,null,null,null,null,null,null,null,null,null,null,null,null,null,"",null,null,null,null,null,null,null,null,null,null,null,null,null,null,null,null,null,null,null,null,null,null,null,null,null,null,"",null,null,null,null,null,null,null,null,null,null,null,null,null,null,null,null,null,"","",""]
[null,null,null,"",{"$f":"IF(F143=\"\",\"\",VLOOKUP(F143,戦績!$N$6:$O$38,2,FALSE))","v":""},null,null,null,null,null,null,null,null,null,null,null,null,null,null,null,null,null,null,null,null,null,null,null,"",null,null,null,null,null,null,null,null,null,null,null,null,null,null,null,null,null,null,null,null,null,null,null,null,null,null,"",null,null,null,null,null,null,null,null,null,null,null,null,null,null,null,null,null,"","",""]
[null,null,null,"",{"$f":"IF(F144=\"\",\"\",VLOOKUP(F144,戦績!$N$6:$O$38,2,FALSE))","v":""},null,null,null,null,null,null,null,null,null,null,null,null,null,null,null,null,null,null,null,null,null,null,null,"",null,null,null,null,null,null,null,null,null,null,null,null,null,null,null,null,null,null,null,null,null,null,null,null,null,null,"",null,null,null,null,null,null,null,null,null,null,null,null,null,null,null,null,null,"","",""]
[null,null,null,"",{"$f":"IF(F145=\"\",\"\",VLOOKUP(F145,戦績!$N$6:$O$38,2,FALSE))","v":""},null,null,null,null,null,null,null,null,null,null,null,null,null,null,null,null,null,null,null,null,null,null,null,"",null,null,null,null,null,null,null,null,null,null,null,null,null,null,null,null,null,null,null,null,null,null,null,null,null,null,"",null,null,null,null,null,null,null,null,null,null,null,null,null,null,null,null,null,"","",""]
[null,null,null,"",{"$f":"IF(F146=\"\",\"\",VLOOKUP(F146,戦績!$N$6:$O$38,2,FALSE))","v":""},null,null,null,null,null,null,null,null,null,null,null,null,null,null,null,null,null,null,null,null,null,null,null,"",null,null,null,null,null,null,null,null,null,null,null,null,null,null,null,null,null,null,null,null,null,null,null,null,null,null,"",null,null,null,null,null,null,null,null,null,null,null,null,null,null,null,null,null,"","",""]
[null,null,null,"",{"$f":"IF(F147=\"\",\"\",VLOOKUP(F147,戦績!$N$6:$O$38,2,FALSE))","v":""},null,null,null,null,null,null,null,null,null,null,null,null,null,null,null,null,null,null,null,null,null,null,null,"",null,null,null,null,null,null,null,null,null,null,null,null,null,null,null,null,null,null,null,null,null,null,null,null,null,null,"",null,null,null,null,null,null,null,null,null,null,null,null,null,null,null,null,null,"","",""]
[null,null,null,"",{"$f":"IF(F148=\"\",\"\",VLOOKUP(F148,戦績!$N$6:$O$38,2,FALSE))","v":""},null,null,null,null,null,null,null,null,null,null,null,null,null,null,null,null,null,null,null,null,null,null,null,"",null,null,null,null,null,null,null,null,null,null,null,null,null,null,null,null,null,null,null,null,null,null,null,null,null,null,"",null,null,null,null,null,null,null,null,null,null,null,null,null,null,null,null,null,"","",""]
[null,null,null,"",{"$f":"IF(F149=\"\",\"\",VLOOKUP(F149,戦績!$N$6:$O$38,2,FALSE))","v":""},null,null,null,null,null,null,null,null,null,null,null,null,null,null,null,null,null,null,null,null,null,null,null,"",null,null,null,null,null,null,null,null,null,null,null,null,null,null,null,null,null,null,null,null,null,null,null,null,null,null,"",null,null,null,null,null,null,null,null,null,null,null,null,null,null,null,null,null,"","",""]
[null,null,null,"",{"$f":"IF(F150=\"\",\"\",VLOOKUP(F150,戦績!$N$6:$O$38,2,FALSE))","v":""},null,null,null,null,null,null,null,null,null,null,null,null,null,null,null,null,null,null,null,null,null,null,null,"",null,null,null,null,null,null,null,null,null,null,null,null,null,null,null,null,null,null,null,null,null,null,null,null,null,null,"",null,null,null,null,null,null,null,null,null,null,null,null,null,null,null,null,null,"","",""]
[null,null,null,"",{"$f":"IF(F151=\"\",\"\",VLOOKUP(F151,戦績!$N$6:$O$38,2,FALSE))","v":""},null,null,null,null,null,null,null,null,null,null,null,null,null,null,null,null,null,null,null,null,null,null,null,"",null,null,null,null,null,null,null,null,null,null,null,null,null,null,null,null,null,null,null,null,null,null,null,null,null,null,"",null,null,null,null,null,null,null,null,null,null,null,null,null,null,null,null,null,"","",""]
[null,null,null,"",{"$f":"IF(F152=\"\",\"\",VLOOKUP(F152,戦績!$N$6:$O$38,2,FALSE))","v":""},null,null,null,null,null,null,null,null,null,null,null,null,null,null,null,null,null,null,null,null,null,null,null,"",null,null,null,null,null,null,null,null,null,null,null,null,null,null,null,null,null,null,null,null,null,null,null,null,null,null,"",null,null,null,null,null,null,null,null,null,null,null,null,null,null,null,null,null,"","",""]
[null,null,null,"",{"$f":"IF(F153=\"\",\"\",VLOOKUP(F153,戦績!$N$6:$O$38,2,FALSE))","v":""},null,null,null,null,null,null,null,null,null,null,null,null,null,null,null,null,null,null,null,null,null,null,null,"",null,null,null,null,null,null,null,null,null,null,null,null,null,null,null,null,null,null,null,null,null,null,null,null,null,null,"",null,null,null,null,null,null,null,null,null,null,null,null,null,null,null,null,null,"","",""]
[null,null,null,"",{"$f":"IF(F154=\"\",\"\",VLOOKUP(F154,戦績!$N$6:$O$38,2,FALSE))","v":""},null,null,null,null,null,null,null,null,null,null,null,null,null,null,null,null,null,null,null,null,null,null,null,"",null,null,null,null,null,null,null,null,null,null,null,null,null,null,null,null,null,null,null,null,null,null,null,null,null,null,"",null,null,null,null,null,null,null,null,null,null,null,null,null,null,null,null,null,"","",""]
[null,null,null,"",{"$f":"IF(F155=\"\",\"\",VLOOKUP(F155,戦績!$N$6:$O$38,2,FALSE))","v":""},null,null,null,null,null,null,null,null,null,null,null,null,null,null,null,null,null,null,null,null,null,null,null,"",null,null,null,null,null,null,null,null,null,null,null,null,null,null,null,null,null,null,null,null,null,null,null,null,null,null,"",null,null,null,null,null,null,null,null,null,null,null,null,null,null,null,null,null,"","",""]
[null,null,null,"",{"$f":"IF(F156=\"\",\"\",VLOOKUP(F156,戦績!$N$6:$O$38,2,FALSE))","v":""},null,null,null,null,null,null,null,null,null,null,null,null,null,null,null,null,null,null,null,null,null,null,null,"",null,null,null,null,null,null,null,null,null,null,null,null,null,null,null,null,null,null,null,null,null,null,null,null,null,null,"",null,null,null,null,null,null,null,null,null,null,null,null,null,null,null,null,null,"","",""]
[null,null,null,"",{"$f":"IF(F157=\"\",\"\",VLOOKUP(F157,戦績!$N$6:$O$38,2,FALSE))","v":""},null,null,null,null,null,null,null,null,null,null,null,null,null,null,null,null,null,null,null,null,null,null,null,"",null,null,null,null,null,null,null,null,null,null,null,null,null,null,null,null,null,null,null,null,null,null,null,null,null,null,"",null,null,null,null,null,null,null,null,null,null,null,null,null,null,null,null,null,"","",""]
[null,null,null,"",{"$f":"IF(F158=\"\",\"\",VLOOKUP(F158,戦績!$N$6:$O$38,2,FALSE))","v":""},null,null,null,null,null,null,null,null,null,null,null,null,null,null,null,null,null,null,null,null,null,null,null,"",null,null,null,null,null,null,null,null,null,null,null,null,null,null,null,null,null,null,null,null,null,null,null,null,null,null,"",null,null,null,null,null,null,null,null,null,null,null,null,null,null,null,null,null,"","",""]
[null,null,null,"",{"$f":"IF(F159=\"\",\"\",VLOOKUP(F159,戦績!$N$6:$O$38,2,FALSE))","v":""},null,null,null,null,null,null,null,null,null,null,null,null,null,null,null,null,null,null,null,null,null,null,null,"",null,null,null,null,null,null,null,null,null,null,null,null,null,null,null,null,null,null,null,null,null,null,null,null,null,null,"",null,null,null,null,null,null,null,null,null,null,null,null,null,null,null,null,null,"","",""]
[null,null,null,"",{"$f":"IF(F160=\"\",\"\",VLOOKUP(F160,戦績!$N$6:$O$38,2,FALSE))","v":""},null,null,null,null,null,null,null,null,null,null,null,null,null,null,null,null,null,null,null,null,null,null,null,"",null,null,null,null,null,null,null,null,null,null,null,null,null,null,null,null,null,null,null,null,null,null,null,null,null,null,"",null,null,null,null,null,null,null,null,null,null,null,null,null,null,null,null,null,"","",""]
[null,null,null,"",{"$f":"IF(F161=\"\",\"\",VLOOKUP(F161,戦績!$N$6:$O$38,2,FALSE))","v":""},null,null,null,null,null,null,null,null,null,null,null,null,null,null,null,null,null,null,null,null,null,null,null,"",null,null,null,null,null,null,null,null,null,null,null,null,null,null,null,null,null,null,null,null,null,null,null,null,null,null,"",null,null,null,null,null,null,null,null,null,null,null,null,null,null,null,null,null,"","",""]
[null,null,null,"",{"$f":"IF(F162=\"\",\"\",VLOOKUP(F162,戦績!$N$6:$O$38,2,FALSE))","v":""},null,null,null,null,null,null,null,null,null,null,null,null,null,null,null,null,null,null,null,null,null,null,null,"",null,null,null,null,null,null,null,null,null,null,null,null,null,null,null,null,null,null,null,null,null,null,null,null,null,null,"",null,null,null,null,null,null,null,null,null,null,null,null,null,null,null,null,null,"","",""]
[null,null,null,"",{"$f":"IF(F163=\"\",\"\",VLOOKUP(F163,戦績!$N$6:$O$38,2,FALSE))","v":""},null,null,null,null,null,null,null,null,null,null,null,null,null,null,null,null,null,null,null,null,null,null,null,"",null,null,null,null,null,null,null,null,null,null,null,null,null,null,null,null,null,null,null,null,null,null,null,null,null,null,"",null,null,null,null,null,null,null,null,null,null,null,null,null,null,null,null,null,"","",""]
[null,null,null,"",{"$f":"IF(F164=\"\",\"\",VLOOKUP(F164,戦績!$N$6:$O$38,2,FALSE))","v":""},null,null,null,null,null,null,null,null,null,null,null,null,null,null,null,null,null,null,null,null,null,null,null,"",null,null,null,null,null,null,null,null,null,null,null,null,null,null,null,null,null,null,null,null,null,null,null,null,null,null,"",null,null,null,null,null,null,null,null,null,null,null,null,null,null,null,null,null,"","",""]
[null,null,null,"",{"$f":"IF(F165=\"\",\"\",VLOOKUP(F165,戦績!$N$6:$O$38,2,FALSE))","v":""},null,null,null,null,null,null,null,null,null,null,null,null,null,null,null,null,null,null,null,null,null,null,null,"",null,null,null,null,null,null,null,null,null,null,null,null,null,null,null,null,null,null,null,null,null,null,null,null,null,null,"",null,null,null,null,null,null,null,null,null,null,null,null,null,null,null,null,null,"","",""]
[null,null,null,"",{"$f":"IF(F166=\"\",\"\",VLOOKUP(F166,戦績!$N$6:$O$38,2,FALSE))","v":""},null,null,null,null,null,null,null,null,null,null,null,null,null,null,null,null,null,null,null,null,null,null,null,"",null,null,null,null,null,null,null,null,null,null,null,null,null,null,null,null,null,null,null,null,null,null,null,null,null,null,"",null,null,null,null,null,null,null,null,null,null,null,null,null,null,null,null,null,"","",""]
[null,null,null,"",{"$f":"IF(F167=\"\",\"\",VLOOKUP(F167,戦績!$N$6:$O$38,2,FALSE))","v":""},null,null,null,null,null,null,null,null,null,null,null,null,null,null,null,null,null,null,null,null,null,null,null,"",null,null,null,null,null,null,null,null,null,null,null,null,null,null,null,null,null,null,null,null,null,null,null,null,null,null,"",null,null,null,null,null,null,null,null,null,null,null,null,null,null,null,null,null,"","",""]
[null,null,null,"",{"$f":"IF(F168=\"\",\"\",VLOOKUP(F168,戦績!$N$6:$O$38,2,FALSE))","v":""},null,null,null,null,null,null,null,null,null,null,null,null,null,null,null,null,null,null,null,null,null,null,null,"",null,null,null,null,null,null,null,null,null,null,null,null,null,null,null,null,null,null,null,null,null,null,null,null,null,null,"",null,null,null,null,null,null,null,null,null,null,null,null,null,null,null,null,null,"","",""]
[null,null,null,"",{"$f":"IF(F169=\"\",\"\",VLOOKUP(F169,戦績!$N$6:$O$38,2,FALSE))","v":""},null,null,null,null,null,null,null,null,null,null,null,null,null,null,null,null,null,null,null,null,null,null,null,"",null,null,null,null,null,null,null,null,null,null,null,null,null,null,null,null,null,null,null,null,null,null,null,null,null,null,"",null,null,null,null,null,null,null,null,null,null,null,null,null,null,null,null,null,"","",""]
[null,null,null,"",{"$f":"IF(F170=\"\",\"\",VLOOKUP(F170,戦績!$N$6:$O$38,2,FALSE))","v":""},null,null,null,null,null,null,null,null,null,null,null,null,null,null,null,null,null,null,null,null,null,null,null,"",null,null,null,null,null,null,null,null,null,null,null,null,null,null,null,null,null,null,null,null,null,null,null,null,null,null,"",null,null,null,null,null,null,null,null,null,null,null,null,null,null,null,null,null,"","",""]
[null,null,null,"",{"$f":"IF(F171=\"\",\"\",VLOOKUP(F171,戦績!$N$6:$O$38,2,FALSE))","v":""},null,null,null,null,null,null,null,null,null,null,null,null,null,null,null,null,null,null,null,null,null,null,null,"",null,null,null,null,null,null,null,null,null,null,null,null,null,null,null,null,null,null,null,null,null,null,null,null,null,null,"",null,null,null,null,null,null,null,null,null,null,null,null,null,null,null,null,null,"","",""]
[null,null,null,"",{"$f":"IF(F172=\"\",\"\",VLOOKUP(F172,戦績!$N$6:$O$38,2,FALSE))","v":""},null,null,null,null,null,null,null,null,null,null,null,null,null,null,null,null,null,null,null,null,null,null,null,"",null,null,null,null,null,null,null,null,null,null,null,null,null,null,null,null,null,null,null,null,null,null,null,null,null,null,"",null,null,null,null,null,null,null,null,null,null,null,null,null,null,null,null,null,"","",""]
[null,null,null,"",{"$f":"IF(F173=\"\",\"\",VLOOKUP(F173,戦績!$N$6:$O$38,2,FALSE))","v":""},null,null,null,null,null,null,null,null,null,null,null,null,null,null,null,null,null,null,null,null,null,null,null,"",null,null,null,null,null,null,null,null,null,null,null,null,null,null,null,null,null,null,null,null,null,null,null,null,null,null,"",null,null,null,null,null,null,null,null,null,null,null,null,null,null,null,null,null,"","",""]
[null,null,null,"",{"$f":"IF(F174=\"\",\"\",VLOOKUP(F174,戦績!$N$6:$O$38,2,FALSE))","v":""},null,null,null,null,null,null,null,null,null,null,null,null,null,null,null,null,null,null,null,null,null,null,null,"",null,null,null,null,null,null,null,null,null,null,null,null,null,null,null,null,null,null,null,null,null,null,null,null,null,null,"",null,null,null,null,null,null,null,null,null,null,null,null,null,null,null,null,null,"","",""]
[null,null,null,"",{"$f":"IF(F175=\"\",\"\",VLOOKUP(F175,戦績!$N$6:$O$38,2,FALSE))","v":""},null,null,null,null,null,null,null,null,null,null,null,null,null,null,null,null,null,null,null,null,null,null,null,"",null,null,null,null,null,null,null,null,null,null,null,null,null,null,null,null,null,null,null,null,null,null,null,null,null,null,"",null,null,null,null,null,null,null,null,null,null,null,null,null,null,null,null,null,"","",""]
[null,null,null,"",{"$f":"IF(F176=\"\",\"\",VLOOKUP(F176,戦績!$N$6:$O$38,2,FALSE))","v":""},null,null,null,null,null,null,null,null,null,null,null,null,null,null,null,null,null,null,null,null,null,null,null,"",null,null,null,null,null,null,null,null,null,null,null,null,null,null,null,null,null,null,null,null,null,null,null,null,null,null,"",null,null,null,null,null,null,null,null,null,null,null,null,null,null,null,null,null,"","",""]
[null,null,null,"",{"$f":"IF(F177=\"\",\"\",VLOOKUP(F177,戦績!$N$6:$O$38,2,FALSE))","v":""},null,null,null,null,null,null,null,null,null,null,null,null,null,null,null,null,null,null,null,null,null,null,null,"",null,null,null,null,null,null,null,null,null,null,null,null,null,null,null,null,null,null,null,null,null,null,null,null,null,null,"",null,null,null,null,null,null,null,null,null,null,null,null,null,null,null,null,null,"","",""]
[null,null,null,"",{"$f":"IF(F178=\"\",\"\",VLOOKUP(F178,戦績!$N$6:$O$38,2,FALSE))","v":""},null,null,null,null,null,null,null,null,null,null,null,null,null,null,null,null,null,null,null,null,null,null,null,"",null,null,null,null,null,null,null,null,null,null,null,null,null,null,null,null,null,null,null,null,null,null,null,null,null,null,"",null,null,null,null,null,null,null,null,null,null,null,null,null,null,null,null,null,"","",""]
[null,null,null,"",{"$f":"IF(F179=\"\",\"\",VLOOKUP(F179,戦績!$N$6:$O$38,2,FALSE))","v":""},null,null,null,null,null,null,null,null,null,null,null,null,null,null,null,null,null,null,null,null,null,null,null,"",null,null,null,null,null,null,null,null,null,null,null,null,null,null,null,null,null,null,null,null,null,null,null,null,null,null,"",null,null,null,null,null,null,null,null,null,null,null,null,null,null,null,null,null,"","",""]
[null,null,null,"",{"$f":"IF(F180=\"\",\"\",VLOOKUP(F180,戦績!$N$6:$O$38,2,FALSE))","v":""},null,null,null,null,null,null,null,null,null,null,null,null,null,null,null,null,null,null,null,null,null,null,null,"",null,null,null,null,null,null,null,null,null,null,null,null,null,null,null,null,null,null,null,null,null,null,null,null,null,null,"",null,null,null,null,null,null,null,null,null,null,null,null,null,null,null,null,null,"","",""]
[null,null,null,"",{"$f":"IF(F181=\"\",\"\",VLOOKUP(F181,戦績!$N$6:$O$38,2,FALSE))","v":""},null,null,null,null,null,null,null,null,null,null,null,null,null,null,null,null,null,null,null,null,null,null,null,"",null,null,null,null,null,null,null,null,null,null,null,null,null,null,null,null,null,null,null,null,null,null,null,null,null,null,"",null,null,null,null,null,null,null,null,null,null,null,null,null,null,null,null,null,"","",""]
[null,null,null,"",{"$f":"IF(F182=\"\",\"\",VLOOKUP(F182,戦績!$N$6:$O$38,2,FALSE))","v":""},null,null,null,null,null,null,null,null,null,null,null,null,null,null,null,null,null,null,null,null,null,null,null,"",null,null,null,null,null,null,null,null,null,null,null,null,null,null,null,null,null,null,null,null,null,null,null,null,null,null,"",null,null,null,null,null,null,null,null,null,null,null,null,null,null,null,null,null,"","",""]
[null,null,null,"",{"$f":"IF(F183=\"\",\"\",VLOOKUP(F183,戦績!$N$6:$O$38,2,FALSE))","v":""},null,null,null,null,null,null,null,null,null,null,null,null,null,null,null,null,null,null,null,null,null,null,null,"",null,null,null,null,null,null,null,null,null,null,null,null,null,null,null,null,null,null,null,null,null,null,null,null,null,null,"",null,null,null,null,null,null,null,null,null,null,null,null,null,null,null,null,null,"","",""]
[null,null,null,"",{"$f":"IF(F184=\"\",\"\",VLOOKUP(F184,戦績!$N$6:$O$38,2,FALSE))","v":""},null,null,null,null,null,null,null,null,null,null,null,null,null,null,null,null,null,null,null,null,null,null,null,"",null,null,null,null,null,null,null,null,null,null,null,null,null,null,null,null,null,null,null,null,null,null,null,null,null,null,"",null,null,null,null,null,null,null,null,null,null,null,null,null,null,null,null,null,"","",""]
[null,null,null,"",{"$f":"IF(F185=\"\",\"\",VLOOKUP(F185,戦績!$N$6:$O$38,2,FALSE))","v":""},null,null,null,null,null,null,null,null,null,null,null,null,null,null,null,null,null,null,null,null,null,null,null,"",null,null,null,null,null,null,null,null,null,null,null,null,null,null,null,null,null,null,null,null,null,null,null,null,null,null,"",null,null,null,null,null,null,null,null,null,null,null,null,null,null,null,null,null,"","",""]
[null,null,null,"",{"$f":"IF(F186=\"\",\"\",VLOOKUP(F186,戦績!$N$6:$O$38,2,FALSE))","v":""},null,null,null,null,null,null,null,null,null,null,null,null,null,null,null,null,null,null,null,null,null,null,null,"",null,null,null,null,null,null,null,null,null,null,null,null,null,null,null,null,null,null,null,null,null,null,null,null,null,null,"",null,null,null,null,null,null,null,null,null,null,null,null,null,null,null,null,null,"","",""]
[null,null,null,"",{"$f":"IF(F187=\"\",\"\",VLOOKUP(F187,戦績!$N$6:$O$38,2,FALSE))","v":""},null,null,null,null,null,null,null,null,null,null,null,null,null,null,null,null,null,null,null,null,null,null,null,"",null,null,null,null,null,null,null,null,null,null,null,null,null,null,null,null,null,null,null,null,null,null,null,null,null,null,"",null,null,null,null,null,null,null,null,null,null,null,null,null,null,null,null,null,"","",""]
[null,null,null,"",{"$f":"IF(F188=\"\",\"\",VLOOKUP(F188,戦績!$N$6:$O$38,2,FALSE))","v":""},null,null,null,null,null,null,null,null,null,null,null,null,null,null,null,null,null,null,null,null,null,null,null,"",null,null,null,null,null,null,null,null,null,null,null,null,null,null,null,null,null,null,null,null,null,null,null,null,null,null,"",null,null,null,null,null,null,null,null,null,null,null,null,null,null,null,null,null,"","",""]
[null,null,null,"",{"$f":"IF(F189=\"\",\"\",VLOOKUP(F189,戦績!$N$6:$O$38,2,FALSE))","v":""},null,null,null,null,null,null,null,null,null,null,null,null,null,null,null,null,null,null,null,null,null,null,null,"",null,null,null,null,null,null,null,null,null,null,null,null,null,null,null,null,null,null,null,null,null,null,null,null,null,null,"",null,null,null,null,null,null,null,null,null,null,null,null,null,null,null,null,null,"","",""]
[null,null,null,"",{"$f":"IF(F190=\"\",\"\",VLOOKUP(F190,戦績!$N$6:$O$38,2,FALSE))","v":""},null,null,null,null,null,null,null,null,null,null,null,null,null,null,null,null,null,null,null,null,null,null,null,"",null,null,null,null,null,null,null,null,null,null,null,null,null,null,null,null,null,null,null,null,null,null,null,null,null,null,"",null,null,null,null,null,null,null,null,null,null,null,null,null,null,null,null,null,"","",""]
[null,null,null,"",{"$f":"IF(F191=\"\",\"\",VLOOKUP(F191,戦績!$N$6:$O$38,2,FALSE))","v":""},null,null,null,null,null,null,null,null,null,null,null,null,null,null,null,null,null,null,null,null,null,null,null,"",null,null,null,null,null,null,null,null,null,null,null,null,null,null,null,null,null,null,null,null,null,null,null,null,null,null,"",null,null,null,null,null,null,null,null,null,null,null,null,null,null,null,null,null,"","",""]
[null,null,null,"",{"$f":"IF(F192=\"\",\"\",VLOOKUP(F192,戦績!$N$6:$O$38,2,FALSE))","v":""},null,null,null,null,null,null,null,null,null,null,null,null,null,null,null,null,null,null,null,null,null,null,null,"",null,null,null,null,null,null,null,null,null,null,null,null,null,null,null,null,null,null,null,null,null,null,null,null,null,null,"",null,null,null,null,null,null,null,null,null,null,null,null,null,null,null,null,null,"","",""]
[null,null,null,"",{"$f":"IF(F193=\"\",\"\",VLOOKUP(F193,戦績!$N$6:$O$38,2,FALSE))","v":""},null,null,null,null,null,null,null,null,null,null,null,null,null,null,null,null,null,null,null,null,null,null,null,"",null,null,null,null,null,null,null,null,null,null,null,null,null,null,null,null,null,null,null,null,null,null,null,null,null,null,"",null,null,null,null,null,null,null,null,null,null,null,null,null,null,null,null,null,"","",""]
[null,null,null,"",{"$f":"IF(F194=\"\",\"\",VLOOKUP(F194,戦績!$N$6:$O$38,2,FALSE))","v":""},null,null,null,null,null,null,null,null,null,null,null,null,null,null,null,null,null,null,null,null,null,null,null,"",null,null,null,null,null,null,null,null,null,null,null,null,null,null,null,null,null,null,null,null,null,null,null,null,null,null,"",null,null,null,null,null,null,null,null,null,null,null,null,null,null,null,null,null,"","",""]
[null,null,null,"",{"$f":"IF(F195=\"\",\"\",VLOOKUP(F195,戦績!$N$6:$O$38,2,FALSE))","v":""},null,null,null,null,null,null,null,null,null,null,null,null,null,null,null,null,null,null,null,null,null,null,null,"",null,null,null,null,null,null,null,null,null,null,null,null,null,null,null,null,null,null,null,null,null,null,null,null,null,null,"",null,null,null,null,null,null,null,null,null,null,null,null,null,null,null,null,null,"","",""]
[null,null,null,"",{"$f":"IF(F196=\"\",\"\",VLOOKUP(F196,戦績!$N$6:$O$38,2,FALSE))","v":""},null,null,null,null,null,null,null,null,null,null,null,null,null,null,null,null,null,null,null,null,null,null,null,"",null,null,null,null,null,null,null,null,null,null,null,null,null,null,null,null,null,null,null,null,null,null,null,null,null,null,"",null,null,null,null,null,null,null,null,null,null,null,null,null,null,null,null,null,"","",""]
[null,null,null,"",{"$f":"IF(F197=\"\",\"\",VLOOKUP(F197,戦績!$N$6:$O$38,2,FALSE))","v":""},null,null,null,null,null,null,null,null,null,null,null,null,null,null,null,null,null,null,null,null,null,null,null,"",null,null,null,null,null,null,null,null,null,null,null,null,null,null,null,null,null,null,null,null,null,null,null,null,null,null,"",null,null,null,null,null,null,null,null,null,null,null,null,null,null,null,null,null,"","",""]
[null,null,null,"",{"$f":"IF(F198=\"\",\"\",VLOOKUP(F198,戦績!$N$6:$O$38,2,FALSE))","v":""},null,null,null,null,null,null,null,null,null,null,null,null,null,null,null,null,null,null,null,null,null,null,null,"",null,null,null,null,null,null,null,null,null,null,null,null,null,null,null,null,null,null,null,null,null,null,null,null,null,null,"",null,null,null,null,null,null,null,null,null,null,null,null,null,null,null,null,null,"","",""]
[null,null,null,{"$f":"IF(E199=\"\",\"\",AB199)","v":""},{"$f":"IF(F199=\"\",\"\",VLOOKUP(F199,戦績!$N$6:$O$38,2,FALSE))","v":""},null,null,null,null,null,null,null,null,null,null,null,null,null,null,null,null,null,null,null,null,null,null,null,{"$f":"IF(G199=\"\",\"\",(L199*1+M199*2+N199*3+O199*4))","v":""},null,null,null,null,null,null,null,null,null,null,null,null,null,null,null,null,null,null,null,null,null,null,null,null,null,null,{"$f":"IF(AH199=\"\",\"\",(AN199*1+AO199*2+AP199*3+AQ199*4))","v":""},null,null,null,null,null,null,null,null,null,null,null,null,null,null,null,null,null,{"$f":"IF(BI199=\"\",\"\",(BK199+BL199+BM199))","v":""},{"$f":"IF(BI199=\"\",\"\",(BN199+BO199+BP199))","v":""},{"$f":"IF(BI199=\"\",\"\",(BQ199+BR199+BS199))","v":""}]
[null,null,null,"",{"$f":"IF(F200=\"\",\"\",VLOOKUP(F200,戦績!$N$6:$O$38,2,FALSE))","v":""},null,null,null,null,null,null,null,null,null,null,null,null,null,null,null,null,null,null,null,null,null,null,null,"",null,null,null,null,null,null,null,null,null,null,null,null,null,null,null,null,null,null,null,null,null,null,null,null,null,null,"",null,null,null,null,null,null,null,null,null,null,null,null,null,null,null,null,null,"","",""]
[null,null,null,"",{"$f":"IF(F201=\"\",\"\",VLOOKUP(F201,戦績!$N$6:$O$38,2,FALSE))","v":""},null,null,null,null,null,null,null,null,null,null,null,null,null,null,null,null,null,null,null,null,null,null,null,"",null,null,null,null,null,null,null,null,null,null,null,null,null,null,null,null,null,null,null,null,null,null,null,null,null,null,"",null,null,null,null,null,null,null,null,null,null,null,null,null,null,null,null,null,"","",""]
[null,null,null,"",{"$f":"IF(F202=\"\",\"\",VLOOKUP(F202,戦績!$N$6:$O$38,2,FALSE))","v":""},null,null,null,null,null,null,null,null,null,null,null,null,null,null,null,null,null,null,null,null,null,null,null,"",null,null,null,null,null,null,null,null,null,null,null,null,null,null,null,null,null,null,null,null,null,null,null,null,null,null,"",null,null,null,null,null,null,null,null,null,null,null,null,null,null,null,null,null,"","",""]
[null,null,null,"",{"$f":"IF(F203=\"\",\"\",VLOOKUP(F203,戦績!$N$6:$O$38,2,FALSE))","v":""},null,null,null,null,null,null,null,null,null,null,null,null,null,null,null,null,null,null,null,null,null,null,null,"",null,null,null,null,null,null,null,null,null,null,null,null,null,null,null,null,null,null,null,null,null,null,null,null,null,null,"",null,null,null,null,null,null,null,null,null,null,null,null,null,null,null,null,null,"","",""]
[null,null,null,"",{"$f":"IF(F204=\"\",\"\",VLOOKUP(F204,戦績!$N$6:$O$38,2,FALSE))","v":""},null,null,null,null,null,null,null,null,null,null,null,null,null,null,null,null,null,null,null,null,null,null,null,"",null,null,null,null,null,null,null,null,null,null,null,null,null,null,null,null,null,null,null,null,null,null,null,null,null,null,"",null,null,null,null,null,null,null,null,null,null,null,null,null,null,null,null,null,"","",""]
[null,null,null,"",{"$f":"IF(F205=\"\",\"\",VLOOKUP(F205,戦績!$N$6:$O$38,2,FALSE))","v":""},null,null,null,null,null,null,null,null,null,null,null,null,null,null,null,null,null,null,null,null,null,null,null,"",null,null,null,null,null,null,null,null,null,null,null,null,null,null,null,null,null,null,null,null,null,null,null,null,null,null,"",null,null,null,null,null,null,null,null,null,null,null,null,null,null,null,null,null,"","",""]
[null,null,null,"",{"$f":"IF(F206=\"\",\"\",VLOOKUP(F206,戦績!$N$6:$O$38,2,FALSE))","v":""},null,null,null,null,null,null,null,null,null,null,null,null,null,null,null,null,null,null,null,null,null,null,null,"",null,null,null,null,null,null,null,null,null,null,null,null,null,null,null,null,null,null,null,null,null,null,null,null,null,null,"",null,null,null,null,null,null,null,null,null,null,null,null,null,null,null,null,null,"","",""]
[null,null,null,"",{"$f":"IF(F207=\"\",\"\",VLOOKUP(F207,戦績!$N$6:$O$38,2,FALSE))","v":""},null,null,null,null,null,null,null,null,null,null,null,null,null,null,null,null,null,null,null,null,null,null,null,"",null,null,null,null,null,null,null,null,null,null,null,null,null,null,null,null,null,null,null,null,null,null,null,null,null,null,"",null,null,null,null,null,null,null,null,null,null,null,null,null,null,null,null,null,"","",""]
[null,null,null,"",{"$f":"IF(F208=\"\",\"\",VLOOKUP(F208,戦績!$N$6:$O$38,2,FALSE))","v":""},null,null,null,null,null,null,null,null,null,null,null,null,null,null,null,null,null,null,null,null,null,null,null,"",null,null,null,null,null,null,null,null,null,null,null,null,null,null,null,null,null,null,null,null,null,null,null,null,null,null,"",null,null,null,null,null,null,null,null,null,null,null,null,null,null,null,null,null,"","",""]
[null,null,null,"",{"$f":"IF(F209=\"\",\"\",VLOOKUP(F209,戦績!$N$6:$O$38,2,FALSE))","v":""},null,null,null,null,null,null,null,null,null,null,null,null,null,null,null,null,null,null,null,null,null,null,null,"",null,null,null,null,null,null,null,null,null,null,null,null,null,null,null,null,null,null,null,null,null,null,null,null,null,null,"",null,null,null,null,null,null,null,null,null,null,null,null,null,null,null,null,null,"","",""]
[null,null,null,"",{"$f":"IF(F210=\"\",\"\",VLOOKUP(F210,戦績!$N$6:$O$38,2,FALSE))","v":""},null,null,null,null,null,null,null,null,null,null,null,null,null,null,null,null,null,null,null,null,null,null,null,"",null,null,null,null,null,null,null,null,null,null,null,null,null,null,null,null,null,null,null,null,null,null,null,null,null,null,"",null,null,null,null,null,null,null,null,null,null,null,null,null,null,null,null,null,"","",""]
[null,null,null,"",{"$f":"IF(F211=\"\",\"\",VLOOKUP(F211,戦績!$N$6:$O$38,2,FALSE))","v":""},null,null,null,null,null,null,null,null,null,null,null,null,null,null,null,null,null,null,null,null,null,null,null,"",null,null,null,null,null,null,null,null,null,null,null,null,null,null,null,null,null,null,null,null,null,null,null,null,null,null,"",null,null,null,null,null,null,null,null,null,null,null,null,null,null,null,null,null,"","",""]
[null,null,null,"",{"$f":"IF(F212=\"\",\"\",VLOOKUP(F212,戦績!$N$6:$O$38,2,FALSE))","v":""},null,null,null,null,null,null,null,null,null,null,null,null,null,null,null,null,null,null,null,null,null,null,null,"",null,null,null,null,null,null,null,null,null,null,null,null,null,null,null,null,null,null,null,null,null,null,null,null,null,null,"",null,null,null,null,null,null,null,null,null,null,null,null,null,null,null,null,null,"","",""]
[null,null,null,"",{"$f":"IF(F213=\"\",\"\",VLOOKUP(F213,戦績!$N$6:$O$38,2,FALSE))","v":""},null,null,null,null,null,null,null,null,null,null,null,null,null,null,null,null,null,null,null,null,null,null,null,"",null,null,null,null,null,null,null,null,null,null,null,null,null,null,null,null,null,null,null,null,null,null,null,null,null,null,"",null,null,null,null,null,null,null,null,null,null,null,null,null,null,null,null,null,"","",""]
[null,null,null,"",{"$f":"IF(F214=\"\",\"\",VLOOKUP(F214,戦績!$N$6:$O$38,2,FALSE))","v":""},null,null,null,null,null,null,null,null,null,null,null,null,null,null,null,null,null,null,null,null,null,null,null,"",null,null,null,null,null,null,null,null,null,null,null,null,null,null,null,null,null,null,null,null,null,null,null,null,null,null,"",null,null,null,null,null,null,null,null,null,null,null,null,null,null,null,null,null,"","",""]
[null,null,null,"",{"$f":"IF(F215=\"\",\"\",VLOOKUP(F215,戦績!$N$6:$O$38,2,FALSE))","v":""},null,null,null,null,null,null,null,null,null,null,null,null,null,null,null,null,null,null,null,null,null,null,null,"",null,null,null,null,null,null,null,null,null,null,null,null,null,null,null,null,null,null,null,null,null,null,null,null,null,null,"",null,null,null,null,null,null,null,null,null,null,null,null,null,null,null,null,null,"","",""]
[null,null,null,"",{"$f":"IF(F216=\"\",\"\",VLOOKUP(F216,戦績!$N$6:$O$38,2,FALSE))","v":""},null,null,null,null,null,null,null,null,null,null,null,null,null,null,null,null,null,null,null,null,null,null,null,"",null,null,null,null,null,null,null,null,null,null,null,null,null,null,null,null,null,null,null,null,null,null,null,null,null,null,"",null,null,null,null,null,null,null,null,null,null,null,null,null,null,null,null,null,"","",""]
[null,null,null,"",{"$f":"IF(F217=\"\",\"\",VLOOKUP(F217,戦績!$N$6:$O$38,2,FALSE))","v":""},null,null,null,null,null,null,null,null,null,null,null,null,null,null,null,null,null,null,null,null,null,null,null,"",null,null,null,null,null,null,null,null,null,null,null,null,null,null,null,null,null,null,null,null,null,null,null,null,null,null,"",null,null,null,null,null,null,null,null,null,null,null,null,null,null,null,null,null,"","",""]
[null,null,null,"",{"$f":"IF(F218=\"\",\"\",VLOOKUP(F218,戦績!$N$6:$O$38,2,FALSE))","v":""},null,null,null,null,null,null,null,null,null,null,null,null,null,null,null,null,null,null,null,null,null,null,null,"",null,null,null,null,null,null,null,null,null,null,null,null,null,null,null,null,null,null,null,null,null,null,null,null,null,null,"",null,null,null,null,null,null,null,null,null,null,null,null,null,null,null,null,null,"","",""]
[null,null,null,"",{"$f":"IF(F219=\"\",\"\",VLOOKUP(F219,戦績!$N$6:$O$38,2,FALSE))","v":""},null,null,null,null,null,null,null,null,null,null,null,null,null,null,null,null,null,null,null,null,null,null,null,"",null,null,null,null,null,null,null,null,null,null,null,null,null,null,null,null,null,null,null,null,null,null,null,null,null,null,"",null,null,null,null,null,null,null,null,null,null,null,null,null,null,null,null,null,"","",""]
[null,null,null,"",{"$f":"IF(F220=\"\",\"\",VLOOKUP(F220,戦績!$N$6:$O$38,2,FALSE))","v":""},null,null,null,null,null,null,null,null,null,null,null,null,null,null,null,null,null,null,null,null,null,null,null,"",null,null,null,null,null,null,null,null,null,null,null,null,null,null,null,null,null,null,null,null,null,null,null,null,null,null,"",null,null,null,null,null,null,null,null,null,null,null,null,null,null,null,null,null,"","",""]
[null,null,null,"",{"$f":"IF(F221=\"\",\"\",VLOOKUP(F221,戦績!$N$6:$O$38,2,FALSE))","v":""},null,null,null,null,null,null,null,null,null,null,null,null,null,null,null,null,null,null,null,null,null,null,null,"",null,null,null,null,null,null,null,null,null,null,null,null,null,null,null,null,null,null,null,null,null,null,null,null,null,null,"",null,null,null,null,null,null,null,null,null,null,null,null,null,null,null,null,null,"","",""]
[null,null,null,"",{"$f":"IF(F222=\"\",\"\",VLOOKUP(F222,戦績!$N$6:$O$38,2,FALSE))","v":""},null,null,null,null,null,null,null,null,null,null,null,null,null,null,null,null,null,null,null,null,null,null,null,"",null,null,null,null,null,null,null,null,null,null,null,null,null,null,null,null,null,null,null,null,null,null,null,null,null,null,"",null,null,null,null,null,null,null,null,null,null,null,null,null,null,null,null,null,"","",""]
[null,null,null,"",{"$f":"IF(F223=\"\",\"\",VLOOKUP(F223,戦績!$N$6:$O$38,2,FALSE))","v":""},null,null,null,null,null,null,null,null,null,null,null,null,null,null,null,null,null,null,null,null,null,null,null,"",null,null,null,null,null,null,null,null,null,null,null,null,null,null,null,null,null,null,null,null,null,null,null,null,null,null,"",null,null,null,null,null,null,null,null,null,null,null,null,null,null,null,null,null,"","",""]
[null,null,null,"",{"$f":"IF(F224=\"\",\"\",VLOOKUP(F224,戦績!$N$6:$O$38,2,FALSE))","v":""},null,null,null,null,null,null,null,null,null,null,null,null,null,null,null,null,null,null,null,null,null,null,null,"",null,null,null,null,null,null,null,null,null,null,null,null,null,null,null,null,null,null,null,null,null,null,null,null,null,null,"",null,null,null,null,null,null,null,null,null,null,null,null,null,null,null,null,null,"","",""]
[null,null,null,"",{"$f":"IF(F225=\"\",\"\",VLOOKUP(F225,戦績!$N$6:$O$38,2,FALSE))","v":""},null,null,null,null,null,null,null,null,null,null,null,null,null,null,null,null,null,null,null,null,null,null,null,"",null,null,null,null,null,null,null,null,null,null,null,null,null,null,null,null,null,null,null,null,null,null,null,null,null,null,"",null,null,null,null,null,null,null,null,null,null,null,null,null,null,null,null,null,"","",""]
[null,null,null,"",{"$f":"IF(F226=\"\",\"\",VLOOKUP(F226,戦績!$N$6:$O$38,2,FALSE))","v":""},null,null,null,null,null,null,null,null,null,null,null,null,null,null,null,null,null,null,null,null,null,null,null,"",null,null,null,null,null,null,null,null,null,null,null,null,null,null,null,null,null,null,null,null,null,null,null,null,null,null,"",null,null,null,null,null,null,null,null,null,null,null,null,null,null,null,null,null,"","",""]
[null,null,null,"",{"$f":"IF(F227=\"\",\"\",VLOOKUP(F227,戦績!$N$6:$O$38,2,FALSE))","v":""},null,null,null,null,null,null,null,null,null,null,null,null,null,null,null,null,null,null,null,null,null,null,null,"",null,null,null,null,null,null,null,null,null,null,null,null,null,null,null,null,null,null,null,null,null,null,null,null,null,null,"",null,null,null,null,null,null,null,null,null,null,null,null,null,null,null,null,null,"","",""]
[null,null,null,"",{"$f":"IF(F228=\"\",\"\",VLOOKUP(F228,戦績!$N$6:$O$38,2,FALSE))","v":""},null,null,null,null,null,null,null,null,null,null,null,null,null,null,null,null,null,null,null,null,null,null,null,"",null,null,null,null,null,null,null,null,null,null,null,null,null,null,null,null,null,null,null,null,null,null,null,null,null,null,"",null,null,null,null,null,null,null,null,null,null,null,null,null,null,null,null,null,"","",""]
[null,null,null,"",{"$f":"IF(F229=\"\",\"\",VLOOKUP(F229,戦績!$N$6:$O$38,2,FALSE))","v":""},null,null,null,null,null,null,null,null,null,null,null,null,null,null,null,null,null,null,null,null,null,null,null,"",null,null,null,null,null,null,null,null,null,null,null,null,null,null,null,null,null,null,null,null,null,null,null,null,null,null,"",null,null,null,null,null,null,null,null,null,null,null,null,null,null,null,null,null,"","",""]
[null,null,null,"",{"$f":"IF(F230=\"\",\"\",VLOOKUP(F230,戦績!$N$6:$O$38,2,FALSE))","v":""},null,null,null,null,null,null,null,null,null,null,null,null,null,null,null,null,null,null,null,null,null,null,null,"",null,null,null,null,null,null,null,null,null,null,null,null,null,null,null,null,null,null,null,null,null,null,null,null,null,null,"",null,null,null,null,null,null,null,null,null,null,null,null,null,null,null,null,null,"","",""]
[null,null,null,"",{"$f":"IF(F231=\"\",\"\",VLOOKUP(F231,戦績!$N$6:$O$38,2,FALSE))","v":""},null,null,null,null,null,null,null,null,null,null,null,null,null,null,null,null,null,null,null,null,null,null,null,"",null,null,null,null,null,null,null,null,null,null,null,null,null,null,null,null,null,null,null,null,null,null,null,null,null,null,"",null,null,null,null,null,null,null,null,null,null,null,null,null,null,null,null,null,"","",""]
[null,null,null,"",{"$f":"IF(F232=\"\",\"\",VLOOKUP(F232,戦績!$N$6:$O$38,2,FALSE))","v":""},null,null,null,null,null,null,null,null,null,null,null,null,null,null,null,null,null,null,null,null,null,null,null,"",null,null,null,null,null,null,null,null,null,null,null,null,null,null,null,null,null,null,null,null,null,null,null,null,null,null,"",null,null,null,null,null,null,null,null,null,null,null,null,null,null,null,null,null,"","",""]
[null,null,null,"",{"$f":"IF(F233=\"\",\"\",VLOOKUP(F233,戦績!$N$6:$O$38,2,FALSE))","v":""},null,null,null,null,null,null,null,null,null,null,null,null,null,null,null,null,null,null,null,null,null,null,null,"",null,null,null,null,null,null,null,null,null,null,null,null,null,null,null,null,null,null,null,null,null,null,null,null,null,null,"",null,null,null,null,null,null,null,null,null,null,null,null,null,null,null,null,null,"","",""]
[null,null,null,"",{"$f":"IF(F234=\"\",\"\",VLOOKUP(F234,戦績!$N$6:$O$38,2,FALSE))","v":""},null,null,null,null,null,null,null,null,null,null,null,null,null,null,null,null,null,null,null,null,null,null,null,"",null,null,null,null,null,null,null,null,null,null,null,null,null,null,null,null,null,null,null,null,null,null,null,null,null,null,"",null,null,null,null,null,null,null,null,null,null,null,null,null,null,null,null,null,"","",""]
[null,null,null,"",{"$f":"IF(F235=\"\",\"\",VLOOKUP(F235,戦績!$N$6:$O$38,2,FALSE))","v":""},null,null,null,null,null,null,null,null,null,null,null,null,null,null,null,null,null,null,null,null,null,null,null,"",null,null,null,null,null,null,null,null,null,null,null,null,null,null,null,null,null,null,null,null,null,null,null,null,null,null,"",null,null,null,null,null,null,null,null,null,null,null,null,null,null,null,null,null,"","",""]
[null,null,null,"",{"$f":"IF(F236=\"\",\"\",VLOOKUP(F236,戦績!$N$6:$O$38,2,FALSE))","v":""},null,null,null,null,null,null,null,null,null,null,null,null,null,null,null,null,null,null,null,null,null,null,null,"",null,null,null,null,null,null,null,null,null,null,null,null,null,null,null,null,null,null,null,null,null,null,null,null,null,null,"",null,null,null,null,null,null,null,null,null,null,null,null,null,null,null,null,null,"","",""]
[null,null,null,"",{"$f":"IF(F237=\"\",\"\",VLOOKUP(F237,戦績!$N$6:$O$38,2,FALSE))","v":""},null,null,null,null,null,null,null,null,null,null,null,null,null,null,null,null,null,null,null,null,null,null,null,"",null,null,null,null,null,null,null,null,null,null,null,null,null,null,null,null,null,null,null,null,null,null,null,null,null,null,"",null,null,null,null,null,null,null,null,null,null,null,null,null,null,null,null,null,"","",""]
[null,null,null,"",{"$f":"IF(F238=\"\",\"\",VLOOKUP(F238,戦績!$N$6:$O$38,2,FALSE))","v":""},null,null,null,null,null,null,null,null,null,null,null,null,null,null,null,null,null,null,null,null,null,null,null,"",null,null,null,null,null,null,null,null,null,null,null,null,null,null,null,null,null,null,null,null,null,null,null,null,null,null,"",null,null,null,null,null,null,null,null,null,null,null,null,null,null,null,null,null,"","",""]
[null,null,null,"",{"$f":"IF(F239=\"\",\"\",VLOOKUP(F239,戦績!$N$6:$O$38,2,FALSE))","v":""},null,null,null,null,null,null,null,null,null,null,null,null,null,null,null,null,null,null,null,null,null,null,null,"",null,null,null,null,null,null,null,null,null,null,null,null,null,null,null,null,null,null,null,null,null,null,null,null,null,null,"",null,null,null,null,null,null,null,null,null,null,null,null,null,null,null,null,null,"","",""]
[null,null,null,"",{"$f":"IF(F240=\"\",\"\",VLOOKUP(F240,戦績!$N$6:$O$38,2,FALSE))","v":""},null,null,null,null,null,null,null,null,null,null,null,null,null,null,null,null,null,null,null,null,null,null,null,"",null,null,null,null,null,null,null,null,null,null,null,null,null,null,null,null,null,null,null,null,null,null,null,null,null,null,"",null,null,null,null,null,null,null,null,null,null,null,null,null,null,null,null,null,"","",""]
[null,null,null,"",{"$f":"IF(F241=\"\",\"\",VLOOKUP(F241,戦績!$N$6:$O$38,2,FALSE))","v":""},null,null,null,null,null,null,null,null,null,null,null,null,null,null,null,null,null,null,null,null,null,null,null,"",null,null,null,null,null,null,null,null,null,null,null,null,null,null,null,null,null,null,null,null,null,null,null,null,null,null,"",null,null,null,null,null,null,null,null,null,null,null,null,null,null,null,null,null,"","",""]
[null,null,null,"",{"$f":"IF(F242=\"\",\"\",VLOOKUP(F242,戦績!$N$6:$O$38,2,FALSE))","v":""},null,null,null,null,null,null,null,null,null,null,null,null,null,null,null,null,null,null,null,null,null,null,null,"",null,null,null,null,null,null,null,null,null,null,null,null,null,null,null,null,null,null,null,null,null,null,null,null,null,null,"",null,null,null,null,null,null,null,null,null,null,null,null,null,null,null,null,null,"","",""]
[null,null,null,"",{"$f":"IF(F243=\"\",\"\",VLOOKUP(F243,戦績!$N$6:$O$38,2,FALSE))","v":""},null,null,null,null,null,null,null,null,null,null,null,null,null,null,null,null,null,null,null,null,null,null,null,"",null,null,null,null,null,null,null,null,null,null,null,null,null,null,null,null,null,null,null,null,null,null,null,null,null,null,"",null,null,null,null,null,null,null,null,null,null,null,null,null,null,null,null,null,"","",""]
[null,null,null,"",{"$f":"IF(F244=\"\",\"\",VLOOKUP(F244,戦績!$N$6:$O$38,2,FALSE))","v":""},null,null,null,null,null,null,null,null,null,null,null,null,null,null,null,null,null,null,null,null,null,null,null,"",null,null,null,null,null,null,null,null,null,null,null,null,null,null,null,null,null,null,null,null,null,null,null,null,null,null,"",null,null,null,null,null,null,null,null,null,null,null,null,null,null,null,null,null,"","",""]
[null,null,null,"",{"$f":"IF(F245=\"\",\"\",VLOOKUP(F245,戦績!$N$6:$O$38,2,FALSE))","v":""},null,null,null,null,null,null,null,null,null,null,null,null,null,null,null,null,null,null,null,null,null,null,null,"",null,null,null,null,null,null,null,null,null,null,null,null,null,null,null,null,null,null,null,null,null,null,null,null,null,null,"",null,null,null,null,null,null,null,null,null,null,null,null,null,null,null,null,null,"","",""]
[null,null,null,"",{"$f":"IF(F246=\"\",\"\",VLOOKUP(F246,戦績!$N$6:$O$38,2,FALSE))","v":""},null,null,null,null,null,null,null,null,null,null,null,null,null,null,null,null,null,null,null,null,null,null,null,"",null,null,null,null,null,null,null,null,null,null,null,null,null,null,null,null,null,null,null,null,null,null,null,null,null,null,"",null,null,null,null,null,null,null,null,null,null,null,null,null,null,null,null,null,"","",""]
[null,null,null,"",{"$f":"IF(F247=\"\",\"\",VLOOKUP(F247,戦績!$N$6:$O$38,2,FALSE))","v":""},null,null,null,null,null,null,null,null,null,null,null,null,null,null,null,null,null,null,null,null,null,null,null,"",null,null,null,null,null,null,null,null,null,null,null,null,null,null,null,null,null,null,null,null,null,null,null,null,null,null,"",null,null,null,null,null,null,null,null,null,null,null,null,null,null,null,null,null,"","",""]
[null,null,null,"",{"$f":"IF(F248=\"\",\"\",VLOOKUP(F248,戦績!$N$6:$O$38,2,FALSE))","v":""},null,null,null,null,null,null,null,null,null,null,null,null,null,null,null,null,null,null,null,null,null,null,null,"",null,null,null,null,null,null,null,null,null,null,null,null,null,null,null,null,null,null,null,null,null,null,null,null,null,null,"",null,null,null,null,null,null,null,null,null,null,null,null,null,null,null,null,null,"","",""]
[null,null,null,"",{"$f":"IF(F249=\"\",\"\",VLOOKUP(F249,戦績!$N$6:$O$38,2,FALSE))","v":""},null,null,null,null,null,null,null,null,null,null,null,null,null,null,null,null,null,null,null,null,null,null,null,"",null,null,null,null,null,null,null,null,null,null,null,null,null,null,null,null,null,null,null,null,null,null,null,null,null,null,"",null,null,null,null,null,null,null,null,null,null,null,null,null,null,null,null,null,"","",""]
[null,null,null,"",{"$f":"IF(F250=\"\",\"\",VLOOKUP(F250,戦績!$N$6:$O$38,2,FALSE))","v":""},null,null,null,null,null,null,null,null,null,null,null,null,null,null,null,null,null,null,null,null,null,null,null,"",null,null,null,null,null,null,null,null,null,null,null,null,null,null,null,null,null,null,null,null,null,null,null,null,null,null,"",null,null,null,null,null,null,null,null,null,null,null,null,null,null,null,null,null,"","",""]
[null,null,null,"",{"$f":"IF(F251=\"\",\"\",VLOOKUP(F251,戦績!$N$6:$O$38,2,FALSE))","v":""},null,null,null,null,null,null,null,null,null,null,null,null,null,null,null,null,null,null,null,null,null,null,null,"",null,null,null,null,null,null,null,null,null,null,null,null,null,null,null,null,null,null,null,null,null,null,null,null,null,null,"",null,null,null,null,null,null,null,null,null,null,null,null,null,null,null,null,null,"","",""]
[null,null,null,"",{"$f":"IF(F252=\"\",\"\",VLOOKUP(F252,戦績!$N$6:$O$38,2,FALSE))","v":""},null,null,null,null,null,null,null,null,null,null,null,null,null,null,null,null,null,null,null,null,null,null,null,"",null,null,null,null,null,null,null,null,null,null,null,null,null,null,null,null,null,null,null,null,null,null,null,null,null,null,"",null,null,null,null,null,null,null,null,null,null,null,null,null,null,null,null,null,"","",""]
[null,null,null,"",{"$f":"IF(F253=\"\",\"\",VLOOKUP(F253,戦績!$N$6:$O$38,2,FALSE))","v":""},null,null,null,null,null,null,null,null,null,null,null,null,null,null,null,null,null,null,null,null,null,null,null,"",null,null,null,null,null,null,null,null,null,null,null,null,null,null,null,null,null,null,null,null,null,null,null,null,null,null,"",null,null,null,null,null,null,null,null,null,null,null,null,null,null,null,null,null,"","",""]
[null,null,null,"",{"$f":"IF(F254=\"\",\"\",VLOOKUP(F254,戦績!$N$6:$O$38,2,FALSE))","v":""},null,null,null,null,null,null,null,null,null,null,null,null,null,null,null,null,null,null,null,null,null,null,null,"",null,null,null,null,null,null,null,null,null,null,null,null,null,null,null,null,null,null,null,null,null,null,null,null,null,null,"",null,null,null,null,null,null,null,null,null,null,null,null,null,null,null,null,null,"","",""]
[null,null,null,"",{"$f":"IF(F255=\"\",\"\",VLOOKUP(F255,戦績!$N$6:$O$38,2,FALSE))","v":""},null,null,null,null,null,null,null,null,null,null,null,null,null,null,null,null,null,null,null,null,null,null,null,"",null,null,null,null,null,null,null,null,null,null,null,null,null,null,null,null,null,null,null,null,null,null,null,null,null,null,"",null,null,null,null,null,null,null,null,null,null,null,null,null,null,null,null,null,"","",""]
[null,null,null,"",{"$f":"IF(F256=\"\",\"\",VLOOKUP(F256,戦績!$N$6:$O$38,2,FALSE))","v":""},null,null,null,null,null,null,null,null,null,null,null,null,null,null,null,null,null,null,null,null,null,null,null,"",null,null,null,null,null,null,null,null,null,null,null,null,null,null,null,null,null,null,null,null,null,null,null,null,null,null,"",null,null,null,null,null,null,null,null,null,null,null,null,null,null,null,null,null,"","",""]
[null,null,null,"",{"$f":"IF(F257=\"\",\"\",VLOOKUP(F257,戦績!$N$6:$O$38,2,FALSE))","v":""},null,null,null,null,null,null,null,null,null,null,null,null,null,null,null,null,null,null,null,null,null,null,null,"",null,null,null,null,null,null,null,null,null,null,null,null,null,null,null,null,null,null,null,null,null,null,null,null,null,null,"",null,null,null,null,null,null,null,null,null,null,null,null,null,null,null,null,null,"","",""]
[null,null,null,"",{"$f":"IF(F258=\"\",\"\",VLOOKUP(F258,戦績!$N$6:$O$38,2,FALSE))","v":""},null,null,null,null,null,null,null,null,null,null,null,null,null,null,null,null,null,null,null,null,null,null,null,"",null,null,null,null,null,null,null,null,null,null,null,null,null,null,null,null,null,null,null,null,null,null,null,null,null,null,"",null,null,null,null,null,null,null,null,null,null,null,null,null,null,null,null,null,"","",""]
[null,null,null,"",{"$f":"IF(F259=\"\",\"\",VLOOKUP(F259,戦績!$N$6:$O$38,2,FALSE))","v":""},null,null,null,null,null,null,null,null,null,null,null,null,null,null,null,null,null,null,null,null,null,null,null,"",null,null,null,null,null,null,null,null,null,null,null,null,null,null,null,null,null,null,null,null,null,null,null,null,null,null,"",null,null,null,null,null,null,null,null,null,null,null,null,null,null,null,null,null,"","",""]
[null,null,null,"",{"$f":"IF(F260=\"\",\"\",VLOOKUP(F260,戦績!$N$6:$O$38,2,FALSE))","v":""},null,null,null,null,null,null,null,null,null,null,null,null,null,null,null,null,null,null,null,null,null,null,null,"",null,null,null,null,null,null,null,null,null,null,null,null,null,null,null,null,null,null,null,null,null,null,null,null,null,null,"",null,null,null,null,null,null,null,null,null,null,null,null,null,null,null,null,null,"","",""]
[null,null,null,"",{"$f":"IF(F261=\"\",\"\",VLOOKUP(F261,戦績!$N$6:$O$38,2,FALSE))","v":""},null,null,null,null,null,null,null,null,null,null,null,null,null,null,null,null,null,null,null,null,null,null,null,"",null,null,null,null,null,null,null,null,null,null,null,null,null,null,null,null,null,null,null,null,null,null,null,null,null,null,"",null,null,null,null,null,null,null,null,null,null,null,null,null,null,null,null,null,"","",""]
[null,null,null,"",{"$f":"IF(F262=\"\",\"\",VLOOKUP(F262,戦績!$N$6:$O$38,2,FALSE))","v":""},null,null,null,null,null,null,null,null,null,null,null,null,null,null,null,null,null,null,null,null,null,null,null,"",null,null,null,null,null,null,null,null,null,null,null,null,null,null,null,null,null,null,null,null,null,null,null,null,null,null,"",null,null,null,null,null,null,null,null,null,null,null,null,null,null,null,null,null,"","",""]
[null,null,null,{"$f":"IF(E263=\"\",\"\",AB263)","v":""},{"$f":"IF(F263=\"\",\"\",VLOOKUP(F263,戦績!$N$6:$O$38,2,FALSE))","v":""},null,null,null,null,null,null,null,null,null,null,null,null,null,null,null,null,null,null,null,null,null,null,null,{"$f":"IF(G263=\"\",\"\",(L263*1+M263*2+N263*3+O263*4))","v":""},null,null,null,null,null,null,null,null,null,null,null,null,null,null,null,null,null,null,null,null,null,null,null,null,null,null,{"$f":"IF(AH263=\"\",\"\",(AN263*1+AO263*2+AP263*3+AQ263*4))","v":""},null,null,null,null,null,null,null,null,null,null,null,null,null,null,null,null,null,{"$f":"IF(BI263=\"\",\"\",(BK263+BL263+BM263))","v":""},{"$f":"IF(BI263=\"\",\"\",(BN263+BO263+BP263))","v":""},{"$f":"IF(BI263=\"\",\"\",(BQ263+BR263+BS263))","v":""}]
[null,null,null,"",{"$f":"IF(F264=\"\",\"\",VLOOKUP(F264,戦績!$N$6:$O$38,2,FALSE))","v":""},null,null,null,null,null,null,null,null,null,null,null,null,null,null,null,null,null,null,null,null,null,null,null,"",null,null,null,null,null,null,null,null,null,null,null,null,null,null,null,null,null,null,null,null,null,null,null,null,null,null,"",null,null,null,null,null,null,null,null,null,null,null,null,null,null,null,null,null,"","",""]
[null,null,null,"",{"$f":"IF(F265=\"\",\"\",VLOOKUP(F265,戦績!$N$6:$O$38,2,FALSE))","v":""},null,null,null,null,null,null,null,null,null,null,null,null,null,null,null,null,null,null,null,null,null,null,null,"",null,null,null,null,null,null,null,null,null,null,null,null,null,null,null,null,null,null,null,null,null,null,null,null,null,null,"",null,null,null,null,null,null,null,null,null,null,null,null,null,null,null,null,null,"","",""]
[null,null,null,"",{"$f":"IF(F266=\"\",\"\",VLOOKUP(F266,戦績!$N$6:$O$38,2,FALSE))","v":""},null,null,null,null,null,null,null,null,null,null,null,null,null,null,null,null,null,null,null,null,null,null,null,"",null,null,null,null,null,null,null,null,null,null,null,null,null,null,null,null,null,null,null,null,null,null,null,null,null,null,"",null,null,null,null,null,null,null,null,null,null,null,null,null,null,null,null,null,"","",""]
[null,null,null,"",{"$f":"IF(F267=\"\",\"\",VLOOKUP(F267,戦績!$N$6:$O$38,2,FALSE))","v":""},null,null,null,null,null,null,null,null,null,null,null,null,null,null,null,null,null,null,null,null,null,null,null,"",null,null,null,null,null,null,null,null,null,null,null,null,null,null,null,null,null,null,null,null,null,null,null,null,null,null,"",null,null,null,null,null,null,null,null,null,null,null,null,null,null,null,null,null,"","",""]
[null,null,null,"",{"$f":"IF(F268=\"\",\"\",VLOOKUP(F268,戦績!$N$6:$O$38,2,FALSE))","v":""},null,null,null,null,null,null,null,null,null,null,null,null,null,null,null,null,null,null,null,null,null,null,null,"",null,null,null,null,null,null,null,null,null,null,null,null,null,null,null,null,null,null,null,null,null,null,null,null,null,null,"",null,null,null,null,null,null,null,null,null,null,null,null,null,null,null,null,null,"","",""]
[null,null,null,"",{"$f":"IF(F269=\"\",\"\",VLOOKUP(F269,戦績!$N$6:$O$38,2,FALSE))","v":""},null,null,null,null,null,null,null,null,null,null,null,null,null,null,null,null,null,null,null,null,null,null,null,"",null,null,null,null,null,null,null,null,null,null,null,null,null,null,null,null,null,null,null,null,null,null,null,null,null,null,"",null,null,null,null,null,null,null,null,null,null,null,null,null,null,null,null,null,"","",""]
[null,null,null,"",{"$f":"IF(F270=\"\",\"\",VLOOKUP(F270,戦績!$N$6:$O$38,2,FALSE))","v":""},null,null,null,null,null,null,null,null,null,null,null,null,null,null,null,null,null,null,null,null,null,null,null,"",null,null,null,null,null,null,null,null,null,null,null,null,null,null,null,null,null,null,null,null,null,null,null,null,null,null,"",null,null,null,null,null,null,null,null,null,null,null,null,null,null,null,null,null,"","",""]
[null,null,null,"",{"$f":"IF(F271=\"\",\"\",VLOOKUP(F271,戦績!$N$6:$O$38,2,FALSE))","v":""},null,null,null,null,null,null,null,null,null,null,null,null,null,null,null,null,null,null,null,null,null,null,null,"",null,null,null,null,null,null,null,null,null,null,null,null,null,null,null,null,null,null,null,null,null,null,null,null,null,null,"",null,null,null,null,null,null,null,null,null,null,null,null,null,null,null,null,null,"","",""]
[null,null,null,"",{"$f":"IF(F272=\"\",\"\",VLOOKUP(F272,戦績!$N$6:$O$38,2,FALSE))","v":""},null,null,null,null,null,null,null,null,null,null,null,null,null,null,null,null,null,null,null,null,null,null,null,"",null,null,null,null,null,null,null,null,null,null,null,null,null,null,null,null,null,null,null,null,null,null,null,null,null,null,"",null,null,null,null,null,null,null,null,null,null,null,null,null,null,null,null,null,"","",""]
[null,null,null,"",{"$f":"IF(F273=\"\",\"\",VLOOKUP(F273,戦績!$N$6:$O$38,2,FALSE))","v":""},null,null,null,null,null,null,null,null,null,null,null,null,null,null,null,null,null,null,null,null,null,null,null,"",null,null,null,null,null,null,null,null,null,null,null,null,null,null,null,null,null,null,null,null,null,null,null,null,null,null,"",null,null,null,null,null,null,null,null,null,null,null,null,null,null,null,null,null,"","",""]
[null,null,null,"",{"$f":"IF(F274=\"\",\"\",VLOOKUP(F274,戦績!$N$6:$O$38,2,FALSE))","v":""},null,null,null,null,null,null,null,null,null,null,null,null,null,null,null,null,null,null,null,null,null,null,null,"",null,null,null,null,null,null,null,null,null,null,null,null,null,null,null,null,null,null,null,null,null,null,null,null,null,null,"",null,null,null,null,null,null,null,null,null,null,null,null,null,null,null,null,null,"","",""]
[null,null,null,"",{"$f":"IF(F275=\"\",\"\",VLOOKUP(F275,戦績!$N$6:$O$38,2,FALSE))","v":""},null,null,null,null,null,null,null,null,null,null,null,null,null,null,null,null,null,null,null,null,null,null,null,"",null,null,null,null,null,null,null,null,null,null,null,null,null,null,null,null,null,null,null,null,null,null,null,null,null,null,"",null,null,null,null,null,null,null,null,null,null,null,null,null,null,null,null,null,"","",""]
[null,null,null,"",{"$f":"IF(F276=\"\",\"\",VLOOKUP(F276,戦績!$N$6:$O$38,2,FALSE))","v":""},null,null,null,null,null,null,null,null,null,null,null,null,null,null,null,null,null,null,null,null,null,null,null,"",null,null,null,null,null,null,null,null,null,null,null,null,null,null,null,null,null,null,null,null,null,null,null,null,null,null,"",null,null,null,null,null,null,null,null,null,null,null,null,null,null,null,null,null,"","",""]
[null,null,null,"",{"$f":"IF(F277=\"\",\"\",VLOOKUP(F277,戦績!$N$6:$O$38,2,FALSE))","v":""},null,null,null,null,null,null,null,null,null,null,null,null,null,null,null,null,null,null,null,null,null,null,null,"",null,null,null,null,null,null,null,null,null,null,null,null,null,null,null,null,null,null,null,null,null,null,null,null,null,null,"",null,null,null,null,null,null,null,null,null,null,null,null,null,null,null,null,null,"","",""]
[null,null,null,"",{"$f":"IF(F278=\"\",\"\",VLOOKUP(F278,戦績!$N$6:$O$38,2,FALSE))","v":""},null,null,null,null,null,null,null,null,null,null,null,null,null,null,null,null,null,null,null,null,null,null,null,"",null,null,null,null,null,null,null,null,null,null,null,null,null,null,null,null,null,null,null,null,null,null,null,null,null,null,"",null,null,null,null,null,null,null,null,null,null,null,null,null,null,null,null,null,"","",""]
[null,null,null,"",{"$f":"IF(F279=\"\",\"\",VLOOKUP(F279,戦績!$N$6:$O$38,2,FALSE))","v":""},null,null,null,null,null,null,null,null,null,null,null,null,null,null,null,null,null,null,null,null,null,null,null,"",null,null,null,null,null,null,null,null,null,null,null,null,null,null,null,null,null,null,null,null,null,null,null,null,null,null,"",null,null,null,null,null,null,null,null,null,null,null,null,null,null,null,null,null,"","",""]
[null,null,null,"",{"$f":"IF(F280=\"\",\"\",VLOOKUP(F280,戦績!$N$6:$O$38,2,FALSE))","v":""},null,null,null,null,null,null,null,null,null,null,null,null,null,null,null,null,null,null,null,null,null,null,null,"",null,null,null,null,null,null,null,null,null,null,null,null,null,null,null,null,null,null,null,null,null,null,null,null,null,null,"",null,null,null,null,null,null,null,null,null,null,null,null,null,null,null,null,null,"","",""]
[null,null,null,"",{"$f":"IF(F281=\"\",\"\",VLOOKUP(F281,戦績!$N$6:$O$38,2,FALSE))","v":""},null,null,null,null,null,null,null,null,null,null,null,null,null,null,null,null,null,null,null,null,null,null,null,"",null,null,null,null,null,null,null,null,null,null,null,null,null,null,null,null,null,null,null,null,null,null,null,null,null,null,"",null,null,null,null,null,null,null,null,null,null,null,null,null,null,null,null,null,"","",""]
[null,null,null,"",{"$f":"IF(F282=\"\",\"\",VLOOKUP(F282,戦績!$N$6:$O$38,2,FALSE))","v":""},null,null,null,null,null,null,null,null,null,null,null,null,null,null,null,null,null,null,null,null,null,null,null,"",null,null,null,null,null,null,null,null,null,null,null,null,null,null,null,null,null,null,null,null,null,null,null,null,null,null,"",null,null,null,null,null,null,null,null,null,null,null,null,null,null,null,null,null,"","",""]
[null,null,null,"",{"$f":"IF(F283=\"\",\"\",VLOOKUP(F283,戦績!$N$6:$O$38,2,FALSE))","v":""},null,null,null,null,null,null,null,null,null,null,null,null,null,null,null,null,null,null,null,null,null,null,null,"",null,null,null,null,null,null,null,null,null,null,null,null,null,null,null,null,null,null,null,null,null,null,null,null,null,null,"",null,null,null,null,null,null,null,null,null,null,null,null,null,null,null,null,null,"","",""]
[null,null,null,"",{"$f":"IF(F284=\"\",\"\",VLOOKUP(F284,戦績!$N$6:$O$38,2,FALSE))","v":""},null,null,null,null,null,null,null,null,null,null,null,null,null,null,null,null,null,null,null,null,null,null,null,"",null,null,null,null,null,null,null,null,null,null,null,null,null,null,null,null,null,null,null,null,null,null,null,null,null,null,"",null,null,null,null,null,null,null,null,null,null,null,null,null,null,null,null,null,"","",""]
[null,null,null,"",{"$f":"IF(F285=\"\",\"\",VLOOKUP(F285,戦績!$N$6:$O$38,2,FALSE))","v":""},null,null,null,null,null,null,null,null,null,null,null,null,null,null,null,null,null,null,null,null,null,null,null,"",null,null,null,null,null,null,null,null,null,null,null,null,null,null,null,null,null,null,null,null,null,null,null,null,null,null,"",null,null,null,null,null,null,null,null,null,null,null,null,null,null,null,null,null,"","",""]
[null,null,null,"",{"$f":"IF(F286=\"\",\"\",VLOOKUP(F286,戦績!$N$6:$O$38,2,FALSE))","v":""},null,null,null,null,null,null,null,null,null,null,null,null,null,null,null,null,null,null,null,null,null,null,null,"",null,null,null,null,null,null,null,null,null,null,null,null,null,null,null,null,null,null,null,null,null,null,null,null,null,null,"",null,null,null,null,null,null,null,null,null,null,null,null,null,null,null,null,null,"","",""]
[null,null,null,"",{"$f":"IF(F287=\"\",\"\",VLOOKUP(F287,戦績!$N$6:$O$38,2,FALSE))","v":""},null,null,null,null,null,null,null,null,null,null,null,null,null,null,null,null,null,null,null,null,null,null,null,"",null,null,null,null,null,null,null,null,null,null,null,null,null,null,null,null,null,null,null,null,null,null,null,null,null,null,"",null,null,null,null,null,null,null,null,null,null,null,null,null,null,null,null,null,"","",""]
[null,null,null,"",{"$f":"IF(F288=\"\",\"\",VLOOKUP(F288,戦績!$N$6:$O$38,2,FALSE))","v":""},null,null,null,null,null,null,null,null,null,null,null,null,null,null,null,null,null,null,null,null,null,null,null,"",null,null,null,null,null,null,null,null,null,null,null,null,null,null,null,null,null,null,null,null,null,null,null,null,null,null,"",null,null,null,null,null,null,null,null,null,null,null,null,null,null,null,null,null,"","",""]
[null,null,null,"",{"$f":"IF(F289=\"\",\"\",VLOOKUP(F289,戦績!$N$6:$O$38,2,FALSE))","v":""},null,null,null,null,null,null,null,null,null,null,null,null,null,null,null,null,null,null,null,null,null,null,null,"",null,null,null,null,null,null,null,null,null,null,null,null,null,null,null,null,null,null,null,null,null,null,null,null,null,null,"",null,null,null,null,null,null,null,null,null,null,null,null,null,null,null,null,null,"","",""]
[null,null,null,"",{"$f":"IF(F290=\"\",\"\",VLOOKUP(F290,戦績!$N$6:$O$38,2,FALSE))","v":""},null,null,null,null,null,null,null,null,null,null,null,null,null,null,null,null,null,null,null,null,null,null,null,"",null,null,null,null,null,null,null,null,null,null,null,null,null,null,null,null,null,null,null,null,null,null,null,null,null,null,"",null,null,null,null,null,null,null,null,null,null,null,null,null,null,null,null,null,"","",""]
[null,null,null,"",{"$f":"IF(F291=\"\",\"\",VLOOKUP(F291,戦績!$N$6:$O$38,2,FALSE))","v":""},null,null,null,null,null,null,null,null,null,null,null,null,null,null,null,null,null,null,null,null,null,null,null,"",null,null,null,null,null,null,null,null,null,null,null,null,null,null,null,null,null,null,null,null,null,null,null,null,null,null,"",null,null,null,null,null,null,null,null,null,null,null,null,null,null,null,null,null,"","",""]
[null,null,null,"",{"$f":"IF(F292=\"\",\"\",VLOOKUP(F292,戦績!$N$6:$O$38,2,FALSE))","v":""},null,null,null,null,null,null,null,null,null,null,null,null,null,null,null,null,null,null,null,null,null,null,null,"",null,null,null,null,null,null,null,null,null,null,null,null,null,null,null,null,null,null,null,null,null,null,null,null,null,null,"",null,null,null,null,null,null,null,null,null,null,null,null,null,null,null,null,null,"","",""]
[null,null,null,"",{"$f":"IF(F293=\"\",\"\",VLOOKUP(F293,戦績!$N$6:$O$38,2,FALSE))","v":""},null,null,null,null,null,null,null,null,null,null,null,null,null,null,null,null,null,null,null,null,null,null,null,"",null,null,null,null,null,null,null,null,null,null,null,null,null,null,null,null,null,null,null,null,null,null,null,null,null,null,"",null,null,null,null,null,null,null,null,null,null,null,null,null,null,null,null,null,"","",""]
[null,null,null,"",{"$f":"IF(F294=\"\",\"\",VLOOKUP(F294,戦績!$N$6:$O$38,2,FALSE))","v":""},null,null,null,null,null,null,null,null,null,null,null,null,null,null,null,null,null,null,null,null,null,null,null,"",null,null,null,null,null,null,null,null,null,null,null,null,null,null,null,null,null,null,null,null,null,null,null,null,null,null,"",null,null,null,null,null,null,null,null,null,null,null,null,null,null,null,null,null,"","",""]
[null,null,null,"",{"$f":"IF(F295=\"\",\"\",VLOOKUP(F295,戦績!$N$6:$O$38,2,FALSE))","v":""},null,null,null,null,null,null,null,null,null,null,null,null,null,null,null,null,null,null,null,null,null,null,null,"",null,null,null,null,null,null,null,null,null,null,null,null,null,null,null,null,null,null,null,null,null,null,null,null,null,null,"",null,null,null,null,null,null,null,null,null,null,null,null,null,null,null,null,null,"","",""]
[null,null,null,"",{"$f":"IF(F296=\"\",\"\",VLOOKUP(F296,戦績!$N$6:$O$38,2,FALSE))","v":""},null,null,null,null,null,null,null,null,null,null,null,null,null,null,null,null,null,null,null,null,null,null,null,"",null,null,null,null,null,null,null,null,null,null,null,null,null,null,null,null,null,null,null,null,null,null,null,null,null,null,"",null,null,null,null,null,null,null,null,null,null,null,null,null,null,null,null,null,"","",""]
[null,null,null,"",{"$f":"IF(F297=\"\",\"\",VLOOKUP(F297,戦績!$N$6:$O$38,2,FALSE))","v":""},null,null,null,null,null,null,null,null,null,null,null,null,null,null,null,null,null,null,null,null,null,null,null,"",null,null,null,null,null,null,null,null,null,null,null,null,null,null,null,null,null,null,null,null,null,null,null,null,null,null,"",null,null,null,null,null,null,null,null,null,null,null,null,null,null,null,null,null,"","",""]
[null,null,null,"",{"$f":"IF(F298=\"\",\"\",VLOOKUP(F298,戦績!$N$6:$O$38,2,FALSE))","v":""},null,null,null,null,null,null,null,null,null,null,null,null,null,null,null,null,null,null,null,null,null,null,null,"",null,null,null,null,null,null,null,null,null,null,null,null,null,null,null,null,null,null,null,null,null,null,null,null,null,null,"",null,null,null,null,null,null,null,null,null,null,null,null,null,null,null,null,null,"","",""]
[null,null,null,"",{"$f":"IF(F299=\"\",\"\",VLOOKUP(F299,戦績!$N$6:$O$38,2,FALSE))","v":""},null,null,null,null,null,null,null,null,null,null,null,null,null,null,null,null,null,null,null,null,null,null,null,"",null,null,null,null,null,null,null,null,null,null,null,null,null,null,null,null,null,null,null,null,null,null,null,null,null,null,"",null,null,null,null,null,null,null,null,null,null,null,null,null,null,null,null,null,"","",""]
[null,null,null,"",{"$f":"IF(F300=\"\",\"\",VLOOKUP(F300,戦績!$N$6:$O$38,2,FALSE))","v":""},null,null,null,null,null,null,null,null,null,null,null,null,null,null,null,null,null,null,null,null,null,null,null,"",null,null,null,null,null,null,null,null,null,null,null,null,null,null,null,null,null,null,null,null,null,null,null,null,null,null,"",null,null,null,null,null,null,null,null,null,null,null,null,null,null,null,null,null,"","",""]
[null,null,null,"",{"$f":"IF(F301=\"\",\"\",VLOOKUP(F301,戦績!$N$6:$O$38,2,FALSE))","v":""},null,null,null,null,null,null,null,null,null,null,null,null,null,null,null,null,null,null,null,null,null,null,null,"",null,null,null,null,null,null,null,null,null,null,null,null,null,null,null,null,null,null,null,null,null,null,null,null,null,null,"",null,null,null,null,null,null,null,null,null,null,null,null,null,null,null,null,null,"","",""]
[null,null,null,"",{"$f":"IF(F302=\"\",\"\",VLOOKUP(F302,戦績!$N$6:$O$38,2,FALSE))","v":""},null,null,null,null,null,null,null,null,null,null,null,null,null,null,null,null,null,null,null,null,null,null,null,"",null,null,null,null,null,null,null,null,null,null,null,null,null,null,null,null,null,null,null,null,null,null,null,null,null,null,"",null,null,null,null,null,null,null,null,null,null,null,null,null,null,null,null,null,"","",""]
[null,null,null,"",{"$f":"IF(F303=\"\",\"\",VLOOKUP(F303,戦績!$N$6:$O$38,2,FALSE))","v":""},null,null,null,null,null,null,null,null,null,null,null,null,null,null,null,null,null,null,null,null,null,null,null,"",null,null,null,null,null,null,null,null,null,null,null,null,null,null,null,null,null,null,null,null,null,null,null,null,null,null,"",null,null,null,null,null,null,null,null,null,null,null,null,null,null,null,null,null,"","",""]
[null,null,null,"",{"$f":"IF(F304=\"\",\"\",VLOOKUP(F304,戦績!$N$6:$O$38,2,FALSE))","v":""},null,null,null,null,null,null,null,null,null,null,null,null,null,null,null,null,null,null,null,null,null,null,null,"",null,null,null,null,null,null,null,null,null,null,null,null,null,null,null,null,null,null,null,null,null,null,null,null,null,null,"",null,null,null,null,null,null,null,null,null,null,null,null,null,null,null,null,null,"","",""]
[null,null,null,"",{"$f":"IF(F305=\"\",\"\",VLOOKUP(F305,戦績!$N$6:$O$38,2,FALSE))","v":""},null,null,null,null,null,null,null,null,null,null,null,null,null,null,null,null,null,null,null,null,null,null,null,"",null,null,null,null,null,null,null,null,null,null,null,null,null,null,null,null,null,null,null,null,null,null,null,null,null,null,"",null,null,null,null,null,null,null,null,null,null,null,null,null,null,null,null,null,"","",""]
[null,null,null,"",{"$f":"IF(F306=\"\",\"\",VLOOKUP(F306,戦績!$N$6:$O$38,2,FALSE))","v":""},null,null,null,null,null,null,null,null,null,null,null,null,null,null,null,null,null,null,null,null,null,null,null,"",null,null,null,null,null,null,null,null,null,null,null,null,null,null,null,null,null,null,null,null,null,null,null,null,null,null,"",null,null,null,null,null,null,null,null,null,null,null,null,null,null,null,null,null,"","",""]
[null,null,null,"",{"$f":"IF(F307=\"\",\"\",VLOOKUP(F307,戦績!$N$6:$O$38,2,FALSE))","v":""},null,null,null,null,null,null,null,null,null,null,null,null,null,null,null,null,null,null,null,null,null,null,null,"",null,null,null,null,null,null,null,null,null,null,null,null,null,null,null,null,null,null,null,null,null,null,null,null,null,null,"",null,null,null,null,null,null,null,null,null,null,null,null,null,null,null,null,null,"","",""]
[null,null,null,"",{"$f":"IF(F308=\"\",\"\",VLOOKUP(F308,戦績!$N$6:$O$38,2,FALSE))","v":""},null,null,null,null,null,null,null,null,null,null,null,null,null,null,null,null,null,null,null,null,null,null,null,"",null,null,null,null,null,null,null,null,null,null,null,null,null,null,null,null,null,null,null,null,null,null,null,null,null,null,"",null,null,null,null,null,null,null,null,null,null,null,null,null,null,null,null,null,"","",""]
[null,null,null,"",{"$f":"IF(F309=\"\",\"\",VLOOKUP(F309,戦績!$N$6:$O$38,2,FALSE))","v":""},null,null,null,null,null,null,null,null,null,null,null,null,null,null,null,null,null,null,null,null,null,null,null,"",null,null,null,null,null,null,null,null,null,null,null,null,null,null,null,null,null,null,null,null,null,null,null,null,null,null,"",null,null,null,null,null,null,null,null,null,null,null,null,null,null,null,null,null,"","",""]
[null,null,null,"",{"$f":"IF(F310=\"\",\"\",VLOOKUP(F310,戦績!$N$6:$O$38,2,FALSE))","v":""},null,null,null,null,null,null,null,null,null,null,null,null,null,null,null,null,null,null,null,null,null,null,null,"",null,null,null,null,null,null,null,null,null,null,null,null,null,null,null,null,null,null,null,null,null,null,null,null,null,null,"",null,null,null,null,null,null,null,null,null,null,null,null,null,null,null,null,null,"","",""]
[null,null,null,"",{"$f":"IF(F311=\"\",\"\",VLOOKUP(F311,戦績!$N$6:$O$38,2,FALSE))","v":""},null,null,null,null,null,null,null,null,null,null,null,null,null,null,null,null,null,null,null,null,null,null,null,"",null,null,null,null,null,null,null,null,null,null,null,null,null,null,null,null,null,null,null,null,null,null,null,null,null,null,"",null,null,null,null,null,null,null,null,null,null,null,null,null,null,null,null,null,"","",""]
[null,null,null,"",{"$f":"IF(F312=\"\",\"\",VLOOKUP(F312,戦績!$N$6:$O$38,2,FALSE))","v":""},null,null,null,null,null,null,null,null,null,null,null,null,null,null,null,null,null,null,null,null,null,null,null,"",null,null,null,null,null,null,null,null,null,null,null,null,null,null,null,null,null,null,null,null,null,null,null,null,null,null,"",null,null,null,null,null,null,null,null,null,null,null,null,null,null,null,null,null,"","",""]
[null,null,null,"",{"$f":"IF(F313=\"\",\"\",VLOOKUP(F313,戦績!$N$6:$O$38,2,FALSE))","v":""},null,null,null,null,null,null,null,null,null,null,null,null,null,null,null,null,null,null,null,null,null,null,null,"",null,null,null,null,null,null,null,null,null,null,null,null,null,null,null,null,null,null,null,null,null,null,null,null,null,null,"",null,null,null,null,null,null,null,null,null,null,null,null,null,null,null,null,null,"","",""]
[null,null,null,"",{"$f":"IF(F314=\"\",\"\",VLOOKUP(F314,戦績!$N$6:$O$38,2,FALSE))","v":""},null,null,null,null,null,null,null,null,null,null,null,null,null,null,null,null,null,null,null,null,null,null,null,"",null,null,null,null,null,null,null,null,null,null,null,null,null,null,null,null,null,null,null,null,null,null,null,null,null,null,"",null,null,null,null,null,null,null,null,null,null,null,null,null,null,null,null,null,"","",""]
[null,null,null,"",{"$f":"IF(F315=\"\",\"\",VLOOKUP(F315,戦績!$N$6:$O$38,2,FALSE))","v":""},null,null,null,null,null,null,null,null,null,null,null,null,null,null,null,null,null,null,null,null,null,null,null,"",null,null,null,null,null,null,null,null,null,null,null,null,null,null,null,null,null,null,null,null,null,null,null,null,null,null,"",null,null,null,null,null,null,null,null,null,null,null,null,null,null,null,null,null,"","",""]
[null,null,null,"",{"$f":"IF(F316=\"\",\"\",VLOOKUP(F316,戦績!$N$6:$O$38,2,FALSE))","v":""},null,null,null,null,null,null,null,null,null,null,null,null,null,null,null,null,null,null,null,null,null,null,null,"",null,null,null,null,null,null,null,null,null,null,null,null,null,null,null,null,null,null,null,null,null,null,null,null,null,null,"",null,null,null,null,null,null,null,null,null,null,null,null,null,null,null,null,null,"","",""]
[null,null,null,"",{"$f":"IF(F317=\"\",\"\",VLOOKUP(F317,戦績!$N$6:$O$38,2,FALSE))","v":""},null,null,null,null,null,null,null,null,null,null,null,null,null,null,null,null,null,null,null,null,null,null,null,"",null,null,null,null,null,null,null,null,null,null,null,null,null,null,null,null,null,null,null,null,null,null,null,null,null,null,"",null,null,null,null,null,null,null,null,null,null,null,null,null,null,null,null,null,"","",""]
[null,null,null,"",{"$f":"IF(F318=\"\",\"\",VLOOKUP(F318,戦績!$N$6:$O$38,2,FALSE))","v":""},null,null,null,null,null,null,null,null,null,null,null,null,null,null,null,null,null,null,null,null,null,null,null,"",null,null,null,null,null,null,null,null,null,null,null,null,null,null,null,null,null,null,null,null,null,null,null,null,null,null,"",null,null,null,null,null,null,null,null,null,null,null,null,null,null,null,null,null,"","",""]
[null,null,null,"",{"$f":"IF(F319=\"\",\"\",VLOOKUP(F319,戦績!$N$6:$O$38,2,FALSE))","v":""},null,null,null,null,null,null,null,null,null,null,null,null,null,null,null,null,null,null,null,null,null,null,null,"",null,null,null,null,null,null,null,null,null,null,null,null,null,null,null,null,null,null,null,null,null,null,null,null,null,null,"",null,null,null,null,null,null,null,null,null,null,null,null,null,null,null,null,null,"","",""]
[null,null,null,"",{"$f":"IF(F320=\"\",\"\",VLOOKUP(F320,戦績!$N$6:$O$38,2,FALSE))","v":""},null,null,null,null,null,null,null,null,null,null,null,null,null,null,null,null,null,null,null,null,null,null,null,"",null,null,null,null,null,null,null,null,null,null,null,null,null,null,null,null,null,null,null,null,null,null,null,null,null,null,"",null,null,null,null,null,null,null,null,null,null,null,null,null,null,null,null,null,"","",""]
[null,null,null,"",{"$f":"IF(F321=\"\",\"\",VLOOKUP(F321,戦績!$N$6:$O$38,2,FALSE))","v":""},null,null,null,null,null,null,null,null,null,null,null,null,null,null,null,null,null,null,null,null,null,null,null,"",null,null,null,null,null,null,null,null,null,null,null,null,null,null,null,null,null,null,null,null,null,null,null,null,null,null,"",null,null,null,null,null,null,null,null,null,null,null,null,null,null,null,null,null,"","",""]
[null,null,null,"",{"$f":"IF(F322=\"\",\"\",VLOOKUP(F322,戦績!$N$6:$O$38,2,FALSE))","v":""},null,null,null,null,null,null,null,null,null,null,null,null,null,null,null,null,null,null,null,null,null,null,null,"",null,null,null,null,null,null,null,null,null,null,null,null,null,null,null,null,null,null,null,null,null,null,null,null,null,null,"",null,null,null,null,null,null,null,null,null,null,null,null,null,null,null,null,null,"","",""]
[null,null,null,"",{"$f":"IF(F323=\"\",\"\",VLOOKUP(F323,戦績!$N$6:$O$38,2,FALSE))","v":""},null,null,null,null,null,null,null,null,null,null,null,null,null,null,null,null,null,null,null,null,null,null,null,"",null,null,null,null,null,null,null,null,null,null,null,null,null,null,null,null,null,null,null,null,null,null,null,null,null,null,"",null,null,null,null,null,null,null,null,null,null,null,null,null,null,null,null,null,"","",""]
[null,null,null,"",{"$f":"IF(F324=\"\",\"\",VLOOKUP(F324,戦績!$N$6:$O$38,2,FALSE))","v":""},null,null,null,null,null,null,null,null,null,null,null,null,null,null,null,null,null,null,null,null,null,null,null,"",null,null,null,null,null,null,null,null,null,null,null,null,null,null,null,null,null,null,null,null,null,null,null,null,null,null,"",null,null,null,null,null,null,null,null,null,null,null,null,null,null,null,null,null,"","",""]
[null,null,null,"",{"$f":"IF(F325=\"\",\"\",VLOOKUP(F325,戦績!$N$6:$O$38,2,FALSE))","v":""},null,null,null,null,null,null,null,null,null,null,null,null,null,null,null,null,null,null,null,null,null,null,null,"",null,null,null,null,null,null,null,null,null,null,null,null,null,null,null,null,null,null,null,null,null,null,null,null,null,null,"",null,null,null,null,null,null,null,null,null,null,null,null,null,null,null,null,null,"","",""]
[null,null,null,"",{"$f":"IF(F326=\"\",\"\",VLOOKUP(F326,戦績!$N$6:$O$38,2,FALSE))","v":""},null,null,null,null,null,null,null,null,null,null,null,null,null,null,null,null,null,null,null,null,null,null,null,"",null,null,null,null,null,null,null,null,null,null,null,null,null,null,null,null,null,null,null,null,null,null,null,null,null,null,"",null,null,null,null,null,null,null,null,null,null,null,null,null,null,null,null,null,"","",""]
[null,null,null,{"$f":"IF(E327=\"\",\"\",AB327)","v":""},{"$f":"IF(F327=\"\",\"\",VLOOKUP(F327,戦績!$N$6:$O$38,2,FALSE))","v":""},null,null,null,null,null,null,null,null,null,null,null,null,null,null,null,null,null,null,null,null,null,null,null,{"$f":"IF(G327=\"\",\"\",(L327*1+M327*2+N327*3+O327*4))","v":""},null,null,null,null,null,null,null,null,null,null,null,null,null,null,null,null,null,null,null,null,null,null,null,null,null,null,{"$f":"IF(AH327=\"\",\"\",(AN327*1+AO327*2+AP327*3+AQ327*4))","v":""},null,null,null,null,null,null,null,null,null,null,null,null,null,null,null,null,null,{"$f":"IF(BI327=\"\",\"\",(BK327+BL327+BM327))","v":""},{"$f":"IF(BI327=\"\",\"\",(BN327+BO327+BP327))","v":""},{"$f":"IF(BI327=\"\",\"\",(BQ327+BR327+BS327))","v":""}]
[null,null,null,"",{"$f":"IF(F328=\"\",\"\",VLOOKUP(F328,戦績!$N$6:$O$38,2,FALSE))","v":""},null,null,null,null,null,null,null,null,null,null,null,null,null,null,null,null,null,null,null,null,null,null,null,"",null,null,null,null,null,null,null,null,null,null,null,null,null,null,null,null,null,null,null,null,null,null,null,null,null,null,"",null,null,null,null,null,null,null,null,null,null,null,null,null,null,null,null,null,"","",""]
[null,null,null,"",{"$f":"IF(F329=\"\",\"\",VLOOKUP(F329,戦績!$N$6:$O$38,2,FALSE))","v":""},null,null,null,null,null,null,null,null,null,null,null,null,null,null,null,null,null,null,null,null,null,null,null,"",null,null,null,null,null,null,null,null,null,null,null,null,null,null,null,null,null,null,null,null,null,null,null,null,null,null,"",null,null,null,null,null,null,null,null,null,null,null,null,null,null,null,null,null,"","",""]
[null,null,null,"",{"$f":"IF(F330=\"\",\"\",VLOOKUP(F330,戦績!$N$6:$O$38,2,FALSE))","v":""},null,null,null,null,null,null,null,null,null,null,null,null,null,null,null,null,null,null,null,null,null,null,null,"",null,null,null,null,null,null,null,null,null,null,null,null,null,null,null,null,null,null,null,null,null,null,null,null,null,null,"",null,null,null,null,null,null,null,null,null,null,null,null,null,null,null,null,null,"","",""]
[null,null,null,"",{"$f":"IF(F331=\"\",\"\",VLOOKUP(F331,戦績!$N$6:$O$38,2,FALSE))","v":""},null,null,null,null,null,null,null,null,null,null,null,null,null,null,null,null,null,null,null,null,null,null,null,"",null,null,null,null,null,null,null,null,null,null,null,null,null,null,null,null,null,null,null,null,null,null,null,null,null,null,"",null,null,null,null,null,null,null,null,null,null,null,null,null,null,null,null,null,"","",""]
[null,null,null,"",{"$f":"IF(F332=\"\",\"\",VLOOKUP(F332,戦績!$N$6:$O$38,2,FALSE))","v":""},null,null,null,null,null,null,null,null,null,null,null,null,null,null,null,null,null,null,null,null,null,null,null,"",null,null,null,null,null,null,null,null,null,null,null,null,null,null,null,null,null,null,null,null,null,null,null,null,null,null,"",null,null,null,null,null,null,null,null,null,null,null,null,null,null,null,null,null,"","",""]
[null,null,null,"",{"$f":"IF(F333=\"\",\"\",VLOOKUP(F333,戦績!$N$6:$O$38,2,FALSE))","v":""},null,null,null,null,null,null,null,null,null,null,null,null,null,null,null,null,null,null,null,null,null,null,null,"",null,null,null,null,null,null,null,null,null,null,null,null,null,null,null,null,null,null,null,null,null,null,null,null,null,null,"",null,null,null,null,null,null,null,null,null,null,null,null,null,null,null,null,null,"","",""]
[null,null,null,"",{"$f":"IF(F334=\"\",\"\",VLOOKUP(F334,戦績!$N$6:$O$38,2,FALSE))","v":""},null,null,null,null,null,null,null,null,null,null,null,null,null,null,null,null,null,null,null,null,null,null,null,"",null,null,null,null,null,null,null,null,null,null,null,null,null,null,null,null,null,null,null,null,null,null,null,null,null,null,"",null,null,null,null,null,null,null,null,null,null,null,null,null,null,null,null,null,"","",""]
[null,null,null,"",{"$f":"IF(F335=\"\",\"\",VLOOKUP(F335,戦績!$N$6:$O$38,2,FALSE))","v":""},null,null,null,null,null,null,null,null,null,null,null,null,null,null,null,null,null,null,null,null,null,null,null,"",null,null,null,null,null,null,null,null,null,null,null,null,null,null,null,null,null,null,null,null,null,null,null,null,null,null,"",null,null,null,null,null,null,null,null,null,null,null,null,null,null,null,null,null,"","",""]
[null,null,null,"",{"$f":"IF(F336=\"\",\"\",VLOOKUP(F336,戦績!$N$6:$O$38,2,FALSE))","v":""},null,null,null,null,null,null,null,null,null,null,null,null,null,null,null,null,null,null,null,null,null,null,null,"",null,null,null,null,null,null,null,null,null,null,null,null,null,null,null,null,null,null,null,null,null,null,null,null,null,null,"",null,null,null,null,null,null,null,null,null,null,null,null,null,null,null,null,null,"","",""]
[null,null,null,"",{"$f":"IF(F337=\"\",\"\",VLOOKUP(F337,戦績!$N$6:$O$38,2,FALSE))","v":""},null,null,null,null,null,null,null,null,null,null,null,null,null,null,null,null,null,null,null,null,null,null,null,"",null,null,null,null,null,null,null,null,null,null,null,null,null,null,null,null,null,null,null,null,null,null,null,null,null,null,"",null,null,null,null,null,null,null,null,null,null,null,null,null,null,null,null,null,"","",""]

{"sheet":"打撃成績","index":4,"n_rows":160,"n_cols":75,"rows_kept":160,"cut":false,"hidden":false,"merged":[[86,29,86,30],[92,29,92,30],[6,28,6,29],[51,28,51,29],[51,66,51,67],[47,28,47,29],[6,66,6,68]]}
[]
[]
[]
[null,null,null,null,"↓チームの選択"]
[null,null,null,null,null,{"$f":"IFERROR(VLOOKUP(E5,戦績!O6:U43,7,FALSE),\"\")","v":""}]
[]
[null,null,null,null,"↓選手個別打撃成績",null,null,null,null,null,null,null,null,null,null,null,null,null,null,null,null,null,null,null,null,null,null,null,"得点圏",null,null,null,null,null,null,null,"得点圏",null,null,null,null,"↓選手個別打球方向",null,null,null,null,null,null,null,null,null,null,null,null,null,null,null,null,null,null,null,"↓チーム別打球方向",null,null,null,null,"率(%)"]
[null,null,null,null,"チーム名","T番","選手名","背番","打席","打数","凡打","安打","二打","三打","本打","打点","得点","三振","四球","死球","犠打","犠飛","盗塁","盗死","併殺","敵失","投数","塁打","打数","安打",null,null,"打率","長打率","出塁率","OPS","打率",null,null,null,null,"チーム名","T番","選手名","背番","一","二","右","捕","投","中","三","遊","左","試数",null,"R","C","L",null,null,"チーム名","T番","R","C","L","R","C","L"]
[null,null,null,null,{"$f":"IF(E5=\"\",\"\",E5)","v":""},{"$f":"IF(G9=\"\",\"\",$F$5)","v":""},null,null,{"$f":"IF(H9=\"\",\"\",SUMIFS(打撃データー!$I$6:$I$500,打撃データー!$F$6:$F$500,F9,打撃データー!$H$6:$H$500,H9))","v":""},{"$f":"IF(H9=\"\",\"\",SUMIFS(打撃データー!$J$6:$J$500,打撃データー!$F$6:$F$500,F9,打撃データー!$H$6:$H$500,H9))","v":""},{"$f":"IF(H9=\"\",\"\",SUMIFS(打撃データー!$K$6:$K$500,打撃データー!$F$6:$F$500,F9,打撃データー!$H$6:$H$500,H9))","v":""},{"$f":"IF(H9=\"\",\"\",SUMIFS(打撃データー!$L$6:$L$500,打撃データー!$F$6:$F$500,F9,打撃データー!$H$6:$H$500,H9))","v":""},{"$f":"IF(H9=\"\",\"\",SUMIFS(打撃データー!$M$6:$M$500,打撃データー!$F$6:$F$500,F9,打撃データー!$H$6:$H$500,H9))","v":""},{"$f":"IF(H9=\"\",\"\",SUMIFS(打撃データー!$N$6:$N$500,打撃データー!$F$6:$F$500,F9,打撃データー!$H$6:$H$500,H9))","v":""},{"$f":"IF(H9=\"\",\"\",SUMIFS(打撃データー!$O$6:$O$500,打撃データー!$F$6:$F$500,F9,打撃データー!$H$6:$H$500,H9))","v":""},{"$f":"IF(H9=\"\",\"\",SUMIFS(打撃データー!$P$6:$P$500,打撃データー!$F$6:$F$500,F9,打撃データー!$H$6:$H$500,H9))","v":""},{"$f":"IF(H9=\"\",\"\",SUMIFS(打撃データー!$Q$6:$Q$500,打撃データー!$F$6:$F$500,F9,打撃データー!$H$6:$H$500,H9))","v":""},{"$f":"IF(H9=\"\",\"\",SUMIFS(打撃データー!$R$6:$R$500,打撃データー!$F$6:$F$500,F9,打撃データー!$H$6:$H$500,H9))","v":""},{"$f":"IF(H9=\"\",\"\",SUMIFS(打撃データー!$S$6:$S$500,打撃データー!$F$6:$F$500,F9,打撃データー!$H$6:$H$500,H9))","v":""},{"$f":"IF(H9=\"\",\"\",SUMIFS(打撃データー!$T$6:$T$500,打撃データー!$F$6:$F$500,F9,打撃データー!$H$6:$H$500,H9))","v":""},{"$f":"IF(H9=\"\",\"\",SUMIFS(打撃データー!$U$6:$U$500,打撃データー!$F$6:$F$500,F9,打撃データー!$H$6:$H$500,H9))","v":""},{"$f":"IF(H9=\"\",\"\",SUMIFS(打撃データー!$V$6:$V$500,打撃データー!$F$6:$F$500,F9,打撃データー!$H$6:$H$500,H9))","v":""},{"$f":"IF(H9=\"\",\"\",SUMIFS(打撃データー!$W$6:$W$500,打撃データー!$F$6:$F$500,F9,打撃データー!$H$6:$H$500,H9))","v":""},{"$f":"IF(H9=\"\",\"\",SUMIFS(打撃データー!$X$6:$X$500,打撃データー!$F$6:$F$500,F9,打撃データー!$H$6:$H$500,H9))","v":""},{"$f":"IF(H9=\"\",\"\",SUMIFS(打撃データー!$Y$6:$Y$500,打撃データー!$F$6:$F$500,F9,打撃データー!$H$6:$H$500,H9))","v":""},{"$f":"IF(H9=\"\",\"\",SUMIFS(打撃データー!$Z$6:$Z$500,打撃データー!$F$6:$F$500,F9,打撃データー!$H$6:$H$500,H9))","v":""},{"$f":"IF(H9=\"\",\"\",SUMIFS(打撃データー!$AA$6:$AA$500,打撃データー!$F$6:$F$500,F9,打撃データー!$H$6:$H$500,H9))","v":""},{"$f":"IF(G9=\"\",\"\",SUMIFS(打撃データー!$AC$6:$AC$337,打撃データー!$E$6:$E$337,$E$9,打撃データー!$G$6:$G$337,G9))","v":""},{"$f":"IF(G9=\"\",\"\",SUMIFS(打撃データー!$BE$6:$BE$337,打撃データー!$AG$6:$AG$337,F9,打撃データー!$AH$6:$AH$337,G9))","v":""},{"$f":"IF(G9=\"\",\"\",SUMIFS(打撃データー!$BF$6:$BF$337,打撃データー!$AG$6:$AG$337,F9,打撃データー!$AH$6:$AH$337,G9))","v":""},null,null,{"$f":"IF(G9=\"\",\"\",(L9+M9+N9+O9)/J9)","v":""},{"$f":"IF(G9=\"\",\"\",AB9/J9)","v":""},{"$f":"IF(G9=\"\",\"\",(L9+M9+N9+O9+R9+S9)/(J9+R9+S9+V9))","v":""},{"$f":"IF(G9=\"\",\"\",(AH9+AI9))","v":""},{"$f":"IF(G9=\"\",\"\",IFERROR(AD9/AC9,\"無\"))","v":""},null,null,null,null,{"$f":"IF($E$5=\"\",\"\",E9)","v":""},{"$f":"IF(F9=\"\",\"\",F9)","v":""},{"$f":"IF(G9=\"\",\"\",G9)","v":""},{"$f":"IF(H9=\"\",\"\",H9)","v":""},{"$f":"IF(AR9=\"\",\"\",SUMIFS(打撃データー!$BK$6:$BK$500,打撃データー!$BH$6:$BH$500,AQ9,打撃データー!$BI$6:$BI$500,AR9))","v":""},{"$f":"IF(AR9=\"\",\"\",SUMIFS(打撃データー!$BL$6:$BL$500,打撃データー!$BH$6:$BH$500,AQ9,打撃データー!$BI$6:$BI$500,AR9))","v":""},{"$f":"IF(AR9=\"\",\"\",SUMIFS(打撃データー!$BM$6:$BM$500,打撃データー!$BH$6:$BH$500,AQ9,打撃データー!$BI$6:$BI$500,AR9))","v":""},{"$f":"IF(AR9=\"\",\"\",SUMIFS(打撃データー!$BN$6:$BN$500,打撃データー!$BH$6:$BH$500,AQ9,打撃データー!$BI$6:$BI$500,$AR9))","v":""},{"$f":"IF(AR9=\"\",\"\",SUMIFS(打撃データー!$BO$6:$BO$500,打撃データー!$BH$6:$BH$500,AQ9,打撃データー!$BI$6:$BI$500,AR9))","v":""},{"$f":"IF(AR9=\"\",\"\",SUMIFS(打撃データー!$BP$6:$BP$500,打撃データー!$BH$6:$BH$500,AQ9,打撃データー!$BI$6:$BI$500,AR9))","v":""},{"$f":"IF(AR9=\"\",\"\",SUMIFS(打撃データー!$BQ$6:$BQ$500,打撃データー!$BH$6:$BH$500,AQ9,打撃データー!$BI$6:$BI$500,AR9))","v":""},{"$f":"IF(AR9=\"\",\"\",SUMIFS(打撃データー!$BR$6:$BR$500,打撃データー!$BH$6:$BH$500,AQ9,打撃データー!$BI$6:$BI$500,AR9))","v":""},{"$f":"IF(AR9=\"\",\"\",SUMIFS(打撃データー!$BS$6:$BS$500,打撃データー!$BH$6:$BH$500,AQ9,打撃データー!$BI$6:$BI$500,AR9))","v":""},{"$f":"IF(AR9=\"\",\"\",COUNTIFS(打撃データー!BH6:BH500,AQ9,打撃データー!BI6:BI500,AR9))","v":""},null,{"$f":"IF(AR9=\"\",\"\",SUM(AT9:AV9))","v":""},{"$f":"IF(AR9=\"\",\"\",SUM(AW9:AY9))","v":""},{"$f":"IF(AR9=\"\",\"\",SUM(AZ9:BB9))","v":""},null,null,{"$f":"IF(戦績!O6=\"\",\"\",戦績!O6)","v":""},{"$f":"IF(BJ9=\"\",\"\",VLOOKUP(BJ9,戦績!$O$6:$U$38,7,FALSE))","v":""},{"$f":"IF(BK9=\"\",\"\",SUMIF(打撃データー!$BH$6:$BH$500,BK9,打撃データー!$BV$6:$BV$500))","v":""},{"$f":"IF(BK9=\"\",\"\",SUMIF(打撃データー!$BH$6:$BH$500,BK9,打撃データー!$BW$6:$BW$500))","v":""},{"$f":"IF(BK9=\"\",\"\",SUMIF(打撃データー!$BH$6:$BH$500,BK9,打撃データー!$BX$6:$BX$500))","v":""},{"$f":"IFERROR(BL9*100/(BL9+BM9+BN9),\"\")","v":""},{"$f":"IFERROR(BM9*100/(BL9+BM9+BN9),\"\")","v":""},{"$f":"IFERROR(BN9*100/(BL9+BM9+BN9),\"\")","v":""},null,null,null,null,{"$f":"IF(AQ9=\"\",\"\",(BT9+BU9))","v":""},{"$f":"IF(AQ9=\"\",\"\",BP9/BO9)","v":""}]
[null,null,null,null,null,{"$f":"IF(G10=\"\",\"\",$F$5)","v":""},null,null,{"$f":"IF(H10=\"\",\"\",SUMIFS(打撃データー!$I$6:$I$500,打撃データー!$F$6:$F$500,F10,打撃データー!$H$6:$H$500,H10))","v":""},{"$f":"IF(H10=\"\",\"\",SUMIFS(打撃データー!$J$6:$J$500,打撃データー!$F$6:$F$500,F10,打撃データー!$H$6:$H$500,H10))","v":""},{"$f":"IF(H10=\"\",\"\",SUMIFS(打撃データー!$K$6:$K$500,打撃データー!$F$6:$F$500,F10,打撃データー!$H$6:$H$500,H10))","v":""},{"$f":"IF(H10=\"\",\"\",SUMIFS(打撃データー!$L$6:$L$500,打撃データー!$F$6:$F$500,F10,打撃データー!$H$6:$H$500,H10))","v":""},{"$f":"IF(H10=\"\",\"\",SUMIFS(打撃データー!$M$6:$M$500,打撃データー!$F$6:$F$500,F10,打撃データー!$H$6:$H$500,H10))","v":""},{"$f":"IF(H10=\"\",\"\",SUMIFS(打撃データー!$N$6:$N$500,打撃データー!$F$6:$F$500,F10,打撃データー!$H$6:$H$500,H10))","v":""},{"$f":"IF(H10=\"\",\"\",SUMIFS(打撃データー!$O$6:$O$500,打撃データー!$F$6:$F$500,F10,打撃データー!$H$6:$H$500,H10))","v":""},{"$f":"IF(H10=\"\",\"\",SUMIFS(打撃データー!$P$6:$P$500,打撃データー!$F$6:$F$500,F10,打撃データー!$H$6:$H$500,H10))","v":""},{"$f":"IF(H10=\"\",\"\",SUMIFS(打撃データー!$Q$6:$Q$500,打撃データー!$F$6:$F$500,F10,打撃データー!$H$6:$H$500,H10))","v":""},{"$f":"IF(H10=\"\",\"\",SUMIFS(打撃データー!$R$6:$R$500,打撃データー!$F$6:$F$500,F10,打撃データー!$H$6:$H$500,H10))","v":""},{"$f":"IF(H10=\"\",\"\",SUMIFS(打撃データー!$S$6:$S$500,打撃データー!$F$6:$F$500,F10,打撃データー!$H$6:$H$500,H10))","v":""},{"$f":"IF(H10=\"\",\"\",SUMIFS(打撃データー!$T$6:$T$500,打撃データー!$F$6:$F$500,F10,打撃データー!$H$6:$H$500,H10))","v":""},{"$f":"IF(H10=\"\",\"\",SUMIFS(打撃データー!$U$6:$U$500,打撃データー!$F$6:$F$500,F10,打撃データー!$H$6:$H$500,H10))","v":""},{"$f":"IF(H10=\"\",\"\",SUMIFS(打撃データー!$V$6:$V$500,打撃データー!$F$6:$F$500,F10,打撃データー!$H$6:$H$500,H10))","v":""},{"$f":"IF(H10=\"\",\"\",SUMIFS(打撃データー!$W$6:$W$500,打撃データー!$F$6:$F$500,F10,打撃データー!$H$6:$H$500,H10))","v":""},{"$f":"IF(H10=\"\",\"\",SUMIFS(打撃データー!$X$6:$X$500,打撃データー!$F$6:$F$500,F10,打撃データー!$H$6:$H$500,H10))","v":""},{"$f":"IF(H10=\"\",\"\",SUMIFS(打撃データー!$Y$6:$Y$500,打撃データー!$F$6:$F$500,F10,打撃データー!$H$6:$H$500,H10))","v":""},{"$f":"IF(H10=\"\",\"\",SUMIFS(打撃データー!$Z$6:$Z$500,打撃データー!$F$6:$F$500,F10,打撃データー!$H$6:$H$500,H10))","v":""},{"$f":"IF(H10=\"\",\"\",SUMIFS(打撃データー!$AA$6:$AA$500,打撃データー!$F$6:$F$500,F10,打撃データー!$H$6:$H$500,H10))","v":""},{"$f":"IF(G10=\"\",\"\",SUMIFS(打撃データー!$AC$6:$AC$337,打撃データー!$E$6:$E$337,$E$9,打撃データー!$G$6:$G$337,G10))","v":""},{"$f":"IF(G10=\"\",\"\",SUMIFS(打撃データー!$BE$6:$BE$337,打撃データー!$AG$6:$AG$337,F10,打撃データー!$AH$6:$AH$337,G10))","v":""},{"$f":"IF(G10=\"\",\"\",SUMIFS(打撃データー!$BF$6:$BF$337,打撃データー!$AG$6:$AG$337,F10,打撃データー!$AH$6:$AH$337,G10))","v":""},null,null,{"$f":"IF(G10=\"\",\"\",(L10+M10+N10+O10)/J10)","v":""},{"$f":"IF(G10=\"\",\"\",AB10/J10)","v":""},{"$f":"IF(G10=\"\",\"\",(L10+M10+N10+O10+R10+S10)/(J10+R10+S10+V10))","v":""},{"$f":"IF(G10=\"\",\"\",(AH10+AI10))","v":""},{"$f":"IF(G10=\"\",\"\",IFERROR(AD10/AC10,\"無\"))","v":""},null,null,null,null,null,{"$f":"IF(F10=\"\",\"\",F10)","v":""},{"$f":"IF(G10=\"\",\"\",G10)","v":""},{"$f":"IF(H10=\"\",\"\",H10)","v":""},{"$f":"IF(AR10=\"\",\"\",SUMIFS(打撃データー!$BK$6:$BK$500,打撃データー!$BH$6:$BH$500,AQ10,打撃データー!$BI$6:$BI$500,AR10))","v":""},{"$f":"IF(AR10=\"\",\"\",SUMIFS(打撃データー!$BL$6:$BL$500,打撃データー!$BH$6:$BH$500,AQ10,打撃データー!$BI$6:$BI$500,AR10))","v":""},{"$f":"IF(AR10=\"\",\"\",SUMIFS(打撃データー!$BM$6:$BM$500,打撃データー!$BH$6:$BH$500,AQ10,打撃データー!$BI$6:$BI$500,AR10))","v":""},{"$f":"IF(AR10=\"\",\"\",SUMIFS(打撃データー!$BN$6:$BN$500,打撃データー!$BH$6:$BH$500,AQ10,打撃データー!$BI$6:$BI$500,$AR10))","v":""},{"$f":"IF(AR10=\"\",\"\",SUMIFS(打撃データー!$BO$6:$BO$500,打撃データー!$BH$6:$BH$500,AQ10,打撃データー!$BI$6:$BI$500,AR10))","v":""},{"$f":"IF(AR10=\"\",\"\",SUMIFS(打撃データー!$BP$6:$BP$500,打撃データー!$BH$6:$BH$500,AQ10,打撃データー!$BI$6:$BI$500,AR10))","v":""},{"$f":"IF(AR10=\"\",\"\",SUMIFS(打撃データー!$BQ$6:$BQ$500,打撃データー!$BH$6:$BH$500,AQ10,打撃データー!$BI$6:$BI$500,AR10))","v":""},{"$f":"IF(AR10=\"\",\"\",SUMIFS(打撃データー!$BR$6:$BR$500,打撃データー!$BH$6:$BH$500,AQ10,打撃データー!$BI$6:$BI$500,AR10))","v":""},{"$f":"IF(AR10=\"\",\"\",SUMIFS(打撃データー!$BS$6:$BS$500,打撃データー!$BH$6:$BH$500,AQ10,打撃データー!$BI$6:$BI$500,AR10))","v":""},{"$f":"IF(AR10=\"\",\"\",COUNTIFS(打撃データー!BH7:BH501,AQ10,打撃データー!BI7:BI501,AR10))","v":""},null,{"$f":"IF(AR10=\"\",\"\",SUM(AT10:AV10))","v":""},{"$f":"IF(AR10=\"\",\"\",SUM(AW10:AY10))","v":""},{"$f":"IF(AR10=\"\",\"\",SUM(AZ10:BB10))","v":""},null,null,{"$f":"IF(戦績!O7=\"\",\"\",戦績!O7)","v":""},{"$f":"IF(BJ10=\"\",\"\",VLOOKUP(BJ10,戦績!$O$6:$U$38,7,FALSE))","v":""},{"$f":"IF(BK10=\"\",\"\",SUMIF(打撃データー!$BH$6:$BH$500,BK10,打撃データー!$BV$6:$BV$500))","v":""},{"$f":"IF(BK10=\"\",\"\",SUMIF(打撃データー!$BH$6:$BH$500,BK10,打撃データー!$BW$6:$BW$500))","v":""},{"$f":"IF(BK10=\"\",\"\",SUMIF(打撃データー!$BH$6:$BH$500,BK10,打撃データー!$BX$6:$BX$500))","v":""},{"$f":"IFERROR(BL10*100/(BL10+BM10+BN10),\"\")","v":""},{"$f":"IFERROR(BM10*100/(BL10+BM10+BN10),\"\")","v":""},{"$f":"IFERROR(BN10*100/(BL10+BM10+BN10),\"\")","v":""},null,null,null,null,"",""]
[null,null,null,null,null,"",null,null,{"$f":"IF(H11=\"\",\"\",SUMIFS(打撃データー!$I$6:$I$500,打撃データー!$F$6:$F$500,F11,打撃データー!$H$6:$H$500,H11))","v":""},{"$f":"IF(H11=\"\",\"\",SUMIFS(打撃データー!$J$6:$J$500,打撃データー!$F$6:$F$500,F11,打撃データー!$H$6:$H$500,H11))","v":""},{"$f":"IF(H11=\"\",\"\",SUMIFS(打撃データー!$K$6:$K$500,打撃データー!$F$6:$F$500,F11,打撃データー!$H$6:$H$500,H11))","v":""},{"$f":"IF(H11=\"\",\"\",SUMIFS(打撃データー!$L$6:$L$500,打撃データー!$F$6:$F$500,F11,打撃データー!$H$6:$H$500,H11))","v":""},{"$f":"IF(H11=\"\",\"\",SUMIFS(打撃データー!$M$6:$M$500,打撃データー!$F$6:$F$500,F11,打撃データー!$H$6:$H$500,H11))","v":""},{"$f":"IF(H11=\"\",\"\",SUMIFS(打撃データー!$N$6:$N$500,打撃データー!$F$6:$F$500,F11,打撃データー!$H$6:$H$500,H11))","v":""},{"$f":"IF(H11=\"\",\"\",SUMIFS(打撃データー!$O$6:$O$500,打撃データー!$F$6:$F$500,F11,打撃データー!$H$6:$H$500,H11))","v":""},{"$f":"IF(H11=\"\",\"\",SUMIFS(打撃データー!$P$6:$P$500,打撃データー!$F$6:$F$500,F11,打撃データー!$H$6:$H$500,H11))","v":""},{"$f":"IF(H11=\"\",\"\",SUMIFS(打撃データー!$Q$6:$Q$500,打撃データー!$F$6:$F$500,F11,打撃データー!$H$6:$H$500,H11))","v":""},{"$f":"IF(H11=\"\",\"\",SUMIFS(打撃データー!$R$6:$R$500,打撃データー!$F$6:$F$500,F11,打撃データー!$H$6:$H$500,H11))","v":""},{"$f":"IF(H11=\"\",\"\",SUMIFS(打撃データー!$S$6:$S$500,打撃データー!$F$6:$F$500,F11,打撃データー!$H$6:$H$500,H11))","v":""},{"$f":"IF(H11=\"\",\"\",SUMIFS(打撃データー!$T$6:$T$500,打撃データー!$F$6:$F$500,F11,打撃データー!$H$6:$H$500,H11))","v":""},{"$f":"IF(H11=\"\",\"\",SUMIFS(打撃データー!$U$6:$U$500,打撃データー!$F$6:$F$500,F11,打撃データー!$H$6:$H$500,H11))","v":""},{"$f":"IF(H11=\"\",\"\",SUMIFS(打撃データー!$V$6:$V$500,打撃データー!$F$6:$F$500,F11,打撃データー!$H$6:$H$500,H11))","v":""},{"$f":"IF(H11=\"\",\"\",SUMIFS(打撃データー!$W$6:$W$500,打撃データー!$F$6:$F$500,F11,打撃データー!$H$6:$H$500,H11))","v":""},{"$f":"IF(H11=\"\",\"\",SUMIFS(打撃データー!$X$6:$X$500,打撃データー!$F$6:$F$500,F11,打撃データー!$H$6:$H$500,H11))","v":""},{"$f":"IF(H11=\"\",\"\",SUMIFS(打撃データー!$Y$6:$Y$500,打撃データー!$F$6:$F$500,F11,打撃データー!$H$6:$H$500,H11))","v":""},{"$f":"IF(H11=\"\",\"\",SUMIFS(打撃データー!$Z$6:$Z$500,打撃データー!$F$6:$F$500,F11,打撃データー!$H$6:$H$500,H11))","v":""},{"$f":"IF(H11=\"\",\"\",SUMIFS(打撃データー!$AA$6:$AA$500,打撃データー!$F$6:$F$500,F11,打撃データー!$H$6:$H$500,H11))","v":""},{"$f":"IF(G11=\"\",\"\",SUMIFS(打撃データー!$AC$6:$AC$337,打撃データー!$E$6:$E$337,$E$9,打撃データー!$G$6:$G$337,G11))","v":""},{"$f":"IF(G11=\"\",\"\",SUMIFS(打撃データー!$BE$6:$BE$337,打撃データー!$AG$6:$AG$337,F11,打撃データー!$AH$6:$AH$337,G11))","v":""},{"$f":"IF(G11=\"\",\"\",SUMIFS(打撃データー!$BF$6:$BF$337,打撃データー!$AG$6:$AG$337,F11,打撃データー!$AH$6:$AH$337,G11))","v":""},null,null,"","","","","",null,null,null,null,null,"","","",{"$f":"IF(AR11=\"\",\"\",SUMIFS(打撃データー!$BK$6:$BK$500,打撃データー!$BH$6:$BH$500,AQ11,打撃データー!$BI$6:$BI$500,AR11))","v":""},{"$f":"IF(AR11=\"\",\"\",SUMIFS(打撃データー!$BL$6:$BL$500,打撃データー!$BH$6:$BH$500,AQ11,打撃データー!$BI$6:$BI$500,AR11))","v":""},{"$f":"IF(AR11=\"\",\"\",SUMIFS(打撃データー!$BM$6:$BM$500,打撃データー!$BH$6:$BH$500,AQ11,打撃データー!$BI$6:$BI$500,AR11))","v":""},{"$f":"IF(AR11=\"\",\"\",SUMIFS(打撃データー!$BN$6:$BN$500,打撃データー!$BH$6:$BH$500,AQ11,打撃データー!$BI$6:$BI$500,$AR11))","v":""},{"$f":"IF(AR11=\"\",\"\",SUMIFS(打撃データー!$BO$6:$BO$500,打撃データー!$BH$6:$BH$500,AQ11,打撃データー!$BI$6:$BI$500,AR11))","v":""},{"$f":"IF(AR11=\"\",\"\",SUMIFS(打撃データー!$BP$6:$BP$500,打撃データー!$BH$6:$BH$500,AQ11,打撃データー!$BI$6:$BI$500,AR11))","v":""},{"$f":"IF(AR11=\"\",\"\",SUMIFS(打撃データー!$BQ$6:$BQ$500,打撃データー!$BH$6:$BH$500,AQ11,打撃データー!$BI$6:$BI$500,AR11))","v":""},{"$f":"IF(AR11=\"\",\"\",SUMIFS(打撃データー!$BR$6:$BR$500,打撃データー!$BH$6:$BH$500,AQ11,打撃データー!$BI$6:$BI$500,AR11))","v":""},{"$f":"IF(AR11=\"\",\"\",SUMIFS(打撃データー!$BS$6:$BS$500,打撃データー!$BH$6:$BH$500,AQ11,打撃データー!$BI$6:$BI$500,AR11))","v":""},{"$f":"IF(AR11=\"\",\"\",COUNTIFS(打撃データー!BH8:BH502,AQ11,打撃データー!BI8:BI502,AR11))","v":""},null,"","","",null,null,{"$f":"IF(戦績!O8=\"\",\"\",戦績!O8)","v":""},{"$f":"IF(BJ11=\"\",\"\",VLOOKUP(BJ11,戦績!$O$6:$U$38,7,FALSE))","v":""},{"$f":"IF(BK11=\"\",\"\",SUMIF(打撃データー!$BH$6:$BH$500,BK11,打撃データー!$BV$6:$BV$500))","v":""},{"$f":"IF(BK11=\"\",\"\",SUMIF(打撃データー!$BH$6:$BH$500,BK11,打撃データー!$BW$6:$BW$500))","v":""},{"$f":"IF(BK11=\"\",\"\",SUMIF(打撃データー!$BH$6:$BH$500,BK11,打撃データー!$BX$6:$BX$500))","v":""},"","","",null,null,null,null,"",""]
[null,null,null,null,null,"",null,null,{"$f":"IF(H12=\"\",\"\",SUMIFS(打撃データー!$I$6:$I$500,打撃データー!$F$6:$F$500,F12,打撃データー!$H$6:$H$500,H12))","v":""},{"$f":"IF(H12=\"\",\"\",SUMIFS(打撃データー!$J$6:$J$500,打撃データー!$F$6:$F$500,F12,打撃データー!$H$6:$H$500,H12))","v":""},{"$f":"IF(H12=\"\",\"\",SUMIFS(打撃データー!$K$6:$K$500,打撃データー!$F$6:$F$500,F12,打撃データー!$H$6:$H$500,H12))","v":""},{"$f":"IF(H12=\"\",\"\",SUMIFS(打撃データー!$L$6:$L$500,打撃データー!$F$6:$F$500,F12,打撃データー!$H$6:$H$500,H12))","v":""},{"$f":"IF(H12=\"\",\"\",SUMIFS(打撃データー!$M$6:$M$500,打撃データー!$F$6:$F$500,F12,打撃データー!$H$6:$H$500,H12))","v":""},{"$f":"IF(H12=\"\",\"\",SUMIFS(打撃データー!$N$6:$N$500,打撃データー!$F$6:$F$500,F12,打撃データー!$H$6:$H$500,H12))","v":""},{"$f":"IF(H12=\"\",\"\",SUMIFS(打撃データー!$O$6:$O$500,打撃データー!$F$6:$F$500,F12,打撃データー!$H$6:$H$500,H12))","v":""},{"$f":"IF(H12=\"\",\"\",SUMIFS(打撃データー!$P$6:$P$500,打撃データー!$F$6:$F$500,F12,打撃データー!$H$6:$H$500,H12))","v":""},{"$f":"IF(H12=\"\",\"\",SUMIFS(打撃データー!$Q$6:$Q$500,打撃データー!$F$6:$F$500,F12,打撃データー!$H$6:$H$500,H12))","v":""},{"$f":"IF(H12=\"\",\"\",SUMIFS(打撃データー!$R$6:$R$500,打撃データー!$F$6:$F$500,F12,打撃データー!$H$6:$H$500,H12))","v":""},{"$f":"IF(H12=\"\",\"\",SUMIFS(打撃データー!$S$6:$S$500,打撃データー!$F$6:$F$500,F12,打撃データー!$H$6:$H$500,H12))","v":""},{"$f":"IF(H12=\"\",\"\",SUMIFS(打撃データー!$T$6:$T$500,打撃データー!$F$6:$F$500,F12,打撃データー!$H$6:$H$500,H12))","v":""},{"$f":"IF(H12=\"\",\"\",SUMIFS(打撃データー!$U$6:$U$500,打撃データー!$F$6:$F$500,F12,打撃データー!$H$6:$H$500,H12))","v":""},{"$f":"IF(H12=\"\",\"\",SUMIFS(打撃データー!$V$6:$V$500,打撃データー!$F$6:$F$500,F12,打撃データー!$H$6:$H$500,H12))","v":""},{"$f":"IF(H12=\"\",\"\",SUMIFS(打撃データー!$W$6:$W$500,打撃データー!$F$6:$F$500,F12,打撃データー!$H$6:$H$500,H12))","v":""},{"$f":"IF(H12=\"\",\"\",SUMIFS(打撃データー!$X$6:$X$500,打撃データー!$F$6:$F$500,F12,打撃データー!$H$6:$H$500,H12))","v":""},{"$f":"IF(H12=\"\",\"\",SUMIFS(打撃データー!$Y$6:$Y$500,打撃データー!$F$6:$F$500,F12,打撃データー!$H$6:$H$500,H12))","v":""},{"$f":"IF(H12=\"\",\"\",SUMIFS(打撃データー!$Z$6:$Z$500,打撃データー!$F$6:$F$500,F12,打撃データー!$H$6:$H$500,H12))","v":""},{"$f":"IF(H12=\"\",\"\",SUMIFS(打撃データー!$AA$6:$AA$500,打撃データー!$F$6:$F$500,F12,打撃データー!$H$6:$H$500,H12))","v":""},{"$f":"IF(G12=\"\",\"\",SUMIFS(打撃データー!$AC$6:$AC$337,打撃データー!$E$6:$E$337,$E$9,打撃データー!$G$6:$G$337,G12))","v":""},{"$f":"IF(G12=\"\",\"\",SUMIFS(打撃データー!$BE$6:$BE$337,打撃データー!$AG$6:$AG$337,F12,打撃データー!$AH$6:$AH$337,G12))","v":""},{"$f":"IF(G12=\"\",\"\",SUMIFS(打撃データー!$BF$6:$BF$337,打撃データー!$AG$6:$AG$337,F12,打撃データー!$AH$6:$AH$337,G12))","v":""},null,null,"","","","","",null,null,null,null,null,"","","",{"$f":"IF(AR12=\"\",\"\",SUMIFS(打撃データー!$BK$6:$BK$500,打撃データー!$BH$6:$BH$500,AQ12,打撃データー!$BI$6:$BI$500,AR12))","v":""},{"$f":"IF(AR12=\"\",\"\",SUMIFS(打撃データー!$BL$6:$BL$500,打撃データー!$BH$6:$BH$500,AQ12,打撃データー!$BI$6:$BI$500,AR12))","v":""},{"$f":"IF(AR12=\"\",\"\",SUMIFS(打撃データー!$BM$6:$BM$500,打撃データー!$BH$6:$BH$500,AQ12,打撃データー!$BI$6:$BI$500,AR12))","v":""},{"$f":"IF(AR12=\"\",\"\",SUMIFS(打撃データー!$BN$6:$BN$500,打撃データー!$BH$6:$BH$500,AQ12,打撃データー!$BI$6:$BI$500,$AR12))","v":""},{"$f":"IF(AR12=\"\",\"\",SUMIFS(打撃データー!$BO$6:$BO$500,打撃データー!$BH$6:$BH$500,AQ12,打撃データー!$BI$6:$BI$500,AR12))","v":""},{"$f":"IF(AR12=\"\",\"\",SUMIFS(打撃データー!$BP$6:$BP$500,打撃データー!$BH$6:$BH$500,AQ12,打撃データー!$BI$6:$BI$500,AR12))","v":""},{"$f":"IF(AR12=\"\",\"\",SUMIFS(打撃データー!$BQ$6:$BQ$500,打撃データー!$BH$6:$BH$500,AQ12,打撃データー!$BI$6:$BI$500,AR12))","v":""},{"$f":"IF(AR12=\"\",\"\",SUMIFS(打撃データー!$BR$6:$BR$500,打撃データー!$BH$6:$BH$500,AQ12,打撃データー!$BI$6:$BI$500,AR12))","v":""},{"$f":"IF(AR12=\"\",\"\",SUMIFS(打撃データー!$BS$6:$BS$500,打撃データー!$BH$6:$BH$500,AQ12,打撃データー!$BI$6:$BI$500,AR12))","v":""},{"$f":"IF(AR12=\"\",\"\",COUNTIFS(打撃データー!BH9:BH503,AQ12,打撃データー!BI9:BI503,AR12))","v":""},null,"","","",null,null,{"$f":"IF(戦績!O9=\"\",\"\",戦績!O9)","v":""},{"$f":"IF(BJ12=\"\",\"\",VLOOKUP(BJ12,戦績!$O$6:$U$38,7,FALSE))","v":""},{"$f":"IF(BK12=\"\",\"\",SUMIF(打撃データー!$BH$6:$BH$500,BK12,打撃データー!$BV$6:$BV$500))","v":""},{"$f":"IF(BK12=\"\",\"\",SUMIF(打撃データー!$BH$6:$BH$500,BK12,打撃データー!$BW$6:$BW$500))","v":""},{"$f":"IF(BK12=\"\",\"\",SUMIF(打撃データー!$BH$6:$BH$500,BK12,打撃データー!$BX$6:$BX$500))","v":""},"","","",null,null,null,null,"",""]
[null,null,null,null,null,"",null,null,{"$f":"IF(H13=\"\",\"\",SUMIFS(打撃データー!$I$6:$I$500,打撃データー!$F$6:$F$500,F13,打撃データー!$H$6:$H$500,H13))","v":""},{"$f":"IF(H13=\"\",\"\",SUMIFS(打撃データー!$J$6:$J$500,打撃データー!$F$6:$F$500,F13,打撃データー!$H$6:$H$500,H13))","v":""},{"$f":"IF(H13=\"\",\"\",SUMIFS(打撃データー!$K$6:$K$500,打撃データー!$F$6:$F$500,F13,打撃データー!$H$6:$H$500,H13))","v":""},{"$f":"IF(H13=\"\",\"\",SUMIFS(打撃データー!$L$6:$L$500,打撃データー!$F$6:$F$500,F13,打撃データー!$H$6:$H$500,H13))","v":""},{"$f":"IF(H13=\"\",\"\",SUMIFS(打撃データー!$M$6:$M$500,打撃データー!$F$6:$F$500,F13,打撃データー!$H$6:$H$500,H13))","v":""},{"$f":"IF(H13=\"\",\"\",SUMIFS(打撃データー!$N$6:$N$500,打撃データー!$F$6:$F$500,F13,打撃データー!$H$6:$H$500,H13))","v":""},{"$f":"IF(H13=\"\",\"\",SUMIFS(打撃データー!$O$6:$O$500,打撃データー!$F$6:$F$500,F13,打撃データー!$H$6:$H$500,H13))","v":""},{"$f":"IF(H13=\"\",\"\",SUMIFS(打撃データー!$P$6:$P$500,打撃データー!$F$6:$F$500,F13,打撃データー!$H$6:$H$500,H13))","v":""},{"$f":"IF(H13=\"\",\"\",SUMIFS(打撃データー!$Q$6:$Q$500,打撃データー!$F$6:$F$500,F13,打撃データー!$H$6:$H$500,H13))","v":""},{"$f":"IF(H13=\"\",\"\",SUMIFS(打撃データー!$R$6:$R$500,打撃データー!$F$6:$F$500,F13,打撃データー!$H$6:$H$500,H13))","v":""},{"$f":"IF(H13=\"\",\"\",SUMIFS(打撃データー!$S$6:$S$500,打撃データー!$F$6:$F$500,F13,打撃データー!$H$6:$H$500,H13))","v":""},{"$f":"IF(H13=\"\",\"\",SUMIFS(打撃データー!$T$6:$T$500,打撃データー!$F$6:$F$500,F13,打撃データー!$H$6:$H$500,H13))","v":""},{"$f":"IF(H13=\"\",\"\",SUMIFS(打撃データー!$U$6:$U$500,打撃データー!$F$6:$F$500,F13,打撃データー!$H$6:$H$500,H13))","v":""},{"$f":"IF(H13=\"\",\"\",SUMIFS(打撃データー!$V$6:$V$500,打撃データー!$F$6:$F$500,F13,打撃データー!$H$6:$H$500,H13))","v":""},{"$f":"IF(H13=\"\",\"\",SUMIFS(打撃データー!$W$6:$W$500,打撃データー!$F$6:$F$500,F13,打撃データー!$H$6:$H$500,H13))","v":""},{"$f":"IF(H13=\"\",\"\",SUMIFS(打撃データー!$X$6:$X$500,打撃データー!$F$6:$F$500,F13,打撃データー!$H$6:$H$500,H13))","v":""},{"$f":"IF(H13=\"\",\"\",SUMIFS(打撃データー!$Y$6:$Y$500,打撃データー!$F$6:$F$500,F13,打撃データー!$H$6:$H$500,H13))","v":""},{"$f":"IF(H13=\"\",\"\",SUMIFS(打撃データー!$Z$6:$Z$500,打撃データー!$F$6:$F$500,F13,打撃データー!$H$6:$H$500,H13))","v":""},{"$f":"IF(H13=\"\",\"\",SUMIFS(打撃データー!$AA$6:$AA$500,打撃データー!$F$6:$F$500,F13,打撃データー!$H$6:$H$500,H13))","v":""},{"$f":"IF(G13=\"\",\"\",SUMIFS(打撃データー!$AC$6:$AC$337,打撃データー!$E$6:$E$337,$E$9,打撃データー!$G$6:$G$337,G13))","v":""},{"$f":"IF(G13=\"\",\"\",SUMIFS(打撃データー!$BE$6:$BE$337,打撃データー!$AG$6:$AG$337,F13,打撃データー!$AH$6:$AH$337,G13))","v":""},{"$f":"IF(G13=\"\",\"\",SUMIFS(打撃データー!$BF$6:$BF$337,打撃データー!$AG$6:$AG$337,F13,打撃データー!$AH$6:$AH$337,G13))","v":""},null,null,"","","","","",null,null,null,null,null,"","","",{"$f":"IF(AR13=\"\",\"\",SUMIFS(打撃データー!$BK$6:$BK$500,打撃データー!$BH$6:$BH$500,AQ13,打撃データー!$BI$6:$BI$500,AR13))","v":""},{"$f":"IF(AR13=\"\",\"\",SUMIFS(打撃データー!$BL$6:$BL$500,打撃データー!$BH$6:$BH$500,AQ13,打撃データー!$BI$6:$BI$500,AR13))","v":""},{"$f":"IF(AR13=\"\",\"\",SUMIFS(打撃データー!$BM$6:$BM$500,打撃データー!$BH$6:$BH$500,AQ13,打撃データー!$BI$6:$BI$500,AR13))","v":""},{"$f":"IF(AR13=\"\",\"\",SUMIFS(打撃データー!$BN$6:$BN$500,打撃データー!$BH$6:$BH$500,AQ13,打撃データー!$BI$6:$BI$500,$AR13))","v":""},{"$f":"IF(AR13=\"\",\"\",SUMIFS(打撃データー!$BO$6:$BO$500,打撃データー!$BH$6:$BH$500,AQ13,打撃データー!$BI$6:$BI$500,AR13))","v":""},{"$f":"IF(AR13=\"\",\"\",SUMIFS(打撃データー!$BP$6:$BP$500,打撃データー!$BH$6:$BH$500,AQ13,打撃データー!$BI$6:$BI$500,AR13))","v":""},{"$f":"IF(AR13=\"\",\"\",SUMIFS(打撃データー!$BQ$6:$BQ$500,打撃データー!$BH$6:$BH$500,AQ13,打撃データー!$BI$6:$BI$500,AR13))","v":""},{"$f":"IF(AR13=\"\",\"\",SUMIFS(打撃データー!$BR$6:$BR$500,打撃データー!$BH$6:$BH$500,AQ13,打撃データー!$BI$6:$BI$500,AR13))","v":""},{"$f":"IF(AR13=\"\",\"\",SUMIFS(打撃データー!$BS$6:$BS$500,打撃データー!$BH$6:$BH$500,AQ13,打撃データー!$BI$6:$BI$500,AR13))","v":""},{"$f":"IF(AR13=\"\",\"\",COUNTIFS(打撃データー!BH10:BH504,AQ13,打撃データー!BI10:BI504,AR13))","v":""},null,"","","",null,null,{"$f":"IF(戦績!O10=\"\",\"\",戦績!O10)","v":""},{"$f":"IF(BJ13=\"\",\"\",VLOOKUP(BJ13,戦績!$O$6:$U$38,7,FALSE))","v":""},{"$f":"IF(BK13=\"\",\"\",SUMIF(打撃データー!$BH$6:$BH$500,BK13,打撃データー!$BV$6:$BV$500))","v":""},{"$f":"IF(BK13=\"\",\"\",SUMIF(打撃データー!$BH$6:$BH$500,BK13,打撃データー!$BW$6:$BW$500))","v":""},{"$f":"IF(BK13=\"\",\"\",SUMIF(打撃データー!$BH$6:$BH$500,BK13,打撃データー!$BX$6:$BX$500))","v":""},"","","",null,null,null,null,"",""]
[null,null,null,null,null,"",null,null,{"$f":"IF(H14=\"\",\"\",SUMIFS(打撃データー!$I$6:$I$500,打撃データー!$F$6:$F$500,F14,打撃データー!$H$6:$H$500,H14))","v":""},{"$f":"IF(H14=\"\",\"\",SUMIFS(打撃データー!$J$6:$J$500,打撃データー!$F$6:$F$500,F14,打撃データー!$H$6:$H$500,H14))","v":""},{"$f":"IF(H14=\"\",\"\",SUMIFS(打撃データー!$K$6:$K$500,打撃データー!$F$6:$F$500,F14,打撃データー!$H$6:$H$500,H14))","v":""},{"$f":"IF(H14=\"\",\"\",SUMIFS(打撃データー!$L$6:$L$500,打撃データー!$F$6:$F$500,F14,打撃データー!$H$6:$H$500,H14))","v":""},{"$f":"IF(H14=\"\",\"\",SUMIFS(打撃データー!$M$6:$M$500,打撃データー!$F$6:$F$500,F14,打撃データー!$H$6:$H$500,H14))","v":""},{"$f":"IF(H14=\"\",\"\",SUMIFS(打撃データー!$N$6:$N$500,打撃データー!$F$6:$F$500,F14,打撃データー!$H$6:$H$500,H14))","v":""},{"$f":"IF(H14=\"\",\"\",SUMIFS(打撃データー!$O$6:$O$500,打撃データー!$F$6:$F$500,F14,打撃データー!$H$6:$H$500,H14))","v":""},{"$f":"IF(H14=\"\",\"\",SUMIFS(打撃データー!$P$6:$P$500,打撃データー!$F$6:$F$500,F14,打撃データー!$H$6:$H$500,H14))","v":""},{"$f":"IF(H14=\"\",\"\",SUMIFS(打撃データー!$Q$6:$Q$500,打撃データー!$F$6:$F$500,F14,打撃データー!$H$6:$H$500,H14))","v":""},{"$f":"IF(H14=\"\",\"\",SUMIFS(打撃データー!$R$6:$R$500,打撃データー!$F$6:$F$500,F14,打撃データー!$H$6:$H$500,H14))","v":""},{"$f":"IF(H14=\"\",\"\",SUMIFS(打撃データー!$S$6:$S$500,打撃データー!$F$6:$F$500,F14,打撃データー!$H$6:$H$500,H14))","v":""},{"$f":"IF(H14=\"\",\"\",SUMIFS(打撃データー!$T$6:$T$500,打撃データー!$F$6:$F$500,F14,打撃データー!$H$6:$H$500,H14))","v":""},{"$f":"IF(H14=\"\",\"\",SUMIFS(打撃データー!$U$6:$U$500,打撃データー!$F$6:$F$500,F14,打撃データー!$H$6:$H$500,H14))","v":""},{"$f":"IF(H14=\"\",\"\",SUMIFS(打撃データー!$V$6:$V$500,打撃データー!$F$6:$F$500,F14,打撃データー!$H$6:$H$500,H14))","v":""},{"$f":"IF(H14=\"\",\"\",SUMIFS(打撃データー!$W$6:$W$500,打撃データー!$F$6:$F$500,F14,打撃データー!$H$6:$H$500,H14))","v":""},{"$f":"IF(H14=\"\",\"\",SUMIFS(打撃データー!$X$6:$X$500,打撃データー!$F$6:$F$500,F14,打撃データー!$H$6:$H$500,H14))","v":""},{"$f":"IF(H14=\"\",\"\",SUMIFS(打撃データー!$Y$6:$Y$500,打撃データー!$F$6:$F$500,F14,打撃データー!$H$6:$H$500,H14))","v":""},{"$f":"IF(H14=\"\",\"\",SUMIFS(打撃データー!$Z$6:$Z$500,打撃データー!$F$6:$F$500,F14,打撃データー!$H$6:$H$500,H14))","v":""},{"$f":"IF(H14=\"\",\"\",SUMIFS(打撃データー!$AA$6:$AA$500,打撃データー!$F$6:$F$500,F14,打撃データー!$H$6:$H$500,H14))","v":""},{"$f":"IF(G14=\"\",\"\",SUMIFS(打撃データー!$AC$6:$AC$337,打撃データー!$E$6:$E$337,$E$9,打撃データー!$G$6:$G$337,G14))","v":""},{"$f":"IF(G14=\"\",\"\",SUMIFS(打撃データー!$BE$6:$BE$337,打撃データー!$AG$6:$AG$337,F14,打撃データー!$AH$6:$AH$337,G14))","v":""},{"$f":"IF(G14=\"\",\"\",SUMIFS(打撃データー!$BF$6:$BF$337,打撃データー!$AG$6:$AG$337,F14,打撃データー!$AH$6:$AH$337,G14))","v":""},null,null,"","","","","",null,null,null,null,null,"","","",{"$f":"IF(AR14=\"\",\"\",SUMIFS(打撃データー!$BK$6:$BK$500,打撃データー!$BH$6:$BH$500,AQ14,打撃データー!$BI$6:$BI$500,AR14))","v":""},{"$f":"IF(AR14=\"\",\"\",SUMIFS(打撃データー!$BL$6:$BL$500,打撃データー!$BH$6:$BH$500,AQ14,打撃データー!$BI$6:$BI$500,AR14))","v":""},{"$f":"IF(AR14=\"\",\"\",SUMIFS(打撃データー!$BM$6:$BM$500,打撃データー!$BH$6:$BH$500,AQ14,打撃データー!$BI$6:$BI$500,AR14))","v":""},{"$f":"IF(AR14=\"\",\"\",SUMIFS(打撃データー!$BN$6:$BN$500,打撃データー!$BH$6:$BH$500,AQ14,打撃データー!$BI$6:$BI$500,$AR14))","v":""},{"$f":"IF(AR14=\"\",\"\",SUMIFS(打撃データー!$BO$6:$BO$500,打撃データー!$BH$6:$BH$500,AQ14,打撃データー!$BI$6:$BI$500,AR14))","v":""},{"$f":"IF(AR14=\"\",\"\",SUMIFS(打撃データー!$BP$6:$BP$500,打撃データー!$BH$6:$BH$500,AQ14,打撃データー!$BI$6:$BI$500,AR14))","v":""},{"$f":"IF(AR14=\"\",\"\",SUMIFS(打撃データー!$BQ$6:$BQ$500,打撃データー!$BH$6:$BH$500,AQ14,打撃データー!$BI$6:$BI$500,AR14))","v":""},{"$f":"IF(AR14=\"\",\"\",SUMIFS(打撃データー!$BR$6:$BR$500,打撃データー!$BH$6:$BH$500,AQ14,打撃データー!$BI$6:$BI$500,AR14))","v":""},{"$f":"IF(AR14=\"\",\"\",SUMIFS(打撃データー!$BS$6:$BS$500,打撃データー!$BH$6:$BH$500,AQ14,打撃データー!$BI$6:$BI$500,AR14))","v":""},{"$f":"IF(AR14=\"\",\"\",COUNTIFS(打撃データー!BH11:BH505,AQ14,打撃データー!BI11:BI505,AR14))","v":""},null,"","","",null,null,{"$f":"IF(戦績!O11=\"\",\"\",戦績!O11)","v":""},{"$f":"IF(BJ14=\"\",\"\",VLOOKUP(BJ14,戦績!$O$6:$U$38,7,FALSE))","v":""},{"$f":"IF(BK14=\"\",\"\",SUMIF(打撃データー!$BH$6:$BH$500,BK14,打撃データー!$BV$6:$BV$500))","v":""},{"$f":"IF(BK14=\"\",\"\",SUMIF(打撃データー!$BH$6:$BH$500,BK14,打撃データー!$BW$6:$BW$500))","v":""},{"$f":"IF(BK14=\"\",\"\",SUMIF(打撃データー!$BH$6:$BH$500,BK14,打撃データー!$BX$6:$BX$500))","v":""},"","","",null,null,null,null,"",""]
[null,null,null,null,null,"",null,null,{"$f":"IF(H15=\"\",\"\",SUMIFS(打撃データー!$I$6:$I$500,打撃データー!$F$6:$F$500,F15,打撃データー!$H$6:$H$500,H15))","v":""},{"$f":"IF(H15=\"\",\"\",SUMIFS(打撃データー!$J$6:$J$500,打撃データー!$F$6:$F$500,F15,打撃データー!$H$6:$H$500,H15))","v":""},{"$f":"IF(H15=\"\",\"\",SUMIFS(打撃データー!$K$6:$K$500,打撃データー!$F$6:$F$500,F15,打撃データー!$H$6:$H$500,H15))","v":""},{"$f":"IF(H15=\"\",\"\",SUMIFS(打撃データー!$L$6:$L$500,打撃データー!$F$6:$F$500,F15,打撃データー!$H$6:$H$500,H15))","v":""},{"$f":"IF(H15=\"\",\"\",SUMIFS(打撃データー!$M$6:$M$500,打撃データー!$F$6:$F$500,F15,打撃データー!$H$6:$H$500,H15))","v":""},{"$f":"IF(H15=\"\",\"\",SUMIFS(打撃データー!$N$6:$N$500,打撃データー!$F$6:$F$500,F15,打撃データー!$H$6:$H$500,H15))","v":""},{"$f":"IF(H15=\"\",\"\",SUMIFS(打撃データー!$O$6:$O$500,打撃データー!$F$6:$F$500,F15,打撃データー!$H$6:$H$500,H15))","v":""},{"$f":"IF(H15=\"\",\"\",SUMIFS(打撃データー!$P$6:$P$500,打撃データー!$F$6:$F$500,F15,打撃データー!$H$6:$H$500,H15))","v":""},{"$f":"IF(H15=\"\",\"\",SUMIFS(打撃データー!$Q$6:$Q$500,打撃データー!$F$6:$F$500,F15,打撃データー!$H$6:$H$500,H15))","v":""},{"$f":"IF(H15=\"\",\"\",SUMIFS(打撃データー!$R$6:$R$500,打撃データー!$F$6:$F$500,F15,打撃データー!$H$6:$H$500,H15))","v":""},{"$f":"IF(H15=\"\",\"\",SUMIFS(打撃データー!$S$6:$S$500,打撃データー!$F$6:$F$500,F15,打撃データー!$H$6:$H$500,H15))","v":""},{"$f":"IF(H15=\"\",\"\",SUMIFS(打撃データー!$T$6:$T$500,打撃データー!$F$6:$F$500,F15,打撃データー!$H$6:$H$500,H15))","v":""},{"$f":"IF(H15=\"\",\"\",SUMIFS(打撃データー!$U$6:$U$500,打撃データー!$F$6:$F$500,F15,打撃データー!$H$6:$H$500,H15))","v":""},{"$f":"IF(H15=\"\",\"\",SUMIFS(打撃データー!$V$6:$V$500,打撃データー!$F$6:$F$500,F15,打撃データー!$H$6:$H$500,H15))","v":""},{"$f":"IF(H15=\"\",\"\",SUMIFS(打撃データー!$W$6:$W$500,打撃データー!$F$6:$F$500,F15,打撃データー!$H$6:$H$500,H15))","v":""},{"$f":"IF(H15=\"\",\"\",SUMIFS(打撃データー!$X$6:$X$500,打撃データー!$F$6:$F$500,F15,打撃データー!$H$6:$H$500,H15))","v":""},{"$f":"IF(H15=\"\",\"\",SUMIFS(打撃データー!$Y$6:$Y$500,打撃データー!$F$6:$F$500,F15,打撃データー!$H$6:$H$500,H15))","v":""},{"$f":"IF(H15=\"\",\"\",SUMIFS(打撃データー!$Z$6:$Z$500,打撃データー!$F$6:$F$500,F15,打撃データー!$H$6:$H$500,H15))","v":""},{"$f":"IF(H15=\"\",\"\",SUMIFS(打撃データー!$AA$6:$AA$500,打撃データー!$F$6:$F$500,F15,打撃データー!$H$6:$H$500,H15))","v":""},{"$f":"IF(G15=\"\",\"\",SUMIFS(打撃データー!$AC$6:$AC$337,打撃データー!$E$6:$E$337,$E$9,打撃データー!$G$6:$G$337,G15))","v":""},{"$f":"IF(G15=\"\",\"\",SUMIFS(打撃データー!$BE$6:$BE$337,打撃データー!$AG$6:$AG$337,F15,打撃データー!$AH$6:$AH$337,G15))","v":""},{"$f":"IF(G15=\"\",\"\",SUMIFS(打撃データー!$BF$6:$BF$337,打撃データー!$AG$6:$AG$337,F15,打撃データー!$AH$6:$AH$337,G15))","v":""},null,null,"","","","","",null,null,null,null,null,"","","",{"$f":"IF(AR15=\"\",\"\",SUMIFS(打撃データー!$BK$6:$BK$500,打撃データー!$BH$6:$BH$500,AQ15,打撃データー!$BI$6:$BI$500,AR15))","v":""},{"$f":"IF(AR15=\"\",\"\",SUMIFS(打撃データー!$BL$6:$BL$500,打撃データー!$BH$6:$BH$500,AQ15,打撃データー!$BI$6:$BI$500,AR15))","v":""},{"$f":"IF(AR15=\"\",\"\",SUMIFS(打撃データー!$BM$6:$BM$500,打撃データー!$BH$6:$BH$500,AQ15,打撃データー!$BI$6:$BI$500,AR15))","v":""},{"$f":"IF(AR15=\"\",\"\",SUMIFS(打撃データー!$BN$6:$BN$500,打撃データー!$BH$6:$BH$500,AQ15,打撃データー!$BI$6:$BI$500,$AR15))","v":""},{"$f":"IF(AR15=\"\",\"\",SUMIFS(打撃データー!$BO$6:$BO$500,打撃データー!$BH$6:$BH$500,AQ15,打撃データー!$BI$6:$BI$500,AR15))","v":""},{"$f":"IF(AR15=\"\",\"\",SUMIFS(打撃データー!$BP$6:$BP$500,打撃データー!$BH$6:$BH$500,AQ15,打撃データー!$BI$6:$BI$500,AR15))","v":""},{"$f":"IF(AR15=\"\",\"\",SUMIFS(打撃データー!$BQ$6:$BQ$500,打撃データー!$BH$6:$BH$500,AQ15,打撃データー!$BI$6:$BI$500,AR15))","v":""},{"$f":"IF(AR15=\"\",\"\",SUMIFS(打撃データー!$BR$6:$BR$500,打撃データー!$BH$6:$BH$500,AQ15,打撃データー!$BI$6:$BI$500,AR15))","v":""},{"$f":"IF(AR15=\"\",\"\",SUMIFS(打撃データー!$BS$6:$BS$500,打撃データー!$BH$6:$BH$500,AQ15,打撃データー!$BI$6:$BI$500,AR15))","v":""},{"$f":"IF(AR15=\"\",\"\",COUNTIFS(打撃データー!BH12:BH506,AQ15,打撃データー!BI12:BI506,AR15))","v":""},null,"","","",null,null,{"$f":"IF(戦績!O12=\"\",\"\",戦績!O12)","v":""},{"$f":"IF(BJ15=\"\",\"\",VLOOKUP(BJ15,戦績!$O$6:$U$38,7,FALSE))","v":""},{"$f":"IF(BK15=\"\",\"\",SUMIF(打撃データー!$BH$6:$BH$500,BK15,打撃データー!$BV$6:$BV$500))","v":""},{"$f":"IF(BK15=\"\",\"\",SUMIF(打撃データー!$BH$6:$BH$500,BK15,打撃データー!$BW$6:$BW$500))","v":""},{"$f":"IF(BK15=\"\",\"\",SUMIF(打撃データー!$BH$6:$BH$500,BK15,打撃データー!$BX$6:$BX$500))","v":""},"","","",null,null,null,null,"",""]
[null,null,null,null,null,"",null,null,{"$f":"IF(H16=\"\",\"\",SUMIFS(打撃データー!$I$6:$I$500,打撃データー!$F$6:$F$500,F16,打撃データー!$H$6:$H$500,H16))","v":""},{"$f":"IF(H16=\"\",\"\",SUMIFS(打撃データー!$J$6:$J$500,打撃データー!$F$6:$F$500,F16,打撃データー!$H$6:$H$500,H16))","v":""},{"$f":"IF(H16=\"\",\"\",SUMIFS(打撃データー!$K$6:$K$500,打撃データー!$F$6:$F$500,F16,打撃データー!$H$6:$H$500,H16))","v":""},{"$f":"IF(H16=\"\",\"\",SUMIFS(打撃データー!$L$6:$L$500,打撃データー!$F$6:$F$500,F16,打撃データー!$H$6:$H$500,H16))","v":""},{"$f":"IF(H16=\"\",\"\",SUMIFS(打撃データー!$M$6:$M$500,打撃データー!$F$6:$F$500,F16,打撃データー!$H$6:$H$500,H16))","v":""},{"$f":"IF(H16=\"\",\"\",SUMIFS(打撃データー!$N$6:$N$500,打撃データー!$F$6:$F$500,F16,打撃データー!$H$6:$H$500,H16))","v":""},{"$f":"IF(H16=\"\",\"\",SUMIFS(打撃データー!$O$6:$O$500,打撃データー!$F$6:$F$500,F16,打撃データー!$H$6:$H$500,H16))","v":""},{"$f":"IF(H16=\"\",\"\",SUMIFS(打撃データー!$P$6:$P$500,打撃データー!$F$6:$F$500,F16,打撃データー!$H$6:$H$500,H16))","v":""},{"$f":"IF(H16=\"\",\"\",SUMIFS(打撃データー!$Q$6:$Q$500,打撃データー!$F$6:$F$500,F16,打撃データー!$H$6:$H$500,H16))","v":""},{"$f":"IF(H16=\"\",\"\",SUMIFS(打撃データー!$R$6:$R$500,打撃データー!$F$6:$F$500,F16,打撃データー!$H$6:$H$500,H16))","v":""},{"$f":"IF(H16=\"\",\"\",SUMIFS(打撃データー!$S$6:$S$500,打撃データー!$F$6:$F$500,F16,打撃データー!$H$6:$H$500,H16))","v":""},{"$f":"IF(H16=\"\",\"\",SUMIFS(打撃データー!$T$6:$T$500,打撃データー!$F$6:$F$500,F16,打撃データー!$H$6:$H$500,H16))","v":""},{"$f":"IF(H16=\"\",\"\",SUMIFS(打撃データー!$U$6:$U$500,打撃データー!$F$6:$F$500,F16,打撃データー!$H$6:$H$500,H16))","v":""},{"$f":"IF(H16=\"\",\"\",SUMIFS(打撃データー!$V$6:$V$500,打撃データー!$F$6:$F$500,F16,打撃データー!$H$6:$H$500,H16))","v":""},{"$f":"IF(H16=\"\",\"\",SUMIFS(打撃データー!$W$6:$W$500,打撃データー!$F$6:$F$500,F16,打撃データー!$H$6:$H$500,H16))","v":""},{"$f":"IF(H16=\"\",\"\",SUMIFS(打撃データー!$X$6:$X$500,打撃データー!$F$6:$F$500,F16,打撃データー!$H$6:$H$500,H16))","v":""},{"$f":"IF(H16=\"\",\"\",SUMIFS(打撃データー!$Y$6:$Y$500,打撃データー!$F$6:$F$500,F16,打撃データー!$H$6:$H$500,H16))","v":""},{"$f":"IF(H16=\"\",\"\",SUMIFS(打撃データー!$Z$6:$Z$500,打撃データー!$F$6:$F$500,F16,打撃データー!$H$6:$H$500,H16))","v":""},{"$f":"IF(H16=\"\",\"\",SUMIFS(打撃データー!$AA$6:$AA$500,打撃データー!$F$6:$F$500,F16,打撃データー!$H$6:$H$500,H16))","v":""},{"$f":"IF(G16=\"\",\"\",SUMIFS(打撃データー!$AC$6:$AC$337,打撃データー!$E$6:$E$337,$E$9,打撃データー!$G$6:$G$337,G16))","v":""},{"$f":"IF(G16=\"\",\"\",SUMIFS(打撃データー!$BE$6:$BE$337,打撃データー!$AG$6:$AG$337,F16,打撃データー!$AH$6:$AH$337,G16))","v":""},{"$f":"IF(G16=\"\",\"\",SUMIFS(打撃データー!$BF$6:$BF$337,打撃データー!$AG$6:$AG$337,F16,打撃データー!$AH$6:$AH$337,G16))","v":""},null,null,"","","","","",null,null,null,null,null,"","","",{"$f":"IF(AR16=\"\",\"\",SUMIFS(打撃データー!$BK$6:$BK$500,打撃データー!$BH$6:$BH$500,AQ16,打撃データー!$BI$6:$BI$500,AR16))","v":""},{"$f":"IF(AR16=\"\",\"\",SUMIFS(打撃データー!$BL$6:$BL$500,打撃データー!$BH$6:$BH$500,AQ16,打撃データー!$BI$6:$BI$500,AR16))","v":""},{"$f":"IF(AR16=\"\",\"\",SUMIFS(打撃データー!$BM$6:$BM$500,打撃データー!$BH$6:$BH$500,AQ16,打撃データー!$BI$6:$BI$500,AR16))","v":""},{"$f":"IF(AR16=\"\",\"\",SUMIFS(打撃データー!$BN$6:$BN$500,打撃データー!$BH$6:$BH$500,AQ16,打撃データー!$BI$6:$BI$500,$AR16))","v":""},{"$f":"IF(AR16=\"\",\"\",SUMIFS(打撃データー!$BO$6:$BO$500,打撃データー!$BH$6:$BH$500,AQ16,打撃データー!$BI$6:$BI$500,AR16))","v":""},{"$f":"IF(AR16=\"\",\"\",SUMIFS(打撃データー!$BP$6:$BP$500,打撃データー!$BH$6:$BH$500,AQ16,打撃データー!$BI$6:$BI$500,AR16))","v":""},{"$f":"IF(AR16=\"\",\"\",SUMIFS(打撃データー!$BQ$6:$BQ$500,打撃データー!$BH$6:$BH$500,AQ16,打撃データー!$BI$6:$BI$500,AR16))","v":""},{"$f":"IF(AR16=\"\",\"\",SUMIFS(打撃データー!$BR$6:$BR$500,打撃データー!$BH$6:$BH$500,AQ16,打撃データー!$BI$6:$BI$500,AR16))","v":""},{"$f":"IF(AR16=\"\",\"\",SUMIFS(打撃データー!$BS$6:$BS$500,打撃データー!$BH$6:$BH$500,AQ16,打撃データー!$BI$6:$BI$500,AR16))","v":""},{"$f":"IF(AR16=\"\",\"\",COUNTIFS(打撃データー!BH13:BH507,AQ16,打撃データー!BI13:BI507,AR16))","v":""},null,"","","",null,null,{"$f":"IF(戦績!O13=\"\",\"\",戦績!O13)","v":""},{"$f":"IF(BJ16=\"\",\"\",VLOOKUP(BJ16,戦績!$O$6:$U$38,7,FALSE))","v":""},{"$f":"IF(BK16=\"\",\"\",SUMIF(打撃データー!$BH$6:$BH$500,BK16,打撃データー!$BV$6:$BV$500))","v":""},{"$f":"IF(BK16=\"\",\"\",SUMIF(打撃データー!$BH$6:$BH$500,BK16,打撃データー!$BW$6:$BW$500))","v":""},{"$f":"IF(BK16=\"\",\"\",SUMIF(打撃データー!$BH$6:$BH$500,BK16,打撃データー!$BX$6:$BX$500))","v":""},"","","",null,null,null,null,"",""]
[null,null,null,null,null,"",null,null,{"$f":"IF(H17=\"\",\"\",SUMIFS(打撃データー!$I$6:$I$500,打撃データー!$F$6:$F$500,F17,打撃データー!$H$6:$H$500,H17))","v":""},{"$f":"IF(H17=\"\",\"\",SUMIFS(打撃データー!$J$6:$J$500,打撃データー!$F$6:$F$500,F17,打撃データー!$H$6:$H$500,H17))","v":""},{"$f":"IF(H17=\"\",\"\",SUMIFS(打撃データー!$K$6:$K$500,打撃データー!$F$6:$F$500,F17,打撃データー!$H$6:$H$500,H17))","v":""},{"$f":"IF(H17=\"\",\"\",SUMIFS(打撃データー!$L$6:$L$500,打撃データー!$F$6:$F$500,F17,打撃データー!$H$6:$H$500,H17))","v":""},{"$f":"IF(H17=\"\",\"\",SUMIFS(打撃データー!$M$6:$M$500,打撃データー!$F$6:$F$500,F17,打撃データー!$H$6:$H$500,H17))","v":""},{"$f":"IF(H17=\"\",\"\",SUMIFS(打撃データー!$N$6:$N$500,打撃データー!$F$6:$F$500,F17,打撃データー!$H$6:$H$500,H17))","v":""},{"$f":"IF(H17=\"\",\"\",SUMIFS(打撃データー!$O$6:$O$500,打撃データー!$F$6:$F$500,F17,打撃データー!$H$6:$H$500,H17))","v":""},{"$f":"IF(H17=\"\",\"\",SUMIFS(打撃データー!$P$6:$P$500,打撃データー!$F$6:$F$500,F17,打撃データー!$H$6:$H$500,H17))","v":""},{"$f":"IF(H17=\"\",\"\",SUMIFS(打撃データー!$Q$6:$Q$500,打撃データー!$F$6:$F$500,F17,打撃データー!$H$6:$H$500,H17))","v":""},{"$f":"IF(H17=\"\",\"\",SUMIFS(打撃データー!$R$6:$R$500,打撃データー!$F$6:$F$500,F17,打撃データー!$H$6:$H$500,H17))","v":""},{"$f":"IF(H17=\"\",\"\",SUMIFS(打撃データー!$S$6:$S$500,打撃データー!$F$6:$F$500,F17,打撃データー!$H$6:$H$500,H17))","v":""},{"$f":"IF(H17=\"\",\"\",SUMIFS(打撃データー!$T$6:$T$500,打撃データー!$F$6:$F$500,F17,打撃データー!$H$6:$H$500,H17))","v":""},{"$f":"IF(H17=\"\",\"\",SUMIFS(打撃データー!$U$6:$U$500,打撃データー!$F$6:$F$500,F17,打撃データー!$H$6:$H$500,H17))","v":""},{"$f":"IF(H17=\"\",\"\",SUMIFS(打撃データー!$V$6:$V$500,打撃データー!$F$6:$F$500,F17,打撃データー!$H$6:$H$500,H17))","v":""},{"$f":"IF(H17=\"\",\"\",SUMIFS(打撃データー!$W$6:$W$500,打撃データー!$F$6:$F$500,F17,打撃データー!$H$6:$H$500,H17))","v":""},{"$f":"IF(H17=\"\",\"\",SUMIFS(打撃データー!$X$6:$X$500,打撃データー!$F$6:$F$500,F17,打撃データー!$H$6:$H$500,H17))","v":""},{"$f":"IF(H17=\"\",\"\",SUMIFS(打撃データー!$Y$6:$Y$500,打撃データー!$F$6:$F$500,F17,打撃データー!$H$6:$H$500,H17))","v":""},{"$f":"IF(H17=\"\",\"\",SUMIFS(打撃データー!$Z$6:$Z$500,打撃データー!$F$6:$F$500,F17,打撃データー!$H$6:$H$500,H17))","v":""},{"$f":"IF(H17=\"\",\"\",SUMIFS(打撃データー!$AA$6:$AA$500,打撃データー!$F$6:$F$500,F17,打撃データー!$H$6:$H$500,H17))","v":""},{"$f":"IF(G17=\"\",\"\",SUMIFS(打撃データー!$AC$6:$AC$337,打撃データー!$E$6:$E$337,$E$9,打撃データー!$G$6:$G$337,G17))","v":""},{"$f":"IF(G17=\"\",\"\",SUMIFS(打撃データー!$BE$6:$BE$337,打撃データー!$AG$6:$AG$337,F17,打撃データー!$AH$6:$AH$337,G17))","v":""},{"$f":"IF(G17=\"\",\"\",SUMIFS(打撃データー!$BF$6:$BF$337,打撃データー!$AG$6:$AG$337,F17,打撃データー!$AH$6:$AH$337,G17))","v":""},null,null,"","","","","",null,null,null,null,null,"","","",{"$f":"IF(AR17=\"\",\"\",SUMIFS(打撃データー!$BK$6:$BK$500,打撃データー!$BH$6:$BH$500,AQ17,打撃データー!$BI$6:$BI$500,AR17))","v":""},{"$f":"IF(AR17=\"\",\"\",SUMIFS(打撃データー!$BL$6:$BL$500,打撃データー!$BH$6:$BH$500,AQ17,打撃データー!$BI$6:$BI$500,AR17))","v":""},{"$f":"IF(AR17=\"\",\"\",SUMIFS(打撃データー!$BM$6:$BM$500,打撃データー!$BH$6:$BH$500,AQ17,打撃データー!$BI$6:$BI$500,AR17))","v":""},{"$f":"IF(AR17=\"\",\"\",SUMIFS(打撃データー!$BN$6:$BN$500,打撃データー!$BH$6:$BH$500,AQ17,打撃データー!$BI$6:$BI$500,$AR17))","v":""},{"$f":"IF(AR17=\"\",\"\",SUMIFS(打撃データー!$BO$6:$BO$500,打撃データー!$BH$6:$BH$500,AQ17,打撃データー!$BI$6:$BI$500,AR17))","v":""},{"$f":"IF(AR17=\"\",\"\",SUMIFS(打撃データー!$BP$6:$BP$500,打撃データー!$BH$6:$BH$500,AQ17,打撃データー!$BI$6:$BI$500,AR17))","v":""},{"$f":"IF(AR17=\"\",\"\",SUMIFS(打撃データー!$BQ$6:$BQ$500,打撃データー!$BH$6:$BH$500,AQ17,打撃データー!$BI$6:$BI$500,AR17))","v":""},{"$f":"IF(AR17=\"\",\"\",SUMIFS(打撃データー!$BR$6:$BR$500,打撃データー!$BH$6:$BH$500,AQ17,打撃データー!$BI$6:$BI$500,AR17))","v":""},{"$f":"IF(AR17=\"\",\"\",SUMIFS(打撃データー!$BS$6:$BS$500,打撃データー!$BH$6:$BH$500,AQ17,打撃データー!$BI$6:$BI$500,AR17))","v":""},{"$f":"IF(AR17=\"\",\"\",COUNTIFS(打撃データー!BH14:BH508,AQ17,打撃データー!BI14:BI508,AR17))","v":""},null,"","","",null,null,{"$f":"IF(戦績!O14=\"\",\"\",戦績!O14)","v":""},{"$f":"IF(BJ17=\"\",\"\",VLOOKUP(BJ17,戦績!$O$6:$U$38,7,FALSE))","v":""},{"$f":"IF(BK17=\"\",\"\",SUMIF(打撃データー!$BH$6:$BH$500,BK17,打撃データー!$BV$6:$BV$500))","v":""},{"$f":"IF(BK17=\"\",\"\",SUMIF(打撃データー!$BH$6:$BH$500,BK17,打撃データー!$BW$6:$BW$500))","v":""},{"$f":"IF(BK17=\"\",\"\",SUMIF(打撃データー!$BH$6:$BH$500,BK17,打撃データー!$BX$6:$BX$500))","v":""},"","","",null,null,null,null,"",""]
[null,null,null,null,null,"",null,null,{"$f":"IF(H18=\"\",\"\",SUMIFS(打撃データー!$I$6:$I$500,打撃データー!$F$6:$F$500,F18,打撃データー!$H$6:$H$500,H18))","v":""},{"$f":"IF(H18=\"\",\"\",SUMIFS(打撃データー!$J$6:$J$500,打撃データー!$F$6:$F$500,F18,打撃データー!$H$6:$H$500,H18))","v":""},{"$f":"IF(H18=\"\",\"\",SUMIFS(打撃データー!$K$6:$K$500,打撃データー!$F$6:$F$500,F18,打撃データー!$H$6:$H$500,H18))","v":""},{"$f":"IF(H18=\"\",\"\",SUMIFS(打撃データー!$L$6:$L$500,打撃データー!$F$6:$F$500,F18,打撃データー!$H$6:$H$500,H18))","v":""},{"$f":"IF(H18=\"\",\"\",SUMIFS(打撃データー!$M$6:$M$500,打撃データー!$F$6:$F$500,F18,打撃データー!$H$6:$H$500,H18))","v":""},{"$f":"IF(H18=\"\",\"\",SUMIFS(打撃データー!$N$6:$N$500,打撃データー!$F$6:$F$500,F18,打撃データー!$H$6:$H$500,H18))","v":""},{"$f":"IF(H18=\"\",\"\",SUMIFS(打撃データー!$O$6:$O$500,打撃データー!$F$6:$F$500,F18,打撃データー!$H$6:$H$500,H18))","v":""},{"$f":"IF(H18=\"\",\"\",SUMIFS(打撃データー!$P$6:$P$500,打撃データー!$F$6:$F$500,F18,打撃データー!$H$6:$H$500,H18))","v":""},{"$f":"IF(H18=\"\",\"\",SUMIFS(打撃データー!$Q$6:$Q$500,打撃データー!$F$6:$F$500,F18,打撃データー!$H$6:$H$500,H18))","v":""},{"$f":"IF(H18=\"\",\"\",SUMIFS(打撃データー!$R$6:$R$500,打撃データー!$F$6:$F$500,F18,打撃データー!$H$6:$H$500,H18))","v":""},{"$f":"IF(H18=\"\",\"\",SUMIFS(打撃データー!$S$6:$S$500,打撃データー!$F$6:$F$500,F18,打撃データー!$H$6:$H$500,H18))","v":""},{"$f":"IF(H18=\"\",\"\",SUMIFS(打撃データー!$T$6:$T$500,打撃データー!$F$6:$F$500,F18,打撃データー!$H$6:$H$500,H18))","v":""},{"$f":"IF(H18=\"\",\"\",SUMIFS(打撃データー!$U$6:$U$500,打撃データー!$F$6:$F$500,F18,打撃データー!$H$6:$H$500,H18))","v":""},{"$f":"IF(H18=\"\",\"\",SUMIFS(打撃データー!$V$6:$V$500,打撃データー!$F$6:$F$500,F18,打撃データー!$H$6:$H$500,H18))","v":""},{"$f":"IF(H18=\"\",\"\",SUMIFS(打撃データー!$W$6:$W$500,打撃データー!$F$6:$F$500,F18,打撃データー!$H$6:$H$500,H18))","v":""},{"$f":"IF(H18=\"\",\"\",SUMIFS(打撃データー!$X$6:$X$500,打撃データー!$F$6:$F$500,F18,打撃データー!$H$6:$H$500,H18))","v":""},{"$f":"IF(H18=\"\",\"\",SUMIFS(打撃データー!$Y$6:$Y$500,打撃データー!$F$6:$F$500,F18,打撃データー!$H$6:$H$500,H18))","v":""},{"$f":"IF(H18=\"\",\"\",SUMIFS(打撃データー!$Z$6:$Z$500,打撃データー!$F$6:$F$500,F18,打撃データー!$H$6:$H$500,H18))","v":""},{"$f":"IF(H18=\"\",\"\",SUMIFS(打撃データー!$AA$6:$AA$500,打撃データー!$F$6:$F$500,F18,打撃データー!$H$6:$H$500,H18))","v":""},{"$f":"IF(G18=\"\",\"\",SUMIFS(打撃データー!$AC$6:$AC$337,打撃データー!$E$6:$E$337,$E$9,打撃データー!$G$6:$G$337,G18))","v":""},{"$f":"IF(G18=\"\",\"\",SUMIFS(打撃データー!$BE$6:$BE$337,打撃データー!$AG$6:$AG$337,F18,打撃データー!$AH$6:$AH$337,G18))","v":""},{"$f":"IF(G18=\"\",\"\",SUMIFS(打撃データー!$BF$6:$BF$337,打撃データー!$AG$6:$AG$337,F18,打撃データー!$AH$6:$AH$337,G18))","v":""},null,null,"","","","","",null,null,null,null,null,"","","",{"$f":"IF(AR18=\"\",\"\",SUMIFS(打撃データー!$BK$6:$BK$500,打撃データー!$BH$6:$BH$500,AQ18,打撃データー!$BI$6:$BI$500,AR18))","v":""},{"$f":"IF(AR18=\"\",\"\",SUMIFS(打撃データー!$BL$6:$BL$500,打撃データー!$BH$6:$BH$500,AQ18,打撃データー!$BI$6:$BI$500,AR18))","v":""},{"$f":"IF(AR18=\"\",\"\",SUMIFS(打撃データー!$BM$6:$BM$500,打撃データー!$BH$6:$BH$500,AQ18,打撃データー!$BI$6:$BI$500,AR18))","v":""},{"$f":"IF(AR18=\"\",\"\",SUMIFS(打撃データー!$BN$6:$BN$500,打撃データー!$BH$6:$BH$500,AQ18,打撃データー!$BI$6:$BI$500,$AR18))","v":""},{"$f":"IF(AR18=\"\",\"\",SUMIFS(打撃データー!$BO$6:$BO$500,打撃データー!$BH$6:$BH$500,AQ18,打撃データー!$BI$6:$BI$500,AR18))","v":""},{"$f":"IF(AR18=\"\",\"\",SUMIFS(打撃データー!$BP$6:$BP$500,打撃データー!$BH$6:$BH$500,AQ18,打撃データー!$BI$6:$BI$500,AR18))","v":""},{"$f":"IF(AR18=\"\",\"\",SUMIFS(打撃データー!$BQ$6:$BQ$500,打撃データー!$BH$6:$BH$500,AQ18,打撃データー!$BI$6:$BI$500,AR18))","v":""},{"$f":"IF(AR18=\"\",\"\",SUMIFS(打撃データー!$BR$6:$BR$500,打撃データー!$BH$6:$BH$500,AQ18,打撃データー!$BI$6:$BI$500,AR18))","v":""},{"$f":"IF(AR18=\"\",\"\",SUMIFS(打撃データー!$BS$6:$BS$500,打撃データー!$BH$6:$BH$500,AQ18,打撃データー!$BI$6:$BI$500,AR18))","v":""},{"$f":"IF(AR18=\"\",\"\",COUNTIFS(打撃データー!BH15:BH509,AQ18,打撃データー!BI15:BI509,AR18))","v":""},null,"","","",null,null,{"$f":"IF(戦績!O15=\"\",\"\",戦績!O15)","v":""},{"$f":"IF(BJ18=\"\",\"\",VLOOKUP(BJ18,戦績!$O$6:$U$38,7,FALSE))","v":""},{"$f":"IF(BK18=\"\",\"\",SUMIF(打撃データー!$BH$6:$BH$500,BK18,打撃データー!$BV$6:$BV$500))","v":""},{"$f":"IF(BK18=\"\",\"\",SUMIF(打撃データー!$BH$6:$BH$500,BK18,打撃データー!$BW$6:$BW$500))","v":""},{"$f":"IF(BK18=\"\",\"\",SUMIF(打撃データー!$BH$6:$BH$500,BK18,打撃データー!$BX$6:$BX$500))","v":""},"","","",null,null,null,null,"",""]
[null,null,null,null,null,"",null,null,{"$f":"IF(H19=\"\",\"\",SUMIFS(打撃データー!$I$6:$I$500,打撃データー!$F$6:$F$500,F19,打撃データー!$H$6:$H$500,H19))","v":""},{"$f":"IF(H19=\"\",\"\",SUMIFS(打撃データー!$J$6:$J$500,打撃データー!$F$6:$F$500,F19,打撃データー!$H$6:$H$500,H19))","v":""},{"$f":"IF(H19=\"\",\"\",SUMIFS(打撃データー!$K$6:$K$500,打撃データー!$F$6:$F$500,F19,打撃データー!$H$6:$H$500,H19))","v":""},{"$f":"IF(H19=\"\",\"\",SUMIFS(打撃データー!$L$6:$L$500,打撃データー!$F$6:$F$500,F19,打撃データー!$H$6:$H$500,H19))","v":""},{"$f":"IF(H19=\"\",\"\",SUMIFS(打撃データー!$M$6:$M$500,打撃データー!$F$6:$F$500,F19,打撃データー!$H$6:$H$500,H19))","v":""},{"$f":"IF(H19=\"\",\"\",SUMIFS(打撃データー!$N$6:$N$500,打撃データー!$F$6:$F$500,F19,打撃データー!$H$6:$H$500,H19))","v":""},{"$f":"IF(H19=\"\",\"\",SUMIFS(打撃データー!$O$6:$O$500,打撃データー!$F$6:$F$500,F19,打撃データー!$H$6:$H$500,H19))","v":""},{"$f":"IF(H19=\"\",\"\",SUMIFS(打撃データー!$P$6:$P$500,打撃データー!$F$6:$F$500,F19,打撃データー!$H$6:$H$500,H19))","v":""},{"$f":"IF(H19=\"\",\"\",SUMIFS(打撃データー!$Q$6:$Q$500,打撃データー!$F$6:$F$500,F19,打撃データー!$H$6:$H$500,H19))","v":""},{"$f":"IF(H19=\"\",\"\",SUMIFS(打撃データー!$R$6:$R$500,打撃データー!$F$6:$F$500,F19,打撃データー!$H$6:$H$500,H19))","v":""},{"$f":"IF(H19=\"\",\"\",SUMIFS(打撃データー!$S$6:$S$500,打撃データー!$F$6:$F$500,F19,打撃データー!$H$6:$H$500,H19))","v":""},{"$f":"IF(H19=\"\",\"\",SUMIFS(打撃データー!$T$6:$T$500,打撃データー!$F$6:$F$500,F19,打撃データー!$H$6:$H$500,H19))","v":""},{"$f":"IF(H19=\"\",\"\",SUMIFS(打撃データー!$U$6:$U$500,打撃データー!$F$6:$F$500,F19,打撃データー!$H$6:$H$500,H19))","v":""},{"$f":"IF(H19=\"\",\"\",SUMIFS(打撃データー!$V$6:$V$500,打撃データー!$F$6:$F$500,F19,打撃データー!$H$6:$H$500,H19))","v":""},{"$f":"IF(H19=\"\",\"\",SUMIFS(打撃データー!$W$6:$W$500,打撃データー!$F$6:$F$500,F19,打撃データー!$H$6:$H$500,H19))","v":""},{"$f":"IF(H19=\"\",\"\",SUMIFS(打撃データー!$X$6:$X$500,打撃データー!$F$6:$F$500,F19,打撃データー!$H$6:$H$500,H19))","v":""},{"$f":"IF(H19=\"\",\"\",SUMIFS(打撃データー!$Y$6:$Y$500,打撃データー!$F$6:$F$500,F19,打撃データー!$H$6:$H$500,H19))","v":""},{"$f":"IF(H19=\"\",\"\",SUMIFS(打撃データー!$Z$6:$Z$500,打撃データー!$F$6:$F$500,F19,打撃データー!$H$6:$H$500,H19))","v":""},{"$f":"IF(H19=\"\",\"\",SUMIFS(打撃データー!$AA$6:$AA$500,打撃データー!$F$6:$F$500,F19,打撃データー!$H$6:$H$500,H19))","v":""},{"$f":"IF(G19=\"\",\"\",SUMIFS(打撃データー!$AC$6:$AC$337,打撃データー!$E$6:$E$337,$E$9,打撃データー!$G$6:$G$337,G19))","v":""},{"$f":"IF(G19=\"\",\"\",SUMIFS(打撃データー!$BE$6:$BE$337,打撃データー!$AG$6:$AG$337,F19,打撃データー!$AH$6:$AH$337,G19))","v":""},{"$f":"IF(G19=\"\",\"\",SUMIFS(打撃データー!$BF$6:$BF$337,打撃データー!$AG$6:$AG$337,F19,打撃データー!$AH$6:$AH$337,G19))","v":""},null,null,"","","","","",null,null,null,null,null,"","","",{"$f":"IF(AR19=\"\",\"\",SUMIFS(打撃データー!$BK$6:$BK$500,打撃データー!$BH$6:$BH$500,AQ19,打撃データー!$BI$6:$BI$500,AR19))","v":""},{"$f":"IF(AR19=\"\",\"\",SUMIFS(打撃データー!$BL$6:$BL$500,打撃データー!$BH$6:$BH$500,AQ19,打撃データー!$BI$6:$BI$500,AR19))","v":""},{"$f":"IF(AR19=\"\",\"\",SUMIFS(打撃データー!$BM$6:$BM$500,打撃データー!$BH$6:$BH$500,AQ19,打撃データー!$BI$6:$BI$500,AR19))","v":""},{"$f":"IF(AR19=\"\",\"\",SUMIFS(打撃データー!$BN$6:$BN$500,打撃データー!$BH$6:$BH$500,AQ19,打撃データー!$BI$6:$BI$500,$AR19))","v":""},{"$f":"IF(AR19=\"\",\"\",SUMIFS(打撃データー!$BO$6:$BO$500,打撃データー!$BH$6:$BH$500,AQ19,打撃データー!$BI$6:$BI$500,AR19))","v":""},{"$f":"IF(AR19=\"\",\"\",SUMIFS(打撃データー!$BP$6:$BP$500,打撃データー!$BH$6:$BH$500,AQ19,打撃データー!$BI$6:$BI$500,AR19))","v":""},{"$f":"IF(AR19=\"\",\"\",SUMIFS(打撃データー!$BQ$6:$BQ$500,打撃データー!$BH$6:$BH$500,AQ19,打撃データー!$BI$6:$BI$500,AR19))","v":""},{"$f":"IF(AR19=\"\",\"\",SUMIFS(打撃データー!$BR$6:$BR$500,打撃データー!$BH$6:$BH$500,AQ19,打撃データー!$BI$6:$BI$500,AR19))","v":""},{"$f":"IF(AR19=\"\",\"\",SUMIFS(打撃データー!$BS$6:$BS$500,打撃データー!$BH$6:$BH$500,AQ19,打撃データー!$BI$6:$BI$500,AR19))","v":""},{"$f":"IF(AR19=\"\",\"\",COUNTIFS(打撃データー!BH16:BH510,AQ19,打撃データー!BI16:BI510,AR19))","v":""},null,"","","",null,null,{"$f":"IF(戦績!O16=\"\",\"\",戦績!O16)","v":""},{"$f":"IF(BJ19=\"\",\"\",VLOOKUP(BJ19,戦績!$O$6:$U$38,7,FALSE))","v":""},{"$f":"IF(BK19=\"\",\"\",SUMIF(打撃データー!$BH$6:$BH$500,BK19,打撃データー!$BV$6:$BV$500))","v":""},{"$f":"IF(BK19=\"\",\"\",SUMIF(打撃データー!$BH$6:$BH$500,BK19,打撃データー!$BW$6:$BW$500))","v":""},{"$f":"IF(BK19=\"\",\"\",SUMIF(打撃データー!$BH$6:$BH$500,BK19,打撃データー!$BX$6:$BX$500))","v":""},"","","",null,null,null,null,"",""]
[null,null,null,null,null,"",null,null,{"$f":"IF(H20=\"\",\"\",SUMIFS(打撃データー!$I$6:$I$500,打撃データー!$F$6:$F$500,F20,打撃データー!$H$6:$H$500,H20))","v":""},{"$f":"IF(H20=\"\",\"\",SUMIFS(打撃データー!$J$6:$J$500,打撃データー!$F$6:$F$500,F20,打撃データー!$H$6:$H$500,H20))","v":""},{"$f":"IF(H20=\"\",\"\",SUMIFS(打撃データー!$K$6:$K$500,打撃データー!$F$6:$F$500,F20,打撃データー!$H$6:$H$500,H20))","v":""},{"$f":"IF(H20=\"\",\"\",SUMIFS(打撃データー!$L$6:$L$500,打撃データー!$F$6:$F$500,F20,打撃データー!$H$6:$H$500,H20))","v":""},{"$f":"IF(H20=\"\",\"\",SUMIFS(打撃データー!$M$6:$M$500,打撃データー!$F$6:$F$500,F20,打撃データー!$H$6:$H$500,H20))","v":""},{"$f":"IF(H20=\"\",\"\",SUMIFS(打撃データー!$N$6:$N$500,打撃データー!$F$6:$F$500,F20,打撃データー!$H$6:$H$500,H20))","v":""},{"$f":"IF(H20=\"\",\"\",SUMIFS(打撃データー!$O$6:$O$500,打撃データー!$F$6:$F$500,F20,打撃データー!$H$6:$H$500,H20))","v":""},{"$f":"IF(H20=\"\",\"\",SUMIFS(打撃データー!$P$6:$P$500,打撃データー!$F$6:$F$500,F20,打撃データー!$H$6:$H$500,H20))","v":""},{"$f":"IF(H20=\"\",\"\",SUMIFS(打撃データー!$Q$6:$Q$500,打撃データー!$F$6:$F$500,F20,打撃データー!$H$6:$H$500,H20))","v":""},{"$f":"IF(H20=\"\",\"\",SUMIFS(打撃データー!$R$6:$R$500,打撃データー!$F$6:$F$500,F20,打撃データー!$H$6:$H$500,H20))","v":""},{"$f":"IF(H20=\"\",\"\",SUMIFS(打撃データー!$S$6:$S$500,打撃データー!$F$6:$F$500,F20,打撃データー!$H$6:$H$500,H20))","v":""},{"$f":"IF(H20=\"\",\"\",SUMIFS(打撃データー!$T$6:$T$500,打撃データー!$F$6:$F$500,F20,打撃データー!$H$6:$H$500,H20))","v":""},{"$f":"IF(H20=\"\",\"\",SUMIFS(打撃データー!$U$6:$U$500,打撃データー!$F$6:$F$500,F20,打撃データー!$H$6:$H$500,H20))","v":""},{"$f":"IF(H20=\"\",\"\",SUMIFS(打撃データー!$V$6:$V$500,打撃データー!$F$6:$F$500,F20,打撃データー!$H$6:$H$500,H20))","v":""},{"$f":"IF(H20=\"\",\"\",SUMIFS(打撃データー!$W$6:$W$500,打撃データー!$F$6:$F$500,F20,打撃データー!$H$6:$H$500,H20))","v":""},{"$f":"IF(H20=\"\",\"\",SUMIFS(打撃データー!$X$6:$X$500,打撃データー!$F$6:$F$500,F20,打撃データー!$H$6:$H$500,H20))","v":""},{"$f":"IF(H20=\"\",\"\",SUMIFS(打撃データー!$Y$6:$Y$500,打撃データー!$F$6:$F$500,F20,打撃データー!$H$6:$H$500,H20))","v":""},{"$f":"IF(H20=\"\",\"\",SUMIFS(打撃データー!$Z$6:$Z$500,打撃データー!$F$6:$F$500,F20,打撃データー!$H$6:$H$500,H20))","v":""},{"$f":"IF(H20=\"\",\"\",SUMIFS(打撃データー!$AA$6:$AA$500,打撃データー!$F$6:$F$500,F20,打撃データー!$H$6:$H$500,H20))","v":""},{"$f":"IF(G20=\"\",\"\",SUMIFS(打撃データー!$AC$6:$AC$337,打撃データー!$E$6:$E$337,$E$9,打撃データー!$G$6:$G$337,G20))","v":""},{"$f":"IF(G20=\"\",\"\",SUMIFS(打撃データー!$BE$6:$BE$337,打撃データー!$AG$6:$AG$337,F20,打撃データー!$AH$6:$AH$337,G20))","v":""},{"$f":"IF(G20=\"\",\"\",SUMIFS(打撃データー!$BF$6:$BF$337,打撃データー!$AG$6:$AG$337,F20,打撃データー!$AH$6:$AH$337,G20))","v":""},null,null,"","","","","",null,null,null,null,null,"","","",{"$f":"IF(AR20=\"\",\"\",SUMIFS(打撃データー!$BK$6:$BK$500,打撃データー!$BH$6:$BH$500,AQ20,打撃データー!$BI$6:$BI$500,AR20))","v":""},{"$f":"IF(AR20=\"\",\"\",SUMIFS(打撃データー!$BL$6:$BL$500,打撃データー!$BH$6:$BH$500,AQ20,打撃データー!$BI$6:$BI$500,AR20))","v":""},{"$f":"IF(AR20=\"\",\"\",SUMIFS(打撃データー!$BM$6:$BM$500,打撃データー!$BH$6:$BH$500,AQ20,打撃データー!$BI$6:$BI$500,AR20))","v":""},{"$f":"IF(AR20=\"\",\"\",SUMIFS(打撃データー!$BN$6:$BN$500,打撃データー!$BH$6:$BH$500,AQ20,打撃データー!$BI$6:$BI$500,$AR20))","v":""},{"$f":"IF(AR20=\"\",\"\",SUMIFS(打撃データー!$BO$6:$BO$500,打撃データー!$BH$6:$BH$500,AQ20,打撃データー!$BI$6:$BI$500,AR20))","v":""},{"$f":"IF(AR20=\"\",\"\",SUMIFS(打撃データー!$BP$6:$BP$500,打撃データー!$BH$6:$BH$500,AQ20,打撃データー!$BI$6:$BI$500,AR20))","v":""},{"$f":"IF(AR20=\"\",\"\",SUMIFS(打撃データー!$BQ$6:$BQ$500,打撃データー!$BH$6:$BH$500,AQ20,打撃データー!$BI$6:$BI$500,AR20))","v":""},{"$f":"IF(AR20=\"\",\"\",SUMIFS(打撃データー!$BR$6:$BR$500,打撃データー!$BH$6:$BH$500,AQ20,打撃データー!$BI$6:$BI$500,AR20))","v":""},{"$f":"IF(AR20=\"\",\"\",SUMIFS(打撃データー!$BS$6:$BS$500,打撃データー!$BH$6:$BH$500,AQ20,打撃データー!$BI$6:$BI$500,AR20))","v":""},{"$f":"IF(AR20=\"\",\"\",COUNTIFS(打撃データー!BH17:BH511,AQ20,打撃データー!BI17:BI511,AR20))","v":""},null,"","","",null,null,{"$f":"IF(戦績!O17=\"\",\"\",戦績!O17)","v":""},{"$f":"IF(BJ20=\"\",\"\",VLOOKUP(BJ20,戦績!$O$6:$U$38,7,FALSE))","v":""},{"$f":"IF(BK20=\"\",\"\",SUMIF(打撃データー!$BH$6:$BH$500,BK20,打撃データー!$BV$6:$BV$500))","v":""},{"$f":"IF(BK20=\"\",\"\",SUMIF(打撃データー!$BH$6:$BH$500,BK20,打撃データー!$BW$6:$BW$500))","v":""},{"$f":"IF(BK20=\"\",\"\",SUMIF(打撃データー!$BH$6:$BH$500,BK20,打撃データー!$BX$6:$BX$500))","v":""},"","","",null,null,null,null,"",""]
[null,null,null,null,null,"",null,null,{"$f":"IF(H21=\"\",\"\",SUMIFS(打撃データー!$I$6:$I$500,打撃データー!$F$6:$F$500,F21,打撃データー!$H$6:$H$500,H21))","v":""},{"$f":"IF(H21=\"\",\"\",SUMIFS(打撃データー!$J$6:$J$500,打撃データー!$F$6:$F$500,F21,打撃データー!$H$6:$H$500,H21))","v":""},{"$f":"IF(H21=\"\",\"\",SUMIFS(打撃データー!$K$6:$K$500,打撃データー!$F$6:$F$500,F21,打撃データー!$H$6:$H$500,H21))","v":""},{"$f":"IF(H21=\"\",\"\",SUMIFS(打撃データー!$L$6:$L$500,打撃データー!$F$6:$F$500,F21,打撃データー!$H$6:$H$500,H21))","v":""},{"$f":"IF(H21=\"\",\"\",SUMIFS(打撃データー!$M$6:$M$500,打撃データー!$F$6:$F$500,F21,打撃データー!$H$6:$H$500,H21))","v":""},{"$f":"IF(H21=\"\",\"\",SUMIFS(打撃データー!$N$6:$N$500,打撃データー!$F$6:$F$500,F21,打撃データー!$H$6:$H$500,H21))","v":""},{"$f":"IF(H21=\"\",\"\",SUMIFS(打撃データー!$O$6:$O$500,打撃データー!$F$6:$F$500,F21,打撃データー!$H$6:$H$500,H21))","v":""},{"$f":"IF(H21=\"\",\"\",SUMIFS(打撃データー!$P$6:$P$500,打撃データー!$F$6:$F$500,F21,打撃データー!$H$6:$H$500,H21))","v":""},{"$f":"IF(H21=\"\",\"\",SUMIFS(打撃データー!$Q$6:$Q$500,打撃データー!$F$6:$F$500,F21,打撃データー!$H$6:$H$500,H21))","v":""},{"$f":"IF(H21=\"\",\"\",SUMIFS(打撃データー!$R$6:$R$500,打撃データー!$F$6:$F$500,F21,打撃データー!$H$6:$H$500,H21))","v":""},{"$f":"IF(H21=\"\",\"\",SUMIFS(打撃データー!$S$6:$S$500,打撃データー!$F$6:$F$500,F21,打撃データー!$H$6:$H$500,H21))","v":""},{"$f":"IF(H21=\"\",\"\",SUMIFS(打撃データー!$T$6:$T$500,打撃データー!$F$6:$F$500,F21,打撃データー!$H$6:$H$500,H21))","v":""},{"$f":"IF(H21=\"\",\"\",SUMIFS(打撃データー!$U$6:$U$500,打撃データー!$F$6:$F$500,F21,打撃データー!$H$6:$H$500,H21))","v":""},{"$f":"IF(H21=\"\",\"\",SUMIFS(打撃データー!$V$6:$V$500,打撃データー!$F$6:$F$500,F21,打撃データー!$H$6:$H$500,H21))","v":""},{"$f":"IF(H21=\"\",\"\",SUMIFS(打撃データー!$W$6:$W$500,打撃データー!$F$6:$F$500,F21,打撃データー!$H$6:$H$500,H21))","v":""},{"$f":"IF(H21=\"\",\"\",SUMIFS(打撃データー!$X$6:$X$500,打撃データー!$F$6:$F$500,F21,打撃データー!$H$6:$H$500,H21))","v":""},{"$f":"IF(H21=\"\",\"\",SUMIFS(打撃データー!$Y$6:$Y$500,打撃データー!$F$6:$F$500,F21,打撃データー!$H$6:$H$500,H21))","v":""},{"$f":"IF(H21=\"\",\"\",SUMIFS(打撃データー!$Z$6:$Z$500,打撃データー!$F$6:$F$500,F21,打撃データー!$H$6:$H$500,H21))","v":""},{"$f":"IF(H21=\"\",\"\",SUMIFS(打撃データー!$AA$6:$AA$500,打撃データー!$F$6:$F$500,F21,打撃データー!$H$6:$H$500,H21))","v":""},{"$f":"IF(G21=\"\",\"\",SUMIFS(打撃データー!$AC$6:$AC$337,打撃データー!$E$6:$E$337,$E$9,打撃データー!$G$6:$G$337,G21))","v":""},{"$f":"IF(G21=\"\",\"\",SUMIFS(打撃データー!$BE$6:$BE$337,打撃データー!$AG$6:$AG$337,F21,打撃データー!$AH$6:$AH$337,G21))","v":""},{"$f":"IF(G21=\"\",\"\",SUMIFS(打撃データー!$BF$6:$BF$337,打撃データー!$AG$6:$AG$337,F21,打撃データー!$AH$6:$AH$337,G21))","v":""},null,null,"","","","","",null,null,null,null,null,"","","",{"$f":"IF(AR21=\"\",\"\",SUMIFS(打撃データー!$BK$6:$BK$500,打撃データー!$BH$6:$BH$500,AQ21,打撃データー!$BI$6:$BI$500,AR21))","v":""},{"$f":"IF(AR21=\"\",\"\",SUMIFS(打撃データー!$BL$6:$BL$500,打撃データー!$BH$6:$BH$500,AQ21,打撃データー!$BI$6:$BI$500,AR21))","v":""},{"$f":"IF(AR21=\"\",\"\",SUMIFS(打撃データー!$BM$6:$BM$500,打撃データー!$BH$6:$BH$500,AQ21,打撃データー!$BI$6:$BI$500,AR21))","v":""},{"$f":"IF(AR21=\"\",\"\",SUMIFS(打撃データー!$BN$6:$BN$500,打撃データー!$BH$6:$BH$500,AQ21,打撃データー!$BI$6:$BI$500,$AR21))","v":""},{"$f":"IF(AR21=\"\",\"\",SUMIFS(打撃データー!$BO$6:$BO$500,打撃データー!$BH$6:$BH$500,AQ21,打撃データー!$BI$6:$BI$500,AR21))","v":""},{"$f":"IF(AR21=\"\",\"\",SUMIFS(打撃データー!$BP$6:$BP$500,打撃データー!$BH$6:$BH$500,AQ21,打撃データー!$BI$6:$BI$500,AR21))","v":""},{"$f":"IF(AR21=\"\",\"\",SUMIFS(打撃データー!$BQ$6:$BQ$500,打撃データー!$BH$6:$BH$500,AQ21,打撃データー!$BI$6:$BI$500,AR21))","v":""},{"$f":"IF(AR21=\"\",\"\",SUMIFS(打撃データー!$BR$6:$BR$500,打撃データー!$BH$6:$BH$500,AQ21,打撃データー!$BI$6:$BI$500,AR21))","v":""},{"$f":"IF(AR21=\"\",\"\",SUMIFS(打撃データー!$BS$6:$BS$500,打撃データー!$BH$6:$BH$500,AQ21,打撃データー!$BI$6:$BI$500,AR21))","v":""},{"$f":"IF(AR21=\"\",\"\",COUNTIFS(打撃データー!BH18:BH512,AQ21,打撃データー!BI18:BI512,AR21))","v":""},null,"","","",null,null,{"$f":"IF(戦績!O18=\"\",\"\",戦績!O18)","v":""},{"$f":"IF(BJ21=\"\",\"\",VLOOKUP(BJ21,戦績!$O$6:$U$38,7,FALSE))","v":""},{"$f":"IF(BK21=\"\",\"\",SUMIF(打撃データー!$BH$6:$BH$500,BK21,打撃データー!$BV$6:$BV$500))","v":""},{"$f":"IF(BK21=\"\",\"\",SUMIF(打撃データー!$BH$6:$BH$500,BK21,打撃データー!$BW$6:$BW$500))","v":""},{"$f":"IF(BK21=\"\",\"\",SUMIF(打撃データー!$BH$6:$BH$500,BK21,打撃データー!$BX$6:$BX$500))","v":""},"","","",null,null,null,null,"",""]
[null,null,null,null,null,"",null,null,{"$f":"IF(H22=\"\",\"\",SUMIFS(打撃データー!$I$6:$I$500,打撃データー!$F$6:$F$500,F22,打撃データー!$H$6:$H$500,H22))","v":""},{"$f":"IF(H22=\"\",\"\",SUMIFS(打撃データー!$J$6:$J$500,打撃データー!$F$6:$F$500,F22,打撃データー!$H$6:$H$500,H22))","v":""},{"$f":"IF(H22=\"\",\"\",SUMIFS(打撃データー!$K$6:$K$500,打撃データー!$F$6:$F$500,F22,打撃データー!$H$6:$H$500,H22))","v":""},{"$f":"IF(H22=\"\",\"\",SUMIFS(打撃データー!$L$6:$L$500,打撃データー!$F$6:$F$500,F22,打撃データー!$H$6:$H$500,H22))","v":""},{"$f":"IF(H22=\"\",\"\",SUMIFS(打撃データー!$M$6:$M$500,打撃データー!$F$6:$F$500,F22,打撃データー!$H$6:$H$500,H22))","v":""},{"$f":"IF(H22=\"\",\"\",SUMIFS(打撃データー!$N$6:$N$500,打撃データー!$F$6:$F$500,F22,打撃データー!$H$6:$H$500,H22))","v":""},{"$f":"IF(H22=\"\",\"\",SUMIFS(打撃データー!$O$6:$O$500,打撃データー!$F$6:$F$500,F22,打撃データー!$H$6:$H$500,H22))","v":""},{"$f":"IF(H22=\"\",\"\",SUMIFS(打撃データー!$P$6:$P$500,打撃データー!$F$6:$F$500,F22,打撃データー!$H$6:$H$500,H22))","v":""},{"$f":"IF(H22=\"\",\"\",SUMIFS(打撃データー!$Q$6:$Q$500,打撃データー!$F$6:$F$500,F22,打撃データー!$H$6:$H$500,H22))","v":""},{"$f":"IF(H22=\"\",\"\",SUMIFS(打撃データー!$R$6:$R$500,打撃データー!$F$6:$F$500,F22,打撃データー!$H$6:$H$500,H22))","v":""},{"$f":"IF(H22=\"\",\"\",SUMIFS(打撃データー!$S$6:$S$500,打撃データー!$F$6:$F$500,F22,打撃データー!$H$6:$H$500,H22))","v":""},{"$f":"IF(H22=\"\",\"\",SUMIFS(打撃データー!$T$6:$T$500,打撃データー!$F$6:$F$500,F22,打撃データー!$H$6:$H$500,H22))","v":""},{"$f":"IF(H22=\"\",\"\",SUMIFS(打撃データー!$U$6:$U$500,打撃データー!$F$6:$F$500,F22,打撃データー!$H$6:$H$500,H22))","v":""},{"$f":"IF(H22=\"\",\"\",SUMIFS(打撃データー!$V$6:$V$500,打撃データー!$F$6:$F$500,F22,打撃データー!$H$6:$H$500,H22))","v":""},{"$f":"IF(H22=\"\",\"\",SUMIFS(打撃データー!$W$6:$W$500,打撃データー!$F$6:$F$500,F22,打撃データー!$H$6:$H$500,H22))","v":""},{"$f":"IF(H22=\"\",\"\",SUMIFS(打撃データー!$X$6:$X$500,打撃データー!$F$6:$F$500,F22,打撃データー!$H$6:$H$500,H22))","v":""},{"$f":"IF(H22=\"\",\"\",SUMIFS(打撃データー!$Y$6:$Y$500,打撃データー!$F$6:$F$500,F22,打撃データー!$H$6:$H$500,H22))","v":""},{"$f":"IF(H22=\"\",\"\",SUMIFS(打撃データー!$Z$6:$Z$500,打撃データー!$F$6:$F$500,F22,打撃データー!$H$6:$H$500,H22))","v":""},{"$f":"IF(H22=\"\",\"\",SUMIFS(打撃データー!$AA$6:$AA$500,打撃データー!$F$6:$F$500,F22,打撃データー!$H$6:$H$500,H22))","v":""},{"$f":"IF(G22=\"\",\"\",SUMIFS(打撃データー!$AC$6:$AC$337,打撃データー!$E$6:$E$337,$E$9,打撃データー!$G$6:$G$337,G22))","v":""},{"$f":"IF(G22=\"\",\"\",SUMIFS(打撃データー!$BE$6:$BE$337,打撃データー!$AG$6:$AG$337,F22,打撃データー!$AH$6:$AH$337,G22))","v":""},{"$f":"IF(G22=\"\",\"\",SUMIFS(打撃データー!$BF$6:$BF$337,打撃データー!$AG$6:$AG$337,F22,打撃データー!$AH$6:$AH$337,G22))","v":""},null,null,"","","","","",null,null,null,null,null,"","","",{"$f":"IF(AR22=\"\",\"\",SUMIFS(打撃データー!$BK$6:$BK$500,打撃データー!$BH$6:$BH$500,AQ22,打撃データー!$BI$6:$BI$500,AR22))","v":""},{"$f":"IF(AR22=\"\",\"\",SUMIFS(打撃データー!$BL$6:$BL$500,打撃データー!$BH$6:$BH$500,AQ22,打撃データー!$BI$6:$BI$500,AR22))","v":""},{"$f":"IF(AR22=\"\",\"\",SUMIFS(打撃データー!$BM$6:$BM$500,打撃データー!$BH$6:$BH$500,AQ22,打撃データー!$BI$6:$BI$500,AR22))","v":""},{"$f":"IF(AR22=\"\",\"\",SUMIFS(打撃データー!$BN$6:$BN$500,打撃データー!$BH$6:$BH$500,AQ22,打撃データー!$BI$6:$BI$500,$AR22))","v":""},{"$f":"IF(AR22=\"\",\"\",SUMIFS(打撃データー!$BO$6:$BO$500,打撃データー!$BH$6:$BH$500,AQ22,打撃データー!$BI$6:$BI$500,AR22))","v":""},{"$f":"IF(AR22=\"\",\"\",SUMIFS(打撃データー!$BP$6:$BP$500,打撃データー!$BH$6:$BH$500,AQ22,打撃データー!$BI$6:$BI$500,AR22))","v":""},{"$f":"IF(AR22=\"\",\"\",SUMIFS(打撃データー!$BQ$6:$BQ$500,打撃データー!$BH$6:$BH$500,AQ22,打撃データー!$BI$6:$BI$500,AR22))","v":""},{"$f":"IF(AR22=\"\",\"\",SUMIFS(打撃データー!$BR$6:$BR$500,打撃データー!$BH$6:$BH$500,AQ22,打撃データー!$BI$6:$BI$500,AR22))","v":""},{"$f":"IF(AR22=\"\",\"\",SUMIFS(打撃データー!$BS$6:$BS$500,打撃データー!$BH$6:$BH$500,AQ22,打撃データー!$BI$6:$BI$500,AR22))","v":""},{"$f":"IF(AR22=\"\",\"\",COUNTIFS(打撃データー!BH19:BH513,AQ22,打撃データー!BI19:BI513,AR22))","v":""},null,"","","",null,null,{"$f":"IF(戦績!O19=\"\",\"\",戦績!O19)","v":""},{"$f":"IF(BJ22=\"\",\"\",VLOOKUP(BJ22,戦績!$O$6:$U$38,7,FALSE))","v":""},{"$f":"IF(BK22=\"\",\"\",SUMIF(打撃データー!$BH$6:$BH$500,BK22,打撃データー!$BV$6:$BV$500))","v":""},{"$f":"IF(BK22=\"\",\"\",SUMIF(打撃データー!$BH$6:$BH$500,BK22,打撃データー!$BW$6:$BW$500))","v":""},{"$f":"IF(BK22=\"\",\"\",SUMIF(打撃データー!$BH$6:$BH$500,BK22,打撃データー!$BX$6:$BX$500))","v":""},"","","",null,null,null,null,"",""]
[null,null,null,null,null,"",null,null,{"$f":"IF(H23=\"\",\"\",SUMIFS(打撃データー!$I$6:$I$500,打撃データー!$F$6:$F$500,F23,打撃データー!$H$6:$H$500,H23))","v":""},{"$f":"IF(H23=\"\",\"\",SUMIFS(打撃データー!$J$6:$J$500,打撃データー!$F$6:$F$500,F23,打撃データー!$H$6:$H$500,H23))","v":""},{"$f":"IF(H23=\"\",\"\",SUMIFS(打撃データー!$K$6:$K$500,打撃データー!$F$6:$F$500,F23,打撃データー!$H$6:$H$500,H23))","v":""},{"$f":"IF(H23=\"\",\"\",SUMIFS(打撃データー!$L$6:$L$500,打撃データー!$F$6:$F$500,F23,打撃データー!$H$6:$H$500,H23))","v":""},{"$f":"IF(H23=\"\",\"\",SUMIFS(打撃データー!$M$6:$M$500,打撃データー!$F$6:$F$500,F23,打撃データー!$H$6:$H$500,H23))","v":""},{"$f":"IF(H23=\"\",\"\",SUMIFS(打撃データー!$N$6:$N$500,打撃データー!$F$6:$F$500,F23,打撃データー!$H$6:$H$500,H23))","v":""},{"$f":"IF(H23=\"\",\"\",SUMIFS(打撃データー!$O$6:$O$500,打撃データー!$F$6:$F$500,F23,打撃データー!$H$6:$H$500,H23))","v":""},{"$f":"IF(H23=\"\",\"\",SUMIFS(打撃データー!$P$6:$P$500,打撃データー!$F$6:$F$500,F23,打撃データー!$H$6:$H$500,H23))","v":""},{"$f":"IF(H23=\"\",\"\",SUMIFS(打撃データー!$Q$6:$Q$500,打撃データー!$F$6:$F$500,F23,打撃データー!$H$6:$H$500,H23))","v":""},{"$f":"IF(H23=\"\",\"\",SUMIFS(打撃データー!$R$6:$R$500,打撃データー!$F$6:$F$500,F23,打撃データー!$H$6:$H$500,H23))","v":""},{"$f":"IF(H23=\"\",\"\",SUMIFS(打撃データー!$S$6:$S$500,打撃データー!$F$6:$F$500,F23,打撃データー!$H$6:$H$500,H23))","v":""},{"$f":"IF(H23=\"\",\"\",SUMIFS(打撃データー!$T$6:$T$500,打撃データー!$F$6:$F$500,F23,打撃データー!$H$6:$H$500,H23))","v":""},{"$f":"IF(H23=\"\",\"\",SUMIFS(打撃データー!$U$6:$U$500,打撃データー!$F$6:$F$500,F23,打撃データー!$H$6:$H$500,H23))","v":""},{"$f":"IF(H23=\"\",\"\",SUMIFS(打撃データー!$V$6:$V$500,打撃データー!$F$6:$F$500,F23,打撃データー!$H$6:$H$500,H23))","v":""},{"$f":"IF(H23=\"\",\"\",SUMIFS(打撃データー!$W$6:$W$500,打撃データー!$F$6:$F$500,F23,打撃データー!$H$6:$H$500,H23))","v":""},{"$f":"IF(H23=\"\",\"\",SUMIFS(打撃データー!$X$6:$X$500,打撃データー!$F$6:$F$500,F23,打撃データー!$H$6:$H$500,H23))","v":""},{"$f":"IF(H23=\"\",\"\",SUMIFS(打撃データー!$Y$6:$Y$500,打撃データー!$F$6:$F$500,F23,打撃データー!$H$6:$H$500,H23))","v":""},{"$f":"IF(H23=\"\",\"\",SUMIFS(打撃データー!$Z$6:$Z$500,打撃データー!$F$6:$F$500,F23,打撃データー!$H$6:$H$500,H23))","v":""},{"$f":"IF(H23=\"\",\"\",SUMIFS(打撃データー!$AA$6:$AA$500,打撃データー!$F$6:$F$500,F23,打撃データー!$H$6:$H$500,H23))","v":""},{"$f":"IF(G23=\"\",\"\",SUMIFS(打撃データー!$AC$6:$AC$337,打撃データー!$E$6:$E$337,$E$9,打撃データー!$G$6:$G$337,G23))","v":""},{"$f":"IF(G23=\"\",\"\",SUMIFS(打撃データー!$BE$6:$BE$337,打撃データー!$AG$6:$AG$337,F23,打撃データー!$AH$6:$AH$337,G23))","v":""},{"$f":"IF(G23=\"\",\"\",SUMIFS(打撃データー!$BF$6:$BF$337,打撃データー!$AG$6:$AG$337,F23,打撃データー!$AH$6:$AH$337,G23))","v":""},null,null,"","","","","",null,null,null,null,null,"","","",{"$f":"IF(AR23=\"\",\"\",SUMIFS(打撃データー!$BK$6:$BK$500,打撃データー!$BH$6:$BH$500,AQ23,打撃データー!$BI$6:$BI$500,AR23))","v":""},{"$f":"IF(AR23=\"\",\"\",SUMIFS(打撃データー!$BL$6:$BL$500,打撃データー!$BH$6:$BH$500,AQ23,打撃データー!$BI$6:$BI$500,AR23))","v":""},{"$f":"IF(AR23=\"\",\"\",SUMIFS(打撃データー!$BM$6:$BM$500,打撃データー!$BH$6:$BH$500,AQ23,打撃データー!$BI$6:$BI$500,AR23))","v":""},{"$f":"IF(AR23=\"\",\"\",SUMIFS(打撃データー!$BN$6:$BN$500,打撃データー!$BH$6:$BH$500,AQ23,打撃データー!$BI$6:$BI$500,$AR23))","v":""},{"$f":"IF(AR23=\"\",\"\",SUMIFS(打撃データー!$BO$6:$BO$500,打撃データー!$BH$6:$BH$500,AQ23,打撃データー!$BI$6:$BI$500,AR23))","v":""},{"$f":"IF(AR23=\"\",\"\",SUMIFS(打撃データー!$BP$6:$BP$500,打撃データー!$BH$6:$BH$500,AQ23,打撃データー!$BI$6:$BI$500,AR23))","v":""},{"$f":"IF(AR23=\"\",\"\",SUMIFS(打撃データー!$BQ$6:$BQ$500,打撃データー!$BH$6:$BH$500,AQ23,打撃データー!$BI$6:$BI$500,AR23))","v":""},{"$f":"IF(AR23=\"\",\"\",SUMIFS(打撃データー!$BR$6:$BR$500,打撃データー!$BH$6:$BH$500,AQ23,打撃データー!$BI$6:$BI$500,AR23))","v":""},{"$f":"IF(AR23=\"\",\"\",SUMIFS(打撃データー!$BS$6:$BS$500,打撃データー!$BH$6:$BH$500,AQ23,打撃データー!$BI$6:$BI$500,AR23))","v":""},{"$f":"IF(AR23=\"\",\"\",COUNTIFS(打撃データー!BH20:BH514,AQ23,打撃データー!BI20:BI514,AR23))","v":""},null,"","","",null,null,{"$f":"IF(戦績!O20=\"\",\"\",戦績!O20)","v":""},{"$f":"IF(BJ23=\"\",\"\",VLOOKUP(BJ23,戦績!$O$6:$U$38,7,FALSE))","v":""},{"$f":"IF(BK23=\"\",\"\",SUMIF(打撃データー!$BH$6:$BH$500,BK23,打撃データー!$BV$6:$BV$500))","v":""},{"$f":"IF(BK23=\"\",\"\",SUMIF(打撃データー!$BH$6:$BH$500,BK23,打撃データー!$BW$6:$BW$500))","v":""},{"$f":"IF(BK23=\"\",\"\",SUMIF(打撃データー!$BH$6:$BH$500,BK23,打撃データー!$BX$6:$BX$500))","v":""},"","","",null,null,null,null,"",""]
[null,null,null,null,null,"",null,null,{"$f":"IF(H24=\"\",\"\",SUMIFS(打撃データー!$I$6:$I$500,打撃データー!$F$6:$F$500,F24,打撃データー!$H$6:$H$500,H24))","v":""},{"$f":"IF(H24=\"\",\"\",SUMIFS(打撃データー!$J$6:$J$500,打撃データー!$F$6:$F$500,F24,打撃データー!$H$6:$H$500,H24))","v":""},{"$f":"IF(H24=\"\",\"\",SUMIFS(打撃データー!$K$6:$K$500,打撃データー!$F$6:$F$500,F24,打撃データー!$H$6:$H$500,H24))","v":""},{"$f":"IF(H24=\"\",\"\",SUMIFS(打撃データー!$L$6:$L$500,打撃データー!$F$6:$F$500,F24,打撃データー!$H$6:$H$500,H24))","v":""},{"$f":"IF(H24=\"\",\"\",SUMIFS(打撃データー!$M$6:$M$500,打撃データー!$F$6:$F$500,F24,打撃データー!$H$6:$H$500,H24))","v":""},{"$f":"IF(H24=\"\",\"\",SUMIFS(打撃データー!$N$6:$N$500,打撃データー!$F$6:$F$500,F24,打撃データー!$H$6:$H$500,H24))","v":""},{"$f":"IF(H24=\"\",\"\",SUMIFS(打撃データー!$O$6:$O$500,打撃データー!$F$6:$F$500,F24,打撃データー!$H$6:$H$500,H24))","v":""},{"$f":"IF(H24=\"\",\"\",SUMIFS(打撃データー!$P$6:$P$500,打撃データー!$F$6:$F$500,F24,打撃データー!$H$6:$H$500,H24))","v":""},{"$f":"IF(H24=\"\",\"\",SUMIFS(打撃データー!$Q$6:$Q$500,打撃データー!$F$6:$F$500,F24,打撃データー!$H$6:$H$500,H24))","v":""},{"$f":"IF(H24=\"\",\"\",SUMIFS(打撃データー!$R$6:$R$500,打撃データー!$F$6:$F$500,F24,打撃データー!$H$6:$H$500,H24))","v":""},{"$f":"IF(H24=\"\",\"\",SUMIFS(打撃データー!$S$6:$S$500,打撃データー!$F$6:$F$500,F24,打撃データー!$H$6:$H$500,H24))","v":""},{"$f":"IF(H24=\"\",\"\",SUMIFS(打撃データー!$T$6:$T$500,打撃データー!$F$6:$F$500,F24,打撃データー!$H$6:$H$500,H24))","v":""},{"$f":"IF(H24=\"\",\"\",SUMIFS(打撃データー!$U$6:$U$500,打撃データー!$F$6:$F$500,F24,打撃データー!$H$6:$H$500,H24))","v":""},{"$f":"IF(H24=\"\",\"\",SUMIFS(打撃データー!$V$6:$V$500,打撃データー!$F$6:$F$500,F24,打撃データー!$H$6:$H$500,H24))","v":""},{"$f":"IF(H24=\"\",\"\",SUMIFS(打撃データー!$W$6:$W$500,打撃データー!$F$6:$F$500,F24,打撃データー!$H$6:$H$500,H24))","v":""},{"$f":"IF(H24=\"\",\"\",SUMIFS(打撃データー!$X$6:$X$500,打撃データー!$F$6:$F$500,F24,打撃データー!$H$6:$H$500,H24))","v":""},{"$f":"IF(H24=\"\",\"\",SUMIFS(打撃データー!$Y$6:$Y$500,打撃データー!$F$6:$F$500,F24,打撃データー!$H$6:$H$500,H24))","v":""},{"$f":"IF(H24=\"\",\"\",SUMIFS(打撃データー!$Z$6:$Z$500,打撃データー!$F$6:$F$500,F24,打撃データー!$H$6:$H$500,H24))","v":""},{"$f":"IF(H24=\"\",\"\",SUMIFS(打撃データー!$AA$6:$AA$500,打撃データー!$F$6:$F$500,F24,打撃データー!$H$6:$H$500,H24))","v":""},{"$f":"IF(G24=\"\",\"\",SUMIFS(打撃データー!$AC$6:$AC$337,打撃データー!$E$6:$E$337,$E$9,打撃データー!$G$6:$G$337,G24))","v":""},{"$f":"IF(G24=\"\",\"\",SUMIFS(打撃データー!$BE$6:$BE$337,打撃データー!$AG$6:$AG$337,F24,打撃データー!$AH$6:$AH$337,G24))","v":""},{"$f":"IF(G24=\"\",\"\",SUMIFS(打撃データー!$BF$6:$BF$337,打撃データー!$AG$6:$AG$337,F24,打撃データー!$AH$6:$AH$337,G24))","v":""},null,null,"","","","","",null,null,null,null,null,"","","",{"$f":"IF(AR24=\"\",\"\",SUMIFS(打撃データー!$BK$6:$BK$500,打撃データー!$BH$6:$BH$500,AQ24,打撃データー!$BI$6:$BI$500,AR24))","v":""},{"$f":"IF(AR24=\"\",\"\",SUMIFS(打撃データー!$BL$6:$BL$500,打撃データー!$BH$6:$BH$500,AQ24,打撃データー!$BI$6:$BI$500,AR24))","v":""},{"$f":"IF(AR24=\"\",\"\",SUMIFS(打撃データー!$BM$6:$BM$500,打撃データー!$BH$6:$BH$500,AQ24,打撃データー!$BI$6:$BI$500,AR24))","v":""},{"$f":"IF(AR24=\"\",\"\",SUMIFS(打撃データー!$BN$6:$BN$500,打撃データー!$BH$6:$BH$500,AQ24,打撃データー!$BI$6:$BI$500,$AR24))","v":""},{"$f":"IF(AR24=\"\",\"\",SUMIFS(打撃データー!$BO$6:$BO$500,打撃データー!$BH$6:$BH$500,AQ24,打撃データー!$BI$6:$BI$500,AR24))","v":""},{"$f":"IF(AR24=\"\",\"\",SUMIFS(打撃データー!$BP$6:$BP$500,打撃データー!$BH$6:$BH$500,AQ24,打撃データー!$BI$6:$BI$500,AR24))","v":""},{"$f":"IF(AR24=\"\",\"\",SUMIFS(打撃データー!$BQ$6:$BQ$500,打撃データー!$BH$6:$BH$500,AQ24,打撃データー!$BI$6:$BI$500,AR24))","v":""},{"$f":"IF(AR24=\"\",\"\",SUMIFS(打撃データー!$BR$6:$BR$500,打撃データー!$BH$6:$BH$500,AQ24,打撃データー!$BI$6:$BI$500,AR24))","v":""},{"$f":"IF(AR24=\"\",\"\",SUMIFS(打撃データー!$BS$6:$BS$500,打撃データー!$BH$6:$BH$500,AQ24,打撃データー!$BI$6:$BI$500,AR24))","v":""},{"$f":"IF(AR24=\"\",\"\",COUNTIFS(打撃データー!BH21:BH515,AQ24,打撃データー!BI21:BI515,AR24))","v":""},null,"","","",null,null,{"$f":"IF(戦績!O21=\"\",\"\",戦績!O21)","v":""},{"$f":"IF(BJ24=\"\",\"\",VLOOKUP(BJ24,戦績!$O$6:$U$38,7,FALSE))","v":""},{"$f":"IF(BK24=\"\",\"\",SUMIF(打撃データー!$BH$6:$BH$500,BK24,打撃データー!$BV$6:$BV$500))","v":""},{"$f":"IF(BK24=\"\",\"\",SUMIF(打撃データー!$BH$6:$BH$500,BK24,打撃データー!$BW$6:$BW$500))","v":""},{"$f":"IF(BK24=\"\",\"\",SUMIF(打撃データー!$BH$6:$BH$500,BK24,打撃データー!$BX$6:$BX$500))","v":""},"","","",null,null,null,null,"",""]
[null,null,null,null,null,"",null,null,{"$f":"IF(H25=\"\",\"\",SUMIFS(打撃データー!$I$6:$I$500,打撃データー!$F$6:$F$500,F25,打撃データー!$H$6:$H$500,H25))","v":""},{"$f":"IF(H25=\"\",\"\",SUMIFS(打撃データー!$J$6:$J$500,打撃データー!$F$6:$F$500,F25,打撃データー!$H$6:$H$500,H25))","v":""},{"$f":"IF(H25=\"\",\"\",SUMIFS(打撃データー!$K$6:$K$500,打撃データー!$F$6:$F$500,F25,打撃データー!$H$6:$H$500,H25))","v":""},{"$f":"IF(H25=\"\",\"\",SUMIFS(打撃データー!$L$6:$L$500,打撃データー!$F$6:$F$500,F25,打撃データー!$H$6:$H$500,H25))","v":""},{"$f":"IF(H25=\"\",\"\",SUMIFS(打撃データー!$M$6:$M$500,打撃データー!$F$6:$F$500,F25,打撃データー!$H$6:$H$500,H25))","v":""},{"$f":"IF(H25=\"\",\"\",SUMIFS(打撃データー!$N$6:$N$500,打撃データー!$F$6:$F$500,F25,打撃データー!$H$6:$H$500,H25))","v":""},{"$f":"IF(H25=\"\",\"\",SUMIFS(打撃データー!$O$6:$O$500,打撃データー!$F$6:$F$500,F25,打撃データー!$H$6:$H$500,H25))","v":""},{"$f":"IF(H25=\"\",\"\",SUMIFS(打撃データー!$P$6:$P$500,打撃データー!$F$6:$F$500,F25,打撃データー!$H$6:$H$500,H25))","v":""},{"$f":"IF(H25=\"\",\"\",SUMIFS(打撃データー!$Q$6:$Q$500,打撃データー!$F$6:$F$500,F25,打撃データー!$H$6:$H$500,H25))","v":""},{"$f":"IF(H25=\"\",\"\",SUMIFS(打撃データー!$R$6:$R$500,打撃データー!$F$6:$F$500,F25,打撃データー!$H$6:$H$500,H25))","v":""},{"$f":"IF(H25=\"\",\"\",SUMIFS(打撃データー!$S$6:$S$500,打撃データー!$F$6:$F$500,F25,打撃データー!$H$6:$H$500,H25))","v":""},{"$f":"IF(H25=\"\",\"\",SUMIFS(打撃データー!$T$6:$T$500,打撃データー!$F$6:$F$500,F25,打撃データー!$H$6:$H$500,H25))","v":""},{"$f":"IF(H25=\"\",\"\",SUMIFS(打撃データー!$U$6:$U$500,打撃データー!$F$6:$F$500,F25,打撃データー!$H$6:$H$500,H25))","v":""},{"$f":"IF(H25=\"\",\"\",SUMIFS(打撃データー!$V$6:$V$500,打撃データー!$F$6:$F$500,F25,打撃データー!$H$6:$H$500,H25))","v":""},{"$f":"IF(H25=\"\",\"\",SUMIFS(打撃データー!$W$6:$W$500,打撃データー!$F$6:$F$500,F25,打撃データー!$H$6:$H$500,H25))","v":""},{"$f":"IF(H25=\"\",\"\",SUMIFS(打撃データー!$X$6:$X$500,打撃データー!$F$6:$F$500,F25,打撃データー!$H$6:$H$500,H25))","v":""},{"$f":"IF(H25=\"\",\"\",SUMIFS(打撃データー!$Y$6:$Y$500,打撃データー!$F$6:$F$500,F25,打撃データー!$H$6:$H$500,H25))","v":""},{"$f":"IF(H25=\"\",\"\",SUMIFS(打撃データー!$Z$6:$Z$500,打撃データー!$F$6:$F$500,F25,打撃データー!$H$6:$H$500,H25))","v":""},{"$f":"IF(H25=\"\",\"\",SUMIFS(打撃データー!$AA$6:$AA$500,打撃データー!$F$6:$F$500,F25,打撃データー!$H$6:$H$500,H25))","v":""},{"$f":"IF(G25=\"\",\"\",SUMIFS(打撃データー!$AC$6:$AC$337,打撃データー!$E$6:$E$337,$E$9,打撃データー!$G$6:$G$337,G25))","v":""},{"$f":"IF(G25=\"\",\"\",SUMIFS(打撃データー!$BE$6:$BE$337,打撃データー!$AG$6:$AG$337,F25,打撃データー!$AH$6:$AH$337,G25))","v":""},{"$f":"IF(G25=\"\",\"\",SUMIFS(打撃データー!$BF$6:$BF$337,打撃データー!$AG$6:$AG$337,F25,打撃データー!$AH$6:$AH$337,G25))","v":""},null,null,"","","","","",null,null,null,null,null,"","","",{"$f":"IF(AR25=\"\",\"\",SUMIFS(打撃データー!$BK$6:$BK$500,打撃データー!$BH$6:$BH$500,AQ25,打撃データー!$BI$6:$BI$500,AR25))","v":""},{"$f":"IF(AR25=\"\",\"\",SUMIFS(打撃データー!$BL$6:$BL$500,打撃データー!$BH$6:$BH$500,AQ25,打撃データー!$BI$6:$BI$500,AR25))","v":""},{"$f":"IF(AR25=\"\",\"\",SUMIFS(打撃データー!$BM$6:$BM$500,打撃データー!$BH$6:$BH$500,AQ25,打撃データー!$BI$6:$BI$500,AR25))","v":""},{"$f":"IF(AR25=\"\",\"\",SUMIFS(打撃データー!$BN$6:$BN$500,打撃データー!$BH$6:$BH$500,AQ25,打撃データー!$BI$6:$BI$500,$AR25))","v":""},{"$f":"IF(AR25=\"\",\"\",SUMIFS(打撃データー!$BO$6:$BO$500,打撃データー!$BH$6:$BH$500,AQ25,打撃データー!$BI$6:$BI$500,AR25))","v":""},{"$f":"IF(AR25=\"\",\"\",SUMIFS(打撃データー!$BP$6:$BP$500,打撃データー!$BH$6:$BH$500,AQ25,打撃データー!$BI$6:$BI$500,AR25))","v":""},{"$f":"IF(AR25=\"\",\"\",SUMIFS(打撃データー!$BQ$6:$BQ$500,打撃データー!$BH$6:$BH$500,AQ25,打撃データー!$BI$6:$BI$500,AR25))","v":""},{"$f":"IF(AR25=\"\",\"\",SUMIFS(打撃データー!$BR$6:$BR$500,打撃データー!$BH$6:$BH$500,AQ25,打撃データー!$BI$6:$BI$500,AR25))","v":""},{"$f":"IF(AR25=\"\",\"\",SUMIFS(打撃データー!$BS$6:$BS$500,打撃データー!$BH$6:$BH$500,AQ25,打撃データー!$BI$6:$BI$500,AR25))","v":""},{"$f":"IF(AR25=\"\",\"\",COUNTIFS(打撃データー!BH22:BH516,AQ25,打撃データー!BI22:BI516,AR25))","v":""},null,"","","",null,null,{"$f":"IF(戦績!O22=\"\",\"\",戦績!O22)","v":""},{"$f":"IF(BJ25=\"\",\"\",VLOOKUP(BJ25,戦績!$O$6:$U$38,7,FALSE))","v":""},{"$f":"IF(BK25=\"\",\"\",SUMIF(打撃データー!$BH$6:$BH$500,BK25,打撃データー!$BV$6:$BV$500))","v":""},{"$f":"IF(BK25=\"\",\"\",SUMIF(打撃データー!$BH$6:$BH$500,BK25,打撃データー!$BW$6:$BW$500))","v":""},{"$f":"IF(BK25=\"\",\"\",SUMIF(打撃データー!$BH$6:$BH$500,BK25,打撃データー!$BX$6:$BX$500))","v":""},"","","",null,null,null,null,"",""]
[null,null,null,null,null,"",null,null,{"$f":"IF(H26=\"\",\"\",SUMIFS(打撃データー!$I$6:$I$500,打撃データー!$F$6:$F$500,F26,打撃データー!$H$6:$H$500,H26))","v":""},{"$f":"IF(H26=\"\",\"\",SUMIFS(打撃データー!$J$6:$J$500,打撃データー!$F$6:$F$500,F26,打撃データー!$H$6:$H$500,H26))","v":""},{"$f":"IF(H26=\"\",\"\",SUMIFS(打撃データー!$K$6:$K$500,打撃データー!$F$6:$F$500,F26,打撃データー!$H$6:$H$500,H26))","v":""},{"$f":"IF(H26=\"\",\"\",SUMIFS(打撃データー!$L$6:$L$500,打撃データー!$F$6:$F$500,F26,打撃データー!$H$6:$H$500,H26))","v":""},{"$f":"IF(H26=\"\",\"\",SUMIFS(打撃データー!$M$6:$M$500,打撃データー!$F$6:$F$500,F26,打撃データー!$H$6:$H$500,H26))","v":""},{"$f":"IF(H26=\"\",\"\",SUMIFS(打撃データー!$N$6:$N$500,打撃データー!$F$6:$F$500,F26,打撃データー!$H$6:$H$500,H26))","v":""},{"$f":"IF(H26=\"\",\"\",SUMIFS(打撃データー!$O$6:$O$500,打撃データー!$F$6:$F$500,F26,打撃データー!$H$6:$H$500,H26))","v":""},{"$f":"IF(H26=\"\",\"\",SUMIFS(打撃データー!$P$6:$P$500,打撃データー!$F$6:$F$500,F26,打撃データー!$H$6:$H$500,H26))","v":""},{"$f":"IF(H26=\"\",\"\",SUMIFS(打撃データー!$Q$6:$Q$500,打撃データー!$F$6:$F$500,F26,打撃データー!$H$6:$H$500,H26))","v":""},{"$f":"IF(H26=\"\",\"\",SUMIFS(打撃データー!$R$6:$R$500,打撃データー!$F$6:$F$500,F26,打撃データー!$H$6:$H$500,H26))","v":""},{"$f":"IF(H26=\"\",\"\",SUMIFS(打撃データー!$S$6:$S$500,打撃データー!$F$6:$F$500,F26,打撃データー!$H$6:$H$500,H26))","v":""},{"$f":"IF(H26=\"\",\"\",SUMIFS(打撃データー!$T$6:$T$500,打撃データー!$F$6:$F$500,F26,打撃データー!$H$6:$H$500,H26))","v":""},{"$f":"IF(H26=\"\",\"\",SUMIFS(打撃データー!$U$6:$U$500,打撃データー!$F$6:$F$500,F26,打撃データー!$H$6:$H$500,H26))","v":""},{"$f":"IF(H26=\"\",\"\",SUMIFS(打撃データー!$V$6:$V$500,打撃データー!$F$6:$F$500,F26,打撃データー!$H$6:$H$500,H26))","v":""},{"$f":"IF(H26=\"\",\"\",SUMIFS(打撃データー!$W$6:$W$500,打撃データー!$F$6:$F$500,F26,打撃データー!$H$6:$H$500,H26))","v":""},{"$f":"IF(H26=\"\",\"\",SUMIFS(打撃データー!$X$6:$X$500,打撃データー!$F$6:$F$500,F26,打撃データー!$H$6:$H$500,H26))","v":""},{"$f":"IF(H26=\"\",\"\",SUMIFS(打撃データー!$Y$6:$Y$500,打撃データー!$F$6:$F$500,F26,打撃データー!$H$6:$H$500,H26))","v":""},{"$f":"IF(H26=\"\",\"\",SUMIFS(打撃データー!$Z$6:$Z$500,打撃データー!$F$6:$F$500,F26,打撃データー!$H$6:$H$500,H26))","v":""},{"$f":"IF(H26=\"\",\"\",SUMIFS(打撃データー!$AA$6:$AA$500,打撃データー!$F$6:$F$500,F26,打撃データー!$H$6:$H$500,H26))","v":""},{"$f":"IF(G26=\"\",\"\",SUMIFS(打撃データー!$AC$6:$AC$337,打撃データー!$E$6:$E$337,$E$9,打撃データー!$G$6:$G$337,G26))","v":""},{"$f":"IF(G26=\"\",\"\",SUMIFS(打撃データー!$BE$6:$BE$337,打撃データー!$AG$6:$AG$337,F26,打撃データー!$AH$6:$AH$337,G26))","v":""},{"$f":"IF(G26=\"\",\"\",SUMIFS(打撃データー!$BF$6:$BF$337,打撃データー!$AG$6:$AG$337,F26,打撃データー!$AH$6:$AH$337,G26))","v":""},null,null,"","","","","",null,null,null,null,null,"","","",{"$f":"IF(AR26=\"\",\"\",SUMIFS(打撃データー!$BK$6:$BK$500,打撃データー!$BH$6:$BH$500,AQ26,打撃データー!$BI$6:$BI$500,AR26))","v":""},{"$f":"IF(AR26=\"\",\"\",SUMIFS(打撃データー!$BL$6:$BL$500,打撃データー!$BH$6:$BH$500,AQ26,打撃データー!$BI$6:$BI$500,AR26))","v":""},{"$f":"IF(AR26=\"\",\"\",SUMIFS(打撃データー!$BM$6:$BM$500,打撃データー!$BH$6:$BH$500,AQ26,打撃データー!$BI$6:$BI$500,AR26))","v":""},{"$f":"IF(AR26=\"\",\"\",SUMIFS(打撃データー!$BN$6:$BN$500,打撃データー!$BH$6:$BH$500,AQ26,打撃データー!$BI$6:$BI$500,$AR26))","v":""},{"$f":"IF(AR26=\"\",\"\",SUMIFS(打撃データー!$BO$6:$BO$500,打撃データー!$BH$6:$BH$500,AQ26,打撃データー!$BI$6:$BI$500,AR26))","v":""},{"$f":"IF(AR26=\"\",\"\",SUMIFS(打撃データー!$BP$6:$BP$500,打撃データー!$BH$6:$BH$500,AQ26,打撃データー!$BI$6:$BI$500,AR26))","v":""},{"$f":"IF(AR26=\"\",\"\",SUMIFS(打撃データー!$BQ$6:$BQ$500,打撃データー!$BH$6:$BH$500,AQ26,打撃データー!$BI$6:$BI$500,AR26))","v":""},{"$f":"IF(AR26=\"\",\"\",SUMIFS(打撃データー!$BR$6:$BR$500,打撃データー!$BH$6:$BH$500,AQ26,打撃データー!$BI$6:$BI$500,AR26))","v":""},{"$f":"IF(AR26=\"\",\"\",SUMIFS(打撃データー!$BS$6:$BS$500,打撃データー!$BH$6:$BH$500,AQ26,打撃データー!$BI$6:$BI$500,AR26))","v":""},{"$f":"IF(AR26=\"\",\"\",COUNTIFS(打撃データー!BH23:BH517,AQ26,打撃データー!BI23:BI517,AR26))","v":""},null,"","","",null,null,{"$f":"IF(戦績!O23=\"\",\"\",戦績!O23)","v":""},{"$f":"IF(BJ26=\"\",\"\",VLOOKUP(BJ26,戦績!$O$6:$U$38,7,FALSE))","v":""},{"$f":"IF(BK26=\"\",\"\",SUMIF(打撃データー!$BH$6:$BH$500,BK26,打撃データー!$BV$6:$BV$500))","v":""},{"$f":"IF(BK26=\"\",\"\",SUMIF(打撃データー!$BH$6:$BH$500,BK26,打撃データー!$BW$6:$BW$500))","v":""},{"$f":"IF(BK26=\"\",\"\",SUMIF(打撃データー!$BH$6:$BH$500,BK26,打撃データー!$BX$6:$BX$500))","v":""},"","","",null,null,null,null,"",""]
[null,null,null,null,null,"",null,null,{"$f":"IF(H27=\"\",\"\",SUMIFS(打撃データー!$I$6:$I$500,打撃データー!$F$6:$F$500,F27,打撃データー!$H$6:$H$500,H27))","v":""},{"$f":"IF(H27=\"\",\"\",SUMIFS(打撃データー!$J$6:$J$500,打撃データー!$F$6:$F$500,F27,打撃データー!$H$6:$H$500,H27))","v":""},{"$f":"IF(H27=\"\",\"\",SUMIFS(打撃データー!$K$6:$K$500,打撃データー!$F$6:$F$500,F27,打撃データー!$H$6:$H$500,H27))","v":""},{"$f":"IF(H27=\"\",\"\",SUMIFS(打撃データー!$L$6:$L$500,打撃データー!$F$6:$F$500,F27,打撃データー!$H$6:$H$500,H27))","v":""},{"$f":"IF(H27=\"\",\"\",SUMIFS(打撃データー!$M$6:$M$500,打撃データー!$F$6:$F$500,F27,打撃データー!$H$6:$H$500,H27))","v":""},{"$f":"IF(H27=\"\",\"\",SUMIFS(打撃データー!$N$6:$N$500,打撃データー!$F$6:$F$500,F27,打撃データー!$H$6:$H$500,H27))","v":""},{"$f":"IF(H27=\"\",\"\",SUMIFS(打撃データー!$O$6:$O$500,打撃データー!$F$6:$F$500,F27,打撃データー!$H$6:$H$500,H27))","v":""},{"$f":"IF(H27=\"\",\"\",SUMIFS(打撃データー!$P$6:$P$500,打撃データー!$F$6:$F$500,F27,打撃データー!$H$6:$H$500,H27))","v":""},{"$f":"IF(H27=\"\",\"\",SUMIFS(打撃データー!$Q$6:$Q$500,打撃データー!$F$6:$F$500,F27,打撃データー!$H$6:$H$500,H27))","v":""},{"$f":"IF(H27=\"\",\"\",SUMIFS(打撃データー!$R$6:$R$500,打撃データー!$F$6:$F$500,F27,打撃データー!$H$6:$H$500,H27))","v":""},{"$f":"IF(H27=\"\",\"\",SUMIFS(打撃データー!$S$6:$S$500,打撃データー!$F$6:$F$500,F27,打撃データー!$H$6:$H$500,H27))","v":""},{"$f":"IF(H27=\"\",\"\",SUMIFS(打撃データー!$T$6:$T$500,打撃データー!$F$6:$F$500,F27,打撃データー!$H$6:$H$500,H27))","v":""},{"$f":"IF(H27=\"\",\"\",SUMIFS(打撃データー!$U$6:$U$500,打撃データー!$F$6:$F$500,F27,打撃データー!$H$6:$H$500,H27))","v":""},{"$f":"IF(H27=\"\",\"\",SUMIFS(打撃データー!$V$6:$V$500,打撃データー!$F$6:$F$500,F27,打撃データー!$H$6:$H$500,H27))","v":""},{"$f":"IF(H27=\"\",\"\",SUMIFS(打撃データー!$W$6:$W$500,打撃データー!$F$6:$F$500,F27,打撃データー!$H$6:$H$500,H27))","v":""},{"$f":"IF(H27=\"\",\"\",SUMIFS(打撃データー!$X$6:$X$500,打撃データー!$F$6:$F$500,F27,打撃データー!$H$6:$H$500,H27))","v":""},{"$f":"IF(H27=\"\",\"\",SUMIFS(打撃データー!$Y$6:$Y$500,打撃データー!$F$6:$F$500,F27,打撃データー!$H$6:$H$500,H27))","v":""},{"$f":"IF(H27=\"\",\"\",SUMIFS(打撃データー!$Z$6:$Z$500,打撃データー!$F$6:$F$500,F27,打撃データー!$H$6:$H$500,H27))","v":""},{"$f":"IF(H27=\"\",\"\",SUMIFS(打撃データー!$AA$6:$AA$500,打撃データー!$F$6:$F$500,F27,打撃データー!$H$6:$H$500,H27))","v":""},{"$f":"IF(G27=\"\",\"\",SUMIFS(打撃データー!$AC$6:$AC$337,打撃データー!$E$6:$E$337,$E$9,打撃データー!$G$6:$G$337,G27))","v":""},{"$f":"IF(G27=\"\",\"\",SUMIFS(打撃データー!$BE$6:$BE$337,打撃データー!$AG$6:$AG$337,F27,打撃データー!$AH$6:$AH$337,G27))","v":""},{"$f":"IF(G27=\"\",\"\",SUMIFS(打撃データー!$BF$6:$BF$337,打撃データー!$AG$6:$AG$337,F27,打撃データー!$AH$6:$AH$337,G27))","v":""},null,null,"","","","","",null,null,null,null,null,"","","",{"$f":"IF(AR27=\"\",\"\",SUMIFS(打撃データー!$BK$6:$BK$500,打撃データー!$BH$6:$BH$500,AQ27,打撃データー!$BI$6:$BI$500,AR27))","v":""},{"$f":"IF(AR27=\"\",\"\",SUMIFS(打撃データー!$BL$6:$BL$500,打撃データー!$BH$6:$BH$500,AQ27,打撃データー!$BI$6:$BI$500,AR27))","v":""},{"$f":"IF(AR27=\"\",\"\",SUMIFS(打撃データー!$BM$6:$BM$500,打撃データー!$BH$6:$BH$500,AQ27,打撃データー!$BI$6:$BI$500,AR27))","v":""},{"$f":"IF(AR27=\"\",\"\",SUMIFS(打撃データー!$BN$6:$BN$500,打撃データー!$BH$6:$BH$500,AQ27,打撃データー!$BI$6:$BI$500,$AR27))","v":""},{"$f":"IF(AR27=\"\",\"\",SUMIFS(打撃データー!$BO$6:$BO$500,打撃データー!$BH$6:$BH$500,AQ27,打撃データー!$BI$6:$BI$500,AR27))","v":""},{"$f":"IF(AR27=\"\",\"\",SUMIFS(打撃データー!$BP$6:$BP$500,打撃データー!$BH$6:$BH$500,AQ27,打撃データー!$BI$6:$BI$500,AR27))","v":""},{"$f":"IF(AR27=\"\",\"\",SUMIFS(打撃データー!$BQ$6:$BQ$500,打撃データー!$BH$6:$BH$500,AQ27,打撃データー!$BI$6:$BI$500,AR27))","v":""},{"$f":"IF(AR27=\"\",\"\",SUMIFS(打撃データー!$BR$6:$BR$500,打撃データー!$BH$6:$BH$500,AQ27,打撃データー!$BI$6:$BI$500,AR27))","v":""},{"$f":"IF(AR27=\"\",\"\",SUMIFS(打撃データー!$BS$6:$BS$500,打撃データー!$BH$6:$BH$500,AQ27,打撃データー!$BI$6:$BI$500,AR27))","v":""},{"$f":"IF(AR27=\"\",\"\",COUNTIFS(打撃データー!BH24:BH518,AQ27,打撃データー!BI24:BI518,AR27))","v":""},null,"","","",null,null,{"$f":"IF(戦績!O24=\"\",\"\",戦績!O24)","v":""},{"$f":"IF(BJ27=\"\",\"\",VLOOKUP(BJ27,戦績!$O$6:$U$38,7,FALSE))","v":""},{"$f":"IF(BK27=\"\",\"\",SUMIF(打撃データー!$BH$6:$BH$500,BK27,打撃データー!$BV$6:$BV$500))","v":""},{"$f":"IF(BK27=\"\",\"\",SUMIF(打撃データー!$BH$6:$BH$500,BK27,打撃データー!$BW$6:$BW$500))","v":""},{"$f":"IF(BK27=\"\",\"\",SUMIF(打撃データー!$BH$6:$BH$500,BK27,打撃データー!$BX$6:$BX$500))","v":""},"","","",null,null,null,null,"",""]
[null,null,null,null,null,"",null,null,{"$f":"IF(H28=\"\",\"\",SUMIFS(打撃データー!$I$6:$I$500,打撃データー!$F$6:$F$500,F28,打撃データー!$H$6:$H$500,H28))","v":""},{"$f":"IF(H28=\"\",\"\",SUMIFS(打撃データー!$J$6:$J$500,打撃データー!$F$6:$F$500,F28,打撃データー!$H$6:$H$500,H28))","v":""},{"$f":"IF(H28=\"\",\"\",SUMIFS(打撃データー!$K$6:$K$500,打撃データー!$F$6:$F$500,F28,打撃データー!$H$6:$H$500,H28))","v":""},{"$f":"IF(H28=\"\",\"\",SUMIFS(打撃データー!$L$6:$L$500,打撃データー!$F$6:$F$500,F28,打撃データー!$H$6:$H$500,H28))","v":""},{"$f":"IF(H28=\"\",\"\",SUMIFS(打撃データー!$M$6:$M$500,打撃データー!$F$6:$F$500,F28,打撃データー!$H$6:$H$500,H28))","v":""},{"$f":"IF(H28=\"\",\"\",SUMIFS(打撃データー!$N$6:$N$500,打撃データー!$F$6:$F$500,F28,打撃データー!$H$6:$H$500,H28))","v":""},{"$f":"IF(H28=\"\",\"\",SUMIFS(打撃データー!$O$6:$O$500,打撃データー!$F$6:$F$500,F28,打撃データー!$H$6:$H$500,H28))","v":""},{"$f":"IF(H28=\"\",\"\",SUMIFS(打撃データー!$P$6:$P$500,打撃データー!$F$6:$F$500,F28,打撃データー!$H$6:$H$500,H28))","v":""},{"$f":"IF(H28=\"\",\"\",SUMIFS(打撃データー!$Q$6:$Q$500,打撃データー!$F$6:$F$500,F28,打撃データー!$H$6:$H$500,H28))","v":""},{"$f":"IF(H28=\"\",\"\",SUMIFS(打撃データー!$R$6:$R$500,打撃データー!$F$6:$F$500,F28,打撃データー!$H$6:$H$500,H28))","v":""},{"$f":"IF(H28=\"\",\"\",SUMIFS(打撃データー!$S$6:$S$500,打撃データー!$F$6:$F$500,F28,打撃データー!$H$6:$H$500,H28))","v":""},{"$f":"IF(H28=\"\",\"\",SUMIFS(打撃データー!$T$6:$T$500,打撃データー!$F$6:$F$500,F28,打撃データー!$H$6:$H$500,H28))","v":""},{"$f":"IF(H28=\"\",\"\",SUMIFS(打撃データー!$U$6:$U$500,打撃データー!$F$6:$F$500,F28,打撃データー!$H$6:$H$500,H28))","v":""},{"$f":"IF(H28=\"\",\"\",SUMIFS(打撃データー!$V$6:$V$500,打撃データー!$F$6:$F$500,F28,打撃データー!$H$6:$H$500,H28))","v":""},{"$f":"IF(H28=\"\",\"\",SUMIFS(打撃データー!$W$6:$W$500,打撃データー!$F$6:$F$500,F28,打撃データー!$H$6:$H$500,H28))","v":""},{"$f":"IF(H28=\"\",\"\",SUMIFS(打撃データー!$X$6:$X$500,打撃データー!$F$6:$F$500,F28,打撃データー!$H$6:$H$500,H28))","v":""},{"$f":"IF(H28=\"\",\"\",SUMIFS(打撃データー!$Y$6:$Y$500,打撃データー!$F$6:$F$500,F28,打撃データー!$H$6:$H$500,H28))","v":""},{"$f":"IF(H28=\"\",\"\",SUMIFS(打撃データー!$Z$6:$Z$500,打撃データー!$F$6:$F$500,F28,打撃データー!$H$6:$H$500,H28))","v":""},{"$f":"IF(H28=\"\",\"\",SUMIFS(打撃データー!$AA$6:$AA$500,打撃データー!$F$6:$F$500,F28,打撃データー!$H$6:$H$500,H28))","v":""},{"$f":"IF(G28=\"\",\"\",SUMIFS(打撃データー!$AC$6:$AC$337,打撃データー!$E$6:$E$337,$E$9,打撃データー!$G$6:$G$337,G28))","v":""},{"$f":"IF(G28=\"\",\"\",SUMIFS(打撃データー!$BE$6:$BE$337,打撃データー!$AG$6:$AG$337,F28,打撃データー!$AH$6:$AH$337,G28))","v":""},{"$f":"IF(G28=\"\",\"\",SUMIFS(打撃データー!$BF$6:$BF$337,打撃データー!$AG$6:$AG$337,F28,打撃データー!$AH$6:$AH$337,G28))","v":""},null,null,"","","","","",null,null,null,null,null,"","","",{"$f":"IF(AR28=\"\",\"\",SUMIFS(打撃データー!$BK$6:$BK$500,打撃データー!$BH$6:$BH$500,AQ28,打撃データー!$BI$6:$BI$500,AR28))","v":""},{"$f":"IF(AR28=\"\",\"\",SUMIFS(打撃データー!$BL$6:$BL$500,打撃データー!$BH$6:$BH$500,AQ28,打撃データー!$BI$6:$BI$500,AR28))","v":""},{"$f":"IF(AR28=\"\",\"\",SUMIFS(打撃データー!$BM$6:$BM$500,打撃データー!$BH$6:$BH$500,AQ28,打撃データー!$BI$6:$BI$500,AR28))","v":""},{"$f":"IF(AR28=\"\",\"\",SUMIFS(打撃データー!$BN$6:$BN$500,打撃データー!$BH$6:$BH$500,AQ28,打撃データー!$BI$6:$BI$500,$AR28))","v":""},{"$f":"IF(AR28=\"\",\"\",SUMIFS(打撃データー!$BO$6:$BO$500,打撃データー!$BH$6:$BH$500,AQ28,打撃データー!$BI$6:$BI$500,AR28))","v":""},{"$f":"IF(AR28=\"\",\"\",SUMIFS(打撃データー!$BP$6:$BP$500,打撃データー!$BH$6:$BH$500,AQ28,打撃データー!$BI$6:$BI$500,AR28))","v":""},{"$f":"IF(AR28=\"\",\"\",SUMIFS(打撃データー!$BQ$6:$BQ$500,打撃データー!$BH$6:$BH$500,AQ28,打撃データー!$BI$6:$BI$500,AR28))","v":""},{"$f":"IF(AR28=\"\",\"\",SUMIFS(打撃データー!$BR$6:$BR$500,打撃データー!$BH$6:$BH$500,AQ28,打撃データー!$BI$6:$BI$500,AR28))","v":""},{"$f":"IF(AR28=\"\",\"\",SUMIFS(打撃データー!$BS$6:$BS$500,打撃データー!$BH$6:$BH$500,AQ28,打撃データー!$BI$6:$BI$500,AR28))","v":""},{"$f":"IF(AR28=\"\",\"\",COUNTIFS(打撃データー!BH25:BH519,AQ28,打撃データー!BI25:BI519,AR28))","v":""},null,"","","",null,null,{"$f":"IF(戦績!O25=\"\",\"\",戦績!O25)","v":""},{"$f":"IF(BJ28=\"\",\"\",VLOOKUP(BJ28,戦績!$O$6:$U$38,7,FALSE))","v":""},{"$f":"IF(BK28=\"\",\"\",SUMIF(打撃データー!$BH$6:$BH$500,BK28,打撃データー!$BV$6:$BV$500))","v":""},{"$f":"IF(BK28=\"\",\"\",SUMIF(打撃データー!$BH$6:$BH$500,BK28,打撃データー!$BW$6:$BW$500))","v":""},{"$f":"IF(BK28=\"\",\"\",SUMIF(打撃データー!$BH$6:$BH$500,BK28,打撃データー!$BX$6:$BX$500))","v":""},"","","",null,null,null,null,"",""]
[null,null,null,null,null,"",null,null,{"$f":"IF(H29=\"\",\"\",SUMIFS(打撃データー!$I$6:$I$500,打撃データー!$F$6:$F$500,F29,打撃データー!$H$6:$H$500,H29))","v":""},{"$f":"IF(H29=\"\",\"\",SUMIFS(打撃データー!$J$6:$J$500,打撃データー!$F$6:$F$500,F29,打撃データー!$H$6:$H$500,H29))","v":""},{"$f":"IF(H29=\"\",\"\",SUMIFS(打撃データー!$K$6:$K$500,打撃データー!$F$6:$F$500,F29,打撃データー!$H$6:$H$500,H29))","v":""},{"$f":"IF(H29=\"\",\"\",SUMIFS(打撃データー!$L$6:$L$500,打撃データー!$F$6:$F$500,F29,打撃データー!$H$6:$H$500,H29))","v":""},{"$f":"IF(H29=\"\",\"\",SUMIFS(打撃データー!$M$6:$M$500,打撃データー!$F$6:$F$500,F29,打撃データー!$H$6:$H$500,H29))","v":""},{"$f":"IF(H29=\"\",\"\",SUMIFS(打撃データー!$N$6:$N$500,打撃データー!$F$6:$F$500,F29,打撃データー!$H$6:$H$500,H29))","v":""},{"$f":"IF(H29=\"\",\"\",SUMIFS(打撃データー!$O$6:$O$500,打撃データー!$F$6:$F$500,F29,打撃データー!$H$6:$H$500,H29))","v":""},{"$f":"IF(H29=\"\",\"\",SUMIFS(打撃データー!$P$6:$P$500,打撃データー!$F$6:$F$500,F29,打撃データー!$H$6:$H$500,H29))","v":""},{"$f":"IF(H29=\"\",\"\",SUMIFS(打撃データー!$Q$6:$Q$500,打撃データー!$F$6:$F$500,F29,打撃データー!$H$6:$H$500,H29))","v":""},{"$f":"IF(H29=\"\",\"\",SUMIFS(打撃データー!$R$6:$R$500,打撃データー!$F$6:$F$500,F29,打撃データー!$H$6:$H$500,H29))","v":""},{"$f":"IF(H29=\"\",\"\",SUMIFS(打撃データー!$S$6:$S$500,打撃データー!$F$6:$F$500,F29,打撃データー!$H$6:$H$500,H29))","v":""},{"$f":"IF(H29=\"\",\"\",SUMIFS(打撃データー!$T$6:$T$500,打撃データー!$F$6:$F$500,F29,打撃データー!$H$6:$H$500,H29))","v":""},{"$f":"IF(H29=\"\",\"\",SUMIFS(打撃データー!$U$6:$U$500,打撃データー!$F$6:$F$500,F29,打撃データー!$H$6:$H$500,H29))","v":""},{"$f":"IF(H29=\"\",\"\",SUMIFS(打撃データー!$V$6:$V$500,打撃データー!$F$6:$F$500,F29,打撃データー!$H$6:$H$500,H29))","v":""},{"$f":"IF(H29=\"\",\"\",SUMIFS(打撃データー!$W$6:$W$500,打撃データー!$F$6:$F$500,F29,打撃データー!$H$6:$H$500,H29))","v":""},{"$f":"IF(H29=\"\",\"\",SUMIFS(打撃データー!$X$6:$X$500,打撃データー!$F$6:$F$500,F29,打撃データー!$H$6:$H$500,H29))","v":""},{"$f":"IF(H29=\"\",\"\",SUMIFS(打撃データー!$Y$6:$Y$500,打撃データー!$F$6:$F$500,F29,打撃データー!$H$6:$H$500,H29))","v":""},{"$f":"IF(H29=\"\",\"\",SUMIFS(打撃データー!$Z$6:$Z$500,打撃データー!$F$6:$F$500,F29,打撃データー!$H$6:$H$500,H29))","v":""},{"$f":"IF(H29=\"\",\"\",SUMIFS(打撃データー!$AA$6:$AA$500,打撃データー!$F$6:$F$500,F29,打撃データー!$H$6:$H$500,H29))","v":""},{"$f":"IF(G29=\"\",\"\",SUMIFS(打撃データー!$AC$6:$AC$337,打撃データー!$E$6:$E$337,$E$9,打撃データー!$G$6:$G$337,G29))","v":""},{"$f":"IF(G29=\"\",\"\",SUMIFS(打撃データー!$BE$6:$BE$337,打撃データー!$AG$6:$AG$337,F29,打撃データー!$AH$6:$AH$337,G29))","v":""},{"$f":"IF(G29=\"\",\"\",SUMIFS(打撃データー!$BF$6:$BF$337,打撃データー!$AG$6:$AG$337,F29,打撃データー!$AH$6:$AH$337,G29))","v":""},null,null,"","","","","",null,null,null,null,null,"","","",{"$f":"IF(AR29=\"\",\"\",SUMIFS(打撃データー!$BK$6:$BK$500,打撃データー!$BH$6:$BH$500,AQ29,打撃データー!$BI$6:$BI$500,AR29))","v":""},{"$f":"IF(AR29=\"\",\"\",SUMIFS(打撃データー!$BL$6:$BL$500,打撃データー!$BH$6:$BH$500,AQ29,打撃データー!$BI$6:$BI$500,AR29))","v":""},{"$f":"IF(AR29=\"\",\"\",SUMIFS(打撃データー!$BM$6:$BM$500,打撃データー!$BH$6:$BH$500,AQ29,打撃データー!$BI$6:$BI$500,AR29))","v":""},{"$f":"IF(AR29=\"\",\"\",SUMIFS(打撃データー!$BN$6:$BN$500,打撃データー!$BH$6:$BH$500,AQ29,打撃データー!$BI$6:$BI$500,$AR29))","v":""},{"$f":"IF(AR29=\"\",\"\",SUMIFS(打撃データー!$BO$6:$BO$500,打撃データー!$BH$6:$BH$500,AQ29,打撃データー!$BI$6:$BI$500,AR29))","v":""},{"$f":"IF(AR29=\"\",\"\",SUMIFS(打撃データー!$BP$6:$BP$500,打撃データー!$BH$6:$BH$500,AQ29,打撃データー!$BI$6:$BI$500,AR29))","v":""},{"$f":"IF(AR29=\"\",\"\",SUMIFS(打撃データー!$BQ$6:$BQ$500,打撃データー!$BH$6:$BH$500,AQ29,打撃データー!$BI$6:$BI$500,AR29))","v":""},{"$f":"IF(AR29=\"\",\"\",SUMIFS(打撃データー!$BR$6:$BR$500,打撃データー!$BH$6:$BH$500,AQ29,打撃データー!$BI$6:$BI$500,AR29))","v":""},{"$f":"IF(AR29=\"\",\"\",SUMIFS(打撃データー!$BS$6:$BS$500,打撃データー!$BH$6:$BH$500,AQ29,打撃データー!$BI$6:$BI$500,AR29))","v":""},{"$f":"IF(AR29=\"\",\"\",COUNTIFS(打撃データー!BH26:BH520,AQ29,打撃データー!BI26:BI520,AR29))","v":""},null,"","","",null,null,{"$f":"IF(戦績!O26=\"\",\"\",戦績!O26)","v":""},{"$f":"IF(BJ29=\"\",\"\",VLOOKUP(BJ29,戦績!$O$6:$U$38,7,FALSE))","v":""},{"$f":"IF(BK29=\"\",\"\",SUMIF(打撃データー!$BH$6:$BH$500,BK29,打撃データー!$BV$6:$BV$500))","v":""},{"$f":"IF(BK29=\"\",\"\",SUMIF(打撃データー!$BH$6:$BH$500,BK29,打撃データー!$BW$6:$BW$500))","v":""},{"$f":"IF(BK29=\"\",\"\",SUMIF(打撃データー!$BH$6:$BH$500,BK29,打撃データー!$BX$6:$BX$500))","v":""},"","","",null,null,null,null,"",""]
[null,null,null,null,null,"",null,null,{"$f":"IF(H30=\"\",\"\",SUMIFS(打撃データー!$I$6:$I$500,打撃データー!$F$6:$F$500,F30,打撃データー!$H$6:$H$500,H30))","v":""},{"$f":"IF(H30=\"\",\"\",SUMIFS(打撃データー!$J$6:$J$500,打撃データー!$F$6:$F$500,F30,打撃データー!$H$6:$H$500,H30))","v":""},{"$f":"IF(H30=\"\",\"\",SUMIFS(打撃データー!$K$6:$K$500,打撃データー!$F$6:$F$500,F30,打撃データー!$H$6:$H$500,H30))","v":""},{"$f":"IF(H30=\"\",\"\",SUMIFS(打撃データー!$L$6:$L$500,打撃データー!$F$6:$F$500,F30,打撃データー!$H$6:$H$500,H30))","v":""},{"$f":"IF(H30=\"\",\"\",SUMIFS(打撃データー!$M$6:$M$500,打撃データー!$F$6:$F$500,F30,打撃データー!$H$6:$H$500,H30))","v":""},{"$f":"IF(H30=\"\",\"\",SUMIFS(打撃データー!$N$6:$N$500,打撃データー!$F$6:$F$500,F30,打撃データー!$H$6:$H$500,H30))","v":""},{"$f":"IF(H30=\"\",\"\",SUMIFS(打撃データー!$O$6:$O$500,打撃データー!$F$6:$F$500,F30,打撃データー!$H$6:$H$500,H30))","v":""},{"$f":"IF(H30=\"\",\"\",SUMIFS(打撃データー!$P$6:$P$500,打撃データー!$F$6:$F$500,F30,打撃データー!$H$6:$H$500,H30))","v":""},{"$f":"IF(H30=\"\",\"\",SUMIFS(打撃データー!$Q$6:$Q$500,打撃データー!$F$6:$F$500,F30,打撃データー!$H$6:$H$500,H30))","v":""},{"$f":"IF(H30=\"\",\"\",SUMIFS(打撃データー!$R$6:$R$500,打撃データー!$F$6:$F$500,F30,打撃データー!$H$6:$H$500,H30))","v":""},{"$f":"IF(H30=\"\",\"\",SUMIFS(打撃データー!$S$6:$S$500,打撃データー!$F$6:$F$500,F30,打撃データー!$H$6:$H$500,H30))","v":""},{"$f":"IF(H30=\"\",\"\",SUMIFS(打撃データー!$T$6:$T$500,打撃データー!$F$6:$F$500,F30,打撃データー!$H$6:$H$500,H30))","v":""},{"$f":"IF(H30=\"\",\"\",SUMIFS(打撃データー!$U$6:$U$500,打撃データー!$F$6:$F$500,F30,打撃データー!$H$6:$H$500,H30))","v":""},{"$f":"IF(H30=\"\",\"\",SUMIFS(打撃データー!$V$6:$V$500,打撃データー!$F$6:$F$500,F30,打撃データー!$H$6:$H$500,H30))","v":""},{"$f":"IF(H30=\"\",\"\",SUMIFS(打撃データー!$W$6:$W$500,打撃データー!$F$6:$F$500,F30,打撃データー!$H$6:$H$500,H30))","v":""},{"$f":"IF(H30=\"\",\"\",SUMIFS(打撃データー!$X$6:$X$500,打撃データー!$F$6:$F$500,F30,打撃データー!$H$6:$H$500,H30))","v":""},{"$f":"IF(H30=\"\",\"\",SUMIFS(打撃データー!$Y$6:$Y$500,打撃データー!$F$6:$F$500,F30,打撃データー!$H$6:$H$500,H30))","v":""},{"$f":"IF(H30=\"\",\"\",SUMIFS(打撃データー!$Z$6:$Z$500,打撃データー!$F$6:$F$500,F30,打撃データー!$H$6:$H$500,H30))","v":""},{"$f":"IF(H30=\"\",\"\",SUMIFS(打撃データー!$AA$6:$AA$500,打撃データー!$F$6:$F$500,F30,打撃データー!$H$6:$H$500,H30))","v":""},{"$f":"IF(G30=\"\",\"\",SUMIFS(打撃データー!$AC$6:$AC$337,打撃データー!$E$6:$E$337,$E$9,打撃データー!$G$6:$G$337,G30))","v":""},{"$f":"IF(G30=\"\",\"\",SUMIFS(打撃データー!$BE$6:$BE$337,打撃データー!$AG$6:$AG$337,F30,打撃データー!$AH$6:$AH$337,G30))","v":""},{"$f":"IF(G30=\"\",\"\",SUMIFS(打撃データー!$BF$6:$BF$337,打撃データー!$AG$6:$AG$337,F30,打撃データー!$AH$6:$AH$337,G30))","v":""},null,null,"","","","","",null,null,null,null,null,"","","",{"$f":"IF(AR30=\"\",\"\",SUMIFS(打撃データー!$BK$6:$BK$500,打撃データー!$BH$6:$BH$500,AQ30,打撃データー!$BI$6:$BI$500,AR30))","v":""},{"$f":"IF(AR30=\"\",\"\",SUMIFS(打撃データー!$BL$6:$BL$500,打撃データー!$BH$6:$BH$500,AQ30,打撃データー!$BI$6:$BI$500,AR30))","v":""},{"$f":"IF(AR30=\"\",\"\",SUMIFS(打撃データー!$BM$6:$BM$500,打撃データー!$BH$6:$BH$500,AQ30,打撃データー!$BI$6:$BI$500,AR30))","v":""},{"$f":"IF(AR30=\"\",\"\",SUMIFS(打撃データー!$BN$6:$BN$500,打撃データー!$BH$6:$BH$500,AQ30,打撃データー!$BI$6:$BI$500,$AR30))","v":""},{"$f":"IF(AR30=\"\",\"\",SUMIFS(打撃データー!$BO$6:$BO$500,打撃データー!$BH$6:$BH$500,AQ30,打撃データー!$BI$6:$BI$500,AR30))","v":""},{"$f":"IF(AR30=\"\",\"\",SUMIFS(打撃データー!$BP$6:$BP$500,打撃データー!$BH$6:$BH$500,AQ30,打撃データー!$BI$6:$BI$500,AR30))","v":""},{"$f":"IF(AR30=\"\",\"\",SUMIFS(打撃データー!$BQ$6:$BQ$500,打撃データー!$BH$6:$BH$500,AQ30,打撃データー!$BI$6:$BI$500,AR30))","v":""},{"$f":"IF(AR30=\"\",\"\",SUMIFS(打撃データー!$BR$6:$BR$500,打撃データー!$BH$6:$BH$500,AQ30,打撃データー!$BI$6:$BI$500,AR30))","v":""},{"$f":"IF(AR30=\"\",\"\",SUMIFS(打撃データー!$BS$6:$BS$500,打撃データー!$BH$6:$BH$500,AQ30,打撃データー!$BI$6:$BI$500,AR30))","v":""},{"$f":"IF(AR30=\"\",\"\",COUNTIFS(打撃データー!BH27:BH521,AQ30,打撃データー!BI27:BI521,AR30))","v":""},null,"","","",null,null,{"$f":"IF(戦績!O27=\"\",\"\",戦績!O27)","v":""},{"$f":"IF(BJ30=\"\",\"\",VLOOKUP(BJ30,戦績!$O$6:$U$38,7,FALSE))","v":""},{"$f":"IF(BK30=\"\",\"\",SUMIF(打撃データー!$BH$6:$BH$500,BK30,打撃データー!$BV$6:$BV$500))","v":""},{"$f":"IF(BK30=\"\",\"\",SUMIF(打撃データー!$BH$6:$BH$500,BK30,打撃データー!$BW$6:$BW$500))","v":""},{"$f":"IF(BK30=\"\",\"\",SUMIF(打撃データー!$BH$6:$BH$500,BK30,打撃データー!$BX$6:$BX$500))","v":""},"","","",null,null,null,null,"",""]
[null,null,null,null,null,"",null,null,{"$f":"IF(H31=\"\",\"\",SUMIFS(打撃データー!$I$6:$I$500,打撃データー!$F$6:$F$500,F31,打撃データー!$H$6:$H$500,H31))","v":""},{"$f":"IF(H31=\"\",\"\",SUMIFS(打撃データー!$J$6:$J$500,打撃データー!$F$6:$F$500,F31,打撃データー!$H$6:$H$500,H31))","v":""},{"$f":"IF(H31=\"\",\"\",SUMIFS(打撃データー!$K$6:$K$500,打撃データー!$F$6:$F$500,F31,打撃データー!$H$6:$H$500,H31))","v":""},{"$f":"IF(H31=\"\",\"\",SUMIFS(打撃データー!$L$6:$L$500,打撃データー!$F$6:$F$500,F31,打撃データー!$H$6:$H$500,H31))","v":""},{"$f":"IF(H31=\"\",\"\",SUMIFS(打撃データー!$M$6:$M$500,打撃データー!$F$6:$F$500,F31,打撃データー!$H$6:$H$500,H31))","v":""},{"$f":"IF(H31=\"\",\"\",SUMIFS(打撃データー!$N$6:$N$500,打撃データー!$F$6:$F$500,F31,打撃データー!$H$6:$H$500,H31))","v":""},{"$f":"IF(H31=\"\",\"\",SUMIFS(打撃データー!$O$6:$O$500,打撃データー!$F$6:$F$500,F31,打撃データー!$H$6:$H$500,H31))","v":""},{"$f":"IF(H31=\"\",\"\",SUMIFS(打撃データー!$P$6:$P$500,打撃データー!$F$6:$F$500,F31,打撃データー!$H$6:$H$500,H31))","v":""},{"$f":"IF(H31=\"\",\"\",SUMIFS(打撃データー!$Q$6:$Q$500,打撃データー!$F$6:$F$500,F31,打撃データー!$H$6:$H$500,H31))","v":""},{"$f":"IF(H31=\"\",\"\",SUMIFS(打撃データー!$R$6:$R$500,打撃データー!$F$6:$F$500,F31,打撃データー!$H$6:$H$500,H31))","v":""},{"$f":"IF(H31=\"\",\"\",SUMIFS(打撃データー!$S$6:$S$500,打撃データー!$F$6:$F$500,F31,打撃データー!$H$6:$H$500,H31))","v":""},{"$f":"IF(H31=\"\",\"\",SUMIFS(打撃データー!$T$6:$T$500,打撃データー!$F$6:$F$500,F31,打撃データー!$H$6:$H$500,H31))","v":""},{"$f":"IF(H31=\"\",\"\",SUMIFS(打撃データー!$U$6:$U$500,打撃データー!$F$6:$F$500,F31,打撃データー!$H$6:$H$500,H31))","v":""},{"$f":"IF(H31=\"\",\"\",SUMIFS(打撃データー!$V$6:$V$500,打撃データー!$F$6:$F$500,F31,打撃データー!$H$6:$H$500,H31))","v":""},{"$f":"IF(H31=\"\",\"\",SUMIFS(打撃データー!$W$6:$W$500,打撃データー!$F$6:$F$500,F31,打撃データー!$H$6:$H$500,H31))","v":""},{"$f":"IF(H31=\"\",\"\",SUMIFS(打撃データー!$X$6:$X$500,打撃データー!$F$6:$F$500,F31,打撃データー!$H$6:$H$500,H31))","v":""},{"$f":"IF(H31=\"\",\"\",SUMIFS(打撃データー!$Y$6:$Y$500,打撃データー!$F$6:$F$500,F31,打撃データー!$H$6:$H$500,H31))","v":""},{"$f":"IF(H31=\"\",\"\",SUMIFS(打撃データー!$Z$6:$Z$500,打撃データー!$F$6:$F$500,F31,打撃データー!$H$6:$H$500,H31))","v":""},{"$f":"IF(H31=\"\",\"\",SUMIFS(打撃データー!$AA$6:$AA$500,打撃データー!$F$6:$F$500,F31,打撃データー!$H$6:$H$500,H31))","v":""},{"$f":"IF(G31=\"\",\"\",SUMIFS(打撃データー!$AC$6:$AC$337,打撃データー!$E$6:$E$337,$E$9,打撃データー!$G$6:$G$337,G31))","v":""},{"$f":"IF(G31=\"\",\"\",SUMIFS(打撃データー!$BE$6:$BE$337,打撃データー!$AG$6:$AG$337,F31,打撃データー!$AH$6:$AH$337,G31))","v":""},{"$f":"IF(G31=\"\",\"\",SUMIFS(打撃データー!$BF$6:$BF$337,打撃データー!$AG$6:$AG$337,F31,打撃データー!$AH$6:$AH$337,G31))","v":""},null,null,"","","","","",null,null,null,null,null,"","","",{"$f":"IF(AR31=\"\",\"\",SUMIFS(打撃データー!$BK$6:$BK$500,打撃データー!$BH$6:$BH$500,AQ31,打撃データー!$BI$6:$BI$500,AR31))","v":""},{"$f":"IF(AR31=\"\",\"\",SUMIFS(打撃データー!$BL$6:$BL$500,打撃データー!$BH$6:$BH$500,AQ31,打撃データー!$BI$6:$BI$500,AR31))","v":""},{"$f":"IF(AR31=\"\",\"\",SUMIFS(打撃データー!$BM$6:$BM$500,打撃データー!$BH$6:$BH$500,AQ31,打撃データー!$BI$6:$BI$500,AR31))","v":""},{"$f":"IF(AR31=\"\",\"\",SUMIFS(打撃データー!$BN$6:$BN$500,打撃データー!$BH$6:$BH$500,AQ31,打撃データー!$BI$6:$BI$500,$AR31))","v":""},{"$f":"IF(AR31=\"\",\"\",SUMIFS(打撃データー!$BO$6:$BO$500,打撃データー!$BH$6:$BH$500,AQ31,打撃データー!$BI$6:$BI$500,AR31))","v":""},{"$f":"IF(AR31=\"\",\"\",SUMIFS(打撃データー!$BP$6:$BP$500,打撃データー!$BH$6:$BH$500,AQ31,打撃データー!$BI$6:$BI$500,AR31))","v":""},{"$f":"IF(AR31=\"\",\"\",SUMIFS(打撃データー!$BQ$6:$BQ$500,打撃データー!$BH$6:$BH$500,AQ31,打撃データー!$BI$6:$BI$500,AR31))","v":""},{"$f":"IF(AR31=\"\",\"\",SUMIFS(打撃データー!$BR$6:$BR$500,打撃データー!$BH$6:$BH$500,AQ31,打撃データー!$BI$6:$BI$500,AR31))","v":""},{"$f":"IF(AR31=\"\",\"\",SUMIFS(打撃データー!$BS$6:$BS$500,打撃データー!$BH$6:$BH$500,AQ31,打撃データー!$BI$6:$BI$500,AR31))","v":""},{"$f":"IF(AR31=\"\",\"\",COUNTIFS(打撃データー!BH28:BH522,AQ31,打撃データー!BI28:BI522,AR31))","v":""},null,"","","",null,null,{"$f":"IF(戦績!O28=\"\",\"\",戦績!O28)","v":""},{"$f":"IF(BJ31=\"\",\"\",VLOOKUP(BJ31,戦績!$O$6:$U$38,7,FALSE))","v":""},{"$f":"IF(BK31=\"\",\"\",SUMIF(打撃データー!$BH$6:$BH$500,BK31,打撃データー!$BV$6:$BV$500))","v":""},{"$f":"IF(BK31=\"\",\"\",SUMIF(打撃データー!$BH$6:$BH$500,BK31,打撃データー!$BW$6:$BW$500))","v":""},{"$f":"IF(BK31=\"\",\"\",SUMIF(打撃データー!$BH$6:$BH$500,BK31,打撃データー!$BX$6:$BX$500))","v":""},"","","",null,null,null,null,"",""]
[null,null,null,null,null,"",null,null,{"$f":"IF(H32=\"\",\"\",SUMIFS(打撃データー!$I$6:$I$500,打撃データー!$F$6:$F$500,F32,打撃データー!$H$6:$H$500,H32))","v":""},{"$f":"IF(H32=\"\",\"\",SUMIFS(打撃データー!$J$6:$J$500,打撃データー!$F$6:$F$500,F32,打撃データー!$H$6:$H$500,H32))","v":""},{"$f":"IF(H32=\"\",\"\",SUMIFS(打撃データー!$K$6:$K$500,打撃データー!$F$6:$F$500,F32,打撃データー!$H$6:$H$500,H32))","v":""},{"$f":"IF(H32=\"\",\"\",SUMIFS(打撃データー!$L$6:$L$500,打撃データー!$F$6:$F$500,F32,打撃データー!$H$6:$H$500,H32))","v":""},{"$f":"IF(H32=\"\",\"\",SUMIFS(打撃データー!$M$6:$M$500,打撃データー!$F$6:$F$500,F32,打撃データー!$H$6:$H$500,H32))","v":""},{"$f":"IF(H32=\"\",\"\",SUMIFS(打撃データー!$N$6:$N$500,打撃データー!$F$6:$F$500,F32,打撃データー!$H$6:$H$500,H32))","v":""},{"$f":"IF(H32=\"\",\"\",SUMIFS(打撃データー!$O$6:$O$500,打撃データー!$F$6:$F$500,F32,打撃データー!$H$6:$H$500,H32))","v":""},{"$f":"IF(H32=\"\",\"\",SUMIFS(打撃データー!$P$6:$P$500,打撃データー!$F$6:$F$500,F32,打撃データー!$H$6:$H$500,H32))","v":""},{"$f":"IF(H32=\"\",\"\",SUMIFS(打撃データー!$Q$6:$Q$500,打撃データー!$F$6:$F$500,F32,打撃データー!$H$6:$H$500,H32))","v":""},{"$f":"IF(H32=\"\",\"\",SUMIFS(打撃データー!$R$6:$R$500,打撃データー!$F$6:$F$500,F32,打撃データー!$H$6:$H$500,H32))","v":""},{"$f":"IF(H32=\"\",\"\",SUMIFS(打撃データー!$S$6:$S$500,打撃データー!$F$6:$F$500,F32,打撃データー!$H$6:$H$500,H32))","v":""},{"$f":"IF(H32=\"\",\"\",SUMIFS(打撃データー!$T$6:$T$500,打撃データー!$F$6:$F$500,F32,打撃データー!$H$6:$H$500,H32))","v":""},{"$f":"IF(H32=\"\",\"\",SUMIFS(打撃データー!$U$6:$U$500,打撃データー!$F$6:$F$500,F32,打撃データー!$H$6:$H$500,H32))","v":""},{"$f":"IF(H32=\"\",\"\",SUMIFS(打撃データー!$V$6:$V$500,打撃データー!$F$6:$F$500,F32,打撃データー!$H$6:$H$500,H32))","v":""},{"$f":"IF(H32=\"\",\"\",SUMIFS(打撃データー!$W$6:$W$500,打撃データー!$F$6:$F$500,F32,打撃データー!$H$6:$H$500,H32))","v":""},{"$f":"IF(H32=\"\",\"\",SUMIFS(打撃データー!$X$6:$X$500,打撃データー!$F$6:$F$500,F32,打撃データー!$H$6:$H$500,H32))","v":""},{"$f":"IF(H32=\"\",\"\",SUMIFS(打撃データー!$Y$6:$Y$500,打撃データー!$F$6:$F$500,F32,打撃データー!$H$6:$H$500,H32))","v":""},{"$f":"IF(H32=\"\",\"\",SUMIFS(打撃データー!$Z$6:$Z$500,打撃データー!$F$6:$F$500,F32,打撃データー!$H$6:$H$500,H32))","v":""},{"$f":"IF(H32=\"\",\"\",SUMIFS(打撃データー!$AA$6:$AA$500,打撃データー!$F$6:$F$500,F32,打撃データー!$H$6:$H$500,H32))","v":""},{"$f":"IF(G32=\"\",\"\",SUMIFS(打撃データー!$AC$6:$AC$337,打撃データー!$E$6:$E$337,$E$9,打撃データー!$G$6:$G$337,G32))","v":""},{"$f":"IF(G32=\"\",\"\",SUMIFS(打撃データー!$BE$6:$BE$337,打撃データー!$AG$6:$AG$337,F32,打撃データー!$AH$6:$AH$337,G32))","v":""},{"$f":"IF(G32=\"\",\"\",SUMIFS(打撃データー!$BF$6:$BF$337,打撃データー!$AG$6:$AG$337,F32,打撃データー!$AH$6:$AH$337,G32))","v":""},null,null,"","","","","",null,null,null,null,null,"","","",{"$f":"IF(AR32=\"\",\"\",SUMIFS(打撃データー!$BK$6:$BK$500,打撃データー!$BH$6:$BH$500,AQ32,打撃データー!$BI$6:$BI$500,AR32))","v":""},{"$f":"IF(AR32=\"\",\"\",SUMIFS(打撃データー!$BL$6:$BL$500,打撃データー!$BH$6:$BH$500,AQ32,打撃データー!$BI$6:$BI$500,AR32))","v":""},{"$f":"IF(AR32=\"\",\"\",SUMIFS(打撃データー!$BM$6:$BM$500,打撃データー!$BH$6:$BH$500,AQ32,打撃データー!$BI$6:$BI$500,AR32))","v":""},{"$f":"IF(AR32=\"\",\"\",SUMIFS(打撃データー!$BN$6:$BN$500,打撃データー!$BH$6:$BH$500,AQ32,打撃データー!$BI$6:$BI$500,$AR32))","v":""},{"$f":"IF(AR32=\"\",\"\",SUMIFS(打撃データー!$BO$6:$BO$500,打撃データー!$BH$6:$BH$500,AQ32,打撃データー!$BI$6:$BI$500,AR32))","v":""},{"$f":"IF(AR32=\"\",\"\",SUMIFS(打撃データー!$BP$6:$BP$500,打撃データー!$BH$6:$BH$500,AQ32,打撃データー!$BI$6:$BI$500,AR32))","v":""},{"$f":"IF(AR32=\"\",\"\",SUMIFS(打撃データー!$BQ$6:$BQ$500,打撃データー!$BH$6:$BH$500,AQ32,打撃データー!$BI$6:$BI$500,AR32))","v":""},{"$f":"IF(AR32=\"\",\"\",SUMIFS(打撃データー!$BR$6:$BR$500,打撃データー!$BH$6:$BH$500,AQ32,打撃データー!$BI$6:$BI$500,AR32))","v":""},{"$f":"IF(AR32=\"\",\"\",SUMIFS(打撃データー!$BS$6:$BS$500,打撃データー!$BH$6:$BH$500,AQ32,打撃データー!$BI$6:$BI$500,AR32))","v":""},{"$f":"IF(AR32=\"\",\"\",COUNTIFS(打撃データー!BH29:BH523,AQ32,打撃データー!BI29:BI523,AR32))","v":""},null,"","","",null,null,{"$f":"IF(戦績!O29=\"\",\"\",戦績!O29)","v":""},{"$f":"IF(BJ32=\"\",\"\",VLOOKUP(BJ32,戦績!$O$6:$U$38,7,FALSE))","v":""},{"$f":"IF(BK32=\"\",\"\",SUMIF(打撃データー!$BH$6:$BH$500,BK32,打撃データー!$BV$6:$BV$500))","v":""},{"$f":"IF(BK32=\"\",\"\",SUMIF(打撃データー!$BH$6:$BH$500,BK32,打撃データー!$BW$6:$BW$500))","v":""},{"$f":"IF(BK32=\"\",\"\",SUMIF(打撃データー!$BH$6:$BH$500,BK32,打撃データー!$BX$6:$BX$500))","v":""},"","","",null,null,null,null,"",""]
[null,null,null,null,null,"",null,null,{"$f":"IF(H33=\"\",\"\",SUMIFS(打撃データー!$I$6:$I$500,打撃データー!$F$6:$F$500,F33,打撃データー!$H$6:$H$500,H33))","v":""},{"$f":"IF(H33=\"\",\"\",SUMIFS(打撃データー!$J$6:$J$500,打撃データー!$F$6:$F$500,F33,打撃データー!$H$6:$H$500,H33))","v":""},{"$f":"IF(H33=\"\",\"\",SUMIFS(打撃データー!$K$6:$K$500,打撃データー!$F$6:$F$500,F33,打撃データー!$H$6:$H$500,H33))","v":""},{"$f":"IF(H33=\"\",\"\",SUMIFS(打撃データー!$L$6:$L$500,打撃データー!$F$6:$F$500,F33,打撃データー!$H$6:$H$500,H33))","v":""},{"$f":"IF(H33=\"\",\"\",SUMIFS(打撃データー!$M$6:$M$500,打撃データー!$F$6:$F$500,F33,打撃データー!$H$6:$H$500,H33))","v":""},{"$f":"IF(H33=\"\",\"\",SUMIFS(打撃データー!$N$6:$N$500,打撃データー!$F$6:$F$500,F33,打撃データー!$H$6:$H$500,H33))","v":""},{"$f":"IF(H33=\"\",\"\",SUMIFS(打撃データー!$O$6:$O$500,打撃データー!$F$6:$F$500,F33,打撃データー!$H$6:$H$500,H33))","v":""},{"$f":"IF(H33=\"\",\"\",SUMIFS(打撃データー!$P$6:$P$500,打撃データー!$F$6:$F$500,F33,打撃データー!$H$6:$H$500,H33))","v":""},{"$f":"IF(H33=\"\",\"\",SUMIFS(打撃データー!$Q$6:$Q$500,打撃データー!$F$6:$F$500,F33,打撃データー!$H$6:$H$500,H33))","v":""},{"$f":"IF(H33=\"\",\"\",SUMIFS(打撃データー!$R$6:$R$500,打撃データー!$F$6:$F$500,F33,打撃データー!$H$6:$H$500,H33))","v":""},{"$f":"IF(H33=\"\",\"\",SUMIFS(打撃データー!$S$6:$S$500,打撃データー!$F$6:$F$500,F33,打撃データー!$H$6:$H$500,H33))","v":""},{"$f":"IF(H33=\"\",\"\",SUMIFS(打撃データー!$T$6:$T$500,打撃データー!$F$6:$F$500,F33,打撃データー!$H$6:$H$500,H33))","v":""},{"$f":"IF(H33=\"\",\"\",SUMIFS(打撃データー!$U$6:$U$500,打撃データー!$F$6:$F$500,F33,打撃データー!$H$6:$H$500,H33))","v":""},{"$f":"IF(H33=\"\",\"\",SUMIFS(打撃データー!$V$6:$V$500,打撃データー!$F$6:$F$500,F33,打撃データー!$H$6:$H$500,H33))","v":""},{"$f":"IF(H33=\"\",\"\",SUMIFS(打撃データー!$W$6:$W$500,打撃データー!$F$6:$F$500,F33,打撃データー!$H$6:$H$500,H33))","v":""},{"$f":"IF(H33=\"\",\"\",SUMIFS(打撃データー!$X$6:$X$500,打撃データー!$F$6:$F$500,F33,打撃データー!$H$6:$H$500,H33))","v":""},{"$f":"IF(H33=\"\",\"\",SUMIFS(打撃データー!$Y$6:$Y$500,打撃データー!$F$6:$F$500,F33,打撃データー!$H$6:$H$500,H33))","v":""},{"$f":"IF(H33=\"\",\"\",SUMIFS(打撃データー!$Z$6:$Z$500,打撃データー!$F$6:$F$500,F33,打撃データー!$H$6:$H$500,H33))","v":""},{"$f":"IF(H33=\"\",\"\",SUMIFS(打撃データー!$AA$6:$AA$500,打撃データー!$F$6:$F$500,F33,打撃データー!$H$6:$H$500,H33))","v":""},{"$f":"IF(G33=\"\",\"\",SUMIFS(打撃データー!$AC$6:$AC$337,打撃データー!$E$6:$E$337,$E$9,打撃データー!$G$6:$G$337,G33))","v":""},{"$f":"IF(G33=\"\",\"\",SUMIFS(打撃データー!$BE$6:$BE$337,打撃データー!$AG$6:$AG$337,F33,打撃データー!$AH$6:$AH$337,G33))","v":""},{"$f":"IF(G33=\"\",\"\",SUMIFS(打撃データー!$BF$6:$BF$337,打撃データー!$AG$6:$AG$337,F33,打撃データー!$AH$6:$AH$337,G33))","v":""},null,null,"","","","","",null,null,null,null,null,"","","",{"$f":"IF(AR33=\"\",\"\",SUMIFS(打撃データー!$BK$6:$BK$500,打撃データー!$BH$6:$BH$500,AQ33,打撃データー!$BI$6:$BI$500,AR33))","v":""},{"$f":"IF(AR33=\"\",\"\",SUMIFS(打撃データー!$BL$6:$BL$500,打撃データー!$BH$6:$BH$500,AQ33,打撃データー!$BI$6:$BI$500,AR33))","v":""},{"$f":"IF(AR33=\"\",\"\",SUMIFS(打撃データー!$BM$6:$BM$500,打撃データー!$BH$6:$BH$500,AQ33,打撃データー!$BI$6:$BI$500,AR33))","v":""},{"$f":"IF(AR33=\"\",\"\",SUMIFS(打撃データー!$BN$6:$BN$500,打撃データー!$BH$6:$BH$500,AQ33,打撃データー!$BI$6:$BI$500,$AR33))","v":""},{"$f":"IF(AR33=\"\",\"\",SUMIFS(打撃データー!$BO$6:$BO$500,打撃データー!$BH$6:$BH$500,AQ33,打撃データー!$BI$6:$BI$500,AR33))","v":""},{"$f":"IF(AR33=\"\",\"\",SUMIFS(打撃データー!$BP$6:$BP$500,打撃データー!$BH$6:$BH$500,AQ33,打撃データー!$BI$6:$BI$500,AR33))","v":""},{"$f":"IF(AR33=\"\",\"\",SUMIFS(打撃データー!$BQ$6:$BQ$500,打撃データー!$BH$6:$BH$500,AQ33,打撃データー!$BI$6:$BI$500,AR33))","v":""},{"$f":"IF(AR33=\"\",\"\",SUMIFS(打撃データー!$BR$6:$BR$500,打撃データー!$BH$6:$BH$500,AQ33,打撃データー!$BI$6:$BI$500,AR33))","v":""},{"$f":"IF(AR33=\"\",\"\",SUMIFS(打撃データー!$BS$6:$BS$500,打撃データー!$BH$6:$BH$500,AQ33,打撃データー!$BI$6:$BI$500,AR33))","v":""},{"$f":"IF(AR33=\"\",\"\",COUNTIFS(打撃データー!BH30:BH524,AQ33,打撃データー!BI30:BI524,AR33))","v":""},null,"","","",null,null,{"$f":"IF(戦績!O30=\"\",\"\",戦績!O30)","v":""},{"$f":"IF(BJ33=\"\",\"\",VLOOKUP(BJ33,戦績!$O$6:$U$38,7,FALSE))","v":""},{"$f":"IF(BK33=\"\",\"\",SUMIF(打撃データー!$BH$6:$BH$500,BK33,打撃データー!$BV$6:$BV$500))","v":""},{"$f":"IF(BK33=\"\",\"\",SUMIF(打撃データー!$BH$6:$BH$500,BK33,打撃データー!$BW$6:$BW$500))","v":""},{"$f":"IF(BK33=\"\",\"\",SUMIF(打撃データー!$BH$6:$BH$500,BK33,打撃データー!$BX$6:$BX$500))","v":""},"","","",null,null,null,null,"",""]
[null,null,null,null,null,"",null,null,{"$f":"IF(H34=\"\",\"\",SUMIFS(打撃データー!$I$6:$I$500,打撃データー!$F$6:$F$500,F34,打撃データー!$H$6:$H$500,H34))","v":""},{"$f":"IF(H34=\"\",\"\",SUMIFS(打撃データー!$J$6:$J$500,打撃データー!$F$6:$F$500,F34,打撃データー!$H$6:$H$500,H34))","v":""},{"$f":"IF(H34=\"\",\"\",SUMIFS(打撃データー!$K$6:$K$500,打撃データー!$F$6:$F$500,F34,打撃データー!$H$6:$H$500,H34))","v":""},{"$f":"IF(H34=\"\",\"\",SUMIFS(打撃データー!$L$6:$L$500,打撃データー!$F$6:$F$500,F34,打撃データー!$H$6:$H$500,H34))","v":""},{"$f":"IF(H34=\"\",\"\",SUMIFS(打撃データー!$M$6:$M$500,打撃データー!$F$6:$F$500,F34,打撃データー!$H$6:$H$500,H34))","v":""},{"$f":"IF(H34=\"\",\"\",SUMIFS(打撃データー!$N$6:$N$500,打撃データー!$F$6:$F$500,F34,打撃データー!$H$6:$H$500,H34))","v":""},{"$f":"IF(H34=\"\",\"\",SUMIFS(打撃データー!$O$6:$O$500,打撃データー!$F$6:$F$500,F34,打撃データー!$H$6:$H$500,H34))","v":""},{"$f":"IF(H34=\"\",\"\",SUMIFS(打撃データー!$P$6:$P$500,打撃データー!$F$6:$F$500,F34,打撃データー!$H$6:$H$500,H34))","v":""},{"$f":"IF(H34=\"\",\"\",SUMIFS(打撃データー!$Q$6:$Q$500,打撃データー!$F$6:$F$500,F34,打撃データー!$H$6:$H$500,H34))","v":""},{"$f":"IF(H34=\"\",\"\",SUMIFS(打撃データー!$R$6:$R$500,打撃データー!$F$6:$F$500,F34,打撃データー!$H$6:$H$500,H34))","v":""},{"$f":"IF(H34=\"\",\"\",SUMIFS(打撃データー!$S$6:$S$500,打撃データー!$F$6:$F$500,F34,打撃データー!$H$6:$H$500,H34))","v":""},{"$f":"IF(H34=\"\",\"\",SUMIFS(打撃データー!$T$6:$T$500,打撃データー!$F$6:$F$500,F34,打撃データー!$H$6:$H$500,H34))","v":""},{"$f":"IF(H34=\"\",\"\",SUMIFS(打撃データー!$U$6:$U$500,打撃データー!$F$6:$F$500,F34,打撃データー!$H$6:$H$500,H34))","v":""},{"$f":"IF(H34=\"\",\"\",SUMIFS(打撃データー!$V$6:$V$500,打撃データー!$F$6:$F$500,F34,打撃データー!$H$6:$H$500,H34))","v":""},{"$f":"IF(H34=\"\",\"\",SUMIFS(打撃データー!$W$6:$W$500,打撃データー!$F$6:$F$500,F34,打撃データー!$H$6:$H$500,H34))","v":""},{"$f":"IF(H34=\"\",\"\",SUMIFS(打撃データー!$X$6:$X$500,打撃データー!$F$6:$F$500,F34,打撃データー!$H$6:$H$500,H34))","v":""},{"$f":"IF(H34=\"\",\"\",SUMIFS(打撃データー!$Y$6:$Y$500,打撃データー!$F$6:$F$500,F34,打撃データー!$H$6:$H$500,H34))","v":""},{"$f":"IF(H34=\"\",\"\",SUMIFS(打撃データー!$Z$6:$Z$500,打撃データー!$F$6:$F$500,F34,打撃データー!$H$6:$H$500,H34))","v":""},{"$f":"IF(H34=\"\",\"\",SUMIFS(打撃データー!$AA$6:$AA$500,打撃データー!$F$6:$F$500,F34,打撃データー!$H$6:$H$500,H34))","v":""},{"$f":"IF(G34=\"\",\"\",SUMIFS(打撃データー!$AC$6:$AC$337,打撃データー!$E$6:$E$337,$E$9,打撃データー!$G$6:$G$337,G34))","v":""},{"$f":"IF(G34=\"\",\"\",SUMIFS(打撃データー!$BE$6:$BE$337,打撃データー!$AG$6:$AG$337,F34,打撃データー!$AH$6:$AH$337,G34))","v":""},{"$f":"IF(G34=\"\",\"\",SUMIFS(打撃データー!$BF$6:$BF$337,打撃データー!$AG$6:$AG$337,F34,打撃データー!$AH$6:$AH$337,G34))","v":""},null,null,"","","","","",null,null,null,null,null,"","","",{"$f":"IF(AR34=\"\",\"\",SUMIFS(打撃データー!$BK$6:$BK$500,打撃データー!$BH$6:$BH$500,AQ34,打撃データー!$BI$6:$BI$500,AR34))","v":""},{"$f":"IF(AR34=\"\",\"\",SUMIFS(打撃データー!$BL$6:$BL$500,打撃データー!$BH$6:$BH$500,AQ34,打撃データー!$BI$6:$BI$500,AR34))","v":""},{"$f":"IF(AR34=\"\",\"\",SUMIFS(打撃データー!$BM$6:$BM$500,打撃データー!$BH$6:$BH$500,AQ34,打撃データー!$BI$6:$BI$500,AR34))","v":""},{"$f":"IF(AR34=\"\",\"\",SUMIFS(打撃データー!$BN$6:$BN$500,打撃データー!$BH$6:$BH$500,AQ34,打撃データー!$BI$6:$BI$500,$AR34))","v":""},{"$f":"IF(AR34=\"\",\"\",SUMIFS(打撃データー!$BO$6:$BO$500,打撃データー!$BH$6:$BH$500,AQ34,打撃データー!$BI$6:$BI$500,AR34))","v":""},{"$f":"IF(AR34=\"\",\"\",SUMIFS(打撃データー!$BP$6:$BP$500,打撃データー!$BH$6:$BH$500,AQ34,打撃データー!$BI$6:$BI$500,AR34))","v":""},{"$f":"IF(AR34=\"\",\"\",SUMIFS(打撃データー!$BQ$6:$BQ$500,打撃データー!$BH$6:$BH$500,AQ34,打撃データー!$BI$6:$BI$500,AR34))","v":""},{"$f":"IF(AR34=\"\",\"\",SUMIFS(打撃データー!$BR$6:$BR$500,打撃データー!$BH$6:$BH$500,AQ34,打撃データー!$BI$6:$BI$500,AR34))","v":""},{"$f":"IF(AR34=\"\",\"\",SUMIFS(打撃データー!$BS$6:$BS$500,打撃データー!$BH$6:$BH$500,AQ34,打撃データー!$BI$6:$BI$500,AR34))","v":""},{"$f":"IF(AR34=\"\",\"\",COUNTIFS(打撃データー!BH31:BH525,AQ34,打撃データー!BI31:BI525,AR34))","v":""},null,"","","",null,null,{"$f":"IF(戦績!O31=\"\",\"\",戦績!O31)","v":""},{"$f":"IF(BJ34=\"\",\"\",VLOOKUP(BJ34,戦績!$O$6:$U$38,7,FALSE))","v":""},{"$f":"IF(BK34=\"\",\"\",SUMIF(打撃データー!$BH$6:$BH$500,BK34,打撃データー!$BV$6:$BV$500))","v":""},{"$f":"IF(BK34=\"\",\"\",SUMIF(打撃データー!$BH$6:$BH$500,BK34,打撃データー!$BW$6:$BW$500))","v":""},{"$f":"IF(BK34=\"\",\"\",SUMIF(打撃データー!$BH$6:$BH$500,BK34,打撃データー!$BX$6:$BX$500))","v":""},"","","",null,null,null,null,"",""]
[null,null,null,null,null,"",null,null,{"$f":"IF(H35=\"\",\"\",SUMIFS(打撃データー!$I$6:$I$500,打撃データー!$F$6:$F$500,F35,打撃データー!$H$6:$H$500,H35))","v":""},{"$f":"IF(H35=\"\",\"\",SUMIFS(打撃データー!$J$6:$J$500,打撃データー!$F$6:$F$500,F35,打撃データー!$H$6:$H$500,H35))","v":""},{"$f":"IF(H35=\"\",\"\",SUMIFS(打撃データー!$K$6:$K$500,打撃データー!$F$6:$F$500,F35,打撃データー!$H$6:$H$500,H35))","v":""},{"$f":"IF(H35=\"\",\"\",SUMIFS(打撃データー!$L$6:$L$500,打撃データー!$F$6:$F$500,F35,打撃データー!$H$6:$H$500,H35))","v":""},{"$f":"IF(H35=\"\",\"\",SUMIFS(打撃データー!$M$6:$M$500,打撃データー!$F$6:$F$500,F35,打撃データー!$H$6:$H$500,H35))","v":""},{"$f":"IF(H35=\"\",\"\",SUMIFS(打撃データー!$N$6:$N$500,打撃データー!$F$6:$F$500,F35,打撃データー!$H$6:$H$500,H35))","v":""},{"$f":"IF(H35=\"\",\"\",SUMIFS(打撃データー!$O$6:$O$500,打撃データー!$F$6:$F$500,F35,打撃データー!$H$6:$H$500,H35))","v":""},{"$f":"IF(H35=\"\",\"\",SUMIFS(打撃データー!$P$6:$P$500,打撃データー!$F$6:$F$500,F35,打撃データー!$H$6:$H$500,H35))","v":""},{"$f":"IF(H35=\"\",\"\",SUMIFS(打撃データー!$Q$6:$Q$500,打撃データー!$F$6:$F$500,F35,打撃データー!$H$6:$H$500,H35))","v":""},{"$f":"IF(H35=\"\",\"\",SUMIFS(打撃データー!$R$6:$R$500,打撃データー!$F$6:$F$500,F35,打撃データー!$H$6:$H$500,H35))","v":""},{"$f":"IF(H35=\"\",\"\",SUMIFS(打撃データー!$S$6:$S$500,打撃データー!$F$6:$F$500,F35,打撃データー!$H$6:$H$500,H35))","v":""},{"$f":"IF(H35=\"\",\"\",SUMIFS(打撃データー!$T$6:$T$500,打撃データー!$F$6:$F$500,F35,打撃データー!$H$6:$H$500,H35))","v":""},{"$f":"IF(H35=\"\",\"\",SUMIFS(打撃データー!$U$6:$U$500,打撃データー!$F$6:$F$500,F35,打撃データー!$H$6:$H$500,H35))","v":""},{"$f":"IF(H35=\"\",\"\",SUMIFS(打撃データー!$V$6:$V$500,打撃データー!$F$6:$F$500,F35,打撃データー!$H$6:$H$500,H35))","v":""},{"$f":"IF(H35=\"\",\"\",SUMIFS(打撃データー!$W$6:$W$500,打撃データー!$F$6:$F$500,F35,打撃データー!$H$6:$H$500,H35))","v":""},{"$f":"IF(H35=\"\",\"\",SUMIFS(打撃データー!$X$6:$X$500,打撃データー!$F$6:$F$500,F35,打撃データー!$H$6:$H$500,H35))","v":""},{"$f":"IF(H35=\"\",\"\",SUMIFS(打撃データー!$Y$6:$Y$500,打撃データー!$F$6:$F$500,F35,打撃データー!$H$6:$H$500,H35))","v":""},{"$f":"IF(H35=\"\",\"\",SUMIFS(打撃データー!$Z$6:$Z$500,打撃データー!$F$6:$F$500,F35,打撃データー!$H$6:$H$500,H35))","v":""},{"$f":"IF(H35=\"\",\"\",SUMIFS(打撃データー!$AA$6:$AA$500,打撃データー!$F$6:$F$500,F35,打撃データー!$H$6:$H$500,H35))","v":""},{"$f":"IF(G35=\"\",\"\",SUMIFS(打撃データー!$AC$6:$AC$337,打撃データー!$E$6:$E$337,$E$9,打撃データー!$G$6:$G$337,G35))","v":""},{"$f":"IF(G35=\"\",\"\",SUMIFS(打撃データー!$BE$6:$BE$337,打撃データー!$AG$6:$AG$337,F35,打撃データー!$AH$6:$AH$337,G35))","v":""},{"$f":"IF(G35=\"\",\"\",SUMIFS(打撃データー!$BF$6:$BF$337,打撃データー!$AG$6:$AG$337,F35,打撃データー!$AH$6:$AH$337,G35))","v":""},null,null,"","","","","",null,null,null,null,null,"","","",{"$f":"IF(AR35=\"\",\"\",SUMIFS(打撃データー!$BK$6:$BK$500,打撃データー!$BH$6:$BH$500,AQ35,打撃データー!$BI$6:$BI$500,AR35))","v":""},{"$f":"IF(AR35=\"\",\"\",SUMIFS(打撃データー!$BL$6:$BL$500,打撃データー!$BH$6:$BH$500,AQ35,打撃データー!$BI$6:$BI$500,AR35))","v":""},{"$f":"IF(AR35=\"\",\"\",SUMIFS(打撃データー!$BM$6:$BM$500,打撃データー!$BH$6:$BH$500,AQ35,打撃データー!$BI$6:$BI$500,AR35))","v":""},{"$f":"IF(AR35=\"\",\"\",SUMIFS(打撃データー!$BN$6:$BN$500,打撃データー!$BH$6:$BH$500,AQ35,打撃データー!$BI$6:$BI$500,$AR35))","v":""},{"$f":"IF(AR35=\"\",\"\",SUMIFS(打撃データー!$BO$6:$BO$500,打撃データー!$BH$6:$BH$500,AQ35,打撃データー!$BI$6:$BI$500,AR35))","v":""},{"$f":"IF(AR35=\"\",\"\",SUMIFS(打撃データー!$BP$6:$BP$500,打撃データー!$BH$6:$BH$500,AQ35,打撃データー!$BI$6:$BI$500,AR35))","v":""},{"$f":"IF(AR35=\"\",\"\",SUMIFS(打撃データー!$BQ$6:$BQ$500,打撃データー!$BH$6:$BH$500,AQ35,打撃データー!$BI$6:$BI$500,AR35))","v":""},{"$f":"IF(AR35=\"\",\"\",SUMIFS(打撃データー!$BR$6:$BR$500,打撃データー!$BH$6:$BH$500,AQ35,打撃データー!$BI$6:$BI$500,AR35))","v":""},{"$f":"IF(AR35=\"\",\"\",SUMIFS(打撃データー!$BS$6:$BS$500,打撃データー!$BH$6:$BH$500,AQ35,打撃データー!$BI$6:$BI$500,AR35))","v":""},{"$f":"IF(AR35=\"\",\"\",COUNTIFS(打撃データー!BH32:BH526,AQ35,打撃データー!BI32:BI526,AR35))","v":""},null,"","","",null,null,{"$f":"IF(戦績!O32=\"\",\"\",戦績!O32)","v":""},{"$f":"IF(BJ35=\"\",\"\",VLOOKUP(BJ35,戦績!$O$6:$U$38,7,FALSE))","v":""},{"$f":"IF(BK35=\"\",\"\",SUMIF(打撃データー!$BH$6:$BH$500,BK35,打撃データー!$BV$6:$BV$500))","v":""},{"$f":"IF(BK35=\"\",\"\",SUMIF(打撃データー!$BH$6:$BH$500,BK35,打撃データー!$BW$6:$BW$500))","v":""},{"$f":"IF(BK35=\"\",\"\",SUMIF(打撃データー!$BH$6:$BH$500,BK35,打撃データー!$BX$6:$BX$500))","v":""},"","","",null,null,null,null,"",""]
[null,null,null,null,null,"",null,null,{"$f":"IF(H36=\"\",\"\",SUMIFS(打撃データー!$I$6:$I$500,打撃データー!$F$6:$F$500,F36,打撃データー!$H$6:$H$500,H36))","v":""},{"$f":"IF(H36=\"\",\"\",SUMIFS(打撃データー!$J$6:$J$500,打撃データー!$F$6:$F$500,F36,打撃データー!$H$6:$H$500,H36))","v":""},{"$f":"IF(H36=\"\",\"\",SUMIFS(打撃データー!$K$6:$K$500,打撃データー!$F$6:$F$500,F36,打撃データー!$H$6:$H$500,H36))","v":""},{"$f":"IF(H36=\"\",\"\",SUMIFS(打撃データー!$L$6:$L$500,打撃データー!$F$6:$F$500,F36,打撃データー!$H$6:$H$500,H36))","v":""},{"$f":"IF(H36=\"\",\"\",SUMIFS(打撃データー!$M$6:$M$500,打撃データー!$F$6:$F$500,F36,打撃データー!$H$6:$H$500,H36))","v":""},{"$f":"IF(H36=\"\",\"\",SUMIFS(打撃データー!$N$6:$N$500,打撃データー!$F$6:$F$500,F36,打撃データー!$H$6:$H$500,H36))","v":""},{"$f":"IF(H36=\"\",\"\",SUMIFS(打撃データー!$O$6:$O$500,打撃データー!$F$6:$F$500,F36,打撃データー!$H$6:$H$500,H36))","v":""},{"$f":"IF(H36=\"\",\"\",SUMIFS(打撃データー!$P$6:$P$500,打撃データー!$F$6:$F$500,F36,打撃データー!$H$6:$H$500,H36))","v":""},{"$f":"IF(H36=\"\",\"\",SUMIFS(打撃データー!$Q$6:$Q$500,打撃データー!$F$6:$F$500,F36,打撃データー!$H$6:$H$500,H36))","v":""},{"$f":"IF(H36=\"\",\"\",SUMIFS(打撃データー!$R$6:$R$500,打撃データー!$F$6:$F$500,F36,打撃データー!$H$6:$H$500,H36))","v":""},{"$f":"IF(H36=\"\",\"\",SUMIFS(打撃データー!$S$6:$S$500,打撃データー!$F$6:$F$500,F36,打撃データー!$H$6:$H$500,H36))","v":""},{"$f":"IF(H36=\"\",\"\",SUMIFS(打撃データー!$T$6:$T$500,打撃データー!$F$6:$F$500,F36,打撃データー!$H$6:$H$500,H36))","v":""},{"$f":"IF(H36=\"\",\"\",SUMIFS(打撃データー!$U$6:$U$500,打撃データー!$F$6:$F$500,F36,打撃データー!$H$6:$H$500,H36))","v":""},{"$f":"IF(H36=\"\",\"\",SUMIFS(打撃データー!$V$6:$V$500,打撃データー!$F$6:$F$500,F36,打撃データー!$H$6:$H$500,H36))","v":""},{"$f":"IF(H36=\"\",\"\",SUMIFS(打撃データー!$W$6:$W$500,打撃データー!$F$6:$F$500,F36,打撃データー!$H$6:$H$500,H36))","v":""},{"$f":"IF(H36=\"\",\"\",SUMIFS(打撃データー!$X$6:$X$500,打撃データー!$F$6:$F$500,F36,打撃データー!$H$6:$H$500,H36))","v":""},{"$f":"IF(H36=\"\",\"\",SUMIFS(打撃データー!$Y$6:$Y$500,打撃データー!$F$6:$F$500,F36,打撃データー!$H$6:$H$500,H36))","v":""},{"$f":"IF(H36=\"\",\"\",SUMIFS(打撃データー!$Z$6:$Z$500,打撃データー!$F$6:$F$500,F36,打撃データー!$H$6:$H$500,H36))","v":""},{"$f":"IF(H36=\"\",\"\",SUMIFS(打撃データー!$AA$6:$AA$500,打撃データー!$F$6:$F$500,F36,打撃データー!$H$6:$H$500,H36))","v":""},{"$f":"IF(G36=\"\",\"\",SUMIFS(打撃データー!$AC$6:$AC$337,打撃データー!$E$6:$E$337,$E$9,打撃データー!$G$6:$G$337,G36))","v":""},{"$f":"IF(G36=\"\",\"\",SUMIFS(打撃データー!$BE$6:$BE$337,打撃データー!$AG$6:$AG$337,F36,打撃データー!$AH$6:$AH$337,G36))","v":""},{"$f":"IF(G36=\"\",\"\",SUMIFS(打撃データー!$BF$6:$BF$337,打撃データー!$AG$6:$AG$337,F36,打撃データー!$AH$6:$AH$337,G36))","v":""},null,null,"","","","","",null,null,null,null,null,"","","",{"$f":"IF(AR36=\"\",\"\",SUMIFS(打撃データー!$BK$6:$BK$500,打撃データー!$BH$6:$BH$500,AQ36,打撃データー!$BI$6:$BI$500,AR36))","v":""},{"$f":"IF(AR36=\"\",\"\",SUMIFS(打撃データー!$BL$6:$BL$500,打撃データー!$BH$6:$BH$500,AQ36,打撃データー!$BI$6:$BI$500,AR36))","v":""},{"$f":"IF(AR36=\"\",\"\",SUMIFS(打撃データー!$BM$6:$BM$500,打撃データー!$BH$6:$BH$500,AQ36,打撃データー!$BI$6:$BI$500,AR36))","v":""},{"$f":"IF(AR36=\"\",\"\",SUMIFS(打撃データー!$BN$6:$BN$500,打撃データー!$BH$6:$BH$500,AQ36,打撃データー!$BI$6:$BI$500,$AR36))","v":""},{"$f":"IF(AR36=\"\",\"\",SUMIFS(打撃データー!$BO$6:$BO$500,打撃データー!$BH$6:$BH$500,AQ36,打撃データー!$BI$6:$BI$500,AR36))","v":""},{"$f":"IF(AR36=\"\",\"\",SUMIFS(打撃データー!$BP$6:$BP$500,打撃データー!$BH$6:$BH$500,AQ36,打撃データー!$BI$6:$BI$500,AR36))","v":""},{"$f":"IF(AR36=\"\",\"\",SUMIFS(打撃データー!$BQ$6:$BQ$500,打撃データー!$BH$6:$BH$500,AQ36,打撃データー!$BI$6:$BI$500,AR36))","v":""},{"$f":"IF(AR36=\"\",\"\",SUMIFS(打撃データー!$BR$6:$BR$500,打撃データー!$BH$6:$BH$500,AQ36,打撃データー!$BI$6:$BI$500,AR36))","v":""},{"$f":"IF(AR36=\"\",\"\",SUMIFS(打撃データー!$BS$6:$BS$500,打撃データー!$BH$6:$BH$500,AQ36,打撃データー!$BI$6:$BI$500,AR36))","v":""},{"$f":"IF(AR36=\"\",\"\",COUNTIFS(打撃データー!BH33:BH527,AQ36,打撃データー!BI33:BI527,AR36))","v":""},null,"","","",null,null,{"$f":"IF(戦績!O33=\"\",\"\",戦績!O33)","v":""},{"$f":"IF(BJ36=\"\",\"\",VLOOKUP(BJ36,戦績!$O$6:$U$38,7,FALSE))","v":""},{"$f":"IF(BK36=\"\",\"\",SUMIF(打撃データー!$BH$6:$BH$500,BK36,打撃データー!$BV$6:$BV$500))","v":""},{"$f":"IF(BK36=\"\",\"\",SUMIF(打撃データー!$BH$6:$BH$500,BK36,打撃データー!$BW$6:$BW$500))","v":""},{"$f":"IF(BK36=\"\",\"\",SUMIF(打撃データー!$BH$6:$BH$500,BK36,打撃データー!$BX$6:$BX$500))","v":""},"","","",null,null,null,null,"",""]
[null,null,null,null,null,"",null,null,{"$f":"IF(H37=\"\",\"\",SUMIFS(打撃データー!$I$6:$I$500,打撃データー!$F$6:$F$500,F37,打撃データー!$H$6:$H$500,H37))","v":""},{"$f":"IF(H37=\"\",\"\",SUMIFS(打撃データー!$J$6:$J$500,打撃データー!$F$6:$F$500,F37,打撃データー!$H$6:$H$500,H37))","v":""},{"$f":"IF(H37=\"\",\"\",SUMIFS(打撃データー!$K$6:$K$500,打撃データー!$F$6:$F$500,F37,打撃データー!$H$6:$H$500,H37))","v":""},{"$f":"IF(H37=\"\",\"\",SUMIFS(打撃データー!$L$6:$L$500,打撃データー!$F$6:$F$500,F37,打撃データー!$H$6:$H$500,H37))","v":""},{"$f":"IF(H37=\"\",\"\",SUMIFS(打撃データー!$M$6:$M$500,打撃データー!$F$6:$F$500,F37,打撃データー!$H$6:$H$500,H37))","v":""},{"$f":"IF(H37=\"\",\"\",SUMIFS(打撃データー!$N$6:$N$500,打撃データー!$F$6:$F$500,F37,打撃データー!$H$6:$H$500,H37))","v":""},{"$f":"IF(H37=\"\",\"\",SUMIFS(打撃データー!$O$6:$O$500,打撃データー!$F$6:$F$500,F37,打撃データー!$H$6:$H$500,H37))","v":""},{"$f":"IF(H37=\"\",\"\",SUMIFS(打撃データー!$P$6:$P$500,打撃データー!$F$6:$F$500,F37,打撃データー!$H$6:$H$500,H37))","v":""},{"$f":"IF(H37=\"\",\"\",SUMIFS(打撃データー!$Q$6:$Q$500,打撃データー!$F$6:$F$500,F37,打撃データー!$H$6:$H$500,H37))","v":""},{"$f":"IF(H37=\"\",\"\",SUMIFS(打撃データー!$R$6:$R$500,打撃データー!$F$6:$F$500,F37,打撃データー!$H$6:$H$500,H37))","v":""},{"$f":"IF(H37=\"\",\"\",SUMIFS(打撃データー!$S$6:$S$500,打撃データー!$F$6:$F$500,F37,打撃データー!$H$6:$H$500,H37))","v":""},{"$f":"IF(H37=\"\",\"\",SUMIFS(打撃データー!$T$6:$T$500,打撃データー!$F$6:$F$500,F37,打撃データー!$H$6:$H$500,H37))","v":""},{"$f":"IF(H37=\"\",\"\",SUMIFS(打撃データー!$U$6:$U$500,打撃データー!$F$6:$F$500,F37,打撃データー!$H$6:$H$500,H37))","v":""},{"$f":"IF(H37=\"\",\"\",SUMIFS(打撃データー!$V$6:$V$500,打撃データー!$F$6:$F$500,F37,打撃データー!$H$6:$H$500,H37))","v":""},{"$f":"IF(H37=\"\",\"\",SUMIFS(打撃データー!$W$6:$W$500,打撃データー!$F$6:$F$500,F37,打撃データー!$H$6:$H$500,H37))","v":""},{"$f":"IF(H37=\"\",\"\",SUMIFS(打撃データー!$X$6:$X$500,打撃データー!$F$6:$F$500,F37,打撃データー!$H$6:$H$500,H37))","v":""},{"$f":"IF(H37=\"\",\"\",SUMIFS(打撃データー!$Y$6:$Y$500,打撃データー!$F$6:$F$500,F37,打撃データー!$H$6:$H$500,H37))","v":""},{"$f":"IF(H37=\"\",\"\",SUMIFS(打撃データー!$Z$6:$Z$500,打撃データー!$F$6:$F$500,F37,打撃データー!$H$6:$H$500,H37))","v":""},{"$f":"IF(H37=\"\",\"\",SUMIFS(打撃データー!$AA$6:$AA$500,打撃データー!$F$6:$F$500,F37,打撃データー!$H$6:$H$500,H37))","v":""},{"$f":"IF(G37=\"\",\"\",SUMIFS(打撃データー!$AC$6:$AC$337,打撃データー!$E$6:$E$337,$E$9,打撃データー!$G$6:$G$337,G37))","v":""},{"$f":"IF(G37=\"\",\"\",SUMIFS(打撃データー!$BE$6:$BE$337,打撃データー!$AG$6:$AG$337,F37,打撃データー!$AH$6:$AH$337,G37))","v":""},{"$f":"IF(G37=\"\",\"\",SUMIFS(打撃データー!$BF$6:$BF$337,打撃データー!$AG$6:$AG$337,F37,打撃データー!$AH$6:$AH$337,G37))","v":""},null,null,"","","","","",null,null,null,null,null,"","","",{"$f":"IF(AR37=\"\",\"\",SUMIFS(打撃データー!$BK$6:$BK$500,打撃データー!$BH$6:$BH$500,AQ37,打撃データー!$BI$6:$BI$500,AR37))","v":""},{"$f":"IF(AR37=\"\",\"\",SUMIFS(打撃データー!$BL$6:$BL$500,打撃データー!$BH$6:$BH$500,AQ37,打撃データー!$BI$6:$BI$500,AR37))","v":""},{"$f":"IF(AR37=\"\",\"\",SUMIFS(打撃データー!$BM$6:$BM$500,打撃データー!$BH$6:$BH$500,AQ37,打撃データー!$BI$6:$BI$500,AR37))","v":""},{"$f":"IF(AR37=\"\",\"\",SUMIFS(打撃データー!$BN$6:$BN$500,打撃データー!$BH$6:$BH$500,AQ37,打撃データー!$BI$6:$BI$500,$AR37))","v":""},{"$f":"IF(AR37=\"\",\"\",SUMIFS(打撃データー!$BO$6:$BO$500,打撃データー!$BH$6:$BH$500,AQ37,打撃データー!$BI$6:$BI$500,AR37))","v":""},{"$f":"IF(AR37=\"\",\"\",SUMIFS(打撃データー!$BP$6:$BP$500,打撃データー!$BH$6:$BH$500,AQ37,打撃データー!$BI$6:$BI$500,AR37))","v":""},{"$f":"IF(AR37=\"\",\"\",SUMIFS(打撃データー!$BQ$6:$BQ$500,打撃データー!$BH$6:$BH$500,AQ37,打撃データー!$BI$6:$BI$500,AR37))","v":""},{"$f":"IF(AR37=\"\",\"\",SUMIFS(打撃データー!$BR$6:$BR$500,打撃データー!$BH$6:$BH$500,AQ37,打撃データー!$BI$6:$BI$500,AR37))","v":""},{"$f":"IF(AR37=\"\",\"\",SUMIFS(打撃データー!$BS$6:$BS$500,打撃データー!$BH$6:$BH$500,AQ37,打撃データー!$BI$6:$BI$500,AR37))","v":""},{"$f":"IF(AR37=\"\",\"\",COUNTIFS(打撃データー!BH34:BH528,AQ37,打撃データー!BI34:BI528,AR37))","v":""},null,"","","",null,null,{"$f":"IF(戦績!O34=\"\",\"\",戦績!O34)","v":""},{"$f":"IF(BJ37=\"\",\"\",VLOOKUP(BJ37,戦績!$O$6:$U$38,7,FALSE))","v":""},{"$f":"IF(BK37=\"\",\"\",SUMIF(打撃データー!$BH$6:$BH$500,BK37,打撃データー!$BV$6:$BV$500))","v":""},{"$f":"IF(BK37=\"\",\"\",SUMIF(打撃データー!$BH$6:$BH$500,BK37,打撃データー!$BW$6:$BW$500))","v":""},{"$f":"IF(BK37=\"\",\"\",SUMIF(打撃データー!$BH$6:$BH$500,BK37,打撃データー!$BX$6:$BX$500))","v":""},"","","",null,null,null,null,"",""]
[null,null,null,null,null,"",null,null,{"$f":"IF(H38=\"\",\"\",SUMIFS(打撃データー!$I$6:$I$500,打撃データー!$F$6:$F$500,F38,打撃データー!$H$6:$H$500,H38))","v":""},{"$f":"IF(H38=\"\",\"\",SUMIFS(打撃データー!$J$6:$J$500,打撃データー!$F$6:$F$500,F38,打撃データー!$H$6:$H$500,H38))","v":""},{"$f":"IF(H38=\"\",\"\",SUMIFS(打撃データー!$K$6:$K$500,打撃データー!$F$6:$F$500,F38,打撃データー!$H$6:$H$500,H38))","v":""},{"$f":"IF(H38=\"\",\"\",SUMIFS(打撃データー!$L$6:$L$500,打撃データー!$F$6:$F$500,F38,打撃データー!$H$6:$H$500,H38))","v":""},{"$f":"IF(H38=\"\",\"\",SUMIFS(打撃データー!$M$6:$M$500,打撃データー!$F$6:$F$500,F38,打撃データー!$H$6:$H$500,H38))","v":""},{"$f":"IF(H38=\"\",\"\",SUMIFS(打撃データー!$N$6:$N$500,打撃データー!$F$6:$F$500,F38,打撃データー!$H$6:$H$500,H38))","v":""},{"$f":"IF(H38=\"\",\"\",SUMIFS(打撃データー!$O$6:$O$500,打撃データー!$F$6:$F$500,F38,打撃データー!$H$6:$H$500,H38))","v":""},{"$f":"IF(H38=\"\",\"\",SUMIFS(打撃データー!$P$6:$P$500,打撃データー!$F$6:$F$500,F38,打撃データー!$H$6:$H$500,H38))","v":""},{"$f":"IF(H38=\"\",\"\",SUMIFS(打撃データー!$Q$6:$Q$500,打撃データー!$F$6:$F$500,F38,打撃データー!$H$6:$H$500,H38))","v":""},{"$f":"IF(H38=\"\",\"\",SUMIFS(打撃データー!$R$6:$R$500,打撃データー!$F$6:$F$500,F38,打撃データー!$H$6:$H$500,H38))","v":""},{"$f":"IF(H38=\"\",\"\",SUMIFS(打撃データー!$S$6:$S$500,打撃データー!$F$6:$F$500,F38,打撃データー!$H$6:$H$500,H38))","v":""},{"$f":"IF(H38=\"\",\"\",SUMIFS(打撃データー!$T$6:$T$500,打撃データー!$F$6:$F$500,F38,打撃データー!$H$6:$H$500,H38))","v":""},{"$f":"IF(H38=\"\",\"\",SUMIFS(打撃データー!$U$6:$U$500,打撃データー!$F$6:$F$500,F38,打撃データー!$H$6:$H$500,H38))","v":""},{"$f":"IF(H38=\"\",\"\",SUMIFS(打撃データー!$V$6:$V$500,打撃データー!$F$6:$F$500,F38,打撃データー!$H$6:$H$500,H38))","v":""},{"$f":"IF(H38=\"\",\"\",SUMIFS(打撃データー!$W$6:$W$500,打撃データー!$F$6:$F$500,F38,打撃データー!$H$6:$H$500,H38))","v":""},{"$f":"IF(H38=\"\",\"\",SUMIFS(打撃データー!$X$6:$X$500,打撃データー!$F$6:$F$500,F38,打撃データー!$H$6:$H$500,H38))","v":""},{"$f":"IF(H38=\"\",\"\",SUMIFS(打撃データー!$Y$6:$Y$500,打撃データー!$F$6:$F$500,F38,打撃データー!$H$6:$H$500,H38))","v":""},{"$f":"IF(H38=\"\",\"\",SUMIFS(打撃データー!$Z$6:$Z$500,打撃データー!$F$6:$F$500,F38,打撃データー!$H$6:$H$500,H38))","v":""},{"$f":"IF(H38=\"\",\"\",SUMIFS(打撃データー!$AA$6:$AA$500,打撃データー!$F$6:$F$500,F38,打撃データー!$H$6:$H$500,H38))","v":""},{"$f":"IF(G38=\"\",\"\",SUMIFS(打撃データー!$AC$6:$AC$337,打撃データー!$E$6:$E$337,$E$9,打撃データー!$G$6:$G$337,G38))","v":""},{"$f":"IF(G38=\"\",\"\",SUMIFS(打撃データー!$BE$6:$BE$337,打撃データー!$AG$6:$AG$337,F38,打撃データー!$AH$6:$AH$337,G38))","v":""},{"$f":"IF(G38=\"\",\"\",SUMIFS(打撃データー!$BF$6:$BF$337,打撃データー!$AG$6:$AG$337,F38,打撃データー!$AH$6:$AH$337,G38))","v":""},null,null,"","","","","",null,null,null,null,null,"","","",{"$f":"IF(AR38=\"\",\"\",SUMIFS(打撃データー!$BK$6:$BK$500,打撃データー!$BH$6:$BH$500,AQ38,打撃データー!$BI$6:$BI$500,AR38))","v":""},{"$f":"IF(AR38=\"\",\"\",SUMIFS(打撃データー!$BL$6:$BL$500,打撃データー!$BH$6:$BH$500,AQ38,打撃データー!$BI$6:$BI$500,AR38))","v":""},{"$f":"IF(AR38=\"\",\"\",SUMIFS(打撃データー!$BM$6:$BM$500,打撃データー!$BH$6:$BH$500,AQ38,打撃データー!$BI$6:$BI$500,AR38))","v":""},{"$f":"IF(AR38=\"\",\"\",SUMIFS(打撃データー!$BN$6:$BN$500,打撃データー!$BH$6:$BH$500,AQ38,打撃データー!$BI$6:$BI$500,$AR38))","v":""},{"$f":"IF(AR38=\"\",\"\",SUMIFS(打撃データー!$BO$6:$BO$500,打撃データー!$BH$6:$BH$500,AQ38,打撃データー!$BI$6:$BI$500,AR38))","v":""},{"$f":"IF(AR38=\"\",\"\",SUMIFS(打撃データー!$BP$6:$BP$500,打撃データー!$BH$6:$BH$500,AQ38,打撃データー!$BI$6:$BI$500,AR38))","v":""},{"$f":"IF(AR38=\"\",\"\",SUMIFS(打撃データー!$BQ$6:$BQ$500,打撃データー!$BH$6:$BH$500,AQ38,打撃データー!$BI$6:$BI$500,AR38))","v":""},{"$f":"IF(AR38=\"\",\"\",SUMIFS(打撃データー!$BR$6:$BR$500,打撃データー!$BH$6:$BH$500,AQ38,打撃データー!$BI$6:$BI$500,AR38))","v":""},{"$f":"IF(AR38=\"\",\"\",SUMIFS(打撃データー!$BS$6:$BS$500,打撃データー!$BH$6:$BH$500,AQ38,打撃データー!$BI$6:$BI$500,AR38))","v":""},{"$f":"IF(AR38=\"\",\"\",COUNTIFS(打撃データー!BH35:BH529,AQ38,打撃データー!BI35:BI529,AR38))","v":""},null,"","","",null,null,{"$f":"IF(戦績!O35=\"\",\"\",戦績!O35)","v":""},{"$f":"IF(BJ38=\"\",\"\",VLOOKUP(BJ38,戦績!$O$6:$U$38,7,FALSE))","v":""},{"$f":"IF(BK38=\"\",\"\",SUMIF(打撃データー!$BH$6:$BH$500,BK38,打撃データー!$BV$6:$BV$500))","v":""},{"$f":"IF(BK38=\"\",\"\",SUMIF(打撃データー!$BH$6:$BH$500,BK38,打撃データー!$BW$6:$BW$500))","v":""},{"$f":"IF(BK38=\"\",\"\",SUMIF(打撃データー!$BH$6:$BH$500,BK38,打撃データー!$BX$6:$BX$500))","v":""},"","","",null,null,null,null,"",""]
[null,null,null,null,null,"",null,null,{"$f":"IF(H39=\"\",\"\",SUMIFS(打撃データー!$I$6:$I$500,打撃データー!$F$6:$F$500,F39,打撃データー!$H$6:$H$500,H39))","v":""},{"$f":"IF(H39=\"\",\"\",SUMIFS(打撃データー!$J$6:$J$500,打撃データー!$F$6:$F$500,F39,打撃データー!$H$6:$H$500,H39))","v":""},{"$f":"IF(H39=\"\",\"\",SUMIFS(打撃データー!$K$6:$K$500,打撃データー!$F$6:$F$500,F39,打撃データー!$H$6:$H$500,H39))","v":""},{"$f":"IF(H39=\"\",\"\",SUMIFS(打撃データー!$L$6:$L$500,打撃データー!$F$6:$F$500,F39,打撃データー!$H$6:$H$500,H39))","v":""},{"$f":"IF(H39=\"\",\"\",SUMIFS(打撃データー!$M$6:$M$500,打撃データー!$F$6:$F$500,F39,打撃データー!$H$6:$H$500,H39))","v":""},{"$f":"IF(H39=\"\",\"\",SUMIFS(打撃データー!$N$6:$N$500,打撃データー!$F$6:$F$500,F39,打撃データー!$H$6:$H$500,H39))","v":""},{"$f":"IF(H39=\"\",\"\",SUMIFS(打撃データー!$O$6:$O$500,打撃データー!$F$6:$F$500,F39,打撃データー!$H$6:$H$500,H39))","v":""},{"$f":"IF(H39=\"\",\"\",SUMIFS(打撃データー!$P$6:$P$500,打撃データー!$F$6:$F$500,F39,打撃データー!$H$6:$H$500,H39))","v":""},{"$f":"IF(H39=\"\",\"\",SUMIFS(打撃データー!$Q$6:$Q$500,打撃データー!$F$6:$F$500,F39,打撃データー!$H$6:$H$500,H39))","v":""},{"$f":"IF(H39=\"\",\"\",SUMIFS(打撃データー!$R$6:$R$500,打撃データー!$F$6:$F$500,F39,打撃データー!$H$6:$H$500,H39))","v":""},{"$f":"IF(H39=\"\",\"\",SUMIFS(打撃データー!$S$6:$S$500,打撃データー!$F$6:$F$500,F39,打撃データー!$H$6:$H$500,H39))","v":""},{"$f":"IF(H39=\"\",\"\",SUMIFS(打撃データー!$T$6:$T$500,打撃データー!$F$6:$F$500,F39,打撃データー!$H$6:$H$500,H39))","v":""},{"$f":"IF(H39=\"\",\"\",SUMIFS(打撃データー!$U$6:$U$500,打撃データー!$F$6:$F$500,F39,打撃データー!$H$6:$H$500,H39))","v":""},{"$f":"IF(H39=\"\",\"\",SUMIFS(打撃データー!$V$6:$V$500,打撃データー!$F$6:$F$500,F39,打撃データー!$H$6:$H$500,H39))","v":""},{"$f":"IF(H39=\"\",\"\",SUMIFS(打撃データー!$W$6:$W$500,打撃データー!$F$6:$F$500,F39,打撃データー!$H$6:$H$500,H39))","v":""},{"$f":"IF(H39=\"\",\"\",SUMIFS(打撃データー!$X$6:$X$500,打撃データー!$F$6:$F$500,F39,打撃データー!$H$6:$H$500,H39))","v":""},{"$f":"IF(H39=\"\",\"\",SUMIFS(打撃データー!$Y$6:$Y$500,打撃データー!$F$6:$F$500,F39,打撃データー!$H$6:$H$500,H39))","v":""},{"$f":"IF(H39=\"\",\"\",SUMIFS(打撃データー!$Z$6:$Z$500,打撃データー!$F$6:$F$500,F39,打撃データー!$H$6:$H$500,H39))","v":""},{"$f":"IF(H39=\"\",\"\",SUMIFS(打撃データー!$AA$6:$AA$500,打撃データー!$F$6:$F$500,F39,打撃データー!$H$6:$H$500,H39))","v":""},{"$f":"IF(G39=\"\",\"\",SUMIFS(打撃データー!$AC$6:$AC$337,打撃データー!$E$6:$E$337,$E$9,打撃データー!$G$6:$G$337,G39))","v":""},{"$f":"IF(G39=\"\",\"\",SUMIFS(打撃データー!$BE$6:$BE$337,打撃データー!$AG$6:$AG$337,F39,打撃データー!$AH$6:$AH$337,G39))","v":""},{"$f":"IF(G39=\"\",\"\",SUMIFS(打撃データー!$BF$6:$BF$337,打撃データー!$AG$6:$AG$337,F39,打撃データー!$AH$6:$AH$337,G39))","v":""},null,null,"","","","","",null,null,null,null,null,"","","",{"$f":"IF(AR39=\"\",\"\",SUMIFS(打撃データー!$BK$6:$BK$500,打撃データー!$BH$6:$BH$500,AQ39,打撃データー!$BI$6:$BI$500,AR39))","v":""},{"$f":"IF(AR39=\"\",\"\",SUMIFS(打撃データー!$BL$6:$BL$500,打撃データー!$BH$6:$BH$500,AQ39,打撃データー!$BI$6:$BI$500,AR39))","v":""},{"$f":"IF(AR39=\"\",\"\",SUMIFS(打撃データー!$BM$6:$BM$500,打撃データー!$BH$6:$BH$500,AQ39,打撃データー!$BI$6:$BI$500,AR39))","v":""},{"$f":"IF(AR39=\"\",\"\",SUMIFS(打撃データー!$BN$6:$BN$500,打撃データー!$BH$6:$BH$500,AQ39,打撃データー!$BI$6:$BI$500,$AR39))","v":""},{"$f":"IF(AR39=\"\",\"\",SUMIFS(打撃データー!$BO$6:$BO$500,打撃データー!$BH$6:$BH$500,AQ39,打撃データー!$BI$6:$BI$500,AR39))","v":""},{"$f":"IF(AR39=\"\",\"\",SUMIFS(打撃データー!$BP$6:$BP$500,打撃データー!$BH$6:$BH$500,AQ39,打撃データー!$BI$6:$BI$500,AR39))","v":""},{"$f":"IF(AR39=\"\",\"\",SUMIFS(打撃データー!$BQ$6:$BQ$500,打撃データー!$BH$6:$BH$500,AQ39,打撃データー!$BI$6:$BI$500,AR39))","v":""},{"$f":"IF(AR39=\"\",\"\",SUMIFS(打撃データー!$BR$6:$BR$500,打撃データー!$BH$6:$BH$500,AQ39,打撃データー!$BI$6:$BI$500,AR39))","v":""},{"$f":"IF(AR39=\"\",\"\",SUMIFS(打撃データー!$BS$6:$BS$500,打撃データー!$BH$6:$BH$500,AQ39,打撃データー!$BI$6:$BI$500,AR39))","v":""},{"$f":"IF(AR39=\"\",\"\",COUNTIFS(打撃データー!BH36:BH530,AQ39,打撃データー!BI36:BI530,AR39))","v":""},null,"","","",null,null,{"$f":"IF(戦績!O36=\"\",\"\",戦績!O36)","v":""},{"$f":"IF(BJ39=\"\",\"\",VLOOKUP(BJ39,戦績!$O$6:$U$38,7,FALSE))","v":""},{"$f":"IF(BK39=\"\",\"\",SUMIF(打撃データー!$BH$6:$BH$500,BK39,打撃データー!$BV$6:$BV$500))","v":""},{"$f":"IF(BK39=\"\",\"\",SUMIF(打撃データー!$BH$6:$BH$500,BK39,打撃データー!$BW$6:$BW$500))","v":""},{"$f":"IF(BK39=\"\",\"\",SUMIF(打撃データー!$BH$6:$BH$500,BK39,打撃データー!$BX$6:$BX$500))","v":""},"","","",null,null,null,null,"",""]
[null,null,null,null,null,"",null,null,{"$f":"IF(H40=\"\",\"\",SUMIFS(打撃データー!$I$6:$I$500,打撃データー!$F$6:$F$500,F40,打撃データー!$H$6:$H$500,H40))","v":""},{"$f":"IF(H40=\"\",\"\",SUMIFS(打撃データー!$J$6:$J$500,打撃データー!$F$6:$F$500,F40,打撃データー!$H$6:$H$500,H40))","v":""},{"$f":"IF(H40=\"\",\"\",SUMIFS(打撃データー!$K$6:$K$500,打撃データー!$F$6:$F$500,F40,打撃データー!$H$6:$H$500,H40))","v":""},{"$f":"IF(H40=\"\",\"\",SUMIFS(打撃データー!$L$6:$L$500,打撃データー!$F$6:$F$500,F40,打撃データー!$H$6:$H$500,H40))","v":""},{"$f":"IF(H40=\"\",\"\",SUMIFS(打撃データー!$M$6:$M$500,打撃データー!$F$6:$F$500,F40,打撃データー!$H$6:$H$500,H40))","v":""},{"$f":"IF(H40=\"\",\"\",SUMIFS(打撃データー!$N$6:$N$500,打撃データー!$F$6:$F$500,F40,打撃データー!$H$6:$H$500,H40))","v":""},{"$f":"IF(H40=\"\",\"\",SUMIFS(打撃データー!$O$6:$O$500,打撃データー!$F$6:$F$500,F40,打撃データー!$H$6:$H$500,H40))","v":""},{"$f":"IF(H40=\"\",\"\",SUMIFS(打撃データー!$P$6:$P$500,打撃データー!$F$6:$F$500,F40,打撃データー!$H$6:$H$500,H40))","v":""},{"$f":"IF(H40=\"\",\"\",SUMIFS(打撃データー!$Q$6:$Q$500,打撃データー!$F$6:$F$500,F40,打撃データー!$H$6:$H$500,H40))","v":""},{"$f":"IF(H40=\"\",\"\",SUMIFS(打撃データー!$R$6:$R$500,打撃データー!$F$6:$F$500,F40,打撃データー!$H$6:$H$500,H40))","v":""},{"$f":"IF(H40=\"\",\"\",SUMIFS(打撃データー!$S$6:$S$500,打撃データー!$F$6:$F$500,F40,打撃データー!$H$6:$H$500,H40))","v":""},{"$f":"IF(H40=\"\",\"\",SUMIFS(打撃データー!$T$6:$T$500,打撃データー!$F$6:$F$500,F40,打撃データー!$H$6:$H$500,H40))","v":""},{"$f":"IF(H40=\"\",\"\",SUMIFS(打撃データー!$U$6:$U$500,打撃データー!$F$6:$F$500,F40,打撃データー!$H$6:$H$500,H40))","v":""},{"$f":"IF(H40=\"\",\"\",SUMIFS(打撃データー!$V$6:$V$500,打撃データー!$F$6:$F$500,F40,打撃データー!$H$6:$H$500,H40))","v":""},{"$f":"IF(H40=\"\",\"\",SUMIFS(打撃データー!$W$6:$W$500,打撃データー!$F$6:$F$500,F40,打撃データー!$H$6:$H$500,H40))","v":""},{"$f":"IF(H40=\"\",\"\",SUMIFS(打撃データー!$X$6:$X$500,打撃データー!$F$6:$F$500,F40,打撃データー!$H$6:$H$500,H40))","v":""},{"$f":"IF(H40=\"\",\"\",SUMIFS(打撃データー!$Y$6:$Y$500,打撃データー!$F$6:$F$500,F40,打撃データー!$H$6:$H$500,H40))","v":""},{"$f":"IF(H40=\"\",\"\",SUMIFS(打撃データー!$Z$6:$Z$500,打撃データー!$F$6:$F$500,F40,打撃データー!$H$6:$H$500,H40))","v":""},{"$f":"IF(H40=\"\",\"\",SUMIFS(打撃データー!$AA$6:$AA$500,打撃データー!$F$6:$F$500,F40,打撃データー!$H$6:$H$500,H40))","v":""},{"$f":"IF(G40=\"\",\"\",SUMIFS(打撃データー!$AC$6:$AC$337,打撃データー!$E$6:$E$337,$E$9,打撃データー!$G$6:$G$337,G40))","v":""},{"$f":"IF(G40=\"\",\"\",SUMIFS(打撃データー!$BE$6:$BE$337,打撃データー!$AG$6:$AG$337,F40,打撃データー!$AH$6:$AH$337,G40))","v":""},{"$f":"IF(G40=\"\",\"\",SUMIFS(打撃データー!$BF$6:$BF$337,打撃データー!$AG$6:$AG$337,F40,打撃データー!$AH$6:$AH$337,G40))","v":""},null,null,"","","","","",null,null,null,null,null,"","","",{"$f":"IF(AR40=\"\",\"\",SUMIFS(打撃データー!$BK$6:$BK$500,打撃データー!$BH$6:$BH$500,AQ40,打撃データー!$BI$6:$BI$500,AR40))","v":""},{"$f":"IF(AR40=\"\",\"\",SUMIFS(打撃データー!$BL$6:$BL$500,打撃データー!$BH$6:$BH$500,AQ40,打撃データー!$BI$6:$BI$500,AR40))","v":""},{"$f":"IF(AR40=\"\",\"\",SUMIFS(打撃データー!$BM$6:$BM$500,打撃データー!$BH$6:$BH$500,AQ40,打撃データー!$BI$6:$BI$500,AR40))","v":""},{"$f":"IF(AR40=\"\",\"\",SUMIFS(打撃データー!$BN$6:$BN$500,打撃データー!$BH$6:$BH$500,AQ40,打撃データー!$BI$6:$BI$500,$AR40))","v":""},{"$f":"IF(AR40=\"\",\"\",SUMIFS(打撃データー!$BO$6:$BO$500,打撃データー!$BH$6:$BH$500,AQ40,打撃データー!$BI$6:$BI$500,AR40))","v":""},{"$f":"IF(AR40=\"\",\"\",SUMIFS(打撃データー!$BP$6:$BP$500,打撃データー!$BH$6:$BH$500,AQ40,打撃データー!$BI$6:$BI$500,AR40))","v":""},{"$f":"IF(AR40=\"\",\"\",SUMIFS(打撃データー!$BQ$6:$BQ$500,打撃データー!$BH$6:$BH$500,AQ40,打撃データー!$BI$6:$BI$500,AR40))","v":""},{"$f":"IF(AR40=\"\",\"\",SUMIFS(打撃データー!$BR$6:$BR$500,打撃データー!$BH$6:$BH$500,AQ40,打撃データー!$BI$6:$BI$500,AR40))","v":""},{"$f":"IF(AR40=\"\",\"\",SUMIFS(打撃データー!$BS$6:$BS$500,打撃データー!$BH$6:$BH$500,AQ40,打撃データー!$BI$6:$BI$500,AR40))","v":""},{"$f":"IF(AR40=\"\",\"\",COUNTIFS(打撃データー!BH37:BH531,AQ40,打撃データー!BI37:BI531,AR40))","v":""},null,"","","",null,null,{"$f":"IF(戦績!O37=\"\",\"\",戦績!O37)","v":""},{"$f":"IF(BJ40=\"\",\"\",VLOOKUP(BJ40,戦績!$O$6:$U$38,7,FALSE))","v":""},{"$f":"IF(BK40=\"\",\"\",SUMIF(打撃データー!$BH$6:$BH$500,BK40,打撃データー!$BV$6:$BV$500))","v":""},{"$f":"IF(BK40=\"\",\"\",SUMIF(打撃データー!$BH$6:$BH$500,BK40,打撃データー!$BW$6:$BW$500))","v":""},{"$f":"IF(BK40=\"\",\"\",SUMIF(打撃データー!$BH$6:$BH$500,BK40,打撃データー!$BX$6:$BX$500))","v":""},"","","",null,null,null,null,"",""]
[null,null,null,null,null,null,null,null,null,null,null,null,null,null,null,null,null,null,null,null,null,null,null,null,null,null,null,null,null,null,null,null,null,null,null,null,null,null,null,null,null,null,null,null,null,null,null,null,null,null,null,null,null,null,null,null,null,null,null,null,null,{"$f":"IF(戦績!O38=\"\",\"\",戦績!O38)","v":""},{"$f":"IF(BJ41=\"\",\"\",VLOOKUP(BJ41,戦績!$O$6:$U$38,7,FALSE))","v":""},{"$f":"IF(BK41=\"\",\"\",SUMIF(打撃データー!$BH$6:$BH$500,BK41,打撃データー!$BV$6:$BV$500))","v":""},{"$f":"IF(BK41=\"\",\"\",SUMIF(打撃データー!$BH$6:$BH$500,BK41,打撃データー!$BW$6:$BW$500))","v":""},{"$f":"IF(BK41=\"\",\"\",SUMIF(打撃データー!$BH$6:$BH$500,BK41,打撃データー!$BX$6:$BX$500))","v":""},"","",""]
[]
[]
[]
[]
[]
[]
[null,null,null,null,null,null,"↓チームのリスト選択",null,null,null,null,null,null,null,null,null,null,null,null,null,null,null,null,null,null,null,null,null,"得点圏",null,null,null,null,null,null,null,"得点圏"]
[null,null,null,null,null,null,"チーム名","T番","打席","打数","凡打","安打","二打","三打","本打","打点","得点","三振","四球","死球","犠打","犠飛","盗塁","盗死","併殺","敵失","投数","塁打","打数","安打",null,null,"打率","長打率","出塁率","OPS","打率"]
[null,null,null,null,null,null,"",{"$f":"IF(G50=\"\",\"\",IFERROR(VLOOKUP($G$50,$G$54:$AD$91,2,FALSE),\"\"))","v":""},{"$f":"IFERROR(VLOOKUP($G$50,$G$54:$AD$91,3,FALSE),\"\")","v":""},{"$f":"IFERROR(VLOOKUP($G$50,$G$54:$AD$91,4,FALSE),\"\")","v":""},{"$f":"IFERROR(VLOOKUP($G$50,$G$54:$AD$91,5,FALSE),\"\")","v":""},{"$f":"IFERROR(VLOOKUP($G$50,$G$54:$AD$91,6,FALSE),\"\")","v":""},{"$f":"IFERROR(VLOOKUP($G$50,$G$54:$AD$91,7,FALSE),\"\")","v":""},{"$f":"IFERROR(VLOOKUP($G$50,$G$54:$AD$91,8,FALSE),\"\")","v":""},{"$f":"IFERROR(VLOOKUP($G$50,$G$54:$AD$91,9,FALSE),\"\")","v":""},{"$f":"IFERROR(VLOOKUP($G$50,$G$54:$AD$91,10,FALSE),\"\")","v":""},{"$f":"IFERROR(VLOOKUP($G$50,$G$54:$AD$91,11,FALSE),\"\")","v":""},{"$f":"IFERROR(VLOOKUP($G$50,$G$54:$AD$91,12,FALSE),\"\")","v":""},{"$f":"IFERROR(VLOOKUP($G$50,$G$54:$AD$91,13,FALSE),\"\")","v":""},{"$f":"IFERROR(VLOOKUP($G$50,$G$54:$AD$91,14,FALSE),\"\")","v":""},{"$f":"IFERROR(VLOOKUP($G$50,$G$54:$AD$91,15,FALSE),\"\")","v":""},{"$f":"IFERROR(VLOOKUP($G$50,$G$54:$AD$91,16,FALSE),\"\")","v":""},{"$f":"IFERROR(VLOOKUP($G$50,$G$54:$AD$91,17,FALSE),\"\")","v":""},{"$f":"IFERROR(VLOOKUP($G$50,$G$54:$AD$91,18,FALSE),\"\")","v":""},{"$f":"IFERROR(VLOOKUP($G$50,$G$54:$AD$91,19,FALSE),\"\")","v":""},{"$f":"IFERROR(VLOOKUP($G$50,$G$54:$AD$91,20,FALSE),\"\")","v":""},{"$f":"IFERROR(VLOOKUP($G$50,$G$54:$AD$91,21,FALSE),\"\")","v":""},{"$f":"IFERROR(VLOOKUP($G$50,$G$54:$AD$91,22,FALSE),\"\")","v":""},{"$f":"IFERROR(VLOOKUP($G$50,$G$54:$AD$91,23,FALSE),\"\")","v":""},{"$f":"IFERROR(VLOOKUP($G$50,$G$54:$AD$91,24,FALSE),\"\")","v":""},null,null,{"$f":"IFERROR((L50+M50+N50+O50)/J50,\"\")","v":""},{"$f":"IFERROR(AB50/J50,\"\")","v":""},{"$f":"IFERROR((L50+M50+N50+O50+S50+T50)/(J50+S50+T50+V50),\"\")","v":""},{"$f":"IFERROR((AH50+AI50),\"\")","v":""},{"$f":"IFERROR(AD50/AC50,\"\")","v":""}]
[]
[null,null,null,null,null,null,"↓チーム別打撃成績",null,null,null,null,null,null,null,null,null,null,null,null,null,null,null,null,null,null,null,null,null,"得点圏",null,null,null,null,null,null,null,"得点圏"]
[null,null,null,null,null,"試数","チーム名","T番","打席","打数","凡打","安打","二打","三打","本打","打点","得点","三振","四球","死球","犠打","犠飛","盗塁","盗死","併殺","敵失","投数","塁打","打数","安打",null,null,"打率","長打率","出塁率","OPS","打率"]
[null,null,null,null,null,{"$f":"VLOOKUP(H54,戦績!$N$6:$P$38,3,FALSE)","v":""},{"$f":"IF(F54=\"\",\"\",VLOOKUP(H54,戦績!$N$6:$O$39,2,FALSE))","v":""},"A",{"$f":"IF(G54=\"\",\"\",SUMIF(打撃データー!$F$6:$F$500,H54,打撃データー!$I$6:$I$500))","v":""},{"$f":"IF(G54=\"\",\"\",SUMIF(打撃データー!$F$6:$F$500,H54,打撃データー!$J$6:$J$500))","v":""},{"$f":"IF(G54=\"\",\"\",SUMIF(打撃データー!$F$6:$F$500,H54,打撃データー!$K$6:$K$500))","v":""},{"$f":"IF(G54=\"\",\"\",SUMIF(打撃データー!$F$6:$F$500,H54,打撃データー!$L$6:$L$500))","v":""},{"$f":"IF(G54=\"\",\"\",SUMIF(打撃データー!$F$6:$F$500,H54,打撃データー!$M$6:$M$500))","v":""},{"$f":"IF(G54=\"\",\"\",SUMIF(打撃データー!$F$6:$F$500,H54,打撃データー!$N$6:$N$500))","v":""},{"$f":"IF(G54=\"\",\"\",SUMIF(打撃データー!$F$6:$F$500,H54,打撃データー!$O$6:$O$500))","v":""},{"$f":"IF(G54=\"\",\"\",SUMIF(打撃データー!$F$6:$F$500,H54,打撃データー!$P$6:$P$500))","v":""},{"$f":"IF(G54=\"\",\"\",SUMIF(打撃データー!$F$6:$F$500,H54,打撃データー!$Q$6:$Q$500))","v":""},{"$f":"IF(G54=\"\",\"\",SUMIF(打撃データー!$F$6:$F$500,H54,打撃データー!$R$6:$R$500))","v":""},{"$f":"IF(G54=\"\",\"\",SUMIF(打撃データー!$F$6:$F$500,H54,打撃データー!$S$6:$S$500))","v":""},{"$f":"IF(G54=\"\",\"\",SUMIF(打撃データー!$F$6:$F$500,H54,打撃データー!$T$6:$T$500))","v":""},{"$f":"IF(G54=\"\",\"\",SUMIF(打撃データー!$F$6:$F$500,H54,打撃データー!$U$6:$U$500))","v":""},{"$f":"IF(G54=\"\",\"\",SUMIF(打撃データー!$F$6:$F$500,H54,打撃データー!$V$6:$V$500))","v":""},{"$f":"IF(G54=\"\",\"\",SUMIF(打撃データー!$F$6:$F$500,H54,打撃データー!$W$6:$W$500))","v":""},{"$f":"IF(G54=\"\",\"\",SUMIF(打撃データー!$F$6:$F$500,H54,打撃データー!$X$6:$X$500))","v":""},{"$f":"IF(G54=\"\",\"\",SUMIF(打撃データー!$F$6:$F$500,H54,打撃データー!$Y$6:$Y$500))","v":""},{"$f":"IF(G54=\"\",\"\",SUMIF(打撃データー!$F$6:$F$500,H54,打撃データー!$Z$6:$Z$500))","v":""},{"$f":"IF(G54=\"\",\"\",SUMIF(打撃データー!$F$6:$F$500,H54,打撃データー!$AA$6:$AA$500))","v":""},{"$f":"IF(G54=\"\",\"\",SUMIF(打撃データー!$F$6:$F$500,H54,打撃データー!$AC$6:$AC$500))","v":""},{"$f":"IF(G54=\"\",\"\",SUMIF(打撃データー!$AG$6:$AG$337,H54,打撃データー!$BE$6:$BE$337))","v":""},{"$f":"IF(G54=\"\",\"\",SUMIF(打撃データー!$AG$6:$AG$337,H54,打撃データー!$BF$6:$BF$337))","v":""},null,null,{"$f":"IF(G54=\"\",\"\",IFERROR((L54+M54+N54+O54)/J54,\"無\"))","v":""},{"$f":"IF(G54=\"\",\"\",IFERROR(AB54/J54,\"無\"))","v":""},{"$f":"IF(G54=\"\",\"\",IFERROR((L54+M54+N54+O54+S54+T54)/(J54+S54+T54+V54),\"無\"))","v":""},{"$f":"IF(G54=\"\",\"\",IFERROR((AH54+AI54),\"無\"))","v":""},{"$f":"IF(G54=\"\",\"\",IFERROR(AD54/AC54,\"無\"))","v":""}]
[null,null,null,null,null,{"$f":"VLOOKUP(H55,戦績!$N$6:$P$38,3,FALSE)","v":""},{"$f":"IF(F55=\"\",\"\",VLOOKUP(H55,戦績!$N$6:$O$39,2,FALSE))","v":""},"B",{"$f":"IF(G55=\"\",\"\",SUMIF(打撃データー!$F$6:$F$500,H55,打撃データー!$I$6:$I$500))","v":""},{"$f":"IF(G55=\"\",\"\",SUMIF(打撃データー!$F$6:$F$500,H55,打撃データー!$J$6:$J$500))","v":""},{"$f":"IF(G55=\"\",\"\",SUMIF(打撃データー!$F$6:$F$500,H55,打撃データー!$K$6:$K$500))","v":""},{"$f":"IF(G55=\"\",\"\",SUMIF(打撃データー!$F$6:$F$500,H55,打撃データー!$L$6:$L$500))","v":""},{"$f":"IF(G55=\"\",\"\",SUMIF(打撃データー!$F$6:$F$500,H55,打撃データー!$M$6:$M$500))","v":""},{"$f":"IF(G55=\"\",\"\",SUMIF(打撃データー!$F$6:$F$500,H55,打撃データー!$N$6:$N$500))","v":""},{"$f":"IF(G55=\"\",\"\",SUMIF(打撃データー!$F$6:$F$500,H55,打撃データー!$O$6:$O$500))","v":""},{"$f":"IF(G55=\"\",\"\",SUMIF(打撃データー!$F$6:$F$500,H55,打撃データー!$P$6:$P$500))","v":""},{"$f":"IF(G55=\"\",\"\",SUMIF(打撃データー!$F$6:$F$500,H55,打撃データー!$Q$6:$Q$500))","v":""},{"$f":"IF(G55=\"\",\"\",SUMIF(打撃データー!$F$6:$F$500,H55,打撃データー!$R$6:$R$500))","v":""},{"$f":"IF(G55=\"\",\"\",SUMIF(打撃データー!$F$6:$F$500,H55,打撃データー!$S$6:$S$500))","v":""},{"$f":"IF(G55=\"\",\"\",SUMIF(打撃データー!$F$6:$F$500,H55,打撃データー!$T$6:$T$500))","v":""},{"$f":"IF(G55=\"\",\"\",SUMIF(打撃データー!$F$6:$F$500,H55,打撃データー!$U$6:$U$500))","v":""},{"$f":"IF(G55=\"\",\"\",SUMIF(打撃データー!$F$6:$F$500,H55,打撃データー!$V$6:$V$500))","v":""},{"$f":"IF(G55=\"\",\"\",SUMIF(打撃データー!$F$6:$F$500,H55,打撃データー!$W$6:$W$500))","v":""},{"$f":"IF(G55=\"\",\"\",SUMIF(打撃データー!$F$6:$F$500,H55,打撃データー!$X$6:$X$500))","v":""},{"$f":"IF(G55=\"\",\"\",SUMIF(打撃データー!$F$6:$F$500,H55,打撃データー!$Y$6:$Y$500))","v":""},{"$f":"IF(G55=\"\",\"\",SUMIF(打撃データー!$F$6:$F$500,H55,打撃データー!$Z$6:$Z$500))","v":""},{"$f":"IF(G55=\"\",\"\",SUMIF(打撃データー!$F$6:$F$500,H55,打撃データー!$AA$6:$AA$500))","v":""},{"$f":"IF(G55=\"\",\"\",SUMIF(打撃データー!$F$6:$F$500,H55,打撃データー!$AC$6:$AC$500))","v":""},{"$f":"IF(G55=\"\",\"\",SUMIF(打撃データー!$AG$6:$AG$337,H55,打撃データー!$BE$6:$BE$337))","v":""},{"$f":"IF(G55=\"\",\"\",SUMIF(打撃データー!$AG$6:$AG$337,H55,打撃データー!$BF$6:$BF$337))","v":""},null,null,{"$f":"IF(G55=\"\",\"\",IFERROR((L55+M55+N55+O55)/J55,\"無\"))","v":""},{"$f":"IF(G55=\"\",\"\",IFERROR(AB55/J55,\"無\"))","v":""},{"$f":"IF(G55=\"\",\"\",IFERROR((L55+M55+N55+O55+S55+T55)/(J55+S55+T55+V55),\"無\"))","v":""},{"$f":"IF(G55=\"\",\"\",IFERROR((AH55+AI55),\"無\"))","v":""},{"$f":"IF(G55=\"\",\"\",IFERROR(AD55/AC55,\"無\"))","v":""}]
[null,null,null,null,null,{"$f":"VLOOKUP(H56,戦績!$N$6:$P$38,3,FALSE)","v":""},{"$f":"IF(F56=\"\",\"\",VLOOKUP(H56,戦績!$N$6:$O$39,2,FALSE))","v":""},"C",{"$f":"IF(G56=\"\",\"\",SUMIF(打撃データー!$F$6:$F$500,H56,打撃データー!$I$6:$I$500))","v":""},{"$f":"IF(G56=\"\",\"\",SUMIF(打撃データー!$F$6:$F$500,H56,打撃データー!$J$6:$J$500))","v":""},{"$f":"IF(G56=\"\",\"\",SUMIF(打撃データー!$F$6:$F$500,H56,打撃データー!$K$6:$K$500))","v":""},{"$f":"IF(G56=\"\",\"\",SUMIF(打撃データー!$F$6:$F$500,H56,打撃データー!$L$6:$L$500))","v":""},{"$f":"IF(G56=\"\",\"\",SUMIF(打撃データー!$F$6:$F$500,H56,打撃データー!$M$6:$M$500))","v":""},{"$f":"IF(G56=\"\",\"\",SUMIF(打撃データー!$F$6:$F$500,H56,打撃データー!$N$6:$N$500))","v":""},{"$f":"IF(G56=\"\",\"\",SUMIF(打撃データー!$F$6:$F$500,H56,打撃データー!$O$6:$O$500))","v":""},{"$f":"IF(G56=\"\",\"\",SUMIF(打撃データー!$F$6:$F$500,H56,打撃データー!$P$6:$P$500))","v":""},{"$f":"IF(G56=\"\",\"\",SUMIF(打撃データー!$F$6:$F$500,H56,打撃データー!$Q$6:$Q$500))","v":""},{"$f":"IF(G56=\"\",\"\",SUMIF(打撃データー!$F$6:$F$500,H56,打撃データー!$R$6:$R$500))","v":""},{"$f":"IF(G56=\"\",\"\",SUMIF(打撃データー!$F$6:$F$500,H56,打撃データー!$S$6:$S$500))","v":""},{"$f":"IF(G56=\"\",\"\",SUMIF(打撃データー!$F$6:$F$500,H56,打撃データー!$T$6:$T$500))","v":""},{"$f":"IF(G56=\"\",\"\",SUMIF(打撃データー!$F$6:$F$500,H56,打撃データー!$U$6:$U$500))","v":""},{"$f":"IF(G56=\"\",\"\",SUMIF(打撃データー!$F$6:$F$500,H56,打撃データー!$V$6:$V$500))","v":""},{"$f":"IF(G56=\"\",\"\",SUMIF(打撃データー!$F$6:$F$500,H56,打撃データー!$W$6:$W$500))","v":""},{"$f":"IF(G56=\"\",\"\",SUMIF(打撃データー!$F$6:$F$500,H56,打撃データー!$X$6:$X$500))","v":""},{"$f":"IF(G56=\"\",\"\",SUMIF(打撃データー!$F$6:$F$500,H56,打撃データー!$Y$6:$Y$500))","v":""},{"$f":"IF(G56=\"\",\"\",SUMIF(打撃データー!$F$6:$F$500,H56,打撃データー!$Z$6:$Z$500))","v":""},{"$f":"IF(G56=\"\",\"\",SUMIF(打撃データー!$F$6:$F$500,H56,打撃データー!$AA$6:$AA$500))","v":""},{"$f":"IF(G56=\"\",\"\",SUMIF(打撃データー!$F$6:$F$500,H56,打撃データー!$AC$6:$AC$500))","v":""},{"$f":"IF(G56=\"\",\"\",SUMIF(打撃データー!$AG$6:$AG$337,H56,打撃データー!$BE$6:$BE$337))","v":""},{"$f":"IF(G56=\"\",\"\",SUMIF(打撃データー!$AG$6:$AG$337,H56,打撃データー!$BF$6:$BF$337))","v":""},null,null,"","","","",""]
[null,null,null,null,null,{"$f":"VLOOKUP(H57,戦績!$N$6:$P$38,3,FALSE)","v":""},{"$f":"IF(F57=\"\",\"\",VLOOKUP(H57,戦績!$N$6:$O$39,2,FALSE))","v":""},"D",{"$f":"IF(G57=\"\",\"\",SUMIF(打撃データー!$F$6:$F$500,H57,打撃データー!$I$6:$I$500))","v":""},{"$f":"IF(G57=\"\",\"\",SUMIF(打撃データー!$F$6:$F$500,H57,打撃データー!$J$6:$J$500))","v":""},{"$f":"IF(G57=\"\",\"\",SUMIF(打撃データー!$F$6:$F$500,H57,打撃データー!$K$6:$K$500))","v":""},{"$f":"IF(G57=\"\",\"\",SUMIF(打撃データー!$F$6:$F$500,H57,打撃データー!$L$6:$L$500))","v":""},{"$f":"IF(G57=\"\",\"\",SUMIF(打撃データー!$F$6:$F$500,H57,打撃データー!$M$6:$M$500))","v":""},{"$f":"IF(G57=\"\",\"\",SUMIF(打撃データー!$F$6:$F$500,H57,打撃データー!$N$6:$N$500))","v":""},{"$f":"IF(G57=\"\",\"\",SUMIF(打撃データー!$F$6:$F$500,H57,打撃データー!$O$6:$O$500))","v":""},{"$f":"IF(G57=\"\",\"\",SUMIF(打撃データー!$F$6:$F$500,H57,打撃データー!$P$6:$P$500))","v":""},{"$f":"IF(G57=\"\",\"\",SUMIF(打撃データー!$F$6:$F$500,H57,打撃データー!$Q$6:$Q$500))","v":""},{"$f":"IF(G57=\"\",\"\",SUMIF(打撃データー!$F$6:$F$500,H57,打撃データー!$R$6:$R$500))","v":""},{"$f":"IF(G57=\"\",\"\",SUMIF(打撃データー!$F$6:$F$500,H57,打撃データー!$S$6:$S$500))","v":""},{"$f":"IF(G57=\"\",\"\",SUMIF(打撃データー!$F$6:$F$500,H57,打撃データー!$T$6:$T$500))","v":""},{"$f":"IF(G57=\"\",\"\",SUMIF(打撃データー!$F$6:$F$500,H57,打撃データー!$U$6:$U$500))","v":""},{"$f":"IF(G57=\"\",\"\",SUMIF(打撃データー!$F$6:$F$500,H57,打撃データー!$V$6:$V$500))","v":""},{"$f":"IF(G57=\"\",\"\",SUMIF(打撃データー!$F$6:$F$500,H57,打撃データー!$W$6:$W$500))","v":""},{"$f":"IF(G57=\"\",\"\",SUMIF(打撃データー!$F$6:$F$500,H57,打撃データー!$X$6:$X$500))","v":""},{"$f":"IF(G57=\"\",\"\",SUMIF(打撃データー!$F$6:$F$500,H57,打撃データー!$Y$6:$Y$500))","v":""},{"$f":"IF(G57=\"\",\"\",SUMIF(打撃データー!$F$6:$F$500,H57,打撃データー!$Z$6:$Z$500))","v":""},{"$f":"IF(G57=\"\",\"\",SUMIF(打撃データー!$F$6:$F$500,H57,打撃データー!$AA$6:$AA$500))","v":""},{"$f":"IF(G57=\"\",\"\",SUMIF(打撃データー!$F$6:$F$500,H57,打撃データー!$AC$6:$AC$500))","v":""},{"$f":"IF(G57=\"\",\"\",SUMIF(打撃データー!$AG$6:$AG$337,H57,打撃データー!$BE$6:$BE$337))","v":""},{"$f":"IF(G57=\"\",\"\",SUMIF(打撃データー!$AG$6:$AG$337,H57,打撃データー!$BF$6:$BF$337))","v":""},null,null,{"$f":"IF(G57=\"\",\"\",IFERROR((L57+M57+N57+O57)/J57,\"無\"))","v":""},"","","",""]
[null,null,null,null,null,{"$f":"VLOOKUP(H58,戦績!$N$6:$P$38,3,FALSE)","v":""},{"$f":"IF(F58=\"\",\"\",VLOOKUP(H58,戦績!$N$6:$O$39,2,FALSE))","v":""},"E",{"$f":"IF(G58=\"\",\"\",SUMIF(打撃データー!$F$6:$F$500,H58,打撃データー!$I$6:$I$500))","v":""},{"$f":"IF(G58=\"\",\"\",SUMIF(打撃データー!$F$6:$F$500,H58,打撃データー!$J$6:$J$500))","v":""},{"$f":"IF(G58=\"\",\"\",SUMIF(打撃データー!$F$6:$F$500,H58,打撃データー!$K$6:$K$500))","v":""},{"$f":"IF(G58=\"\",\"\",SUMIF(打撃データー!$F$6:$F$500,H58,打撃データー!$L$6:$L$500))","v":""},{"$f":"IF(G58=\"\",\"\",SUMIF(打撃データー!$F$6:$F$500,H58,打撃データー!$M$6:$M$500))","v":""},{"$f":"IF(G58=\"\",\"\",SUMIF(打撃データー!$F$6:$F$500,H58,打撃データー!$N$6:$N$500))","v":""},{"$f":"IF(G58=\"\",\"\",SUMIF(打撃データー!$F$6:$F$500,H58,打撃データー!$O$6:$O$500))","v":""},{"$f":"IF(G58=\"\",\"\",SUMIF(打撃データー!$F$6:$F$500,H58,打撃データー!$P$6:$P$500))","v":""},{"$f":"IF(G58=\"\",\"\",SUMIF(打撃データー!$F$6:$F$500,H58,打撃データー!$Q$6:$Q$500))","v":""},{"$f":"IF(G58=\"\",\"\",SUMIF(打撃データー!$F$6:$F$500,H58,打撃データー!$R$6:$R$500))","v":""},{"$f":"IF(G58=\"\",\"\",SUMIF(打撃データー!$F$6:$F$500,H58,打撃データー!$S$6:$S$500))","v":""},{"$f":"IF(G58=\"\",\"\",SUMIF(打撃データー!$F$6:$F$500,H58,打撃データー!$T$6:$T$500))","v":""},{"$f":"IF(G58=\"\",\"\",SUMIF(打撃データー!$F$6:$F$500,H58,打撃データー!$U$6:$U$500))","v":""},{"$f":"IF(G58=\"\",\"\",SUMIF(打撃データー!$F$6:$F$500,H58,打撃データー!$V$6:$V$500))","v":""},{"$f":"IF(G58=\"\",\"\",SUMIF(打撃データー!$F$6:$F$500,H58,打撃データー!$W$6:$W$500))","v":""},{"$f":"IF(G58=\"\",\"\",SUMIF(打撃データー!$F$6:$F$500,H58,打撃データー!$X$6:$X$500))","v":""},{"$f":"IF(G58=\"\",\"\",SUMIF(打撃データー!$F$6:$F$500,H58,打撃データー!$Y$6:$Y$500))","v":""},{"$f":"IF(G58=\"\",\"\",SUMIF(打撃データー!$F$6:$F$500,H58,打撃データー!$Z$6:$Z$500))","v":""},{"$f":"IF(G58=\"\",\"\",SUMIF(打撃データー!$F$6:$F$500,H58,打撃データー!$AA$6:$AA$500))","v":""},{"$f":"IF(G58=\"\",\"\",SUMIF(打撃データー!$F$6:$F$500,H58,打撃データー!$AC$6:$AC$500))","v":""},{"$f":"IF(G58=\"\",\"\",SUMIF(打撃データー!$AG$6:$AG$337,H58,打撃データー!$BE$6:$BE$337))","v":""},{"$f":"IF(G58=\"\",\"\",SUMIF(打撃データー!$AG$6:$AG$337,H58,打撃データー!$BF$6:$BF$337))","v":""},null,null,"","","","",""]
[null,null,null,null,null,{"$f":"VLOOKUP(H59,戦績!$N$6:$P$38,3,FALSE)","v":""},{"$f":"IF(F59=\"\",\"\",VLOOKUP(H59,戦績!$N$6:$O$39,2,FALSE))","v":""},"F",{"$f":"IF(G59=\"\",\"\",SUMIF(打撃データー!$F$6:$F$500,H59,打撃データー!$I$6:$I$500))","v":""},{"$f":"IF(G59=\"\",\"\",SUMIF(打撃データー!$F$6:$F$500,H59,打撃データー!$J$6:$J$500))","v":""},{"$f":"IF(G59=\"\",\"\",SUMIF(打撃データー!$F$6:$F$500,H59,打撃データー!$K$6:$K$500))","v":""},{"$f":"IF(G59=\"\",\"\",SUMIF(打撃データー!$F$6:$F$500,H59,打撃データー!$L$6:$L$500))","v":""},{"$f":"IF(G59=\"\",\"\",SUMIF(打撃データー!$F$6:$F$500,H59,打撃データー!$M$6:$M$500))","v":""},{"$f":"IF(G59=\"\",\"\",SUMIF(打撃データー!$F$6:$F$500,H59,打撃データー!$N$6:$N$500))","v":""},{"$f":"IF(G59=\"\",\"\",SUMIF(打撃データー!$F$6:$F$500,H59,打撃データー!$O$6:$O$500))","v":""},{"$f":"IF(G59=\"\",\"\",SUMIF(打撃データー!$F$6:$F$500,H59,打撃データー!$P$6:$P$500))","v":""},{"$f":"IF(G59=\"\",\"\",SUMIF(打撃データー!$F$6:$F$500,H59,打撃データー!$Q$6:$Q$500))","v":""},{"$f":"IF(G59=\"\",\"\",SUMIF(打撃データー!$F$6:$F$500,H59,打撃データー!$R$6:$R$500))","v":""},{"$f":"IF(G59=\"\",\"\",SUMIF(打撃データー!$F$6:$F$500,H59,打撃データー!$S$6:$S$500))","v":""},{"$f":"IF(G59=\"\",\"\",SUMIF(打撃データー!$F$6:$F$500,H59,打撃データー!$T$6:$T$500))","v":""},{"$f":"IF(G59=\"\",\"\",SUMIF(打撃データー!$F$6:$F$500,H59,打撃データー!$U$6:$U$500))","v":""},{"$f":"IF(G59=\"\",\"\",SUMIF(打撃データー!$F$6:$F$500,H59,打撃データー!$V$6:$V$500))","v":""},{"$f":"IF(G59=\"\",\"\",SUMIF(打撃データー!$F$6:$F$500,H59,打撃データー!$W$6:$W$500))","v":""},{"$f":"IF(G59=\"\",\"\",SUMIF(打撃データー!$F$6:$F$500,H59,打撃データー!$X$6:$X$500))","v":""},{"$f":"IF(G59=\"\",\"\",SUMIF(打撃データー!$F$6:$F$500,H59,打撃データー!$Y$6:$Y$500))","v":""},{"$f":"IF(G59=\"\",\"\",SUMIF(打撃データー!$F$6:$F$500,H59,打撃データー!$Z$6:$Z$500))","v":""},{"$f":"IF(G59=\"\",\"\",SUMIF(打撃データー!$F$6:$F$500,H59,打撃データー!$AA$6:$AA$500))","v":""},{"$f":"IF(G59=\"\",\"\",SUMIF(打撃データー!$F$6:$F$500,H59,打撃データー!$AC$6:$AC$500))","v":""},{"$f":"IF(G59=\"\",\"\",SUMIF(打撃データー!$AG$6:$AG$337,H59,打撃データー!$BE$6:$BE$337))","v":""},{"$f":"IF(G59=\"\",\"\",SUMIF(打撃データー!$AG$6:$AG$337,H59,打撃データー!$BF$6:$BF$337))","v":""},null,null,"","","","",""]
[null,null,null,null,null,{"$f":"VLOOKUP(H60,戦績!$N$6:$P$38,3,FALSE)","v":""},{"$f":"IF(F60=\"\",\"\",VLOOKUP(H60,戦績!$N$6:$O$39,2,FALSE))","v":""},"G",{"$f":"IF(G60=\"\",\"\",SUMIF(打撃データー!$F$6:$F$500,H60,打撃データー!$I$6:$I$500))","v":""},{"$f":"IF(G60=\"\",\"\",SUMIF(打撃データー!$F$6:$F$500,H60,打撃データー!$J$6:$J$500))","v":""},{"$f":"IF(G60=\"\",\"\",SUMIF(打撃データー!$F$6:$F$500,H60,打撃データー!$K$6:$K$500))","v":""},{"$f":"IF(G60=\"\",\"\",SUMIF(打撃データー!$F$6:$F$500,H60,打撃データー!$L$6:$L$500))","v":""},{"$f":"IF(G60=\"\",\"\",SUMIF(打撃データー!$F$6:$F$500,H60,打撃データー!$M$6:$M$500))","v":""},{"$f":"IF(G60=\"\",\"\",SUMIF(打撃データー!$F$6:$F$500,H60,打撃データー!$N$6:$N$500))","v":""},{"$f":"IF(G60=\"\",\"\",SUMIF(打撃データー!$F$6:$F$500,H60,打撃データー!$O$6:$O$500))","v":""},{"$f":"IF(G60=\"\",\"\",SUMIF(打撃データー!$F$6:$F$500,H60,打撃データー!$P$6:$P$500))","v":""},{"$f":"IF(G60=\"\",\"\",SUMIF(打撃データー!$F$6:$F$500,H60,打撃データー!$Q$6:$Q$500))","v":""},{"$f":"IF(G60=\"\",\"\",SUMIF(打撃データー!$F$6:$F$500,H60,打撃データー!$R$6:$R$500))","v":""},{"$f":"IF(G60=\"\",\"\",SUMIF(打撃データー!$F$6:$F$500,H60,打撃データー!$S$6:$S$500))","v":""},{"$f":"IF(G60=\"\",\"\",SUMIF(打撃データー!$F$6:$F$500,H60,打撃データー!$T$6:$T$500))","v":""},{"$f":"IF(G60=\"\",\"\",SUMIF(打撃データー!$F$6:$F$500,H60,打撃データー!$U$6:$U$500))","v":""},{"$f":"IF(G60=\"\",\"\",SUMIF(打撃データー!$F$6:$F$500,H60,打撃データー!$V$6:$V$500))","v":""},{"$f":"IF(G60=\"\",\"\",SUMIF(打撃データー!$F$6:$F$500,H60,打撃データー!$W$6:$W$500))","v":""},{"$f":"IF(G60=\"\",\"\",SUMIF(打撃データー!$F$6:$F$500,H60,打撃データー!$X$6:$X$500))","v":""},{"$f":"IF(G60=\"\",\"\",SUMIF(打撃データー!$F$6:$F$500,H60,打撃データー!$Y$6:$Y$500))","v":""},{"$f":"IF(G60=\"\",\"\",SUMIF(打撃データー!$F$6:$F$500,H60,打撃データー!$Z$6:$Z$500))","v":""},{"$f":"IF(G60=\"\",\"\",SUMIF(打撃データー!$F$6:$F$500,H60,打撃データー!$AA$6:$AA$500))","v":""},{"$f":"IF(G60=\"\",\"\",SUMIF(打撃データー!$F$6:$F$500,H60,打撃データー!$AC$6:$AC$500))","v":""},{"$f":"IF(G60=\"\",\"\",SUMIF(打撃データー!$AG$6:$AG$337,H60,打撃データー!$BE$6:$BE$337))","v":""},{"$f":"IF(G60=\"\",\"\",SUMIF(打撃データー!$AG$6:$AG$337,H60,打撃データー!$BF$6:$BF$337))","v":""},null,null,"","","","",""]
[null,null,null,null,null,{"$f":"VLOOKUP(H61,戦績!$N$6:$P$38,3,FALSE)","v":""},{"$f":"IF(F61=\"\",\"\",VLOOKUP(H61,戦績!$N$6:$O$39,2,FALSE))","v":""},"H",{"$f":"IF(G61=\"\",\"\",SUMIF(打撃データー!$F$6:$F$500,H61,打撃データー!$I$6:$I$500))","v":""},{"$f":"IF(G61=\"\",\"\",SUMIF(打撃データー!$F$6:$F$500,H61,打撃データー!$J$6:$J$500))","v":""},{"$f":"IF(G61=\"\",\"\",SUMIF(打撃データー!$F$6:$F$500,H61,打撃データー!$K$6:$K$500))","v":""},{"$f":"IF(G61=\"\",\"\",SUMIF(打撃データー!$F$6:$F$500,H61,打撃データー!$L$6:$L$500))","v":""},{"$f":"IF(G61=\"\",\"\",SUMIF(打撃データー!$F$6:$F$500,H61,打撃データー!$M$6:$M$500))","v":""},{"$f":"IF(G61=\"\",\"\",SUMIF(打撃データー!$F$6:$F$500,H61,打撃データー!$N$6:$N$500))","v":""},{"$f":"IF(G61=\"\",\"\",SUMIF(打撃データー!$F$6:$F$500,H61,打撃データー!$O$6:$O$500))","v":""},{"$f":"IF(G61=\"\",\"\",SUMIF(打撃データー!$F$6:$F$500,H61,打撃データー!$P$6:$P$500))","v":""},{"$f":"IF(G61=\"\",\"\",SUMIF(打撃データー!$F$6:$F$500,H61,打撃データー!$Q$6:$Q$500))","v":""},{"$f":"IF(G61=\"\",\"\",SUMIF(打撃データー!$F$6:$F$500,H61,打撃データー!$R$6:$R$500))","v":""},{"$f":"IF(G61=\"\",\"\",SUMIF(打撃データー!$F$6:$F$500,H61,打撃データー!$S$6:$S$500))","v":""},{"$f":"IF(G61=\"\",\"\",SUMIF(打撃データー!$F$6:$F$500,H61,打撃データー!$T$6:$T$500))","v":""},{"$f":"IF(G61=\"\",\"\",SUMIF(打撃データー!$F$6:$F$500,H61,打撃データー!$U$6:$U$500))","v":""},{"$f":"IF(G61=\"\",\"\",SUMIF(打撃データー!$F$6:$F$500,H61,打撃データー!$V$6:$V$500))","v":""},{"$f":"IF(G61=\"\",\"\",SUMIF(打撃データー!$F$6:$F$500,H61,打撃データー!$W$6:$W$500))","v":""},{"$f":"IF(G61=\"\",\"\",SUMIF(打撃データー!$F$6:$F$500,H61,打撃データー!$X$6:$X$500))","v":""},{"$f":"IF(G61=\"\",\"\",SUMIF(打撃データー!$F$6:$F$500,H61,打撃データー!$Y$6:$Y$500))","v":""},{"$f":"IF(G61=\"\",\"\",SUMIF(打撃データー!$F$6:$F$500,H61,打撃データー!$Z$6:$Z$500))","v":""},{"$f":"IF(G61=\"\",\"\",SUMIF(打撃データー!$F$6:$F$500,H61,打撃データー!$AA$6:$AA$500))","v":""},{"$f":"IF(G61=\"\",\"\",SUMIF(打撃データー!$F$6:$F$500,H61,打撃データー!$AC$6:$AC$500))","v":""},{"$f":"IF(G61=\"\",\"\",SUMIF(打撃データー!$AG$6:$AG$337,H61,打撃データー!$BE$6:$BE$337))","v":""},{"$f":"IF(G61=\"\",\"\",SUMIF(打撃データー!$AG$6:$AG$337,H61,打撃データー!$BF$6:$BF$337))","v":""},null,null,"","","","",""]
[null,null,null,null,null,{"$f":"VLOOKUP(H62,戦績!$N$6:$P$38,3,FALSE)","v":""},{"$f":"IF(F62=\"\",\"\",VLOOKUP(H62,戦績!$N$6:$O$39,2,FALSE))","v":""},"I",{"$f":"IF(G62=\"\",\"\",SUMIF(打撃データー!$F$6:$F$500,H62,打撃データー!$I$6:$I$500))","v":""},{"$f":"IF(G62=\"\",\"\",SUMIF(打撃データー!$F$6:$F$500,H62,打撃データー!$J$6:$J$500))","v":""},{"$f":"IF(G62=\"\",\"\",SUMIF(打撃データー!$F$6:$F$500,H62,打撃データー!$K$6:$K$500))","v":""},{"$f":"IF(G62=\"\",\"\",SUMIF(打撃データー!$F$6:$F$500,H62,打撃データー!$L$6:$L$500))","v":""},{"$f":"IF(G62=\"\",\"\",SUMIF(打撃データー!$F$6:$F$500,H62,打撃データー!$M$6:$M$500))","v":""},{"$f":"IF(G62=\"\",\"\",SUMIF(打撃データー!$F$6:$F$500,H62,打撃データー!$N$6:$N$500))","v":""},{"$f":"IF(G62=\"\",\"\",SUMIF(打撃データー!$F$6:$F$500,H62,打撃データー!$O$6:$O$500))","v":""},{"$f":"IF(G62=\"\",\"\",SUMIF(打撃データー!$F$6:$F$500,H62,打撃データー!$P$6:$P$500))","v":""},{"$f":"IF(G62=\"\",\"\",SUMIF(打撃データー!$F$6:$F$500,H62,打撃データー!$Q$6:$Q$500))","v":""},{"$f":"IF(G62=\"\",\"\",SUMIF(打撃データー!$F$6:$F$500,H62,打撃データー!$R$6:$R$500))","v":""},{"$f":"IF(G62=\"\",\"\",SUMIF(打撃データー!$F$6:$F$500,H62,打撃データー!$S$6:$S$500))","v":""},{"$f":"IF(G62=\"\",\"\",SUMIF(打撃データー!$F$6:$F$500,H62,打撃データー!$T$6:$T$500))","v":""},{"$f":"IF(G62=\"\",\"\",SUMIF(打撃データー!$F$6:$F$500,H62,打撃データー!$U$6:$U$500))","v":""},{"$f":"IF(G62=\"\",\"\",SUMIF(打撃データー!$F$6:$F$500,H62,打撃データー!$V$6:$V$500))","v":""},{"$f":"IF(G62=\"\",\"\",SUMIF(打撃データー!$F$6:$F$500,H62,打撃データー!$W$6:$W$500))","v":""},{"$f":"IF(G62=\"\",\"\",SUMIF(打撃データー!$F$6:$F$500,H62,打撃データー!$X$6:$X$500))","v":""},{"$f":"IF(G62=\"\",\"\",SUMIF(打撃データー!$F$6:$F$500,H62,打撃データー!$Y$6:$Y$500))","v":""},{"$f":"IF(G62=\"\",\"\",SUMIF(打撃データー!$F$6:$F$500,H62,打撃データー!$Z$6:$Z$500))","v":""},{"$f":"IF(G62=\"\",\"\",SUMIF(打撃データー!$F$6:$F$500,H62,打撃データー!$AA$6:$AA$500))","v":""},{"$f":"IF(G62=\"\",\"\",SUMIF(打撃データー!$F$6:$F$500,H62,打撃データー!$AC$6:$AC$500))","v":""},{"$f":"IF(G62=\"\",\"\",SUMIF(打撃データー!$AG$6:$AG$337,H62,打撃データー!$BE$6:$BE$337))","v":""},{"$f":"IF(G62=\"\",\"\",SUMIF(打撃データー!$AG$6:$AG$337,H62,打撃データー!$BF$6:$BF$337))","v":""},null,null,"","","","",""]
[null,null,null,null,null,{"$f":"VLOOKUP(H63,戦績!$N$6:$P$38,3,FALSE)","v":""},{"$f":"IF(F63=\"\",\"\",VLOOKUP(H63,戦績!$N$6:$O$39,2,FALSE))","v":""},"J",{"$f":"IF(G63=\"\",\"\",SUMIF(打撃データー!$F$6:$F$500,H63,打撃データー!$I$6:$I$500))","v":""},{"$f":"IF(G63=\"\",\"\",SUMIF(打撃データー!$F$6:$F$500,H63,打撃データー!$J$6:$J$500))","v":""},{"$f":"IF(G63=\"\",\"\",SUMIF(打撃データー!$F$6:$F$500,H63,打撃データー!$K$6:$K$500))","v":""},{"$f":"IF(G63=\"\",\"\",SUMIF(打撃データー!$F$6:$F$500,H63,打撃データー!$L$6:$L$500))","v":""},{"$f":"IF(G63=\"\",\"\",SUMIF(打撃データー!$F$6:$F$500,H63,打撃データー!$M$6:$M$500))","v":""},{"$f":"IF(G63=\"\",\"\",SUMIF(打撃データー!$F$6:$F$500,H63,打撃データー!$N$6:$N$500))","v":""},{"$f":"IF(G63=\"\",\"\",SUMIF(打撃データー!$F$6:$F$500,H63,打撃データー!$O$6:$O$500))","v":""},{"$f":"IF(G63=\"\",\"\",SUMIF(打撃データー!$F$6:$F$500,H63,打撃データー!$P$6:$P$500))","v":""},{"$f":"IF(G63=\"\",\"\",SUMIF(打撃データー!$F$6:$F$500,H63,打撃データー!$Q$6:$Q$500))","v":""},{"$f":"IF(G63=\"\",\"\",SUMIF(打撃データー!$F$6:$F$500,H63,打撃データー!$R$6:$R$500))","v":""},{"$f":"IF(G63=\"\",\"\",SUMIF(打撃データー!$F$6:$F$500,H63,打撃データー!$S$6:$S$500))","v":""},{"$f":"IF(G63=\"\",\"\",SUMIF(打撃データー!$F$6:$F$500,H63,打撃データー!$T$6:$T$500))","v":""},{"$f":"IF(G63=\"\",\"\",SUMIF(打撃データー!$F$6:$F$500,H63,打撃データー!$U$6:$U$500))","v":""},{"$f":"IF(G63=\"\",\"\",SUMIF(打撃データー!$F$6:$F$500,H63,打撃データー!$V$6:$V$500))","v":""},{"$f":"IF(G63=\"\",\"\",SUMIF(打撃データー!$F$6:$F$500,H63,打撃データー!$W$6:$W$500))","v":""},{"$f":"IF(G63=\"\",\"\",SUMIF(打撃データー!$F$6:$F$500,H63,打撃データー!$X$6:$X$500))","v":""},{"$f":"IF(G63=\"\",\"\",SUMIF(打撃データー!$F$6:$F$500,H63,打撃データー!$Y$6:$Y$500))","v":""},{"$f":"IF(G63=\"\",\"\",SUMIF(打撃データー!$F$6:$F$500,H63,打撃データー!$Z$6:$Z$500))","v":""},{"$f":"IF(G63=\"\",\"\",SUMIF(打撃データー!$F$6:$F$500,H63,打撃データー!$AA$6:$AA$500))","v":""},{"$f":"IF(G63=\"\",\"\",SUMIF(打撃データー!$F$6:$F$500,H63,打撃データー!$AC$6:$AC$500))","v":""},{"$f":"IF(G63=\"\",\"\",SUMIF(打撃データー!$AG$6:$AG$337,H63,打撃データー!$BE$6:$BE$337))","v":""},{"$f":"IF(G63=\"\",\"\",SUMIF(打撃データー!$AG$6:$AG$337,H63,打撃データー!$BF$6:$BF$337))","v":""},null,null,"","","","",""]
[null,null,null,null,null,{"$f":"VLOOKUP(H64,戦績!$N$6:$P$38,3,FALSE)","v":""},{"$f":"IF(F64=\"\",\"\",VLOOKUP(H64,戦績!$N$6:$O$39,2,FALSE))","v":""},"K",{"$f":"IF(G64=\"\",\"\",SUMIF(打撃データー!$F$6:$F$500,H64,打撃データー!$I$6:$I$500))","v":""},{"$f":"IF(G64=\"\",\"\",SUMIF(打撃データー!$F$6:$F$500,H64,打撃データー!$J$6:$J$500))","v":""},{"$f":"IF(G64=\"\",\"\",SUMIF(打撃データー!$F$6:$F$500,H64,打撃データー!$K$6:$K$500))","v":""},{"$f":"IF(G64=\"\",\"\",SUMIF(打撃データー!$F$6:$F$500,H64,打撃データー!$L$6:$L$500))","v":""},{"$f":"IF(G64=\"\",\"\",SUMIF(打撃データー!$F$6:$F$500,H64,打撃データー!$M$6:$M$500))","v":""},{"$f":"IF(G64=\"\",\"\",SUMIF(打撃データー!$F$6:$F$500,H64,打撃データー!$N$6:$N$500))","v":""},{"$f":"IF(G64=\"\",\"\",SUMIF(打撃データー!$F$6:$F$500,H64,打撃データー!$O$6:$O$500))","v":""},{"$f":"IF(G64=\"\",\"\",SUMIF(打撃データー!$F$6:$F$500,H64,打撃データー!$P$6:$P$500))","v":""},{"$f":"IF(G64=\"\",\"\",SUMIF(打撃データー!$F$6:$F$500,H64,打撃データー!$Q$6:$Q$500))","v":""},{"$f":"IF(G64=\"\",\"\",SUMIF(打撃データー!$F$6:$F$500,H64,打撃データー!$R$6:$R$500))","v":""},{"$f":"IF(G64=\"\",\"\",SUMIF(打撃データー!$F$6:$F$500,H64,打撃データー!$S$6:$S$500))","v":""},{"$f":"IF(G64=\"\",\"\",SUMIF(打撃データー!$F$6:$F$500,H64,打撃データー!$T$6:$T$500))","v":""},{"$f":"IF(G64=\"\",\"\",SUMIF(打撃データー!$F$6:$F$500,H64,打撃データー!$U$6:$U$500))","v":""},{"$f":"IF(G64=\"\",\"\",SUMIF(打撃データー!$F$6:$F$500,H64,打撃データー!$V$6:$V$500))","v":""},{"$f":"IF(G64=\"\",\"\",SUMIF(打撃データー!$F$6:$F$500,H64,打撃データー!$W$6:$W$500))","v":""},{"$f":"IF(G64=\"\",\"\",SUMIF(打撃データー!$F$6:$F$500,H64,打撃データー!$X$6:$X$500))","v":""},{"$f":"IF(G64=\"\",\"\",SUMIF(打撃データー!$F$6:$F$500,H64,打撃データー!$Y$6:$Y$500))","v":""},{"$f":"IF(G64=\"\",\"\",SUMIF(打撃データー!$F$6:$F$500,H64,打撃データー!$Z$6:$Z$500))","v":""},{"$f":"IF(G64=\"\",\"\",SUMIF(打撃データー!$F$6:$F$500,H64,打撃データー!$AA$6:$AA$500))","v":""},{"$f":"IF(G64=\"\",\"\",SUMIF(打撃データー!$F$6:$F$500,H64,打撃データー!$AC$6:$AC$500))","v":""},{"$f":"IF(G64=\"\",\"\",SUMIF(打撃データー!$AG$6:$AG$337,H64,打撃データー!$BE$6:$BE$337))","v":""},{"$f":"IF(G64=\"\",\"\",SUMIF(打撃データー!$AG$6:$AG$337,H64,打撃データー!$BF$6:$BF$337))","v":""},null,null,"","","","",""]
[null,null,null,null,null,{"$f":"VLOOKUP(H65,戦績!$N$6:$P$38,3,FALSE)","v":""},{"$f":"IF(F65=\"\",\"\",VLOOKUP(H65,戦績!$N$6:$O$39,2,FALSE))","v":""},"L",{"$f":"IF(G65=\"\",\"\",SUMIF(打撃データー!$F$6:$F$500,H65,打撃データー!$I$6:$I$500))","v":""},{"$f":"IF(G65=\"\",\"\",SUMIF(打撃データー!$F$6:$F$500,H65,打撃データー!$J$6:$J$500))","v":""},{"$f":"IF(G65=\"\",\"\",SUMIF(打撃データー!$F$6:$F$500,H65,打撃データー!$K$6:$K$500))","v":""},{"$f":"IF(G65=\"\",\"\",SUMIF(打撃データー!$F$6:$F$500,H65,打撃データー!$L$6:$L$500))","v":""},{"$f":"IF(G65=\"\",\"\",SUMIF(打撃データー!$F$6:$F$500,H65,打撃データー!$M$6:$M$500))","v":""},{"$f":"IF(G65=\"\",\"\",SUMIF(打撃データー!$F$6:$F$500,H65,打撃データー!$N$6:$N$500))","v":""},{"$f":"IF(G65=\"\",\"\",SUMIF(打撃データー!$F$6:$F$500,H65,打撃データー!$O$6:$O$500))","v":""},{"$f":"IF(G65=\"\",\"\",SUMIF(打撃データー!$F$6:$F$500,H65,打撃データー!$P$6:$P$500))","v":""},{"$f":"IF(G65=\"\",\"\",SUMIF(打撃データー!$F$6:$F$500,H65,打撃データー!$Q$6:$Q$500))","v":""},{"$f":"IF(G65=\"\",\"\",SUMIF(打撃データー!$F$6:$F$500,H65,打撃データー!$R$6:$R$500))","v":""},{"$f":"IF(G65=\"\",\"\",SUMIF(打撃データー!$F$6:$F$500,H65,打撃データー!$S$6:$S$500))","v":""},{"$f":"IF(G65=\"\",\"\",SUMIF(打撃データー!$F$6:$F$500,H65,打撃データー!$T$6:$T$500))","v":""},{"$f":"IF(G65=\"\",\"\",SUMIF(打撃データー!$F$6:$F$500,H65,打撃データー!$U$6:$U$500))","v":""},{"$f":"IF(G65=\"\",\"\",SUMIF(打撃データー!$F$6:$F$500,H65,打撃データー!$V$6:$V$500))","v":""},{"$f":"IF(G65=\"\",\"\",SUMIF(打撃データー!$F$6:$F$500,H65,打撃データー!$W$6:$W$500))","v":""},{"$f":"IF(G65=\"\",\"\",SUMIF(打撃データー!$F$6:$F$500,H65,打撃データー!$X$6:$X$500))","v":""},{"$f":"IF(G65=\"\",\"\",SUMIF(打撃データー!$F$6:$F$500,H65,打撃データー!$Y$6:$Y$500))","v":""},{"$f":"IF(G65=\"\",\"\",SUMIF(打撃データー!$F$6:$F$500,H65,打撃データー!$Z$6:$Z$500))","v":""},{"$f":"IF(G65=\"\",\"\",SUMIF(打撃データー!$F$6:$F$500,H65,打撃データー!$AA$6:$AA$500))","v":""},{"$f":"IF(G65=\"\",\"\",SUMIF(打撃データー!$F$6:$F$500,H65,打撃データー!$AC$6:$AC$500))","v":""},{"$f":"IF(G65=\"\",\"\",SUMIF(打撃データー!$AG$6:$AG$337,H65,打撃データー!$BE$6:$BE$337))","v":""},{"$f":"IF(G65=\"\",\"\",SUMIF(打撃データー!$AG$6:$AG$337,H65,打撃データー!$BF$6:$BF$337))","v":""},null,null,"","","","",""]
[null,null,null,null,null,{"$f":"VLOOKUP(H66,戦績!$N$6:$P$38,3,FALSE)","v":""},{"$f":"IF(F66=\"\",\"\",VLOOKUP(H66,戦績!$N$6:$O$39,2,FALSE))","v":""},"M",{"$f":"IF(G66=\"\",\"\",SUMIF(打撃データー!$F$6:$F$500,H66,打撃データー!$I$6:$I$500))","v":""},{"$f":"IF(G66=\"\",\"\",SUMIF(打撃データー!$F$6:$F$500,H66,打撃データー!$J$6:$J$500))","v":""},{"$f":"IF(G66=\"\",\"\",SUMIF(打撃データー!$F$6:$F$500,H66,打撃データー!$K$6:$K$500))","v":""},{"$f":"IF(G66=\"\",\"\",SUMIF(打撃データー!$F$6:$F$500,H66,打撃データー!$L$6:$L$500))","v":""},{"$f":"IF(G66=\"\",\"\",SUMIF(打撃データー!$F$6:$F$500,H66,打撃データー!$M$6:$M$500))","v":""},{"$f":"IF(G66=\"\",\"\",SUMIF(打撃データー!$F$6:$F$500,H66,打撃データー!$N$6:$N$500))","v":""},{"$f":"IF(G66=\"\",\"\",SUMIF(打撃データー!$F$6:$F$500,H66,打撃データー!$O$6:$O$500))","v":""},{"$f":"IF(G66=\"\",\"\",SUMIF(打撃データー!$F$6:$F$500,H66,打撃データー!$P$6:$P$500))","v":""},{"$f":"IF(G66=\"\",\"\",SUMIF(打撃データー!$F$6:$F$500,H66,打撃データー!$Q$6:$Q$500))","v":""},{"$f":"IF(G66=\"\",\"\",SUMIF(打撃データー!$F$6:$F$500,H66,打撃データー!$R$6:$R$500))","v":""},{"$f":"IF(G66=\"\",\"\",SUMIF(打撃データー!$F$6:$F$500,H66,打撃データー!$S$6:$S$500))","v":""},{"$f":"IF(G66=\"\",\"\",SUMIF(打撃データー!$F$6:$F$500,H66,打撃データー!$T$6:$T$500))","v":""},{"$f":"IF(G66=\"\",\"\",SUMIF(打撃データー!$F$6:$F$500,H66,打撃データー!$U$6:$U$500))","v":""},{"$f":"IF(G66=\"\",\"\",SUMIF(打撃データー!$F$6:$F$500,H66,打撃データー!$V$6:$V$500))","v":""},{"$f":"IF(G66=\"\",\"\",SUMIF(打撃データー!$F$6:$F$500,H66,打撃データー!$W$6:$W$500))","v":""},{"$f":"IF(G66=\"\",\"\",SUMIF(打撃データー!$F$6:$F$500,H66,打撃データー!$X$6:$X$500))","v":""},{"$f":"IF(G66=\"\",\"\",SUMIF(打撃データー!$F$6:$F$500,H66,打撃データー!$Y$6:$Y$500))","v":""},{"$f":"IF(G66=\"\",\"\",SUMIF(打撃データー!$F$6:$F$500,H66,打撃データー!$Z$6:$Z$500))","v":""},{"$f":"IF(G66=\"\",\"\",SUMIF(打撃データー!$F$6:$F$500,H66,打撃データー!$AA$6:$AA$500))","v":""},{"$f":"IF(G66=\"\",\"\",SUMIF(打撃データー!$F$6:$F$500,H66,打撃データー!$AC$6:$AC$500))","v":""},{"$f":"IF(G66=\"\",\"\",SUMIF(打撃データー!$AG$6:$AG$337,H66,打撃データー!$BE$6:$BE$337))","v":""},{"$f":"IF(G66=\"\",\"\",SUMIF(打撃データー!$AG$6:$AG$337,H66,打撃データー!$BF$6:$BF$337))","v":""},null,null,"","","","",""]
[null,null,null,null,null,{"$f":"VLOOKUP(H67,戦績!$N$6:$P$38,3,FALSE)","v":""},{"$f":"IF(F67=\"\",\"\",VLOOKUP(H67,戦績!$N$6:$O$39,2,FALSE))","v":""},"N",{"$f":"IF(G67=\"\",\"\",SUMIF(打撃データー!$F$6:$F$500,H67,打撃データー!$I$6:$I$500))","v":""},{"$f":"IF(G67=\"\",\"\",SUMIF(打撃データー!$F$6:$F$500,H67,打撃データー!$J$6:$J$500))","v":""},{"$f":"IF(G67=\"\",\"\",SUMIF(打撃データー!$F$6:$F$500,H67,打撃データー!$K$6:$K$500))","v":""},{"$f":"IF(G67=\"\",\"\",SUMIF(打撃データー!$F$6:$F$500,H67,打撃データー!$L$6:$L$500))","v":""},{"$f":"IF(G67=\"\",\"\",SUMIF(打撃データー!$F$6:$F$500,H67,打撃データー!$M$6:$M$500))","v":""},{"$f":"IF(G67=\"\",\"\",SUMIF(打撃データー!$F$6:$F$500,H67,打撃データー!$N$6:$N$500))","v":""},{"$f":"IF(G67=\"\",\"\",SUMIF(打撃データー!$F$6:$F$500,H67,打撃データー!$O$6:$O$500))","v":""},{"$f":"IF(G67=\"\",\"\",SUMIF(打撃データー!$F$6:$F$500,H67,打撃データー!$P$6:$P$500))","v":""},{"$f":"IF(G67=\"\",\"\",SUMIF(打撃データー!$F$6:$F$500,H67,打撃データー!$Q$6:$Q$500))","v":""},{"$f":"IF(G67=\"\",\"\",SUMIF(打撃データー!$F$6:$F$500,H67,打撃データー!$R$6:$R$500))","v":""},{"$f":"IF(G67=\"\",\"\",SUMIF(打撃データー!$F$6:$F$500,H67,打撃データー!$S$6:$S$500))","v":""},{"$f":"IF(G67=\"\",\"\",SUMIF(打撃データー!$F$6:$F$500,H67,打撃データー!$T$6:$T$500))","v":""},{"$f":"IF(G67=\"\",\"\",SUMIF(打撃データー!$F$6:$F$500,H67,打撃データー!$U$6:$U$500))","v":""},{"$f":"IF(G67=\"\",\"\",SUMIF(打撃データー!$F$6:$F$500,H67,打撃データー!$V$6:$V$500))","v":""},{"$f":"IF(G67=\"\",\"\",SUMIF(打撃データー!$F$6:$F$500,H67,打撃データー!$W$6:$W$500))","v":""},{"$f":"IF(G67=\"\",\"\",SUMIF(打撃データー!$F$6:$F$500,H67,打撃データー!$X$6:$X$500))","v":""},{"$f":"IF(G67=\"\",\"\",SUMIF(打撃データー!$F$6:$F$500,H67,打撃データー!$Y$6:$Y$500))","v":""},{"$f":"IF(G67=\"\",\"\",SUMIF(打撃データー!$F$6:$F$500,H67,打撃データー!$Z$6:$Z$500))","v":""},{"$f":"IF(G67=\"\",\"\",SUMIF(打撃データー!$F$6:$F$500,H67,打撃データー!$AA$6:$AA$500))","v":""},{"$f":"IF(G67=\"\",\"\",SUMIF(打撃データー!$F$6:$F$500,H67,打撃データー!$AC$6:$AC$500))","v":""},{"$f":"IF(G67=\"\",\"\",SUMIF(打撃データー!$AG$6:$AG$337,H67,打撃データー!$BE$6:$BE$337))","v":""},{"$f":"IF(G67=\"\",\"\",SUMIF(打撃データー!$AG$6:$AG$337,H67,打撃データー!$BF$6:$BF$337))","v":""},null,null,"","","","",""]
[null,null,null,null,null,{"$f":"VLOOKUP(H68,戦績!$N$6:$P$38,3,FALSE)","v":""},{"$f":"IF(F68=\"\",\"\",VLOOKUP(H68,戦績!$N$6:$O$39,2,FALSE))","v":""},"O",{"$f":"IF(G68=\"\",\"\",SUMIF(打撃データー!$F$6:$F$500,H68,打撃データー!$I$6:$I$500))","v":""},{"$f":"IF(G68=\"\",\"\",SUMIF(打撃データー!$F$6:$F$500,H68,打撃データー!$J$6:$J$500))","v":""},{"$f":"IF(G68=\"\",\"\",SUMIF(打撃データー!$F$6:$F$500,H68,打撃データー!$K$6:$K$500))","v":""},{"$f":"IF(G68=\"\",\"\",SUMIF(打撃データー!$F$6:$F$500,H68,打撃データー!$L$6:$L$500))","v":""},{"$f":"IF(G68=\"\",\"\",SUMIF(打撃データー!$F$6:$F$500,H68,打撃データー!$M$6:$M$500))","v":""},{"$f":"IF(G68=\"\",\"\",SUMIF(打撃データー!$F$6:$F$500,H68,打撃データー!$N$6:$N$500))","v":""},{"$f":"IF(G68=\"\",\"\",SUMIF(打撃データー!$F$6:$F$500,H68,打撃データー!$O$6:$O$500))","v":""},{"$f":"IF(G68=\"\",\"\",SUMIF(打撃データー!$F$6:$F$500,H68,打撃データー!$P$6:$P$500))","v":""},{"$f":"IF(G68=\"\",\"\",SUMIF(打撃データー!$F$6:$F$500,H68,打撃データー!$Q$6:$Q$500))","v":""},{"$f":"IF(G68=\"\",\"\",SUMIF(打撃データー!$F$6:$F$500,H68,打撃データー!$R$6:$R$500))","v":""},{"$f":"IF(G68=\"\",\"\",SUMIF(打撃データー!$F$6:$F$500,H68,打撃データー!$S$6:$S$500))","v":""},{"$f":"IF(G68=\"\",\"\",SUMIF(打撃データー!$F$6:$F$500,H68,打撃データー!$T$6:$T$500))","v":""},{"$f":"IF(G68=\"\",\"\",SUMIF(打撃データー!$F$6:$F$500,H68,打撃データー!$U$6:$U$500))","v":""},{"$f":"IF(G68=\"\",\"\",SUMIF(打撃データー!$F$6:$F$500,H68,打撃データー!$V$6:$V$500))","v":""},{"$f":"IF(G68=\"\",\"\",SUMIF(打撃データー!$F$6:$F$500,H68,打撃データー!$W$6:$W$500))","v":""},{"$f":"IF(G68=\"\",\"\",SUMIF(打撃データー!$F$6:$F$500,H68,打撃データー!$X$6:$X$500))","v":""},{"$f":"IF(G68=\"\",\"\",SUMIF(打撃データー!$F$6:$F$500,H68,打撃データー!$Y$6:$Y$500))","v":""},{"$f":"IF(G68=\"\",\"\",SUMIF(打撃データー!$F$6:$F$500,H68,打撃データー!$Z$6:$Z$500))","v":""},{"$f":"IF(G68=\"\",\"\",SUMIF(打撃データー!$F$6:$F$500,H68,打撃データー!$AA$6:$AA$500))","v":""},{"$f":"IF(G68=\"\",\"\",SUMIF(打撃データー!$F$6:$F$500,H68,打撃データー!$AC$6:$AC$500))","v":""},{"$f":"IF(G68=\"\",\"\",SUMIF(打撃データー!$AG$6:$AG$337,H68,打撃データー!$BE$6:$BE$337))","v":""},{"$f":"IF(G68=\"\",\"\",SUMIF(打撃データー!$AG$6:$AG$337,H68,打撃データー!$BF$6:$BF$337))","v":""},null,null,"","","","",""]
[null,null,null,null,null,{"$f":"VLOOKUP(H69,戦績!$N$6:$P$38,3,FALSE)","v":""},{"$f":"IF(F69=\"\",\"\",VLOOKUP(H69,戦績!$N$6:$O$39,2,FALSE))","v":""},"P",{"$f":"IF(G69=\"\",\"\",SUMIF(打撃データー!$F$6:$F$500,H69,打撃データー!$I$6:$I$500))","v":""},{"$f":"IF(G69=\"\",\"\",SUMIF(打撃データー!$F$6:$F$500,H69,打撃データー!$J$6:$J$500))","v":""},{"$f":"IF(G69=\"\",\"\",SUMIF(打撃データー!$F$6:$F$500,H69,打撃データー!$K$6:$K$500))","v":""},{"$f":"IF(G69=\"\",\"\",SUMIF(打撃データー!$F$6:$F$500,H69,打撃データー!$L$6:$L$500))","v":""},{"$f":"IF(G69=\"\",\"\",SUMIF(打撃データー!$F$6:$F$500,H69,打撃データー!$M$6:$M$500))","v":""},{"$f":"IF(G69=\"\",\"\",SUMIF(打撃データー!$F$6:$F$500,H69,打撃データー!$N$6:$N$500))","v":""},{"$f":"IF(G69=\"\",\"\",SUMIF(打撃データー!$F$6:$F$500,H69,打撃データー!$O$6:$O$500))","v":""},{"$f":"IF(G69=\"\",\"\",SUMIF(打撃データー!$F$6:$F$500,H69,打撃データー!$P$6:$P$500))","v":""},{"$f":"IF(G69=\"\",\"\",SUMIF(打撃データー!$F$6:$F$500,H69,打撃データー!$Q$6:$Q$500))","v":""},{"$f":"IF(G69=\"\",\"\",SUMIF(打撃データー!$F$6:$F$500,H69,打撃データー!$R$6:$R$500))","v":""},{"$f":"IF(G69=\"\",\"\",SUMIF(打撃データー!$F$6:$F$500,H69,打撃データー!$S$6:$S$500))","v":""},{"$f":"IF(G69=\"\",\"\",SUMIF(打撃データー!$F$6:$F$500,H69,打撃データー!$T$6:$T$500))","v":""},{"$f":"IF(G69=\"\",\"\",SUMIF(打撃データー!$F$6:$F$500,H69,打撃データー!$U$6:$U$500))","v":""},{"$f":"IF(G69=\"\",\"\",SUMIF(打撃データー!$F$6:$F$500,H69,打撃データー!$V$6:$V$500))","v":""},{"$f":"IF(G69=\"\",\"\",SUMIF(打撃データー!$F$6:$F$500,H69,打撃データー!$W$6:$W$500))","v":""},{"$f":"IF(G69=\"\",\"\",SUMIF(打撃データー!$F$6:$F$500,H69,打撃データー!$X$6:$X$500))","v":""},{"$f":"IF(G69=\"\",\"\",SUMIF(打撃データー!$F$6:$F$500,H69,打撃データー!$Y$6:$Y$500))","v":""},{"$f":"IF(G69=\"\",\"\",SUMIF(打撃データー!$F$6:$F$500,H69,打撃データー!$Z$6:$Z$500))","v":""},{"$f":"IF(G69=\"\",\"\",SUMIF(打撃データー!$F$6:$F$500,H69,打撃データー!$AA$6:$AA$500))","v":""},{"$f":"IF(G69=\"\",\"\",SUMIF(打撃データー!$F$6:$F$500,H69,打撃データー!$AC$6:$AC$500))","v":""},{"$f":"IF(G69=\"\",\"\",SUMIF(打撃データー!$AG$6:$AG$337,H69,打撃データー!$BE$6:$BE$337))","v":""},{"$f":"IF(G69=\"\",\"\",SUMIF(打撃データー!$AG$6:$AG$337,H69,打撃データー!$BF$6:$BF$337))","v":""},null,null,"","","","",""]
[null,null,null,null,null,{"$f":"VLOOKUP(H70,戦績!$N$6:$P$38,3,FALSE)","v":""},{"$f":"IF(F70=\"\",\"\",VLOOKUP(H70,戦績!$N$6:$O$39,2,FALSE))","v":""},"Q",{"$f":"IF(G70=\"\",\"\",SUMIF(打撃データー!$F$6:$F$500,H70,打撃データー!$I$6:$I$500))","v":""},{"$f":"IF(G70=\"\",\"\",SUMIF(打撃データー!$F$6:$F$500,H70,打撃データー!$J$6:$J$500))","v":""},{"$f":"IF(G70=\"\",\"\",SUMIF(打撃データー!$F$6:$F$500,H70,打撃データー!$K$6:$K$500))","v":""},{"$f":"IF(G70=\"\",\"\",SUMIF(打撃データー!$F$6:$F$500,H70,打撃データー!$L$6:$L$500))","v":""},{"$f":"IF(G70=\"\",\"\",SUMIF(打撃データー!$F$6:$F$500,H70,打撃データー!$M$6:$M$500))","v":""},{"$f":"IF(G70=\"\",\"\",SUMIF(打撃データー!$F$6:$F$500,H70,打撃データー!$N$6:$N$500))","v":""},{"$f":"IF(G70=\"\",\"\",SUMIF(打撃データー!$F$6:$F$500,H70,打撃データー!$O$6:$O$500))","v":""},{"$f":"IF(G70=\"\",\"\",SUMIF(打撃データー!$F$6:$F$500,H70,打撃データー!$P$6:$P$500))","v":""},{"$f":"IF(G70=\"\",\"\",SUMIF(打撃データー!$F$6:$F$500,H70,打撃データー!$Q$6:$Q$500))","v":""},{"$f":"IF(G70=\"\",\"\",SUMIF(打撃データー!$F$6:$F$500,H70,打撃データー!$R$6:$R$500))","v":""},{"$f":"IF(G70=\"\",\"\",SUMIF(打撃データー!$F$6:$F$500,H70,打撃データー!$S$6:$S$500))","v":""},{"$f":"IF(G70=\"\",\"\",SUMIF(打撃データー!$F$6:$F$500,H70,打撃データー!$T$6:$T$500))","v":""},{"$f":"IF(G70=\"\",\"\",SUMIF(打撃データー!$F$6:$F$500,H70,打撃データー!$U$6:$U$500))","v":""},{"$f":"IF(G70=\"\",\"\",SUMIF(打撃データー!$F$6:$F$500,H70,打撃データー!$V$6:$V$500))","v":""},{"$f":"IF(G70=\"\",\"\",SUMIF(打撃データー!$F$6:$F$500,H70,打撃データー!$W$6:$W$500))","v":""},{"$f":"IF(G70=\"\",\"\",SUMIF(打撃データー!$F$6:$F$500,H70,打撃データー!$X$6:$X$500))","v":""},{"$f":"IF(G70=\"\",\"\",SUMIF(打撃データー!$F$6:$F$500,H70,打撃データー!$Y$6:$Y$500))","v":""},{"$f":"IF(G70=\"\",\"\",SUMIF(打撃データー!$F$6:$F$500,H70,打撃データー!$Z$6:$Z$500))","v":""},{"$f":"IF(G70=\"\",\"\",SUMIF(打撃データー!$F$6:$F$500,H70,打撃データー!$AA$6:$AA$500))","v":""},{"$f":"IF(G70=\"\",\"\",SUMIF(打撃データー!$F$6:$F$500,H70,打撃データー!$AC$6:$AC$500))","v":""},{"$f":"IF(G70=\"\",\"\",SUMIF(打撃データー!$AG$6:$AG$337,H70,打撃データー!$BE$6:$BE$337))","v":""},{"$f":"IF(G70=\"\",\"\",SUMIF(打撃データー!$AG$6:$AG$337,H70,打撃データー!$BF$6:$BF$337))","v":""},null,null,"","","","",""]
[null,null,null,null,null,{"$f":"VLOOKUP(H71,戦績!$N$6:$P$38,3,FALSE)","v":""},{"$f":"IF(F71=\"\",\"\",VLOOKUP(H71,戦績!$N$6:$O$39,2,FALSE))","v":""},"R",{"$f":"IF(G71=\"\",\"\",SUMIF(打撃データー!$F$6:$F$500,H71,打撃データー!$I$6:$I$500))","v":""},{"$f":"IF(G71=\"\",\"\",SUMIF(打撃データー!$F$6:$F$500,H71,打撃データー!$J$6:$J$500))","v":""},{"$f":"IF(G71=\"\",\"\",SUMIF(打撃データー!$F$6:$F$500,H71,打撃データー!$K$6:$K$500))","v":""},{"$f":"IF(G71=\"\",\"\",SUMIF(打撃データー!$F$6:$F$500,H71,打撃データー!$L$6:$L$500))","v":""},{"$f":"IF(G71=\"\",\"\",SUMIF(打撃データー!$F$6:$F$500,H71,打撃データー!$M$6:$M$500))","v":""},{"$f":"IF(G71=\"\",\"\",SUMIF(打撃データー!$F$6:$F$500,H71,打撃データー!$N$6:$N$500))","v":""},{"$f":"IF(G71=\"\",\"\",SUMIF(打撃データー!$F$6:$F$500,H71,打撃データー!$O$6:$O$500))","v":""},{"$f":"IF(G71=\"\",\"\",SUMIF(打撃データー!$F$6:$F$500,H71,打撃データー!$P$6:$P$500))","v":""},{"$f":"IF(G71=\"\",\"\",SUMIF(打撃データー!$F$6:$F$500,H71,打撃データー!$Q$6:$Q$500))","v":""},{"$f":"IF(G71=\"\",\"\",SUMIF(打撃データー!$F$6:$F$500,H71,打撃データー!$R$6:$R$500))","v":""},{"$f":"IF(G71=\"\",\"\",SUMIF(打撃データー!$F$6:$F$500,H71,打撃データー!$S$6:$S$500))","v":""},{"$f":"IF(G71=\"\",\"\",SUMIF(打撃データー!$F$6:$F$500,H71,打撃データー!$T$6:$T$500))","v":""},{"$f":"IF(G71=\"\",\"\",SUMIF(打撃データー!$F$6:$F$500,H71,打撃データー!$U$6:$U$500))","v":""},{"$f":"IF(G71=\"\",\"\",SUMIF(打撃データー!$F$6:$F$500,H71,打撃データー!$V$6:$V$500))","v":""},{"$f":"IF(G71=\"\",\"\",SUMIF(打撃データー!$F$6:$F$500,H71,打撃データー!$W$6:$W$500))","v":""},{"$f":"IF(G71=\"\",\"\",SUMIF(打撃データー!$F$6:$F$500,H71,打撃データー!$X$6:$X$500))","v":""},{"$f":"IF(G71=\"\",\"\",SUMIF(打撃データー!$F$6:$F$500,H71,打撃データー!$Y$6:$Y$500))","v":""},{"$f":"IF(G71=\"\",\"\",SUMIF(打撃データー!$F$6:$F$500,H71,打撃データー!$Z$6:$Z$500))","v":""},{"$f":"IF(G71=\"\",\"\",SUMIF(打撃データー!$F$6:$F$500,H71,打撃データー!$AA$6:$AA$500))","v":""},{"$f":"IF(G71=\"\",\"\",SUMIF(打撃データー!$F$6:$F$500,H71,打撃データー!$AC$6:$AC$500))","v":""},{"$f":"IF(G71=\"\",\"\",SUMIF(打撃データー!$AG$6:$AG$337,H71,打撃データー!$BE$6:$BE$337))","v":""},{"$f":"IF(G71=\"\",\"\",SUMIF(打撃データー!$AG$6:$AG$337,H71,打撃データー!$BF$6:$BF$337))","v":""},null,null,"","","","",""]
[null,null,null,null,null,{"$f":"VLOOKUP(H72,戦績!$N$6:$P$38,3,FALSE)","v":""},{"$f":"IF(F72=\"\",\"\",VLOOKUP(H72,戦績!$N$6:$O$39,2,FALSE))","v":""},"S",{"$f":"IF(G72=\"\",\"\",SUMIF(打撃データー!$F$6:$F$500,H72,打撃データー!$I$6:$I$500))","v":""},{"$f":"IF(G72=\"\",\"\",SUMIF(打撃データー!$F$6:$F$500,H72,打撃データー!$J$6:$J$500))","v":""},{"$f":"IF(G72=\"\",\"\",SUMIF(打撃データー!$F$6:$F$500,H72,打撃データー!$K$6:$K$500))","v":""},{"$f":"IF(G72=\"\",\"\",SUMIF(打撃データー!$F$6:$F$500,H72,打撃データー!$L$6:$L$500))","v":""},{"$f":"IF(G72=\"\",\"\",SUMIF(打撃データー!$F$6:$F$500,H72,打撃データー!$M$6:$M$500))","v":""},{"$f":"IF(G72=\"\",\"\",SUMIF(打撃データー!$F$6:$F$500,H72,打撃データー!$N$6:$N$500))","v":""},{"$f":"IF(G72=\"\",\"\",SUMIF(打撃データー!$F$6:$F$500,H72,打撃データー!$O$6:$O$500))","v":""},{"$f":"IF(G72=\"\",\"\",SUMIF(打撃データー!$F$6:$F$500,H72,打撃データー!$P$6:$P$500))","v":""},{"$f":"IF(G72=\"\",\"\",SUMIF(打撃データー!$F$6:$F$500,H72,打撃データー!$Q$6:$Q$500))","v":""},{"$f":"IF(G72=\"\",\"\",SUMIF(打撃データー!$F$6:$F$500,H72,打撃データー!$R$6:$R$500))","v":""},{"$f":"IF(G72=\"\",\"\",SUMIF(打撃データー!$F$6:$F$500,H72,打撃データー!$S$6:$S$500))","v":""},{"$f":"IF(G72=\"\",\"\",SUMIF(打撃データー!$F$6:$F$500,H72,打撃データー!$T$6:$T$500))","v":""},{"$f":"IF(G72=\"\",\"\",SUMIF(打撃データー!$F$6:$F$500,H72,打撃データー!$U$6:$U$500))","v":""},{"$f":"IF(G72=\"\",\"\",SUMIF(打撃データー!$F$6:$F$500,H72,打撃データー!$V$6:$V$500))","v":""},{"$f":"IF(G72=\"\",\"\",SUMIF(打撃データー!$F$6:$F$500,H72,打撃データー!$W$6:$W$500))","v":""},{"$f":"IF(G72=\"\",\"\",SUMIF(打撃データー!$F$6:$F$500,H72,打撃データー!$X$6:$X$500))","v":""},{"$f":"IF(G72=\"\",\"\",SUMIF(打撃データー!$F$6:$F$500,H72,打撃データー!$Y$6:$Y$500))","v":""},{"$f":"IF(G72=\"\",\"\",SUMIF(打撃データー!$F$6:$F$500,H72,打撃データー!$Z$6:$Z$500))","v":""},{"$f":"IF(G72=\"\",\"\",SUMIF(打撃データー!$F$6:$F$500,H72,打撃データー!$AA$6:$AA$500))","v":""},{"$f":"IF(G72=\"\",\"\",SUMIF(打撃データー!$F$6:$F$500,H72,打撃データー!$AC$6:$AC$500))","v":""},{"$f":"IF(G72=\"\",\"\",SUMIF(打撃データー!$AG$6:$AG$337,H72,打撃データー!$BE$6:$BE$337))","v":""},{"$f":"IF(G72=\"\",\"\",SUMIF(打撃データー!$AG$6:$AG$337,H72,打撃データー!$BF$6:$BF$337))","v":""},null,null,"","","","",""]
[null,null,null,null,null,{"$f":"VLOOKUP(H73,戦績!$N$6:$P$38,3,FALSE)","v":""},{"$f":"IF(F73=\"\",\"\",VLOOKUP(H73,戦績!$N$6:$O$39,2,FALSE))","v":""},"T",{"$f":"IF(G73=\"\",\"\",SUMIF(打撃データー!$F$6:$F$500,H73,打撃データー!$I$6:$I$500))","v":""},{"$f":"IF(G73=\"\",\"\",SUMIF(打撃データー!$F$6:$F$500,H73,打撃データー!$J$6:$J$500))","v":""},{"$f":"IF(G73=\"\",\"\",SUMIF(打撃データー!$F$6:$F$500,H73,打撃データー!$K$6:$K$500))","v":""},{"$f":"IF(G73=\"\",\"\",SUMIF(打撃データー!$F$6:$F$500,H73,打撃データー!$L$6:$L$500))","v":""},{"$f":"IF(G73=\"\",\"\",SUMIF(打撃データー!$F$6:$F$500,H73,打撃データー!$M$6:$M$500))","v":""},{"$f":"IF(G73=\"\",\"\",SUMIF(打撃データー!$F$6:$F$500,H73,打撃データー!$N$6:$N$500))","v":""},{"$f":"IF(G73=\"\",\"\",SUMIF(打撃データー!$F$6:$F$500,H73,打撃データー!$O$6:$O$500))","v":""},{"$f":"IF(G73=\"\",\"\",SUMIF(打撃データー!$F$6:$F$500,H73,打撃データー!$P$6:$P$500))","v":""},{"$f":"IF(G73=\"\",\"\",SUMIF(打撃データー!$F$6:$F$500,H73,打撃データー!$Q$6:$Q$500))","v":""},{"$f":"IF(G73=\"\",\"\",SUMIF(打撃データー!$F$6:$F$500,H73,打撃データー!$R$6:$R$500))","v":""},{"$f":"IF(G73=\"\",\"\",SUMIF(打撃データー!$F$6:$F$500,H73,打撃データー!$S$6:$S$500))","v":""},{"$f":"IF(G73=\"\",\"\",SUMIF(打撃データー!$F$6:$F$500,H73,打撃データー!$T$6:$T$500))","v":""},{"$f":"IF(G73=\"\",\"\",SUMIF(打撃データー!$F$6:$F$500,H73,打撃データー!$U$6:$U$500))","v":""},{"$f":"IF(G73=\"\",\"\",SUMIF(打撃データー!$F$6:$F$500,H73,打撃データー!$V$6:$V$500))","v":""},{"$f":"IF(G73=\"\",\"\",SUMIF(打撃データー!$F$6:$F$500,H73,打撃データー!$W$6:$W$500))","v":""},{"$f":"IF(G73=\"\",\"\",SUMIF(打撃データー!$F$6:$F$500,H73,打撃データー!$X$6:$X$500))","v":""},{"$f":"IF(G73=\"\",\"\",SUMIF(打撃データー!$F$6:$F$500,H73,打撃データー!$Y$6:$Y$500))","v":""},{"$f":"IF(G73=\"\",\"\",SUMIF(打撃データー!$F$6:$F$500,H73,打撃データー!$Z$6:$Z$500))","v":""},{"$f":"IF(G73=\"\",\"\",SUMIF(打撃データー!$F$6:$F$500,H73,打撃データー!$AA$6:$AA$500))","v":""},{"$f":"IF(G73=\"\",\"\",SUMIF(打撃データー!$F$6:$F$500,H73,打撃データー!$AC$6:$AC$500))","v":""},{"$f":"IF(G73=\"\",\"\",SUMIF(打撃データー!$AG$6:$AG$337,H73,打撃データー!$BE$6:$BE$337))","v":""},{"$f":"IF(G73=\"\",\"\",SUMIF(打撃データー!$AG$6:$AG$337,H73,打撃データー!$BF$6:$BF$337))","v":""},null,null,"","","","",""]
[null,null,null,null,null,{"$f":"VLOOKUP(H74,戦績!$N$6:$P$38,3,FALSE)","v":""},{"$f":"IF(F74=\"\",\"\",VLOOKUP(H74,戦績!$N$6:$O$39,2,FALSE))","v":""},"U",{"$f":"IF(G74=\"\",\"\",SUMIF(打撃データー!$F$6:$F$500,H74,打撃データー!$I$6:$I$500))","v":""},{"$f":"IF(G74=\"\",\"\",SUMIF(打撃データー!$F$6:$F$500,H74,打撃データー!$J$6:$J$500))","v":""},{"$f":"IF(G74=\"\",\"\",SUMIF(打撃データー!$F$6:$F$500,H74,打撃データー!$K$6:$K$500))","v":""},{"$f":"IF(G74=\"\",\"\",SUMIF(打撃データー!$F$6:$F$500,H74,打撃データー!$L$6:$L$500))","v":""},{"$f":"IF(G74=\"\",\"\",SUMIF(打撃データー!$F$6:$F$500,H74,打撃データー!$M$6:$M$500))","v":""},{"$f":"IF(G74=\"\",\"\",SUMIF(打撃データー!$F$6:$F$500,H74,打撃データー!$N$6:$N$500))","v":""},{"$f":"IF(G74=\"\",\"\",SUMIF(打撃データー!$F$6:$F$500,H74,打撃データー!$O$6:$O$500))","v":""},{"$f":"IF(G74=\"\",\"\",SUMIF(打撃データー!$F$6:$F$500,H74,打撃データー!$P$6:$P$500))","v":""},{"$f":"IF(G74=\"\",\"\",SUMIF(打撃データー!$F$6:$F$500,H74,打撃データー!$Q$6:$Q$500))","v":""},{"$f":"IF(G74=\"\",\"\",SUMIF(打撃データー!$F$6:$F$500,H74,打撃データー!$R$6:$R$500))","v":""},{"$f":"IF(G74=\"\",\"\",SUMIF(打撃データー!$F$6:$F$500,H74,打撃データー!$S$6:$S$500))","v":""},{"$f":"IF(G74=\"\",\"\",SUMIF(打撃データー!$F$6:$F$500,H74,打撃データー!$T$6:$T$500))","v":""},{"$f":"IF(G74=\"\",\"\",SUMIF(打撃データー!$F$6:$F$500,H74,打撃データー!$U$6:$U$500))","v":""},{"$f":"IF(G74=\"\",\"\",SUMIF(打撃データー!$F$6:$F$500,H74,打撃データー!$V$6:$V$500))","v":""},{"$f":"IF(G74=\"\",\"\",SUMIF(打撃データー!$F$6:$F$500,H74,打撃データー!$W$6:$W$500))","v":""},{"$f":"IF(G74=\"\",\"\",SUMIF(打撃データー!$F$6:$F$500,H74,打撃データー!$X$6:$X$500))","v":""},{"$f":"IF(G74=\"\",\"\",SUMIF(打撃データー!$F$6:$F$500,H74,打撃データー!$Y$6:$Y$500))","v":""},{"$f":"IF(G74=\"\",\"\",SUMIF(打撃データー!$F$6:$F$500,H74,打撃データー!$Z$6:$Z$500))","v":""},{"$f":"IF(G74=\"\",\"\",SUMIF(打撃データー!$F$6:$F$500,H74,打撃データー!$AA$6:$AA$500))","v":""},{"$f":"IF(G74=\"\",\"\",SUMIF(打撃データー!$F$6:$F$500,H74,打撃データー!$AC$6:$AC$500))","v":""},{"$f":"IF(G74=\"\",\"\",SUMIF(打撃データー!$AG$6:$AG$337,H74,打撃データー!$BE$6:$BE$337))","v":""},{"$f":"IF(G74=\"\",\"\",SUMIF(打撃データー!$AG$6:$AG$337,H74,打撃データー!$BF$6:$BF$337))","v":""},null,null,"","","","",""]
[null,null,null,null,null,{"$f":"VLOOKUP(H75,戦績!$N$6:$P$38,3,FALSE)","v":""},{"$f":"IF(F75=\"\",\"\",VLOOKUP(H75,戦績!$N$6:$O$39,2,FALSE))","v":""},"V",{"$f":"IF(G75=\"\",\"\",SUMIF(打撃データー!$F$6:$F$500,H75,打撃データー!$I$6:$I$500))","v":""},{"$f":"IF(G75=\"\",\"\",SUMIF(打撃データー!$F$6:$F$500,H75,打撃データー!$J$6:$J$500))","v":""},{"$f":"IF(G75=\"\",\"\",SUMIF(打撃データー!$F$6:$F$500,H75,打撃データー!$K$6:$K$500))","v":""},{"$f":"IF(G75=\"\",\"\",SUMIF(打撃データー!$F$6:$F$500,H75,打撃データー!$L$6:$L$500))","v":""},{"$f":"IF(G75=\"\",\"\",SUMIF(打撃データー!$F$6:$F$500,H75,打撃データー!$M$6:$M$500))","v":""},{"$f":"IF(G75=\"\",\"\",SUMIF(打撃データー!$F$6:$F$500,H75,打撃データー!$N$6:$N$500))","v":""},{"$f":"IF(G75=\"\",\"\",SUMIF(打撃データー!$F$6:$F$500,H75,打撃データー!$O$6:$O$500))","v":""},{"$f":"IF(G75=\"\",\"\",SUMIF(打撃データー!$F$6:$F$500,H75,打撃データー!$P$6:$P$500))","v":""},{"$f":"IF(G75=\"\",\"\",SUMIF(打撃データー!$F$6:$F$500,H75,打撃データー!$Q$6:$Q$500))","v":""},{"$f":"IF(G75=\"\",\"\",SUMIF(打撃データー!$F$6:$F$500,H75,打撃データー!$R$6:$R$500))","v":""},{"$f":"IF(G75=\"\",\"\",SUMIF(打撃データー!$F$6:$F$500,H75,打撃データー!$S$6:$S$500))","v":""},{"$f":"IF(G75=\"\",\"\",SUMIF(打撃データー!$F$6:$F$500,H75,打撃データー!$T$6:$T$500))","v":""},{"$f":"IF(G75=\"\",\"\",SUMIF(打撃データー!$F$6:$F$500,H75,打撃データー!$U$6:$U$500))","v":""},{"$f":"IF(G75=\"\",\"\",SUMIF(打撃データー!$F$6:$F$500,H75,打撃データー!$V$6:$V$500))","v":""},{"$f":"IF(G75=\"\",\"\",SUMIF(打撃データー!$F$6:$F$500,H75,打撃データー!$W$6:$W$500))","v":""},{"$f":"IF(G75=\"\",\"\",SUMIF(打撃データー!$F$6:$F$500,H75,打撃データー!$X$6:$X$500))","v":""},{"$f":"IF(G75=\"\",\"\",SUMIF(打撃データー!$F$6:$F$500,H75,打撃データー!$Y$6:$Y$500))","v":""},{"$f":"IF(G75=\"\",\"\",SUMIF(打撃データー!$F$6:$F$500,H75,打撃データー!$Z$6:$Z$500))","v":""},{"$f":"IF(G75=\"\",\"\",SUMIF(打撃データー!$F$6:$F$500,H75,打撃データー!$AA$6:$AA$500))","v":""},{"$f":"IF(G75=\"\",\"\",SUMIF(打撃データー!$F$6:$F$500,H75,打撃データー!$AC$6:$AC$500))","v":""},{"$f":"IF(G75=\"\",\"\",SUMIF(打撃データー!$AG$6:$AG$337,H75,打撃データー!$BE$6:$BE$337))","v":""},{"$f":"IF(G75=\"\",\"\",SUMIF(打撃データー!$AG$6:$AG$337,H75,打撃データー!$BF$6:$BF$337))","v":""},null,null,"","","","",""]
[null,null,null,null,null,{"$f":"VLOOKUP(H76,戦績!$N$6:$P$38,3,FALSE)","v":""},{"$f":"IF(F76=\"\",\"\",VLOOKUP(H76,戦績!$N$6:$O$39,2,FALSE))","v":""},"W",{"$f":"IF(G76=\"\",\"\",SUMIF(打撃データー!$F$6:$F$500,H76,打撃データー!$I$6:$I$500))","v":""},{"$f":"IF(G76=\"\",\"\",SUMIF(打撃データー!$F$6:$F$500,H76,打撃データー!$J$6:$J$500))","v":""},{"$f":"IF(G76=\"\",\"\",SUMIF(打撃データー!$F$6:$F$500,H76,打撃データー!$K$6:$K$500))","v":""},{"$f":"IF(G76=\"\",\"\",SUMIF(打撃データー!$F$6:$F$500,H76,打撃データー!$L$6:$L$500))","v":""},{"$f":"IF(G76=\"\",\"\",SUMIF(打撃データー!$F$6:$F$500,H76,打撃データー!$M$6:$M$500))","v":""},{"$f":"IF(G76=\"\",\"\",SUMIF(打撃データー!$F$6:$F$500,H76,打撃データー!$N$6:$N$500))","v":""},{"$f":"IF(G76=\"\",\"\",SUMIF(打撃データー!$F$6:$F$500,H76,打撃データー!$O$6:$O$500))","v":""},{"$f":"IF(G76=\"\",\"\",SUMIF(打撃データー!$F$6:$F$500,H76,打撃データー!$P$6:$P$500))","v":""},{"$f":"IF(G76=\"\",\"\",SUMIF(打撃データー!$F$6:$F$500,H76,打撃データー!$Q$6:$Q$500))","v":""},{"$f":"IF(G76=\"\",\"\",SUMIF(打撃データー!$F$6:$F$500,H76,打撃データー!$R$6:$R$500))","v":""},{"$f":"IF(G76=\"\",\"\",SUMIF(打撃データー!$F$6:$F$500,H76,打撃データー!$S$6:$S$500))","v":""},{"$f":"IF(G76=\"\",\"\",SUMIF(打撃データー!$F$6:$F$500,H76,打撃データー!$T$6:$T$500))","v":""},{"$f":"IF(G76=\"\",\"\",SUMIF(打撃データー!$F$6:$F$500,H76,打撃データー!$U$6:$U$500))","v":""},{"$f":"IF(G76=\"\",\"\",SUMIF(打撃データー!$F$6:$F$500,H76,打撃データー!$V$6:$V$500))","v":""},{"$f":"IF(G76=\"\",\"\",SUMIF(打撃データー!$F$6:$F$500,H76,打撃データー!$W$6:$W$500))","v":""},{"$f":"IF(G76=\"\",\"\",SUMIF(打撃データー!$F$6:$F$500,H76,打撃データー!$X$6:$X$500))","v":""},{"$f":"IF(G76=\"\",\"\",SUMIF(打撃データー!$F$6:$F$500,H76,打撃データー!$Y$6:$Y$500))","v":""},{"$f":"IF(G76=\"\",\"\",SUMIF(打撃データー!$F$6:$F$500,H76,打撃データー!$Z$6:$Z$500))","v":""},{"$f":"IF(G76=\"\",\"\",SUMIF(打撃データー!$F$6:$F$500,H76,打撃データー!$AA$6:$AA$500))","v":""},{"$f":"IF(G76=\"\",\"\",SUMIF(打撃データー!$F$6:$F$500,H76,打撃データー!$AC$6:$AC$500))","v":""},{"$f":"IF(G76=\"\",\"\",SUMIF(打撃データー!$AG$6:$AG$337,H76,打撃データー!$BE$6:$BE$337))","v":""},{"$f":"IF(G76=\"\",\"\",SUMIF(打撃データー!$AG$6:$AG$337,H76,打撃データー!$BF$6:$BF$337))","v":""},null,null,"","","","",""]
[null,null,null,null,null,{"$f":"VLOOKUP(H77,戦績!$N$6:$P$38,3,FALSE)","v":""},{"$f":"IF(F77=\"\",\"\",VLOOKUP(H77,戦績!$N$6:$O$39,2,FALSE))","v":""},"X",{"$f":"IF(G77=\"\",\"\",SUMIF(打撃データー!$F$6:$F$500,H77,打撃データー!$I$6:$I$500))","v":""},{"$f":"IF(G77=\"\",\"\",SUMIF(打撃データー!$F$6:$F$500,H77,打撃データー!$J$6:$J$500))","v":""},{"$f":"IF(G77=\"\",\"\",SUMIF(打撃データー!$F$6:$F$500,H77,打撃データー!$K$6:$K$500))","v":""},{"$f":"IF(G77=\"\",\"\",SUMIF(打撃データー!$F$6:$F$500,H77,打撃データー!$L$6:$L$500))","v":""},{"$f":"IF(G77=\"\",\"\",SUMIF(打撃データー!$F$6:$F$500,H77,打撃データー!$M$6:$M$500))","v":""},{"$f":"IF(G77=\"\",\"\",SUMIF(打撃データー!$F$6:$F$500,H77,打撃データー!$N$6:$N$500))","v":""},{"$f":"IF(G77=\"\",\"\",SUMIF(打撃データー!$F$6:$F$500,H77,打撃データー!$O$6:$O$500))","v":""},{"$f":"IF(G77=\"\",\"\",SUMIF(打撃データー!$F$6:$F$500,H77,打撃データー!$P$6:$P$500))","v":""},{"$f":"IF(G77=\"\",\"\",SUMIF(打撃データー!$F$6:$F$500,H77,打撃データー!$Q$6:$Q$500))","v":""},{"$f":"IF(G77=\"\",\"\",SUMIF(打撃データー!$F$6:$F$500,H77,打撃データー!$R$6:$R$500))","v":""},{"$f":"IF(G77=\"\",\"\",SUMIF(打撃データー!$F$6:$F$500,H77,打撃データー!$S$6:$S$500))","v":""},{"$f":"IF(G77=\"\",\"\",SUMIF(打撃データー!$F$6:$F$500,H77,打撃データー!$T$6:$T$500))","v":""},{"$f":"IF(G77=\"\",\"\",SUMIF(打撃データー!$F$6:$F$500,H77,打撃データー!$U$6:$U$500))","v":""},{"$f":"IF(G77=\"\",\"\",SUMIF(打撃データー!$F$6:$F$500,H77,打撃データー!$V$6:$V$500))","v":""},{"$f":"IF(G77=\"\",\"\",SUMIF(打撃データー!$F$6:$F$500,H77,打撃データー!$W$6:$W$500))","v":""},{"$f":"IF(G77=\"\",\"\",SUMIF(打撃データー!$F$6:$F$500,H77,打撃データー!$X$6:$X$500))","v":""},{"$f":"IF(G77=\"\",\"\",SUMIF(打撃データー!$F$6:$F$500,H77,打撃データー!$Y$6:$Y$500))","v":""},{"$f":"IF(G77=\"\",\"\",SUMIF(打撃データー!$F$6:$F$500,H77,打撃データー!$Z$6:$Z$500))","v":""},{"$f":"IF(G77=\"\",\"\",SUMIF(打撃データー!$F$6:$F$500,H77,打撃データー!$AA$6:$AA$500))","v":""},{"$f":"IF(G77=\"\",\"\",SUMIF(打撃データー!$F$6:$F$500,H77,打撃データー!$AC$6:$AC$500))","v":""},{"$f":"IF(G77=\"\",\"\",SUMIF(打撃データー!$AG$6:$AG$337,H77,打撃データー!$BE$6:$BE$337))","v":""},{"$f":"IF(G77=\"\",\"\",SUMIF(打撃データー!$AG$6:$AG$337,H77,打撃データー!$BF$6:$BF$337))","v":""},null,null,"","","","",""]
[null,null,null,null,null,{"$f":"VLOOKUP(H78,戦績!$N$6:$P$38,3,FALSE)","v":""},{"$f":"IF(F78=\"\",\"\",VLOOKUP(H78,戦績!$N$6:$O$39,2,FALSE))","v":""},"Y",{"$f":"IF(G78=\"\",\"\",SUMIF(打撃データー!$F$6:$F$500,H78,打撃データー!$I$6:$I$500))","v":""},{"$f":"IF(G78=\"\",\"\",SUMIF(打撃データー!$F$6:$F$500,H78,打撃データー!$J$6:$J$500))","v":""},{"$f":"IF(G78=\"\",\"\",SUMIF(打撃データー!$F$6:$F$500,H78,打撃データー!$K$6:$K$500))","v":""},{"$f":"IF(G78=\"\",\"\",SUMIF(打撃データー!$F$6:$F$500,H78,打撃データー!$L$6:$L$500))","v":""},{"$f":"IF(G78=\"\",\"\",SUMIF(打撃データー!$F$6:$F$500,H78,打撃データー!$M$6:$M$500))","v":""},{"$f":"IF(G78=\"\",\"\",SUMIF(打撃データー!$F$6:$F$500,H78,打撃データー!$N$6:$N$500))","v":""},{"$f":"IF(G78=\"\",\"\",SUMIF(打撃データー!$F$6:$F$500,H78,打撃データー!$O$6:$O$500))","v":""},{"$f":"IF(G78=\"\",\"\",SUMIF(打撃データー!$F$6:$F$500,H78,打撃データー!$P$6:$P$500))","v":""},{"$f":"IF(G78=\"\",\"\",SUMIF(打撃データー!$F$6:$F$500,H78,打撃データー!$Q$6:$Q$500))","v":""},{"$f":"IF(G78=\"\",\"\",SUMIF(打撃データー!$F$6:$F$500,H78,打撃データー!$R$6:$R$500))","v":""},{"$f":"IF(G78=\"\",\"\",SUMIF(打撃データー!$F$6:$F$500,H78,打撃データー!$S$6:$S$500))","v":""},{"$f":"IF(G78=\"\",\"\",SUMIF(打撃データー!$F$6:$F$500,H78,打撃データー!$T$6:$T$500))","v":""},{"$f":"IF(G78=\"\",\"\",SUMIF(打撃データー!$F$6:$F$500,H78,打撃データー!$U$6:$U$500))","v":""},{"$f":"IF(G78=\"\",\"\",SUMIF(打撃データー!$F$6:$F$500,H78,打撃データー!$V$6:$V$500))","v":""},{"$f":"IF(G78=\"\",\"\",SUMIF(打撃データー!$F$6:$F$500,H78,打撃データー!$W$6:$W$500))","v":""},{"$f":"IF(G78=\"\",\"\",SUMIF(打撃データー!$F$6:$F$500,H78,打撃データー!$X$6:$X$500))","v":""},{"$f":"IF(G78=\"\",\"\",SUMIF(打撃データー!$F$6:$F$500,H78,打撃データー!$Y$6:$Y$500))","v":""},{"$f":"IF(G78=\"\",\"\",SUMIF(打撃データー!$F$6:$F$500,H78,打撃データー!$Z$6:$Z$500))","v":""},{"$f":"IF(G78=\"\",\"\",SUMIF(打撃データー!$F$6:$F$500,H78,打撃データー!$AA$6:$AA$500))","v":""},{"$f":"IF(G78=\"\",\"\",SUMIF(打撃データー!$F$6:$F$500,H78,打撃データー!$AC$6:$AC$500))","v":""},{"$f":"IF(G78=\"\",\"\",SUMIF(打撃データー!$AG$6:$AG$337,H78,打撃データー!$BE$6:$BE$337))","v":""},{"$f":"IF(G78=\"\",\"\",SUMIF(打撃データー!$AG$6:$AG$337,H78,打撃データー!$BF$6:$BF$337))","v":""},null,null,"","","","",""]
[null,null,null,null,null,{"$f":"VLOOKUP(H79,戦績!$N$6:$P$38,3,FALSE)","v":""},{"$f":"IF(F79=\"\",\"\",VLOOKUP(H79,戦績!$N$6:$O$39,2,FALSE))","v":""},"Z",{"$f":"IF(G79=\"\",\"\",SUMIF(打撃データー!$F$6:$F$500,H79,打撃データー!$I$6:$I$500))","v":""},{"$f":"IF(G79=\"\",\"\",SUMIF(打撃データー!$F$6:$F$500,H79,打撃データー!$J$6:$J$500))","v":""},{"$f":"IF(G79=\"\",\"\",SUMIF(打撃データー!$F$6:$F$500,H79,打撃データー!$K$6:$K$500))","v":""},{"$f":"IF(G79=\"\",\"\",SUMIF(打撃データー!$F$6:$F$500,H79,打撃データー!$L$6:$L$500))","v":""},{"$f":"IF(G79=\"\",\"\",SUMIF(打撃データー!$F$6:$F$500,H79,打撃データー!$M$6:$M$500))","v":""},{"$f":"IF(G79=\"\",\"\",SUMIF(打撃データー!$F$6:$F$500,H79,打撃データー!$N$6:$N$500))","v":""},{"$f":"IF(G79=\"\",\"\",SUMIF(打撃データー!$F$6:$F$500,H79,打撃データー!$O$6:$O$500))","v":""},{"$f":"IF(G79=\"\",\"\",SUMIF(打撃データー!$F$6:$F$500,H79,打撃データー!$P$6:$P$500))","v":""},{"$f":"IF(G79=\"\",\"\",SUMIF(打撃データー!$F$6:$F$500,H79,打撃データー!$Q$6:$Q$500))","v":""},{"$f":"IF(G79=\"\",\"\",SUMIF(打撃データー!$F$6:$F$500,H79,打撃データー!$R$6:$R$500))","v":""},{"$f":"IF(G79=\"\",\"\",SUMIF(打撃データー!$F$6:$F$500,H79,打撃データー!$S$6:$S$500))","v":""},{"$f":"IF(G79=\"\",\"\",SUMIF(打撃データー!$F$6:$F$500,H79,打撃データー!$T$6:$T$500))","v":""},{"$f":"IF(G79=\"\",\"\",SUMIF(打撃データー!$F$6:$F$500,H79,打撃データー!$U$6:$U$500))","v":""},{"$f":"IF(G79=\"\",\"\",SUMIF(打撃データー!$F$6:$F$500,H79,打撃データー!$V$6:$V$500))","v":""},{"$f":"IF(G79=\"\",\"\",SUMIF(打撃データー!$F$6:$F$500,H79,打撃データー!$W$6:$W$500))","v":""},{"$f":"IF(G79=\"\",\"\",SUMIF(打撃データー!$F$6:$F$500,H79,打撃データー!$X$6:$X$500))","v":""},{"$f":"IF(G79=\"\",\"\",SUMIF(打撃データー!$F$6:$F$500,H79,打撃データー!$Y$6:$Y$500))","v":""},{"$f":"IF(G79=\"\",\"\",SUMIF(打撃データー!$F$6:$F$500,H79,打撃データー!$Z$6:$Z$500))","v":""},{"$f":"IF(G79=\"\",\"\",SUMIF(打撃データー!$F$6:$F$500,H79,打撃データー!$AA$6:$AA$500))","v":""},{"$f":"IF(G79=\"\",\"\",SUMIF(打撃データー!$F$6:$F$500,H79,打撃データー!$AC$6:$AC$500))","v":""},{"$f":"IF(G79=\"\",\"\",SUMIF(打撃データー!$AG$6:$AG$337,H79,打撃データー!$BE$6:$BE$337))","v":""},{"$f":"IF(G79=\"\",\"\",SUMIF(打撃データー!$AG$6:$AG$337,H79,打撃データー!$BF$6:$BF$337))","v":""},null,null,"","","","",""]
[null,null,null,null,null,{"$f":"VLOOKUP(H80,戦績!$N$6:$P$38,3,FALSE)","v":""},{"$f":"IF(F80=\"\",\"\",VLOOKUP(H80,戦績!$N$6:$O$39,2,FALSE))","v":""},"AA",{"$f":"IF(G80=\"\",\"\",SUMIF(打撃データー!$F$6:$F$500,H80,打撃データー!$I$6:$I$500))","v":""},{"$f":"IF(G80=\"\",\"\",SUMIF(打撃データー!$F$6:$F$500,H80,打撃データー!$J$6:$J$500))","v":""},{"$f":"IF(G80=\"\",\"\",SUMIF(打撃データー!$F$6:$F$500,H80,打撃データー!$K$6:$K$500))","v":""},{"$f":"IF(G80=\"\",\"\",SUMIF(打撃データー!$F$6:$F$500,H80,打撃データー!$L$6:$L$500))","v":""},{"$f":"IF(G80=\"\",\"\",SUMIF(打撃データー!$F$6:$F$500,H80,打撃データー!$M$6:$M$500))","v":""},{"$f":"IF(G80=\"\",\"\",SUMIF(打撃データー!$F$6:$F$500,H80,打撃データー!$N$6:$N$500))","v":""},{"$f":"IF(G80=\"\",\"\",SUMIF(打撃データー!$F$6:$F$500,H80,打撃データー!$O$6:$O$500))","v":""},{"$f":"IF(G80=\"\",\"\",SUMIF(打撃データー!$F$6:$F$500,H80,打撃データー!$P$6:$P$500))","v":""},{"$f":"IF(G80=\"\",\"\",SUMIF(打撃データー!$F$6:$F$500,H80,打撃データー!$Q$6:$Q$500))","v":""},{"$f":"IF(G80=\"\",\"\",SUMIF(打撃データー!$F$6:$F$500,H80,打撃データー!$R$6:$R$500))","v":""},{"$f":"IF(G80=\"\",\"\",SUMIF(打撃データー!$F$6:$F$500,H80,打撃データー!$S$6:$S$500))","v":""},{"$f":"IF(G80=\"\",\"\",SUMIF(打撃データー!$F$6:$F$500,H80,打撃データー!$T$6:$T$500))","v":""},{"$f":"IF(G80=\"\",\"\",SUMIF(打撃データー!$F$6:$F$500,H80,打撃データー!$U$6:$U$500))","v":""},{"$f":"IF(G80=\"\",\"\",SUMIF(打撃データー!$F$6:$F$500,H80,打撃データー!$V$6:$V$500))","v":""},{"$f":"IF(G80=\"\",\"\",SUMIF(打撃データー!$F$6:$F$500,H80,打撃データー!$W$6:$W$500))","v":""},{"$f":"IF(G80=\"\",\"\",SUMIF(打撃データー!$F$6:$F$500,H80,打撃データー!$X$6:$X$500))","v":""},{"$f":"IF(G80=\"\",\"\",SUMIF(打撃データー!$F$6:$F$500,H80,打撃データー!$Y$6:$Y$500))","v":""},{"$f":"IF(G80=\"\",\"\",SUMIF(打撃データー!$F$6:$F$500,H80,打撃データー!$Z$6:$Z$500))","v":""},{"$f":"IF(G80=\"\",\"\",SUMIF(打撃データー!$F$6:$F$500,H80,打撃データー!$AA$6:$AA$500))","v":""},{"$f":"IF(G80=\"\",\"\",SUMIF(打撃データー!$F$6:$F$500,H80,打撃データー!$AC$6:$AC$500))","v":""},{"$f":"IF(G80=\"\",\"\",SUMIF(打撃データー!$AG$6:$AG$337,H80,打撃データー!$BE$6:$BE$337))","v":""},{"$f":"IF(G80=\"\",\"\",SUMIF(打撃データー!$AG$6:$AG$337,H80,打撃データー!$BF$6:$BF$337))","v":""},null,null,"","","","",""]
[null,null,null,null,null,{"$f":"VLOOKUP(H81,戦績!$N$6:$P$38,3,FALSE)","v":""},{"$f":"IF(F81=\"\",\"\",VLOOKUP(H81,戦績!$N$6:$O$39,2,FALSE))","v":""},"AB",{"$f":"IF(G81=\"\",\"\",SUMIF(打撃データー!$F$6:$F$500,H81,打撃データー!$I$6:$I$500))","v":""},{"$f":"IF(G81=\"\",\"\",SUMIF(打撃データー!$F$6:$F$500,H81,打撃データー!$J$6:$J$500))","v":""},{"$f":"IF(G81=\"\",\"\",SUMIF(打撃データー!$F$6:$F$500,H81,打撃データー!$K$6:$K$500))","v":""},{"$f":"IF(G81=\"\",\"\",SUMIF(打撃データー!$F$6:$F$500,H81,打撃データー!$L$6:$L$500))","v":""},{"$f":"IF(G81=\"\",\"\",SUMIF(打撃データー!$F$6:$F$500,H81,打撃データー!$M$6:$M$500))","v":""},{"$f":"IF(G81=\"\",\"\",SUMIF(打撃データー!$F$6:$F$500,H81,打撃データー!$N$6:$N$500))","v":""},{"$f":"IF(G81=\"\",\"\",SUMIF(打撃データー!$F$6:$F$500,H81,打撃データー!$O$6:$O$500))","v":""},{"$f":"IF(G81=\"\",\"\",SUMIF(打撃データー!$F$6:$F$500,H81,打撃データー!$P$6:$P$500))","v":""},{"$f":"IF(G81=\"\",\"\",SUMIF(打撃データー!$F$6:$F$500,H81,打撃データー!$Q$6:$Q$500))","v":""},{"$f":"IF(G81=\"\",\"\",SUMIF(打撃データー!$F$6:$F$500,H81,打撃データー!$R$6:$R$500))","v":""},{"$f":"IF(G81=\"\",\"\",SUMIF(打撃データー!$F$6:$F$500,H81,打撃データー!$S$6:$S$500))","v":""},{"$f":"IF(G81=\"\",\"\",SUMIF(打撃データー!$F$6:$F$500,H81,打撃データー!$T$6:$T$500))","v":""},{"$f":"IF(G81=\"\",\"\",SUMIF(打撃データー!$F$6:$F$500,H81,打撃データー!$U$6:$U$500))","v":""},{"$f":"IF(G81=\"\",\"\",SUMIF(打撃データー!$F$6:$F$500,H81,打撃データー!$V$6:$V$500))","v":""},{"$f":"IF(G81=\"\",\"\",SUMIF(打撃データー!$F$6:$F$500,H81,打撃データー!$W$6:$W$500))","v":""},{"$f":"IF(G81=\"\",\"\",SUMIF(打撃データー!$F$6:$F$500,H81,打撃データー!$X$6:$X$500))","v":""},{"$f":"IF(G81=\"\",\"\",SUMIF(打撃データー!$F$6:$F$500,H81,打撃データー!$Y$6:$Y$500))","v":""},{"$f":"IF(G81=\"\",\"\",SUMIF(打撃データー!$F$6:$F$500,H81,打撃データー!$Z$6:$Z$500))","v":""},{"$f":"IF(G81=\"\",\"\",SUMIF(打撃データー!$F$6:$F$500,H81,打撃データー!$AA$6:$AA$500))","v":""},{"$f":"IF(G81=\"\",\"\",SUMIF(打撃データー!$F$6:$F$500,H81,打撃データー!$AC$6:$AC$500))","v":""},{"$f":"IF(G81=\"\",\"\",SUMIF(打撃データー!$AG$6:$AG$337,H81,打撃データー!$BE$6:$BE$337))","v":""},{"$f":"IF(G81=\"\",\"\",SUMIF(打撃データー!$AG$6:$AG$337,H81,打撃データー!$BF$6:$BF$337))","v":""},null,null,"","","","",""]
[null,null,null,null,null,{"$f":"VLOOKUP(H82,戦績!$N$6:$P$38,3,FALSE)","v":""},{"$f":"IF(F82=\"\",\"\",VLOOKUP(H82,戦績!$N$6:$O$39,2,FALSE))","v":""},"AC",{"$f":"IF(G82=\"\",\"\",SUMIF(打撃データー!$F$6:$F$500,H82,打撃データー!$I$6:$I$500))","v":""},{"$f":"IF(G82=\"\",\"\",SUMIF(打撃データー!$F$6:$F$500,H82,打撃データー!$J$6:$J$500))","v":""},{"$f":"IF(G82=\"\",\"\",SUMIF(打撃データー!$F$6:$F$500,H82,打撃データー!$K$6:$K$500))","v":""},{"$f":"IF(G82=\"\",\"\",SUMIF(打撃データー!$F$6:$F$500,H82,打撃データー!$L$6:$L$500))","v":""},{"$f":"IF(G82=\"\",\"\",SUMIF(打撃データー!$F$6:$F$500,H82,打撃データー!$M$6:$M$500))","v":""},{"$f":"IF(G82=\"\",\"\",SUMIF(打撃データー!$F$6:$F$500,H82,打撃データー!$N$6:$N$500))","v":""},{"$f":"IF(G82=\"\",\"\",SUMIF(打撃データー!$F$6:$F$500,H82,打撃データー!$O$6:$O$500))","v":""},{"$f":"IF(G82=\"\",\"\",SUMIF(打撃データー!$F$6:$F$500,H82,打撃データー!$P$6:$P$500))","v":""},{"$f":"IF(G82=\"\",\"\",SUMIF(打撃データー!$F$6:$F$500,H82,打撃データー!$Q$6:$Q$500))","v":""},{"$f":"IF(G82=\"\",\"\",SUMIF(打撃データー!$F$6:$F$500,H82,打撃データー!$R$6:$R$500))","v":""},{"$f":"IF(G82=\"\",\"\",SUMIF(打撃データー!$F$6:$F$500,H82,打撃データー!$S$6:$S$500))","v":""},{"$f":"IF(G82=\"\",\"\",SUMIF(打撃データー!$F$6:$F$500,H82,打撃データー!$T$6:$T$500))","v":""},{"$f":"IF(G82=\"\",\"\",SUMIF(打撃データー!$F$6:$F$500,H82,打撃データー!$U$6:$U$500))","v":""},{"$f":"IF(G82=\"\",\"\",SUMIF(打撃データー!$F$6:$F$500,H82,打撃データー!$V$6:$V$500))","v":""},{"$f":"IF(G82=\"\",\"\",SUMIF(打撃データー!$F$6:$F$500,H82,打撃データー!$W$6:$W$500))","v":""},{"$f":"IF(G82=\"\",\"\",SUMIF(打撃データー!$F$6:$F$500,H82,打撃データー!$X$6:$X$500))","v":""},{"$f":"IF(G82=\"\",\"\",SUMIF(打撃データー!$F$6:$F$500,H82,打撃データー!$Y$6:$Y$500))","v":""},{"$f":"IF(G82=\"\",\"\",SUMIF(打撃データー!$F$6:$F$500,H82,打撃データー!$Z$6:$Z$500))","v":""},{"$f":"IF(G82=\"\",\"\",SUMIF(打撃データー!$F$6:$F$500,H82,打撃データー!$AA$6:$AA$500))","v":""},{"$f":"IF(G82=\"\",\"\",SUMIF(打撃データー!$F$6:$F$500,H82,打撃データー!$AC$6:$AC$500))","v":""},{"$f":"IF(G82=\"\",\"\",SUMIF(打撃データー!$AG$6:$AG$337,H82,打撃データー!$BE$6:$BE$337))","v":""},{"$f":"IF(G82=\"\",\"\",SUMIF(打撃データー!$AG$6:$AG$337,H82,打撃データー!$BF$6:$BF$337))","v":""},null,null,"","","","",""]
[null,null,null,null,null,{"$f":"VLOOKUP(H83,戦績!$N$6:$P$38,3,FALSE)","v":""},{"$f":"IF(F83=\"\",\"\",VLOOKUP(H83,戦績!$N$6:$O$39,2,FALSE))","v":""},"AD",{"$f":"IF(G83=\"\",\"\",SUMIF(打撃データー!$F$6:$F$500,H83,打撃データー!$I$6:$I$500))","v":""},{"$f":"IF(G83=\"\",\"\",SUMIF(打撃データー!$F$6:$F$500,H83,打撃データー!$J$6:$J$500))","v":""},{"$f":"IF(G83=\"\",\"\",SUMIF(打撃データー!$F$6:$F$500,H83,打撃データー!$K$6:$K$500))","v":""},{"$f":"IF(G83=\"\",\"\",SUMIF(打撃データー!$F$6:$F$500,H83,打撃データー!$L$6:$L$500))","v":""},{"$f":"IF(G83=\"\",\"\",SUMIF(打撃データー!$F$6:$F$500,H83,打撃データー!$M$6:$M$500))","v":""},{"$f":"IF(G83=\"\",\"\",SUMIF(打撃データー!$F$6:$F$500,H83,打撃データー!$N$6:$N$500))","v":""},{"$f":"IF(G83=\"\",\"\",SUMIF(打撃データー!$F$6:$F$500,H83,打撃データー!$O$6:$O$500))","v":""},{"$f":"IF(G83=\"\",\"\",SUMIF(打撃データー!$F$6:$F$500,H83,打撃データー!$P$6:$P$500))","v":""},{"$f":"IF(G83=\"\",\"\",SUMIF(打撃データー!$F$6:$F$500,H83,打撃データー!$Q$6:$Q$500))","v":""},{"$f":"IF(G83=\"\",\"\",SUMIF(打撃データー!$F$6:$F$500,H83,打撃データー!$R$6:$R$500))","v":""},{"$f":"IF(G83=\"\",\"\",SUMIF(打撃データー!$F$6:$F$500,H83,打撃データー!$S$6:$S$500))","v":""},{"$f":"IF(G83=\"\",\"\",SUMIF(打撃データー!$F$6:$F$500,H83,打撃データー!$T$6:$T$500))","v":""},{"$f":"IF(G83=\"\",\"\",SUMIF(打撃データー!$F$6:$F$500,H83,打撃データー!$U$6:$U$500))","v":""},{"$f":"IF(G83=\"\",\"\",SUMIF(打撃データー!$F$6:$F$500,H83,打撃データー!$V$6:$V$500))","v":""},{"$f":"IF(G83=\"\",\"\",SUMIF(打撃データー!$F$6:$F$500,H83,打撃データー!$W$6:$W$500))","v":""},{"$f":"IF(G83=\"\",\"\",SUMIF(打撃データー!$F$6:$F$500,H83,打撃データー!$X$6:$X$500))","v":""},{"$f":"IF(G83=\"\",\"\",SUMIF(打撃データー!$F$6:$F$500,H83,打撃データー!$Y$6:$Y$500))","v":""},{"$f":"IF(G83=\"\",\"\",SUMIF(打撃データー!$F$6:$F$500,H83,打撃データー!$Z$6:$Z$500))","v":""},{"$f":"IF(G83=\"\",\"\",SUMIF(打撃データー!$F$6:$F$500,H83,打撃データー!$AA$6:$AA$500))","v":""},{"$f":"IF(G83=\"\",\"\",SUMIF(打撃データー!$F$6:$F$500,H83,打撃データー!$AC$6:$AC$500))","v":""},{"$f":"IF(G83=\"\",\"\",SUMIF(打撃データー!$AG$6:$AG$337,H83,打撃データー!$BE$6:$BE$337))","v":""},{"$f":"IF(G83=\"\",\"\",SUMIF(打撃データー!$AG$6:$AG$337,H83,打撃データー!$BF$6:$BF$337))","v":""},null,null,"","","","",""]
[null,null,null,null,null,{"$f":"VLOOKUP(H84,戦績!$N$6:$P$38,3,FALSE)","v":""},{"$f":"IF(F84=\"\",\"\",VLOOKUP(H84,戦績!$N$6:$O$39,2,FALSE))","v":""},"AE",{"$f":"IF(G84=\"\",\"\",SUMIF(打撃データー!$F$6:$F$500,H84,打撃データー!$I$6:$I$500))","v":""},{"$f":"IF(G84=\"\",\"\",SUMIF(打撃データー!$F$6:$F$500,H84,打撃データー!$J$6:$J$500))","v":""},{"$f":"IF(G84=\"\",\"\",SUMIF(打撃データー!$F$6:$F$500,H84,打撃データー!$K$6:$K$500))","v":""},{"$f":"IF(G84=\"\",\"\",SUMIF(打撃データー!$F$6:$F$500,H84,打撃データー!$L$6:$L$500))","v":""},{"$f":"IF(G84=\"\",\"\",SUMIF(打撃データー!$F$6:$F$500,H84,打撃データー!$M$6:$M$500))","v":""},{"$f":"IF(G84=\"\",\"\",SUMIF(打撃データー!$F$6:$F$500,H84,打撃データー!$N$6:$N$500))","v":""},{"$f":"IF(G84=\"\",\"\",SUMIF(打撃データー!$F$6:$F$500,H84,打撃データー!$O$6:$O$500))","v":""},{"$f":"IF(G84=\"\",\"\",SUMIF(打撃データー!$F$6:$F$500,H84,打撃データー!$P$6:$P$500))","v":""},{"$f":"IF(G84=\"\",\"\",SUMIF(打撃データー!$F$6:$F$500,H84,打撃データー!$Q$6:$Q$500))","v":""},{"$f":"IF(G84=\"\",\"\",SUMIF(打撃データー!$F$6:$F$500,H84,打撃データー!$R$6:$R$500))","v":""},{"$f":"IF(G84=\"\",\"\",SUMIF(打撃データー!$F$6:$F$500,H84,打撃データー!$S$6:$S$500))","v":""},{"$f":"IF(G84=\"\",\"\",SUMIF(打撃データー!$F$6:$F$500,H84,打撃データー!$T$6:$T$500))","v":""},{"$f":"IF(G84=\"\",\"\",SUMIF(打撃データー!$F$6:$F$500,H84,打撃データー!$U$6:$U$500))","v":""},{"$f":"IF(G84=\"\",\"\",SUMIF(打撃データー!$F$6:$F$500,H84,打撃データー!$V$6:$V$500))","v":""},{"$f":"IF(G84=\"\",\"\",SUMIF(打撃データー!$F$6:$F$500,H84,打撃データー!$W$6:$W$500))","v":""},{"$f":"IF(G84=\"\",\"\",SUMIF(打撃データー!$F$6:$F$500,H84,打撃データー!$X$6:$X$500))","v":""},{"$f":"IF(G84=\"\",\"\",SUMIF(打撃データー!$F$6:$F$500,H84,打撃データー!$Y$6:$Y$500))","v":""},{"$f":"IF(G84=\"\",\"\",SUMIF(打撃データー!$F$6:$F$500,H84,打撃データー!$Z$6:$Z$500))","v":""},{"$f":"IF(G84=\"\",\"\",SUMIF(打撃データー!$F$6:$F$500,H84,打撃データー!$AA$6:$AA$500))","v":""},{"$f":"IF(G84=\"\",\"\",SUMIF(打撃データー!$F$6:$F$500,H84,打撃データー!$AC$6:$AC$500))","v":""},{"$f":"IF(G84=\"\",\"\",SUMIF(打撃データー!$AG$6:$AG$337,H84,打撃データー!$BE$6:$BE$337))","v":""},{"$f":"IF(G84=\"\",\"\",SUMIF(打撃データー!$AG$6:$AG$337,H84,打撃データー!$BF$6:$BF$337))","v":""},null,null,"","","","",""]
[null,null,null,null,null,{"$f":"VLOOKUP(H85,戦績!$N$6:$P$38,3,FALSE)","v":""},{"$f":"IF(F85=\"\",\"\",VLOOKUP(H85,戦績!$N$6:$O$39,2,FALSE))","v":""},"AG",{"$f":"IF(G85=\"\",\"\",SUMIF(打撃データー!$F$6:$F$500,H85,打撃データー!$I$6:$I$500))","v":""},{"$f":"IF(G85=\"\",\"\",SUMIF(打撃データー!$F$6:$F$500,H85,打撃データー!$J$6:$J$500))","v":""},{"$f":"IF(G85=\"\",\"\",SUMIF(打撃データー!$F$6:$F$500,H85,打撃データー!$K$6:$K$500))","v":""},{"$f":"IF(G85=\"\",\"\",SUMIF(打撃データー!$F$6:$F$500,H85,打撃データー!$L$6:$L$500))","v":""},{"$f":"IF(G85=\"\",\"\",SUMIF(打撃データー!$F$6:$F$500,H85,打撃データー!$M$6:$M$500))","v":""},{"$f":"IF(G85=\"\",\"\",SUMIF(打撃データー!$F$6:$F$500,H85,打撃データー!$N$6:$N$500))","v":""},{"$f":"IF(G85=\"\",\"\",SUMIF(打撃データー!$F$6:$F$500,H85,打撃データー!$O$6:$O$500))","v":""},{"$f":"IF(G85=\"\",\"\",SUMIF(打撃データー!$F$6:$F$500,H85,打撃データー!$P$6:$P$500))","v":""},{"$f":"IF(G85=\"\",\"\",SUMIF(打撃データー!$F$6:$F$500,H85,打撃データー!$Q$6:$Q$500))","v":""},{"$f":"IF(G85=\"\",\"\",SUMIF(打撃データー!$F$6:$F$500,H85,打撃データー!$R$6:$R$500))","v":""},{"$f":"IF(G85=\"\",\"\",SUMIF(打撃データー!$F$6:$F$500,H85,打撃データー!$S$6:$S$500))","v":""},{"$f":"IF(G85=\"\",\"\",SUMIF(打撃データー!$F$6:$F$500,H85,打撃データー!$T$6:$T$500))","v":""},{"$f":"IF(G85=\"\",\"\",SUMIF(打撃データー!$F$6:$F$500,H85,打撃データー!$U$6:$U$500))","v":""},{"$f":"IF(G85=\"\",\"\",SUMIF(打撃データー!$F$6:$F$500,H85,打撃データー!$V$6:$V$500))","v":""},{"$f":"IF(G85=\"\",\"\",SUMIF(打撃データー!$F$6:$F$500,H85,打撃データー!$W$6:$W$500))","v":""},{"$f":"IF(G85=\"\",\"\",SUMIF(打撃データー!$F$6:$F$500,H85,打撃データー!$X$6:$X$500))","v":""},{"$f":"IF(G85=\"\",\"\",SUMIF(打撃データー!$F$6:$F$500,H85,打撃データー!$Y$6:$Y$500))","v":""},{"$f":"IF(G85=\"\",\"\",SUMIF(打撃データー!$F$6:$F$500,H85,打撃データー!$Z$6:$Z$500))","v":""},{"$f":"IF(G85=\"\",\"\",SUMIF(打撃データー!$F$6:$F$500,H85,打撃データー!$AA$6:$AA$500))","v":""},{"$f":"IF(G85=\"\",\"\",SUMIF(打撃データー!$F$6:$F$500,H85,打撃データー!$AC$6:$AC$500))","v":""},{"$f":"IF(G85=\"\",\"\",SUMIF(打撃データー!$AG$6:$AG$337,H85,打撃データー!$BE$6:$BE$337))","v":""},{"$f":"IF(G85=\"\",\"\",SUMIF(打撃データー!$AG$6:$AG$337,H85,打撃データー!$BF$6:$BF$337))","v":""},null,null,"","","","",""]
[]
[null,null,null,null,null,null,"対峙投手のPS別打撃成績",null,null,null,null,null,null,null,null,null,null,null,null,null,null,null,null,null,null,null,null,null,null,"得点圏",null,null,null,null,null,null,"得点圏"]
[null,null,null,null,null,null,"選手名","背番","PS","打席","打数","凡打","安打","二打","三打","本打","打点","得点","三振","四球","死球","犠打","犠飛","盗塁","盗死","併殺","敵失","投数","塁打","打数","安打",null,"打率","長打率","出塁率","OPS","打率"]
[null,null,null,null,"選手のリスト選択→",null,null,{"$f":"IFERROR(VLOOKUP($G$89,$G$95:$AK$127,2,FALSE),\"\")","v":""},"R",{"$f":"IFERROR(VLOOKUP($G$89,$G$95:$AK$127,4,FALSE),\"\")","v":""},{"$f":"IFERROR(VLOOKUP($G$89,$G$95:$AK$127,5,FALSE),\"\")","v":""},{"$f":"IFERROR(VLOOKUP($G$89,$G$95:$AK$127,6,FALSE),\"\")","v":""},{"$f":"IFERROR(VLOOKUP($G$89,$G$95:$AK$127,7,FALSE),\"\")","v":""},{"$f":"IFERROR(VLOOKUP($G$89,$G$95:$AK$127,8,FALSE),\"\")","v":""},{"$f":"IFERROR(VLOOKUP($G$89,$G$95:$AK$127,9,FALSE),\"\")","v":""},{"$f":"IFERROR(VLOOKUP($G$89,$G$95:$AK$127,10,FALSE),\"\")","v":""},{"$f":"IFERROR(VLOOKUP($G$89,$G$95:$AK$127,11,FALSE),\"\")","v":""},{"$f":"IFERROR(VLOOKUP($G$89,$G$95:$AK$127,12,FALSE),\"\")","v":""},{"$f":"IFERROR(VLOOKUP($G$89,$G$95:$AK$127,13,FALSE),\"\")","v":""},{"$f":"IFERROR(VLOOKUP($G$89,$G$95:$AK$127,14,FALSE),\"\")","v":""},{"$f":"IFERROR(VLOOKUP($G$89,$G$95:$AK$127,15,FALSE),\"\")","v":""},{"$f":"IFERROR(VLOOKUP($G$89,$G$95:$AK$127,16,FALSE),\"\")","v":""},{"$f":"IFERROR(VLOOKUP($G$89,$G$95:$AK$127,17,FALSE),\"\")","v":""},{"$f":"IFERROR(VLOOKUP($G$89,$G$95:$AK$127,18,FALSE),\"\")","v":""},{"$f":"IFERROR(VLOOKUP($G$89,$G$95:$AK$127,19,FALSE),\"\")","v":""},{"$f":"IFERROR(VLOOKUP($G$89,$G$95:$AK$127,20,FALSE),\"\")","v":""},{"$f":"IFERROR(VLOOKUP($G$89,$G$95:$AK$127,21,FALSE),\"\")","v":""},{"$f":"IFERROR(VLOOKUP($G$89,$G$95:$AK$127,22,FALSE),\"\")","v":""},{"$f":"IFERROR(VLOOKUP($G$89,$G$95:$AK$127,23,FALSE),\"\")","v":""},{"$f":"IFERROR(VLOOKUP($G$89,$G$95:$AK$127,24,FALSE),\"\")","v":""},{"$f":"IFERROR(VLOOKUP($G$89,$G$95:$AK$127,25,FALSE),\"\")","v":""},null,{"$f":"IF(G89=\"\",\"\",IFERROR((M89+N89+O89+P89)/K89,\"無\"))","v":""},{"$f":"IF(G89=\"\",\"\",IFERROR(AC89/K89,\"無\"))","v":""},{"$f":"IF(G89=\"\",\"\",IFERROR((M89+N89+O89+P89+T89+U89)/(K89+T89+U89+W89),\"無\"))","v":""},{"$f":"IF(G89=\"\",\"\",IFERROR((AH89+AI89),\"無\"))","v":""},{"$f":"IF(G89=\"\",\"\",IFERROR(AE89/AD89,\"無\"))","v":""}]
[null,null,null,null,null,null,{"$f":"IF(G89=\"\",\"\",G89)","v":""},{"$f":"IFERROR(VLOOKUP($G$90,$G$128:$AE$160,2,FALSE),\"\")","v":""},"L",{"$f":"IFERROR(VLOOKUP($G$90,$G$128:$AE$160,4,FALSE),\"\")","v":""},{"$f":"IFERROR(VLOOKUP($G$90,$G$128:$AE$160,5,FALSE),\"\")","v":""},{"$f":"IFERROR(VLOOKUP($G$90,$G$128:$AE$160,6,FALSE),\"\")","v":""},{"$f":"IFERROR(VLOOKUP($G$90,$G$128:$AE$160,7,FALSE),\"\")","v":""},{"$f":"IFERROR(VLOOKUP($G$90,$G$128:$AE$160,8,FALSE),\"\")","v":""},{"$f":"IFERROR(VLOOKUP($G$90,$G$128:$AE$160,9,FALSE),\"\")","v":""},{"$f":"IFERROR(VLOOKUP($G$90,$G$128:$AE$160,10,FALSE),\"\")","v":""},{"$f":"IFERROR(VLOOKUP($G$90,$G$128:$AE$160,11,FALSE),\"\")","v":""},{"$f":"IFERROR(VLOOKUP($G$90,$G$128:$AE$160,12,FALSE),\"\")","v":""},{"$f":"IFERROR(VLOOKUP($G$90,$G$128:$AE$160,13,FALSE),\"\")","v":""},{"$f":"IFERROR(VLOOKUP($G$90,$G$128:$AE$160,14,FALSE),\"\")","v":""},{"$f":"IFERROR(VLOOKUP($G$90,$G$128:$AE$160,15,FALSE),\"\")","v":""},{"$f":"IFERROR(VLOOKUP($G$90,$G$128:$AE$160,16,FALSE),\"\")","v":""},{"$f":"IFERROR(VLOOKUP($G$90,$G$128:$AE$160,17,FALSE),\"\")","v":""},{"$f":"IFERROR(VLOOKUP($G$90,$G$128:$AE$160,18,FALSE),\"\")","v":""},{"$f":"IFERROR(VLOOKUP($G$90,$G$128:$AE$160,19,FALSE),\"\")","v":""},{"$f":"IFERROR(VLOOKUP($G$90,$G$128:$AE$160,20,FALSE),\"\")","v":""},{"$f":"IFERROR(VLOOKUP($G$90,$G$128:$AE$160,21,FALSE),\"\")","v":""},{"$f":"IFERROR(VLOOKUP($G$90,$G$128:$AE$160,22,FALSE),\"\")","v":""},{"$f":"IFERROR(VLOOKUP($G$90,$G$128:$AE$160,23,FALSE),\"\")","v":""},{"$f":"IFERROR(VLOOKUP($G$90,$G$128:$AE$160,24,FALSE),\"\")","v":""},{"$f":"IFERROR(VLOOKUP($G$90,$G$128:$AE$160,25,FALSE),\"\")","v":""},null,{"$f":"IF(G89=\"\",\"\",IFERROR((M90+N90+O90+P90)/K90,\"無\"))","v":""},{"$f":"IF(G89=\"\",\"\",IFERROR(AC90/K90,\"無\"))","v":""},{"$f":"IF(G89=\"\",\"\",IFERROR((M90+N90+O90+P90+T90+U90)/(K90+T90+U90+W90),\"無\"))","v":""},{"$f":"IF(G89=\"\",\"\",IFERROR((AH90+AI90),\"無\"))","v":""},{"$f":"IF(G89=\"\",\"\",IFERROR(AE90/AD90,\"無\"))","v":""}]
[null,null,null,null,null,null,"合計",null,null,{"$f":"IF($G$89=\"\",\"\",J89+J90)","v":""},{"$f":"IF($G$89=\"\",\"\",K89+K90)","v":""},"","","","","","","","","","","","","","","","","","","","",null,{"$f":"IF(G89=\"\",\"\",IFERROR((M91+N91+O91+P91)/K91,\"無\"))","v":""},{"$f":"IF(G89=\"\",\"\",IFERROR(AC91/K91,\"無\"))","v":""},{"$f":"IF(G89=\"\",\"\",IFERROR((M91+N91+O91+P91+T91+U91)/(K91+T91+U91+W91),\"無\"))","v":""},{"$f":"IF(G89=\"\",\"\",IFERROR((AH91+AI91),\"無\"))","v":""},{"$f":"IF(G89=\"\",\"\",IFERROR(AE91/AD91,\"無\"))","v":""}]
[null,null,null,null,null,null,null,null,null,null,null,null,null,null,null,null,null,null,null,null,null,null,null,null,null,null,null,null,null,null,null,null,{"$f":"IF(G92=\"\",\"\",(M92+N92+O92+P92)/K92)","v":""},{"$f":"IF(G92=\"\",\"\",AC92/K92)","v":""},{"$f":"IF(G92=\"\",\"\",(M92+N92+O92+P92+T92+U92)/(K92+T92+U92+W92))","v":""},{"$f":"IF(G92=\"\",\"\",(AH92+AI92))","v":""},{"$f":"IF(G92=\"\",\"\",AE92/AD92)","v":""}]
[null,null,null,null,"チーム名",null,null,null,null,null,null,null,null,null,null,null,null,null,null,null,null,null,null,null,null,null,null,null,null,"得点圏",null,null,null,null,null,null,"得点圏"]
[null,null,null,null,{"$f":"IF(E5=\"\",\"\",E5)","v":""},"T番","選手名","背番","PS","打席","打数","凡打","安打","二打","三打","本打","打点","得点","三振","四球","死球","犠打","犠飛","盗塁","盗死","併殺","敵失","投数","塁打","打数","安打",null,"打率","長打率","出塁率","OPS","打率"]
[null,null,null,null,"対峙：右投手",{"$f":"IF(G95=\"\",\"\",$F$5)","v":""},{"$f":"IF(G9=\"\",\"\",G9)","v":""},{"$f":"IF(H9=\"\",\"\",H9)","v":""},"RR",{"$f":"IF(G95=\"\",\"\",SUMIFS(打撃データー!$AK$6:$AK$500,打撃データー!$AG$6:$AG$500,F95,打撃データー!$AI$6:$AI$500,H95,打撃データー!$AJ$6:$AJ$500,打撃成績!I95))","v":""},{"$f":"IF(G95=\"\",\"\",SUMIFS(打撃データー!$AL$6:$AL$500,打撃データー!$AG$6:$AG$500,F95,打撃データー!$AI$6:$AI$500,H95,打撃データー!$AJ$6:$AJ$500,打撃成績!I95))","v":""},{"$f":"IF(G95=\"\",\"\",SUMIFS(打撃データー!$AM$6:$AM$500,打撃データー!$AG$6:$AG$500,F95,打撃データー!$AI$6:$AI$500,H95,打撃データー!$AJ$6:$AJ$500,打撃成績!I95))","v":""},{"$f":"IF(G95=\"\",\"\",SUMIFS(打撃データー!$AN$6:$AN$500,打撃データー!$AG$6:$AG$500,F95,打撃データー!$AI$6:$AI$500,H95,打撃データー!$AJ$6:$AJ$500,打撃成績!I95))","v":""},{"$f":"IF(G95=\"\",\"\",SUMIFS(打撃データー!$AO$6:$AO$500,打撃データー!$AG$6:$AG$500,F95,打撃データー!$AI$6:$AI$500,H95,打撃データー!$AJ$6:$AJ$500,打撃成績!I95))","v":""},{"$f":"IF(G95=\"\",\"\",SUMIFS(打撃データー!$AP$6:$AP$500,打撃データー!$AG$6:$AG$500,F95,打撃データー!$AI$6:$AI$500,H95,打撃データー!$AJ$6:$AJ$500,打撃成績!I95))","v":""},{"$f":"IF(G95=\"\",\"\",SUMIFS(打撃データー!$AQ$6:$AQ$500,打撃データー!$AG$6:$AG$500,F95,打撃データー!$AI$6:$AI$500,H95,打撃データー!$AJ$6:$AJ$500,打撃成績!I95))","v":""},{"$f":"IF(G95=\"\",\"\",SUMIFS(打撃データー!$AR$6:$AR$500,打撃データー!$AG$6:$AG$500,F95,打撃データー!$AI$6:$AI$500,H95,打撃データー!$AJ$6:$AJ$500,打撃成績!I95))","v":""},{"$f":"IF(G95=\"\",\"\",SUMIFS(打撃データー!$AS$6:$AS$500,打撃データー!$AG$6:$AG$500,F95,打撃データー!$AI$6:$AI$500,H95,打撃データー!$AJ$6:$AJ$500,打撃成績!I95))","v":""},{"$f":"IF(G95=\"\",\"\",SUMIFS(打撃データー!$AT$6:$AT$500,打撃データー!$AG$6:$AG$500,F95,打撃データー!$AI$6:$AI$500,H95,打撃データー!$AJ$6:$AJ$500,打撃成績!I95))","v":""},{"$f":"IF(G95=\"\",\"\",SUMIFS(打撃データー!$AU$6:$AU$500,打撃データー!$AG$6:$AG$500,F95,打撃データー!$AI$6:$AI$500,H95,打撃データー!$AJ$6:$AJ$500,打撃成績!I95))","v":""},{"$f":"IF(G95=\"\",\"\",SUMIFS(打撃データー!$AV$6:$AV$500,打撃データー!$AG$6:$AG$500,F95,打撃データー!$AI$6:$AI$500,H95,打撃データー!$AJ$6:$AJ$500,打撃成績!I95))","v":""},{"$f":"IF(G95=\"\",\"\",SUMIFS(打撃データー!$AW$6:$AW$500,打撃データー!$AG$6:$AG$500,F95,打撃データー!$AI$6:$AI$500,H95,打撃データー!$AJ$6:$AJ$500,打撃成績!I95))","v":""},{"$f":"IF(G95=\"\",\"\",SUMIFS(打撃データー!$AX$6:$AX$500,打撃データー!$AG$6:$AG$500,F95,打撃データー!$AI$6:$AI$500,H95,打撃データー!$AJ$6:$AJ$500,打撃成績!I95))","v":""},{"$f":"IF(G95=\"\",\"\",SUMIFS(打撃データー!$AY$6:$AY$500,打撃データー!$AG$6:$AG$500,F95,打撃データー!$AI$6:$AI$500,H95,打撃データー!$AJ$6:$AJ$500,打撃成績!I95))","v":""},{"$f":"IF(G95=\"\",\"\",SUMIFS(打撃データー!$AZ$6:$AZ$500,打撃データー!$AG$6:$AG$500,F95,打撃データー!$AI$6:$AI$500,H95,打撃データー!$AJ$6:$AJ$500,打撃成績!I95))","v":""},{"$f":"IF(G95=\"\",\"\",SUMIFS(打撃データー!$BA$6:$BA$500,打撃データー!$AG$6:$AG$500,F95,打撃データー!$AI$6:$AI$500,H95,打撃データー!$AJ$6:$AJ$500,打撃成績!I95))","v":""},{"$f":"IF(G95=\"\",\"\",SUMIFS(打撃データー!$BB$6:$BB$500,打撃データー!$AG$6:$AG$500,F95,打撃データー!$AI$6:$AI$500,H95,打撃データー!$AJ$6:$AJ$500,打撃成績!I95))","v":""},{"$f":"IF(G95=\"\",\"\",SUMIFS(打撃データー!$BC$6:$BC$500,打撃データー!$AG$6:$AG$500,F95,打撃データー!$AI$6:$AI$500,H95,打撃データー!$AJ$6:$AJ$500,打撃成績!I95))","v":""},{"$f":"IF(G95=\"\",\"\",SUMIFS(打撃データー!$BD$6:$BD$500,打撃データー!$AG$6:$AG$500,F95,打撃データー!$AI$6:$AI$500,H95,打撃データー!$AJ$6:$AJ$500,打撃成績!I95))","v":""},{"$f":"IF(G95=\"\",\"\",SUMIFS(打撃データー!$BE$6:$BE$500,打撃データー!$AG$6:$AG$500,F95,打撃データー!$AI$6:$AI$500,H95,打撃データー!$AJ$6:$AJ$500,打撃成績!I95))","v":""},{"$f":"IF(G95=\"\",\"\",SUMIFS(打撃データー!$BF$6:$BF$500,打撃データー!$AG$6:$AG$500,F95,打撃データー!$AI$6:$AI$500,H95,打撃データー!$AJ$6:$AJ$500,打撃成績!I95))","v":""},null,{"$f":"IF(G95=\"\",\"\",(M95+N95+O95+P95)/K95)","v":""},{"$f":"IF(G95=\"\",\"\",AC95/K95)","v":""},{"$f":"IF(G95=\"\",\"\",(M95+N95+O95+P95+T95+U95)/(K95+T95+U95+W95))","v":""},{"$f":"IF(G95=\"\",\"\",(AH95+AI95))","v":""},{"$f":"IF(G95=\"\",\"\",IFERROR(AE95/AD95,\"無\"))","v":""}]
[null,null,null,null,null,{"$f":"IF(G96=\"\",\"\",$F$5)","v":""},{"$f":"IF(G10=\"\",\"\",G10)","v":""},"","RR",{"$f":"IF(G96=\"\",\"\",SUMIFS(打撃データー!$AK$6:$AK$500,打撃データー!$AG$6:$AG$500,F96,打撃データー!$AI$6:$AI$500,H96,打撃データー!$AJ$6:$AJ$500,打撃成績!I96))","v":""},{"$f":"IF(G96=\"\",\"\",SUMIFS(打撃データー!$AL$6:$AL$500,打撃データー!$AG$6:$AG$500,F96,打撃データー!$AI$6:$AI$500,H96,打撃データー!$AJ$6:$AJ$500,打撃成績!I96))","v":""},{"$f":"IF(G96=\"\",\"\",SUMIFS(打撃データー!$AM$6:$AM$500,打撃データー!$AG$6:$AG$500,F96,打撃データー!$AI$6:$AI$500,H96,打撃データー!$AJ$6:$AJ$500,打撃成績!I96))","v":""},{"$f":"IF(G96=\"\",\"\",SUMIFS(打撃データー!$AN$6:$AN$500,打撃データー!$AG$6:$AG$500,F96,打撃データー!$AI$6:$AI$500,H96,打撃データー!$AJ$6:$AJ$500,打撃成績!I96))","v":""},{"$f":"IF(G96=\"\",\"\",SUMIFS(打撃データー!$AO$6:$AO$500,打撃データー!$AG$6:$AG$500,F96,打撃データー!$AI$6:$AI$500,H96,打撃データー!$AJ$6:$AJ$500,打撃成績!I96))","v":""},{"$f":"IF(G96=\"\",\"\",SUMIFS(打撃データー!$AP$6:$AP$500,打撃データー!$AG$6:$AG$500,F96,打撃データー!$AI$6:$AI$500,H96,打撃データー!$AJ$6:$AJ$500,打撃成績!I96))","v":""},{"$f":"IF(G96=\"\",\"\",SUMIFS(打撃データー!$AQ$6:$AQ$500,打撃データー!$AG$6:$AG$500,F96,打撃データー!$AI$6:$AI$500,H96,打撃データー!$AJ$6:$AJ$500,打撃成績!I96))","v":""},{"$f":"IF(G96=\"\",\"\",SUMIFS(打撃データー!$AR$6:$AR$500,打撃データー!$AG$6:$AG$500,F96,打撃データー!$AI$6:$AI$500,H96,打撃データー!$AJ$6:$AJ$500,打撃成績!I96))","v":""},{"$f":"IF(G96=\"\",\"\",SUMIFS(打撃データー!$AS$6:$AS$500,打撃データー!$AG$6:$AG$500,F96,打撃データー!$AI$6:$AI$500,H96,打撃データー!$AJ$6:$AJ$500,打撃成績!I96))","v":""},{"$f":"IF(G96=\"\",\"\",SUMIFS(打撃データー!$AT$6:$AT$500,打撃データー!$AG$6:$AG$500,F96,打撃データー!$AI$6:$AI$500,H96,打撃データー!$AJ$6:$AJ$500,打撃成績!I96))","v":""},{"$f":"IF(G96=\"\",\"\",SUMIFS(打撃データー!$AU$6:$AU$500,打撃データー!$AG$6:$AG$500,F96,打撃データー!$AI$6:$AI$500,H96,打撃データー!$AJ$6:$AJ$500,打撃成績!I96))","v":""},{"$f":"IF(G96=\"\",\"\",SUMIFS(打撃データー!$AV$6:$AV$500,打撃データー!$AG$6:$AG$500,F96,打撃データー!$AI$6:$AI$500,H96,打撃データー!$AJ$6:$AJ$500,打撃成績!I96))","v":""},{"$f":"IF(G96=\"\",\"\",SUMIFS(打撃データー!$AW$6:$AW$500,打撃データー!$AG$6:$AG$500,F96,打撃データー!$AI$6:$AI$500,H96,打撃データー!$AJ$6:$AJ$500,打撃成績!I96))","v":""},{"$f":"IF(G96=\"\",\"\",SUMIFS(打撃データー!$AX$6:$AX$500,打撃データー!$AG$6:$AG$500,F96,打撃データー!$AI$6:$AI$500,H96,打撃データー!$AJ$6:$AJ$500,打撃成績!I96))","v":""},{"$f":"IF(G96=\"\",\"\",SUMIFS(打撃データー!$AY$6:$AY$500,打撃データー!$AG$6:$AG$500,F96,打撃データー!$AI$6:$AI$500,H96,打撃データー!$AJ$6:$AJ$500,打撃成績!I96))","v":""},{"$f":"IF(G96=\"\",\"\",SUMIFS(打撃データー!$AZ$6:$AZ$500,打撃データー!$AG$6:$AG$500,F96,打撃データー!$AI$6:$AI$500,H96,打撃データー!$AJ$6:$AJ$500,打撃成績!I96))","v":""},{"$f":"IF(G96=\"\",\"\",SUMIFS(打撃データー!$BA$6:$BA$500,打撃データー!$AG$6:$AG$500,F96,打撃データー!$AI$6:$AI$500,H96,打撃データー!$AJ$6:$AJ$500,打撃成績!I96))","v":""},{"$f":"IF(G96=\"\",\"\",SUMIFS(打撃データー!$BB$6:$BB$500,打撃データー!$AG$6:$AG$500,F96,打撃データー!$AI$6:$AI$500,H96,打撃データー!$AJ$6:$AJ$500,打撃成績!I96))","v":""},{"$f":"IF(G96=\"\",\"\",SUMIFS(打撃データー!$BC$6:$BC$500,打撃データー!$AG$6:$AG$500,F96,打撃データー!$AI$6:$AI$500,H96,打撃データー!$AJ$6:$AJ$500,打撃成績!I96))","v":""},{"$f":"IF(G96=\"\",\"\",SUMIFS(打撃データー!$BD$6:$BD$500,打撃データー!$AG$6:$AG$500,F96,打撃データー!$AI$6:$AI$500,H96,打撃データー!$AJ$6:$AJ$500,打撃成績!I96))","v":""},{"$f":"IF(G96=\"\",\"\",SUMIFS(打撃データー!$BE$6:$BE$500,打撃データー!$AG$6:$AG$500,F96,打撃データー!$AI$6:$AI$500,H96,打撃データー!$AJ$6:$AJ$500,打撃成績!I96))","v":""},{"$f":"IF(G96=\"\",\"\",SUMIFS(打撃データー!$BF$6:$BF$500,打撃データー!$AG$6:$AG$500,F96,打撃データー!$AI$6:$AI$500,H96,打撃データー!$AJ$6:$AJ$500,打撃成績!I96))","v":""},null,{"$f":"IF(G96=\"\",\"\",(M96+N96+O96+P96)/K96)","v":""},{"$f":"IF(G96=\"\",\"\",AC96/K96)","v":""},{"$f":"IF(G96=\"\",\"\",(M96+N96+O96+P96+T96+U96)/(K96+T96+U96+W96))","v":""},{"$f":"IF(G96=\"\",\"\",(AH96+AI96))","v":""},{"$f":"IF(G96=\"\",\"\",IFERROR(AE96/AD96,\"無\"))","v":""}]
[null,null,null,null,null,"",{"$f":"IF(G11=\"\",\"\",G11)","v":""},"","RR",{"$f":"IF(G97=\"\",\"\",SUMIFS(打撃データー!$AK$6:$AK$500,打撃データー!$AG$6:$AG$500,F97,打撃データー!$AI$6:$AI$500,H97,打撃データー!$AJ$6:$AJ$500,打撃成績!I97))","v":""},{"$f":"IF(G97=\"\",\"\",SUMIFS(打撃データー!$AL$6:$AL$500,打撃データー!$AG$6:$AG$500,F97,打撃データー!$AI$6:$AI$500,H97,打撃データー!$AJ$6:$AJ$500,打撃成績!I97))","v":""},{"$f":"IF(G97=\"\",\"\",SUMIFS(打撃データー!$AM$6:$AM$500,打撃データー!$AG$6:$AG$500,F97,打撃データー!$AI$6:$AI$500,H97,打撃データー!$AJ$6:$AJ$500,打撃成績!I97))","v":""},{"$f":"IF(G97=\"\",\"\",SUMIFS(打撃データー!$AN$6:$AN$500,打撃データー!$AG$6:$AG$500,F97,打撃データー!$AI$6:$AI$500,H97,打撃データー!$AJ$6:$AJ$500,打撃成績!I97))","v":""},{"$f":"IF(G97=\"\",\"\",SUMIFS(打撃データー!$AO$6:$AO$500,打撃データー!$AG$6:$AG$500,F97,打撃データー!$AI$6:$AI$500,H97,打撃データー!$AJ$6:$AJ$500,打撃成績!I97))","v":""},{"$f":"IF(G97=\"\",\"\",SUMIFS(打撃データー!$AP$6:$AP$500,打撃データー!$AG$6:$AG$500,F97,打撃データー!$AI$6:$AI$500,H97,打撃データー!$AJ$6:$AJ$500,打撃成績!I97))","v":""},{"$f":"IF(G97=\"\",\"\",SUMIFS(打撃データー!$AQ$6:$AQ$500,打撃データー!$AG$6:$AG$500,F97,打撃データー!$AI$6:$AI$500,H97,打撃データー!$AJ$6:$AJ$500,打撃成績!I97))","v":""},{"$f":"IF(G97=\"\",\"\",SUMIFS(打撃データー!$AR$6:$AR$500,打撃データー!$AG$6:$AG$500,F97,打撃データー!$AI$6:$AI$500,H97,打撃データー!$AJ$6:$AJ$500,打撃成績!I97))","v":""},{"$f":"IF(G97=\"\",\"\",SUMIFS(打撃データー!$AS$6:$AS$500,打撃データー!$AG$6:$AG$500,F97,打撃データー!$AI$6:$AI$500,H97,打撃データー!$AJ$6:$AJ$500,打撃成績!I97))","v":""},{"$f":"IF(G97=\"\",\"\",SUMIFS(打撃データー!$AT$6:$AT$500,打撃データー!$AG$6:$AG$500,F97,打撃データー!$AI$6:$AI$500,H97,打撃データー!$AJ$6:$AJ$500,打撃成績!I97))","v":""},{"$f":"IF(G97=\"\",\"\",SUMIFS(打撃データー!$AU$6:$AU$500,打撃データー!$AG$6:$AG$500,F97,打撃データー!$AI$6:$AI$500,H97,打撃データー!$AJ$6:$AJ$500,打撃成績!I97))","v":""},{"$f":"IF(G97=\"\",\"\",SUMIFS(打撃データー!$AV$6:$AV$500,打撃データー!$AG$6:$AG$500,F97,打撃データー!$AI$6:$AI$500,H97,打撃データー!$AJ$6:$AJ$500,打撃成績!I97))","v":""},{"$f":"IF(G97=\"\",\"\",SUMIFS(打撃データー!$AW$6:$AW$500,打撃データー!$AG$6:$AG$500,F97,打撃データー!$AI$6:$AI$500,H97,打撃データー!$AJ$6:$AJ$500,打撃成績!I97))","v":""},{"$f":"IF(G97=\"\",\"\",SUMIFS(打撃データー!$AX$6:$AX$500,打撃データー!$AG$6:$AG$500,F97,打撃データー!$AI$6:$AI$500,H97,打撃データー!$AJ$6:$AJ$500,打撃成績!I97))","v":""},{"$f":"IF(G97=\"\",\"\",SUMIFS(打撃データー!$AY$6:$AY$500,打撃データー!$AG$6:$AG$500,F97,打撃データー!$AI$6:$AI$500,H97,打撃データー!$AJ$6:$AJ$500,打撃成績!I97))","v":""},{"$f":"IF(G97=\"\",\"\",SUMIFS(打撃データー!$AZ$6:$AZ$500,打撃データー!$AG$6:$AG$500,F97,打撃データー!$AI$6:$AI$500,H97,打撃データー!$AJ$6:$AJ$500,打撃成績!I97))","v":""},{"$f":"IF(G97=\"\",\"\",SUMIFS(打撃データー!$BA$6:$BA$500,打撃データー!$AG$6:$AG$500,F97,打撃データー!$AI$6:$AI$500,H97,打撃データー!$AJ$6:$AJ$500,打撃成績!I97))","v":""},{"$f":"IF(G97=\"\",\"\",SUMIFS(打撃データー!$BB$6:$BB$500,打撃データー!$AG$6:$AG$500,F97,打撃データー!$AI$6:$AI$500,H97,打撃データー!$AJ$6:$AJ$500,打撃成績!I97))","v":""},{"$f":"IF(G97=\"\",\"\",SUMIFS(打撃データー!$BC$6:$BC$500,打撃データー!$AG$6:$AG$500,F97,打撃データー!$AI$6:$AI$500,H97,打撃データー!$AJ$6:$AJ$500,打撃成績!I97))","v":""},{"$f":"IF(G97=\"\",\"\",SUMIFS(打撃データー!$BD$6:$BD$500,打撃データー!$AG$6:$AG$500,F97,打撃データー!$AI$6:$AI$500,H97,打撃データー!$AJ$6:$AJ$500,打撃成績!I97))","v":""},{"$f":"IF(G97=\"\",\"\",SUMIFS(打撃データー!$BE$6:$BE$500,打撃データー!$AG$6:$AG$500,F97,打撃データー!$AI$6:$AI$500,H97,打撃データー!$AJ$6:$AJ$500,打撃成績!I97))","v":""},{"$f":"IF(G97=\"\",\"\",SUMIFS(打撃データー!$BF$6:$BF$500,打撃データー!$AG$6:$AG$500,F97,打撃データー!$AI$6:$AI$500,H97,打撃データー!$AJ$6:$AJ$500,打撃成績!I97))","v":""},null,"","","","",""]
[null,null,null,null,null,"",{"$f":"IF(G12=\"\",\"\",G12)","v":""},"","RR",{"$f":"IF(G98=\"\",\"\",SUMIFS(打撃データー!$AK$6:$AK$500,打撃データー!$AG$6:$AG$500,F98,打撃データー!$AI$6:$AI$500,H98,打撃データー!$AJ$6:$AJ$500,打撃成績!I98))","v":""},{"$f":"IF(G98=\"\",\"\",SUMIFS(打撃データー!$AL$6:$AL$500,打撃データー!$AG$6:$AG$500,F98,打撃データー!$AI$6:$AI$500,H98,打撃データー!$AJ$6:$AJ$500,打撃成績!I98))","v":""},{"$f":"IF(G98=\"\",\"\",SUMIFS(打撃データー!$AM$6:$AM$500,打撃データー!$AG$6:$AG$500,F98,打撃データー!$AI$6:$AI$500,H98,打撃データー!$AJ$6:$AJ$500,打撃成績!I98))","v":""},{"$f":"IF(G98=\"\",\"\",SUMIFS(打撃データー!$AN$6:$AN$500,打撃データー!$AG$6:$AG$500,F98,打撃データー!$AI$6:$AI$500,H98,打撃データー!$AJ$6:$AJ$500,打撃成績!I98))","v":""},{"$f":"IF(G98=\"\",\"\",SUMIFS(打撃データー!$AO$6:$AO$500,打撃データー!$AG$6:$AG$500,F98,打撃データー!$AI$6:$AI$500,H98,打撃データー!$AJ$6:$AJ$500,打撃成績!I98))","v":""},{"$f":"IF(G98=\"\",\"\",SUMIFS(打撃データー!$AP$6:$AP$500,打撃データー!$AG$6:$AG$500,F98,打撃データー!$AI$6:$AI$500,H98,打撃データー!$AJ$6:$AJ$500,打撃成績!I98))","v":""},{"$f":"IF(G98=\"\",\"\",SUMIFS(打撃データー!$AQ$6:$AQ$500,打撃データー!$AG$6:$AG$500,F98,打撃データー!$AI$6:$AI$500,H98,打撃データー!$AJ$6:$AJ$500,打撃成績!I98))","v":""},{"$f":"IF(G98=\"\",\"\",SUMIFS(打撃データー!$AR$6:$AR$500,打撃データー!$AG$6:$AG$500,F98,打撃データー!$AI$6:$AI$500,H98,打撃データー!$AJ$6:$AJ$500,打撃成績!I98))","v":""},{"$f":"IF(G98=\"\",\"\",SUMIFS(打撃データー!$AS$6:$AS$500,打撃データー!$AG$6:$AG$500,F98,打撃データー!$AI$6:$AI$500,H98,打撃データー!$AJ$6:$AJ$500,打撃成績!I98))","v":""},{"$f":"IF(G98=\"\",\"\",SUMIFS(打撃データー!$AT$6:$AT$500,打撃データー!$AG$6:$AG$500,F98,打撃データー!$AI$6:$AI$500,H98,打撃データー!$AJ$6:$AJ$500,打撃成績!I98))","v":""},{"$f":"IF(G98=\"\",\"\",SUMIFS(打撃データー!$AU$6:$AU$500,打撃データー!$AG$6:$AG$500,F98,打撃データー!$AI$6:$AI$500,H98,打撃データー!$AJ$6:$AJ$500,打撃成績!I98))","v":""},{"$f":"IF(G98=\"\",\"\",SUMIFS(打撃データー!$AV$6:$AV$500,打撃データー!$AG$6:$AG$500,F98,打撃データー!$AI$6:$AI$500,H98,打撃データー!$AJ$6:$AJ$500,打撃成績!I98))","v":""},{"$f":"IF(G98=\"\",\"\",SUMIFS(打撃データー!$AW$6:$AW$500,打撃データー!$AG$6:$AG$500,F98,打撃データー!$AI$6:$AI$500,H98,打撃データー!$AJ$6:$AJ$500,打撃成績!I98))","v":""},{"$f":"IF(G98=\"\",\"\",SUMIFS(打撃データー!$AX$6:$AX$500,打撃データー!$AG$6:$AG$500,F98,打撃データー!$AI$6:$AI$500,H98,打撃データー!$AJ$6:$AJ$500,打撃成績!I98))","v":""},{"$f":"IF(G98=\"\",\"\",SUMIFS(打撃データー!$AY$6:$AY$500,打撃データー!$AG$6:$AG$500,F98,打撃データー!$AI$6:$AI$500,H98,打撃データー!$AJ$6:$AJ$500,打撃成績!I98))","v":""},{"$f":"IF(G98=\"\",\"\",SUMIFS(打撃データー!$AZ$6:$AZ$500,打撃データー!$AG$6:$AG$500,F98,打撃データー!$AI$6:$AI$500,H98,打撃データー!$AJ$6:$AJ$500,打撃成績!I98))","v":""},{"$f":"IF(G98=\"\",\"\",SUMIFS(打撃データー!$BA$6:$BA$500,打撃データー!$AG$6:$AG$500,F98,打撃データー!$AI$6:$AI$500,H98,打撃データー!$AJ$6:$AJ$500,打撃成績!I98))","v":""},{"$f":"IF(G98=\"\",\"\",SUMIFS(打撃データー!$BB$6:$BB$500,打撃データー!$AG$6:$AG$500,F98,打撃データー!$AI$6:$AI$500,H98,打撃データー!$AJ$6:$AJ$500,打撃成績!I98))","v":""},{"$f":"IF(G98=\"\",\"\",SUMIFS(打撃データー!$BC$6:$BC$500,打撃データー!$AG$6:$AG$500,F98,打撃データー!$AI$6:$AI$500,H98,打撃データー!$AJ$6:$AJ$500,打撃成績!I98))","v":""},{"$f":"IF(G98=\"\",\"\",SUMIFS(打撃データー!$BD$6:$BD$500,打撃データー!$AG$6:$AG$500,F98,打撃データー!$AI$6:$AI$500,H98,打撃データー!$AJ$6:$AJ$500,打撃成績!I98))","v":""},{"$f":"IF(G98=\"\",\"\",SUMIFS(打撃データー!$BE$6:$BE$500,打撃データー!$AG$6:$AG$500,F98,打撃データー!$AI$6:$AI$500,H98,打撃データー!$AJ$6:$AJ$500,打撃成績!I98))","v":""},{"$f":"IF(G98=\"\",\"\",SUMIFS(打撃データー!$BF$6:$BF$500,打撃データー!$AG$6:$AG$500,F98,打撃データー!$AI$6:$AI$500,H98,打撃データー!$AJ$6:$AJ$500,打撃成績!I98))","v":""},null,"","","","",""]
[null,null,null,null,null,"",{"$f":"IF(G13=\"\",\"\",G13)","v":""},"","RR",{"$f":"IF(G99=\"\",\"\",SUMIFS(打撃データー!$AK$6:$AK$500,打撃データー!$AG$6:$AG$500,F99,打撃データー!$AI$6:$AI$500,H99,打撃データー!$AJ$6:$AJ$500,打撃成績!I99))","v":""},{"$f":"IF(G99=\"\",\"\",SUMIFS(打撃データー!$AL$6:$AL$500,打撃データー!$AG$6:$AG$500,F99,打撃データー!$AI$6:$AI$500,H99,打撃データー!$AJ$6:$AJ$500,打撃成績!I99))","v":""},{"$f":"IF(G99=\"\",\"\",SUMIFS(打撃データー!$AM$6:$AM$500,打撃データー!$AG$6:$AG$500,F99,打撃データー!$AI$6:$AI$500,H99,打撃データー!$AJ$6:$AJ$500,打撃成績!I99))","v":""},{"$f":"IF(G99=\"\",\"\",SUMIFS(打撃データー!$AN$6:$AN$500,打撃データー!$AG$6:$AG$500,F99,打撃データー!$AI$6:$AI$500,H99,打撃データー!$AJ$6:$AJ$500,打撃成績!I99))","v":""},{"$f":"IF(G99=\"\",\"\",SUMIFS(打撃データー!$AO$6:$AO$500,打撃データー!$AG$6:$AG$500,F99,打撃データー!$AI$6:$AI$500,H99,打撃データー!$AJ$6:$AJ$500,打撃成績!I99))","v":""},{"$f":"IF(G99=\"\",\"\",SUMIFS(打撃データー!$AP$6:$AP$500,打撃データー!$AG$6:$AG$500,F99,打撃データー!$AI$6:$AI$500,H99,打撃データー!$AJ$6:$AJ$500,打撃成績!I99))","v":""},{"$f":"IF(G99=\"\",\"\",SUMIFS(打撃データー!$AQ$6:$AQ$500,打撃データー!$AG$6:$AG$500,F99,打撃データー!$AI$6:$AI$500,H99,打撃データー!$AJ$6:$AJ$500,打撃成績!I99))","v":""},{"$f":"IF(G99=\"\",\"\",SUMIFS(打撃データー!$AR$6:$AR$500,打撃データー!$AG$6:$AG$500,F99,打撃データー!$AI$6:$AI$500,H99,打撃データー!$AJ$6:$AJ$500,打撃成績!I99))","v":""},{"$f":"IF(G99=\"\",\"\",SUMIFS(打撃データー!$AS$6:$AS$500,打撃データー!$AG$6:$AG$500,F99,打撃データー!$AI$6:$AI$500,H99,打撃データー!$AJ$6:$AJ$500,打撃成績!I99))","v":""},{"$f":"IF(G99=\"\",\"\",SUMIFS(打撃データー!$AT$6:$AT$500,打撃データー!$AG$6:$AG$500,F99,打撃データー!$AI$6:$AI$500,H99,打撃データー!$AJ$6:$AJ$500,打撃成績!I99))","v":""},{"$f":"IF(G99=\"\",\"\",SUMIFS(打撃データー!$AU$6:$AU$500,打撃データー!$AG$6:$AG$500,F99,打撃データー!$AI$6:$AI$500,H99,打撃データー!$AJ$6:$AJ$500,打撃成績!I99))","v":""},{"$f":"IF(G99=\"\",\"\",SUMIFS(打撃データー!$AV$6:$AV$500,打撃データー!$AG$6:$AG$500,F99,打撃データー!$AI$6:$AI$500,H99,打撃データー!$AJ$6:$AJ$500,打撃成績!I99))","v":""},{"$f":"IF(G99=\"\",\"\",SUMIFS(打撃データー!$AW$6:$AW$500,打撃データー!$AG$6:$AG$500,F99,打撃データー!$AI$6:$AI$500,H99,打撃データー!$AJ$6:$AJ$500,打撃成績!I99))","v":""},{"$f":"IF(G99=\"\",\"\",SUMIFS(打撃データー!$AX$6:$AX$500,打撃データー!$AG$6:$AG$500,F99,打撃データー!$AI$6:$AI$500,H99,打撃データー!$AJ$6:$AJ$500,打撃成績!I99))","v":""},{"$f":"IF(G99=\"\",\"\",SUMIFS(打撃データー!$AY$6:$AY$500,打撃データー!$AG$6:$AG$500,F99,打撃データー!$AI$6:$AI$500,H99,打撃データー!$AJ$6:$AJ$500,打撃成績!I99))","v":""},{"$f":"IF(G99=\"\",\"\",SUMIFS(打撃データー!$AZ$6:$AZ$500,打撃データー!$AG$6:$AG$500,F99,打撃データー!$AI$6:$AI$500,H99,打撃データー!$AJ$6:$AJ$500,打撃成績!I99))","v":""},{"$f":"IF(G99=\"\",\"\",SUMIFS(打撃データー!$BA$6:$BA$500,打撃データー!$AG$6:$AG$500,F99,打撃データー!$AI$6:$AI$500,H99,打撃データー!$AJ$6:$AJ$500,打撃成績!I99))","v":""},{"$f":"IF(G99=\"\",\"\",SUMIFS(打撃データー!$BB$6:$BB$500,打撃データー!$AG$6:$AG$500,F99,打撃データー!$AI$6:$AI$500,H99,打撃データー!$AJ$6:$AJ$500,打撃成績!I99))","v":""},{"$f":"IF(G99=\"\",\"\",SUMIFS(打撃データー!$BC$6:$BC$500,打撃データー!$AG$6:$AG$500,F99,打撃データー!$AI$6:$AI$500,H99,打撃データー!$AJ$6:$AJ$500,打撃成績!I99))","v":""},{"$f":"IF(G99=\"\",\"\",SUMIFS(打撃データー!$BD$6:$BD$500,打撃データー!$AG$6:$AG$500,F99,打撃データー!$AI$6:$AI$500,H99,打撃データー!$AJ$6:$AJ$500,打撃成績!I99))","v":""},{"$f":"IF(G99=\"\",\"\",SUMIFS(打撃データー!$BE$6:$BE$500,打撃データー!$AG$6:$AG$500,F99,打撃データー!$AI$6:$AI$500,H99,打撃データー!$AJ$6:$AJ$500,打撃成績!I99))","v":""},{"$f":"IF(G99=\"\",\"\",SUMIFS(打撃データー!$BF$6:$BF$500,打撃データー!$AG$6:$AG$500,F99,打撃データー!$AI$6:$AI$500,H99,打撃データー!$AJ$6:$AJ$500,打撃成績!I99))","v":""},null,"","","","",""]
[null,null,null,null,null,"",{"$f":"IF(G14=\"\",\"\",G14)","v":""},"","RR",{"$f":"IF(G100=\"\",\"\",SUMIFS(打撃データー!$AK$6:$AK$500,打撃データー!$AG$6:$AG$500,F100,打撃データー!$AI$6:$AI$500,H100,打撃データー!$AJ$6:$AJ$500,打撃成績!I100))","v":""},{"$f":"IF(G100=\"\",\"\",SUMIFS(打撃データー!$AL$6:$AL$500,打撃データー!$AG$6:$AG$500,F100,打撃データー!$AI$6:$AI$500,H100,打撃データー!$AJ$6:$AJ$500,打撃成績!I100))","v":""},{"$f":"IF(G100=\"\",\"\",SUMIFS(打撃データー!$AM$6:$AM$500,打撃データー!$AG$6:$AG$500,F100,打撃データー!$AI$6:$AI$500,H100,打撃データー!$AJ$6:$AJ$500,打撃成績!I100))","v":""},{"$f":"IF(G100=\"\",\"\",SUMIFS(打撃データー!$AN$6:$AN$500,打撃データー!$AG$6:$AG$500,F100,打撃データー!$AI$6:$AI$500,H100,打撃データー!$AJ$6:$AJ$500,打撃成績!I100))","v":""},{"$f":"IF(G100=\"\",\"\",SUMIFS(打撃データー!$AO$6:$AO$500,打撃データー!$AG$6:$AG$500,F100,打撃データー!$AI$6:$AI$500,H100,打撃データー!$AJ$6:$AJ$500,打撃成績!I100))","v":""},{"$f":"IF(G100=\"\",\"\",SUMIFS(打撃データー!$AP$6:$AP$500,打撃データー!$AG$6:$AG$500,F100,打撃データー!$AI$6:$AI$500,H100,打撃データー!$AJ$6:$AJ$500,打撃成績!I100))","v":""},{"$f":"IF(G100=\"\",\"\",SUMIFS(打撃データー!$AQ$6:$AQ$500,打撃データー!$AG$6:$AG$500,F100,打撃データー!$AI$6:$AI$500,H100,打撃データー!$AJ$6:$AJ$500,打撃成績!I100))","v":""},{"$f":"IF(G100=\"\",\"\",SUMIFS(打撃データー!$AR$6:$AR$500,打撃データー!$AG$6:$AG$500,F100,打撃データー!$AI$6:$AI$500,H100,打撃データー!$AJ$6:$AJ$500,打撃成績!I100))","v":""},{"$f":"IF(G100=\"\",\"\",SUMIFS(打撃データー!$AS$6:$AS$500,打撃データー!$AG$6:$AG$500,F100,打撃データー!$AI$6:$AI$500,H100,打撃データー!$AJ$6:$AJ$500,打撃成績!I100))","v":""},{"$f":"IF(G100=\"\",\"\",SUMIFS(打撃データー!$AT$6:$AT$500,打撃データー!$AG$6:$AG$500,F100,打撃データー!$AI$6:$AI$500,H100,打撃データー!$AJ$6:$AJ$500,打撃成績!I100))","v":""},{"$f":"IF(G100=\"\",\"\",SUMIFS(打撃データー!$AU$6:$AU$500,打撃データー!$AG$6:$AG$500,F100,打撃データー!$AI$6:$AI$500,H100,打撃データー!$AJ$6:$AJ$500,打撃成績!I100))","v":""},{"$f":"IF(G100=\"\",\"\",SUMIFS(打撃データー!$AV$6:$AV$500,打撃データー!$AG$6:$AG$500,F100,打撃データー!$AI$6:$AI$500,H100,打撃データー!$AJ$6:$AJ$500,打撃成績!I100))","v":""},{"$f":"IF(G100=\"\",\"\",SUMIFS(打撃データー!$AW$6:$AW$500,打撃データー!$AG$6:$AG$500,F100,打撃データー!$AI$6:$AI$500,H100,打撃データー!$AJ$6:$AJ$500,打撃成績!I100))","v":""},{"$f":"IF(G100=\"\",\"\",SUMIFS(打撃データー!$AX$6:$AX$500,打撃データー!$AG$6:$AG$500,F100,打撃データー!$AI$6:$AI$500,H100,打撃データー!$AJ$6:$AJ$500,打撃成績!I100))","v":""},{"$f":"IF(G100=\"\",\"\",SUMIFS(打撃データー!$AY$6:$AY$500,打撃データー!$AG$6:$AG$500,F100,打撃データー!$AI$6:$AI$500,H100,打撃データー!$AJ$6:$AJ$500,打撃成績!I100))","v":""},{"$f":"IF(G100=\"\",\"\",SUMIFS(打撃データー!$AZ$6:$AZ$500,打撃データー!$AG$6:$AG$500,F100,打撃データー!$AI$6:$AI$500,H100,打撃データー!$AJ$6:$AJ$500,打撃成績!I100))","v":""},{"$f":"IF(G100=\"\",\"\",SUMIFS(打撃データー!$BA$6:$BA$500,打撃データー!$AG$6:$AG$500,F100,打撃データー!$AI$6:$AI$500,H100,打撃データー!$AJ$6:$AJ$500,打撃成績!I100))","v":""},{"$f":"IF(G100=\"\",\"\",SUMIFS(打撃データー!$BB$6:$BB$500,打撃データー!$AG$6:$AG$500,F100,打撃データー!$AI$6:$AI$500,H100,打撃データー!$AJ$6:$AJ$500,打撃成績!I100))","v":""},{"$f":"IF(G100=\"\",\"\",SUMIFS(打撃データー!$BC$6:$BC$500,打撃データー!$AG$6:$AG$500,F100,打撃データー!$AI$6:$AI$500,H100,打撃データー!$AJ$6:$AJ$500,打撃成績!I100))","v":""},{"$f":"IF(G100=\"\",\"\",SUMIFS(打撃データー!$BD$6:$BD$500,打撃データー!$AG$6:$AG$500,F100,打撃データー!$AI$6:$AI$500,H100,打撃データー!$AJ$6:$AJ$500,打撃成績!I100))","v":""},{"$f":"IF(G100=\"\",\"\",SUMIFS(打撃データー!$BE$6:$BE$500,打撃データー!$AG$6:$AG$500,F100,打撃データー!$AI$6:$AI$500,H100,打撃データー!$AJ$6:$AJ$500,打撃成績!I100))","v":""},{"$f":"IF(G100=\"\",\"\",SUMIFS(打撃データー!$BF$6:$BF$500,打撃データー!$AG$6:$AG$500,F100,打撃データー!$AI$6:$AI$500,H100,打撃データー!$AJ$6:$AJ$500,打撃成績!I100))","v":""},null,"","","","",""]
[null,null,null,null,null,"",{"$f":"IF(G15=\"\",\"\",G15)","v":""},"","RR",{"$f":"IF(G101=\"\",\"\",SUMIFS(打撃データー!$AK$6:$AK$500,打撃データー!$AG$6:$AG$500,F101,打撃データー!$AI$6:$AI$500,H101,打撃データー!$AJ$6:$AJ$500,打撃成績!I101))","v":""},{"$f":"IF(G101=\"\",\"\",SUMIFS(打撃データー!$AL$6:$AL$500,打撃データー!$AG$6:$AG$500,F101,打撃データー!$AI$6:$AI$500,H101,打撃データー!$AJ$6:$AJ$500,打撃成績!I101))","v":""},{"$f":"IF(G101=\"\",\"\",SUMIFS(打撃データー!$AM$6:$AM$500,打撃データー!$AG$6:$AG$500,F101,打撃データー!$AI$6:$AI$500,H101,打撃データー!$AJ$6:$AJ$500,打撃成績!I101))","v":""},{"$f":"IF(G101=\"\",\"\",SUMIFS(打撃データー!$AN$6:$AN$500,打撃データー!$AG$6:$AG$500,F101,打撃データー!$AI$6:$AI$500,H101,打撃データー!$AJ$6:$AJ$500,打撃成績!I101))","v":""},{"$f":"IF(G101=\"\",\"\",SUMIFS(打撃データー!$AO$6:$AO$500,打撃データー!$AG$6:$AG$500,F101,打撃データー!$AI$6:$AI$500,H101,打撃データー!$AJ$6:$AJ$500,打撃成績!I101))","v":""},{"$f":"IF(G101=\"\",\"\",SUMIFS(打撃データー!$AP$6:$AP$500,打撃データー!$AG$6:$AG$500,F101,打撃データー!$AI$6:$AI$500,H101,打撃データー!$AJ$6:$AJ$500,打撃成績!I101))","v":""},{"$f":"IF(G101=\"\",\"\",SUMIFS(打撃データー!$AQ$6:$AQ$500,打撃データー!$AG$6:$AG$500,F101,打撃データー!$AI$6:$AI$500,H101,打撃データー!$AJ$6:$AJ$500,打撃成績!I101))","v":""},{"$f":"IF(G101=\"\",\"\",SUMIFS(打撃データー!$AR$6:$AR$500,打撃データー!$AG$6:$AG$500,F101,打撃データー!$AI$6:$AI$500,H101,打撃データー!$AJ$6:$AJ$500,打撃成績!I101))","v":""},{"$f":"IF(G101=\"\",\"\",SUMIFS(打撃データー!$AS$6:$AS$500,打撃データー!$AG$6:$AG$500,F101,打撃データー!$AI$6:$AI$500,H101,打撃データー!$AJ$6:$AJ$500,打撃成績!I101))","v":""},{"$f":"IF(G101=\"\",\"\",SUMIFS(打撃データー!$AT$6:$AT$500,打撃データー!$AG$6:$AG$500,F101,打撃データー!$AI$6:$AI$500,H101,打撃データー!$AJ$6:$AJ$500,打撃成績!I101))","v":""},{"$f":"IF(G101=\"\",\"\",SUMIFS(打撃データー!$AU$6:$AU$500,打撃データー!$AG$6:$AG$500,F101,打撃データー!$AI$6:$AI$500,H101,打撃データー!$AJ$6:$AJ$500,打撃成績!I101))","v":""},{"$f":"IF(G101=\"\",\"\",SUMIFS(打撃データー!$AV$6:$AV$500,打撃データー!$AG$6:$AG$500,F101,打撃データー!$AI$6:$AI$500,H101,打撃データー!$AJ$6:$AJ$500,打撃成績!I101))","v":""},{"$f":"IF(G101=\"\",\"\",SUMIFS(打撃データー!$AW$6:$AW$500,打撃データー!$AG$6:$AG$500,F101,打撃データー!$AI$6:$AI$500,H101,打撃データー!$AJ$6:$AJ$500,打撃成績!I101))","v":""},{"$f":"IF(G101=\"\",\"\",SUMIFS(打撃データー!$AX$6:$AX$500,打撃データー!$AG$6:$AG$500,F101,打撃データー!$AI$6:$AI$500,H101,打撃データー!$AJ$6:$AJ$500,打撃成績!I101))","v":""},{"$f":"IF(G101=\"\",\"\",SUMIFS(打撃データー!$AY$6:$AY$500,打撃データー!$AG$6:$AG$500,F101,打撃データー!$AI$6:$AI$500,H101,打撃データー!$AJ$6:$AJ$500,打撃成績!I101))","v":""},{"$f":"IF(G101=\"\",\"\",SUMIFS(打撃データー!$AZ$6:$AZ$500,打撃データー!$AG$6:$AG$500,F101,打撃データー!$AI$6:$AI$500,H101,打撃データー!$AJ$6:$AJ$500,打撃成績!I101))","v":""},{"$f":"IF(G101=\"\",\"\",SUMIFS(打撃データー!$BA$6:$BA$500,打撃データー!$AG$6:$AG$500,F101,打撃データー!$AI$6:$AI$500,H101,打撃データー!$AJ$6:$AJ$500,打撃成績!I101))","v":""},{"$f":"IF(G101=\"\",\"\",SUMIFS(打撃データー!$BB$6:$BB$500,打撃データー!$AG$6:$AG$500,F101,打撃データー!$AI$6:$AI$500,H101,打撃データー!$AJ$6:$AJ$500,打撃成績!I101))","v":""},{"$f":"IF(G101=\"\",\"\",SUMIFS(打撃データー!$BC$6:$BC$500,打撃データー!$AG$6:$AG$500,F101,打撃データー!$AI$6:$AI$500,H101,打撃データー!$AJ$6:$AJ$500,打撃成績!I101))","v":""},{"$f":"IF(G101=\"\",\"\",SUMIFS(打撃データー!$BD$6:$BD$500,打撃データー!$AG$6:$AG$500,F101,打撃データー!$AI$6:$AI$500,H101,打撃データー!$AJ$6:$AJ$500,打撃成績!I101))","v":""},{"$f":"IF(G101=\"\",\"\",SUMIFS(打撃データー!$BE$6:$BE$500,打撃データー!$AG$6:$AG$500,F101,打撃データー!$AI$6:$AI$500,H101,打撃データー!$AJ$6:$AJ$500,打撃成績!I101))","v":""},{"$f":"IF(G101=\"\",\"\",SUMIFS(打撃データー!$BF$6:$BF$500,打撃データー!$AG$6:$AG$500,F101,打撃データー!$AI$6:$AI$500,H101,打撃データー!$AJ$6:$AJ$500,打撃成績!I101))","v":""},null,"","","","",""]
[null,null,null,null,null,"",{"$f":"IF(G16=\"\",\"\",G16)","v":""},"","RR",{"$f":"IF(G102=\"\",\"\",SUMIFS(打撃データー!$AK$6:$AK$500,打撃データー!$AG$6:$AG$500,F102,打撃データー!$AI$6:$AI$500,H102,打撃データー!$AJ$6:$AJ$500,打撃成績!I102))","v":""},{"$f":"IF(G102=\"\",\"\",SUMIFS(打撃データー!$AL$6:$AL$500,打撃データー!$AG$6:$AG$500,F102,打撃データー!$AI$6:$AI$500,H102,打撃データー!$AJ$6:$AJ$500,打撃成績!I102))","v":""},{"$f":"IF(G102=\"\",\"\",SUMIFS(打撃データー!$AM$6:$AM$500,打撃データー!$AG$6:$AG$500,F102,打撃データー!$AI$6:$AI$500,H102,打撃データー!$AJ$6:$AJ$500,打撃成績!I102))","v":""},{"$f":"IF(G102=\"\",\"\",SUMIFS(打撃データー!$AN$6:$AN$500,打撃データー!$AG$6:$AG$500,F102,打撃データー!$AI$6:$AI$500,H102,打撃データー!$AJ$6:$AJ$500,打撃成績!I102))","v":""},{"$f":"IF(G102=\"\",\"\",SUMIFS(打撃データー!$AO$6:$AO$500,打撃データー!$AG$6:$AG$500,F102,打撃データー!$AI$6:$AI$500,H102,打撃データー!$AJ$6:$AJ$500,打撃成績!I102))","v":""},{"$f":"IF(G102=\"\",\"\",SUMIFS(打撃データー!$AP$6:$AP$500,打撃データー!$AG$6:$AG$500,F102,打撃データー!$AI$6:$AI$500,H102,打撃データー!$AJ$6:$AJ$500,打撃成績!I102))","v":""},{"$f":"IF(G102=\"\",\"\",SUMIFS(打撃データー!$AQ$6:$AQ$500,打撃データー!$AG$6:$AG$500,F102,打撃データー!$AI$6:$AI$500,H102,打撃データー!$AJ$6:$AJ$500,打撃成績!I102))","v":""},{"$f":"IF(G102=\"\",\"\",SUMIFS(打撃データー!$AR$6:$AR$500,打撃データー!$AG$6:$AG$500,F102,打撃データー!$AI$6:$AI$500,H102,打撃データー!$AJ$6:$AJ$500,打撃成績!I102))","v":""},{"$f":"IF(G102=\"\",\"\",SUMIFS(打撃データー!$AS$6:$AS$500,打撃データー!$AG$6:$AG$500,F102,打撃データー!$AI$6:$AI$500,H102,打撃データー!$AJ$6:$AJ$500,打撃成績!I102))","v":""},{"$f":"IF(G102=\"\",\"\",SUMIFS(打撃データー!$AT$6:$AT$500,打撃データー!$AG$6:$AG$500,F102,打撃データー!$AI$6:$AI$500,H102,打撃データー!$AJ$6:$AJ$500,打撃成績!I102))","v":""},{"$f":"IF(G102=\"\",\"\",SUMIFS(打撃データー!$AU$6:$AU$500,打撃データー!$AG$6:$AG$500,F102,打撃データー!$AI$6:$AI$500,H102,打撃データー!$AJ$6:$AJ$500,打撃成績!I102))","v":""},{"$f":"IF(G102=\"\",\"\",SUMIFS(打撃データー!$AV$6:$AV$500,打撃データー!$AG$6:$AG$500,F102,打撃データー!$AI$6:$AI$500,H102,打撃データー!$AJ$6:$AJ$500,打撃成績!I102))","v":""},{"$f":"IF(G102=\"\",\"\",SUMIFS(打撃データー!$AW$6:$AW$500,打撃データー!$AG$6:$AG$500,F102,打撃データー!$AI$6:$AI$500,H102,打撃データー!$AJ$6:$AJ$500,打撃成績!I102))","v":""},{"$f":"IF(G102=\"\",\"\",SUMIFS(打撃データー!$AX$6:$AX$500,打撃データー!$AG$6:$AG$500,F102,打撃データー!$AI$6:$AI$500,H102,打撃データー!$AJ$6:$AJ$500,打撃成績!I102))","v":""},{"$f":"IF(G102=\"\",\"\",SUMIFS(打撃データー!$AY$6:$AY$500,打撃データー!$AG$6:$AG$500,F102,打撃データー!$AI$6:$AI$500,H102,打撃データー!$AJ$6:$AJ$500,打撃成績!I102))","v":""},{"$f":"IF(G102=\"\",\"\",SUMIFS(打撃データー!$AZ$6:$AZ$500,打撃データー!$AG$6:$AG$500,F102,打撃データー!$AI$6:$AI$500,H102,打撃データー!$AJ$6:$AJ$500,打撃成績!I102))","v":""},{"$f":"IF(G102=\"\",\"\",SUMIFS(打撃データー!$BA$6:$BA$500,打撃データー!$AG$6:$AG$500,F102,打撃データー!$AI$6:$AI$500,H102,打撃データー!$AJ$6:$AJ$500,打撃成績!I102))","v":""},{"$f":"IF(G102=\"\",\"\",SUMIFS(打撃データー!$BB$6:$BB$500,打撃データー!$AG$6:$AG$500,F102,打撃データー!$AI$6:$AI$500,H102,打撃データー!$AJ$6:$AJ$500,打撃成績!I102))","v":""},{"$f":"IF(G102=\"\",\"\",SUMIFS(打撃データー!$BC$6:$BC$500,打撃データー!$AG$6:$AG$500,F102,打撃データー!$AI$6:$AI$500,H102,打撃データー!$AJ$6:$AJ$500,打撃成績!I102))","v":""},{"$f":"IF(G102=\"\",\"\",SUMIFS(打撃データー!$BD$6:$BD$500,打撃データー!$AG$6:$AG$500,F102,打撃データー!$AI$6:$AI$500,H102,打撃データー!$AJ$6:$AJ$500,打撃成績!I102))","v":""},{"$f":"IF(G102=\"\",\"\",SUMIFS(打撃データー!$BE$6:$BE$500,打撃データー!$AG$6:$AG$500,F102,打撃データー!$AI$6:$AI$500,H102,打撃データー!$AJ$6:$AJ$500,打撃成績!I102))","v":""},{"$f":"IF(G102=\"\",\"\",SUMIFS(打撃データー!$BF$6:$BF$500,打撃データー!$AG$6:$AG$500,F102,打撃データー!$AI$6:$AI$500,H102,打撃データー!$AJ$6:$AJ$500,打撃成績!I102))","v":""},null,"","","","",""]
[null,null,null,null,null,"",{"$f":"IF(G17=\"\",\"\",G17)","v":""},"","RR",{"$f":"IF(G103=\"\",\"\",SUMIFS(打撃データー!$AK$6:$AK$500,打撃データー!$AG$6:$AG$500,F103,打撃データー!$AI$6:$AI$500,H103,打撃データー!$AJ$6:$AJ$500,打撃成績!I103))","v":""},{"$f":"IF(G103=\"\",\"\",SUMIFS(打撃データー!$AL$6:$AL$500,打撃データー!$AG$6:$AG$500,F103,打撃データー!$AI$6:$AI$500,H103,打撃データー!$AJ$6:$AJ$500,打撃成績!I103))","v":""},{"$f":"IF(G103=\"\",\"\",SUMIFS(打撃データー!$AM$6:$AM$500,打撃データー!$AG$6:$AG$500,F103,打撃データー!$AI$6:$AI$500,H103,打撃データー!$AJ$6:$AJ$500,打撃成績!I103))","v":""},{"$f":"IF(G103=\"\",\"\",SUMIFS(打撃データー!$AN$6:$AN$500,打撃データー!$AG$6:$AG$500,F103,打撃データー!$AI$6:$AI$500,H103,打撃データー!$AJ$6:$AJ$500,打撃成績!I103))","v":""},{"$f":"IF(G103=\"\",\"\",SUMIFS(打撃データー!$AO$6:$AO$500,打撃データー!$AG$6:$AG$500,F103,打撃データー!$AI$6:$AI$500,H103,打撃データー!$AJ$6:$AJ$500,打撃成績!I103))","v":""},{"$f":"IF(G103=\"\",\"\",SUMIFS(打撃データー!$AP$6:$AP$500,打撃データー!$AG$6:$AG$500,F103,打撃データー!$AI$6:$AI$500,H103,打撃データー!$AJ$6:$AJ$500,打撃成績!I103))","v":""},{"$f":"IF(G103=\"\",\"\",SUMIFS(打撃データー!$AQ$6:$AQ$500,打撃データー!$AG$6:$AG$500,F103,打撃データー!$AI$6:$AI$500,H103,打撃データー!$AJ$6:$AJ$500,打撃成績!I103))","v":""},{"$f":"IF(G103=\"\",\"\",SUMIFS(打撃データー!$AR$6:$AR$500,打撃データー!$AG$6:$AG$500,F103,打撃データー!$AI$6:$AI$500,H103,打撃データー!$AJ$6:$AJ$500,打撃成績!I103))","v":""},{"$f":"IF(G103=\"\",\"\",SUMIFS(打撃データー!$AS$6:$AS$500,打撃データー!$AG$6:$AG$500,F103,打撃データー!$AI$6:$AI$500,H103,打撃データー!$AJ$6:$AJ$500,打撃成績!I103))","v":""},{"$f":"IF(G103=\"\",\"\",SUMIFS(打撃データー!$AT$6:$AT$500,打撃データー!$AG$6:$AG$500,F103,打撃データー!$AI$6:$AI$500,H103,打撃データー!$AJ$6:$AJ$500,打撃成績!I103))","v":""},{"$f":"IF(G103=\"\",\"\",SUMIFS(打撃データー!$AU$6:$AU$500,打撃データー!$AG$6:$AG$500,F103,打撃データー!$AI$6:$AI$500,H103,打撃データー!$AJ$6:$AJ$500,打撃成績!I103))","v":""},{"$f":"IF(G103=\"\",\"\",SUMIFS(打撃データー!$AV$6:$AV$500,打撃データー!$AG$6:$AG$500,F103,打撃データー!$AI$6:$AI$500,H103,打撃データー!$AJ$6:$AJ$500,打撃成績!I103))","v":""},{"$f":"IF(G103=\"\",\"\",SUMIFS(打撃データー!$AW$6:$AW$500,打撃データー!$AG$6:$AG$500,F103,打撃データー!$AI$6:$AI$500,H103,打撃データー!$AJ$6:$AJ$500,打撃成績!I103))","v":""},{"$f":"IF(G103=\"\",\"\",SUMIFS(打撃データー!$AX$6:$AX$500,打撃データー!$AG$6:$AG$500,F103,打撃データー!$AI$6:$AI$500,H103,打撃データー!$AJ$6:$AJ$500,打撃成績!I103))","v":""},{"$f":"IF(G103=\"\",\"\",SUMIFS(打撃データー!$AY$6:$AY$500,打撃データー!$AG$6:$AG$500,F103,打撃データー!$AI$6:$AI$500,H103,打撃データー!$AJ$6:$AJ$500,打撃成績!I103))","v":""},{"$f":"IF(G103=\"\",\"\",SUMIFS(打撃データー!$AZ$6:$AZ$500,打撃データー!$AG$6:$AG$500,F103,打撃データー!$AI$6:$AI$500,H103,打撃データー!$AJ$6:$AJ$500,打撃成績!I103))","v":""},{"$f":"IF(G103=\"\",\"\",SUMIFS(打撃データー!$BA$6:$BA$500,打撃データー!$AG$6:$AG$500,F103,打撃データー!$AI$6:$AI$500,H103,打撃データー!$AJ$6:$AJ$500,打撃成績!I103))","v":""},{"$f":"IF(G103=\"\",\"\",SUMIFS(打撃データー!$BB$6:$BB$500,打撃データー!$AG$6:$AG$500,F103,打撃データー!$AI$6:$AI$500,H103,打撃データー!$AJ$6:$AJ$500,打撃成績!I103))","v":""},{"$f":"IF(G103=\"\",\"\",SUMIFS(打撃データー!$BC$6:$BC$500,打撃データー!$AG$6:$AG$500,F103,打撃データー!$AI$6:$AI$500,H103,打撃データー!$AJ$6:$AJ$500,打撃成績!I103))","v":""},{"$f":"IF(G103=\"\",\"\",SUMIFS(打撃データー!$BD$6:$BD$500,打撃データー!$AG$6:$AG$500,F103,打撃データー!$AI$6:$AI$500,H103,打撃データー!$AJ$6:$AJ$500,打撃成績!I103))","v":""},{"$f":"IF(G103=\"\",\"\",SUMIFS(打撃データー!$BE$6:$BE$500,打撃データー!$AG$6:$AG$500,F103,打撃データー!$AI$6:$AI$500,H103,打撃データー!$AJ$6:$AJ$500,打撃成績!I103))","v":""},{"$f":"IF(G103=\"\",\"\",SUMIFS(打撃データー!$BF$6:$BF$500,打撃データー!$AG$6:$AG$500,F103,打撃データー!$AI$6:$AI$500,H103,打撃データー!$AJ$6:$AJ$500,打撃成績!I103))","v":""},null,"","","","",""]
[null,null,null,null,null,"",{"$f":"IF(G18=\"\",\"\",G18)","v":""},"","RR",{"$f":"IF(G104=\"\",\"\",SUMIFS(打撃データー!$AK$6:$AK$500,打撃データー!$AG$6:$AG$500,F104,打撃データー!$AI$6:$AI$500,H104,打撃データー!$AJ$6:$AJ$500,打撃成績!I104))","v":""},{"$f":"IF(G104=\"\",\"\",SUMIFS(打撃データー!$AL$6:$AL$500,打撃データー!$AG$6:$AG$500,F104,打撃データー!$AI$6:$AI$500,H104,打撃データー!$AJ$6:$AJ$500,打撃成績!I104))","v":""},{"$f":"IF(G104=\"\",\"\",SUMIFS(打撃データー!$AM$6:$AM$500,打撃データー!$AG$6:$AG$500,F104,打撃データー!$AI$6:$AI$500,H104,打撃データー!$AJ$6:$AJ$500,打撃成績!I104))","v":""},{"$f":"IF(G104=\"\",\"\",SUMIFS(打撃データー!$AN$6:$AN$500,打撃データー!$AG$6:$AG$500,F104,打撃データー!$AI$6:$AI$500,H104,打撃データー!$AJ$6:$AJ$500,打撃成績!I104))","v":""},{"$f":"IF(G104=\"\",\"\",SUMIFS(打撃データー!$AO$6:$AO$500,打撃データー!$AG$6:$AG$500,F104,打撃データー!$AI$6:$AI$500,H104,打撃データー!$AJ$6:$AJ$500,打撃成績!I104))","v":""},{"$f":"IF(G104=\"\",\"\",SUMIFS(打撃データー!$AP$6:$AP$500,打撃データー!$AG$6:$AG$500,F104,打撃データー!$AI$6:$AI$500,H104,打撃データー!$AJ$6:$AJ$500,打撃成績!I104))","v":""},{"$f":"IF(G104=\"\",\"\",SUMIFS(打撃データー!$AQ$6:$AQ$500,打撃データー!$AG$6:$AG$500,F104,打撃データー!$AI$6:$AI$500,H104,打撃データー!$AJ$6:$AJ$500,打撃成績!I104))","v":""},{"$f":"IF(G104=\"\",\"\",SUMIFS(打撃データー!$AR$6:$AR$500,打撃データー!$AG$6:$AG$500,F104,打撃データー!$AI$6:$AI$500,H104,打撃データー!$AJ$6:$AJ$500,打撃成績!I104))","v":""},{"$f":"IF(G104=\"\",\"\",SUMIFS(打撃データー!$AS$6:$AS$500,打撃データー!$AG$6:$AG$500,F104,打撃データー!$AI$6:$AI$500,H104,打撃データー!$AJ$6:$AJ$500,打撃成績!I104))","v":""},{"$f":"IF(G104=\"\",\"\",SUMIFS(打撃データー!$AT$6:$AT$500,打撃データー!$AG$6:$AG$500,F104,打撃データー!$AI$6:$AI$500,H104,打撃データー!$AJ$6:$AJ$500,打撃成績!I104))","v":""},{"$f":"IF(G104=\"\",\"\",SUMIFS(打撃データー!$AU$6:$AU$500,打撃データー!$AG$6:$AG$500,F104,打撃データー!$AI$6:$AI$500,H104,打撃データー!$AJ$6:$AJ$500,打撃成績!I104))","v":""},{"$f":"IF(G104=\"\",\"\",SUMIFS(打撃データー!$AV$6:$AV$500,打撃データー!$AG$6:$AG$500,F104,打撃データー!$AI$6:$AI$500,H104,打撃データー!$AJ$6:$AJ$500,打撃成績!I104))","v":""},{"$f":"IF(G104=\"\",\"\",SUMIFS(打撃データー!$AW$6:$AW$500,打撃データー!$AG$6:$AG$500,F104,打撃データー!$AI$6:$AI$500,H104,打撃データー!$AJ$6:$AJ$500,打撃成績!I104))","v":""},{"$f":"IF(G104=\"\",\"\",SUMIFS(打撃データー!$AX$6:$AX$500,打撃データー!$AG$6:$AG$500,F104,打撃データー!$AI$6:$AI$500,H104,打撃データー!$AJ$6:$AJ$500,打撃成績!I104))","v":""},{"$f":"IF(G104=\"\",\"\",SUMIFS(打撃データー!$AY$6:$AY$500,打撃データー!$AG$6:$AG$500,F104,打撃データー!$AI$6:$AI$500,H104,打撃データー!$AJ$6:$AJ$500,打撃成績!I104))","v":""},{"$f":"IF(G104=\"\",\"\",SUMIFS(打撃データー!$AZ$6:$AZ$500,打撃データー!$AG$6:$AG$500,F104,打撃データー!$AI$6:$AI$500,H104,打撃データー!$AJ$6:$AJ$500,打撃成績!I104))","v":""},{"$f":"IF(G104=\"\",\"\",SUMIFS(打撃データー!$BA$6:$BA$500,打撃データー!$AG$6:$AG$500,F104,打撃データー!$AI$6:$AI$500,H104,打撃データー!$AJ$6:$AJ$500,打撃成績!I104))","v":""},{"$f":"IF(G104=\"\",\"\",SUMIFS(打撃データー!$BB$6:$BB$500,打撃データー!$AG$6:$AG$500,F104,打撃データー!$AI$6:$AI$500,H104,打撃データー!$AJ$6:$AJ$500,打撃成績!I104))","v":""},{"$f":"IF(G104=\"\",\"\",SUMIFS(打撃データー!$BC$6:$BC$500,打撃データー!$AG$6:$AG$500,F104,打撃データー!$AI$6:$AI$500,H104,打撃データー!$AJ$6:$AJ$500,打撃成績!I104))","v":""},{"$f":"IF(G104=\"\",\"\",SUMIFS(打撃データー!$BD$6:$BD$500,打撃データー!$AG$6:$AG$500,F104,打撃データー!$AI$6:$AI$500,H104,打撃データー!$AJ$6:$AJ$500,打撃成績!I104))","v":""},{"$f":"IF(G104=\"\",\"\",SUMIFS(打撃データー!$BE$6:$BE$500,打撃データー!$AG$6:$AG$500,F104,打撃データー!$AI$6:$AI$500,H104,打撃データー!$AJ$6:$AJ$500,打撃成績!I104))","v":""},{"$f":"IF(G104=\"\",\"\",SUMIFS(打撃データー!$BF$6:$BF$500,打撃データー!$AG$6:$AG$500,F104,打撃データー!$AI$6:$AI$500,H104,打撃データー!$AJ$6:$AJ$500,打撃成績!I104))","v":""},null,"","","","",""]
[null,null,null,null,null,"",{"$f":"IF(G19=\"\",\"\",G19)","v":""},"","RR",{"$f":"IF(G105=\"\",\"\",SUMIFS(打撃データー!$AK$6:$AK$500,打撃データー!$AG$6:$AG$500,F105,打撃データー!$AI$6:$AI$500,H105,打撃データー!$AJ$6:$AJ$500,打撃成績!I105))","v":""},{"$f":"IF(G105=\"\",\"\",SUMIFS(打撃データー!$AL$6:$AL$500,打撃データー!$AG$6:$AG$500,F105,打撃データー!$AI$6:$AI$500,H105,打撃データー!$AJ$6:$AJ$500,打撃成績!I105))","v":""},{"$f":"IF(G105=\"\",\"\",SUMIFS(打撃データー!$AM$6:$AM$500,打撃データー!$AG$6:$AG$500,F105,打撃データー!$AI$6:$AI$500,H105,打撃データー!$AJ$6:$AJ$500,打撃成績!I105))","v":""},{"$f":"IF(G105=\"\",\"\",SUMIFS(打撃データー!$AN$6:$AN$500,打撃データー!$AG$6:$AG$500,F105,打撃データー!$AI$6:$AI$500,H105,打撃データー!$AJ$6:$AJ$500,打撃成績!I105))","v":""},{"$f":"IF(G105=\"\",\"\",SUMIFS(打撃データー!$AO$6:$AO$500,打撃データー!$AG$6:$AG$500,F105,打撃データー!$AI$6:$AI$500,H105,打撃データー!$AJ$6:$AJ$500,打撃成績!I105))","v":""},{"$f":"IF(G105=\"\",\"\",SUMIFS(打撃データー!$AP$6:$AP$500,打撃データー!$AG$6:$AG$500,F105,打撃データー!$AI$6:$AI$500,H105,打撃データー!$AJ$6:$AJ$500,打撃成績!I105))","v":""},{"$f":"IF(G105=\"\",\"\",SUMIFS(打撃データー!$AQ$6:$AQ$500,打撃データー!$AG$6:$AG$500,F105,打撃データー!$AI$6:$AI$500,H105,打撃データー!$AJ$6:$AJ$500,打撃成績!I105))","v":""},{"$f":"IF(G105=\"\",\"\",SUMIFS(打撃データー!$AR$6:$AR$500,打撃データー!$AG$6:$AG$500,F105,打撃データー!$AI$6:$AI$500,H105,打撃データー!$AJ$6:$AJ$500,打撃成績!I105))","v":""},{"$f":"IF(G105=\"\",\"\",SUMIFS(打撃データー!$AS$6:$AS$500,打撃データー!$AG$6:$AG$500,F105,打撃データー!$AI$6:$AI$500,H105,打撃データー!$AJ$6:$AJ$500,打撃成績!I105))","v":""},{"$f":"IF(G105=\"\",\"\",SUMIFS(打撃データー!$AT$6:$AT$500,打撃データー!$AG$6:$AG$500,F105,打撃データー!$AI$6:$AI$500,H105,打撃データー!$AJ$6:$AJ$500,打撃成績!I105))","v":""},{"$f":"IF(G105=\"\",\"\",SUMIFS(打撃データー!$AU$6:$AU$500,打撃データー!$AG$6:$AG$500,F105,打撃データー!$AI$6:$AI$500,H105,打撃データー!$AJ$6:$AJ$500,打撃成績!I105))","v":""},{"$f":"IF(G105=\"\",\"\",SUMIFS(打撃データー!$AV$6:$AV$500,打撃データー!$AG$6:$AG$500,F105,打撃データー!$AI$6:$AI$500,H105,打撃データー!$AJ$6:$AJ$500,打撃成績!I105))","v":""},{"$f":"IF(G105=\"\",\"\",SUMIFS(打撃データー!$AW$6:$AW$500,打撃データー!$AG$6:$AG$500,F105,打撃データー!$AI$6:$AI$500,H105,打撃データー!$AJ$6:$AJ$500,打撃成績!I105))","v":""},{"$f":"IF(G105=\"\",\"\",SUMIFS(打撃データー!$AX$6:$AX$500,打撃データー!$AG$6:$AG$500,F105,打撃データー!$AI$6:$AI$500,H105,打撃データー!$AJ$6:$AJ$500,打撃成績!I105))","v":""},{"$f":"IF(G105=\"\",\"\",SUMIFS(打撃データー!$AY$6:$AY$500,打撃データー!$AG$6:$AG$500,F105,打撃データー!$AI$6:$AI$500,H105,打撃データー!$AJ$6:$AJ$500,打撃成績!I105))","v":""},{"$f":"IF(G105=\"\",\"\",SUMIFS(打撃データー!$AZ$6:$AZ$500,打撃データー!$AG$6:$AG$500,F105,打撃データー!$AI$6:$AI$500,H105,打撃データー!$AJ$6:$AJ$500,打撃成績!I105))","v":""},{"$f":"IF(G105=\"\",\"\",SUMIFS(打撃データー!$BA$6:$BA$500,打撃データー!$AG$6:$AG$500,F105,打撃データー!$AI$6:$AI$500,H105,打撃データー!$AJ$6:$AJ$500,打撃成績!I105))","v":""},{"$f":"IF(G105=\"\",\"\",SUMIFS(打撃データー!$BB$6:$BB$500,打撃データー!$AG$6:$AG$500,F105,打撃データー!$AI$6:$AI$500,H105,打撃データー!$AJ$6:$AJ$500,打撃成績!I105))","v":""},{"$f":"IF(G105=\"\",\"\",SUMIFS(打撃データー!$BC$6:$BC$500,打撃データー!$AG$6:$AG$500,F105,打撃データー!$AI$6:$AI$500,H105,打撃データー!$AJ$6:$AJ$500,打撃成績!I105))","v":""},{"$f":"IF(G105=\"\",\"\",SUMIFS(打撃データー!$BD$6:$BD$500,打撃データー!$AG$6:$AG$500,F105,打撃データー!$AI$6:$AI$500,H105,打撃データー!$AJ$6:$AJ$500,打撃成績!I105))","v":""},{"$f":"IF(G105=\"\",\"\",SUMIFS(打撃データー!$BE$6:$BE$500,打撃データー!$AG$6:$AG$500,F105,打撃データー!$AI$6:$AI$500,H105,打撃データー!$AJ$6:$AJ$500,打撃成績!I105))","v":""},{"$f":"IF(G105=\"\",\"\",SUMIFS(打撃データー!$BF$6:$BF$500,打撃データー!$AG$6:$AG$500,F105,打撃データー!$AI$6:$AI$500,H105,打撃データー!$AJ$6:$AJ$500,打撃成績!I105))","v":""},null,"","","","",""]
[null,null,null,null,null,"",{"$f":"IF(G20=\"\",\"\",G20)","v":""},"","RR",{"$f":"IF(G106=\"\",\"\",SUMIFS(打撃データー!$AK$6:$AK$500,打撃データー!$AG$6:$AG$500,F106,打撃データー!$AI$6:$AI$500,H106,打撃データー!$AJ$6:$AJ$500,打撃成績!I106))","v":""},{"$f":"IF(G106=\"\",\"\",SUMIFS(打撃データー!$AL$6:$AL$500,打撃データー!$AG$6:$AG$500,F106,打撃データー!$AI$6:$AI$500,H106,打撃データー!$AJ$6:$AJ$500,打撃成績!I106))","v":""},{"$f":"IF(G106=\"\",\"\",SUMIFS(打撃データー!$AM$6:$AM$500,打撃データー!$AG$6:$AG$500,F106,打撃データー!$AI$6:$AI$500,H106,打撃データー!$AJ$6:$AJ$500,打撃成績!I106))","v":""},{"$f":"IF(G106=\"\",\"\",SUMIFS(打撃データー!$AN$6:$AN$500,打撃データー!$AG$6:$AG$500,F106,打撃データー!$AI$6:$AI$500,H106,打撃データー!$AJ$6:$AJ$500,打撃成績!I106))","v":""},{"$f":"IF(G106=\"\",\"\",SUMIFS(打撃データー!$AO$6:$AO$500,打撃データー!$AG$6:$AG$500,F106,打撃データー!$AI$6:$AI$500,H106,打撃データー!$AJ$6:$AJ$500,打撃成績!I106))","v":""},{"$f":"IF(G106=\"\",\"\",SUMIFS(打撃データー!$AP$6:$AP$500,打撃データー!$AG$6:$AG$500,F106,打撃データー!$AI$6:$AI$500,H106,打撃データー!$AJ$6:$AJ$500,打撃成績!I106))","v":""},{"$f":"IF(G106=\"\",\"\",SUMIFS(打撃データー!$AQ$6:$AQ$500,打撃データー!$AG$6:$AG$500,F106,打撃データー!$AI$6:$AI$500,H106,打撃データー!$AJ$6:$AJ$500,打撃成績!I106))","v":""},{"$f":"IF(G106=\"\",\"\",SUMIFS(打撃データー!$AR$6:$AR$500,打撃データー!$AG$6:$AG$500,F106,打撃データー!$AI$6:$AI$500,H106,打撃データー!$AJ$6:$AJ$500,打撃成績!I106))","v":""},{"$f":"IF(G106=\"\",\"\",SUMIFS(打撃データー!$AS$6:$AS$500,打撃データー!$AG$6:$AG$500,F106,打撃データー!$AI$6:$AI$500,H106,打撃データー!$AJ$6:$AJ$500,打撃成績!I106))","v":""},{"$f":"IF(G106=\"\",\"\",SUMIFS(打撃データー!$AT$6:$AT$500,打撃データー!$AG$6:$AG$500,F106,打撃データー!$AI$6:$AI$500,H106,打撃データー!$AJ$6:$AJ$500,打撃成績!I106))","v":""},{"$f":"IF(G106=\"\",\"\",SUMIFS(打撃データー!$AU$6:$AU$500,打撃データー!$AG$6:$AG$500,F106,打撃データー!$AI$6:$AI$500,H106,打撃データー!$AJ$6:$AJ$500,打撃成績!I106))","v":""},{"$f":"IF(G106=\"\",\"\",SUMIFS(打撃データー!$AV$6:$AV$500,打撃データー!$AG$6:$AG$500,F106,打撃データー!$AI$6:$AI$500,H106,打撃データー!$AJ$6:$AJ$500,打撃成績!I106))","v":""},{"$f":"IF(G106=\"\",\"\",SUMIFS(打撃データー!$AW$6:$AW$500,打撃データー!$AG$6:$AG$500,F106,打撃データー!$AI$6:$AI$500,H106,打撃データー!$AJ$6:$AJ$500,打撃成績!I106))","v":""},{"$f":"IF(G106=\"\",\"\",SUMIFS(打撃データー!$AX$6:$AX$500,打撃データー!$AG$6:$AG$500,F106,打撃データー!$AI$6:$AI$500,H106,打撃データー!$AJ$6:$AJ$500,打撃成績!I106))","v":""},{"$f":"IF(G106=\"\",\"\",SUMIFS(打撃データー!$AY$6:$AY$500,打撃データー!$AG$6:$AG$500,F106,打撃データー!$AI$6:$AI$500,H106,打撃データー!$AJ$6:$AJ$500,打撃成績!I106))","v":""},{"$f":"IF(G106=\"\",\"\",SUMIFS(打撃データー!$AZ$6:$AZ$500,打撃データー!$AG$6:$AG$500,F106,打撃データー!$AI$6:$AI$500,H106,打撃データー!$AJ$6:$AJ$500,打撃成績!I106))","v":""},{"$f":"IF(G106=\"\",\"\",SUMIFS(打撃データー!$BA$6:$BA$500,打撃データー!$AG$6:$AG$500,F106,打撃データー!$AI$6:$AI$500,H106,打撃データー!$AJ$6:$AJ$500,打撃成績!I106))","v":""},{"$f":"IF(G106=\"\",\"\",SUMIFS(打撃データー!$BB$6:$BB$500,打撃データー!$AG$6:$AG$500,F106,打撃データー!$AI$6:$AI$500,H106,打撃データー!$AJ$6:$AJ$500,打撃成績!I106))","v":""},{"$f":"IF(G106=\"\",\"\",SUMIFS(打撃データー!$BC$6:$BC$500,打撃データー!$AG$6:$AG$500,F106,打撃データー!$AI$6:$AI$500,H106,打撃データー!$AJ$6:$AJ$500,打撃成績!I106))","v":""},{"$f":"IF(G106=\"\",\"\",SUMIFS(打撃データー!$BD$6:$BD$500,打撃データー!$AG$6:$AG$500,F106,打撃データー!$AI$6:$AI$500,H106,打撃データー!$AJ$6:$AJ$500,打撃成績!I106))","v":""},{"$f":"IF(G106=\"\",\"\",SUMIFS(打撃データー!$BE$6:$BE$500,打撃データー!$AG$6:$AG$500,F106,打撃データー!$AI$6:$AI$500,H106,打撃データー!$AJ$6:$AJ$500,打撃成績!I106))","v":""},{"$f":"IF(G106=\"\",\"\",SUMIFS(打撃データー!$BF$6:$BF$500,打撃データー!$AG$6:$AG$500,F106,打撃データー!$AI$6:$AI$500,H106,打撃データー!$AJ$6:$AJ$500,打撃成績!I106))","v":""},null,"","","","",""]
[null,null,null,null,null,"",{"$f":"IF(G21=\"\",\"\",G21)","v":""},"","RR",{"$f":"IF(G107=\"\",\"\",SUMIFS(打撃データー!$AK$6:$AK$500,打撃データー!$AG$6:$AG$500,F107,打撃データー!$AI$6:$AI$500,H107,打撃データー!$AJ$6:$AJ$500,打撃成績!I107))","v":""},{"$f":"IF(G107=\"\",\"\",SUMIFS(打撃データー!$AL$6:$AL$500,打撃データー!$AG$6:$AG$500,F107,打撃データー!$AI$6:$AI$500,H107,打撃データー!$AJ$6:$AJ$500,打撃成績!I107))","v":""},{"$f":"IF(G107=\"\",\"\",SUMIFS(打撃データー!$AM$6:$AM$500,打撃データー!$AG$6:$AG$500,F107,打撃データー!$AI$6:$AI$500,H107,打撃データー!$AJ$6:$AJ$500,打撃成績!I107))","v":""},{"$f":"IF(G107=\"\",\"\",SUMIFS(打撃データー!$AN$6:$AN$500,打撃データー!$AG$6:$AG$500,F107,打撃データー!$AI$6:$AI$500,H107,打撃データー!$AJ$6:$AJ$500,打撃成績!I107))","v":""},{"$f":"IF(G107=\"\",\"\",SUMIFS(打撃データー!$AO$6:$AO$500,打撃データー!$AG$6:$AG$500,F107,打撃データー!$AI$6:$AI$500,H107,打撃データー!$AJ$6:$AJ$500,打撃成績!I107))","v":""},{"$f":"IF(G107=\"\",\"\",SUMIFS(打撃データー!$AP$6:$AP$500,打撃データー!$AG$6:$AG$500,F107,打撃データー!$AI$6:$AI$500,H107,打撃データー!$AJ$6:$AJ$500,打撃成績!I107))","v":""},{"$f":"IF(G107=\"\",\"\",SUMIFS(打撃データー!$AQ$6:$AQ$500,打撃データー!$AG$6:$AG$500,F107,打撃データー!$AI$6:$AI$500,H107,打撃データー!$AJ$6:$AJ$500,打撃成績!I107))","v":""},{"$f":"IF(G107=\"\",\"\",SUMIFS(打撃データー!$AR$6:$AR$500,打撃データー!$AG$6:$AG$500,F107,打撃データー!$AI$6:$AI$500,H107,打撃データー!$AJ$6:$AJ$500,打撃成績!I107))","v":""},{"$f":"IF(G107=\"\",\"\",SUMIFS(打撃データー!$AS$6:$AS$500,打撃データー!$AG$6:$AG$500,F107,打撃データー!$AI$6:$AI$500,H107,打撃データー!$AJ$6:$AJ$500,打撃成績!I107))","v":""},{"$f":"IF(G107=\"\",\"\",SUMIFS(打撃データー!$AT$6:$AT$500,打撃データー!$AG$6:$AG$500,F107,打撃データー!$AI$6:$AI$500,H107,打撃データー!$AJ$6:$AJ$500,打撃成績!I107))","v":""},{"$f":"IF(G107=\"\",\"\",SUMIFS(打撃データー!$AU$6:$AU$500,打撃データー!$AG$6:$AG$500,F107,打撃データー!$AI$6:$AI$500,H107,打撃データー!$AJ$6:$AJ$500,打撃成績!I107))","v":""},{"$f":"IF(G107=\"\",\"\",SUMIFS(打撃データー!$AV$6:$AV$500,打撃データー!$AG$6:$AG$500,F107,打撃データー!$AI$6:$AI$500,H107,打撃データー!$AJ$6:$AJ$500,打撃成績!I107))","v":""},{"$f":"IF(G107=\"\",\"\",SUMIFS(打撃データー!$AW$6:$AW$500,打撃データー!$AG$6:$AG$500,F107,打撃データー!$AI$6:$AI$500,H107,打撃データー!$AJ$6:$AJ$500,打撃成績!I107))","v":""},{"$f":"IF(G107=\"\",\"\",SUMIFS(打撃データー!$AX$6:$AX$500,打撃データー!$AG$6:$AG$500,F107,打撃データー!$AI$6:$AI$500,H107,打撃データー!$AJ$6:$AJ$500,打撃成績!I107))","v":""},{"$f":"IF(G107=\"\",\"\",SUMIFS(打撃データー!$AY$6:$AY$500,打撃データー!$AG$6:$AG$500,F107,打撃データー!$AI$6:$AI$500,H107,打撃データー!$AJ$6:$AJ$500,打撃成績!I107))","v":""},{"$f":"IF(G107=\"\",\"\",SUMIFS(打撃データー!$AZ$6:$AZ$500,打撃データー!$AG$6:$AG$500,F107,打撃データー!$AI$6:$AI$500,H107,打撃データー!$AJ$6:$AJ$500,打撃成績!I107))","v":""},{"$f":"IF(G107=\"\",\"\",SUMIFS(打撃データー!$BA$6:$BA$500,打撃データー!$AG$6:$AG$500,F107,打撃データー!$AI$6:$AI$500,H107,打撃データー!$AJ$6:$AJ$500,打撃成績!I107))","v":""},{"$f":"IF(G107=\"\",\"\",SUMIFS(打撃データー!$BB$6:$BB$500,打撃データー!$AG$6:$AG$500,F107,打撃データー!$AI$6:$AI$500,H107,打撃データー!$AJ$6:$AJ$500,打撃成績!I107))","v":""},{"$f":"IF(G107=\"\",\"\",SUMIFS(打撃データー!$BC$6:$BC$500,打撃データー!$AG$6:$AG$500,F107,打撃データー!$AI$6:$AI$500,H107,打撃データー!$AJ$6:$AJ$500,打撃成績!I107))","v":""},{"$f":"IF(G107=\"\",\"\",SUMIFS(打撃データー!$BD$6:$BD$500,打撃データー!$AG$6:$AG$500,F107,打撃データー!$AI$6:$AI$500,H107,打撃データー!$AJ$6:$AJ$500,打撃成績!I107))","v":""},{"$f":"IF(G107=\"\",\"\",SUMIFS(打撃データー!$BE$6:$BE$500,打撃データー!$AG$6:$AG$500,F107,打撃データー!$AI$6:$AI$500,H107,打撃データー!$AJ$6:$AJ$500,打撃成績!I107))","v":""},{"$f":"IF(G107=\"\",\"\",SUMIFS(打撃データー!$BF$6:$BF$500,打撃データー!$AG$6:$AG$500,F107,打撃データー!$AI$6:$AI$500,H107,打撃データー!$AJ$6:$AJ$500,打撃成績!I107))","v":""},null,"","","","",""]
[null,null,null,null,null,"",{"$f":"IF(G22=\"\",\"\",G22)","v":""},"","RR",{"$f":"IF(G108=\"\",\"\",SUMIFS(打撃データー!$AK$6:$AK$500,打撃データー!$AG$6:$AG$500,F108,打撃データー!$AI$6:$AI$500,H108,打撃データー!$AJ$6:$AJ$500,打撃成績!I108))","v":""},{"$f":"IF(G108=\"\",\"\",SUMIFS(打撃データー!$AL$6:$AL$500,打撃データー!$AG$6:$AG$500,F108,打撃データー!$AI$6:$AI$500,H108,打撃データー!$AJ$6:$AJ$500,打撃成績!I108))","v":""},{"$f":"IF(G108=\"\",\"\",SUMIFS(打撃データー!$AM$6:$AM$500,打撃データー!$AG$6:$AG$500,F108,打撃データー!$AI$6:$AI$500,H108,打撃データー!$AJ$6:$AJ$500,打撃成績!I108))","v":""},{"$f":"IF(G108=\"\",\"\",SUMIFS(打撃データー!$AN$6:$AN$500,打撃データー!$AG$6:$AG$500,F108,打撃データー!$AI$6:$AI$500,H108,打撃データー!$AJ$6:$AJ$500,打撃成績!I108))","v":""},{"$f":"IF(G108=\"\",\"\",SUMIFS(打撃データー!$AO$6:$AO$500,打撃データー!$AG$6:$AG$500,F108,打撃データー!$AI$6:$AI$500,H108,打撃データー!$AJ$6:$AJ$500,打撃成績!I108))","v":""},{"$f":"IF(G108=\"\",\"\",SUMIFS(打撃データー!$AP$6:$AP$500,打撃データー!$AG$6:$AG$500,F108,打撃データー!$AI$6:$AI$500,H108,打撃データー!$AJ$6:$AJ$500,打撃成績!I108))","v":""},{"$f":"IF(G108=\"\",\"\",SUMIFS(打撃データー!$AQ$6:$AQ$500,打撃データー!$AG$6:$AG$500,F108,打撃データー!$AI$6:$AI$500,H108,打撃データー!$AJ$6:$AJ$500,打撃成績!I108))","v":""},{"$f":"IF(G108=\"\",\"\",SUMIFS(打撃データー!$AR$6:$AR$500,打撃データー!$AG$6:$AG$500,F108,打撃データー!$AI$6:$AI$500,H108,打撃データー!$AJ$6:$AJ$500,打撃成績!I108))","v":""},{"$f":"IF(G108=\"\",\"\",SUMIFS(打撃データー!$AS$6:$AS$500,打撃データー!$AG$6:$AG$500,F108,打撃データー!$AI$6:$AI$500,H108,打撃データー!$AJ$6:$AJ$500,打撃成績!I108))","v":""},{"$f":"IF(G108=\"\",\"\",SUMIFS(打撃データー!$AT$6:$AT$500,打撃データー!$AG$6:$AG$500,F108,打撃データー!$AI$6:$AI$500,H108,打撃データー!$AJ$6:$AJ$500,打撃成績!I108))","v":""},{"$f":"IF(G108=\"\",\"\",SUMIFS(打撃データー!$AU$6:$AU$500,打撃データー!$AG$6:$AG$500,F108,打撃データー!$AI$6:$AI$500,H108,打撃データー!$AJ$6:$AJ$500,打撃成績!I108))","v":""},{"$f":"IF(G108=\"\",\"\",SUMIFS(打撃データー!$AV$6:$AV$500,打撃データー!$AG$6:$AG$500,F108,打撃データー!$AI$6:$AI$500,H108,打撃データー!$AJ$6:$AJ$500,打撃成績!I108))","v":""},{"$f":"IF(G108=\"\",\"\",SUMIFS(打撃データー!$AW$6:$AW$500,打撃データー!$AG$6:$AG$500,F108,打撃データー!$AI$6:$AI$500,H108,打撃データー!$AJ$6:$AJ$500,打撃成績!I108))","v":""},{"$f":"IF(G108=\"\",\"\",SUMIFS(打撃データー!$AX$6:$AX$500,打撃データー!$AG$6:$AG$500,F108,打撃データー!$AI$6:$AI$500,H108,打撃データー!$AJ$6:$AJ$500,打撃成績!I108))","v":""},{"$f":"IF(G108=\"\",\"\",SUMIFS(打撃データー!$AY$6:$AY$500,打撃データー!$AG$6:$AG$500,F108,打撃データー!$AI$6:$AI$500,H108,打撃データー!$AJ$6:$AJ$500,打撃成績!I108))","v":""},{"$f":"IF(G108=\"\",\"\",SUMIFS(打撃データー!$AZ$6:$AZ$500,打撃データー!$AG$6:$AG$500,F108,打撃データー!$AI$6:$AI$500,H108,打撃データー!$AJ$6:$AJ$500,打撃成績!I108))","v":""},{"$f":"IF(G108=\"\",\"\",SUMIFS(打撃データー!$BA$6:$BA$500,打撃データー!$AG$6:$AG$500,F108,打撃データー!$AI$6:$AI$500,H108,打撃データー!$AJ$6:$AJ$500,打撃成績!I108))","v":""},{"$f":"IF(G108=\"\",\"\",SUMIFS(打撃データー!$BB$6:$BB$500,打撃データー!$AG$6:$AG$500,F108,打撃データー!$AI$6:$AI$500,H108,打撃データー!$AJ$6:$AJ$500,打撃成績!I108))","v":""},{"$f":"IF(G108=\"\",\"\",SUMIFS(打撃データー!$BC$6:$BC$500,打撃データー!$AG$6:$AG$500,F108,打撃データー!$AI$6:$AI$500,H108,打撃データー!$AJ$6:$AJ$500,打撃成績!I108))","v":""},{"$f":"IF(G108=\"\",\"\",SUMIFS(打撃データー!$BD$6:$BD$500,打撃データー!$AG$6:$AG$500,F108,打撃データー!$AI$6:$AI$500,H108,打撃データー!$AJ$6:$AJ$500,打撃成績!I108))","v":""},{"$f":"IF(G108=\"\",\"\",SUMIFS(打撃データー!$BE$6:$BE$500,打撃データー!$AG$6:$AG$500,F108,打撃データー!$AI$6:$AI$500,H108,打撃データー!$AJ$6:$AJ$500,打撃成績!I108))","v":""},{"$f":"IF(G108=\"\",\"\",SUMIFS(打撃データー!$BF$6:$BF$500,打撃データー!$AG$6:$AG$500,F108,打撃データー!$AI$6:$AI$500,H108,打撃データー!$AJ$6:$AJ$500,打撃成績!I108))","v":""},null,"","","","",""]
[null,null,null,null,null,"",{"$f":"IF(G23=\"\",\"\",G23)","v":""},"","RR",{"$f":"IF(G109=\"\",\"\",SUMIFS(打撃データー!$AK$6:$AK$500,打撃データー!$AG$6:$AG$500,F109,打撃データー!$AI$6:$AI$500,H109,打撃データー!$AJ$6:$AJ$500,打撃成績!I109))","v":""},{"$f":"IF(G109=\"\",\"\",SUMIFS(打撃データー!$AL$6:$AL$500,打撃データー!$AG$6:$AG$500,F109,打撃データー!$AI$6:$AI$500,H109,打撃データー!$AJ$6:$AJ$500,打撃成績!I109))","v":""},{"$f":"IF(G109=\"\",\"\",SUMIFS(打撃データー!$AM$6:$AM$500,打撃データー!$AG$6:$AG$500,F109,打撃データー!$AI$6:$AI$500,H109,打撃データー!$AJ$6:$AJ$500,打撃成績!I109))","v":""},{"$f":"IF(G109=\"\",\"\",SUMIFS(打撃データー!$AN$6:$AN$500,打撃データー!$AG$6:$AG$500,F109,打撃データー!$AI$6:$AI$500,H109,打撃データー!$AJ$6:$AJ$500,打撃成績!I109))","v":""},{"$f":"IF(G109=\"\",\"\",SUMIFS(打撃データー!$AO$6:$AO$500,打撃データー!$AG$6:$AG$500,F109,打撃データー!$AI$6:$AI$500,H109,打撃データー!$AJ$6:$AJ$500,打撃成績!I109))","v":""},{"$f":"IF(G109=\"\",\"\",SUMIFS(打撃データー!$AP$6:$AP$500,打撃データー!$AG$6:$AG$500,F109,打撃データー!$AI$6:$AI$500,H109,打撃データー!$AJ$6:$AJ$500,打撃成績!I109))","v":""},{"$f":"IF(G109=\"\",\"\",SUMIFS(打撃データー!$AQ$6:$AQ$500,打撃データー!$AG$6:$AG$500,F109,打撃データー!$AI$6:$AI$500,H109,打撃データー!$AJ$6:$AJ$500,打撃成績!I109))","v":""},{"$f":"IF(G109=\"\",\"\",SUMIFS(打撃データー!$AR$6:$AR$500,打撃データー!$AG$6:$AG$500,F109,打撃データー!$AI$6:$AI$500,H109,打撃データー!$AJ$6:$AJ$500,打撃成績!I109))","v":""},{"$f":"IF(G109=\"\",\"\",SUMIFS(打撃データー!$AS$6:$AS$500,打撃データー!$AG$6:$AG$500,F109,打撃データー!$AI$6:$AI$500,H109,打撃データー!$AJ$6:$AJ$500,打撃成績!I109))","v":""},{"$f":"IF(G109=\"\",\"\",SUMIFS(打撃データー!$AT$6:$AT$500,打撃データー!$AG$6:$AG$500,F109,打撃データー!$AI$6:$AI$500,H109,打撃データー!$AJ$6:$AJ$500,打撃成績!I109))","v":""},{"$f":"IF(G109=\"\",\"\",SUMIFS(打撃データー!$AU$6:$AU$500,打撃データー!$AG$6:$AG$500,F109,打撃データー!$AI$6:$AI$500,H109,打撃データー!$AJ$6:$AJ$500,打撃成績!I109))","v":""},{"$f":"IF(G109=\"\",\"\",SUMIFS(打撃データー!$AV$6:$AV$500,打撃データー!$AG$6:$AG$500,F109,打撃データー!$AI$6:$AI$500,H109,打撃データー!$AJ$6:$AJ$500,打撃成績!I109))","v":""},{"$f":"IF(G109=\"\",\"\",SUMIFS(打撃データー!$AW$6:$AW$500,打撃データー!$AG$6:$AG$500,F109,打撃データー!$AI$6:$AI$500,H109,打撃データー!$AJ$6:$AJ$500,打撃成績!I109))","v":""},{"$f":"IF(G109=\"\",\"\",SUMIFS(打撃データー!$AX$6:$AX$500,打撃データー!$AG$6:$AG$500,F109,打撃データー!$AI$6:$AI$500,H109,打撃データー!$AJ$6:$AJ$500,打撃成績!I109))","v":""},{"$f":"IF(G109=\"\",\"\",SUMIFS(打撃データー!$AY$6:$AY$500,打撃データー!$AG$6:$AG$500,F109,打撃データー!$AI$6:$AI$500,H109,打撃データー!$AJ$6:$AJ$500,打撃成績!I109))","v":""},{"$f":"IF(G109=\"\",\"\",SUMIFS(打撃データー!$AZ$6:$AZ$500,打撃データー!$AG$6:$AG$500,F109,打撃データー!$AI$6:$AI$500,H109,打撃データー!$AJ$6:$AJ$500,打撃成績!I109))","v":""},{"$f":"IF(G109=\"\",\"\",SUMIFS(打撃データー!$BA$6:$BA$500,打撃データー!$AG$6:$AG$500,F109,打撃データー!$AI$6:$AI$500,H109,打撃データー!$AJ$6:$AJ$500,打撃成績!I109))","v":""},{"$f":"IF(G109=\"\",\"\",SUMIFS(打撃データー!$BB$6:$BB$500,打撃データー!$AG$6:$AG$500,F109,打撃データー!$AI$6:$AI$500,H109,打撃データー!$AJ$6:$AJ$500,打撃成績!I109))","v":""},{"$f":"IF(G109=\"\",\"\",SUMIFS(打撃データー!$BC$6:$BC$500,打撃データー!$AG$6:$AG$500,F109,打撃データー!$AI$6:$AI$500,H109,打撃データー!$AJ$6:$AJ$500,打撃成績!I109))","v":""},{"$f":"IF(G109=\"\",\"\",SUMIFS(打撃データー!$BD$6:$BD$500,打撃データー!$AG$6:$AG$500,F109,打撃データー!$AI$6:$AI$500,H109,打撃データー!$AJ$6:$AJ$500,打撃成績!I109))","v":""},{"$f":"IF(G109=\"\",\"\",SUMIFS(打撃データー!$BE$6:$BE$500,打撃データー!$AG$6:$AG$500,F109,打撃データー!$AI$6:$AI$500,H109,打撃データー!$AJ$6:$AJ$500,打撃成績!I109))","v":""},{"$f":"IF(G109=\"\",\"\",SUMIFS(打撃データー!$BF$6:$BF$500,打撃データー!$AG$6:$AG$500,F109,打撃データー!$AI$6:$AI$500,H109,打撃データー!$AJ$6:$AJ$500,打撃成績!I109))","v":""},null,"","","","",""]
[null,null,null,null,null,"",{"$f":"IF(G24=\"\",\"\",G24)","v":""},"","RR",{"$f":"IF(G110=\"\",\"\",SUMIFS(打撃データー!$AK$6:$AK$500,打撃データー!$AG$6:$AG$500,F110,打撃データー!$AI$6:$AI$500,H110,打撃データー!$AJ$6:$AJ$500,打撃成績!I110))","v":""},{"$f":"IF(G110=\"\",\"\",SUMIFS(打撃データー!$AL$6:$AL$500,打撃データー!$AG$6:$AG$500,F110,打撃データー!$AI$6:$AI$500,H110,打撃データー!$AJ$6:$AJ$500,打撃成績!I110))","v":""},{"$f":"IF(G110=\"\",\"\",SUMIFS(打撃データー!$AM$6:$AM$500,打撃データー!$AG$6:$AG$500,F110,打撃データー!$AI$6:$AI$500,H110,打撃データー!$AJ$6:$AJ$500,打撃成績!I110))","v":""},{"$f":"IF(G110=\"\",\"\",SUMIFS(打撃データー!$AN$6:$AN$500,打撃データー!$AG$6:$AG$500,F110,打撃データー!$AI$6:$AI$500,H110,打撃データー!$AJ$6:$AJ$500,打撃成績!I110))","v":""},{"$f":"IF(G110=\"\",\"\",SUMIFS(打撃データー!$AO$6:$AO$500,打撃データー!$AG$6:$AG$500,F110,打撃データー!$AI$6:$AI$500,H110,打撃データー!$AJ$6:$AJ$500,打撃成績!I110))","v":""},{"$f":"IF(G110=\"\",\"\",SUMIFS(打撃データー!$AP$6:$AP$500,打撃データー!$AG$6:$AG$500,F110,打撃データー!$AI$6:$AI$500,H110,打撃データー!$AJ$6:$AJ$500,打撃成績!I110))","v":""},{"$f":"IF(G110=\"\",\"\",SUMIFS(打撃データー!$AQ$6:$AQ$500,打撃データー!$AG$6:$AG$500,F110,打撃データー!$AI$6:$AI$500,H110,打撃データー!$AJ$6:$AJ$500,打撃成績!I110))","v":""},{"$f":"IF(G110=\"\",\"\",SUMIFS(打撃データー!$AR$6:$AR$500,打撃データー!$AG$6:$AG$500,F110,打撃データー!$AI$6:$AI$500,H110,打撃データー!$AJ$6:$AJ$500,打撃成績!I110))","v":""},{"$f":"IF(G110=\"\",\"\",SUMIFS(打撃データー!$AS$6:$AS$500,打撃データー!$AG$6:$AG$500,F110,打撃データー!$AI$6:$AI$500,H110,打撃データー!$AJ$6:$AJ$500,打撃成績!I110))","v":""},{"$f":"IF(G110=\"\",\"\",SUMIFS(打撃データー!$AT$6:$AT$500,打撃データー!$AG$6:$AG$500,F110,打撃データー!$AI$6:$AI$500,H110,打撃データー!$AJ$6:$AJ$500,打撃成績!I110))","v":""},{"$f":"IF(G110=\"\",\"\",SUMIFS(打撃データー!$AU$6:$AU$500,打撃データー!$AG$6:$AG$500,F110,打撃データー!$AI$6:$AI$500,H110,打撃データー!$AJ$6:$AJ$500,打撃成績!I110))","v":""},{"$f":"IF(G110=\"\",\"\",SUMIFS(打撃データー!$AV$6:$AV$500,打撃データー!$AG$6:$AG$500,F110,打撃データー!$AI$6:$AI$500,H110,打撃データー!$AJ$6:$AJ$500,打撃成績!I110))","v":""},{"$f":"IF(G110=\"\",\"\",SUMIFS(打撃データー!$AW$6:$AW$500,打撃データー!$AG$6:$AG$500,F110,打撃データー!$AI$6:$AI$500,H110,打撃データー!$AJ$6:$AJ$500,打撃成績!I110))","v":""},{"$f":"IF(G110=\"\",\"\",SUMIFS(打撃データー!$AX$6:$AX$500,打撃データー!$AG$6:$AG$500,F110,打撃データー!$AI$6:$AI$500,H110,打撃データー!$AJ$6:$AJ$500,打撃成績!I110))","v":""},{"$f":"IF(G110=\"\",\"\",SUMIFS(打撃データー!$AY$6:$AY$500,打撃データー!$AG$6:$AG$500,F110,打撃データー!$AI$6:$AI$500,H110,打撃データー!$AJ$6:$AJ$500,打撃成績!I110))","v":""},{"$f":"IF(G110=\"\",\"\",SUMIFS(打撃データー!$AZ$6:$AZ$500,打撃データー!$AG$6:$AG$500,F110,打撃データー!$AI$6:$AI$500,H110,打撃データー!$AJ$6:$AJ$500,打撃成績!I110))","v":""},{"$f":"IF(G110=\"\",\"\",SUMIFS(打撃データー!$BA$6:$BA$500,打撃データー!$AG$6:$AG$500,F110,打撃データー!$AI$6:$AI$500,H110,打撃データー!$AJ$6:$AJ$500,打撃成績!I110))","v":""},{"$f":"IF(G110=\"\",\"\",SUMIFS(打撃データー!$BB$6:$BB$500,打撃データー!$AG$6:$AG$500,F110,打撃データー!$AI$6:$AI$500,H110,打撃データー!$AJ$6:$AJ$500,打撃成績!I110))","v":""},{"$f":"IF(G110=\"\",\"\",SUMIFS(打撃データー!$BC$6:$BC$500,打撃データー!$AG$6:$AG$500,F110,打撃データー!$AI$6:$AI$500,H110,打撃データー!$AJ$6:$AJ$500,打撃成績!I110))","v":""},{"$f":"IF(G110=\"\",\"\",SUMIFS(打撃データー!$BD$6:$BD$500,打撃データー!$AG$6:$AG$500,F110,打撃データー!$AI$6:$AI$500,H110,打撃データー!$AJ$6:$AJ$500,打撃成績!I110))","v":""},{"$f":"IF(G110=\"\",\"\",SUMIFS(打撃データー!$BE$6:$BE$500,打撃データー!$AG$6:$AG$500,F110,打撃データー!$AI$6:$AI$500,H110,打撃データー!$AJ$6:$AJ$500,打撃成績!I110))","v":""},{"$f":"IF(G110=\"\",\"\",SUMIFS(打撃データー!$BF$6:$BF$500,打撃データー!$AG$6:$AG$500,F110,打撃データー!$AI$6:$AI$500,H110,打撃データー!$AJ$6:$AJ$500,打撃成績!I110))","v":""},null,"","","","",""]
[null,null,null,null,null,"",{"$f":"IF(G25=\"\",\"\",G25)","v":""},"","RR",{"$f":"IF(G111=\"\",\"\",SUMIFS(打撃データー!$AK$6:$AK$500,打撃データー!$AG$6:$AG$500,F111,打撃データー!$AI$6:$AI$500,H111,打撃データー!$AJ$6:$AJ$500,打撃成績!I111))","v":""},{"$f":"IF(G111=\"\",\"\",SUMIFS(打撃データー!$AL$6:$AL$500,打撃データー!$AG$6:$AG$500,F111,打撃データー!$AI$6:$AI$500,H111,打撃データー!$AJ$6:$AJ$500,打撃成績!I111))","v":""},{"$f":"IF(G111=\"\",\"\",SUMIFS(打撃データー!$AM$6:$AM$500,打撃データー!$AG$6:$AG$500,F111,打撃データー!$AI$6:$AI$500,H111,打撃データー!$AJ$6:$AJ$500,打撃成績!I111))","v":""},{"$f":"IF(G111=\"\",\"\",SUMIFS(打撃データー!$AN$6:$AN$500,打撃データー!$AG$6:$AG$500,F111,打撃データー!$AI$6:$AI$500,H111,打撃データー!$AJ$6:$AJ$500,打撃成績!I111))","v":""},{"$f":"IF(G111=\"\",\"\",SUMIFS(打撃データー!$AO$6:$AO$500,打撃データー!$AG$6:$AG$500,F111,打撃データー!$AI$6:$AI$500,H111,打撃データー!$AJ$6:$AJ$500,打撃成績!I111))","v":""},{"$f":"IF(G111=\"\",\"\",SUMIFS(打撃データー!$AP$6:$AP$500,打撃データー!$AG$6:$AG$500,F111,打撃データー!$AI$6:$AI$500,H111,打撃データー!$AJ$6:$AJ$500,打撃成績!I111))","v":""},{"$f":"IF(G111=\"\",\"\",SUMIFS(打撃データー!$AQ$6:$AQ$500,打撃データー!$AG$6:$AG$500,F111,打撃データー!$AI$6:$AI$500,H111,打撃データー!$AJ$6:$AJ$500,打撃成績!I111))","v":""},{"$f":"IF(G111=\"\",\"\",SUMIFS(打撃データー!$AR$6:$AR$500,打撃データー!$AG$6:$AG$500,F111,打撃データー!$AI$6:$AI$500,H111,打撃データー!$AJ$6:$AJ$500,打撃成績!I111))","v":""},{"$f":"IF(G111=\"\",\"\",SUMIFS(打撃データー!$AS$6:$AS$500,打撃データー!$AG$6:$AG$500,F111,打撃データー!$AI$6:$AI$500,H111,打撃データー!$AJ$6:$AJ$500,打撃成績!I111))","v":""},{"$f":"IF(G111=\"\",\"\",SUMIFS(打撃データー!$AT$6:$AT$500,打撃データー!$AG$6:$AG$500,F111,打撃データー!$AI$6:$AI$500,H111,打撃データー!$AJ$6:$AJ$500,打撃成績!I111))","v":""},{"$f":"IF(G111=\"\",\"\",SUMIFS(打撃データー!$AU$6:$AU$500,打撃データー!$AG$6:$AG$500,F111,打撃データー!$AI$6:$AI$500,H111,打撃データー!$AJ$6:$AJ$500,打撃成績!I111))","v":""},{"$f":"IF(G111=\"\",\"\",SUMIFS(打撃データー!$AV$6:$AV$500,打撃データー!$AG$6:$AG$500,F111,打撃データー!$AI$6:$AI$500,H111,打撃データー!$AJ$6:$AJ$500,打撃成績!I111))","v":""},{"$f":"IF(G111=\"\",\"\",SUMIFS(打撃データー!$AW$6:$AW$500,打撃データー!$AG$6:$AG$500,F111,打撃データー!$AI$6:$AI$500,H111,打撃データー!$AJ$6:$AJ$500,打撃成績!I111))","v":""},{"$f":"IF(G111=\"\",\"\",SUMIFS(打撃データー!$AX$6:$AX$500,打撃データー!$AG$6:$AG$500,F111,打撃データー!$AI$6:$AI$500,H111,打撃データー!$AJ$6:$AJ$500,打撃成績!I111))","v":""},{"$f":"IF(G111=\"\",\"\",SUMIFS(打撃データー!$AY$6:$AY$500,打撃データー!$AG$6:$AG$500,F111,打撃データー!$AI$6:$AI$500,H111,打撃データー!$AJ$6:$AJ$500,打撃成績!I111))","v":""},{"$f":"IF(G111=\"\",\"\",SUMIFS(打撃データー!$AZ$6:$AZ$500,打撃データー!$AG$6:$AG$500,F111,打撃データー!$AI$6:$AI$500,H111,打撃データー!$AJ$6:$AJ$500,打撃成績!I111))","v":""},{"$f":"IF(G111=\"\",\"\",SUMIFS(打撃データー!$BA$6:$BA$500,打撃データー!$AG$6:$AG$500,F111,打撃データー!$AI$6:$AI$500,H111,打撃データー!$AJ$6:$AJ$500,打撃成績!I111))","v":""},{"$f":"IF(G111=\"\",\"\",SUMIFS(打撃データー!$BB$6:$BB$500,打撃データー!$AG$6:$AG$500,F111,打撃データー!$AI$6:$AI$500,H111,打撃データー!$AJ$6:$AJ$500,打撃成績!I111))","v":""},{"$f":"IF(G111=\"\",\"\",SUMIFS(打撃データー!$BC$6:$BC$500,打撃データー!$AG$6:$AG$500,F111,打撃データー!$AI$6:$AI$500,H111,打撃データー!$AJ$6:$AJ$500,打撃成績!I111))","v":""},{"$f":"IF(G111=\"\",\"\",SUMIFS(打撃データー!$BD$6:$BD$500,打撃データー!$AG$6:$AG$500,F111,打撃データー!$AI$6:$AI$500,H111,打撃データー!$AJ$6:$AJ$500,打撃成績!I111))","v":""},{"$f":"IF(G111=\"\",\"\",SUMIFS(打撃データー!$BE$6:$BE$500,打撃データー!$AG$6:$AG$500,F111,打撃データー!$AI$6:$AI$500,H111,打撃データー!$AJ$6:$AJ$500,打撃成績!I111))","v":""},{"$f":"IF(G111=\"\",\"\",SUMIFS(打撃データー!$BF$6:$BF$500,打撃データー!$AG$6:$AG$500,F111,打撃データー!$AI$6:$AI$500,H111,打撃データー!$AJ$6:$AJ$500,打撃成績!I111))","v":""},null,"","","","",""]
[null,null,null,null,null,"",{"$f":"IF(G26=\"\",\"\",G26)","v":""},"","RR",{"$f":"IF(G112=\"\",\"\",SUMIFS(打撃データー!$AK$6:$AK$500,打撃データー!$AG$6:$AG$500,F112,打撃データー!$AI$6:$AI$500,H112,打撃データー!$AJ$6:$AJ$500,打撃成績!I112))","v":""},{"$f":"IF(G112=\"\",\"\",SUMIFS(打撃データー!$AL$6:$AL$500,打撃データー!$AG$6:$AG$500,F112,打撃データー!$AI$6:$AI$500,H112,打撃データー!$AJ$6:$AJ$500,打撃成績!I112))","v":""},{"$f":"IF(G112=\"\",\"\",SUMIFS(打撃データー!$AM$6:$AM$500,打撃データー!$AG$6:$AG$500,F112,打撃データー!$AI$6:$AI$500,H112,打撃データー!$AJ$6:$AJ$500,打撃成績!I112))","v":""},{"$f":"IF(G112=\"\",\"\",SUMIFS(打撃データー!$AN$6:$AN$500,打撃データー!$AG$6:$AG$500,F112,打撃データー!$AI$6:$AI$500,H112,打撃データー!$AJ$6:$AJ$500,打撃成績!I112))","v":""},{"$f":"IF(G112=\"\",\"\",SUMIFS(打撃データー!$AO$6:$AO$500,打撃データー!$AG$6:$AG$500,F112,打撃データー!$AI$6:$AI$500,H112,打撃データー!$AJ$6:$AJ$500,打撃成績!I112))","v":""},{"$f":"IF(G112=\"\",\"\",SUMIFS(打撃データー!$AP$6:$AP$500,打撃データー!$AG$6:$AG$500,F112,打撃データー!$AI$6:$AI$500,H112,打撃データー!$AJ$6:$AJ$500,打撃成績!I112))","v":""},{"$f":"IF(G112=\"\",\"\",SUMIFS(打撃データー!$AQ$6:$AQ$500,打撃データー!$AG$6:$AG$500,F112,打撃データー!$AI$6:$AI$500,H112,打撃データー!$AJ$6:$AJ$500,打撃成績!I112))","v":""},{"$f":"IF(G112=\"\",\"\",SUMIFS(打撃データー!$AR$6:$AR$500,打撃データー!$AG$6:$AG$500,F112,打撃データー!$AI$6:$AI$500,H112,打撃データー!$AJ$6:$AJ$500,打撃成績!I112))","v":""},{"$f":"IF(G112=\"\",\"\",SUMIFS(打撃データー!$AS$6:$AS$500,打撃データー!$AG$6:$AG$500,F112,打撃データー!$AI$6:$AI$500,H112,打撃データー!$AJ$6:$AJ$500,打撃成績!I112))","v":""},{"$f":"IF(G112=\"\",\"\",SUMIFS(打撃データー!$AT$6:$AT$500,打撃データー!$AG$6:$AG$500,F112,打撃データー!$AI$6:$AI$500,H112,打撃データー!$AJ$6:$AJ$500,打撃成績!I112))","v":""},{"$f":"IF(G112=\"\",\"\",SUMIFS(打撃データー!$AU$6:$AU$500,打撃データー!$AG$6:$AG$500,F112,打撃データー!$AI$6:$AI$500,H112,打撃データー!$AJ$6:$AJ$500,打撃成績!I112))","v":""},{"$f":"IF(G112=\"\",\"\",SUMIFS(打撃データー!$AV$6:$AV$500,打撃データー!$AG$6:$AG$500,F112,打撃データー!$AI$6:$AI$500,H112,打撃データー!$AJ$6:$AJ$500,打撃成績!I112))","v":""},{"$f":"IF(G112=\"\",\"\",SUMIFS(打撃データー!$AW$6:$AW$500,打撃データー!$AG$6:$AG$500,F112,打撃データー!$AI$6:$AI$500,H112,打撃データー!$AJ$6:$AJ$500,打撃成績!I112))","v":""},{"$f":"IF(G112=\"\",\"\",SUMIFS(打撃データー!$AX$6:$AX$500,打撃データー!$AG$6:$AG$500,F112,打撃データー!$AI$6:$AI$500,H112,打撃データー!$AJ$6:$AJ$500,打撃成績!I112))","v":""},{"$f":"IF(G112=\"\",\"\",SUMIFS(打撃データー!$AY$6:$AY$500,打撃データー!$AG$6:$AG$500,F112,打撃データー!$AI$6:$AI$500,H112,打撃データー!$AJ$6:$AJ$500,打撃成績!I112))","v":""},{"$f":"IF(G112=\"\",\"\",SUMIFS(打撃データー!$AZ$6:$AZ$500,打撃データー!$AG$6:$AG$500,F112,打撃データー!$AI$6:$AI$500,H112,打撃データー!$AJ$6:$AJ$500,打撃成績!I112))","v":""},{"$f":"IF(G112=\"\",\"\",SUMIFS(打撃データー!$BA$6:$BA$500,打撃データー!$AG$6:$AG$500,F112,打撃データー!$AI$6:$AI$500,H112,打撃データー!$AJ$6:$AJ$500,打撃成績!I112))","v":""},{"$f":"IF(G112=\"\",\"\",SUMIFS(打撃データー!$BB$6:$BB$500,打撃データー!$AG$6:$AG$500,F112,打撃データー!$AI$6:$AI$500,H112,打撃データー!$AJ$6:$AJ$500,打撃成績!I112))","v":""},{"$f":"IF(G112=\"\",\"\",SUMIFS(打撃データー!$BC$6:$BC$500,打撃データー!$AG$6:$AG$500,F112,打撃データー!$AI$6:$AI$500,H112,打撃データー!$AJ$6:$AJ$500,打撃成績!I112))","v":""},{"$f":"IF(G112=\"\",\"\",SUMIFS(打撃データー!$BD$6:$BD$500,打撃データー!$AG$6:$AG$500,F112,打撃データー!$AI$6:$AI$500,H112,打撃データー!$AJ$6:$AJ$500,打撃成績!I112))","v":""},{"$f":"IF(G112=\"\",\"\",SUMIFS(打撃データー!$BE$6:$BE$500,打撃データー!$AG$6:$AG$500,F112,打撃データー!$AI$6:$AI$500,H112,打撃データー!$AJ$6:$AJ$500,打撃成績!I112))","v":""},{"$f":"IF(G112=\"\",\"\",SUMIFS(打撃データー!$BF$6:$BF$500,打撃データー!$AG$6:$AG$500,F112,打撃データー!$AI$6:$AI$500,H112,打撃データー!$AJ$6:$AJ$500,打撃成績!I112))","v":""},null,"","","","",""]
[null,null,null,null,null,"",{"$f":"IF(G27=\"\",\"\",G27)","v":""},"","RR",{"$f":"IF(G113=\"\",\"\",SUMIFS(打撃データー!$AK$6:$AK$500,打撃データー!$AG$6:$AG$500,F113,打撃データー!$AI$6:$AI$500,H113,打撃データー!$AJ$6:$AJ$500,打撃成績!I113))","v":""},{"$f":"IF(G113=\"\",\"\",SUMIFS(打撃データー!$AL$6:$AL$500,打撃データー!$AG$6:$AG$500,F113,打撃データー!$AI$6:$AI$500,H113,打撃データー!$AJ$6:$AJ$500,打撃成績!I113))","v":""},{"$f":"IF(G113=\"\",\"\",SUMIFS(打撃データー!$AM$6:$AM$500,打撃データー!$AG$6:$AG$500,F113,打撃データー!$AI$6:$AI$500,H113,打撃データー!$AJ$6:$AJ$500,打撃成績!I113))","v":""},{"$f":"IF(G113=\"\",\"\",SUMIFS(打撃データー!$AN$6:$AN$500,打撃データー!$AG$6:$AG$500,F113,打撃データー!$AI$6:$AI$500,H113,打撃データー!$AJ$6:$AJ$500,打撃成績!I113))","v":""},{"$f":"IF(G113=\"\",\"\",SUMIFS(打撃データー!$AO$6:$AO$500,打撃データー!$AG$6:$AG$500,F113,打撃データー!$AI$6:$AI$500,H113,打撃データー!$AJ$6:$AJ$500,打撃成績!I113))","v":""},{"$f":"IF(G113=\"\",\"\",SUMIFS(打撃データー!$AP$6:$AP$500,打撃データー!$AG$6:$AG$500,F113,打撃データー!$AI$6:$AI$500,H113,打撃データー!$AJ$6:$AJ$500,打撃成績!I113))","v":""},{"$f":"IF(G113=\"\",\"\",SUMIFS(打撃データー!$AQ$6:$AQ$500,打撃データー!$AG$6:$AG$500,F113,打撃データー!$AI$6:$AI$500,H113,打撃データー!$AJ$6:$AJ$500,打撃成績!I113))","v":""},{"$f":"IF(G113=\"\",\"\",SUMIFS(打撃データー!$AR$6:$AR$500,打撃データー!$AG$6:$AG$500,F113,打撃データー!$AI$6:$AI$500,H113,打撃データー!$AJ$6:$AJ$500,打撃成績!I113))","v":""},{"$f":"IF(G113=\"\",\"\",SUMIFS(打撃データー!$AS$6:$AS$500,打撃データー!$AG$6:$AG$500,F113,打撃データー!$AI$6:$AI$500,H113,打撃データー!$AJ$6:$AJ$500,打撃成績!I113))","v":""},{"$f":"IF(G113=\"\",\"\",SUMIFS(打撃データー!$AT$6:$AT$500,打撃データー!$AG$6:$AG$500,F113,打撃データー!$AI$6:$AI$500,H113,打撃データー!$AJ$6:$AJ$500,打撃成績!I113))","v":""},{"$f":"IF(G113=\"\",\"\",SUMIFS(打撃データー!$AU$6:$AU$500,打撃データー!$AG$6:$AG$500,F113,打撃データー!$AI$6:$AI$500,H113,打撃データー!$AJ$6:$AJ$500,打撃成績!I113))","v":""},{"$f":"IF(G113=\"\",\"\",SUMIFS(打撃データー!$AV$6:$AV$500,打撃データー!$AG$6:$AG$500,F113,打撃データー!$AI$6:$AI$500,H113,打撃データー!$AJ$6:$AJ$500,打撃成績!I113))","v":""},{"$f":"IF(G113=\"\",\"\",SUMIFS(打撃データー!$AW$6:$AW$500,打撃データー!$AG$6:$AG$500,F113,打撃データー!$AI$6:$AI$500,H113,打撃データー!$AJ$6:$AJ$500,打撃成績!I113))","v":""},{"$f":"IF(G113=\"\",\"\",SUMIFS(打撃データー!$AX$6:$AX$500,打撃データー!$AG$6:$AG$500,F113,打撃データー!$AI$6:$AI$500,H113,打撃データー!$AJ$6:$AJ$500,打撃成績!I113))","v":""},{"$f":"IF(G113=\"\",\"\",SUMIFS(打撃データー!$AY$6:$AY$500,打撃データー!$AG$6:$AG$500,F113,打撃データー!$AI$6:$AI$500,H113,打撃データー!$AJ$6:$AJ$500,打撃成績!I113))","v":""},{"$f":"IF(G113=\"\",\"\",SUMIFS(打撃データー!$AZ$6:$AZ$500,打撃データー!$AG$6:$AG$500,F113,打撃データー!$AI$6:$AI$500,H113,打撃データー!$AJ$6:$AJ$500,打撃成績!I113))","v":""},{"$f":"IF(G113=\"\",\"\",SUMIFS(打撃データー!$BA$6:$BA$500,打撃データー!$AG$6:$AG$500,F113,打撃データー!$AI$6:$AI$500,H113,打撃データー!$AJ$6:$AJ$500,打撃成績!I113))","v":""},{"$f":"IF(G113=\"\",\"\",SUMIFS(打撃データー!$BB$6:$BB$500,打撃データー!$AG$6:$AG$500,F113,打撃データー!$AI$6:$AI$500,H113,打撃データー!$AJ$6:$AJ$500,打撃成績!I113))","v":""},{"$f":"IF(G113=\"\",\"\",SUMIFS(打撃データー!$BC$6:$BC$500,打撃データー!$AG$6:$AG$500,F113,打撃データー!$AI$6:$AI$500,H113,打撃データー!$AJ$6:$AJ$500,打撃成績!I113))","v":""},{"$f":"IF(G113=\"\",\"\",SUMIFS(打撃データー!$BD$6:$BD$500,打撃データー!$AG$6:$AG$500,F113,打撃データー!$AI$6:$AI$500,H113,打撃データー!$AJ$6:$AJ$500,打撃成績!I113))","v":""},{"$f":"IF(G113=\"\",\"\",SUMIFS(打撃データー!$BE$6:$BE$500,打撃データー!$AG$6:$AG$500,F113,打撃データー!$AI$6:$AI$500,H113,打撃データー!$AJ$6:$AJ$500,打撃成績!I113))","v":""},{"$f":"IF(G113=\"\",\"\",SUMIFS(打撃データー!$BF$6:$BF$500,打撃データー!$AG$6:$AG$500,F113,打撃データー!$AI$6:$AI$500,H113,打撃データー!$AJ$6:$AJ$500,打撃成績!I113))","v":""},null,"","","","",""]
[null,null,null,null,null,"",{"$f":"IF(G28=\"\",\"\",G28)","v":""},"","RR",{"$f":"IF(G114=\"\",\"\",SUMIFS(打撃データー!$AK$6:$AK$500,打撃データー!$AG$6:$AG$500,F114,打撃データー!$AI$6:$AI$500,H114,打撃データー!$AJ$6:$AJ$500,打撃成績!I114))","v":""},{"$f":"IF(G114=\"\",\"\",SUMIFS(打撃データー!$AL$6:$AL$500,打撃データー!$AG$6:$AG$500,F114,打撃データー!$AI$6:$AI$500,H114,打撃データー!$AJ$6:$AJ$500,打撃成績!I114))","v":""},{"$f":"IF(G114=\"\",\"\",SUMIFS(打撃データー!$AM$6:$AM$500,打撃データー!$AG$6:$AG$500,F114,打撃データー!$AI$6:$AI$500,H114,打撃データー!$AJ$6:$AJ$500,打撃成績!I114))","v":""},{"$f":"IF(G114=\"\",\"\",SUMIFS(打撃データー!$AN$6:$AN$500,打撃データー!$AG$6:$AG$500,F114,打撃データー!$AI$6:$AI$500,H114,打撃データー!$AJ$6:$AJ$500,打撃成績!I114))","v":""},{"$f":"IF(G114=\"\",\"\",SUMIFS(打撃データー!$AO$6:$AO$500,打撃データー!$AG$6:$AG$500,F114,打撃データー!$AI$6:$AI$500,H114,打撃データー!$AJ$6:$AJ$500,打撃成績!I114))","v":""},{"$f":"IF(G114=\"\",\"\",SUMIFS(打撃データー!$AP$6:$AP$500,打撃データー!$AG$6:$AG$500,F114,打撃データー!$AI$6:$AI$500,H114,打撃データー!$AJ$6:$AJ$500,打撃成績!I114))","v":""},{"$f":"IF(G114=\"\",\"\",SUMIFS(打撃データー!$AQ$6:$AQ$500,打撃データー!$AG$6:$AG$500,F114,打撃データー!$AI$6:$AI$500,H114,打撃データー!$AJ$6:$AJ$500,打撃成績!I114))","v":""},{"$f":"IF(G114=\"\",\"\",SUMIFS(打撃データー!$AR$6:$AR$500,打撃データー!$AG$6:$AG$500,F114,打撃データー!$AI$6:$AI$500,H114,打撃データー!$AJ$6:$AJ$500,打撃成績!I114))","v":""},{"$f":"IF(G114=\"\",\"\",SUMIFS(打撃データー!$AS$6:$AS$500,打撃データー!$AG$6:$AG$500,F114,打撃データー!$AI$6:$AI$500,H114,打撃データー!$AJ$6:$AJ$500,打撃成績!I114))","v":""},{"$f":"IF(G114=\"\",\"\",SUMIFS(打撃データー!$AT$6:$AT$500,打撃データー!$AG$6:$AG$500,F114,打撃データー!$AI$6:$AI$500,H114,打撃データー!$AJ$6:$AJ$500,打撃成績!I114))","v":""},{"$f":"IF(G114=\"\",\"\",SUMIFS(打撃データー!$AU$6:$AU$500,打撃データー!$AG$6:$AG$500,F114,打撃データー!$AI$6:$AI$500,H114,打撃データー!$AJ$6:$AJ$500,打撃成績!I114))","v":""},{"$f":"IF(G114=\"\",\"\",SUMIFS(打撃データー!$AV$6:$AV$500,打撃データー!$AG$6:$AG$500,F114,打撃データー!$AI$6:$AI$500,H114,打撃データー!$AJ$6:$AJ$500,打撃成績!I114))","v":""},{"$f":"IF(G114=\"\",\"\",SUMIFS(打撃データー!$AW$6:$AW$500,打撃データー!$AG$6:$AG$500,F114,打撃データー!$AI$6:$AI$500,H114,打撃データー!$AJ$6:$AJ$500,打撃成績!I114))","v":""},{"$f":"IF(G114=\"\",\"\",SUMIFS(打撃データー!$AX$6:$AX$500,打撃データー!$AG$6:$AG$500,F114,打撃データー!$AI$6:$AI$500,H114,打撃データー!$AJ$6:$AJ$500,打撃成績!I114))","v":""},{"$f":"IF(G114=\"\",\"\",SUMIFS(打撃データー!$AY$6:$AY$500,打撃データー!$AG$6:$AG$500,F114,打撃データー!$AI$6:$AI$500,H114,打撃データー!$AJ$6:$AJ$500,打撃成績!I114))","v":""},{"$f":"IF(G114=\"\",\"\",SUMIFS(打撃データー!$AZ$6:$AZ$500,打撃データー!$AG$6:$AG$500,F114,打撃データー!$AI$6:$AI$500,H114,打撃データー!$AJ$6:$AJ$500,打撃成績!I114))","v":""},{"$f":"IF(G114=\"\",\"\",SUMIFS(打撃データー!$BA$6:$BA$500,打撃データー!$AG$6:$AG$500,F114,打撃データー!$AI$6:$AI$500,H114,打撃データー!$AJ$6:$AJ$500,打撃成績!I114))","v":""},{"$f":"IF(G114=\"\",\"\",SUMIFS(打撃データー!$BB$6:$BB$500,打撃データー!$AG$6:$AG$500,F114,打撃データー!$AI$6:$AI$500,H114,打撃データー!$AJ$6:$AJ$500,打撃成績!I114))","v":""},{"$f":"IF(G114=\"\",\"\",SUMIFS(打撃データー!$BC$6:$BC$500,打撃データー!$AG$6:$AG$500,F114,打撃データー!$AI$6:$AI$500,H114,打撃データー!$AJ$6:$AJ$500,打撃成績!I114))","v":""},{"$f":"IF(G114=\"\",\"\",SUMIFS(打撃データー!$BD$6:$BD$500,打撃データー!$AG$6:$AG$500,F114,打撃データー!$AI$6:$AI$500,H114,打撃データー!$AJ$6:$AJ$500,打撃成績!I114))","v":""},{"$f":"IF(G114=\"\",\"\",SUMIFS(打撃データー!$BE$6:$BE$500,打撃データー!$AG$6:$AG$500,F114,打撃データー!$AI$6:$AI$500,H114,打撃データー!$AJ$6:$AJ$500,打撃成績!I114))","v":""},{"$f":"IF(G114=\"\",\"\",SUMIFS(打撃データー!$BF$6:$BF$500,打撃データー!$AG$6:$AG$500,F114,打撃データー!$AI$6:$AI$500,H114,打撃データー!$AJ$6:$AJ$500,打撃成績!I114))","v":""},null,"","","","",""]
[null,null,null,null,null,"",{"$f":"IF(G29=\"\",\"\",G29)","v":""},"","RR",{"$f":"IF(G115=\"\",\"\",SUMIFS(打撃データー!$AK$6:$AK$500,打撃データー!$AG$6:$AG$500,F115,打撃データー!$AI$6:$AI$500,H115,打撃データー!$AJ$6:$AJ$500,打撃成績!I115))","v":""},{"$f":"IF(G115=\"\",\"\",SUMIFS(打撃データー!$AL$6:$AL$500,打撃データー!$AG$6:$AG$500,F115,打撃データー!$AI$6:$AI$500,H115,打撃データー!$AJ$6:$AJ$500,打撃成績!I115))","v":""},{"$f":"IF(G115=\"\",\"\",SUMIFS(打撃データー!$AM$6:$AM$500,打撃データー!$AG$6:$AG$500,F115,打撃データー!$AI$6:$AI$500,H115,打撃データー!$AJ$6:$AJ$500,打撃成績!I115))","v":""},{"$f":"IF(G115=\"\",\"\",SUMIFS(打撃データー!$AN$6:$AN$500,打撃データー!$AG$6:$AG$500,F115,打撃データー!$AI$6:$AI$500,H115,打撃データー!$AJ$6:$AJ$500,打撃成績!I115))","v":""},{"$f":"IF(G115=\"\",\"\",SUMIFS(打撃データー!$AO$6:$AO$500,打撃データー!$AG$6:$AG$500,F115,打撃データー!$AI$6:$AI$500,H115,打撃データー!$AJ$6:$AJ$500,打撃成績!I115))","v":""},{"$f":"IF(G115=\"\",\"\",SUMIFS(打撃データー!$AP$6:$AP$500,打撃データー!$AG$6:$AG$500,F115,打撃データー!$AI$6:$AI$500,H115,打撃データー!$AJ$6:$AJ$500,打撃成績!I115))","v":""},{"$f":"IF(G115=\"\",\"\",SUMIFS(打撃データー!$AQ$6:$AQ$500,打撃データー!$AG$6:$AG$500,F115,打撃データー!$AI$6:$AI$500,H115,打撃データー!$AJ$6:$AJ$500,打撃成績!I115))","v":""},{"$f":"IF(G115=\"\",\"\",SUMIFS(打撃データー!$AR$6:$AR$500,打撃データー!$AG$6:$AG$500,F115,打撃データー!$AI$6:$AI$500,H115,打撃データー!$AJ$6:$AJ$500,打撃成績!I115))","v":""},{"$f":"IF(G115=\"\",\"\",SUMIFS(打撃データー!$AS$6:$AS$500,打撃データー!$AG$6:$AG$500,F115,打撃データー!$AI$6:$AI$500,H115,打撃データー!$AJ$6:$AJ$500,打撃成績!I115))","v":""},{"$f":"IF(G115=\"\",\"\",SUMIFS(打撃データー!$AT$6:$AT$500,打撃データー!$AG$6:$AG$500,F115,打撃データー!$AI$6:$AI$500,H115,打撃データー!$AJ$6:$AJ$500,打撃成績!I115))","v":""},{"$f":"IF(G115=\"\",\"\",SUMIFS(打撃データー!$AU$6:$AU$500,打撃データー!$AG$6:$AG$500,F115,打撃データー!$AI$6:$AI$500,H115,打撃データー!$AJ$6:$AJ$500,打撃成績!I115))","v":""},{"$f":"IF(G115=\"\",\"\",SUMIFS(打撃データー!$AV$6:$AV$500,打撃データー!$AG$6:$AG$500,F115,打撃データー!$AI$6:$AI$500,H115,打撃データー!$AJ$6:$AJ$500,打撃成績!I115))","v":""},{"$f":"IF(G115=\"\",\"\",SUMIFS(打撃データー!$AW$6:$AW$500,打撃データー!$AG$6:$AG$500,F115,打撃データー!$AI$6:$AI$500,H115,打撃データー!$AJ$6:$AJ$500,打撃成績!I115))","v":""},{"$f":"IF(G115=\"\",\"\",SUMIFS(打撃データー!$AX$6:$AX$500,打撃データー!$AG$6:$AG$500,F115,打撃データー!$AI$6:$AI$500,H115,打撃データー!$AJ$6:$AJ$500,打撃成績!I115))","v":""},{"$f":"IF(G115=\"\",\"\",SUMIFS(打撃データー!$AY$6:$AY$500,打撃データー!$AG$6:$AG$500,F115,打撃データー!$AI$6:$AI$500,H115,打撃データー!$AJ$6:$AJ$500,打撃成績!I115))","v":""},{"$f":"IF(G115=\"\",\"\",SUMIFS(打撃データー!$AZ$6:$AZ$500,打撃データー!$AG$6:$AG$500,F115,打撃データー!$AI$6:$AI$500,H115,打撃データー!$AJ$6:$AJ$500,打撃成績!I115))","v":""},{"$f":"IF(G115=\"\",\"\",SUMIFS(打撃データー!$BA$6:$BA$500,打撃データー!$AG$6:$AG$500,F115,打撃データー!$AI$6:$AI$500,H115,打撃データー!$AJ$6:$AJ$500,打撃成績!I115))","v":""},{"$f":"IF(G115=\"\",\"\",SUMIFS(打撃データー!$BB$6:$BB$500,打撃データー!$AG$6:$AG$500,F115,打撃データー!$AI$6:$AI$500,H115,打撃データー!$AJ$6:$AJ$500,打撃成績!I115))","v":""},{"$f":"IF(G115=\"\",\"\",SUMIFS(打撃データー!$BC$6:$BC$500,打撃データー!$AG$6:$AG$500,F115,打撃データー!$AI$6:$AI$500,H115,打撃データー!$AJ$6:$AJ$500,打撃成績!I115))","v":""},{"$f":"IF(G115=\"\",\"\",SUMIFS(打撃データー!$BD$6:$BD$500,打撃データー!$AG$6:$AG$500,F115,打撃データー!$AI$6:$AI$500,H115,打撃データー!$AJ$6:$AJ$500,打撃成績!I115))","v":""},{"$f":"IF(G115=\"\",\"\",SUMIFS(打撃データー!$BE$6:$BE$500,打撃データー!$AG$6:$AG$500,F115,打撃データー!$AI$6:$AI$500,H115,打撃データー!$AJ$6:$AJ$500,打撃成績!I115))","v":""},{"$f":"IF(G115=\"\",\"\",SUMIFS(打撃データー!$BF$6:$BF$500,打撃データー!$AG$6:$AG$500,F115,打撃データー!$AI$6:$AI$500,H115,打撃データー!$AJ$6:$AJ$500,打撃成績!I115))","v":""},null,"","","","",""]
[null,null,null,null,null,"",{"$f":"IF(G30=\"\",\"\",G30)","v":""},"","RR",{"$f":"IF(G116=\"\",\"\",SUMIFS(打撃データー!$AK$6:$AK$500,打撃データー!$AG$6:$AG$500,F116,打撃データー!$AI$6:$AI$500,H116,打撃データー!$AJ$6:$AJ$500,打撃成績!I116))","v":""},{"$f":"IF(G116=\"\",\"\",SUMIFS(打撃データー!$AL$6:$AL$500,打撃データー!$AG$6:$AG$500,F116,打撃データー!$AI$6:$AI$500,H116,打撃データー!$AJ$6:$AJ$500,打撃成績!I116))","v":""},{"$f":"IF(G116=\"\",\"\",SUMIFS(打撃データー!$AM$6:$AM$500,打撃データー!$AG$6:$AG$500,F116,打撃データー!$AI$6:$AI$500,H116,打撃データー!$AJ$6:$AJ$500,打撃成績!I116))","v":""},{"$f":"IF(G116=\"\",\"\",SUMIFS(打撃データー!$AN$6:$AN$500,打撃データー!$AG$6:$AG$500,F116,打撃データー!$AI$6:$AI$500,H116,打撃データー!$AJ$6:$AJ$500,打撃成績!I116))","v":""},{"$f":"IF(G116=\"\",\"\",SUMIFS(打撃データー!$AO$6:$AO$500,打撃データー!$AG$6:$AG$500,F116,打撃データー!$AI$6:$AI$500,H116,打撃データー!$AJ$6:$AJ$500,打撃成績!I116))","v":""},{"$f":"IF(G116=\"\",\"\",SUMIFS(打撃データー!$AP$6:$AP$500,打撃データー!$AG$6:$AG$500,F116,打撃データー!$AI$6:$AI$500,H116,打撃データー!$AJ$6:$AJ$500,打撃成績!I116))","v":""},{"$f":"IF(G116=\"\",\"\",SUMIFS(打撃データー!$AQ$6:$AQ$500,打撃データー!$AG$6:$AG$500,F116,打撃データー!$AI$6:$AI$500,H116,打撃データー!$AJ$6:$AJ$500,打撃成績!I116))","v":""},{"$f":"IF(G116=\"\",\"\",SUMIFS(打撃データー!$AR$6:$AR$500,打撃データー!$AG$6:$AG$500,F116,打撃データー!$AI$6:$AI$500,H116,打撃データー!$AJ$6:$AJ$500,打撃成績!I116))","v":""},{"$f":"IF(G116=\"\",\"\",SUMIFS(打撃データー!$AS$6:$AS$500,打撃データー!$AG$6:$AG$500,F116,打撃データー!$AI$6:$AI$500,H116,打撃データー!$AJ$6:$AJ$500,打撃成績!I116))","v":""},{"$f":"IF(G116=\"\",\"\",SUMIFS(打撃データー!$AT$6:$AT$500,打撃データー!$AG$6:$AG$500,F116,打撃データー!$AI$6:$AI$500,H116,打撃データー!$AJ$6:$AJ$500,打撃成績!I116))","v":""},{"$f":"IF(G116=\"\",\"\",SUMIFS(打撃データー!$AU$6:$AU$500,打撃データー!$AG$6:$AG$500,F116,打撃データー!$AI$6:$AI$500,H116,打撃データー!$AJ$6:$AJ$500,打撃成績!I116))","v":""},{"$f":"IF(G116=\"\",\"\",SUMIFS(打撃データー!$AV$6:$AV$500,打撃データー!$AG$6:$AG$500,F116,打撃データー!$AI$6:$AI$500,H116,打撃データー!$AJ$6:$AJ$500,打撃成績!I116))","v":""},{"$f":"IF(G116=\"\",\"\",SUMIFS(打撃データー!$AW$6:$AW$500,打撃データー!$AG$6:$AG$500,F116,打撃データー!$AI$6:$AI$500,H116,打撃データー!$AJ$6:$AJ$500,打撃成績!I116))","v":""},{"$f":"IF(G116=\"\",\"\",SUMIFS(打撃データー!$AX$6:$AX$500,打撃データー!$AG$6:$AG$500,F116,打撃データー!$AI$6:$AI$500,H116,打撃データー!$AJ$6:$AJ$500,打撃成績!I116))","v":""},{"$f":"IF(G116=\"\",\"\",SUMIFS(打撃データー!$AY$6:$AY$500,打撃データー!$AG$6:$AG$500,F116,打撃データー!$AI$6:$AI$500,H116,打撃データー!$AJ$6:$AJ$500,打撃成績!I116))","v":""},{"$f":"IF(G116=\"\",\"\",SUMIFS(打撃データー!$AZ$6:$AZ$500,打撃データー!$AG$6:$AG$500,F116,打撃データー!$AI$6:$AI$500,H116,打撃データー!$AJ$6:$AJ$500,打撃成績!I116))","v":""},{"$f":"IF(G116=\"\",\"\",SUMIFS(打撃データー!$BA$6:$BA$500,打撃データー!$AG$6:$AG$500,F116,打撃データー!$AI$6:$AI$500,H116,打撃データー!$AJ$6:$AJ$500,打撃成績!I116))","v":""},{"$f":"IF(G116=\"\",\"\",SUMIFS(打撃データー!$BB$6:$BB$500,打撃データー!$AG$6:$AG$500,F116,打撃データー!$AI$6:$AI$500,H116,打撃データー!$AJ$6:$AJ$500,打撃成績!I116))","v":""},{"$f":"IF(G116=\"\",\"\",SUMIFS(打撃データー!$BC$6:$BC$500,打撃データー!$AG$6:$AG$500,F116,打撃データー!$AI$6:$AI$500,H116,打撃データー!$AJ$6:$AJ$500,打撃成績!I116))","v":""},{"$f":"IF(G116=\"\",\"\",SUMIFS(打撃データー!$BD$6:$BD$500,打撃データー!$AG$6:$AG$500,F116,打撃データー!$AI$6:$AI$500,H116,打撃データー!$AJ$6:$AJ$500,打撃成績!I116))","v":""},{"$f":"IF(G116=\"\",\"\",SUMIFS(打撃データー!$BE$6:$BE$500,打撃データー!$AG$6:$AG$500,F116,打撃データー!$AI$6:$AI$500,H116,打撃データー!$AJ$6:$AJ$500,打撃成績!I116))","v":""},{"$f":"IF(G116=\"\",\"\",SUMIFS(打撃データー!$BF$6:$BF$500,打撃データー!$AG$6:$AG$500,F116,打撃データー!$AI$6:$AI$500,H116,打撃データー!$AJ$6:$AJ$500,打撃成績!I116))","v":""},null,"","","","",""]
[null,null,null,null,null,"",{"$f":"IF(G31=\"\",\"\",G31)","v":""},"","RR",{"$f":"IF(G117=\"\",\"\",SUMIFS(打撃データー!$AK$6:$AK$500,打撃データー!$AG$6:$AG$500,F117,打撃データー!$AI$6:$AI$500,H117,打撃データー!$AJ$6:$AJ$500,打撃成績!I117))","v":""},{"$f":"IF(G117=\"\",\"\",SUMIFS(打撃データー!$AL$6:$AL$500,打撃データー!$AG$6:$AG$500,F117,打撃データー!$AI$6:$AI$500,H117,打撃データー!$AJ$6:$AJ$500,打撃成績!I117))","v":""},{"$f":"IF(G117=\"\",\"\",SUMIFS(打撃データー!$AM$6:$AM$500,打撃データー!$AG$6:$AG$500,F117,打撃データー!$AI$6:$AI$500,H117,打撃データー!$AJ$6:$AJ$500,打撃成績!I117))","v":""},{"$f":"IF(G117=\"\",\"\",SUMIFS(打撃データー!$AN$6:$AN$500,打撃データー!$AG$6:$AG$500,F117,打撃データー!$AI$6:$AI$500,H117,打撃データー!$AJ$6:$AJ$500,打撃成績!I117))","v":""},{"$f":"IF(G117=\"\",\"\",SUMIFS(打撃データー!$AO$6:$AO$500,打撃データー!$AG$6:$AG$500,F117,打撃データー!$AI$6:$AI$500,H117,打撃データー!$AJ$6:$AJ$500,打撃成績!I117))","v":""},{"$f":"IF(G117=\"\",\"\",SUMIFS(打撃データー!$AP$6:$AP$500,打撃データー!$AG$6:$AG$500,F117,打撃データー!$AI$6:$AI$500,H117,打撃データー!$AJ$6:$AJ$500,打撃成績!I117))","v":""},{"$f":"IF(G117=\"\",\"\",SUMIFS(打撃データー!$AQ$6:$AQ$500,打撃データー!$AG$6:$AG$500,F117,打撃データー!$AI$6:$AI$500,H117,打撃データー!$AJ$6:$AJ$500,打撃成績!I117))","v":""},{"$f":"IF(G117=\"\",\"\",SUMIFS(打撃データー!$AR$6:$AR$500,打撃データー!$AG$6:$AG$500,F117,打撃データー!$AI$6:$AI$500,H117,打撃データー!$AJ$6:$AJ$500,打撃成績!I117))","v":""},{"$f":"IF(G117=\"\",\"\",SUMIFS(打撃データー!$AS$6:$AS$500,打撃データー!$AG$6:$AG$500,F117,打撃データー!$AI$6:$AI$500,H117,打撃データー!$AJ$6:$AJ$500,打撃成績!I117))","v":""},{"$f":"IF(G117=\"\",\"\",SUMIFS(打撃データー!$AT$6:$AT$500,打撃データー!$AG$6:$AG$500,F117,打撃データー!$AI$6:$AI$500,H117,打撃データー!$AJ$6:$AJ$500,打撃成績!I117))","v":""},{"$f":"IF(G117=\"\",\"\",SUMIFS(打撃データー!$AU$6:$AU$500,打撃データー!$AG$6:$AG$500,F117,打撃データー!$AI$6:$AI$500,H117,打撃データー!$AJ$6:$AJ$500,打撃成績!I117))","v":""},{"$f":"IF(G117=\"\",\"\",SUMIFS(打撃データー!$AV$6:$AV$500,打撃データー!$AG$6:$AG$500,F117,打撃データー!$AI$6:$AI$500,H117,打撃データー!$AJ$6:$AJ$500,打撃成績!I117))","v":""},{"$f":"IF(G117=\"\",\"\",SUMIFS(打撃データー!$AW$6:$AW$500,打撃データー!$AG$6:$AG$500,F117,打撃データー!$AI$6:$AI$500,H117,打撃データー!$AJ$6:$AJ$500,打撃成績!I117))","v":""},{"$f":"IF(G117=\"\",\"\",SUMIFS(打撃データー!$AX$6:$AX$500,打撃データー!$AG$6:$AG$500,F117,打撃データー!$AI$6:$AI$500,H117,打撃データー!$AJ$6:$AJ$500,打撃成績!I117))","v":""},{"$f":"IF(G117=\"\",\"\",SUMIFS(打撃データー!$AY$6:$AY$500,打撃データー!$AG$6:$AG$500,F117,打撃データー!$AI$6:$AI$500,H117,打撃データー!$AJ$6:$AJ$500,打撃成績!I117))","v":""},{"$f":"IF(G117=\"\",\"\",SUMIFS(打撃データー!$AZ$6:$AZ$500,打撃データー!$AG$6:$AG$500,F117,打撃データー!$AI$6:$AI$500,H117,打撃データー!$AJ$6:$AJ$500,打撃成績!I117))","v":""},{"$f":"IF(G117=\"\",\"\",SUMIFS(打撃データー!$BA$6:$BA$500,打撃データー!$AG$6:$AG$500,F117,打撃データー!$AI$6:$AI$500,H117,打撃データー!$AJ$6:$AJ$500,打撃成績!I117))","v":""},{"$f":"IF(G117=\"\",\"\",SUMIFS(打撃データー!$BB$6:$BB$500,打撃データー!$AG$6:$AG$500,F117,打撃データー!$AI$6:$AI$500,H117,打撃データー!$AJ$6:$AJ$500,打撃成績!I117))","v":""},{"$f":"IF(G117=\"\",\"\",SUMIFS(打撃データー!$BC$6:$BC$500,打撃データー!$AG$6:$AG$500,F117,打撃データー!$AI$6:$AI$500,H117,打撃データー!$AJ$6:$AJ$500,打撃成績!I117))","v":""},{"$f":"IF(G117=\"\",\"\",SUMIFS(打撃データー!$BD$6:$BD$500,打撃データー!$AG$6:$AG$500,F117,打撃データー!$AI$6:$AI$500,H117,打撃データー!$AJ$6:$AJ$500,打撃成績!I117))","v":""},{"$f":"IF(G117=\"\",\"\",SUMIFS(打撃データー!$BE$6:$BE$500,打撃データー!$AG$6:$AG$500,F117,打撃データー!$AI$6:$AI$500,H117,打撃データー!$AJ$6:$AJ$500,打撃成績!I117))","v":""},{"$f":"IF(G117=\"\",\"\",SUMIFS(打撃データー!$BF$6:$BF$500,打撃データー!$AG$6:$AG$500,F117,打撃データー!$AI$6:$AI$500,H117,打撃データー!$AJ$6:$AJ$500,打撃成績!I117))","v":""},null,"","","","",""]
[null,null,null,null,null,"",{"$f":"IF(G32=\"\",\"\",G32)","v":""},"","RR",{"$f":"IF(G118=\"\",\"\",SUMIFS(打撃データー!$AK$6:$AK$500,打撃データー!$AG$6:$AG$500,F118,打撃データー!$AI$6:$AI$500,H118,打撃データー!$AJ$6:$AJ$500,打撃成績!I118))","v":""},{"$f":"IF(G118=\"\",\"\",SUMIFS(打撃データー!$AL$6:$AL$500,打撃データー!$AG$6:$AG$500,F118,打撃データー!$AI$6:$AI$500,H118,打撃データー!$AJ$6:$AJ$500,打撃成績!I118))","v":""},{"$f":"IF(G118=\"\",\"\",SUMIFS(打撃データー!$AM$6:$AM$500,打撃データー!$AG$6:$AG$500,F118,打撃データー!$AI$6:$AI$500,H118,打撃データー!$AJ$6:$AJ$500,打撃成績!I118))","v":""},{"$f":"IF(G118=\"\",\"\",SUMIFS(打撃データー!$AN$6:$AN$500,打撃データー!$AG$6:$AG$500,F118,打撃データー!$AI$6:$AI$500,H118,打撃データー!$AJ$6:$AJ$500,打撃成績!I118))","v":""},{"$f":"IF(G118=\"\",\"\",SUMIFS(打撃データー!$AO$6:$AO$500,打撃データー!$AG$6:$AG$500,F118,打撃データー!$AI$6:$AI$500,H118,打撃データー!$AJ$6:$AJ$500,打撃成績!I118))","v":""},{"$f":"IF(G118=\"\",\"\",SUMIFS(打撃データー!$AP$6:$AP$500,打撃データー!$AG$6:$AG$500,F118,打撃データー!$AI$6:$AI$500,H118,打撃データー!$AJ$6:$AJ$500,打撃成績!I118))","v":""},{"$f":"IF(G118=\"\",\"\",SUMIFS(打撃データー!$AQ$6:$AQ$500,打撃データー!$AG$6:$AG$500,F118,打撃データー!$AI$6:$AI$500,H118,打撃データー!$AJ$6:$AJ$500,打撃成績!I118))","v":""},{"$f":"IF(G118=\"\",\"\",SUMIFS(打撃データー!$AR$6:$AR$500,打撃データー!$AG$6:$AG$500,F118,打撃データー!$AI$6:$AI$500,H118,打撃データー!$AJ$6:$AJ$500,打撃成績!I118))","v":""},{"$f":"IF(G118=\"\",\"\",SUMIFS(打撃データー!$AS$6:$AS$500,打撃データー!$AG$6:$AG$500,F118,打撃データー!$AI$6:$AI$500,H118,打撃データー!$AJ$6:$AJ$500,打撃成績!I118))","v":""},{"$f":"IF(G118=\"\",\"\",SUMIFS(打撃データー!$AT$6:$AT$500,打撃データー!$AG$6:$AG$500,F118,打撃データー!$AI$6:$AI$500,H118,打撃データー!$AJ$6:$AJ$500,打撃成績!I118))","v":""},{"$f":"IF(G118=\"\",\"\",SUMIFS(打撃データー!$AU$6:$AU$500,打撃データー!$AG$6:$AG$500,F118,打撃データー!$AI$6:$AI$500,H118,打撃データー!$AJ$6:$AJ$500,打撃成績!I118))","v":""},{"$f":"IF(G118=\"\",\"\",SUMIFS(打撃データー!$AV$6:$AV$500,打撃データー!$AG$6:$AG$500,F118,打撃データー!$AI$6:$AI$500,H118,打撃データー!$AJ$6:$AJ$500,打撃成績!I118))","v":""},{"$f":"IF(G118=\"\",\"\",SUMIFS(打撃データー!$AW$6:$AW$500,打撃データー!$AG$6:$AG$500,F118,打撃データー!$AI$6:$AI$500,H118,打撃データー!$AJ$6:$AJ$500,打撃成績!I118))","v":""},{"$f":"IF(G118=\"\",\"\",SUMIFS(打撃データー!$AX$6:$AX$500,打撃データー!$AG$6:$AG$500,F118,打撃データー!$AI$6:$AI$500,H118,打撃データー!$AJ$6:$AJ$500,打撃成績!I118))","v":""},{"$f":"IF(G118=\"\",\"\",SUMIFS(打撃データー!$AY$6:$AY$500,打撃データー!$AG$6:$AG$500,F118,打撃データー!$AI$6:$AI$500,H118,打撃データー!$AJ$6:$AJ$500,打撃成績!I118))","v":""},{"$f":"IF(G118=\"\",\"\",SUMIFS(打撃データー!$AZ$6:$AZ$500,打撃データー!$AG$6:$AG$500,F118,打撃データー!$AI$6:$AI$500,H118,打撃データー!$AJ$6:$AJ$500,打撃成績!I118))","v":""},{"$f":"IF(G118=\"\",\"\",SUMIFS(打撃データー!$BA$6:$BA$500,打撃データー!$AG$6:$AG$500,F118,打撃データー!$AI$6:$AI$500,H118,打撃データー!$AJ$6:$AJ$500,打撃成績!I118))","v":""},{"$f":"IF(G118=\"\",\"\",SUMIFS(打撃データー!$BB$6:$BB$500,打撃データー!$AG$6:$AG$500,F118,打撃データー!$AI$6:$AI$500,H118,打撃データー!$AJ$6:$AJ$500,打撃成績!I118))","v":""},{"$f":"IF(G118=\"\",\"\",SUMIFS(打撃データー!$BC$6:$BC$500,打撃データー!$AG$6:$AG$500,F118,打撃データー!$AI$6:$AI$500,H118,打撃データー!$AJ$6:$AJ$500,打撃成績!I118))","v":""},{"$f":"IF(G118=\"\",\"\",SUMIFS(打撃データー!$BD$6:$BD$500,打撃データー!$AG$6:$AG$500,F118,打撃データー!$AI$6:$AI$500,H118,打撃データー!$AJ$6:$AJ$500,打撃成績!I118))","v":""},{"$f":"IF(G118=\"\",\"\",SUMIFS(打撃データー!$BE$6:$BE$500,打撃データー!$AG$6:$AG$500,F118,打撃データー!$AI$6:$AI$500,H118,打撃データー!$AJ$6:$AJ$500,打撃成績!I118))","v":""},{"$f":"IF(G118=\"\",\"\",SUMIFS(打撃データー!$BF$6:$BF$500,打撃データー!$AG$6:$AG$500,F118,打撃データー!$AI$6:$AI$500,H118,打撃データー!$AJ$6:$AJ$500,打撃成績!I118))","v":""},null,"","","","",""]
[null,null,null,null,null,"",{"$f":"IF(G33=\"\",\"\",G33)","v":""},"","RR",{"$f":"IF(G119=\"\",\"\",SUMIFS(打撃データー!$AK$6:$AK$500,打撃データー!$AG$6:$AG$500,F119,打撃データー!$AI$6:$AI$500,H119,打撃データー!$AJ$6:$AJ$500,打撃成績!I119))","v":""},{"$f":"IF(G119=\"\",\"\",SUMIFS(打撃データー!$AL$6:$AL$500,打撃データー!$AG$6:$AG$500,F119,打撃データー!$AI$6:$AI$500,H119,打撃データー!$AJ$6:$AJ$500,打撃成績!I119))","v":""},{"$f":"IF(G119=\"\",\"\",SUMIFS(打撃データー!$AM$6:$AM$500,打撃データー!$AG$6:$AG$500,F119,打撃データー!$AI$6:$AI$500,H119,打撃データー!$AJ$6:$AJ$500,打撃成績!I119))","v":""},{"$f":"IF(G119=\"\",\"\",SUMIFS(打撃データー!$AN$6:$AN$500,打撃データー!$AG$6:$AG$500,F119,打撃データー!$AI$6:$AI$500,H119,打撃データー!$AJ$6:$AJ$500,打撃成績!I119))","v":""},{"$f":"IF(G119=\"\",\"\",SUMIFS(打撃データー!$AO$6:$AO$500,打撃データー!$AG$6:$AG$500,F119,打撃データー!$AI$6:$AI$500,H119,打撃データー!$AJ$6:$AJ$500,打撃成績!I119))","v":""},{"$f":"IF(G119=\"\",\"\",SUMIFS(打撃データー!$AP$6:$AP$500,打撃データー!$AG$6:$AG$500,F119,打撃データー!$AI$6:$AI$500,H119,打撃データー!$AJ$6:$AJ$500,打撃成績!I119))","v":""},{"$f":"IF(G119=\"\",\"\",SUMIFS(打撃データー!$AQ$6:$AQ$500,打撃データー!$AG$6:$AG$500,F119,打撃データー!$AI$6:$AI$500,H119,打撃データー!$AJ$6:$AJ$500,打撃成績!I119))","v":""},{"$f":"IF(G119=\"\",\"\",SUMIFS(打撃データー!$AR$6:$AR$500,打撃データー!$AG$6:$AG$500,F119,打撃データー!$AI$6:$AI$500,H119,打撃データー!$AJ$6:$AJ$500,打撃成績!I119))","v":""},{"$f":"IF(G119=\"\",\"\",SUMIFS(打撃データー!$AS$6:$AS$500,打撃データー!$AG$6:$AG$500,F119,打撃データー!$AI$6:$AI$500,H119,打撃データー!$AJ$6:$AJ$500,打撃成績!I119))","v":""},{"$f":"IF(G119=\"\",\"\",SUMIFS(打撃データー!$AT$6:$AT$500,打撃データー!$AG$6:$AG$500,F119,打撃データー!$AI$6:$AI$500,H119,打撃データー!$AJ$6:$AJ$500,打撃成績!I119))","v":""},{"$f":"IF(G119=\"\",\"\",SUMIFS(打撃データー!$AU$6:$AU$500,打撃データー!$AG$6:$AG$500,F119,打撃データー!$AI$6:$AI$500,H119,打撃データー!$AJ$6:$AJ$500,打撃成績!I119))","v":""},{"$f":"IF(G119=\"\",\"\",SUMIFS(打撃データー!$AV$6:$AV$500,打撃データー!$AG$6:$AG$500,F119,打撃データー!$AI$6:$AI$500,H119,打撃データー!$AJ$6:$AJ$500,打撃成績!I119))","v":""},{"$f":"IF(G119=\"\",\"\",SUMIFS(打撃データー!$AW$6:$AW$500,打撃データー!$AG$6:$AG$500,F119,打撃データー!$AI$6:$AI$500,H119,打撃データー!$AJ$6:$AJ$500,打撃成績!I119))","v":""},{"$f":"IF(G119=\"\",\"\",SUMIFS(打撃データー!$AX$6:$AX$500,打撃データー!$AG$6:$AG$500,F119,打撃データー!$AI$6:$AI$500,H119,打撃データー!$AJ$6:$AJ$500,打撃成績!I119))","v":""},{"$f":"IF(G119=\"\",\"\",SUMIFS(打撃データー!$AY$6:$AY$500,打撃データー!$AG$6:$AG$500,F119,打撃データー!$AI$6:$AI$500,H119,打撃データー!$AJ$6:$AJ$500,打撃成績!I119))","v":""},{"$f":"IF(G119=\"\",\"\",SUMIFS(打撃データー!$AZ$6:$AZ$500,打撃データー!$AG$6:$AG$500,F119,打撃データー!$AI$6:$AI$500,H119,打撃データー!$AJ$6:$AJ$500,打撃成績!I119))","v":""},{"$f":"IF(G119=\"\",\"\",SUMIFS(打撃データー!$BA$6:$BA$500,打撃データー!$AG$6:$AG$500,F119,打撃データー!$AI$6:$AI$500,H119,打撃データー!$AJ$6:$AJ$500,打撃成績!I119))","v":""},{"$f":"IF(G119=\"\",\"\",SUMIFS(打撃データー!$BB$6:$BB$500,打撃データー!$AG$6:$AG$500,F119,打撃データー!$AI$6:$AI$500,H119,打撃データー!$AJ$6:$AJ$500,打撃成績!I119))","v":""},{"$f":"IF(G119=\"\",\"\",SUMIFS(打撃データー!$BC$6:$BC$500,打撃データー!$AG$6:$AG$500,F119,打撃データー!$AI$6:$AI$500,H119,打撃データー!$AJ$6:$AJ$500,打撃成績!I119))","v":""},{"$f":"IF(G119=\"\",\"\",SUMIFS(打撃データー!$BD$6:$BD$500,打撃データー!$AG$6:$AG$500,F119,打撃データー!$AI$6:$AI$500,H119,打撃データー!$AJ$6:$AJ$500,打撃成績!I119))","v":""},{"$f":"IF(G119=\"\",\"\",SUMIFS(打撃データー!$BE$6:$BE$500,打撃データー!$AG$6:$AG$500,F119,打撃データー!$AI$6:$AI$500,H119,打撃データー!$AJ$6:$AJ$500,打撃成績!I119))","v":""},{"$f":"IF(G119=\"\",\"\",SUMIFS(打撃データー!$BF$6:$BF$500,打撃データー!$AG$6:$AG$500,F119,打撃データー!$AI$6:$AI$500,H119,打撃データー!$AJ$6:$AJ$500,打撃成績!I119))","v":""},null,"","","","",""]
[null,null,null,null,null,"",{"$f":"IF(G34=\"\",\"\",G34)","v":""},"","RR",{"$f":"IF(G120=\"\",\"\",SUMIFS(打撃データー!$AK$6:$AK$500,打撃データー!$AG$6:$AG$500,F120,打撃データー!$AI$6:$AI$500,H120,打撃データー!$AJ$6:$AJ$500,打撃成績!I120))","v":""},{"$f":"IF(G120=\"\",\"\",SUMIFS(打撃データー!$AL$6:$AL$500,打撃データー!$AG$6:$AG$500,F120,打撃データー!$AI$6:$AI$500,H120,打撃データー!$AJ$6:$AJ$500,打撃成績!I120))","v":""},{"$f":"IF(G120=\"\",\"\",SUMIFS(打撃データー!$AM$6:$AM$500,打撃データー!$AG$6:$AG$500,F120,打撃データー!$AI$6:$AI$500,H120,打撃データー!$AJ$6:$AJ$500,打撃成績!I120))","v":""},{"$f":"IF(G120=\"\",\"\",SUMIFS(打撃データー!$AN$6:$AN$500,打撃データー!$AG$6:$AG$500,F120,打撃データー!$AI$6:$AI$500,H120,打撃データー!$AJ$6:$AJ$500,打撃成績!I120))","v":""},{"$f":"IF(G120=\"\",\"\",SUMIFS(打撃データー!$AO$6:$AO$500,打撃データー!$AG$6:$AG$500,F120,打撃データー!$AI$6:$AI$500,H120,打撃データー!$AJ$6:$AJ$500,打撃成績!I120))","v":""},{"$f":"IF(G120=\"\",\"\",SUMIFS(打撃データー!$AP$6:$AP$500,打撃データー!$AG$6:$AG$500,F120,打撃データー!$AI$6:$AI$500,H120,打撃データー!$AJ$6:$AJ$500,打撃成績!I120))","v":""},{"$f":"IF(G120=\"\",\"\",SUMIFS(打撃データー!$AQ$6:$AQ$500,打撃データー!$AG$6:$AG$500,F120,打撃データー!$AI$6:$AI$500,H120,打撃データー!$AJ$6:$AJ$500,打撃成績!I120))","v":""},{"$f":"IF(G120=\"\",\"\",SUMIFS(打撃データー!$AR$6:$AR$500,打撃データー!$AG$6:$AG$500,F120,打撃データー!$AI$6:$AI$500,H120,打撃データー!$AJ$6:$AJ$500,打撃成績!I120))","v":""},{"$f":"IF(G120=\"\",\"\",SUMIFS(打撃データー!$AS$6:$AS$500,打撃データー!$AG$6:$AG$500,F120,打撃データー!$AI$6:$AI$500,H120,打撃データー!$AJ$6:$AJ$500,打撃成績!I120))","v":""},{"$f":"IF(G120=\"\",\"\",SUMIFS(打撃データー!$AT$6:$AT$500,打撃データー!$AG$6:$AG$500,F120,打撃データー!$AI$6:$AI$500,H120,打撃データー!$AJ$6:$AJ$500,打撃成績!I120))","v":""},{"$f":"IF(G120=\"\",\"\",SUMIFS(打撃データー!$AU$6:$AU$500,打撃データー!$AG$6:$AG$500,F120,打撃データー!$AI$6:$AI$500,H120,打撃データー!$AJ$6:$AJ$500,打撃成績!I120))","v":""},{"$f":"IF(G120=\"\",\"\",SUMIFS(打撃データー!$AV$6:$AV$500,打撃データー!$AG$6:$AG$500,F120,打撃データー!$AI$6:$AI$500,H120,打撃データー!$AJ$6:$AJ$500,打撃成績!I120))","v":""},{"$f":"IF(G120=\"\",\"\",SUMIFS(打撃データー!$AW$6:$AW$500,打撃データー!$AG$6:$AG$500,F120,打撃データー!$AI$6:$AI$500,H120,打撃データー!$AJ$6:$AJ$500,打撃成績!I120))","v":""},{"$f":"IF(G120=\"\",\"\",SUMIFS(打撃データー!$AX$6:$AX$500,打撃データー!$AG$6:$AG$500,F120,打撃データー!$AI$6:$AI$500,H120,打撃データー!$AJ$6:$AJ$500,打撃成績!I120))","v":""},{"$f":"IF(G120=\"\",\"\",SUMIFS(打撃データー!$AY$6:$AY$500,打撃データー!$AG$6:$AG$500,F120,打撃データー!$AI$6:$AI$500,H120,打撃データー!$AJ$6:$AJ$500,打撃成績!I120))","v":""},{"$f":"IF(G120=\"\",\"\",SUMIFS(打撃データー!$AZ$6:$AZ$500,打撃データー!$AG$6:$AG$500,F120,打撃データー!$AI$6:$AI$500,H120,打撃データー!$AJ$6:$AJ$500,打撃成績!I120))","v":""},{"$f":"IF(G120=\"\",\"\",SUMIFS(打撃データー!$BA$6:$BA$500,打撃データー!$AG$6:$AG$500,F120,打撃データー!$AI$6:$AI$500,H120,打撃データー!$AJ$6:$AJ$500,打撃成績!I120))","v":""},{"$f":"IF(G120=\"\",\"\",SUMIFS(打撃データー!$BB$6:$BB$500,打撃データー!$AG$6:$AG$500,F120,打撃データー!$AI$6:$AI$500,H120,打撃データー!$AJ$6:$AJ$500,打撃成績!I120))","v":""},{"$f":"IF(G120=\"\",\"\",SUMIFS(打撃データー!$BC$6:$BC$500,打撃データー!$AG$6:$AG$500,F120,打撃データー!$AI$6:$AI$500,H120,打撃データー!$AJ$6:$AJ$500,打撃成績!I120))","v":""},{"$f":"IF(G120=\"\",\"\",SUMIFS(打撃データー!$BD$6:$BD$500,打撃データー!$AG$6:$AG$500,F120,打撃データー!$AI$6:$AI$500,H120,打撃データー!$AJ$6:$AJ$500,打撃成績!I120))","v":""},{"$f":"IF(G120=\"\",\"\",SUMIFS(打撃データー!$BE$6:$BE$500,打撃データー!$AG$6:$AG$500,F120,打撃データー!$AI$6:$AI$500,H120,打撃データー!$AJ$6:$AJ$500,打撃成績!I120))","v":""},{"$f":"IF(G120=\"\",\"\",SUMIFS(打撃データー!$BF$6:$BF$500,打撃データー!$AG$6:$AG$500,F120,打撃データー!$AI$6:$AI$500,H120,打撃データー!$AJ$6:$AJ$500,打撃成績!I120))","v":""},null,"","","","",""]
[null,null,null,null,null,"",{"$f":"IF(G35=\"\",\"\",G35)","v":""},"","RR",{"$f":"IF(G121=\"\",\"\",SUMIFS(打撃データー!$AK$6:$AK$500,打撃データー!$AG$6:$AG$500,F121,打撃データー!$AI$6:$AI$500,H121,打撃データー!$AJ$6:$AJ$500,打撃成績!I121))","v":""},{"$f":"IF(G121=\"\",\"\",SUMIFS(打撃データー!$AL$6:$AL$500,打撃データー!$AG$6:$AG$500,F121,打撃データー!$AI$6:$AI$500,H121,打撃データー!$AJ$6:$AJ$500,打撃成績!I121))","v":""},{"$f":"IF(G121=\"\",\"\",SUMIFS(打撃データー!$AM$6:$AM$500,打撃データー!$AG$6:$AG$500,F121,打撃データー!$AI$6:$AI$500,H121,打撃データー!$AJ$6:$AJ$500,打撃成績!I121))","v":""},{"$f":"IF(G121=\"\",\"\",SUMIFS(打撃データー!$AN$6:$AN$500,打撃データー!$AG$6:$AG$500,F121,打撃データー!$AI$6:$AI$500,H121,打撃データー!$AJ$6:$AJ$500,打撃成績!I121))","v":""},{"$f":"IF(G121=\"\",\"\",SUMIFS(打撃データー!$AO$6:$AO$500,打撃データー!$AG$6:$AG$500,F121,打撃データー!$AI$6:$AI$500,H121,打撃データー!$AJ$6:$AJ$500,打撃成績!I121))","v":""},{"$f":"IF(G121=\"\",\"\",SUMIFS(打撃データー!$AP$6:$AP$500,打撃データー!$AG$6:$AG$500,F121,打撃データー!$AI$6:$AI$500,H121,打撃データー!$AJ$6:$AJ$500,打撃成績!I121))","v":""},{"$f":"IF(G121=\"\",\"\",SUMIFS(打撃データー!$AQ$6:$AQ$500,打撃データー!$AG$6:$AG$500,F121,打撃データー!$AI$6:$AI$500,H121,打撃データー!$AJ$6:$AJ$500,打撃成績!I121))","v":""},{"$f":"IF(G121=\"\",\"\",SUMIFS(打撃データー!$AR$6:$AR$500,打撃データー!$AG$6:$AG$500,F121,打撃データー!$AI$6:$AI$500,H121,打撃データー!$AJ$6:$AJ$500,打撃成績!I121))","v":""},{"$f":"IF(G121=\"\",\"\",SUMIFS(打撃データー!$AS$6:$AS$500,打撃データー!$AG$6:$AG$500,F121,打撃データー!$AI$6:$AI$500,H121,打撃データー!$AJ$6:$AJ$500,打撃成績!I121))","v":""},{"$f":"IF(G121=\"\",\"\",SUMIFS(打撃データー!$AT$6:$AT$500,打撃データー!$AG$6:$AG$500,F121,打撃データー!$AI$6:$AI$500,H121,打撃データー!$AJ$6:$AJ$500,打撃成績!I121))","v":""},{"$f":"IF(G121=\"\",\"\",SUMIFS(打撃データー!$AU$6:$AU$500,打撃データー!$AG$6:$AG$500,F121,打撃データー!$AI$6:$AI$500,H121,打撃データー!$AJ$6:$AJ$500,打撃成績!I121))","v":""},{"$f":"IF(G121=\"\",\"\",SUMIFS(打撃データー!$AV$6:$AV$500,打撃データー!$AG$6:$AG$500,F121,打撃データー!$AI$6:$AI$500,H121,打撃データー!$AJ$6:$AJ$500,打撃成績!I121))","v":""},{"$f":"IF(G121=\"\",\"\",SUMIFS(打撃データー!$AW$6:$AW$500,打撃データー!$AG$6:$AG$500,F121,打撃データー!$AI$6:$AI$500,H121,打撃データー!$AJ$6:$AJ$500,打撃成績!I121))","v":""},{"$f":"IF(G121=\"\",\"\",SUMIFS(打撃データー!$AX$6:$AX$500,打撃データー!$AG$6:$AG$500,F121,打撃データー!$AI$6:$AI$500,H121,打撃データー!$AJ$6:$AJ$500,打撃成績!I121))","v":""},{"$f":"IF(G121=\"\",\"\",SUMIFS(打撃データー!$AY$6:$AY$500,打撃データー!$AG$6:$AG$500,F121,打撃データー!$AI$6:$AI$500,H121,打撃データー!$AJ$6:$AJ$500,打撃成績!I121))","v":""},{"$f":"IF(G121=\"\",\"\",SUMIFS(打撃データー!$AZ$6:$AZ$500,打撃データー!$AG$6:$AG$500,F121,打撃データー!$AI$6:$AI$500,H121,打撃データー!$AJ$6:$AJ$500,打撃成績!I121))","v":""},{"$f":"IF(G121=\"\",\"\",SUMIFS(打撃データー!$BA$6:$BA$500,打撃データー!$AG$6:$AG$500,F121,打撃データー!$AI$6:$AI$500,H121,打撃データー!$AJ$6:$AJ$500,打撃成績!I121))","v":""},{"$f":"IF(G121=\"\",\"\",SUMIFS(打撃データー!$BB$6:$BB$500,打撃データー!$AG$6:$AG$500,F121,打撃データー!$AI$6:$AI$500,H121,打撃データー!$AJ$6:$AJ$500,打撃成績!I121))","v":""},{"$f":"IF(G121=\"\",\"\",SUMIFS(打撃データー!$BC$6:$BC$500,打撃データー!$AG$6:$AG$500,F121,打撃データー!$AI$6:$AI$500,H121,打撃データー!$AJ$6:$AJ$500,打撃成績!I121))","v":""},{"$f":"IF(G121=\"\",\"\",SUMIFS(打撃データー!$BD$6:$BD$500,打撃データー!$AG$6:$AG$500,F121,打撃データー!$AI$6:$AI$500,H121,打撃データー!$AJ$6:$AJ$500,打撃成績!I121))","v":""},{"$f":"IF(G121=\"\",\"\",SUMIFS(打撃データー!$BE$6:$BE$500,打撃データー!$AG$6:$AG$500,F121,打撃データー!$AI$6:$AI$500,H121,打撃データー!$AJ$6:$AJ$500,打撃成績!I121))","v":""},{"$f":"IF(G121=\"\",\"\",SUMIFS(打撃データー!$BF$6:$BF$500,打撃データー!$AG$6:$AG$500,F121,打撃データー!$AI$6:$AI$500,H121,打撃データー!$AJ$6:$AJ$500,打撃成績!I121))","v":""},null,"","","","",""]
[null,null,null,null,null,"",{"$f":"IF(G36=\"\",\"\",G36)","v":""},"","RR",{"$f":"IF(G122=\"\",\"\",SUMIFS(打撃データー!$AK$6:$AK$500,打撃データー!$AG$6:$AG$500,F122,打撃データー!$AI$6:$AI$500,H122,打撃データー!$AJ$6:$AJ$500,打撃成績!I122))","v":""},{"$f":"IF(G122=\"\",\"\",SUMIFS(打撃データー!$AL$6:$AL$500,打撃データー!$AG$6:$AG$500,F122,打撃データー!$AI$6:$AI$500,H122,打撃データー!$AJ$6:$AJ$500,打撃成績!I122))","v":""},{"$f":"IF(G122=\"\",\"\",SUMIFS(打撃データー!$AM$6:$AM$500,打撃データー!$AG$6:$AG$500,F122,打撃データー!$AI$6:$AI$500,H122,打撃データー!$AJ$6:$AJ$500,打撃成績!I122))","v":""},{"$f":"IF(G122=\"\",\"\",SUMIFS(打撃データー!$AN$6:$AN$500,打撃データー!$AG$6:$AG$500,F122,打撃データー!$AI$6:$AI$500,H122,打撃データー!$AJ$6:$AJ$500,打撃成績!I122))","v":""},{"$f":"IF(G122=\"\",\"\",SUMIFS(打撃データー!$AO$6:$AO$500,打撃データー!$AG$6:$AG$500,F122,打撃データー!$AI$6:$AI$500,H122,打撃データー!$AJ$6:$AJ$500,打撃成績!I122))","v":""},{"$f":"IF(G122=\"\",\"\",SUMIFS(打撃データー!$AP$6:$AP$500,打撃データー!$AG$6:$AG$500,F122,打撃データー!$AI$6:$AI$500,H122,打撃データー!$AJ$6:$AJ$500,打撃成績!I122))","v":""},{"$f":"IF(G122=\"\",\"\",SUMIFS(打撃データー!$AQ$6:$AQ$500,打撃データー!$AG$6:$AG$500,F122,打撃データー!$AI$6:$AI$500,H122,打撃データー!$AJ$6:$AJ$500,打撃成績!I122))","v":""},{"$f":"IF(G122=\"\",\"\",SUMIFS(打撃データー!$AR$6:$AR$500,打撃データー!$AG$6:$AG$500,F122,打撃データー!$AI$6:$AI$500,H122,打撃データー!$AJ$6:$AJ$500,打撃成績!I122))","v":""},{"$f":"IF(G122=\"\",\"\",SUMIFS(打撃データー!$AS$6:$AS$500,打撃データー!$AG$6:$AG$500,F122,打撃データー!$AI$6:$AI$500,H122,打撃データー!$AJ$6:$AJ$500,打撃成績!I122))","v":""},{"$f":"IF(G122=\"\",\"\",SUMIFS(打撃データー!$AT$6:$AT$500,打撃データー!$AG$6:$AG$500,F122,打撃データー!$AI$6:$AI$500,H122,打撃データー!$AJ$6:$AJ$500,打撃成績!I122))","v":""},{"$f":"IF(G122=\"\",\"\",SUMIFS(打撃データー!$AU$6:$AU$500,打撃データー!$AG$6:$AG$500,F122,打撃データー!$AI$6:$AI$500,H122,打撃データー!$AJ$6:$AJ$500,打撃成績!I122))","v":""},{"$f":"IF(G122=\"\",\"\",SUMIFS(打撃データー!$AV$6:$AV$500,打撃データー!$AG$6:$AG$500,F122,打撃データー!$AI$6:$AI$500,H122,打撃データー!$AJ$6:$AJ$500,打撃成績!I122))","v":""},{"$f":"IF(G122=\"\",\"\",SUMIFS(打撃データー!$AW$6:$AW$500,打撃データー!$AG$6:$AG$500,F122,打撃データー!$AI$6:$AI$500,H122,打撃データー!$AJ$6:$AJ$500,打撃成績!I122))","v":""},{"$f":"IF(G122=\"\",\"\",SUMIFS(打撃データー!$AX$6:$AX$500,打撃データー!$AG$6:$AG$500,F122,打撃データー!$AI$6:$AI$500,H122,打撃データー!$AJ$6:$AJ$500,打撃成績!I122))","v":""},{"$f":"IF(G122=\"\",\"\",SUMIFS(打撃データー!$AY$6:$AY$500,打撃データー!$AG$6:$AG$500,F122,打撃データー!$AI$6:$AI$500,H122,打撃データー!$AJ$6:$AJ$500,打撃成績!I122))","v":""},{"$f":"IF(G122=\"\",\"\",SUMIFS(打撃データー!$AZ$6:$AZ$500,打撃データー!$AG$6:$AG$500,F122,打撃データー!$AI$6:$AI$500,H122,打撃データー!$AJ$6:$AJ$500,打撃成績!I122))","v":""},{"$f":"IF(G122=\"\",\"\",SUMIFS(打撃データー!$BA$6:$BA$500,打撃データー!$AG$6:$AG$500,F122,打撃データー!$AI$6:$AI$500,H122,打撃データー!$AJ$6:$AJ$500,打撃成績!I122))","v":""},{"$f":"IF(G122=\"\",\"\",SUMIFS(打撃データー!$BB$6:$BB$500,打撃データー!$AG$6:$AG$500,F122,打撃データー!$AI$6:$AI$500,H122,打撃データー!$AJ$6:$AJ$500,打撃成績!I122))","v":""},{"$f":"IF(G122=\"\",\"\",SUMIFS(打撃データー!$BC$6:$BC$500,打撃データー!$AG$6:$AG$500,F122,打撃データー!$AI$6:$AI$500,H122,打撃データー!$AJ$6:$AJ$500,打撃成績!I122))","v":""},{"$f":"IF(G122=\"\",\"\",SUMIFS(打撃データー!$BD$6:$BD$500,打撃データー!$AG$6:$AG$500,F122,打撃データー!$AI$6:$AI$500,H122,打撃データー!$AJ$6:$AJ$500,打撃成績!I122))","v":""},{"$f":"IF(G122=\"\",\"\",SUMIFS(打撃データー!$BE$6:$BE$500,打撃データー!$AG$6:$AG$500,F122,打撃データー!$AI$6:$AI$500,H122,打撃データー!$AJ$6:$AJ$500,打撃成績!I122))","v":""},{"$f":"IF(G122=\"\",\"\",SUMIFS(打撃データー!$BF$6:$BF$500,打撃データー!$AG$6:$AG$500,F122,打撃データー!$AI$6:$AI$500,H122,打撃データー!$AJ$6:$AJ$500,打撃成績!I122))","v":""},null,"","","","",""]
[null,null,null,null,null,"",{"$f":"IF(G37=\"\",\"\",G37)","v":""},"","RR",{"$f":"IF(G123=\"\",\"\",SUMIFS(打撃データー!$AK$6:$AK$500,打撃データー!$AG$6:$AG$500,F123,打撃データー!$AI$6:$AI$500,H123,打撃データー!$AJ$6:$AJ$500,打撃成績!I123))","v":""},{"$f":"IF(G123=\"\",\"\",SUMIFS(打撃データー!$AL$6:$AL$500,打撃データー!$AG$6:$AG$500,F123,打撃データー!$AI$6:$AI$500,H123,打撃データー!$AJ$6:$AJ$500,打撃成績!I123))","v":""},{"$f":"IF(G123=\"\",\"\",SUMIFS(打撃データー!$AM$6:$AM$500,打撃データー!$AG$6:$AG$500,F123,打撃データー!$AI$6:$AI$500,H123,打撃データー!$AJ$6:$AJ$500,打撃成績!I123))","v":""},{"$f":"IF(G123=\"\",\"\",SUMIFS(打撃データー!$AN$6:$AN$500,打撃データー!$AG$6:$AG$500,F123,打撃データー!$AI$6:$AI$500,H123,打撃データー!$AJ$6:$AJ$500,打撃成績!I123))","v":""},{"$f":"IF(G123=\"\",\"\",SUMIFS(打撃データー!$AO$6:$AO$500,打撃データー!$AG$6:$AG$500,F123,打撃データー!$AI$6:$AI$500,H123,打撃データー!$AJ$6:$AJ$500,打撃成績!I123))","v":""},{"$f":"IF(G123=\"\",\"\",SUMIFS(打撃データー!$AP$6:$AP$500,打撃データー!$AG$6:$AG$500,F123,打撃データー!$AI$6:$AI$500,H123,打撃データー!$AJ$6:$AJ$500,打撃成績!I123))","v":""},{"$f":"IF(G123=\"\",\"\",SUMIFS(打撃データー!$AQ$6:$AQ$500,打撃データー!$AG$6:$AG$500,F123,打撃データー!$AI$6:$AI$500,H123,打撃データー!$AJ$6:$AJ$500,打撃成績!I123))","v":""},{"$f":"IF(G123=\"\",\"\",SUMIFS(打撃データー!$AR$6:$AR$500,打撃データー!$AG$6:$AG$500,F123,打撃データー!$AI$6:$AI$500,H123,打撃データー!$AJ$6:$AJ$500,打撃成績!I123))","v":""},{"$f":"IF(G123=\"\",\"\",SUMIFS(打撃データー!$AS$6:$AS$500,打撃データー!$AG$6:$AG$500,F123,打撃データー!$AI$6:$AI$500,H123,打撃データー!$AJ$6:$AJ$500,打撃成績!I123))","v":""},{"$f":"IF(G123=\"\",\"\",SUMIFS(打撃データー!$AT$6:$AT$500,打撃データー!$AG$6:$AG$500,F123,打撃データー!$AI$6:$AI$500,H123,打撃データー!$AJ$6:$AJ$500,打撃成績!I123))","v":""},{"$f":"IF(G123=\"\",\"\",SUMIFS(打撃データー!$AU$6:$AU$500,打撃データー!$AG$6:$AG$500,F123,打撃データー!$AI$6:$AI$500,H123,打撃データー!$AJ$6:$AJ$500,打撃成績!I123))","v":""},{"$f":"IF(G123=\"\",\"\",SUMIFS(打撃データー!$AV$6:$AV$500,打撃データー!$AG$6:$AG$500,F123,打撃データー!$AI$6:$AI$500,H123,打撃データー!$AJ$6:$AJ$500,打撃成績!I123))","v":""},{"$f":"IF(G123=\"\",\"\",SUMIFS(打撃データー!$AW$6:$AW$500,打撃データー!$AG$6:$AG$500,F123,打撃データー!$AI$6:$AI$500,H123,打撃データー!$AJ$6:$AJ$500,打撃成績!I123))","v":""},{"$f":"IF(G123=\"\",\"\",SUMIFS(打撃データー!$AX$6:$AX$500,打撃データー!$AG$6:$AG$500,F123,打撃データー!$AI$6:$AI$500,H123,打撃データー!$AJ$6:$AJ$500,打撃成績!I123))","v":""},{"$f":"IF(G123=\"\",\"\",SUMIFS(打撃データー!$AY$6:$AY$500,打撃データー!$AG$6:$AG$500,F123,打撃データー!$AI$6:$AI$500,H123,打撃データー!$AJ$6:$AJ$500,打撃成績!I123))","v":""},{"$f":"IF(G123=\"\",\"\",SUMIFS(打撃データー!$AZ$6:$AZ$500,打撃データー!$AG$6:$AG$500,F123,打撃データー!$AI$6:$AI$500,H123,打撃データー!$AJ$6:$AJ$500,打撃成績!I123))","v":""},{"$f":"IF(G123=\"\",\"\",SUMIFS(打撃データー!$BA$6:$BA$500,打撃データー!$AG$6:$AG$500,F123,打撃データー!$AI$6:$AI$500,H123,打撃データー!$AJ$6:$AJ$500,打撃成績!I123))","v":""},{"$f":"IF(G123=\"\",\"\",SUMIFS(打撃データー!$BB$6:$BB$500,打撃データー!$AG$6:$AG$500,F123,打撃データー!$AI$6:$AI$500,H123,打撃データー!$AJ$6:$AJ$500,打撃成績!I123))","v":""},{"$f":"IF(G123=\"\",\"\",SUMIFS(打撃データー!$BC$6:$BC$500,打撃データー!$AG$6:$AG$500,F123,打撃データー!$AI$6:$AI$500,H123,打撃データー!$AJ$6:$AJ$500,打撃成績!I123))","v":""},{"$f":"IF(G123=\"\",\"\",SUMIFS(打撃データー!$BD$6:$BD$500,打撃データー!$AG$6:$AG$500,F123,打撃データー!$AI$6:$AI$500,H123,打撃データー!$AJ$6:$AJ$500,打撃成績!I123))","v":""},{"$f":"IF(G123=\"\",\"\",SUMIFS(打撃データー!$BE$6:$BE$500,打撃データー!$AG$6:$AG$500,F123,打撃データー!$AI$6:$AI$500,H123,打撃データー!$AJ$6:$AJ$500,打撃成績!I123))","v":""},{"$f":"IF(G123=\"\",\"\",SUMIFS(打撃データー!$BF$6:$BF$500,打撃データー!$AG$6:$AG$500,F123,打撃データー!$AI$6:$AI$500,H123,打撃データー!$AJ$6:$AJ$500,打撃成績!I123))","v":""},null,"","","","",""]
[null,null,null,null,null,"",{"$f":"IF(G38=\"\",\"\",G38)","v":""},"","RR",{"$f":"IF(G124=\"\",\"\",SUMIFS(打撃データー!$AK$6:$AK$500,打撃データー!$AG$6:$AG$500,F124,打撃データー!$AI$6:$AI$500,H124,打撃データー!$AJ$6:$AJ$500,打撃成績!I124))","v":""},{"$f":"IF(G124=\"\",\"\",SUMIFS(打撃データー!$AL$6:$AL$500,打撃データー!$AG$6:$AG$500,F124,打撃データー!$AI$6:$AI$500,H124,打撃データー!$AJ$6:$AJ$500,打撃成績!I124))","v":""},{"$f":"IF(G124=\"\",\"\",SUMIFS(打撃データー!$AM$6:$AM$500,打撃データー!$AG$6:$AG$500,F124,打撃データー!$AI$6:$AI$500,H124,打撃データー!$AJ$6:$AJ$500,打撃成績!I124))","v":""},{"$f":"IF(G124=\"\",\"\",SUMIFS(打撃データー!$AN$6:$AN$500,打撃データー!$AG$6:$AG$500,F124,打撃データー!$AI$6:$AI$500,H124,打撃データー!$AJ$6:$AJ$500,打撃成績!I124))","v":""},{"$f":"IF(G124=\"\",\"\",SUMIFS(打撃データー!$AO$6:$AO$500,打撃データー!$AG$6:$AG$500,F124,打撃データー!$AI$6:$AI$500,H124,打撃データー!$AJ$6:$AJ$500,打撃成績!I124))","v":""},{"$f":"IF(G124=\"\",\"\",SUMIFS(打撃データー!$AP$6:$AP$500,打撃データー!$AG$6:$AG$500,F124,打撃データー!$AI$6:$AI$500,H124,打撃データー!$AJ$6:$AJ$500,打撃成績!I124))","v":""},{"$f":"IF(G124=\"\",\"\",SUMIFS(打撃データー!$AQ$6:$AQ$500,打撃データー!$AG$6:$AG$500,F124,打撃データー!$AI$6:$AI$500,H124,打撃データー!$AJ$6:$AJ$500,打撃成績!I124))","v":""},{"$f":"IF(G124=\"\",\"\",SUMIFS(打撃データー!$AR$6:$AR$500,打撃データー!$AG$6:$AG$500,F124,打撃データー!$AI$6:$AI$500,H124,打撃データー!$AJ$6:$AJ$500,打撃成績!I124))","v":""},{"$f":"IF(G124=\"\",\"\",SUMIFS(打撃データー!$AS$6:$AS$500,打撃データー!$AG$6:$AG$500,F124,打撃データー!$AI$6:$AI$500,H124,打撃データー!$AJ$6:$AJ$500,打撃成績!I124))","v":""},{"$f":"IF(G124=\"\",\"\",SUMIFS(打撃データー!$AT$6:$AT$500,打撃データー!$AG$6:$AG$500,F124,打撃データー!$AI$6:$AI$500,H124,打撃データー!$AJ$6:$AJ$500,打撃成績!I124))","v":""},{"$f":"IF(G124=\"\",\"\",SUMIFS(打撃データー!$AU$6:$AU$500,打撃データー!$AG$6:$AG$500,F124,打撃データー!$AI$6:$AI$500,H124,打撃データー!$AJ$6:$AJ$500,打撃成績!I124))","v":""},{"$f":"IF(G124=\"\",\"\",SUMIFS(打撃データー!$AV$6:$AV$500,打撃データー!$AG$6:$AG$500,F124,打撃データー!$AI$6:$AI$500,H124,打撃データー!$AJ$6:$AJ$500,打撃成績!I124))","v":""},{"$f":"IF(G124=\"\",\"\",SUMIFS(打撃データー!$AW$6:$AW$500,打撃データー!$AG$6:$AG$500,F124,打撃データー!$AI$6:$AI$500,H124,打撃データー!$AJ$6:$AJ$500,打撃成績!I124))","v":""},{"$f":"IF(G124=\"\",\"\",SUMIFS(打撃データー!$AX$6:$AX$500,打撃データー!$AG$6:$AG$500,F124,打撃データー!$AI$6:$AI$500,H124,打撃データー!$AJ$6:$AJ$500,打撃成績!I124))","v":""},{"$f":"IF(G124=\"\",\"\",SUMIFS(打撃データー!$AY$6:$AY$500,打撃データー!$AG$6:$AG$500,F124,打撃データー!$AI$6:$AI$500,H124,打撃データー!$AJ$6:$AJ$500,打撃成績!I124))","v":""},{"$f":"IF(G124=\"\",\"\",SUMIFS(打撃データー!$AZ$6:$AZ$500,打撃データー!$AG$6:$AG$500,F124,打撃データー!$AI$6:$AI$500,H124,打撃データー!$AJ$6:$AJ$500,打撃成績!I124))","v":""},{"$f":"IF(G124=\"\",\"\",SUMIFS(打撃データー!$BA$6:$BA$500,打撃データー!$AG$6:$AG$500,F124,打撃データー!$AI$6:$AI$500,H124,打撃データー!$AJ$6:$AJ$500,打撃成績!I124))","v":""},{"$f":"IF(G124=\"\",\"\",SUMIFS(打撃データー!$BB$6:$BB$500,打撃データー!$AG$6:$AG$500,F124,打撃データー!$AI$6:$AI$500,H124,打撃データー!$AJ$6:$AJ$500,打撃成績!I124))","v":""},{"$f":"IF(G124=\"\",\"\",SUMIFS(打撃データー!$BC$6:$BC$500,打撃データー!$AG$6:$AG$500,F124,打撃データー!$AI$6:$AI$500,H124,打撃データー!$AJ$6:$AJ$500,打撃成績!I124))","v":""},{"$f":"IF(G124=\"\",\"\",SUMIFS(打撃データー!$BD$6:$BD$500,打撃データー!$AG$6:$AG$500,F124,打撃データー!$AI$6:$AI$500,H124,打撃データー!$AJ$6:$AJ$500,打撃成績!I124))","v":""},{"$f":"IF(G124=\"\",\"\",SUMIFS(打撃データー!$BE$6:$BE$500,打撃データー!$AG$6:$AG$500,F124,打撃データー!$AI$6:$AI$500,H124,打撃データー!$AJ$6:$AJ$500,打撃成績!I124))","v":""},{"$f":"IF(G124=\"\",\"\",SUMIFS(打撃データー!$BF$6:$BF$500,打撃データー!$AG$6:$AG$500,F124,打撃データー!$AI$6:$AI$500,H124,打撃データー!$AJ$6:$AJ$500,打撃成績!I124))","v":""},null,"","","","",""]
[null,null,null,null,null,"",{"$f":"IF(G39=\"\",\"\",G39)","v":""},"","RR",{"$f":"IF(G125=\"\",\"\",SUMIFS(打撃データー!$AK$6:$AK$500,打撃データー!$AG$6:$AG$500,F125,打撃データー!$AI$6:$AI$500,H125,打撃データー!$AJ$6:$AJ$500,打撃成績!I125))","v":""},{"$f":"IF(G125=\"\",\"\",SUMIFS(打撃データー!$AL$6:$AL$500,打撃データー!$AG$6:$AG$500,F125,打撃データー!$AI$6:$AI$500,H125,打撃データー!$AJ$6:$AJ$500,打撃成績!I125))","v":""},{"$f":"IF(G125=\"\",\"\",SUMIFS(打撃データー!$AM$6:$AM$500,打撃データー!$AG$6:$AG$500,F125,打撃データー!$AI$6:$AI$500,H125,打撃データー!$AJ$6:$AJ$500,打撃成績!I125))","v":""},{"$f":"IF(G125=\"\",\"\",SUMIFS(打撃データー!$AN$6:$AN$500,打撃データー!$AG$6:$AG$500,F125,打撃データー!$AI$6:$AI$500,H125,打撃データー!$AJ$6:$AJ$500,打撃成績!I125))","v":""},{"$f":"IF(G125=\"\",\"\",SUMIFS(打撃データー!$AO$6:$AO$500,打撃データー!$AG$6:$AG$500,F125,打撃データー!$AI$6:$AI$500,H125,打撃データー!$AJ$6:$AJ$500,打撃成績!I125))","v":""},{"$f":"IF(G125=\"\",\"\",SUMIFS(打撃データー!$AP$6:$AP$500,打撃データー!$AG$6:$AG$500,F125,打撃データー!$AI$6:$AI$500,H125,打撃データー!$AJ$6:$AJ$500,打撃成績!I125))","v":""},{"$f":"IF(G125=\"\",\"\",SUMIFS(打撃データー!$AQ$6:$AQ$500,打撃データー!$AG$6:$AG$500,F125,打撃データー!$AI$6:$AI$500,H125,打撃データー!$AJ$6:$AJ$500,打撃成績!I125))","v":""},{"$f":"IF(G125=\"\",\"\",SUMIFS(打撃データー!$AR$6:$AR$500,打撃データー!$AG$6:$AG$500,F125,打撃データー!$AI$6:$AI$500,H125,打撃データー!$AJ$6:$AJ$500,打撃成績!I125))","v":""},{"$f":"IF(G125=\"\",\"\",SUMIFS(打撃データー!$AS$6:$AS$500,打撃データー!$AG$6:$AG$500,F125,打撃データー!$AI$6:$AI$500,H125,打撃データー!$AJ$6:$AJ$500,打撃成績!I125))","v":""},{"$f":"IF(G125=\"\",\"\",SUMIFS(打撃データー!$AT$6:$AT$500,打撃データー!$AG$6:$AG$500,F125,打撃データー!$AI$6:$AI$500,H125,打撃データー!$AJ$6:$AJ$500,打撃成績!I125))","v":""},{"$f":"IF(G125=\"\",\"\",SUMIFS(打撃データー!$AU$6:$AU$500,打撃データー!$AG$6:$AG$500,F125,打撃データー!$AI$6:$AI$500,H125,打撃データー!$AJ$6:$AJ$500,打撃成績!I125))","v":""},{"$f":"IF(G125=\"\",\"\",SUMIFS(打撃データー!$AV$6:$AV$500,打撃データー!$AG$6:$AG$500,F125,打撃データー!$AI$6:$AI$500,H125,打撃データー!$AJ$6:$AJ$500,打撃成績!I125))","v":""},{"$f":"IF(G125=\"\",\"\",SUMIFS(打撃データー!$AW$6:$AW$500,打撃データー!$AG$6:$AG$500,F125,打撃データー!$AI$6:$AI$500,H125,打撃データー!$AJ$6:$AJ$500,打撃成績!I125))","v":""},{"$f":"IF(G125=\"\",\"\",SUMIFS(打撃データー!$AX$6:$AX$500,打撃データー!$AG$6:$AG$500,F125,打撃データー!$AI$6:$AI$500,H125,打撃データー!$AJ$6:$AJ$500,打撃成績!I125))","v":""},{"$f":"IF(G125=\"\",\"\",SUMIFS(打撃データー!$AY$6:$AY$500,打撃データー!$AG$6:$AG$500,F125,打撃データー!$AI$6:$AI$500,H125,打撃データー!$AJ$6:$AJ$500,打撃成績!I125))","v":""},{"$f":"IF(G125=\"\",\"\",SUMIFS(打撃データー!$AZ$6:$AZ$500,打撃データー!$AG$6:$AG$500,F125,打撃データー!$AI$6:$AI$500,H125,打撃データー!$AJ$6:$AJ$500,打撃成績!I125))","v":""},{"$f":"IF(G125=\"\",\"\",SUMIFS(打撃データー!$BA$6:$BA$500,打撃データー!$AG$6:$AG$500,F125,打撃データー!$AI$6:$AI$500,H125,打撃データー!$AJ$6:$AJ$500,打撃成績!I125))","v":""},{"$f":"IF(G125=\"\",\"\",SUMIFS(打撃データー!$BB$6:$BB$500,打撃データー!$AG$6:$AG$500,F125,打撃データー!$AI$6:$AI$500,H125,打撃データー!$AJ$6:$AJ$500,打撃成績!I125))","v":""},{"$f":"IF(G125=\"\",\"\",SUMIFS(打撃データー!$BC$6:$BC$500,打撃データー!$AG$6:$AG$500,F125,打撃データー!$AI$6:$AI$500,H125,打撃データー!$AJ$6:$AJ$500,打撃成績!I125))","v":""},{"$f":"IF(G125=\"\",\"\",SUMIFS(打撃データー!$BD$6:$BD$500,打撃データー!$AG$6:$AG$500,F125,打撃データー!$AI$6:$AI$500,H125,打撃データー!$AJ$6:$AJ$500,打撃成績!I125))","v":""},{"$f":"IF(G125=\"\",\"\",SUMIFS(打撃データー!$BE$6:$BE$500,打撃データー!$AG$6:$AG$500,F125,打撃データー!$AI$6:$AI$500,H125,打撃データー!$AJ$6:$AJ$500,打撃成績!I125))","v":""},{"$f":"IF(G125=\"\",\"\",SUMIFS(打撃データー!$BF$6:$BF$500,打撃データー!$AG$6:$AG$500,F125,打撃データー!$AI$6:$AI$500,H125,打撃データー!$AJ$6:$AJ$500,打撃成績!I125))","v":""},null,"","","","",""]
[null,null,null,null,null,"",{"$f":"IF(G40=\"\",\"\",G40)","v":""},"","RR",{"$f":"IF(G126=\"\",\"\",SUMIFS(打撃データー!$AK$6:$AK$500,打撃データー!$AG$6:$AG$500,F126,打撃データー!$AI$6:$AI$500,H126,打撃データー!$AJ$6:$AJ$500,打撃成績!I126))","v":""},{"$f":"IF(G126=\"\",\"\",SUMIFS(打撃データー!$AL$6:$AL$500,打撃データー!$AG$6:$AG$500,F126,打撃データー!$AI$6:$AI$500,H126,打撃データー!$AJ$6:$AJ$500,打撃成績!I126))","v":""},{"$f":"IF(G126=\"\",\"\",SUMIFS(打撃データー!$AM$6:$AM$500,打撃データー!$AG$6:$AG$500,F126,打撃データー!$AI$6:$AI$500,H126,打撃データー!$AJ$6:$AJ$500,打撃成績!I126))","v":""},{"$f":"IF(G126=\"\",\"\",SUMIFS(打撃データー!$AN$6:$AN$500,打撃データー!$AG$6:$AG$500,F126,打撃データー!$AI$6:$AI$500,H126,打撃データー!$AJ$6:$AJ$500,打撃成績!I126))","v":""},{"$f":"IF(G126=\"\",\"\",SUMIFS(打撃データー!$AO$6:$AO$500,打撃データー!$AG$6:$AG$500,F126,打撃データー!$AI$6:$AI$500,H126,打撃データー!$AJ$6:$AJ$500,打撃成績!I126))","v":""},{"$f":"IF(G126=\"\",\"\",SUMIFS(打撃データー!$AP$6:$AP$500,打撃データー!$AG$6:$AG$500,F126,打撃データー!$AI$6:$AI$500,H126,打撃データー!$AJ$6:$AJ$500,打撃成績!I126))","v":""},{"$f":"IF(G126=\"\",\"\",SUMIFS(打撃データー!$AQ$6:$AQ$500,打撃データー!$AG$6:$AG$500,F126,打撃データー!$AI$6:$AI$500,H126,打撃データー!$AJ$6:$AJ$500,打撃成績!I126))","v":""},{"$f":"IF(G126=\"\",\"\",SUMIFS(打撃データー!$AR$6:$AR$500,打撃データー!$AG$6:$AG$500,F126,打撃データー!$AI$6:$AI$500,H126,打撃データー!$AJ$6:$AJ$500,打撃成績!I126))","v":""},{"$f":"IF(G126=\"\",\"\",SUMIFS(打撃データー!$AS$6:$AS$500,打撃データー!$AG$6:$AG$500,F126,打撃データー!$AI$6:$AI$500,H126,打撃データー!$AJ$6:$AJ$500,打撃成績!I126))","v":""},{"$f":"IF(G126=\"\",\"\",SUMIFS(打撃データー!$AT$6:$AT$500,打撃データー!$AG$6:$AG$500,F126,打撃データー!$AI$6:$AI$500,H126,打撃データー!$AJ$6:$AJ$500,打撃成績!I126))","v":""},{"$f":"IF(G126=\"\",\"\",SUMIFS(打撃データー!$AU$6:$AU$500,打撃データー!$AG$6:$AG$500,F126,打撃データー!$AI$6:$AI$500,H126,打撃データー!$AJ$6:$AJ$500,打撃成績!I126))","v":""},{"$f":"IF(G126=\"\",\"\",SUMIFS(打撃データー!$AV$6:$AV$500,打撃データー!$AG$6:$AG$500,F126,打撃データー!$AI$6:$AI$500,H126,打撃データー!$AJ$6:$AJ$500,打撃成績!I126))","v":""},{"$f":"IF(G126=\"\",\"\",SUMIFS(打撃データー!$AW$6:$AW$500,打撃データー!$AG$6:$AG$500,F126,打撃データー!$AI$6:$AI$500,H126,打撃データー!$AJ$6:$AJ$500,打撃成績!I126))","v":""},{"$f":"IF(G126=\"\",\"\",SUMIFS(打撃データー!$AX$6:$AX$500,打撃データー!$AG$6:$AG$500,F126,打撃データー!$AI$6:$AI$500,H126,打撃データー!$AJ$6:$AJ$500,打撃成績!I126))","v":""},{"$f":"IF(G126=\"\",\"\",SUMIFS(打撃データー!$AY$6:$AY$500,打撃データー!$AG$6:$AG$500,F126,打撃データー!$AI$6:$AI$500,H126,打撃データー!$AJ$6:$AJ$500,打撃成績!I126))","v":""},{"$f":"IF(G126=\"\",\"\",SUMIFS(打撃データー!$AZ$6:$AZ$500,打撃データー!$AG$6:$AG$500,F126,打撃データー!$AI$6:$AI$500,H126,打撃データー!$AJ$6:$AJ$500,打撃成績!I126))","v":""},{"$f":"IF(G126=\"\",\"\",SUMIFS(打撃データー!$BA$6:$BA$500,打撃データー!$AG$6:$AG$500,F126,打撃データー!$AI$6:$AI$500,H126,打撃データー!$AJ$6:$AJ$500,打撃成績!I126))","v":""},{"$f":"IF(G126=\"\",\"\",SUMIFS(打撃データー!$BB$6:$BB$500,打撃データー!$AG$6:$AG$500,F126,打撃データー!$AI$6:$AI$500,H126,打撃データー!$AJ$6:$AJ$500,打撃成績!I126))","v":""},{"$f":"IF(G126=\"\",\"\",SUMIFS(打撃データー!$BC$6:$BC$500,打撃データー!$AG$6:$AG$500,F126,打撃データー!$AI$6:$AI$500,H126,打撃データー!$AJ$6:$AJ$500,打撃成績!I126))","v":""},{"$f":"IF(G126=\"\",\"\",SUMIFS(打撃データー!$BD$6:$BD$500,打撃データー!$AG$6:$AG$500,F126,打撃データー!$AI$6:$AI$500,H126,打撃データー!$AJ$6:$AJ$500,打撃成績!I126))","v":""},{"$f":"IF(G126=\"\",\"\",SUMIFS(打撃データー!$BE$6:$BE$500,打撃データー!$AG$6:$AG$500,F126,打撃データー!$AI$6:$AI$500,H126,打撃データー!$AJ$6:$AJ$500,打撃成績!I126))","v":""},{"$f":"IF(G126=\"\",\"\",SUMIFS(打撃データー!$BF$6:$BF$500,打撃データー!$AG$6:$AG$500,F126,打撃データー!$AI$6:$AI$500,H126,打撃データー!$AJ$6:$AJ$500,打撃成績!I126))","v":""},null,"","","","",""]
[null,null,null,null,null,"",{"$f":"IF(G41=\"\",\"\",G41)","v":""},"","RR",{"$f":"IF(G127=\"\",\"\",SUMIFS(打撃データー!$AK$6:$AK$500,打撃データー!$AG$6:$AG$500,F127,打撃データー!$AI$6:$AI$500,H127,打撃データー!$AJ$6:$AJ$500,打撃成績!I127))","v":""},{"$f":"IF(G127=\"\",\"\",SUMIFS(打撃データー!$AL$6:$AL$500,打撃データー!$AG$6:$AG$500,F127,打撃データー!$AI$6:$AI$500,H127,打撃データー!$AJ$6:$AJ$500,打撃成績!I127))","v":""},{"$f":"IF(G127=\"\",\"\",SUMIFS(打撃データー!$AM$6:$AM$500,打撃データー!$AG$6:$AG$500,F127,打撃データー!$AI$6:$AI$500,H127,打撃データー!$AJ$6:$AJ$500,打撃成績!I127))","v":""},{"$f":"IF(G127=\"\",\"\",SUMIFS(打撃データー!$AN$6:$AN$500,打撃データー!$AG$6:$AG$500,F127,打撃データー!$AI$6:$AI$500,H127,打撃データー!$AJ$6:$AJ$500,打撃成績!I127))","v":""},{"$f":"IF(G127=\"\",\"\",SUMIFS(打撃データー!$AO$6:$AO$500,打撃データー!$AG$6:$AG$500,F127,打撃データー!$AI$6:$AI$500,H127,打撃データー!$AJ$6:$AJ$500,打撃成績!I127))","v":""},{"$f":"IF(G127=\"\",\"\",SUMIFS(打撃データー!$AP$6:$AP$500,打撃データー!$AG$6:$AG$500,F127,打撃データー!$AI$6:$AI$500,H127,打撃データー!$AJ$6:$AJ$500,打撃成績!I127))","v":""},{"$f":"IF(G127=\"\",\"\",SUMIFS(打撃データー!$AQ$6:$AQ$500,打撃データー!$AG$6:$AG$500,F127,打撃データー!$AI$6:$AI$500,H127,打撃データー!$AJ$6:$AJ$500,打撃成績!I127))","v":""},{"$f":"IF(G127=\"\",\"\",SUMIFS(打撃データー!$AR$6:$AR$500,打撃データー!$AG$6:$AG$500,F127,打撃データー!$AI$6:$AI$500,H127,打撃データー!$AJ$6:$AJ$500,打撃成績!I127))","v":""},{"$f":"IF(G127=\"\",\"\",SUMIFS(打撃データー!$AS$6:$AS$500,打撃データー!$AG$6:$AG$500,F127,打撃データー!$AI$6:$AI$500,H127,打撃データー!$AJ$6:$AJ$500,打撃成績!I127))","v":""},{"$f":"IF(G127=\"\",\"\",SUMIFS(打撃データー!$AT$6:$AT$500,打撃データー!$AG$6:$AG$500,F127,打撃データー!$AI$6:$AI$500,H127,打撃データー!$AJ$6:$AJ$500,打撃成績!I127))","v":""},{"$f":"IF(G127=\"\",\"\",SUMIFS(打撃データー!$AU$6:$AU$500,打撃データー!$AG$6:$AG$500,F127,打撃データー!$AI$6:$AI$500,H127,打撃データー!$AJ$6:$AJ$500,打撃成績!I127))","v":""},{"$f":"IF(G127=\"\",\"\",SUMIFS(打撃データー!$AV$6:$AV$500,打撃データー!$AG$6:$AG$500,F127,打撃データー!$AI$6:$AI$500,H127,打撃データー!$AJ$6:$AJ$500,打撃成績!I127))","v":""},{"$f":"IF(G127=\"\",\"\",SUMIFS(打撃データー!$AW$6:$AW$500,打撃データー!$AG$6:$AG$500,F127,打撃データー!$AI$6:$AI$500,H127,打撃データー!$AJ$6:$AJ$500,打撃成績!I127))","v":""},{"$f":"IF(G127=\"\",\"\",SUMIFS(打撃データー!$AX$6:$AX$500,打撃データー!$AG$6:$AG$500,F127,打撃データー!$AI$6:$AI$500,H127,打撃データー!$AJ$6:$AJ$500,打撃成績!I127))","v":""},{"$f":"IF(G127=\"\",\"\",SUMIFS(打撃データー!$AY$6:$AY$500,打撃データー!$AG$6:$AG$500,F127,打撃データー!$AI$6:$AI$500,H127,打撃データー!$AJ$6:$AJ$500,打撃成績!I127))","v":""},{"$f":"IF(G127=\"\",\"\",SUMIFS(打撃データー!$AZ$6:$AZ$500,打撃データー!$AG$6:$AG$500,F127,打撃データー!$AI$6:$AI$500,H127,打撃データー!$AJ$6:$AJ$500,打撃成績!I127))","v":""},{"$f":"IF(G127=\"\",\"\",SUMIFS(打撃データー!$BA$6:$BA$500,打撃データー!$AG$6:$AG$500,F127,打撃データー!$AI$6:$AI$500,H127,打撃データー!$AJ$6:$AJ$500,打撃成績!I127))","v":""},{"$f":"IF(G127=\"\",\"\",SUMIFS(打撃データー!$BB$6:$BB$500,打撃データー!$AG$6:$AG$500,F127,打撃データー!$AI$6:$AI$500,H127,打撃データー!$AJ$6:$AJ$500,打撃成績!I127))","v":""},{"$f":"IF(G127=\"\",\"\",SUMIFS(打撃データー!$BC$6:$BC$500,打撃データー!$AG$6:$AG$500,F127,打撃データー!$AI$6:$AI$500,H127,打撃データー!$AJ$6:$AJ$500,打撃成績!I127))","v":""},{"$f":"IF(G127=\"\",\"\",SUMIFS(打撃データー!$BD$6:$BD$500,打撃データー!$AG$6:$AG$500,F127,打撃データー!$AI$6:$AI$500,H127,打撃データー!$AJ$6:$AJ$500,打撃成績!I127))","v":""},{"$f":"IF(G127=\"\",\"\",SUMIFS(打撃データー!$BE$6:$BE$500,打撃データー!$AG$6:$AG$500,F127,打撃データー!$AI$6:$AI$500,H127,打撃データー!$AJ$6:$AJ$500,打撃成績!I127))","v":""},{"$f":"IF(G127=\"\",\"\",SUMIFS(打撃データー!$BF$6:$BF$500,打撃データー!$AG$6:$AG$500,F127,打撃データー!$AI$6:$AI$500,H127,打撃データー!$AJ$6:$AJ$500,打撃成績!I127))","v":""},null,"","","","",""]
[null,null,null,null,"対峙：左投手","",{"$f":"IF(G9=\"\",\"\",G9)","v":""},{"$f":"IF(H9=\"\",\"\",H9)","v":""},"LL",{"$f":"IF(G128=\"\",\"\",SUMIFS(打撃データー!$AK$6:$AK$500,打撃データー!$AG$6:$AG$500,F128,打撃データー!$AI$6:$AI$500,H128,打撃データー!$AJ$6:$AJ$500,打撃成績!I128))","v":""},{"$f":"IF(G128=\"\",\"\",SUMIFS(打撃データー!$AL$6:$AL$500,打撃データー!$AG$6:$AG$500,F128,打撃データー!$AI$6:$AI$500,H128,打撃データー!$AJ$6:$AJ$500,打撃成績!I128))","v":""},{"$f":"IF(G128=\"\",\"\",SUMIFS(打撃データー!$AM$6:$AM$500,打撃データー!$AG$6:$AG$500,F128,打撃データー!$AI$6:$AI$500,H128,打撃データー!$AJ$6:$AJ$500,打撃成績!I128))","v":""},{"$f":"IF(G128=\"\",\"\",SUMIFS(打撃データー!$AN$6:$AN$500,打撃データー!$AG$6:$AG$500,F128,打撃データー!$AI$6:$AI$500,H128,打撃データー!$AJ$6:$AJ$500,打撃成績!I128))","v":""},{"$f":"IF(G128=\"\",\"\",SUMIFS(打撃データー!$AO$6:$AO$500,打撃データー!$AG$6:$AG$500,F128,打撃データー!$AI$6:$AI$500,H128,打撃データー!$AJ$6:$AJ$500,打撃成績!I128))","v":""},{"$f":"IF(G128=\"\",\"\",SUMIFS(打撃データー!$AP$6:$AP$500,打撃データー!$AG$6:$AG$500,F128,打撃データー!$AI$6:$AI$500,H128,打撃データー!$AJ$6:$AJ$500,打撃成績!I128))","v":""},{"$f":"IF(G128=\"\",\"\",SUMIFS(打撃データー!$AQ$6:$AQ$500,打撃データー!$AG$6:$AG$500,F128,打撃データー!$AI$6:$AI$500,H128,打撃データー!$AJ$6:$AJ$500,打撃成績!I128))","v":""},{"$f":"IF(G128=\"\",\"\",SUMIFS(打撃データー!$AR$6:$AR$500,打撃データー!$AG$6:$AG$500,F128,打撃データー!$AI$6:$AI$500,H128,打撃データー!$AJ$6:$AJ$500,打撃成績!I128))","v":""},{"$f":"IF(G128=\"\",\"\",SUMIFS(打撃データー!$AS$6:$AS$500,打撃データー!$AG$6:$AG$500,F128,打撃データー!$AI$6:$AI$500,H128,打撃データー!$AJ$6:$AJ$500,打撃成績!I128))","v":""},{"$f":"IF(G128=\"\",\"\",SUMIFS(打撃データー!$AT$6:$AT$500,打撃データー!$AG$6:$AG$500,F128,打撃データー!$AI$6:$AI$500,H128,打撃データー!$AJ$6:$AJ$500,打撃成績!I128))","v":""},{"$f":"IF(G128=\"\",\"\",SUMIFS(打撃データー!$AU$6:$AU$500,打撃データー!$AG$6:$AG$500,F128,打撃データー!$AI$6:$AI$500,H128,打撃データー!$AJ$6:$AJ$500,打撃成績!I128))","v":""},{"$f":"IF(G128=\"\",\"\",SUMIFS(打撃データー!$AV$6:$AV$500,打撃データー!$AG$6:$AG$500,F128,打撃データー!$AI$6:$AI$500,H128,打撃データー!$AJ$6:$AJ$500,打撃成績!I128))","v":""},{"$f":"IF(G128=\"\",\"\",SUMIFS(打撃データー!$AW$6:$AW$500,打撃データー!$AG$6:$AG$500,F128,打撃データー!$AI$6:$AI$500,H128,打撃データー!$AJ$6:$AJ$500,打撃成績!I128))","v":""},{"$f":"IF(G128=\"\",\"\",SUMIFS(打撃データー!$AX$6:$AX$500,打撃データー!$AG$6:$AG$500,F128,打撃データー!$AI$6:$AI$500,H128,打撃データー!$AJ$6:$AJ$500,打撃成績!I128))","v":""},{"$f":"IF(G128=\"\",\"\",SUMIFS(打撃データー!$AY$6:$AY$500,打撃データー!$AG$6:$AG$500,F128,打撃データー!$AI$6:$AI$500,H128,打撃データー!$AJ$6:$AJ$500,打撃成績!I128))","v":""},{"$f":"IF(G128=\"\",\"\",SUMIFS(打撃データー!$AZ$6:$AZ$500,打撃データー!$AG$6:$AG$500,F128,打撃データー!$AI$6:$AI$500,H128,打撃データー!$AJ$6:$AJ$500,打撃成績!I128))","v":""},{"$f":"IF(G128=\"\",\"\",SUMIFS(打撃データー!$BA$6:$BA$500,打撃データー!$AG$6:$AG$500,F128,打撃データー!$AI$6:$AI$500,H128,打撃データー!$AJ$6:$AJ$500,打撃成績!I128))","v":""},{"$f":"IF(G128=\"\",\"\",SUMIFS(打撃データー!$BB$6:$BB$500,打撃データー!$AG$6:$AG$500,F128,打撃データー!$AI$6:$AI$500,H128,打撃データー!$AJ$6:$AJ$500,打撃成績!I128))","v":""},{"$f":"IF(G128=\"\",\"\",SUMIFS(打撃データー!$BC$6:$BC$500,打撃データー!$AG$6:$AG$500,F128,打撃データー!$AI$6:$AI$500,H128,打撃データー!$AJ$6:$AJ$500,打撃成績!I128))","v":""},{"$f":"IF(G128=\"\",\"\",SUMIFS(打撃データー!$BD$6:$BD$500,打撃データー!$AG$6:$AG$500,F128,打撃データー!$AI$6:$AI$500,H128,打撃データー!$AJ$6:$AJ$500,打撃成績!I128))","v":""},{"$f":"IF(G128=\"\",\"\",SUMIFS(打撃データー!$BE$6:$BE$500,打撃データー!$AG$6:$AG$500,F128,打撃データー!$AI$6:$AI$500,H128,打撃データー!$AJ$6:$AJ$500,打撃成績!I128))","v":""},{"$f":"IF(G128=\"\",\"\",SUMIFS(打撃データー!$BF$6:$BF$500,打撃データー!$AG$6:$AG$500,F128,打撃データー!$AI$6:$AI$500,H128,打撃データー!$AJ$6:$AJ$500,打撃成績!I128))","v":""},null,{"$f":"IF(G128=\"\",\"\",IFERROR((M128+N128+O128+P128)/K128,\"無\"))","v":""},{"$f":"IF(G128=\"\",\"\",IFERROR((AC128/K128),\"無\"))","v":""},{"$f":"IF(G128=\"\",\"\",IFERROR((M128+N128+O128+P128+T128+U128)/(K128+T128+U128+W128),\"無\"))","v":""},{"$f":"IF(G128=\"\",\"\",IFERROR((AH128+AI128),\"無\"))","v":""},""]
[null,null,null,null,null,"",{"$f":"IF(G10=\"\",\"\",G10)","v":""},"","LL",{"$f":"IF(G129=\"\",\"\",SUMIFS(打撃データー!$AK$6:$AK$500,打撃データー!$AG$6:$AG$500,F129,打撃データー!$AI$6:$AI$500,H129,打撃データー!$AJ$6:$AJ$500,打撃成績!I129))","v":""},{"$f":"IF(G129=\"\",\"\",SUMIFS(打撃データー!$AL$6:$AL$500,打撃データー!$AG$6:$AG$500,F129,打撃データー!$AI$6:$AI$500,H129,打撃データー!$AJ$6:$AJ$500,打撃成績!I129))","v":""},{"$f":"IF(G129=\"\",\"\",SUMIFS(打撃データー!$AM$6:$AM$500,打撃データー!$AG$6:$AG$500,F129,打撃データー!$AI$6:$AI$500,H129,打撃データー!$AJ$6:$AJ$500,打撃成績!I129))","v":""},{"$f":"IF(G129=\"\",\"\",SUMIFS(打撃データー!$AN$6:$AN$500,打撃データー!$AG$6:$AG$500,F129,打撃データー!$AI$6:$AI$500,H129,打撃データー!$AJ$6:$AJ$500,打撃成績!I129))","v":""},{"$f":"IF(G129=\"\",\"\",SUMIFS(打撃データー!$AO$6:$AO$500,打撃データー!$AG$6:$AG$500,F129,打撃データー!$AI$6:$AI$500,H129,打撃データー!$AJ$6:$AJ$500,打撃成績!I129))","v":""},{"$f":"IF(G129=\"\",\"\",SUMIFS(打撃データー!$AP$6:$AP$500,打撃データー!$AG$6:$AG$500,F129,打撃データー!$AI$6:$AI$500,H129,打撃データー!$AJ$6:$AJ$500,打撃成績!I129))","v":""},{"$f":"IF(G129=\"\",\"\",SUMIFS(打撃データー!$AQ$6:$AQ$500,打撃データー!$AG$6:$AG$500,F129,打撃データー!$AI$6:$AI$500,H129,打撃データー!$AJ$6:$AJ$500,打撃成績!I129))","v":""},{"$f":"IF(G129=\"\",\"\",SUMIFS(打撃データー!$AR$6:$AR$500,打撃データー!$AG$6:$AG$500,F129,打撃データー!$AI$6:$AI$500,H129,打撃データー!$AJ$6:$AJ$500,打撃成績!I129))","v":""},{"$f":"IF(G129=\"\",\"\",SUMIFS(打撃データー!$AS$6:$AS$500,打撃データー!$AG$6:$AG$500,F129,打撃データー!$AI$6:$AI$500,H129,打撃データー!$AJ$6:$AJ$500,打撃成績!I129))","v":""},{"$f":"IF(G129=\"\",\"\",SUMIFS(打撃データー!$AT$6:$AT$500,打撃データー!$AG$6:$AG$500,F129,打撃データー!$AI$6:$AI$500,H129,打撃データー!$AJ$6:$AJ$500,打撃成績!I129))","v":""},{"$f":"IF(G129=\"\",\"\",SUMIFS(打撃データー!$AU$6:$AU$500,打撃データー!$AG$6:$AG$500,F129,打撃データー!$AI$6:$AI$500,H129,打撃データー!$AJ$6:$AJ$500,打撃成績!I129))","v":""},{"$f":"IF(G129=\"\",\"\",SUMIFS(打撃データー!$AV$6:$AV$500,打撃データー!$AG$6:$AG$500,F129,打撃データー!$AI$6:$AI$500,H129,打撃データー!$AJ$6:$AJ$500,打撃成績!I129))","v":""},{"$f":"IF(G129=\"\",\"\",SUMIFS(打撃データー!$AW$6:$AW$500,打撃データー!$AG$6:$AG$500,F129,打撃データー!$AI$6:$AI$500,H129,打撃データー!$AJ$6:$AJ$500,打撃成績!I129))","v":""},{"$f":"IF(G129=\"\",\"\",SUMIFS(打撃データー!$AX$6:$AX$500,打撃データー!$AG$6:$AG$500,F129,打撃データー!$AI$6:$AI$500,H129,打撃データー!$AJ$6:$AJ$500,打撃成績!I129))","v":""},{"$f":"IF(G129=\"\",\"\",SUMIFS(打撃データー!$AY$6:$AY$500,打撃データー!$AG$6:$AG$500,F129,打撃データー!$AI$6:$AI$500,H129,打撃データー!$AJ$6:$AJ$500,打撃成績!I129))","v":""},{"$f":"IF(G129=\"\",\"\",SUMIFS(打撃データー!$AZ$6:$AZ$500,打撃データー!$AG$6:$AG$500,F129,打撃データー!$AI$6:$AI$500,H129,打撃データー!$AJ$6:$AJ$500,打撃成績!I129))","v":""},{"$f":"IF(G129=\"\",\"\",SUMIFS(打撃データー!$BA$6:$BA$500,打撃データー!$AG$6:$AG$500,F129,打撃データー!$AI$6:$AI$500,H129,打撃データー!$AJ$6:$AJ$500,打撃成績!I129))","v":""},{"$f":"IF(G129=\"\",\"\",SUMIFS(打撃データー!$BB$6:$BB$500,打撃データー!$AG$6:$AG$500,F129,打撃データー!$AI$6:$AI$500,H129,打撃データー!$AJ$6:$AJ$500,打撃成績!I129))","v":""},{"$f":"IF(G129=\"\",\"\",SUMIFS(打撃データー!$BC$6:$BC$500,打撃データー!$AG$6:$AG$500,F129,打撃データー!$AI$6:$AI$500,H129,打撃データー!$AJ$6:$AJ$500,打撃成績!I129))","v":""},{"$f":"IF(G129=\"\",\"\",SUMIFS(打撃データー!$BD$6:$BD$500,打撃データー!$AG$6:$AG$500,F129,打撃データー!$AI$6:$AI$500,H129,打撃データー!$AJ$6:$AJ$500,打撃成績!I129))","v":""},{"$f":"IF(G129=\"\",\"\",SUMIFS(打撃データー!$BE$6:$BE$500,打撃データー!$AG$6:$AG$500,F129,打撃データー!$AI$6:$AI$500,H129,打撃データー!$AJ$6:$AJ$500,打撃成績!I129))","v":""},{"$f":"IF(G129=\"\",\"\",SUMIFS(打撃データー!$BF$6:$BF$500,打撃データー!$AG$6:$AG$500,F129,打撃データー!$AI$6:$AI$500,H129,打撃データー!$AJ$6:$AJ$500,打撃成績!I129))","v":""},null,{"$f":"IF(G129=\"\",\"\",IFERROR((M129+N129+O129+P129)/K129,\"無\"))","v":""},{"$f":"IF(G129=\"\",\"\",IFERROR((AC129/K129),\"無\"))","v":""},{"$f":"IF(G129=\"\",\"\",IFERROR((M129+N129+O129+P129+T129+U129)/(K129+T129+U129+W129),\"無\"))","v":""},{"$f":"IF(G129=\"\",\"\",IFERROR((AH129+AI129),\"無\"))","v":""},""]
[null,null,null,null,null,"",{"$f":"IF(G11=\"\",\"\",G11)","v":""},"","LL",{"$f":"IF(G130=\"\",\"\",SUMIFS(打撃データー!$AK$6:$AK$500,打撃データー!$AG$6:$AG$500,F130,打撃データー!$AI$6:$AI$500,H130,打撃データー!$AJ$6:$AJ$500,打撃成績!I130))","v":""},{"$f":"IF(G130=\"\",\"\",SUMIFS(打撃データー!$AL$6:$AL$500,打撃データー!$AG$6:$AG$500,F130,打撃データー!$AI$6:$AI$500,H130,打撃データー!$AJ$6:$AJ$500,打撃成績!I130))","v":""},{"$f":"IF(G130=\"\",\"\",SUMIFS(打撃データー!$AM$6:$AM$500,打撃データー!$AG$6:$AG$500,F130,打撃データー!$AI$6:$AI$500,H130,打撃データー!$AJ$6:$AJ$500,打撃成績!I130))","v":""},{"$f":"IF(G130=\"\",\"\",SUMIFS(打撃データー!$AN$6:$AN$500,打撃データー!$AG$6:$AG$500,F130,打撃データー!$AI$6:$AI$500,H130,打撃データー!$AJ$6:$AJ$500,打撃成績!I130))","v":""},{"$f":"IF(G130=\"\",\"\",SUMIFS(打撃データー!$AO$6:$AO$500,打撃データー!$AG$6:$AG$500,F130,打撃データー!$AI$6:$AI$500,H130,打撃データー!$AJ$6:$AJ$500,打撃成績!I130))","v":""},{"$f":"IF(G130=\"\",\"\",SUMIFS(打撃データー!$AP$6:$AP$500,打撃データー!$AG$6:$AG$500,F130,打撃データー!$AI$6:$AI$500,H130,打撃データー!$AJ$6:$AJ$500,打撃成績!I130))","v":""},{"$f":"IF(G130=\"\",\"\",SUMIFS(打撃データー!$AQ$6:$AQ$500,打撃データー!$AG$6:$AG$500,F130,打撃データー!$AI$6:$AI$500,H130,打撃データー!$AJ$6:$AJ$500,打撃成績!I130))","v":""},{"$f":"IF(G130=\"\",\"\",SUMIFS(打撃データー!$AR$6:$AR$500,打撃データー!$AG$6:$AG$500,F130,打撃データー!$AI$6:$AI$500,H130,打撃データー!$AJ$6:$AJ$500,打撃成績!I130))","v":""},{"$f":"IF(G130=\"\",\"\",SUMIFS(打撃データー!$AS$6:$AS$500,打撃データー!$AG$6:$AG$500,F130,打撃データー!$AI$6:$AI$500,H130,打撃データー!$AJ$6:$AJ$500,打撃成績!I130))","v":""},{"$f":"IF(G130=\"\",\"\",SUMIFS(打撃データー!$AT$6:$AT$500,打撃データー!$AG$6:$AG$500,F130,打撃データー!$AI$6:$AI$500,H130,打撃データー!$AJ$6:$AJ$500,打撃成績!I130))","v":""},{"$f":"IF(G130=\"\",\"\",SUMIFS(打撃データー!$AU$6:$AU$500,打撃データー!$AG$6:$AG$500,F130,打撃データー!$AI$6:$AI$500,H130,打撃データー!$AJ$6:$AJ$500,打撃成績!I130))","v":""},{"$f":"IF(G130=\"\",\"\",SUMIFS(打撃データー!$AV$6:$AV$500,打撃データー!$AG$6:$AG$500,F130,打撃データー!$AI$6:$AI$500,H130,打撃データー!$AJ$6:$AJ$500,打撃成績!I130))","v":""},{"$f":"IF(G130=\"\",\"\",SUMIFS(打撃データー!$AW$6:$AW$500,打撃データー!$AG$6:$AG$500,F130,打撃データー!$AI$6:$AI$500,H130,打撃データー!$AJ$6:$AJ$500,打撃成績!I130))","v":""},{"$f":"IF(G130=\"\",\"\",SUMIFS(打撃データー!$AX$6:$AX$500,打撃データー!$AG$6:$AG$500,F130,打撃データー!$AI$6:$AI$500,H130,打撃データー!$AJ$6:$AJ$500,打撃成績!I130))","v":""},{"$f":"IF(G130=\"\",\"\",SUMIFS(打撃データー!$AY$6:$AY$500,打撃データー!$AG$6:$AG$500,F130,打撃データー!$AI$6:$AI$500,H130,打撃データー!$AJ$6:$AJ$500,打撃成績!I130))","v":""},{"$f":"IF(G130=\"\",\"\",SUMIFS(打撃データー!$AZ$6:$AZ$500,打撃データー!$AG$6:$AG$500,F130,打撃データー!$AI$6:$AI$500,H130,打撃データー!$AJ$6:$AJ$500,打撃成績!I130))","v":""},{"$f":"IF(G130=\"\",\"\",SUMIFS(打撃データー!$BA$6:$BA$500,打撃データー!$AG$6:$AG$500,F130,打撃データー!$AI$6:$AI$500,H130,打撃データー!$AJ$6:$AJ$500,打撃成績!I130))","v":""},{"$f":"IF(G130=\"\",\"\",SUMIFS(打撃データー!$BB$6:$BB$500,打撃データー!$AG$6:$AG$500,F130,打撃データー!$AI$6:$AI$500,H130,打撃データー!$AJ$6:$AJ$500,打撃成績!I130))","v":""},{"$f":"IF(G130=\"\",\"\",SUMIFS(打撃データー!$BC$6:$BC$500,打撃データー!$AG$6:$AG$500,F130,打撃データー!$AI$6:$AI$500,H130,打撃データー!$AJ$6:$AJ$500,打撃成績!I130))","v":""},{"$f":"IF(G130=\"\",\"\",SUMIFS(打撃データー!$BD$6:$BD$500,打撃データー!$AG$6:$AG$500,F130,打撃データー!$AI$6:$AI$500,H130,打撃データー!$AJ$6:$AJ$500,打撃成績!I130))","v":""},{"$f":"IF(G130=\"\",\"\",SUMIFS(打撃データー!$BE$6:$BE$500,打撃データー!$AG$6:$AG$500,F130,打撃データー!$AI$6:$AI$500,H130,打撃データー!$AJ$6:$AJ$500,打撃成績!I130))","v":""},{"$f":"IF(G130=\"\",\"\",SUMIFS(打撃データー!$BF$6:$BF$500,打撃データー!$AG$6:$AG$500,F130,打撃データー!$AI$6:$AI$500,H130,打撃データー!$AJ$6:$AJ$500,打撃成績!I130))","v":""},null,"","","","",""]
[null,null,null,null,null,"",{"$f":"IF(G12=\"\",\"\",G12)","v":""},"","LL",{"$f":"IF(G131=\"\",\"\",SUMIFS(打撃データー!$AK$6:$AK$500,打撃データー!$AG$6:$AG$500,F131,打撃データー!$AI$6:$AI$500,H131,打撃データー!$AJ$6:$AJ$500,打撃成績!I131))","v":""},{"$f":"IF(G131=\"\",\"\",SUMIFS(打撃データー!$AL$6:$AL$500,打撃データー!$AG$6:$AG$500,F131,打撃データー!$AI$6:$AI$500,H131,打撃データー!$AJ$6:$AJ$500,打撃成績!I131))","v":""},{"$f":"IF(G131=\"\",\"\",SUMIFS(打撃データー!$AM$6:$AM$500,打撃データー!$AG$6:$AG$500,F131,打撃データー!$AI$6:$AI$500,H131,打撃データー!$AJ$6:$AJ$500,打撃成績!I131))","v":""},{"$f":"IF(G131=\"\",\"\",SUMIFS(打撃データー!$AN$6:$AN$500,打撃データー!$AG$6:$AG$500,F131,打撃データー!$AI$6:$AI$500,H131,打撃データー!$AJ$6:$AJ$500,打撃成績!I131))","v":""},{"$f":"IF(G131=\"\",\"\",SUMIFS(打撃データー!$AO$6:$AO$500,打撃データー!$AG$6:$AG$500,F131,打撃データー!$AI$6:$AI$500,H131,打撃データー!$AJ$6:$AJ$500,打撃成績!I131))","v":""},{"$f":"IF(G131=\"\",\"\",SUMIFS(打撃データー!$AP$6:$AP$500,打撃データー!$AG$6:$AG$500,F131,打撃データー!$AI$6:$AI$500,H131,打撃データー!$AJ$6:$AJ$500,打撃成績!I131))","v":""},{"$f":"IF(G131=\"\",\"\",SUMIFS(打撃データー!$AQ$6:$AQ$500,打撃データー!$AG$6:$AG$500,F131,打撃データー!$AI$6:$AI$500,H131,打撃データー!$AJ$6:$AJ$500,打撃成績!I131))","v":""},{"$f":"IF(G131=\"\",\"\",SUMIFS(打撃データー!$AR$6:$AR$500,打撃データー!$AG$6:$AG$500,F131,打撃データー!$AI$6:$AI$500,H131,打撃データー!$AJ$6:$AJ$500,打撃成績!I131))","v":""},{"$f":"IF(G131=\"\",\"\",SUMIFS(打撃データー!$AS$6:$AS$500,打撃データー!$AG$6:$AG$500,F131,打撃データー!$AI$6:$AI$500,H131,打撃データー!$AJ$6:$AJ$500,打撃成績!I131))","v":""},{"$f":"IF(G131=\"\",\"\",SUMIFS(打撃データー!$AT$6:$AT$500,打撃データー!$AG$6:$AG$500,F131,打撃データー!$AI$6:$AI$500,H131,打撃データー!$AJ$6:$AJ$500,打撃成績!I131))","v":""},{"$f":"IF(G131=\"\",\"\",SUMIFS(打撃データー!$AU$6:$AU$500,打撃データー!$AG$6:$AG$500,F131,打撃データー!$AI$6:$AI$500,H131,打撃データー!$AJ$6:$AJ$500,打撃成績!I131))","v":""},{"$f":"IF(G131=\"\",\"\",SUMIFS(打撃データー!$AV$6:$AV$500,打撃データー!$AG$6:$AG$500,F131,打撃データー!$AI$6:$AI$500,H131,打撃データー!$AJ$6:$AJ$500,打撃成績!I131))","v":""},{"$f":"IF(G131=\"\",\"\",SUMIFS(打撃データー!$AW$6:$AW$500,打撃データー!$AG$6:$AG$500,F131,打撃データー!$AI$6:$AI$500,H131,打撃データー!$AJ$6:$AJ$500,打撃成績!I131))","v":""},{"$f":"IF(G131=\"\",\"\",SUMIFS(打撃データー!$AX$6:$AX$500,打撃データー!$AG$6:$AG$500,F131,打撃データー!$AI$6:$AI$500,H131,打撃データー!$AJ$6:$AJ$500,打撃成績!I131))","v":""},{"$f":"IF(G131=\"\",\"\",SUMIFS(打撃データー!$AY$6:$AY$500,打撃データー!$AG$6:$AG$500,F131,打撃データー!$AI$6:$AI$500,H131,打撃データー!$AJ$6:$AJ$500,打撃成績!I131))","v":""},{"$f":"IF(G131=\"\",\"\",SUMIFS(打撃データー!$AZ$6:$AZ$500,打撃データー!$AG$6:$AG$500,F131,打撃データー!$AI$6:$AI$500,H131,打撃データー!$AJ$6:$AJ$500,打撃成績!I131))","v":""},{"$f":"IF(G131=\"\",\"\",SUMIFS(打撃データー!$BA$6:$BA$500,打撃データー!$AG$6:$AG$500,F131,打撃データー!$AI$6:$AI$500,H131,打撃データー!$AJ$6:$AJ$500,打撃成績!I131))","v":""},{"$f":"IF(G131=\"\",\"\",SUMIFS(打撃データー!$BB$6:$BB$500,打撃データー!$AG$6:$AG$500,F131,打撃データー!$AI$6:$AI$500,H131,打撃データー!$AJ$6:$AJ$500,打撃成績!I131))","v":""},{"$f":"IF(G131=\"\",\"\",SUMIFS(打撃データー!$BC$6:$BC$500,打撃データー!$AG$6:$AG$500,F131,打撃データー!$AI$6:$AI$500,H131,打撃データー!$AJ$6:$AJ$500,打撃成績!I131))","v":""},{"$f":"IF(G131=\"\",\"\",SUMIFS(打撃データー!$BD$6:$BD$500,打撃データー!$AG$6:$AG$500,F131,打撃データー!$AI$6:$AI$500,H131,打撃データー!$AJ$6:$AJ$500,打撃成績!I131))","v":""},{"$f":"IF(G131=\"\",\"\",SUMIFS(打撃データー!$BE$6:$BE$500,打撃データー!$AG$6:$AG$500,F131,打撃データー!$AI$6:$AI$500,H131,打撃データー!$AJ$6:$AJ$500,打撃成績!I131))","v":""},{"$f":"IF(G131=\"\",\"\",SUMIFS(打撃データー!$BF$6:$BF$500,打撃データー!$AG$6:$AG$500,F131,打撃データー!$AI$6:$AI$500,H131,打撃データー!$AJ$6:$AJ$500,打撃成績!I131))","v":""},null,"","","","",""]
[null,null,null,null,null,"",{"$f":"IF(G13=\"\",\"\",G13)","v":""},"","LL",{"$f":"IF(G132=\"\",\"\",SUMIFS(打撃データー!$AK$6:$AK$500,打撃データー!$AG$6:$AG$500,F132,打撃データー!$AI$6:$AI$500,H132,打撃データー!$AJ$6:$AJ$500,打撃成績!I132))","v":""},{"$f":"IF(G132=\"\",\"\",SUMIFS(打撃データー!$AL$6:$AL$500,打撃データー!$AG$6:$AG$500,F132,打撃データー!$AI$6:$AI$500,H132,打撃データー!$AJ$6:$AJ$500,打撃成績!I132))","v":""},{"$f":"IF(G132=\"\",\"\",SUMIFS(打撃データー!$AM$6:$AM$500,打撃データー!$AG$6:$AG$500,F132,打撃データー!$AI$6:$AI$500,H132,打撃データー!$AJ$6:$AJ$500,打撃成績!I132))","v":""},{"$f":"IF(G132=\"\",\"\",SUMIFS(打撃データー!$AN$6:$AN$500,打撃データー!$AG$6:$AG$500,F132,打撃データー!$AI$6:$AI$500,H132,打撃データー!$AJ$6:$AJ$500,打撃成績!I132))","v":""},{"$f":"IF(G132=\"\",\"\",SUMIFS(打撃データー!$AO$6:$AO$500,打撃データー!$AG$6:$AG$500,F132,打撃データー!$AI$6:$AI$500,H132,打撃データー!$AJ$6:$AJ$500,打撃成績!I132))","v":""},{"$f":"IF(G132=\"\",\"\",SUMIFS(打撃データー!$AP$6:$AP$500,打撃データー!$AG$6:$AG$500,F132,打撃データー!$AI$6:$AI$500,H132,打撃データー!$AJ$6:$AJ$500,打撃成績!I132))","v":""},{"$f":"IF(G132=\"\",\"\",SUMIFS(打撃データー!$AQ$6:$AQ$500,打撃データー!$AG$6:$AG$500,F132,打撃データー!$AI$6:$AI$500,H132,打撃データー!$AJ$6:$AJ$500,打撃成績!I132))","v":""},{"$f":"IF(G132=\"\",\"\",SUMIFS(打撃データー!$AR$6:$AR$500,打撃データー!$AG$6:$AG$500,F132,打撃データー!$AI$6:$AI$500,H132,打撃データー!$AJ$6:$AJ$500,打撃成績!I132))","v":""},{"$f":"IF(G132=\"\",\"\",SUMIFS(打撃データー!$AS$6:$AS$500,打撃データー!$AG$6:$AG$500,F132,打撃データー!$AI$6:$AI$500,H132,打撃データー!$AJ$6:$AJ$500,打撃成績!I132))","v":""},{"$f":"IF(G132=\"\",\"\",SUMIFS(打撃データー!$AT$6:$AT$500,打撃データー!$AG$6:$AG$500,F132,打撃データー!$AI$6:$AI$500,H132,打撃データー!$AJ$6:$AJ$500,打撃成績!I132))","v":""},{"$f":"IF(G132=\"\",\"\",SUMIFS(打撃データー!$AU$6:$AU$500,打撃データー!$AG$6:$AG$500,F132,打撃データー!$AI$6:$AI$500,H132,打撃データー!$AJ$6:$AJ$500,打撃成績!I132))","v":""},{"$f":"IF(G132=\"\",\"\",SUMIFS(打撃データー!$AV$6:$AV$500,打撃データー!$AG$6:$AG$500,F132,打撃データー!$AI$6:$AI$500,H132,打撃データー!$AJ$6:$AJ$500,打撃成績!I132))","v":""},{"$f":"IF(G132=\"\",\"\",SUMIFS(打撃データー!$AW$6:$AW$500,打撃データー!$AG$6:$AG$500,F132,打撃データー!$AI$6:$AI$500,H132,打撃データー!$AJ$6:$AJ$500,打撃成績!I132))","v":""},{"$f":"IF(G132=\"\",\"\",SUMIFS(打撃データー!$AX$6:$AX$500,打撃データー!$AG$6:$AG$500,F132,打撃データー!$AI$6:$AI$500,H132,打撃データー!$AJ$6:$AJ$500,打撃成績!I132))","v":""},{"$f":"IF(G132=\"\",\"\",SUMIFS(打撃データー!$AY$6:$AY$500,打撃データー!$AG$6:$AG$500,F132,打撃データー!$AI$6:$AI$500,H132,打撃データー!$AJ$6:$AJ$500,打撃成績!I132))","v":""},{"$f":"IF(G132=\"\",\"\",SUMIFS(打撃データー!$AZ$6:$AZ$500,打撃データー!$AG$6:$AG$500,F132,打撃データー!$AI$6:$AI$500,H132,打撃データー!$AJ$6:$AJ$500,打撃成績!I132))","v":""},{"$f":"IF(G132=\"\",\"\",SUMIFS(打撃データー!$BA$6:$BA$500,打撃データー!$AG$6:$AG$500,F132,打撃データー!$AI$6:$AI$500,H132,打撃データー!$AJ$6:$AJ$500,打撃成績!I132))","v":""},{"$f":"IF(G132=\"\",\"\",SUMIFS(打撃データー!$BB$6:$BB$500,打撃データー!$AG$6:$AG$500,F132,打撃データー!$AI$6:$AI$500,H132,打撃データー!$AJ$6:$AJ$500,打撃成績!I132))","v":""},{"$f":"IF(G132=\"\",\"\",SUMIFS(打撃データー!$BC$6:$BC$500,打撃データー!$AG$6:$AG$500,F132,打撃データー!$AI$6:$AI$500,H132,打撃データー!$AJ$6:$AJ$500,打撃成績!I132))","v":""},{"$f":"IF(G132=\"\",\"\",SUMIFS(打撃データー!$BD$6:$BD$500,打撃データー!$AG$6:$AG$500,F132,打撃データー!$AI$6:$AI$500,H132,打撃データー!$AJ$6:$AJ$500,打撃成績!I132))","v":""},{"$f":"IF(G132=\"\",\"\",SUMIFS(打撃データー!$BE$6:$BE$500,打撃データー!$AG$6:$AG$500,F132,打撃データー!$AI$6:$AI$500,H132,打撃データー!$AJ$6:$AJ$500,打撃成績!I132))","v":""},{"$f":"IF(G132=\"\",\"\",SUMIFS(打撃データー!$BF$6:$BF$500,打撃データー!$AG$6:$AG$500,F132,打撃データー!$AI$6:$AI$500,H132,打撃データー!$AJ$6:$AJ$500,打撃成績!I132))","v":""},null,"","","","",""]
[null,null,null,null,null,"",{"$f":"IF(G14=\"\",\"\",G14)","v":""},"","LL",{"$f":"IF(G133=\"\",\"\",SUMIFS(打撃データー!$AK$6:$AK$500,打撃データー!$AG$6:$AG$500,F133,打撃データー!$AI$6:$AI$500,H133,打撃データー!$AJ$6:$AJ$500,打撃成績!I133))","v":""},{"$f":"IF(G133=\"\",\"\",SUMIFS(打撃データー!$AL$6:$AL$500,打撃データー!$AG$6:$AG$500,F133,打撃データー!$AI$6:$AI$500,H133,打撃データー!$AJ$6:$AJ$500,打撃成績!I133))","v":""},{"$f":"IF(G133=\"\",\"\",SUMIFS(打撃データー!$AM$6:$AM$500,打撃データー!$AG$6:$AG$500,F133,打撃データー!$AI$6:$AI$500,H133,打撃データー!$AJ$6:$AJ$500,打撃成績!I133))","v":""},{"$f":"IF(G133=\"\",\"\",SUMIFS(打撃データー!$AN$6:$AN$500,打撃データー!$AG$6:$AG$500,F133,打撃データー!$AI$6:$AI$500,H133,打撃データー!$AJ$6:$AJ$500,打撃成績!I133))","v":""},{"$f":"IF(G133=\"\",\"\",SUMIFS(打撃データー!$AO$6:$AO$500,打撃データー!$AG$6:$AG$500,F133,打撃データー!$AI$6:$AI$500,H133,打撃データー!$AJ$6:$AJ$500,打撃成績!I133))","v":""},{"$f":"IF(G133=\"\",\"\",SUMIFS(打撃データー!$AP$6:$AP$500,打撃データー!$AG$6:$AG$500,F133,打撃データー!$AI$6:$AI$500,H133,打撃データー!$AJ$6:$AJ$500,打撃成績!I133))","v":""},{"$f":"IF(G133=\"\",\"\",SUMIFS(打撃データー!$AQ$6:$AQ$500,打撃データー!$AG$6:$AG$500,F133,打撃データー!$AI$6:$AI$500,H133,打撃データー!$AJ$6:$AJ$500,打撃成績!I133))","v":""},{"$f":"IF(G133=\"\",\"\",SUMIFS(打撃データー!$AR$6:$AR$500,打撃データー!$AG$6:$AG$500,F133,打撃データー!$AI$6:$AI$500,H133,打撃データー!$AJ$6:$AJ$500,打撃成績!I133))","v":""},{"$f":"IF(G133=\"\",\"\",SUMIFS(打撃データー!$AS$6:$AS$500,打撃データー!$AG$6:$AG$500,F133,打撃データー!$AI$6:$AI$500,H133,打撃データー!$AJ$6:$AJ$500,打撃成績!I133))","v":""},{"$f":"IF(G133=\"\",\"\",SUMIFS(打撃データー!$AT$6:$AT$500,打撃データー!$AG$6:$AG$500,F133,打撃データー!$AI$6:$AI$500,H133,打撃データー!$AJ$6:$AJ$500,打撃成績!I133))","v":""},{"$f":"IF(G133=\"\",\"\",SUMIFS(打撃データー!$AU$6:$AU$500,打撃データー!$AG$6:$AG$500,F133,打撃データー!$AI$6:$AI$500,H133,打撃データー!$AJ$6:$AJ$500,打撃成績!I133))","v":""},{"$f":"IF(G133=\"\",\"\",SUMIFS(打撃データー!$AV$6:$AV$500,打撃データー!$AG$6:$AG$500,F133,打撃データー!$AI$6:$AI$500,H133,打撃データー!$AJ$6:$AJ$500,打撃成績!I133))","v":""},{"$f":"IF(G133=\"\",\"\",SUMIFS(打撃データー!$AW$6:$AW$500,打撃データー!$AG$6:$AG$500,F133,打撃データー!$AI$6:$AI$500,H133,打撃データー!$AJ$6:$AJ$500,打撃成績!I133))","v":""},{"$f":"IF(G133=\"\",\"\",SUMIFS(打撃データー!$AX$6:$AX$500,打撃データー!$AG$6:$AG$500,F133,打撃データー!$AI$6:$AI$500,H133,打撃データー!$AJ$6:$AJ$500,打撃成績!I133))","v":""},{"$f":"IF(G133=\"\",\"\",SUMIFS(打撃データー!$AY$6:$AY$500,打撃データー!$AG$6:$AG$500,F133,打撃データー!$AI$6:$AI$500,H133,打撃データー!$AJ$6:$AJ$500,打撃成績!I133))","v":""},{"$f":"IF(G133=\"\",\"\",SUMIFS(打撃データー!$AZ$6:$AZ$500,打撃データー!$AG$6:$AG$500,F133,打撃データー!$AI$6:$AI$500,H133,打撃データー!$AJ$6:$AJ$500,打撃成績!I133))","v":""},{"$f":"IF(G133=\"\",\"\",SUMIFS(打撃データー!$BA$6:$BA$500,打撃データー!$AG$6:$AG$500,F133,打撃データー!$AI$6:$AI$500,H133,打撃データー!$AJ$6:$AJ$500,打撃成績!I133))","v":""},{"$f":"IF(G133=\"\",\"\",SUMIFS(打撃データー!$BB$6:$BB$500,打撃データー!$AG$6:$AG$500,F133,打撃データー!$AI$6:$AI$500,H133,打撃データー!$AJ$6:$AJ$500,打撃成績!I133))","v":""},{"$f":"IF(G133=\"\",\"\",SUMIFS(打撃データー!$BC$6:$BC$500,打撃データー!$AG$6:$AG$500,F133,打撃データー!$AI$6:$AI$500,H133,打撃データー!$AJ$6:$AJ$500,打撃成績!I133))","v":""},{"$f":"IF(G133=\"\",\"\",SUMIFS(打撃データー!$BD$6:$BD$500,打撃データー!$AG$6:$AG$500,F133,打撃データー!$AI$6:$AI$500,H133,打撃データー!$AJ$6:$AJ$500,打撃成績!I133))","v":""},{"$f":"IF(G133=\"\",\"\",SUMIFS(打撃データー!$BE$6:$BE$500,打撃データー!$AG$6:$AG$500,F133,打撃データー!$AI$6:$AI$500,H133,打撃データー!$AJ$6:$AJ$500,打撃成績!I133))","v":""},{"$f":"IF(G133=\"\",\"\",SUMIFS(打撃データー!$BF$6:$BF$500,打撃データー!$AG$6:$AG$500,F133,打撃データー!$AI$6:$AI$500,H133,打撃データー!$AJ$6:$AJ$500,打撃成績!I133))","v":""},null,"","","","",""]
[null,null,null,null,null,"",{"$f":"IF(G15=\"\",\"\",G15)","v":""},"","LL",{"$f":"IF(G134=\"\",\"\",SUMIFS(打撃データー!$AK$6:$AK$500,打撃データー!$AG$6:$AG$500,F134,打撃データー!$AI$6:$AI$500,H134,打撃データー!$AJ$6:$AJ$500,打撃成績!I134))","v":""},{"$f":"IF(G134=\"\",\"\",SUMIFS(打撃データー!$AL$6:$AL$500,打撃データー!$AG$6:$AG$500,F134,打撃データー!$AI$6:$AI$500,H134,打撃データー!$AJ$6:$AJ$500,打撃成績!I134))","v":""},{"$f":"IF(G134=\"\",\"\",SUMIFS(打撃データー!$AM$6:$AM$500,打撃データー!$AG$6:$AG$500,F134,打撃データー!$AI$6:$AI$500,H134,打撃データー!$AJ$6:$AJ$500,打撃成績!I134))","v":""},{"$f":"IF(G134=\"\",\"\",SUMIFS(打撃データー!$AN$6:$AN$500,打撃データー!$AG$6:$AG$500,F134,打撃データー!$AI$6:$AI$500,H134,打撃データー!$AJ$6:$AJ$500,打撃成績!I134))","v":""},{"$f":"IF(G134=\"\",\"\",SUMIFS(打撃データー!$AO$6:$AO$500,打撃データー!$AG$6:$AG$500,F134,打撃データー!$AI$6:$AI$500,H134,打撃データー!$AJ$6:$AJ$500,打撃成績!I134))","v":""},{"$f":"IF(G134=\"\",\"\",SUMIFS(打撃データー!$AP$6:$AP$500,打撃データー!$AG$6:$AG$500,F134,打撃データー!$AI$6:$AI$500,H134,打撃データー!$AJ$6:$AJ$500,打撃成績!I134))","v":""},{"$f":"IF(G134=\"\",\"\",SUMIFS(打撃データー!$AQ$6:$AQ$500,打撃データー!$AG$6:$AG$500,F134,打撃データー!$AI$6:$AI$500,H134,打撃データー!$AJ$6:$AJ$500,打撃成績!I134))","v":""},{"$f":"IF(G134=\"\",\"\",SUMIFS(打撃データー!$AR$6:$AR$500,打撃データー!$AG$6:$AG$500,F134,打撃データー!$AI$6:$AI$500,H134,打撃データー!$AJ$6:$AJ$500,打撃成績!I134))","v":""},{"$f":"IF(G134=\"\",\"\",SUMIFS(打撃データー!$AS$6:$AS$500,打撃データー!$AG$6:$AG$500,F134,打撃データー!$AI$6:$AI$500,H134,打撃データー!$AJ$6:$AJ$500,打撃成績!I134))","v":""},{"$f":"IF(G134=\"\",\"\",SUMIFS(打撃データー!$AT$6:$AT$500,打撃データー!$AG$6:$AG$500,F134,打撃データー!$AI$6:$AI$500,H134,打撃データー!$AJ$6:$AJ$500,打撃成績!I134))","v":""},{"$f":"IF(G134=\"\",\"\",SUMIFS(打撃データー!$AU$6:$AU$500,打撃データー!$AG$6:$AG$500,F134,打撃データー!$AI$6:$AI$500,H134,打撃データー!$AJ$6:$AJ$500,打撃成績!I134))","v":""},{"$f":"IF(G134=\"\",\"\",SUMIFS(打撃データー!$AV$6:$AV$500,打撃データー!$AG$6:$AG$500,F134,打撃データー!$AI$6:$AI$500,H134,打撃データー!$AJ$6:$AJ$500,打撃成績!I134))","v":""},{"$f":"IF(G134=\"\",\"\",SUMIFS(打撃データー!$AW$6:$AW$500,打撃データー!$AG$6:$AG$500,F134,打撃データー!$AI$6:$AI$500,H134,打撃データー!$AJ$6:$AJ$500,打撃成績!I134))","v":""},{"$f":"IF(G134=\"\",\"\",SUMIFS(打撃データー!$AX$6:$AX$500,打撃データー!$AG$6:$AG$500,F134,打撃データー!$AI$6:$AI$500,H134,打撃データー!$AJ$6:$AJ$500,打撃成績!I134))","v":""},{"$f":"IF(G134=\"\",\"\",SUMIFS(打撃データー!$AY$6:$AY$500,打撃データー!$AG$6:$AG$500,F134,打撃データー!$AI$6:$AI$500,H134,打撃データー!$AJ$6:$AJ$500,打撃成績!I134))","v":""},{"$f":"IF(G134=\"\",\"\",SUMIFS(打撃データー!$AZ$6:$AZ$500,打撃データー!$AG$6:$AG$500,F134,打撃データー!$AI$6:$AI$500,H134,打撃データー!$AJ$6:$AJ$500,打撃成績!I134))","v":""},{"$f":"IF(G134=\"\",\"\",SUMIFS(打撃データー!$BA$6:$BA$500,打撃データー!$AG$6:$AG$500,F134,打撃データー!$AI$6:$AI$500,H134,打撃データー!$AJ$6:$AJ$500,打撃成績!I134))","v":""},{"$f":"IF(G134=\"\",\"\",SUMIFS(打撃データー!$BB$6:$BB$500,打撃データー!$AG$6:$AG$500,F134,打撃データー!$AI$6:$AI$500,H134,打撃データー!$AJ$6:$AJ$500,打撃成績!I134))","v":""},{"$f":"IF(G134=\"\",\"\",SUMIFS(打撃データー!$BC$6:$BC$500,打撃データー!$AG$6:$AG$500,F134,打撃データー!$AI$6:$AI$500,H134,打撃データー!$AJ$6:$AJ$500,打撃成績!I134))","v":""},{"$f":"IF(G134=\"\",\"\",SUMIFS(打撃データー!$BD$6:$BD$500,打撃データー!$AG$6:$AG$500,F134,打撃データー!$AI$6:$AI$500,H134,打撃データー!$AJ$6:$AJ$500,打撃成績!I134))","v":""},{"$f":"IF(G134=\"\",\"\",SUMIFS(打撃データー!$BE$6:$BE$500,打撃データー!$AG$6:$AG$500,F134,打撃データー!$AI$6:$AI$500,H134,打撃データー!$AJ$6:$AJ$500,打撃成績!I134))","v":""},{"$f":"IF(G134=\"\",\"\",SUMIFS(打撃データー!$BF$6:$BF$500,打撃データー!$AG$6:$AG$500,F134,打撃データー!$AI$6:$AI$500,H134,打撃データー!$AJ$6:$AJ$500,打撃成績!I134))","v":""},null,"","","","",""]
[null,null,null,null,null,"",{"$f":"IF(G16=\"\",\"\",G16)","v":""},"","LL",{"$f":"IF(G135=\"\",\"\",SUMIFS(打撃データー!$AK$6:$AK$500,打撃データー!$AG$6:$AG$500,F135,打撃データー!$AI$6:$AI$500,H135,打撃データー!$AJ$6:$AJ$500,打撃成績!I135))","v":""},{"$f":"IF(G135=\"\",\"\",SUMIFS(打撃データー!$AL$6:$AL$500,打撃データー!$AG$6:$AG$500,F135,打撃データー!$AI$6:$AI$500,H135,打撃データー!$AJ$6:$AJ$500,打撃成績!I135))","v":""},{"$f":"IF(G135=\"\",\"\",SUMIFS(打撃データー!$AM$6:$AM$500,打撃データー!$AG$6:$AG$500,F135,打撃データー!$AI$6:$AI$500,H135,打撃データー!$AJ$6:$AJ$500,打撃成績!I135))","v":""},{"$f":"IF(G135=\"\",\"\",SUMIFS(打撃データー!$AN$6:$AN$500,打撃データー!$AG$6:$AG$500,F135,打撃データー!$AI$6:$AI$500,H135,打撃データー!$AJ$6:$AJ$500,打撃成績!I135))","v":""},{"$f":"IF(G135=\"\",\"\",SUMIFS(打撃データー!$AO$6:$AO$500,打撃データー!$AG$6:$AG$500,F135,打撃データー!$AI$6:$AI$500,H135,打撃データー!$AJ$6:$AJ$500,打撃成績!I135))","v":""},{"$f":"IF(G135=\"\",\"\",SUMIFS(打撃データー!$AP$6:$AP$500,打撃データー!$AG$6:$AG$500,F135,打撃データー!$AI$6:$AI$500,H135,打撃データー!$AJ$6:$AJ$500,打撃成績!I135))","v":""},{"$f":"IF(G135=\"\",\"\",SUMIFS(打撃データー!$AQ$6:$AQ$500,打撃データー!$AG$6:$AG$500,F135,打撃データー!$AI$6:$AI$500,H135,打撃データー!$AJ$6:$AJ$500,打撃成績!I135))","v":""},{"$f":"IF(G135=\"\",\"\",SUMIFS(打撃データー!$AR$6:$AR$500,打撃データー!$AG$6:$AG$500,F135,打撃データー!$AI$6:$AI$500,H135,打撃データー!$AJ$6:$AJ$500,打撃成績!I135))","v":""},{"$f":"IF(G135=\"\",\"\",SUMIFS(打撃データー!$AS$6:$AS$500,打撃データー!$AG$6:$AG$500,F135,打撃データー!$AI$6:$AI$500,H135,打撃データー!$AJ$6:$AJ$500,打撃成績!I135))","v":""},{"$f":"IF(G135=\"\",\"\",SUMIFS(打撃データー!$AT$6:$AT$500,打撃データー!$AG$6:$AG$500,F135,打撃データー!$AI$6:$AI$500,H135,打撃データー!$AJ$6:$AJ$500,打撃成績!I135))","v":""},{"$f":"IF(G135=\"\",\"\",SUMIFS(打撃データー!$AU$6:$AU$500,打撃データー!$AG$6:$AG$500,F135,打撃データー!$AI$6:$AI$500,H135,打撃データー!$AJ$6:$AJ$500,打撃成績!I135))","v":""},{"$f":"IF(G135=\"\",\"\",SUMIFS(打撃データー!$AV$6:$AV$500,打撃データー!$AG$6:$AG$500,F135,打撃データー!$AI$6:$AI$500,H135,打撃データー!$AJ$6:$AJ$500,打撃成績!I135))","v":""},{"$f":"IF(G135=\"\",\"\",SUMIFS(打撃データー!$AW$6:$AW$500,打撃データー!$AG$6:$AG$500,F135,打撃データー!$AI$6:$AI$500,H135,打撃データー!$AJ$6:$AJ$500,打撃成績!I135))","v":""},{"$f":"IF(G135=\"\",\"\",SUMIFS(打撃データー!$AX$6:$AX$500,打撃データー!$AG$6:$AG$500,F135,打撃データー!$AI$6:$AI$500,H135,打撃データー!$AJ$6:$AJ$500,打撃成績!I135))","v":""},{"$f":"IF(G135=\"\",\"\",SUMIFS(打撃データー!$AY$6:$AY$500,打撃データー!$AG$6:$AG$500,F135,打撃データー!$AI$6:$AI$500,H135,打撃データー!$AJ$6:$AJ$500,打撃成績!I135))","v":""},{"$f":"IF(G135=\"\",\"\",SUMIFS(打撃データー!$AZ$6:$AZ$500,打撃データー!$AG$6:$AG$500,F135,打撃データー!$AI$6:$AI$500,H135,打撃データー!$AJ$6:$AJ$500,打撃成績!I135))","v":""},{"$f":"IF(G135=\"\",\"\",SUMIFS(打撃データー!$BA$6:$BA$500,打撃データー!$AG$6:$AG$500,F135,打撃データー!$AI$6:$AI$500,H135,打撃データー!$AJ$6:$AJ$500,打撃成績!I135))","v":""},{"$f":"IF(G135=\"\",\"\",SUMIFS(打撃データー!$BB$6:$BB$500,打撃データー!$AG$6:$AG$500,F135,打撃データー!$AI$6:$AI$500,H135,打撃データー!$AJ$6:$AJ$500,打撃成績!I135))","v":""},{"$f":"IF(G135=\"\",\"\",SUMIFS(打撃データー!$BC$6:$BC$500,打撃データー!$AG$6:$AG$500,F135,打撃データー!$AI$6:$AI$500,H135,打撃データー!$AJ$6:$AJ$500,打撃成績!I135))","v":""},{"$f":"IF(G135=\"\",\"\",SUMIFS(打撃データー!$BD$6:$BD$500,打撃データー!$AG$6:$AG$500,F135,打撃データー!$AI$6:$AI$500,H135,打撃データー!$AJ$6:$AJ$500,打撃成績!I135))","v":""},{"$f":"IF(G135=\"\",\"\",SUMIFS(打撃データー!$BE$6:$BE$500,打撃データー!$AG$6:$AG$500,F135,打撃データー!$AI$6:$AI$500,H135,打撃データー!$AJ$6:$AJ$500,打撃成績!I135))","v":""},{"$f":"IF(G135=\"\",\"\",SUMIFS(打撃データー!$BF$6:$BF$500,打撃データー!$AG$6:$AG$500,F135,打撃データー!$AI$6:$AI$500,H135,打撃データー!$AJ$6:$AJ$500,打撃成績!I135))","v":""},null,"","","","",""]
[null,null,null,null,null,"",{"$f":"IF(G17=\"\",\"\",G17)","v":""},"","LL",{"$f":"IF(G136=\"\",\"\",SUMIFS(打撃データー!$AK$6:$AK$500,打撃データー!$AG$6:$AG$500,F136,打撃データー!$AI$6:$AI$500,H136,打撃データー!$AJ$6:$AJ$500,打撃成績!I136))","v":""},{"$f":"IF(G136=\"\",\"\",SUMIFS(打撃データー!$AL$6:$AL$500,打撃データー!$AG$6:$AG$500,F136,打撃データー!$AI$6:$AI$500,H136,打撃データー!$AJ$6:$AJ$500,打撃成績!I136))","v":""},{"$f":"IF(G136=\"\",\"\",SUMIFS(打撃データー!$AM$6:$AM$500,打撃データー!$AG$6:$AG$500,F136,打撃データー!$AI$6:$AI$500,H136,打撃データー!$AJ$6:$AJ$500,打撃成績!I136))","v":""},{"$f":"IF(G136=\"\",\"\",SUMIFS(打撃データー!$AN$6:$AN$500,打撃データー!$AG$6:$AG$500,F136,打撃データー!$AI$6:$AI$500,H136,打撃データー!$AJ$6:$AJ$500,打撃成績!I136))","v":""},{"$f":"IF(G136=\"\",\"\",SUMIFS(打撃データー!$AO$6:$AO$500,打撃データー!$AG$6:$AG$500,F136,打撃データー!$AI$6:$AI$500,H136,打撃データー!$AJ$6:$AJ$500,打撃成績!I136))","v":""},{"$f":"IF(G136=\"\",\"\",SUMIFS(打撃データー!$AP$6:$AP$500,打撃データー!$AG$6:$AG$500,F136,打撃データー!$AI$6:$AI$500,H136,打撃データー!$AJ$6:$AJ$500,打撃成績!I136))","v":""},{"$f":"IF(G136=\"\",\"\",SUMIFS(打撃データー!$AQ$6:$AQ$500,打撃データー!$AG$6:$AG$500,F136,打撃データー!$AI$6:$AI$500,H136,打撃データー!$AJ$6:$AJ$500,打撃成績!I136))","v":""},{"$f":"IF(G136=\"\",\"\",SUMIFS(打撃データー!$AR$6:$AR$500,打撃データー!$AG$6:$AG$500,F136,打撃データー!$AI$6:$AI$500,H136,打撃データー!$AJ$6:$AJ$500,打撃成績!I136))","v":""},{"$f":"IF(G136=\"\",\"\",SUMIFS(打撃データー!$AS$6:$AS$500,打撃データー!$AG$6:$AG$500,F136,打撃データー!$AI$6:$AI$500,H136,打撃データー!$AJ$6:$AJ$500,打撃成績!I136))","v":""},{"$f":"IF(G136=\"\",\"\",SUMIFS(打撃データー!$AT$6:$AT$500,打撃データー!$AG$6:$AG$500,F136,打撃データー!$AI$6:$AI$500,H136,打撃データー!$AJ$6:$AJ$500,打撃成績!I136))","v":""},{"$f":"IF(G136=\"\",\"\",SUMIFS(打撃データー!$AU$6:$AU$500,打撃データー!$AG$6:$AG$500,F136,打撃データー!$AI$6:$AI$500,H136,打撃データー!$AJ$6:$AJ$500,打撃成績!I136))","v":""},{"$f":"IF(G136=\"\",\"\",SUMIFS(打撃データー!$AV$6:$AV$500,打撃データー!$AG$6:$AG$500,F136,打撃データー!$AI$6:$AI$500,H136,打撃データー!$AJ$6:$AJ$500,打撃成績!I136))","v":""},{"$f":"IF(G136=\"\",\"\",SUMIFS(打撃データー!$AW$6:$AW$500,打撃データー!$AG$6:$AG$500,F136,打撃データー!$AI$6:$AI$500,H136,打撃データー!$AJ$6:$AJ$500,打撃成績!I136))","v":""},{"$f":"IF(G136=\"\",\"\",SUMIFS(打撃データー!$AX$6:$AX$500,打撃データー!$AG$6:$AG$500,F136,打撃データー!$AI$6:$AI$500,H136,打撃データー!$AJ$6:$AJ$500,打撃成績!I136))","v":""},{"$f":"IF(G136=\"\",\"\",SUMIFS(打撃データー!$AY$6:$AY$500,打撃データー!$AG$6:$AG$500,F136,打撃データー!$AI$6:$AI$500,H136,打撃データー!$AJ$6:$AJ$500,打撃成績!I136))","v":""},{"$f":"IF(G136=\"\",\"\",SUMIFS(打撃データー!$AZ$6:$AZ$500,打撃データー!$AG$6:$AG$500,F136,打撃データー!$AI$6:$AI$500,H136,打撃データー!$AJ$6:$AJ$500,打撃成績!I136))","v":""},{"$f":"IF(G136=\"\",\"\",SUMIFS(打撃データー!$BA$6:$BA$500,打撃データー!$AG$6:$AG$500,F136,打撃データー!$AI$6:$AI$500,H136,打撃データー!$AJ$6:$AJ$500,打撃成績!I136))","v":""},{"$f":"IF(G136=\"\",\"\",SUMIFS(打撃データー!$BB$6:$BB$500,打撃データー!$AG$6:$AG$500,F136,打撃データー!$AI$6:$AI$500,H136,打撃データー!$AJ$6:$AJ$500,打撃成績!I136))","v":""},{"$f":"IF(G136=\"\",\"\",SUMIFS(打撃データー!$BC$6:$BC$500,打撃データー!$AG$6:$AG$500,F136,打撃データー!$AI$6:$AI$500,H136,打撃データー!$AJ$6:$AJ$500,打撃成績!I136))","v":""},{"$f":"IF(G136=\"\",\"\",SUMIFS(打撃データー!$BD$6:$BD$500,打撃データー!$AG$6:$AG$500,F136,打撃データー!$AI$6:$AI$500,H136,打撃データー!$AJ$6:$AJ$500,打撃成績!I136))","v":""},{"$f":"IF(G136=\"\",\"\",SUMIFS(打撃データー!$BE$6:$BE$500,打撃データー!$AG$6:$AG$500,F136,打撃データー!$AI$6:$AI$500,H136,打撃データー!$AJ$6:$AJ$500,打撃成績!I136))","v":""},{"$f":"IF(G136=\"\",\"\",SUMIFS(打撃データー!$BF$6:$BF$500,打撃データー!$AG$6:$AG$500,F136,打撃データー!$AI$6:$AI$500,H136,打撃データー!$AJ$6:$AJ$500,打撃成績!I136))","v":""},null,"","","","",""]
[null,null,null,null,null,"",{"$f":"IF(G18=\"\",\"\",G18)","v":""},"","LL",{"$f":"IF(G137=\"\",\"\",SUMIFS(打撃データー!$AK$6:$AK$500,打撃データー!$AG$6:$AG$500,F137,打撃データー!$AI$6:$AI$500,H137,打撃データー!$AJ$6:$AJ$500,打撃成績!I137))","v":""},{"$f":"IF(G137=\"\",\"\",SUMIFS(打撃データー!$AL$6:$AL$500,打撃データー!$AG$6:$AG$500,F137,打撃データー!$AI$6:$AI$500,H137,打撃データー!$AJ$6:$AJ$500,打撃成績!I137))","v":""},{"$f":"IF(G137=\"\",\"\",SUMIFS(打撃データー!$AM$6:$AM$500,打撃データー!$AG$6:$AG$500,F137,打撃データー!$AI$6:$AI$500,H137,打撃データー!$AJ$6:$AJ$500,打撃成績!I137))","v":""},{"$f":"IF(G137=\"\",\"\",SUMIFS(打撃データー!$AN$6:$AN$500,打撃データー!$AG$6:$AG$500,F137,打撃データー!$AI$6:$AI$500,H137,打撃データー!$AJ$6:$AJ$500,打撃成績!I137))","v":""},{"$f":"IF(G137=\"\",\"\",SUMIFS(打撃データー!$AO$6:$AO$500,打撃データー!$AG$6:$AG$500,F137,打撃データー!$AI$6:$AI$500,H137,打撃データー!$AJ$6:$AJ$500,打撃成績!I137))","v":""},{"$f":"IF(G137=\"\",\"\",SUMIFS(打撃データー!$AP$6:$AP$500,打撃データー!$AG$6:$AG$500,F137,打撃データー!$AI$6:$AI$500,H137,打撃データー!$AJ$6:$AJ$500,打撃成績!I137))","v":""},{"$f":"IF(G137=\"\",\"\",SUMIFS(打撃データー!$AQ$6:$AQ$500,打撃データー!$AG$6:$AG$500,F137,打撃データー!$AI$6:$AI$500,H137,打撃データー!$AJ$6:$AJ$500,打撃成績!I137))","v":""},{"$f":"IF(G137=\"\",\"\",SUMIFS(打撃データー!$AR$6:$AR$500,打撃データー!$AG$6:$AG$500,F137,打撃データー!$AI$6:$AI$500,H137,打撃データー!$AJ$6:$AJ$500,打撃成績!I137))","v":""},{"$f":"IF(G137=\"\",\"\",SUMIFS(打撃データー!$AS$6:$AS$500,打撃データー!$AG$6:$AG$500,F137,打撃データー!$AI$6:$AI$500,H137,打撃データー!$AJ$6:$AJ$500,打撃成績!I137))","v":""},{"$f":"IF(G137=\"\",\"\",SUMIFS(打撃データー!$AT$6:$AT$500,打撃データー!$AG$6:$AG$500,F137,打撃データー!$AI$6:$AI$500,H137,打撃データー!$AJ$6:$AJ$500,打撃成績!I137))","v":""},{"$f":"IF(G137=\"\",\"\",SUMIFS(打撃データー!$AU$6:$AU$500,打撃データー!$AG$6:$AG$500,F137,打撃データー!$AI$6:$AI$500,H137,打撃データー!$AJ$6:$AJ$500,打撃成績!I137))","v":""},{"$f":"IF(G137=\"\",\"\",SUMIFS(打撃データー!$AV$6:$AV$500,打撃データー!$AG$6:$AG$500,F137,打撃データー!$AI$6:$AI$500,H137,打撃データー!$AJ$6:$AJ$500,打撃成績!I137))","v":""},{"$f":"IF(G137=\"\",\"\",SUMIFS(打撃データー!$AW$6:$AW$500,打撃データー!$AG$6:$AG$500,F137,打撃データー!$AI$6:$AI$500,H137,打撃データー!$AJ$6:$AJ$500,打撃成績!I137))","v":""},{"$f":"IF(G137=\"\",\"\",SUMIFS(打撃データー!$AX$6:$AX$500,打撃データー!$AG$6:$AG$500,F137,打撃データー!$AI$6:$AI$500,H137,打撃データー!$AJ$6:$AJ$500,打撃成績!I137))","v":""},{"$f":"IF(G137=\"\",\"\",SUMIFS(打撃データー!$AY$6:$AY$500,打撃データー!$AG$6:$AG$500,F137,打撃データー!$AI$6:$AI$500,H137,打撃データー!$AJ$6:$AJ$500,打撃成績!I137))","v":""},{"$f":"IF(G137=\"\",\"\",SUMIFS(打撃データー!$AZ$6:$AZ$500,打撃データー!$AG$6:$AG$500,F137,打撃データー!$AI$6:$AI$500,H137,打撃データー!$AJ$6:$AJ$500,打撃成績!I137))","v":""},{"$f":"IF(G137=\"\",\"\",SUMIFS(打撃データー!$BA$6:$BA$500,打撃データー!$AG$6:$AG$500,F137,打撃データー!$AI$6:$AI$500,H137,打撃データー!$AJ$6:$AJ$500,打撃成績!I137))","v":""},{"$f":"IF(G137=\"\",\"\",SUMIFS(打撃データー!$BB$6:$BB$500,打撃データー!$AG$6:$AG$500,F137,打撃データー!$AI$6:$AI$500,H137,打撃データー!$AJ$6:$AJ$500,打撃成績!I137))","v":""},{"$f":"IF(G137=\"\",\"\",SUMIFS(打撃データー!$BC$6:$BC$500,打撃データー!$AG$6:$AG$500,F137,打撃データー!$AI$6:$AI$500,H137,打撃データー!$AJ$6:$AJ$500,打撃成績!I137))","v":""},{"$f":"IF(G137=\"\",\"\",SUMIFS(打撃データー!$BD$6:$BD$500,打撃データー!$AG$6:$AG$500,F137,打撃データー!$AI$6:$AI$500,H137,打撃データー!$AJ$6:$AJ$500,打撃成績!I137))","v":""},{"$f":"IF(G137=\"\",\"\",SUMIFS(打撃データー!$BE$6:$BE$500,打撃データー!$AG$6:$AG$500,F137,打撃データー!$AI$6:$AI$500,H137,打撃データー!$AJ$6:$AJ$500,打撃成績!I137))","v":""},{"$f":"IF(G137=\"\",\"\",SUMIFS(打撃データー!$BF$6:$BF$500,打撃データー!$AG$6:$AG$500,F137,打撃データー!$AI$6:$AI$500,H137,打撃データー!$AJ$6:$AJ$500,打撃成績!I137))","v":""},null,"","","","",""]
[null,null,null,null,null,"",{"$f":"IF(G19=\"\",\"\",G19)","v":""},"","LL",{"$f":"IF(G138=\"\",\"\",SUMIFS(打撃データー!$AK$6:$AK$500,打撃データー!$AG$6:$AG$500,F138,打撃データー!$AI$6:$AI$500,H138,打撃データー!$AJ$6:$AJ$500,打撃成績!I138))","v":""},{"$f":"IF(G138=\"\",\"\",SUMIFS(打撃データー!$AL$6:$AL$500,打撃データー!$AG$6:$AG$500,F138,打撃データー!$AI$6:$AI$500,H138,打撃データー!$AJ$6:$AJ$500,打撃成績!I138))","v":""},{"$f":"IF(G138=\"\",\"\",SUMIFS(打撃データー!$AM$6:$AM$500,打撃データー!$AG$6:$AG$500,F138,打撃データー!$AI$6:$AI$500,H138,打撃データー!$AJ$6:$AJ$500,打撃成績!I138))","v":""},{"$f":"IF(G138=\"\",\"\",SUMIFS(打撃データー!$AN$6:$AN$500,打撃データー!$AG$6:$AG$500,F138,打撃データー!$AI$6:$AI$500,H138,打撃データー!$AJ$6:$AJ$500,打撃成績!I138))","v":""},{"$f":"IF(G138=\"\",\"\",SUMIFS(打撃データー!$AO$6:$AO$500,打撃データー!$AG$6:$AG$500,F138,打撃データー!$AI$6:$AI$500,H138,打撃データー!$AJ$6:$AJ$500,打撃成績!I138))","v":""},{"$f":"IF(G138=\"\",\"\",SUMIFS(打撃データー!$AP$6:$AP$500,打撃データー!$AG$6:$AG$500,F138,打撃データー!$AI$6:$AI$500,H138,打撃データー!$AJ$6:$AJ$500,打撃成績!I138))","v":""},{"$f":"IF(G138=\"\",\"\",SUMIFS(打撃データー!$AQ$6:$AQ$500,打撃データー!$AG$6:$AG$500,F138,打撃データー!$AI$6:$AI$500,H138,打撃データー!$AJ$6:$AJ$500,打撃成績!I138))","v":""},{"$f":"IF(G138=\"\",\"\",SUMIFS(打撃データー!$AR$6:$AR$500,打撃データー!$AG$6:$AG$500,F138,打撃データー!$AI$6:$AI$500,H138,打撃データー!$AJ$6:$AJ$500,打撃成績!I138))","v":""},{"$f":"IF(G138=\"\",\"\",SUMIFS(打撃データー!$AS$6:$AS$500,打撃データー!$AG$6:$AG$500,F138,打撃データー!$AI$6:$AI$500,H138,打撃データー!$AJ$6:$AJ$500,打撃成績!I138))","v":""},{"$f":"IF(G138=\"\",\"\",SUMIFS(打撃データー!$AT$6:$AT$500,打撃データー!$AG$6:$AG$500,F138,打撃データー!$AI$6:$AI$500,H138,打撃データー!$AJ$6:$AJ$500,打撃成績!I138))","v":""},{"$f":"IF(G138=\"\",\"\",SUMIFS(打撃データー!$AU$6:$AU$500,打撃データー!$AG$6:$AG$500,F138,打撃データー!$AI$6:$AI$500,H138,打撃データー!$AJ$6:$AJ$500,打撃成績!I138))","v":""},{"$f":"IF(G138=\"\",\"\",SUMIFS(打撃データー!$AV$6:$AV$500,打撃データー!$AG$6:$AG$500,F138,打撃データー!$AI$6:$AI$500,H138,打撃データー!$AJ$6:$AJ$500,打撃成績!I138))","v":""},{"$f":"IF(G138=\"\",\"\",SUMIFS(打撃データー!$AW$6:$AW$500,打撃データー!$AG$6:$AG$500,F138,打撃データー!$AI$6:$AI$500,H138,打撃データー!$AJ$6:$AJ$500,打撃成績!I138))","v":""},{"$f":"IF(G138=\"\",\"\",SUMIFS(打撃データー!$AX$6:$AX$500,打撃データー!$AG$6:$AG$500,F138,打撃データー!$AI$6:$AI$500,H138,打撃データー!$AJ$6:$AJ$500,打撃成績!I138))","v":""},{"$f":"IF(G138=\"\",\"\",SUMIFS(打撃データー!$AY$6:$AY$500,打撃データー!$AG$6:$AG$500,F138,打撃データー!$AI$6:$AI$500,H138,打撃データー!$AJ$6:$AJ$500,打撃成績!I138))","v":""},{"$f":"IF(G138=\"\",\"\",SUMIFS(打撃データー!$AZ$6:$AZ$500,打撃データー!$AG$6:$AG$500,F138,打撃データー!$AI$6:$AI$500,H138,打撃データー!$AJ$6:$AJ$500,打撃成績!I138))","v":""},{"$f":"IF(G138=\"\",\"\",SUMIFS(打撃データー!$BA$6:$BA$500,打撃データー!$AG$6:$AG$500,F138,打撃データー!$AI$6:$AI$500,H138,打撃データー!$AJ$6:$AJ$500,打撃成績!I138))","v":""},{"$f":"IF(G138=\"\",\"\",SUMIFS(打撃データー!$BB$6:$BB$500,打撃データー!$AG$6:$AG$500,F138,打撃データー!$AI$6:$AI$500,H138,打撃データー!$AJ$6:$AJ$500,打撃成績!I138))","v":""},{"$f":"IF(G138=\"\",\"\",SUMIFS(打撃データー!$BC$6:$BC$500,打撃データー!$AG$6:$AG$500,F138,打撃データー!$AI$6:$AI$500,H138,打撃データー!$AJ$6:$AJ$500,打撃成績!I138))","v":""},{"$f":"IF(G138=\"\",\"\",SUMIFS(打撃データー!$BD$6:$BD$500,打撃データー!$AG$6:$AG$500,F138,打撃データー!$AI$6:$AI$500,H138,打撃データー!$AJ$6:$AJ$500,打撃成績!I138))","v":""},{"$f":"IF(G138=\"\",\"\",SUMIFS(打撃データー!$BE$6:$BE$500,打撃データー!$AG$6:$AG$500,F138,打撃データー!$AI$6:$AI$500,H138,打撃データー!$AJ$6:$AJ$500,打撃成績!I138))","v":""},{"$f":"IF(G138=\"\",\"\",SUMIFS(打撃データー!$BF$6:$BF$500,打撃データー!$AG$6:$AG$500,F138,打撃データー!$AI$6:$AI$500,H138,打撃データー!$AJ$6:$AJ$500,打撃成績!I138))","v":""},null,"","","","",""]
[null,null,null,null,null,"",{"$f":"IF(G20=\"\",\"\",G20)","v":""},"","LL",{"$f":"IF(G139=\"\",\"\",SUMIFS(打撃データー!$AK$6:$AK$500,打撃データー!$AG$6:$AG$500,F139,打撃データー!$AI$6:$AI$500,H139,打撃データー!$AJ$6:$AJ$500,打撃成績!I139))","v":""},{"$f":"IF(G139=\"\",\"\",SUMIFS(打撃データー!$AL$6:$AL$500,打撃データー!$AG$6:$AG$500,F139,打撃データー!$AI$6:$AI$500,H139,打撃データー!$AJ$6:$AJ$500,打撃成績!I139))","v":""},{"$f":"IF(G139=\"\",\"\",SUMIFS(打撃データー!$AM$6:$AM$500,打撃データー!$AG$6:$AG$500,F139,打撃データー!$AI$6:$AI$500,H139,打撃データー!$AJ$6:$AJ$500,打撃成績!I139))","v":""},{"$f":"IF(G139=\"\",\"\",SUMIFS(打撃データー!$AN$6:$AN$500,打撃データー!$AG$6:$AG$500,F139,打撃データー!$AI$6:$AI$500,H139,打撃データー!$AJ$6:$AJ$500,打撃成績!I139))","v":""},{"$f":"IF(G139=\"\",\"\",SUMIFS(打撃データー!$AO$6:$AO$500,打撃データー!$AG$6:$AG$500,F139,打撃データー!$AI$6:$AI$500,H139,打撃データー!$AJ$6:$AJ$500,打撃成績!I139))","v":""},{"$f":"IF(G139=\"\",\"\",SUMIFS(打撃データー!$AP$6:$AP$500,打撃データー!$AG$6:$AG$500,F139,打撃データー!$AI$6:$AI$500,H139,打撃データー!$AJ$6:$AJ$500,打撃成績!I139))","v":""},{"$f":"IF(G139=\"\",\"\",SUMIFS(打撃データー!$AQ$6:$AQ$500,打撃データー!$AG$6:$AG$500,F139,打撃データー!$AI$6:$AI$500,H139,打撃データー!$AJ$6:$AJ$500,打撃成績!I139))","v":""},{"$f":"IF(G139=\"\",\"\",SUMIFS(打撃データー!$AR$6:$AR$500,打撃データー!$AG$6:$AG$500,F139,打撃データー!$AI$6:$AI$500,H139,打撃データー!$AJ$6:$AJ$500,打撃成績!I139))","v":""},{"$f":"IF(G139=\"\",\"\",SUMIFS(打撃データー!$AS$6:$AS$500,打撃データー!$AG$6:$AG$500,F139,打撃データー!$AI$6:$AI$500,H139,打撃データー!$AJ$6:$AJ$500,打撃成績!I139))","v":""},{"$f":"IF(G139=\"\",\"\",SUMIFS(打撃データー!$AT$6:$AT$500,打撃データー!$AG$6:$AG$500,F139,打撃データー!$AI$6:$AI$500,H139,打撃データー!$AJ$6:$AJ$500,打撃成績!I139))","v":""},{"$f":"IF(G139=\"\",\"\",SUMIFS(打撃データー!$AU$6:$AU$500,打撃データー!$AG$6:$AG$500,F139,打撃データー!$AI$6:$AI$500,H139,打撃データー!$AJ$6:$AJ$500,打撃成績!I139))","v":""},{"$f":"IF(G139=\"\",\"\",SUMIFS(打撃データー!$AV$6:$AV$500,打撃データー!$AG$6:$AG$500,F139,打撃データー!$AI$6:$AI$500,H139,打撃データー!$AJ$6:$AJ$500,打撃成績!I139))","v":""},{"$f":"IF(G139=\"\",\"\",SUMIFS(打撃データー!$AW$6:$AW$500,打撃データー!$AG$6:$AG$500,F139,打撃データー!$AI$6:$AI$500,H139,打撃データー!$AJ$6:$AJ$500,打撃成績!I139))","v":""},{"$f":"IF(G139=\"\",\"\",SUMIFS(打撃データー!$AX$6:$AX$500,打撃データー!$AG$6:$AG$500,F139,打撃データー!$AI$6:$AI$500,H139,打撃データー!$AJ$6:$AJ$500,打撃成績!I139))","v":""},{"$f":"IF(G139=\"\",\"\",SUMIFS(打撃データー!$AY$6:$AY$500,打撃データー!$AG$6:$AG$500,F139,打撃データー!$AI$6:$AI$500,H139,打撃データー!$AJ$6:$AJ$500,打撃成績!I139))","v":""},{"$f":"IF(G139=\"\",\"\",SUMIFS(打撃データー!$AZ$6:$AZ$500,打撃データー!$AG$6:$AG$500,F139,打撃データー!$AI$6:$AI$500,H139,打撃データー!$AJ$6:$AJ$500,打撃成績!I139))","v":""},{"$f":"IF(G139=\"\",\"\",SUMIFS(打撃データー!$BA$6:$BA$500,打撃データー!$AG$6:$AG$500,F139,打撃データー!$AI$6:$AI$500,H139,打撃データー!$AJ$6:$AJ$500,打撃成績!I139))","v":""},{"$f":"IF(G139=\"\",\"\",SUMIFS(打撃データー!$BB$6:$BB$500,打撃データー!$AG$6:$AG$500,F139,打撃データー!$AI$6:$AI$500,H139,打撃データー!$AJ$6:$AJ$500,打撃成績!I139))","v":""},{"$f":"IF(G139=\"\",\"\",SUMIFS(打撃データー!$BC$6:$BC$500,打撃データー!$AG$6:$AG$500,F139,打撃データー!$AI$6:$AI$500,H139,打撃データー!$AJ$6:$AJ$500,打撃成績!I139))","v":""},{"$f":"IF(G139=\"\",\"\",SUMIFS(打撃データー!$BD$6:$BD$500,打撃データー!$AG$6:$AG$500,F139,打撃データー!$AI$6:$AI$500,H139,打撃データー!$AJ$6:$AJ$500,打撃成績!I139))","v":""},{"$f":"IF(G139=\"\",\"\",SUMIFS(打撃データー!$BE$6:$BE$500,打撃データー!$AG$6:$AG$500,F139,打撃データー!$AI$6:$AI$500,H139,打撃データー!$AJ$6:$AJ$500,打撃成績!I139))","v":""},{"$f":"IF(G139=\"\",\"\",SUMIFS(打撃データー!$BF$6:$BF$500,打撃データー!$AG$6:$AG$500,F139,打撃データー!$AI$6:$AI$500,H139,打撃データー!$AJ$6:$AJ$500,打撃成績!I139))","v":""},null,"","","","",""]
[null,null,null,null,null,"",{"$f":"IF(G21=\"\",\"\",G21)","v":""},"","LL",{"$f":"IF(G140=\"\",\"\",SUMIFS(打撃データー!$AK$6:$AK$500,打撃データー!$AG$6:$AG$500,F140,打撃データー!$AI$6:$AI$500,H140,打撃データー!$AJ$6:$AJ$500,打撃成績!I140))","v":""},{"$f":"IF(G140=\"\",\"\",SUMIFS(打撃データー!$AL$6:$AL$500,打撃データー!$AG$6:$AG$500,F140,打撃データー!$AI$6:$AI$500,H140,打撃データー!$AJ$6:$AJ$500,打撃成績!I140))","v":""},{"$f":"IF(G140=\"\",\"\",SUMIFS(打撃データー!$AM$6:$AM$500,打撃データー!$AG$6:$AG$500,F140,打撃データー!$AI$6:$AI$500,H140,打撃データー!$AJ$6:$AJ$500,打撃成績!I140))","v":""},{"$f":"IF(G140=\"\",\"\",SUMIFS(打撃データー!$AN$6:$AN$500,打撃データー!$AG$6:$AG$500,F140,打撃データー!$AI$6:$AI$500,H140,打撃データー!$AJ$6:$AJ$500,打撃成績!I140))","v":""},{"$f":"IF(G140=\"\",\"\",SUMIFS(打撃データー!$AO$6:$AO$500,打撃データー!$AG$6:$AG$500,F140,打撃データー!$AI$6:$AI$500,H140,打撃データー!$AJ$6:$AJ$500,打撃成績!I140))","v":""},{"$f":"IF(G140=\"\",\"\",SUMIFS(打撃データー!$AP$6:$AP$500,打撃データー!$AG$6:$AG$500,F140,打撃データー!$AI$6:$AI$500,H140,打撃データー!$AJ$6:$AJ$500,打撃成績!I140))","v":""},{"$f":"IF(G140=\"\",\"\",SUMIFS(打撃データー!$AQ$6:$AQ$500,打撃データー!$AG$6:$AG$500,F140,打撃データー!$AI$6:$AI$500,H140,打撃データー!$AJ$6:$AJ$500,打撃成績!I140))","v":""},{"$f":"IF(G140=\"\",\"\",SUMIFS(打撃データー!$AR$6:$AR$500,打撃データー!$AG$6:$AG$500,F140,打撃データー!$AI$6:$AI$500,H140,打撃データー!$AJ$6:$AJ$500,打撃成績!I140))","v":""},{"$f":"IF(G140=\"\",\"\",SUMIFS(打撃データー!$AS$6:$AS$500,打撃データー!$AG$6:$AG$500,F140,打撃データー!$AI$6:$AI$500,H140,打撃データー!$AJ$6:$AJ$500,打撃成績!I140))","v":""},{"$f":"IF(G140=\"\",\"\",SUMIFS(打撃データー!$AT$6:$AT$500,打撃データー!$AG$6:$AG$500,F140,打撃データー!$AI$6:$AI$500,H140,打撃データー!$AJ$6:$AJ$500,打撃成績!I140))","v":""},{"$f":"IF(G140=\"\",\"\",SUMIFS(打撃データー!$AU$6:$AU$500,打撃データー!$AG$6:$AG$500,F140,打撃データー!$AI$6:$AI$500,H140,打撃データー!$AJ$6:$AJ$500,打撃成績!I140))","v":""},{"$f":"IF(G140=\"\",\"\",SUMIFS(打撃データー!$AV$6:$AV$500,打撃データー!$AG$6:$AG$500,F140,打撃データー!$AI$6:$AI$500,H140,打撃データー!$AJ$6:$AJ$500,打撃成績!I140))","v":""},{"$f":"IF(G140=\"\",\"\",SUMIFS(打撃データー!$AW$6:$AW$500,打撃データー!$AG$6:$AG$500,F140,打撃データー!$AI$6:$AI$500,H140,打撃データー!$AJ$6:$AJ$500,打撃成績!I140))","v":""},{"$f":"IF(G140=\"\",\"\",SUMIFS(打撃データー!$AX$6:$AX$500,打撃データー!$AG$6:$AG$500,F140,打撃データー!$AI$6:$AI$500,H140,打撃データー!$AJ$6:$AJ$500,打撃成績!I140))","v":""},{"$f":"IF(G140=\"\",\"\",SUMIFS(打撃データー!$AY$6:$AY$500,打撃データー!$AG$6:$AG$500,F140,打撃データー!$AI$6:$AI$500,H140,打撃データー!$AJ$6:$AJ$500,打撃成績!I140))","v":""},{"$f":"IF(G140=\"\",\"\",SUMIFS(打撃データー!$AZ$6:$AZ$500,打撃データー!$AG$6:$AG$500,F140,打撃データー!$AI$6:$AI$500,H140,打撃データー!$AJ$6:$AJ$500,打撃成績!I140))","v":""},{"$f":"IF(G140=\"\",\"\",SUMIFS(打撃データー!$BA$6:$BA$500,打撃データー!$AG$6:$AG$500,F140,打撃データー!$AI$6:$AI$500,H140,打撃データー!$AJ$6:$AJ$500,打撃成績!I140))","v":""},{"$f":"IF(G140=\"\",\"\",SUMIFS(打撃データー!$BB$6:$BB$500,打撃データー!$AG$6:$AG$500,F140,打撃データー!$AI$6:$AI$500,H140,打撃データー!$AJ$6:$AJ$500,打撃成績!I140))","v":""},{"$f":"IF(G140=\"\",\"\",SUMIFS(打撃データー!$BC$6:$BC$500,打撃データー!$AG$6:$AG$500,F140,打撃データー!$AI$6:$AI$500,H140,打撃データー!$AJ$6:$AJ$500,打撃成績!I140))","v":""},{"$f":"IF(G140=\"\",\"\",SUMIFS(打撃データー!$BD$6:$BD$500,打撃データー!$AG$6:$AG$500,F140,打撃データー!$AI$6:$AI$500,H140,打撃データー!$AJ$6:$AJ$500,打撃成績!I140))","v":""},{"$f":"IF(G140=\"\",\"\",SUMIFS(打撃データー!$BE$6:$BE$500,打撃データー!$AG$6:$AG$500,F140,打撃データー!$AI$6:$AI$500,H140,打撃データー!$AJ$6:$AJ$500,打撃成績!I140))","v":""},{"$f":"IF(G140=\"\",\"\",SUMIFS(打撃データー!$BF$6:$BF$500,打撃データー!$AG$6:$AG$500,F140,打撃データー!$AI$6:$AI$500,H140,打撃データー!$AJ$6:$AJ$500,打撃成績!I140))","v":""},null,"","","","",""]
[null,null,null,null,null,"",{"$f":"IF(G22=\"\",\"\",G22)","v":""},"","LL",{"$f":"IF(G141=\"\",\"\",SUMIFS(打撃データー!$AK$6:$AK$500,打撃データー!$AG$6:$AG$500,F141,打撃データー!$AI$6:$AI$500,H141,打撃データー!$AJ$6:$AJ$500,打撃成績!I141))","v":""},{"$f":"IF(G141=\"\",\"\",SUMIFS(打撃データー!$AL$6:$AL$500,打撃データー!$AG$6:$AG$500,F141,打撃データー!$AI$6:$AI$500,H141,打撃データー!$AJ$6:$AJ$500,打撃成績!I141))","v":""},{"$f":"IF(G141=\"\",\"\",SUMIFS(打撃データー!$AM$6:$AM$500,打撃データー!$AG$6:$AG$500,F141,打撃データー!$AI$6:$AI$500,H141,打撃データー!$AJ$6:$AJ$500,打撃成績!I141))","v":""},{"$f":"IF(G141=\"\",\"\",SUMIFS(打撃データー!$AN$6:$AN$500,打撃データー!$AG$6:$AG$500,F141,打撃データー!$AI$6:$AI$500,H141,打撃データー!$AJ$6:$AJ$500,打撃成績!I141))","v":""},{"$f":"IF(G141=\"\",\"\",SUMIFS(打撃データー!$AO$6:$AO$500,打撃データー!$AG$6:$AG$500,F141,打撃データー!$AI$6:$AI$500,H141,打撃データー!$AJ$6:$AJ$500,打撃成績!I141))","v":""},{"$f":"IF(G141=\"\",\"\",SUMIFS(打撃データー!$AP$6:$AP$500,打撃データー!$AG$6:$AG$500,F141,打撃データー!$AI$6:$AI$500,H141,打撃データー!$AJ$6:$AJ$500,打撃成績!I141))","v":""},{"$f":"IF(G141=\"\",\"\",SUMIFS(打撃データー!$AQ$6:$AQ$500,打撃データー!$AG$6:$AG$500,F141,打撃データー!$AI$6:$AI$500,H141,打撃データー!$AJ$6:$AJ$500,打撃成績!I141))","v":""},{"$f":"IF(G141=\"\",\"\",SUMIFS(打撃データー!$AR$6:$AR$500,打撃データー!$AG$6:$AG$500,F141,打撃データー!$AI$6:$AI$500,H141,打撃データー!$AJ$6:$AJ$500,打撃成績!I141))","v":""},{"$f":"IF(G141=\"\",\"\",SUMIFS(打撃データー!$AS$6:$AS$500,打撃データー!$AG$6:$AG$500,F141,打撃データー!$AI$6:$AI$500,H141,打撃データー!$AJ$6:$AJ$500,打撃成績!I141))","v":""},{"$f":"IF(G141=\"\",\"\",SUMIFS(打撃データー!$AT$6:$AT$500,打撃データー!$AG$6:$AG$500,F141,打撃データー!$AI$6:$AI$500,H141,打撃データー!$AJ$6:$AJ$500,打撃成績!I141))","v":""},{"$f":"IF(G141=\"\",\"\",SUMIFS(打撃データー!$AU$6:$AU$500,打撃データー!$AG$6:$AG$500,F141,打撃データー!$AI$6:$AI$500,H141,打撃データー!$AJ$6:$AJ$500,打撃成績!I141))","v":""},{"$f":"IF(G141=\"\",\"\",SUMIFS(打撃データー!$AV$6:$AV$500,打撃データー!$AG$6:$AG$500,F141,打撃データー!$AI$6:$AI$500,H141,打撃データー!$AJ$6:$AJ$500,打撃成績!I141))","v":""},{"$f":"IF(G141=\"\",\"\",SUMIFS(打撃データー!$AW$6:$AW$500,打撃データー!$AG$6:$AG$500,F141,打撃データー!$AI$6:$AI$500,H141,打撃データー!$AJ$6:$AJ$500,打撃成績!I141))","v":""},{"$f":"IF(G141=\"\",\"\",SUMIFS(打撃データー!$AX$6:$AX$500,打撃データー!$AG$6:$AG$500,F141,打撃データー!$AI$6:$AI$500,H141,打撃データー!$AJ$6:$AJ$500,打撃成績!I141))","v":""},{"$f":"IF(G141=\"\",\"\",SUMIFS(打撃データー!$AY$6:$AY$500,打撃データー!$AG$6:$AG$500,F141,打撃データー!$AI$6:$AI$500,H141,打撃データー!$AJ$6:$AJ$500,打撃成績!I141))","v":""},{"$f":"IF(G141=\"\",\"\",SUMIFS(打撃データー!$AZ$6:$AZ$500,打撃データー!$AG$6:$AG$500,F141,打撃データー!$AI$6:$AI$500,H141,打撃データー!$AJ$6:$AJ$500,打撃成績!I141))","v":""},{"$f":"IF(G141=\"\",\"\",SUMIFS(打撃データー!$BA$6:$BA$500,打撃データー!$AG$6:$AG$500,F141,打撃データー!$AI$6:$AI$500,H141,打撃データー!$AJ$6:$AJ$500,打撃成績!I141))","v":""},{"$f":"IF(G141=\"\",\"\",SUMIFS(打撃データー!$BB$6:$BB$500,打撃データー!$AG$6:$AG$500,F141,打撃データー!$AI$6:$AI$500,H141,打撃データー!$AJ$6:$AJ$500,打撃成績!I141))","v":""},{"$f":"IF(G141=\"\",\"\",SUMIFS(打撃データー!$BC$6:$BC$500,打撃データー!$AG$6:$AG$500,F141,打撃データー!$AI$6:$AI$500,H141,打撃データー!$AJ$6:$AJ$500,打撃成績!I141))","v":""},{"$f":"IF(G141=\"\",\"\",SUMIFS(打撃データー!$BD$6:$BD$500,打撃データー!$AG$6:$AG$500,F141,打撃データー!$AI$6:$AI$500,H141,打撃データー!$AJ$6:$AJ$500,打撃成績!I141))","v":""},{"$f":"IF(G141=\"\",\"\",SUMIFS(打撃データー!$BE$6:$BE$500,打撃データー!$AG$6:$AG$500,F141,打撃データー!$AI$6:$AI$500,H141,打撃データー!$AJ$6:$AJ$500,打撃成績!I141))","v":""},{"$f":"IF(G141=\"\",\"\",SUMIFS(打撃データー!$BF$6:$BF$500,打撃データー!$AG$6:$AG$500,F141,打撃データー!$AI$6:$AI$500,H141,打撃データー!$AJ$6:$AJ$500,打撃成績!I141))","v":""},null,"","","","",""]
[null,null,null,null,null,"",{"$f":"IF(G23=\"\",\"\",G23)","v":""},"","LL",{"$f":"IF(G142=\"\",\"\",SUMIFS(打撃データー!$AK$6:$AK$500,打撃データー!$AG$6:$AG$500,F142,打撃データー!$AI$6:$AI$500,H142,打撃データー!$AJ$6:$AJ$500,打撃成績!I142))","v":""},{"$f":"IF(G142=\"\",\"\",SUMIFS(打撃データー!$AL$6:$AL$500,打撃データー!$AG$6:$AG$500,F142,打撃データー!$AI$6:$AI$500,H142,打撃データー!$AJ$6:$AJ$500,打撃成績!I142))","v":""},{"$f":"IF(G142=\"\",\"\",SUMIFS(打撃データー!$AM$6:$AM$500,打撃データー!$AG$6:$AG$500,F142,打撃データー!$AI$6:$AI$500,H142,打撃データー!$AJ$6:$AJ$500,打撃成績!I142))","v":""},{"$f":"IF(G142=\"\",\"\",SUMIFS(打撃データー!$AN$6:$AN$500,打撃データー!$AG$6:$AG$500,F142,打撃データー!$AI$6:$AI$500,H142,打撃データー!$AJ$6:$AJ$500,打撃成績!I142))","v":""},{"$f":"IF(G142=\"\",\"\",SUMIFS(打撃データー!$AO$6:$AO$500,打撃データー!$AG$6:$AG$500,F142,打撃データー!$AI$6:$AI$500,H142,打撃データー!$AJ$6:$AJ$500,打撃成績!I142))","v":""},{"$f":"IF(G142=\"\",\"\",SUMIFS(打撃データー!$AP$6:$AP$500,打撃データー!$AG$6:$AG$500,F142,打撃データー!$AI$6:$AI$500,H142,打撃データー!$AJ$6:$AJ$500,打撃成績!I142))","v":""},{"$f":"IF(G142=\"\",\"\",SUMIFS(打撃データー!$AQ$6:$AQ$500,打撃データー!$AG$6:$AG$500,F142,打撃データー!$AI$6:$AI$500,H142,打撃データー!$AJ$6:$AJ$500,打撃成績!I142))","v":""},{"$f":"IF(G142=\"\",\"\",SUMIFS(打撃データー!$AR$6:$AR$500,打撃データー!$AG$6:$AG$500,F142,打撃データー!$AI$6:$AI$500,H142,打撃データー!$AJ$6:$AJ$500,打撃成績!I142))","v":""},{"$f":"IF(G142=\"\",\"\",SUMIFS(打撃データー!$AS$6:$AS$500,打撃データー!$AG$6:$AG$500,F142,打撃データー!$AI$6:$AI$500,H142,打撃データー!$AJ$6:$AJ$500,打撃成績!I142))","v":""},{"$f":"IF(G142=\"\",\"\",SUMIFS(打撃データー!$AT$6:$AT$500,打撃データー!$AG$6:$AG$500,F142,打撃データー!$AI$6:$AI$500,H142,打撃データー!$AJ$6:$AJ$500,打撃成績!I142))","v":""},{"$f":"IF(G142=\"\",\"\",SUMIFS(打撃データー!$AU$6:$AU$500,打撃データー!$AG$6:$AG$500,F142,打撃データー!$AI$6:$AI$500,H142,打撃データー!$AJ$6:$AJ$500,打撃成績!I142))","v":""},{"$f":"IF(G142=\"\",\"\",SUMIFS(打撃データー!$AV$6:$AV$500,打撃データー!$AG$6:$AG$500,F142,打撃データー!$AI$6:$AI$500,H142,打撃データー!$AJ$6:$AJ$500,打撃成績!I142))","v":""},{"$f":"IF(G142=\"\",\"\",SUMIFS(打撃データー!$AW$6:$AW$500,打撃データー!$AG$6:$AG$500,F142,打撃データー!$AI$6:$AI$500,H142,打撃データー!$AJ$6:$AJ$500,打撃成績!I142))","v":""},{"$f":"IF(G142=\"\",\"\",SUMIFS(打撃データー!$AX$6:$AX$500,打撃データー!$AG$6:$AG$500,F142,打撃データー!$AI$6:$AI$500,H142,打撃データー!$AJ$6:$AJ$500,打撃成績!I142))","v":""},{"$f":"IF(G142=\"\",\"\",SUMIFS(打撃データー!$AY$6:$AY$500,打撃データー!$AG$6:$AG$500,F142,打撃データー!$AI$6:$AI$500,H142,打撃データー!$AJ$6:$AJ$500,打撃成績!I142))","v":""},{"$f":"IF(G142=\"\",\"\",SUMIFS(打撃データー!$AZ$6:$AZ$500,打撃データー!$AG$6:$AG$500,F142,打撃データー!$AI$6:$AI$500,H142,打撃データー!$AJ$6:$AJ$500,打撃成績!I142))","v":""},{"$f":"IF(G142=\"\",\"\",SUMIFS(打撃データー!$BA$6:$BA$500,打撃データー!$AG$6:$AG$500,F142,打撃データー!$AI$6:$AI$500,H142,打撃データー!$AJ$6:$AJ$500,打撃成績!I142))","v":""},{"$f":"IF(G142=\"\",\"\",SUMIFS(打撃データー!$BB$6:$BB$500,打撃データー!$AG$6:$AG$500,F142,打撃データー!$AI$6:$AI$500,H142,打撃データー!$AJ$6:$AJ$500,打撃成績!I142))","v":""},{"$f":"IF(G142=\"\",\"\",SUMIFS(打撃データー!$BC$6:$BC$500,打撃データー!$AG$6:$AG$500,F142,打撃データー!$AI$6:$AI$500,H142,打撃データー!$AJ$6:$AJ$500,打撃成績!I142))","v":""},{"$f":"IF(G142=\"\",\"\",SUMIFS(打撃データー!$BD$6:$BD$500,打撃データー!$AG$6:$AG$500,F142,打撃データー!$AI$6:$AI$500,H142,打撃データー!$AJ$6:$AJ$500,打撃成績!I142))","v":""},{"$f":"IF(G142=\"\",\"\",SUMIFS(打撃データー!$BE$6:$BE$500,打撃データー!$AG$6:$AG$500,F142,打撃データー!$AI$6:$AI$500,H142,打撃データー!$AJ$6:$AJ$500,打撃成績!I142))","v":""},{"$f":"IF(G142=\"\",\"\",SUMIFS(打撃データー!$BF$6:$BF$500,打撃データー!$AG$6:$AG$500,F142,打撃データー!$AI$6:$AI$500,H142,打撃データー!$AJ$6:$AJ$500,打撃成績!I142))","v":""},null,"","","","",""]
[null,null,null,null,null,"",{"$f":"IF(G24=\"\",\"\",G24)","v":""},"","LL",{"$f":"IF(G143=\"\",\"\",SUMIFS(打撃データー!$AK$6:$AK$500,打撃データー!$AG$6:$AG$500,F143,打撃データー!$AI$6:$AI$500,H143,打撃データー!$AJ$6:$AJ$500,打撃成績!I143))","v":""},{"$f":"IF(G143=\"\",\"\",SUMIFS(打撃データー!$AL$6:$AL$500,打撃データー!$AG$6:$AG$500,F143,打撃データー!$AI$6:$AI$500,H143,打撃データー!$AJ$6:$AJ$500,打撃成績!I143))","v":""},{"$f":"IF(G143=\"\",\"\",SUMIFS(打撃データー!$AM$6:$AM$500,打撃データー!$AG$6:$AG$500,F143,打撃データー!$AI$6:$AI$500,H143,打撃データー!$AJ$6:$AJ$500,打撃成績!I143))","v":""},{"$f":"IF(G143=\"\",\"\",SUMIFS(打撃データー!$AN$6:$AN$500,打撃データー!$AG$6:$AG$500,F143,打撃データー!$AI$6:$AI$500,H143,打撃データー!$AJ$6:$AJ$500,打撃成績!I143))","v":""},{"$f":"IF(G143=\"\",\"\",SUMIFS(打撃データー!$AO$6:$AO$500,打撃データー!$AG$6:$AG$500,F143,打撃データー!$AI$6:$AI$500,H143,打撃データー!$AJ$6:$AJ$500,打撃成績!I143))","v":""},{"$f":"IF(G143=\"\",\"\",SUMIFS(打撃データー!$AP$6:$AP$500,打撃データー!$AG$6:$AG$500,F143,打撃データー!$AI$6:$AI$500,H143,打撃データー!$AJ$6:$AJ$500,打撃成績!I143))","v":""},{"$f":"IF(G143=\"\",\"\",SUMIFS(打撃データー!$AQ$6:$AQ$500,打撃データー!$AG$6:$AG$500,F143,打撃データー!$AI$6:$AI$500,H143,打撃データー!$AJ$6:$AJ$500,打撃成績!I143))","v":""},{"$f":"IF(G143=\"\",\"\",SUMIFS(打撃データー!$AR$6:$AR$500,打撃データー!$AG$6:$AG$500,F143,打撃データー!$AI$6:$AI$500,H143,打撃データー!$AJ$6:$AJ$500,打撃成績!I143))","v":""},{"$f":"IF(G143=\"\",\"\",SUMIFS(打撃データー!$AS$6:$AS$500,打撃データー!$AG$6:$AG$500,F143,打撃データー!$AI$6:$AI$500,H143,打撃データー!$AJ$6:$AJ$500,打撃成績!I143))","v":""},{"$f":"IF(G143=\"\",\"\",SUMIFS(打撃データー!$AT$6:$AT$500,打撃データー!$AG$6:$AG$500,F143,打撃データー!$AI$6:$AI$500,H143,打撃データー!$AJ$6:$AJ$500,打撃成績!I143))","v":""},{"$f":"IF(G143=\"\",\"\",SUMIFS(打撃データー!$AU$6:$AU$500,打撃データー!$AG$6:$AG$500,F143,打撃データー!$AI$6:$AI$500,H143,打撃データー!$AJ$6:$AJ$500,打撃成績!I143))","v":""},{"$f":"IF(G143=\"\",\"\",SUMIFS(打撃データー!$AV$6:$AV$500,打撃データー!$AG$6:$AG$500,F143,打撃データー!$AI$6:$AI$500,H143,打撃データー!$AJ$6:$AJ$500,打撃成績!I143))","v":""},{"$f":"IF(G143=\"\",\"\",SUMIFS(打撃データー!$AW$6:$AW$500,打撃データー!$AG$6:$AG$500,F143,打撃データー!$AI$6:$AI$500,H143,打撃データー!$AJ$6:$AJ$500,打撃成績!I143))","v":""},{"$f":"IF(G143=\"\",\"\",SUMIFS(打撃データー!$AX$6:$AX$500,打撃データー!$AG$6:$AG$500,F143,打撃データー!$AI$6:$AI$500,H143,打撃データー!$AJ$6:$AJ$500,打撃成績!I143))","v":""},{"$f":"IF(G143=\"\",\"\",SUMIFS(打撃データー!$AY$6:$AY$500,打撃データー!$AG$6:$AG$500,F143,打撃データー!$AI$6:$AI$500,H143,打撃データー!$AJ$6:$AJ$500,打撃成績!I143))","v":""},{"$f":"IF(G143=\"\",\"\",SUMIFS(打撃データー!$AZ$6:$AZ$500,打撃データー!$AG$6:$AG$500,F143,打撃データー!$AI$6:$AI$500,H143,打撃データー!$AJ$6:$AJ$500,打撃成績!I143))","v":""},{"$f":"IF(G143=\"\",\"\",SUMIFS(打撃データー!$BA$6:$BA$500,打撃データー!$AG$6:$AG$500,F143,打撃データー!$AI$6:$AI$500,H143,打撃データー!$AJ$6:$AJ$500,打撃成績!I143))","v":""},{"$f":"IF(G143=\"\",\"\",SUMIFS(打撃データー!$BB$6:$BB$500,打撃データー!$AG$6:$AG$500,F143,打撃データー!$AI$6:$AI$500,H143,打撃データー!$AJ$6:$AJ$500,打撃成績!I143))","v":""},{"$f":"IF(G143=\"\",\"\",SUMIFS(打撃データー!$BC$6:$BC$500,打撃データー!$AG$6:$AG$500,F143,打撃データー!$AI$6:$AI$500,H143,打撃データー!$AJ$6:$AJ$500,打撃成績!I143))","v":""},{"$f":"IF(G143=\"\",\"\",SUMIFS(打撃データー!$BD$6:$BD$500,打撃データー!$AG$6:$AG$500,F143,打撃データー!$AI$6:$AI$500,H143,打撃データー!$AJ$6:$AJ$500,打撃成績!I143))","v":""},{"$f":"IF(G143=\"\",\"\",SUMIFS(打撃データー!$BE$6:$BE$500,打撃データー!$AG$6:$AG$500,F143,打撃データー!$AI$6:$AI$500,H143,打撃データー!$AJ$6:$AJ$500,打撃成績!I143))","v":""},{"$f":"IF(G143=\"\",\"\",SUMIFS(打撃データー!$BF$6:$BF$500,打撃データー!$AG$6:$AG$500,F143,打撃データー!$AI$6:$AI$500,H143,打撃データー!$AJ$6:$AJ$500,打撃成績!I143))","v":""},null,"","","","",""]
[null,null,null,null,null,"",{"$f":"IF(G25=\"\",\"\",G25)","v":""},"","LL",{"$f":"IF(G144=\"\",\"\",SUMIFS(打撃データー!$AK$6:$AK$500,打撃データー!$AG$6:$AG$500,F144,打撃データー!$AI$6:$AI$500,H144,打撃データー!$AJ$6:$AJ$500,打撃成績!I144))","v":""},{"$f":"IF(G144=\"\",\"\",SUMIFS(打撃データー!$AL$6:$AL$500,打撃データー!$AG$6:$AG$500,F144,打撃データー!$AI$6:$AI$500,H144,打撃データー!$AJ$6:$AJ$500,打撃成績!I144))","v":""},{"$f":"IF(G144=\"\",\"\",SUMIFS(打撃データー!$AM$6:$AM$500,打撃データー!$AG$6:$AG$500,F144,打撃データー!$AI$6:$AI$500,H144,打撃データー!$AJ$6:$AJ$500,打撃成績!I144))","v":""},{"$f":"IF(G144=\"\",\"\",SUMIFS(打撃データー!$AN$6:$AN$500,打撃データー!$AG$6:$AG$500,F144,打撃データー!$AI$6:$AI$500,H144,打撃データー!$AJ$6:$AJ$500,打撃成績!I144))","v":""},{"$f":"IF(G144=\"\",\"\",SUMIFS(打撃データー!$AO$6:$AO$500,打撃データー!$AG$6:$AG$500,F144,打撃データー!$AI$6:$AI$500,H144,打撃データー!$AJ$6:$AJ$500,打撃成績!I144))","v":""},{"$f":"IF(G144=\"\",\"\",SUMIFS(打撃データー!$AP$6:$AP$500,打撃データー!$AG$6:$AG$500,F144,打撃データー!$AI$6:$AI$500,H144,打撃データー!$AJ$6:$AJ$500,打撃成績!I144))","v":""},{"$f":"IF(G144=\"\",\"\",SUMIFS(打撃データー!$AQ$6:$AQ$500,打撃データー!$AG$6:$AG$500,F144,打撃データー!$AI$6:$AI$500,H144,打撃データー!$AJ$6:$AJ$500,打撃成績!I144))","v":""},{"$f":"IF(G144=\"\",\"\",SUMIFS(打撃データー!$AR$6:$AR$500,打撃データー!$AG$6:$AG$500,F144,打撃データー!$AI$6:$AI$500,H144,打撃データー!$AJ$6:$AJ$500,打撃成績!I144))","v":""},{"$f":"IF(G144=\"\",\"\",SUMIFS(打撃データー!$AS$6:$AS$500,打撃データー!$AG$6:$AG$500,F144,打撃データー!$AI$6:$AI$500,H144,打撃データー!$AJ$6:$AJ$500,打撃成績!I144))","v":""},{"$f":"IF(G144=\"\",\"\",SUMIFS(打撃データー!$AT$6:$AT$500,打撃データー!$AG$6:$AG$500,F144,打撃データー!$AI$6:$AI$500,H144,打撃データー!$AJ$6:$AJ$500,打撃成績!I144))","v":""},{"$f":"IF(G144=\"\",\"\",SUMIFS(打撃データー!$AU$6:$AU$500,打撃データー!$AG$6:$AG$500,F144,打撃データー!$AI$6:$AI$500,H144,打撃データー!$AJ$6:$AJ$500,打撃成績!I144))","v":""},{"$f":"IF(G144=\"\",\"\",SUMIFS(打撃データー!$AV$6:$AV$500,打撃データー!$AG$6:$AG$500,F144,打撃データー!$AI$6:$AI$500,H144,打撃データー!$AJ$6:$AJ$500,打撃成績!I144))","v":""},{"$f":"IF(G144=\"\",\"\",SUMIFS(打撃データー!$AW$6:$AW$500,打撃データー!$AG$6:$AG$500,F144,打撃データー!$AI$6:$AI$500,H144,打撃データー!$AJ$6:$AJ$500,打撃成績!I144))","v":""},{"$f":"IF(G144=\"\",\"\",SUMIFS(打撃データー!$AX$6:$AX$500,打撃データー!$AG$6:$AG$500,F144,打撃データー!$AI$6:$AI$500,H144,打撃データー!$AJ$6:$AJ$500,打撃成績!I144))","v":""},{"$f":"IF(G144=\"\",\"\",SUMIFS(打撃データー!$AY$6:$AY$500,打撃データー!$AG$6:$AG$500,F144,打撃データー!$AI$6:$AI$500,H144,打撃データー!$AJ$6:$AJ$500,打撃成績!I144))","v":""},{"$f":"IF(G144=\"\",\"\",SUMIFS(打撃データー!$AZ$6:$AZ$500,打撃データー!$AG$6:$AG$500,F144,打撃データー!$AI$6:$AI$500,H144,打撃データー!$AJ$6:$AJ$500,打撃成績!I144))","v":""},{"$f":"IF(G144=\"\",\"\",SUMIFS(打撃データー!$BA$6:$BA$500,打撃データー!$AG$6:$AG$500,F144,打撃データー!$AI$6:$AI$500,H144,打撃データー!$AJ$6:$AJ$500,打撃成績!I144))","v":""},{"$f":"IF(G144=\"\",\"\",SUMIFS(打撃データー!$BB$6:$BB$500,打撃データー!$AG$6:$AG$500,F144,打撃データー!$AI$6:$AI$500,H144,打撃データー!$AJ$6:$AJ$500,打撃成績!I144))","v":""},{"$f":"IF(G144=\"\",\"\",SUMIFS(打撃データー!$BC$6:$BC$500,打撃データー!$AG$6:$AG$500,F144,打撃データー!$AI$6:$AI$500,H144,打撃データー!$AJ$6:$AJ$500,打撃成績!I144))","v":""},{"$f":"IF(G144=\"\",\"\",SUMIFS(打撃データー!$BD$6:$BD$500,打撃データー!$AG$6:$AG$500,F144,打撃データー!$AI$6:$AI$500,H144,打撃データー!$AJ$6:$AJ$500,打撃成績!I144))","v":""},{"$f":"IF(G144=\"\",\"\",SUMIFS(打撃データー!$BE$6:$BE$500,打撃データー!$AG$6:$AG$500,F144,打撃データー!$AI$6:$AI$500,H144,打撃データー!$AJ$6:$AJ$500,打撃成績!I144))","v":""},{"$f":"IF(G144=\"\",\"\",SUMIFS(打撃データー!$BF$6:$BF$500,打撃データー!$AG$6:$AG$500,F144,打撃データー!$AI$6:$AI$500,H144,打撃データー!$AJ$6:$AJ$500,打撃成績!I144))","v":""},null,"","","","",""]
[null,null,null,null,null,"",{"$f":"IF(G26=\"\",\"\",G26)","v":""},"","LL",{"$f":"IF(G145=\"\",\"\",SUMIFS(打撃データー!$AK$6:$AK$500,打撃データー!$AG$6:$AG$500,F145,打撃データー!$AI$6:$AI$500,H145,打撃データー!$AJ$6:$AJ$500,打撃成績!I145))","v":""},{"$f":"IF(G145=\"\",\"\",SUMIFS(打撃データー!$AL$6:$AL$500,打撃データー!$AG$6:$AG$500,F145,打撃データー!$AI$6:$AI$500,H145,打撃データー!$AJ$6:$AJ$500,打撃成績!I145))","v":""},{"$f":"IF(G145=\"\",\"\",SUMIFS(打撃データー!$AM$6:$AM$500,打撃データー!$AG$6:$AG$500,F145,打撃データー!$AI$6:$AI$500,H145,打撃データー!$AJ$6:$AJ$500,打撃成績!I145))","v":""},{"$f":"IF(G145=\"\",\"\",SUMIFS(打撃データー!$AN$6:$AN$500,打撃データー!$AG$6:$AG$500,F145,打撃データー!$AI$6:$AI$500,H145,打撃データー!$AJ$6:$AJ$500,打撃成績!I145))","v":""},{"$f":"IF(G145=\"\",\"\",SUMIFS(打撃データー!$AO$6:$AO$500,打撃データー!$AG$6:$AG$500,F145,打撃データー!$AI$6:$AI$500,H145,打撃データー!$AJ$6:$AJ$500,打撃成績!I145))","v":""},{"$f":"IF(G145=\"\",\"\",SUMIFS(打撃データー!$AP$6:$AP$500,打撃データー!$AG$6:$AG$500,F145,打撃データー!$AI$6:$AI$500,H145,打撃データー!$AJ$6:$AJ$500,打撃成績!I145))","v":""},{"$f":"IF(G145=\"\",\"\",SUMIFS(打撃データー!$AQ$6:$AQ$500,打撃データー!$AG$6:$AG$500,F145,打撃データー!$AI$6:$AI$500,H145,打撃データー!$AJ$6:$AJ$500,打撃成績!I145))","v":""},{"$f":"IF(G145=\"\",\"\",SUMIFS(打撃データー!$AR$6:$AR$500,打撃データー!$AG$6:$AG$500,F145,打撃データー!$AI$6:$AI$500,H145,打撃データー!$AJ$6:$AJ$500,打撃成績!I145))","v":""},{"$f":"IF(G145=\"\",\"\",SUMIFS(打撃データー!$AS$6:$AS$500,打撃データー!$AG$6:$AG$500,F145,打撃データー!$AI$6:$AI$500,H145,打撃データー!$AJ$6:$AJ$500,打撃成績!I145))","v":""},{"$f":"IF(G145=\"\",\"\",SUMIFS(打撃データー!$AT$6:$AT$500,打撃データー!$AG$6:$AG$500,F145,打撃データー!$AI$6:$AI$500,H145,打撃データー!$AJ$6:$AJ$500,打撃成績!I145))","v":""},{"$f":"IF(G145=\"\",\"\",SUMIFS(打撃データー!$AU$6:$AU$500,打撃データー!$AG$6:$AG$500,F145,打撃データー!$AI$6:$AI$500,H145,打撃データー!$AJ$6:$AJ$500,打撃成績!I145))","v":""},{"$f":"IF(G145=\"\",\"\",SUMIFS(打撃データー!$AV$6:$AV$500,打撃データー!$AG$6:$AG$500,F145,打撃データー!$AI$6:$AI$500,H145,打撃データー!$AJ$6:$AJ$500,打撃成績!I145))","v":""},{"$f":"IF(G145=\"\",\"\",SUMIFS(打撃データー!$AW$6:$AW$500,打撃データー!$AG$6:$AG$500,F145,打撃データー!$AI$6:$AI$500,H145,打撃データー!$AJ$6:$AJ$500,打撃成績!I145))","v":""},{"$f":"IF(G145=\"\",\"\",SUMIFS(打撃データー!$AX$6:$AX$500,打撃データー!$AG$6:$AG$500,F145,打撃データー!$AI$6:$AI$500,H145,打撃データー!$AJ$6:$AJ$500,打撃成績!I145))","v":""},{"$f":"IF(G145=\"\",\"\",SUMIFS(打撃データー!$AY$6:$AY$500,打撃データー!$AG$6:$AG$500,F145,打撃データー!$AI$6:$AI$500,H145,打撃データー!$AJ$6:$AJ$500,打撃成績!I145))","v":""},{"$f":"IF(G145=\"\",\"\",SUMIFS(打撃データー!$AZ$6:$AZ$500,打撃データー!$AG$6:$AG$500,F145,打撃データー!$AI$6:$AI$500,H145,打撃データー!$AJ$6:$AJ$500,打撃成績!I145))","v":""},{"$f":"IF(G145=\"\",\"\",SUMIFS(打撃データー!$BA$6:$BA$500,打撃データー!$AG$6:$AG$500,F145,打撃データー!$AI$6:$AI$500,H145,打撃データー!$AJ$6:$AJ$500,打撃成績!I145))","v":""},{"$f":"IF(G145=\"\",\"\",SUMIFS(打撃データー!$BB$6:$BB$500,打撃データー!$AG$6:$AG$500,F145,打撃データー!$AI$6:$AI$500,H145,打撃データー!$AJ$6:$AJ$500,打撃成績!I145))","v":""},{"$f":"IF(G145=\"\",\"\",SUMIFS(打撃データー!$BC$6:$BC$500,打撃データー!$AG$6:$AG$500,F145,打撃データー!$AI$6:$AI$500,H145,打撃データー!$AJ$6:$AJ$500,打撃成績!I145))","v":""},{"$f":"IF(G145=\"\",\"\",SUMIFS(打撃データー!$BD$6:$BD$500,打撃データー!$AG$6:$AG$500,F145,打撃データー!$AI$6:$AI$500,H145,打撃データー!$AJ$6:$AJ$500,打撃成績!I145))","v":""},{"$f":"IF(G145=\"\",\"\",SUMIFS(打撃データー!$BE$6:$BE$500,打撃データー!$AG$6:$AG$500,F145,打撃データー!$AI$6:$AI$500,H145,打撃データー!$AJ$6:$AJ$500,打撃成績!I145))","v":""},{"$f":"IF(G145=\"\",\"\",SUMIFS(打撃データー!$BF$6:$BF$500,打撃データー!$AG$6:$AG$500,F145,打撃データー!$AI$6:$AI$500,H145,打撃データー!$AJ$6:$AJ$500,打撃成績!I145))","v":""},null,"","","","",""]
[null,null,null,null,null,"",{"$f":"IF(G27=\"\",\"\",G27)","v":""},"","LL",{"$f":"IF(G146=\"\",\"\",SUMIFS(打撃データー!$AK$6:$AK$500,打撃データー!$AG$6:$AG$500,F146,打撃データー!$AI$6:$AI$500,H146,打撃データー!$AJ$6:$AJ$500,打撃成績!I146))","v":""},{"$f":"IF(G146=\"\",\"\",SUMIFS(打撃データー!$AL$6:$AL$500,打撃データー!$AG$6:$AG$500,F146,打撃データー!$AI$6:$AI$500,H146,打撃データー!$AJ$6:$AJ$500,打撃成績!I146))","v":""},{"$f":"IF(G146=\"\",\"\",SUMIFS(打撃データー!$AM$6:$AM$500,打撃データー!$AG$6:$AG$500,F146,打撃データー!$AI$6:$AI$500,H146,打撃データー!$AJ$6:$AJ$500,打撃成績!I146))","v":""},{"$f":"IF(G146=\"\",\"\",SUMIFS(打撃データー!$AN$6:$AN$500,打撃データー!$AG$6:$AG$500,F146,打撃データー!$AI$6:$AI$500,H146,打撃データー!$AJ$6:$AJ$500,打撃成績!I146))","v":""},{"$f":"IF(G146=\"\",\"\",SUMIFS(打撃データー!$AO$6:$AO$500,打撃データー!$AG$6:$AG$500,F146,打撃データー!$AI$6:$AI$500,H146,打撃データー!$AJ$6:$AJ$500,打撃成績!I146))","v":""},{"$f":"IF(G146=\"\",\"\",SUMIFS(打撃データー!$AP$6:$AP$500,打撃データー!$AG$6:$AG$500,F146,打撃データー!$AI$6:$AI$500,H146,打撃データー!$AJ$6:$AJ$500,打撃成績!I146))","v":""},{"$f":"IF(G146=\"\",\"\",SUMIFS(打撃データー!$AQ$6:$AQ$500,打撃データー!$AG$6:$AG$500,F146,打撃データー!$AI$6:$AI$500,H146,打撃データー!$AJ$6:$AJ$500,打撃成績!I146))","v":""},{"$f":"IF(G146=\"\",\"\",SUMIFS(打撃データー!$AR$6:$AR$500,打撃データー!$AG$6:$AG$500,F146,打撃データー!$AI$6:$AI$500,H146,打撃データー!$AJ$6:$AJ$500,打撃成績!I146))","v":""},{"$f":"IF(G146=\"\",\"\",SUMIFS(打撃データー!$AS$6:$AS$500,打撃データー!$AG$6:$AG$500,F146,打撃データー!$AI$6:$AI$500,H146,打撃データー!$AJ$6:$AJ$500,打撃成績!I146))","v":""},{"$f":"IF(G146=\"\",\"\",SUMIFS(打撃データー!$AT$6:$AT$500,打撃データー!$AG$6:$AG$500,F146,打撃データー!$AI$6:$AI$500,H146,打撃データー!$AJ$6:$AJ$500,打撃成績!I146))","v":""},{"$f":"IF(G146=\"\",\"\",SUMIFS(打撃データー!$AU$6:$AU$500,打撃データー!$AG$6:$AG$500,F146,打撃データー!$AI$6:$AI$500,H146,打撃データー!$AJ$6:$AJ$500,打撃成績!I146))","v":""},{"$f":"IF(G146=\"\",\"\",SUMIFS(打撃データー!$AV$6:$AV$500,打撃データー!$AG$6:$AG$500,F146,打撃データー!$AI$6:$AI$500,H146,打撃データー!$AJ$6:$AJ$500,打撃成績!I146))","v":""},{"$f":"IF(G146=\"\",\"\",SUMIFS(打撃データー!$AW$6:$AW$500,打撃データー!$AG$6:$AG$500,F146,打撃データー!$AI$6:$AI$500,H146,打撃データー!$AJ$6:$AJ$500,打撃成績!I146))","v":""},{"$f":"IF(G146=\"\",\"\",SUMIFS(打撃データー!$AX$6:$AX$500,打撃データー!$AG$6:$AG$500,F146,打撃データー!$AI$6:$AI$500,H146,打撃データー!$AJ$6:$AJ$500,打撃成績!I146))","v":""},{"$f":"IF(G146=\"\",\"\",SUMIFS(打撃データー!$AY$6:$AY$500,打撃データー!$AG$6:$AG$500,F146,打撃データー!$AI$6:$AI$500,H146,打撃データー!$AJ$6:$AJ$500,打撃成績!I146))","v":""},{"$f":"IF(G146=\"\",\"\",SUMIFS(打撃データー!$AZ$6:$AZ$500,打撃データー!$AG$6:$AG$500,F146,打撃データー!$AI$6:$AI$500,H146,打撃データー!$AJ$6:$AJ$500,打撃成績!I146))","v":""},{"$f":"IF(G146=\"\",\"\",SUMIFS(打撃データー!$BA$6:$BA$500,打撃データー!$AG$6:$AG$500,F146,打撃データー!$AI$6:$AI$500,H146,打撃データー!$AJ$6:$AJ$500,打撃成績!I146))","v":""},{"$f":"IF(G146=\"\",\"\",SUMIFS(打撃データー!$BB$6:$BB$500,打撃データー!$AG$6:$AG$500,F146,打撃データー!$AI$6:$AI$500,H146,打撃データー!$AJ$6:$AJ$500,打撃成績!I146))","v":""},{"$f":"IF(G146=\"\",\"\",SUMIFS(打撃データー!$BC$6:$BC$500,打撃データー!$AG$6:$AG$500,F146,打撃データー!$AI$6:$AI$500,H146,打撃データー!$AJ$6:$AJ$500,打撃成績!I146))","v":""},{"$f":"IF(G146=\"\",\"\",SUMIFS(打撃データー!$BD$6:$BD$500,打撃データー!$AG$6:$AG$500,F146,打撃データー!$AI$6:$AI$500,H146,打撃データー!$AJ$6:$AJ$500,打撃成績!I146))","v":""},{"$f":"IF(G146=\"\",\"\",SUMIFS(打撃データー!$BE$6:$BE$500,打撃データー!$AG$6:$AG$500,F146,打撃データー!$AI$6:$AI$500,H146,打撃データー!$AJ$6:$AJ$500,打撃成績!I146))","v":""},{"$f":"IF(G146=\"\",\"\",SUMIFS(打撃データー!$BF$6:$BF$500,打撃データー!$AG$6:$AG$500,F146,打撃データー!$AI$6:$AI$500,H146,打撃データー!$AJ$6:$AJ$500,打撃成績!I146))","v":""},null,"","","","",""]
[null,null,null,null,null,"",{"$f":"IF(G28=\"\",\"\",G28)","v":""},"","LL",{"$f":"IF(G147=\"\",\"\",SUMIFS(打撃データー!$AK$6:$AK$500,打撃データー!$AG$6:$AG$500,F147,打撃データー!$AI$6:$AI$500,H147,打撃データー!$AJ$6:$AJ$500,打撃成績!I147))","v":""},{"$f":"IF(G147=\"\",\"\",SUMIFS(打撃データー!$AL$6:$AL$500,打撃データー!$AG$6:$AG$500,F147,打撃データー!$AI$6:$AI$500,H147,打撃データー!$AJ$6:$AJ$500,打撃成績!I147))","v":""},{"$f":"IF(G147=\"\",\"\",SUMIFS(打撃データー!$AM$6:$AM$500,打撃データー!$AG$6:$AG$500,F147,打撃データー!$AI$6:$AI$500,H147,打撃データー!$AJ$6:$AJ$500,打撃成績!I147))","v":""},{"$f":"IF(G147=\"\",\"\",SUMIFS(打撃データー!$AN$6:$AN$500,打撃データー!$AG$6:$AG$500,F147,打撃データー!$AI$6:$AI$500,H147,打撃データー!$AJ$6:$AJ$500,打撃成績!I147))","v":""},{"$f":"IF(G147=\"\",\"\",SUMIFS(打撃データー!$AO$6:$AO$500,打撃データー!$AG$6:$AG$500,F147,打撃データー!$AI$6:$AI$500,H147,打撃データー!$AJ$6:$AJ$500,打撃成績!I147))","v":""},{"$f":"IF(G147=\"\",\"\",SUMIFS(打撃データー!$AP$6:$AP$500,打撃データー!$AG$6:$AG$500,F147,打撃データー!$AI$6:$AI$500,H147,打撃データー!$AJ$6:$AJ$500,打撃成績!I147))","v":""},{"$f":"IF(G147=\"\",\"\",SUMIFS(打撃データー!$AQ$6:$AQ$500,打撃データー!$AG$6:$AG$500,F147,打撃データー!$AI$6:$AI$500,H147,打撃データー!$AJ$6:$AJ$500,打撃成績!I147))","v":""},{"$f":"IF(G147=\"\",\"\",SUMIFS(打撃データー!$AR$6:$AR$500,打撃データー!$AG$6:$AG$500,F147,打撃データー!$AI$6:$AI$500,H147,打撃データー!$AJ$6:$AJ$500,打撃成績!I147))","v":""},{"$f":"IF(G147=\"\",\"\",SUMIFS(打撃データー!$AS$6:$AS$500,打撃データー!$AG$6:$AG$500,F147,打撃データー!$AI$6:$AI$500,H147,打撃データー!$AJ$6:$AJ$500,打撃成績!I147))","v":""},{"$f":"IF(G147=\"\",\"\",SUMIFS(打撃データー!$AT$6:$AT$500,打撃データー!$AG$6:$AG$500,F147,打撃データー!$AI$6:$AI$500,H147,打撃データー!$AJ$6:$AJ$500,打撃成績!I147))","v":""},{"$f":"IF(G147=\"\",\"\",SUMIFS(打撃データー!$AU$6:$AU$500,打撃データー!$AG$6:$AG$500,F147,打撃データー!$AI$6:$AI$500,H147,打撃データー!$AJ$6:$AJ$500,打撃成績!I147))","v":""},{"$f":"IF(G147=\"\",\"\",SUMIFS(打撃データー!$AV$6:$AV$500,打撃データー!$AG$6:$AG$500,F147,打撃データー!$AI$6:$AI$500,H147,打撃データー!$AJ$6:$AJ$500,打撃成績!I147))","v":""},{"$f":"IF(G147=\"\",\"\",SUMIFS(打撃データー!$AW$6:$AW$500,打撃データー!$AG$6:$AG$500,F147,打撃データー!$AI$6:$AI$500,H147,打撃データー!$AJ$6:$AJ$500,打撃成績!I147))","v":""},{"$f":"IF(G147=\"\",\"\",SUMIFS(打撃データー!$AX$6:$AX$500,打撃データー!$AG$6:$AG$500,F147,打撃データー!$AI$6:$AI$500,H147,打撃データー!$AJ$6:$AJ$500,打撃成績!I147))","v":""},{"$f":"IF(G147=\"\",\"\",SUMIFS(打撃データー!$AY$6:$AY$500,打撃データー!$AG$6:$AG$500,F147,打撃データー!$AI$6:$AI$500,H147,打撃データー!$AJ$6:$AJ$500,打撃成績!I147))","v":""},{"$f":"IF(G147=\"\",\"\",SUMIFS(打撃データー!$AZ$6:$AZ$500,打撃データー!$AG$6:$AG$500,F147,打撃データー!$AI$6:$AI$500,H147,打撃データー!$AJ$6:$AJ$500,打撃成績!I147))","v":""},{"$f":"IF(G147=\"\",\"\",SUMIFS(打撃データー!$BA$6:$BA$500,打撃データー!$AG$6:$AG$500,F147,打撃データー!$AI$6:$AI$500,H147,打撃データー!$AJ$6:$AJ$500,打撃成績!I147))","v":""},{"$f":"IF(G147=\"\",\"\",SUMIFS(打撃データー!$BB$6:$BB$500,打撃データー!$AG$6:$AG$500,F147,打撃データー!$AI$6:$AI$500,H147,打撃データー!$AJ$6:$AJ$500,打撃成績!I147))","v":""},{"$f":"IF(G147=\"\",\"\",SUMIFS(打撃データー!$BC$6:$BC$500,打撃データー!$AG$6:$AG$500,F147,打撃データー!$AI$6:$AI$500,H147,打撃データー!$AJ$6:$AJ$500,打撃成績!I147))","v":""},{"$f":"IF(G147=\"\",\"\",SUMIFS(打撃データー!$BD$6:$BD$500,打撃データー!$AG$6:$AG$500,F147,打撃データー!$AI$6:$AI$500,H147,打撃データー!$AJ$6:$AJ$500,打撃成績!I147))","v":""},{"$f":"IF(G147=\"\",\"\",SUMIFS(打撃データー!$BE$6:$BE$500,打撃データー!$AG$6:$AG$500,F147,打撃データー!$AI$6:$AI$500,H147,打撃データー!$AJ$6:$AJ$500,打撃成績!I147))","v":""},{"$f":"IF(G147=\"\",\"\",SUMIFS(打撃データー!$BF$6:$BF$500,打撃データー!$AG$6:$AG$500,F147,打撃データー!$AI$6:$AI$500,H147,打撃データー!$AJ$6:$AJ$500,打撃成績!I147))","v":""},null,"","","","",""]
[null,null,null,null,null,"",{"$f":"IF(G29=\"\",\"\",G29)","v":""},"","LL",{"$f":"IF(G148=\"\",\"\",SUMIFS(打撃データー!$AK$6:$AK$500,打撃データー!$AG$6:$AG$500,F148,打撃データー!$AI$6:$AI$500,H148,打撃データー!$AJ$6:$AJ$500,打撃成績!I148))","v":""},{"$f":"IF(G148=\"\",\"\",SUMIFS(打撃データー!$AL$6:$AL$500,打撃データー!$AG$6:$AG$500,F148,打撃データー!$AI$6:$AI$500,H148,打撃データー!$AJ$6:$AJ$500,打撃成績!I148))","v":""},{"$f":"IF(G148=\"\",\"\",SUMIFS(打撃データー!$AM$6:$AM$500,打撃データー!$AG$6:$AG$500,F148,打撃データー!$AI$6:$AI$500,H148,打撃データー!$AJ$6:$AJ$500,打撃成績!I148))","v":""},{"$f":"IF(G148=\"\",\"\",SUMIFS(打撃データー!$AN$6:$AN$500,打撃データー!$AG$6:$AG$500,F148,打撃データー!$AI$6:$AI$500,H148,打撃データー!$AJ$6:$AJ$500,打撃成績!I148))","v":""},{"$f":"IF(G148=\"\",\"\",SUMIFS(打撃データー!$AO$6:$AO$500,打撃データー!$AG$6:$AG$500,F148,打撃データー!$AI$6:$AI$500,H148,打撃データー!$AJ$6:$AJ$500,打撃成績!I148))","v":""},{"$f":"IF(G148=\"\",\"\",SUMIFS(打撃データー!$AP$6:$AP$500,打撃データー!$AG$6:$AG$500,F148,打撃データー!$AI$6:$AI$500,H148,打撃データー!$AJ$6:$AJ$500,打撃成績!I148))","v":""},{"$f":"IF(G148=\"\",\"\",SUMIFS(打撃データー!$AQ$6:$AQ$500,打撃データー!$AG$6:$AG$500,F148,打撃データー!$AI$6:$AI$500,H148,打撃データー!$AJ$6:$AJ$500,打撃成績!I148))","v":""},{"$f":"IF(G148=\"\",\"\",SUMIFS(打撃データー!$AR$6:$AR$500,打撃データー!$AG$6:$AG$500,F148,打撃データー!$AI$6:$AI$500,H148,打撃データー!$AJ$6:$AJ$500,打撃成績!I148))","v":""},{"$f":"IF(G148=\"\",\"\",SUMIFS(打撃データー!$AS$6:$AS$500,打撃データー!$AG$6:$AG$500,F148,打撃データー!$AI$6:$AI$500,H148,打撃データー!$AJ$6:$AJ$500,打撃成績!I148))","v":""},{"$f":"IF(G148=\"\",\"\",SUMIFS(打撃データー!$AT$6:$AT$500,打撃データー!$AG$6:$AG$500,F148,打撃データー!$AI$6:$AI$500,H148,打撃データー!$AJ$6:$AJ$500,打撃成績!I148))","v":""},{"$f":"IF(G148=\"\",\"\",SUMIFS(打撃データー!$AU$6:$AU$500,打撃データー!$AG$6:$AG$500,F148,打撃データー!$AI$6:$AI$500,H148,打撃データー!$AJ$6:$AJ$500,打撃成績!I148))","v":""},{"$f":"IF(G148=\"\",\"\",SUMIFS(打撃データー!$AV$6:$AV$500,打撃データー!$AG$6:$AG$500,F148,打撃データー!$AI$6:$AI$500,H148,打撃データー!$AJ$6:$AJ$500,打撃成績!I148))","v":""},{"$f":"IF(G148=\"\",\"\",SUMIFS(打撃データー!$AW$6:$AW$500,打撃データー!$AG$6:$AG$500,F148,打撃データー!$AI$6:$AI$500,H148,打撃データー!$AJ$6:$AJ$500,打撃成績!I148))","v":""},{"$f":"IF(G148=\"\",\"\",SUMIFS(打撃データー!$AX$6:$AX$500,打撃データー!$AG$6:$AG$500,F148,打撃データー!$AI$6:$AI$500,H148,打撃データー!$AJ$6:$AJ$500,打撃成績!I148))","v":""},{"$f":"IF(G148=\"\",\"\",SUMIFS(打撃データー!$AY$6:$AY$500,打撃データー!$AG$6:$AG$500,F148,打撃データー!$AI$6:$AI$500,H148,打撃データー!$AJ$6:$AJ$500,打撃成績!I148))","v":""},{"$f":"IF(G148=\"\",\"\",SUMIFS(打撃データー!$AZ$6:$AZ$500,打撃データー!$AG$6:$AG$500,F148,打撃データー!$AI$6:$AI$500,H148,打撃データー!$AJ$6:$AJ$500,打撃成績!I148))","v":""},{"$f":"IF(G148=\"\",\"\",SUMIFS(打撃データー!$BA$6:$BA$500,打撃データー!$AG$6:$AG$500,F148,打撃データー!$AI$6:$AI$500,H148,打撃データー!$AJ$6:$AJ$500,打撃成績!I148))","v":""},{"$f":"IF(G148=\"\",\"\",SUMIFS(打撃データー!$BB$6:$BB$500,打撃データー!$AG$6:$AG$500,F148,打撃データー!$AI$6:$AI$500,H148,打撃データー!$AJ$6:$AJ$500,打撃成績!I148))","v":""},{"$f":"IF(G148=\"\",\"\",SUMIFS(打撃データー!$BC$6:$BC$500,打撃データー!$AG$6:$AG$500,F148,打撃データー!$AI$6:$AI$500,H148,打撃データー!$AJ$6:$AJ$500,打撃成績!I148))","v":""},{"$f":"IF(G148=\"\",\"\",SUMIFS(打撃データー!$BD$6:$BD$500,打撃データー!$AG$6:$AG$500,F148,打撃データー!$AI$6:$AI$500,H148,打撃データー!$AJ$6:$AJ$500,打撃成績!I148))","v":""},{"$f":"IF(G148=\"\",\"\",SUMIFS(打撃データー!$BE$6:$BE$500,打撃データー!$AG$6:$AG$500,F148,打撃データー!$AI$6:$AI$500,H148,打撃データー!$AJ$6:$AJ$500,打撃成績!I148))","v":""},{"$f":"IF(G148=\"\",\"\",SUMIFS(打撃データー!$BF$6:$BF$500,打撃データー!$AG$6:$AG$500,F148,打撃データー!$AI$6:$AI$500,H148,打撃データー!$AJ$6:$AJ$500,打撃成績!I148))","v":""},null,"","","","",""]
[null,null,null,null,null,"",{"$f":"IF(G30=\"\",\"\",G30)","v":""},"","LL",{"$f":"IF(G149=\"\",\"\",SUMIFS(打撃データー!$AK$6:$AK$500,打撃データー!$AG$6:$AG$500,F149,打撃データー!$AI$6:$AI$500,H149,打撃データー!$AJ$6:$AJ$500,打撃成績!I149))","v":""},{"$f":"IF(G149=\"\",\"\",SUMIFS(打撃データー!$AL$6:$AL$500,打撃データー!$AG$6:$AG$500,F149,打撃データー!$AI$6:$AI$500,H149,打撃データー!$AJ$6:$AJ$500,打撃成績!I149))","v":""},{"$f":"IF(G149=\"\",\"\",SUMIFS(打撃データー!$AM$6:$AM$500,打撃データー!$AG$6:$AG$500,F149,打撃データー!$AI$6:$AI$500,H149,打撃データー!$AJ$6:$AJ$500,打撃成績!I149))","v":""},{"$f":"IF(G149=\"\",\"\",SUMIFS(打撃データー!$AN$6:$AN$500,打撃データー!$AG$6:$AG$500,F149,打撃データー!$AI$6:$AI$500,H149,打撃データー!$AJ$6:$AJ$500,打撃成績!I149))","v":""},{"$f":"IF(G149=\"\",\"\",SUMIFS(打撃データー!$AO$6:$AO$500,打撃データー!$AG$6:$AG$500,F149,打撃データー!$AI$6:$AI$500,H149,打撃データー!$AJ$6:$AJ$500,打撃成績!I149))","v":""},{"$f":"IF(G149=\"\",\"\",SUMIFS(打撃データー!$AP$6:$AP$500,打撃データー!$AG$6:$AG$500,F149,打撃データー!$AI$6:$AI$500,H149,打撃データー!$AJ$6:$AJ$500,打撃成績!I149))","v":""},{"$f":"IF(G149=\"\",\"\",SUMIFS(打撃データー!$AQ$6:$AQ$500,打撃データー!$AG$6:$AG$500,F149,打撃データー!$AI$6:$AI$500,H149,打撃データー!$AJ$6:$AJ$500,打撃成績!I149))","v":""},{"$f":"IF(G149=\"\",\"\",SUMIFS(打撃データー!$AR$6:$AR$500,打撃データー!$AG$6:$AG$500,F149,打撃データー!$AI$6:$AI$500,H149,打撃データー!$AJ$6:$AJ$500,打撃成績!I149))","v":""},{"$f":"IF(G149=\"\",\"\",SUMIFS(打撃データー!$AS$6:$AS$500,打撃データー!$AG$6:$AG$500,F149,打撃データー!$AI$6:$AI$500,H149,打撃データー!$AJ$6:$AJ$500,打撃成績!I149))","v":""},{"$f":"IF(G149=\"\",\"\",SUMIFS(打撃データー!$AT$6:$AT$500,打撃データー!$AG$6:$AG$500,F149,打撃データー!$AI$6:$AI$500,H149,打撃データー!$AJ$6:$AJ$500,打撃成績!I149))","v":""},{"$f":"IF(G149=\"\",\"\",SUMIFS(打撃データー!$AU$6:$AU$500,打撃データー!$AG$6:$AG$500,F149,打撃データー!$AI$6:$AI$500,H149,打撃データー!$AJ$6:$AJ$500,打撃成績!I149))","v":""},{"$f":"IF(G149=\"\",\"\",SUMIFS(打撃データー!$AV$6:$AV$500,打撃データー!$AG$6:$AG$500,F149,打撃データー!$AI$6:$AI$500,H149,打撃データー!$AJ$6:$AJ$500,打撃成績!I149))","v":""},{"$f":"IF(G149=\"\",\"\",SUMIFS(打撃データー!$AW$6:$AW$500,打撃データー!$AG$6:$AG$500,F149,打撃データー!$AI$6:$AI$500,H149,打撃データー!$AJ$6:$AJ$500,打撃成績!I149))","v":""},{"$f":"IF(G149=\"\",\"\",SUMIFS(打撃データー!$AX$6:$AX$500,打撃データー!$AG$6:$AG$500,F149,打撃データー!$AI$6:$AI$500,H149,打撃データー!$AJ$6:$AJ$500,打撃成績!I149))","v":""},{"$f":"IF(G149=\"\",\"\",SUMIFS(打撃データー!$AY$6:$AY$500,打撃データー!$AG$6:$AG$500,F149,打撃データー!$AI$6:$AI$500,H149,打撃データー!$AJ$6:$AJ$500,打撃成績!I149))","v":""},{"$f":"IF(G149=\"\",\"\",SUMIFS(打撃データー!$AZ$6:$AZ$500,打撃データー!$AG$6:$AG$500,F149,打撃データー!$AI$6:$AI$500,H149,打撃データー!$AJ$6:$AJ$500,打撃成績!I149))","v":""},{"$f":"IF(G149=\"\",\"\",SUMIFS(打撃データー!$BA$6:$BA$500,打撃データー!$AG$6:$AG$500,F149,打撃データー!$AI$6:$AI$500,H149,打撃データー!$AJ$6:$AJ$500,打撃成績!I149))","v":""},{"$f":"IF(G149=\"\",\"\",SUMIFS(打撃データー!$BB$6:$BB$500,打撃データー!$AG$6:$AG$500,F149,打撃データー!$AI$6:$AI$500,H149,打撃データー!$AJ$6:$AJ$500,打撃成績!I149))","v":""},{"$f":"IF(G149=\"\",\"\",SUMIFS(打撃データー!$BC$6:$BC$500,打撃データー!$AG$6:$AG$500,F149,打撃データー!$AI$6:$AI$500,H149,打撃データー!$AJ$6:$AJ$500,打撃成績!I149))","v":""},{"$f":"IF(G149=\"\",\"\",SUMIFS(打撃データー!$BD$6:$BD$500,打撃データー!$AG$6:$AG$500,F149,打撃データー!$AI$6:$AI$500,H149,打撃データー!$AJ$6:$AJ$500,打撃成績!I149))","v":""},{"$f":"IF(G149=\"\",\"\",SUMIFS(打撃データー!$BE$6:$BE$500,打撃データー!$AG$6:$AG$500,F149,打撃データー!$AI$6:$AI$500,H149,打撃データー!$AJ$6:$AJ$500,打撃成績!I149))","v":""},{"$f":"IF(G149=\"\",\"\",SUMIFS(打撃データー!$BF$6:$BF$500,打撃データー!$AG$6:$AG$500,F149,打撃データー!$AI$6:$AI$500,H149,打撃データー!$AJ$6:$AJ$500,打撃成績!I149))","v":""},null,"","","","",""]
[null,null,null,null,null,"",{"$f":"IF(G31=\"\",\"\",G31)","v":""},"","LL",{"$f":"IF(G150=\"\",\"\",SUMIFS(打撃データー!$AK$6:$AK$500,打撃データー!$AG$6:$AG$500,F150,打撃データー!$AI$6:$AI$500,H150,打撃データー!$AJ$6:$AJ$500,打撃成績!I150))","v":""},{"$f":"IF(G150=\"\",\"\",SUMIFS(打撃データー!$AL$6:$AL$500,打撃データー!$AG$6:$AG$500,F150,打撃データー!$AI$6:$AI$500,H150,打撃データー!$AJ$6:$AJ$500,打撃成績!I150))","v":""},{"$f":"IF(G150=\"\",\"\",SUMIFS(打撃データー!$AM$6:$AM$500,打撃データー!$AG$6:$AG$500,F150,打撃データー!$AI$6:$AI$500,H150,打撃データー!$AJ$6:$AJ$500,打撃成績!I150))","v":""},{"$f":"IF(G150=\"\",\"\",SUMIFS(打撃データー!$AN$6:$AN$500,打撃データー!$AG$6:$AG$500,F150,打撃データー!$AI$6:$AI$500,H150,打撃データー!$AJ$6:$AJ$500,打撃成績!I150))","v":""},{"$f":"IF(G150=\"\",\"\",SUMIFS(打撃データー!$AO$6:$AO$500,打撃データー!$AG$6:$AG$500,F150,打撃データー!$AI$6:$AI$500,H150,打撃データー!$AJ$6:$AJ$500,打撃成績!I150))","v":""},{"$f":"IF(G150=\"\",\"\",SUMIFS(打撃データー!$AP$6:$AP$500,打撃データー!$AG$6:$AG$500,F150,打撃データー!$AI$6:$AI$500,H150,打撃データー!$AJ$6:$AJ$500,打撃成績!I150))","v":""},{"$f":"IF(G150=\"\",\"\",SUMIFS(打撃データー!$AQ$6:$AQ$500,打撃データー!$AG$6:$AG$500,F150,打撃データー!$AI$6:$AI$500,H150,打撃データー!$AJ$6:$AJ$500,打撃成績!I150))","v":""},{"$f":"IF(G150=\"\",\"\",SUMIFS(打撃データー!$AR$6:$AR$500,打撃データー!$AG$6:$AG$500,F150,打撃データー!$AI$6:$AI$500,H150,打撃データー!$AJ$6:$AJ$500,打撃成績!I150))","v":""},{"$f":"IF(G150=\"\",\"\",SUMIFS(打撃データー!$AS$6:$AS$500,打撃データー!$AG$6:$AG$500,F150,打撃データー!$AI$6:$AI$500,H150,打撃データー!$AJ$6:$AJ$500,打撃成績!I150))","v":""},{"$f":"IF(G150=\"\",\"\",SUMIFS(打撃データー!$AT$6:$AT$500,打撃データー!$AG$6:$AG$500,F150,打撃データー!$AI$6:$AI$500,H150,打撃データー!$AJ$6:$AJ$500,打撃成績!I150))","v":""},{"$f":"IF(G150=\"\",\"\",SUMIFS(打撃データー!$AU$6:$AU$500,打撃データー!$AG$6:$AG$500,F150,打撃データー!$AI$6:$AI$500,H150,打撃データー!$AJ$6:$AJ$500,打撃成績!I150))","v":""},{"$f":"IF(G150=\"\",\"\",SUMIFS(打撃データー!$AV$6:$AV$500,打撃データー!$AG$6:$AG$500,F150,打撃データー!$AI$6:$AI$500,H150,打撃データー!$AJ$6:$AJ$500,打撃成績!I150))","v":""},{"$f":"IF(G150=\"\",\"\",SUMIFS(打撃データー!$AW$6:$AW$500,打撃データー!$AG$6:$AG$500,F150,打撃データー!$AI$6:$AI$500,H150,打撃データー!$AJ$6:$AJ$500,打撃成績!I150))","v":""},{"$f":"IF(G150=\"\",\"\",SUMIFS(打撃データー!$AX$6:$AX$500,打撃データー!$AG$6:$AG$500,F150,打撃データー!$AI$6:$AI$500,H150,打撃データー!$AJ$6:$AJ$500,打撃成績!I150))","v":""},{"$f":"IF(G150=\"\",\"\",SUMIFS(打撃データー!$AY$6:$AY$500,打撃データー!$AG$6:$AG$500,F150,打撃データー!$AI$6:$AI$500,H150,打撃データー!$AJ$6:$AJ$500,打撃成績!I150))","v":""},{"$f":"IF(G150=\"\",\"\",SUMIFS(打撃データー!$AZ$6:$AZ$500,打撃データー!$AG$6:$AG$500,F150,打撃データー!$AI$6:$AI$500,H150,打撃データー!$AJ$6:$AJ$500,打撃成績!I150))","v":""},{"$f":"IF(G150=\"\",\"\",SUMIFS(打撃データー!$BA$6:$BA$500,打撃データー!$AG$6:$AG$500,F150,打撃データー!$AI$6:$AI$500,H150,打撃データー!$AJ$6:$AJ$500,打撃成績!I150))","v":""},{"$f":"IF(G150=\"\",\"\",SUMIFS(打撃データー!$BB$6:$BB$500,打撃データー!$AG$6:$AG$500,F150,打撃データー!$AI$6:$AI$500,H150,打撃データー!$AJ$6:$AJ$500,打撃成績!I150))","v":""},{"$f":"IF(G150=\"\",\"\",SUMIFS(打撃データー!$BC$6:$BC$500,打撃データー!$AG$6:$AG$500,F150,打撃データー!$AI$6:$AI$500,H150,打撃データー!$AJ$6:$AJ$500,打撃成績!I150))","v":""},{"$f":"IF(G150=\"\",\"\",SUMIFS(打撃データー!$BD$6:$BD$500,打撃データー!$AG$6:$AG$500,F150,打撃データー!$AI$6:$AI$500,H150,打撃データー!$AJ$6:$AJ$500,打撃成績!I150))","v":""},{"$f":"IF(G150=\"\",\"\",SUMIFS(打撃データー!$BE$6:$BE$500,打撃データー!$AG$6:$AG$500,F150,打撃データー!$AI$6:$AI$500,H150,打撃データー!$AJ$6:$AJ$500,打撃成績!I150))","v":""},{"$f":"IF(G150=\"\",\"\",SUMIFS(打撃データー!$BF$6:$BF$500,打撃データー!$AG$6:$AG$500,F150,打撃データー!$AI$6:$AI$500,H150,打撃データー!$AJ$6:$AJ$500,打撃成績!I150))","v":""},null,"","","","",""]
[null,null,null,null,null,"",{"$f":"IF(G32=\"\",\"\",G32)","v":""},"","LL",{"$f":"IF(G151=\"\",\"\",SUMIFS(打撃データー!$AK$6:$AK$500,打撃データー!$AG$6:$AG$500,F151,打撃データー!$AI$6:$AI$500,H151,打撃データー!$AJ$6:$AJ$500,打撃成績!I151))","v":""},{"$f":"IF(G151=\"\",\"\",SUMIFS(打撃データー!$AL$6:$AL$500,打撃データー!$AG$6:$AG$500,F151,打撃データー!$AI$6:$AI$500,H151,打撃データー!$AJ$6:$AJ$500,打撃成績!I151))","v":""},{"$f":"IF(G151=\"\",\"\",SUMIFS(打撃データー!$AM$6:$AM$500,打撃データー!$AG$6:$AG$500,F151,打撃データー!$AI$6:$AI$500,H151,打撃データー!$AJ$6:$AJ$500,打撃成績!I151))","v":""},{"$f":"IF(G151=\"\",\"\",SUMIFS(打撃データー!$AN$6:$AN$500,打撃データー!$AG$6:$AG$500,F151,打撃データー!$AI$6:$AI$500,H151,打撃データー!$AJ$6:$AJ$500,打撃成績!I151))","v":""},{"$f":"IF(G151=\"\",\"\",SUMIFS(打撃データー!$AO$6:$AO$500,打撃データー!$AG$6:$AG$500,F151,打撃データー!$AI$6:$AI$500,H151,打撃データー!$AJ$6:$AJ$500,打撃成績!I151))","v":""},{"$f":"IF(G151=\"\",\"\",SUMIFS(打撃データー!$AP$6:$AP$500,打撃データー!$AG$6:$AG$500,F151,打撃データー!$AI$6:$AI$500,H151,打撃データー!$AJ$6:$AJ$500,打撃成績!I151))","v":""},{"$f":"IF(G151=\"\",\"\",SUMIFS(打撃データー!$AQ$6:$AQ$500,打撃データー!$AG$6:$AG$500,F151,打撃データー!$AI$6:$AI$500,H151,打撃データー!$AJ$6:$AJ$500,打撃成績!I151))","v":""},{"$f":"IF(G151=\"\",\"\",SUMIFS(打撃データー!$AR$6:$AR$500,打撃データー!$AG$6:$AG$500,F151,打撃データー!$AI$6:$AI$500,H151,打撃データー!$AJ$6:$AJ$500,打撃成績!I151))","v":""},{"$f":"IF(G151=\"\",\"\",SUMIFS(打撃データー!$AS$6:$AS$500,打撃データー!$AG$6:$AG$500,F151,打撃データー!$AI$6:$AI$500,H151,打撃データー!$AJ$6:$AJ$500,打撃成績!I151))","v":""},{"$f":"IF(G151=\"\",\"\",SUMIFS(打撃データー!$AT$6:$AT$500,打撃データー!$AG$6:$AG$500,F151,打撃データー!$AI$6:$AI$500,H151,打撃データー!$AJ$6:$AJ$500,打撃成績!I151))","v":""},{"$f":"IF(G151=\"\",\"\",SUMIFS(打撃データー!$AU$6:$AU$500,打撃データー!$AG$6:$AG$500,F151,打撃データー!$AI$6:$AI$500,H151,打撃データー!$AJ$6:$AJ$500,打撃成績!I151))","v":""},{"$f":"IF(G151=\"\",\"\",SUMIFS(打撃データー!$AV$6:$AV$500,打撃データー!$AG$6:$AG$500,F151,打撃データー!$AI$6:$AI$500,H151,打撃データー!$AJ$6:$AJ$500,打撃成績!I151))","v":""},{"$f":"IF(G151=\"\",\"\",SUMIFS(打撃データー!$AW$6:$AW$500,打撃データー!$AG$6:$AG$500,F151,打撃データー!$AI$6:$AI$500,H151,打撃データー!$AJ$6:$AJ$500,打撃成績!I151))","v":""},{"$f":"IF(G151=\"\",\"\",SUMIFS(打撃データー!$AX$6:$AX$500,打撃データー!$AG$6:$AG$500,F151,打撃データー!$AI$6:$AI$500,H151,打撃データー!$AJ$6:$AJ$500,打撃成績!I151))","v":""},{"$f":"IF(G151=\"\",\"\",SUMIFS(打撃データー!$AY$6:$AY$500,打撃データー!$AG$6:$AG$500,F151,打撃データー!$AI$6:$AI$500,H151,打撃データー!$AJ$6:$AJ$500,打撃成績!I151))","v":""},{"$f":"IF(G151=\"\",\"\",SUMIFS(打撃データー!$AZ$6:$AZ$500,打撃データー!$AG$6:$AG$500,F151,打撃データー!$AI$6:$AI$500,H151,打撃データー!$AJ$6:$AJ$500,打撃成績!I151))","v":""},{"$f":"IF(G151=\"\",\"\",SUMIFS(打撃データー!$BA$6:$BA$500,打撃データー!$AG$6:$AG$500,F151,打撃データー!$AI$6:$AI$500,H151,打撃データー!$AJ$6:$AJ$500,打撃成績!I151))","v":""},{"$f":"IF(G151=\"\",\"\",SUMIFS(打撃データー!$BB$6:$BB$500,打撃データー!$AG$6:$AG$500,F151,打撃データー!$AI$6:$AI$500,H151,打撃データー!$AJ$6:$AJ$500,打撃成績!I151))","v":""},{"$f":"IF(G151=\"\",\"\",SUMIFS(打撃データー!$BC$6:$BC$500,打撃データー!$AG$6:$AG$500,F151,打撃データー!$AI$6:$AI$500,H151,打撃データー!$AJ$6:$AJ$500,打撃成績!I151))","v":""},{"$f":"IF(G151=\"\",\"\",SUMIFS(打撃データー!$BD$6:$BD$500,打撃データー!$AG$6:$AG$500,F151,打撃データー!$AI$6:$AI$500,H151,打撃データー!$AJ$6:$AJ$500,打撃成績!I151))","v":""},{"$f":"IF(G151=\"\",\"\",SUMIFS(打撃データー!$BE$6:$BE$500,打撃データー!$AG$6:$AG$500,F151,打撃データー!$AI$6:$AI$500,H151,打撃データー!$AJ$6:$AJ$500,打撃成績!I151))","v":""},{"$f":"IF(G151=\"\",\"\",SUMIFS(打撃データー!$BF$6:$BF$500,打撃データー!$AG$6:$AG$500,F151,打撃データー!$AI$6:$AI$500,H151,打撃データー!$AJ$6:$AJ$500,打撃成績!I151))","v":""},null,"","","","",""]
[null,null,null,null,null,"",{"$f":"IF(G33=\"\",\"\",G33)","v":""},"","LL",{"$f":"IF(G152=\"\",\"\",SUMIFS(打撃データー!$AK$6:$AK$500,打撃データー!$AG$6:$AG$500,F152,打撃データー!$AI$6:$AI$500,H152,打撃データー!$AJ$6:$AJ$500,打撃成績!I152))","v":""},{"$f":"IF(G152=\"\",\"\",SUMIFS(打撃データー!$AL$6:$AL$500,打撃データー!$AG$6:$AG$500,F152,打撃データー!$AI$6:$AI$500,H152,打撃データー!$AJ$6:$AJ$500,打撃成績!I152))","v":""},{"$f":"IF(G152=\"\",\"\",SUMIFS(打撃データー!$AM$6:$AM$500,打撃データー!$AG$6:$AG$500,F152,打撃データー!$AI$6:$AI$500,H152,打撃データー!$AJ$6:$AJ$500,打撃成績!I152))","v":""},{"$f":"IF(G152=\"\",\"\",SUMIFS(打撃データー!$AN$6:$AN$500,打撃データー!$AG$6:$AG$500,F152,打撃データー!$AI$6:$AI$500,H152,打撃データー!$AJ$6:$AJ$500,打撃成績!I152))","v":""},{"$f":"IF(G152=\"\",\"\",SUMIFS(打撃データー!$AO$6:$AO$500,打撃データー!$AG$6:$AG$500,F152,打撃データー!$AI$6:$AI$500,H152,打撃データー!$AJ$6:$AJ$500,打撃成績!I152))","v":""},{"$f":"IF(G152=\"\",\"\",SUMIFS(打撃データー!$AP$6:$AP$500,打撃データー!$AG$6:$AG$500,F152,打撃データー!$AI$6:$AI$500,H152,打撃データー!$AJ$6:$AJ$500,打撃成績!I152))","v":""},{"$f":"IF(G152=\"\",\"\",SUMIFS(打撃データー!$AQ$6:$AQ$500,打撃データー!$AG$6:$AG$500,F152,打撃データー!$AI$6:$AI$500,H152,打撃データー!$AJ$6:$AJ$500,打撃成績!I152))","v":""},{"$f":"IF(G152=\"\",\"\",SUMIFS(打撃データー!$AR$6:$AR$500,打撃データー!$AG$6:$AG$500,F152,打撃データー!$AI$6:$AI$500,H152,打撃データー!$AJ$6:$AJ$500,打撃成績!I152))","v":""},{"$f":"IF(G152=\"\",\"\",SUMIFS(打撃データー!$AS$6:$AS$500,打撃データー!$AG$6:$AG$500,F152,打撃データー!$AI$6:$AI$500,H152,打撃データー!$AJ$6:$AJ$500,打撃成績!I152))","v":""},{"$f":"IF(G152=\"\",\"\",SUMIFS(打撃データー!$AT$6:$AT$500,打撃データー!$AG$6:$AG$500,F152,打撃データー!$AI$6:$AI$500,H152,打撃データー!$AJ$6:$AJ$500,打撃成績!I152))","v":""},{"$f":"IF(G152=\"\",\"\",SUMIFS(打撃データー!$AU$6:$AU$500,打撃データー!$AG$6:$AG$500,F152,打撃データー!$AI$6:$AI$500,H152,打撃データー!$AJ$6:$AJ$500,打撃成績!I152))","v":""},{"$f":"IF(G152=\"\",\"\",SUMIFS(打撃データー!$AV$6:$AV$500,打撃データー!$AG$6:$AG$500,F152,打撃データー!$AI$6:$AI$500,H152,打撃データー!$AJ$6:$AJ$500,打撃成績!I152))","v":""},{"$f":"IF(G152=\"\",\"\",SUMIFS(打撃データー!$AW$6:$AW$500,打撃データー!$AG$6:$AG$500,F152,打撃データー!$AI$6:$AI$500,H152,打撃データー!$AJ$6:$AJ$500,打撃成績!I152))","v":""},{"$f":"IF(G152=\"\",\"\",SUMIFS(打撃データー!$AX$6:$AX$500,打撃データー!$AG$6:$AG$500,F152,打撃データー!$AI$6:$AI$500,H152,打撃データー!$AJ$6:$AJ$500,打撃成績!I152))","v":""},{"$f":"IF(G152=\"\",\"\",SUMIFS(打撃データー!$AY$6:$AY$500,打撃データー!$AG$6:$AG$500,F152,打撃データー!$AI$6:$AI$500,H152,打撃データー!$AJ$6:$AJ$500,打撃成績!I152))","v":""},{"$f":"IF(G152=\"\",\"\",SUMIFS(打撃データー!$AZ$6:$AZ$500,打撃データー!$AG$6:$AG$500,F152,打撃データー!$AI$6:$AI$500,H152,打撃データー!$AJ$6:$AJ$500,打撃成績!I152))","v":""},{"$f":"IF(G152=\"\",\"\",SUMIFS(打撃データー!$BA$6:$BA$500,打撃データー!$AG$6:$AG$500,F152,打撃データー!$AI$6:$AI$500,H152,打撃データー!$AJ$6:$AJ$500,打撃成績!I152))","v":""},{"$f":"IF(G152=\"\",\"\",SUMIFS(打撃データー!$BB$6:$BB$500,打撃データー!$AG$6:$AG$500,F152,打撃データー!$AI$6:$AI$500,H152,打撃データー!$AJ$6:$AJ$500,打撃成績!I152))","v":""},{"$f":"IF(G152=\"\",\"\",SUMIFS(打撃データー!$BC$6:$BC$500,打撃データー!$AG$6:$AG$500,F152,打撃データー!$AI$6:$AI$500,H152,打撃データー!$AJ$6:$AJ$500,打撃成績!I152))","v":""},{"$f":"IF(G152=\"\",\"\",SUMIFS(打撃データー!$BD$6:$BD$500,打撃データー!$AG$6:$AG$500,F152,打撃データー!$AI$6:$AI$500,H152,打撃データー!$AJ$6:$AJ$500,打撃成績!I152))","v":""},{"$f":"IF(G152=\"\",\"\",SUMIFS(打撃データー!$BE$6:$BE$500,打撃データー!$AG$6:$AG$500,F152,打撃データー!$AI$6:$AI$500,H152,打撃データー!$AJ$6:$AJ$500,打撃成績!I152))","v":""},{"$f":"IF(G152=\"\",\"\",SUMIFS(打撃データー!$BF$6:$BF$500,打撃データー!$AG$6:$AG$500,F152,打撃データー!$AI$6:$AI$500,H152,打撃データー!$AJ$6:$AJ$500,打撃成績!I152))","v":""},null,"","","","",""]
[null,null,null,null,null,"",{"$f":"IF(G34=\"\",\"\",G34)","v":""},"","LL",{"$f":"IF(G153=\"\",\"\",SUMIFS(打撃データー!$AK$6:$AK$500,打撃データー!$AG$6:$AG$500,F153,打撃データー!$AI$6:$AI$500,H153,打撃データー!$AJ$6:$AJ$500,打撃成績!I153))","v":""},{"$f":"IF(G153=\"\",\"\",SUMIFS(打撃データー!$AL$6:$AL$500,打撃データー!$AG$6:$AG$500,F153,打撃データー!$AI$6:$AI$500,H153,打撃データー!$AJ$6:$AJ$500,打撃成績!I153))","v":""},{"$f":"IF(G153=\"\",\"\",SUMIFS(打撃データー!$AM$6:$AM$500,打撃データー!$AG$6:$AG$500,F153,打撃データー!$AI$6:$AI$500,H153,打撃データー!$AJ$6:$AJ$500,打撃成績!I153))","v":""},{"$f":"IF(G153=\"\",\"\",SUMIFS(打撃データー!$AN$6:$AN$500,打撃データー!$AG$6:$AG$500,F153,打撃データー!$AI$6:$AI$500,H153,打撃データー!$AJ$6:$AJ$500,打撃成績!I153))","v":""},{"$f":"IF(G153=\"\",\"\",SUMIFS(打撃データー!$AO$6:$AO$500,打撃データー!$AG$6:$AG$500,F153,打撃データー!$AI$6:$AI$500,H153,打撃データー!$AJ$6:$AJ$500,打撃成績!I153))","v":""},{"$f":"IF(G153=\"\",\"\",SUMIFS(打撃データー!$AP$6:$AP$500,打撃データー!$AG$6:$AG$500,F153,打撃データー!$AI$6:$AI$500,H153,打撃データー!$AJ$6:$AJ$500,打撃成績!I153))","v":""},{"$f":"IF(G153=\"\",\"\",SUMIFS(打撃データー!$AQ$6:$AQ$500,打撃データー!$AG$6:$AG$500,F153,打撃データー!$AI$6:$AI$500,H153,打撃データー!$AJ$6:$AJ$500,打撃成績!I153))","v":""},{"$f":"IF(G153=\"\",\"\",SUMIFS(打撃データー!$AR$6:$AR$500,打撃データー!$AG$6:$AG$500,F153,打撃データー!$AI$6:$AI$500,H153,打撃データー!$AJ$6:$AJ$500,打撃成績!I153))","v":""},{"$f":"IF(G153=\"\",\"\",SUMIFS(打撃データー!$AS$6:$AS$500,打撃データー!$AG$6:$AG$500,F153,打撃データー!$AI$6:$AI$500,H153,打撃データー!$AJ$6:$AJ$500,打撃成績!I153))","v":""},{"$f":"IF(G153=\"\",\"\",SUMIFS(打撃データー!$AT$6:$AT$500,打撃データー!$AG$6:$AG$500,F153,打撃データー!$AI$6:$AI$500,H153,打撃データー!$AJ$6:$AJ$500,打撃成績!I153))","v":""},{"$f":"IF(G153=\"\",\"\",SUMIFS(打撃データー!$AU$6:$AU$500,打撃データー!$AG$6:$AG$500,F153,打撃データー!$AI$6:$AI$500,H153,打撃データー!$AJ$6:$AJ$500,打撃成績!I153))","v":""},{"$f":"IF(G153=\"\",\"\",SUMIFS(打撃データー!$AV$6:$AV$500,打撃データー!$AG$6:$AG$500,F153,打撃データー!$AI$6:$AI$500,H153,打撃データー!$AJ$6:$AJ$500,打撃成績!I153))","v":""},{"$f":"IF(G153=\"\",\"\",SUMIFS(打撃データー!$AW$6:$AW$500,打撃データー!$AG$6:$AG$500,F153,打撃データー!$AI$6:$AI$500,H153,打撃データー!$AJ$6:$AJ$500,打撃成績!I153))","v":""},{"$f":"IF(G153=\"\",\"\",SUMIFS(打撃データー!$AX$6:$AX$500,打撃データー!$AG$6:$AG$500,F153,打撃データー!$AI$6:$AI$500,H153,打撃データー!$AJ$6:$AJ$500,打撃成績!I153))","v":""},{"$f":"IF(G153=\"\",\"\",SUMIFS(打撃データー!$AY$6:$AY$500,打撃データー!$AG$6:$AG$500,F153,打撃データー!$AI$6:$AI$500,H153,打撃データー!$AJ$6:$AJ$500,打撃成績!I153))","v":""},{"$f":"IF(G153=\"\",\"\",SUMIFS(打撃データー!$AZ$6:$AZ$500,打撃データー!$AG$6:$AG$500,F153,打撃データー!$AI$6:$AI$500,H153,打撃データー!$AJ$6:$AJ$500,打撃成績!I153))","v":""},{"$f":"IF(G153=\"\",\"\",SUMIFS(打撃データー!$BA$6:$BA$500,打撃データー!$AG$6:$AG$500,F153,打撃データー!$AI$6:$AI$500,H153,打撃データー!$AJ$6:$AJ$500,打撃成績!I153))","v":""},{"$f":"IF(G153=\"\",\"\",SUMIFS(打撃データー!$BB$6:$BB$500,打撃データー!$AG$6:$AG$500,F153,打撃データー!$AI$6:$AI$500,H153,打撃データー!$AJ$6:$AJ$500,打撃成績!I153))","v":""},{"$f":"IF(G153=\"\",\"\",SUMIFS(打撃データー!$BC$6:$BC$500,打撃データー!$AG$6:$AG$500,F153,打撃データー!$AI$6:$AI$500,H153,打撃データー!$AJ$6:$AJ$500,打撃成績!I153))","v":""},{"$f":"IF(G153=\"\",\"\",SUMIFS(打撃データー!$BD$6:$BD$500,打撃データー!$AG$6:$AG$500,F153,打撃データー!$AI$6:$AI$500,H153,打撃データー!$AJ$6:$AJ$500,打撃成績!I153))","v":""},{"$f":"IF(G153=\"\",\"\",SUMIFS(打撃データー!$BE$6:$BE$500,打撃データー!$AG$6:$AG$500,F153,打撃データー!$AI$6:$AI$500,H153,打撃データー!$AJ$6:$AJ$500,打撃成績!I153))","v":""},{"$f":"IF(G153=\"\",\"\",SUMIFS(打撃データー!$BF$6:$BF$500,打撃データー!$AG$6:$AG$500,F153,打撃データー!$AI$6:$AI$500,H153,打撃データー!$AJ$6:$AJ$500,打撃成績!I153))","v":""},null,"","","","",""]
[null,null,null,null,null,"",{"$f":"IF(G35=\"\",\"\",G35)","v":""},"","LL",{"$f":"IF(G154=\"\",\"\",SUMIFS(打撃データー!$AK$6:$AK$500,打撃データー!$AG$6:$AG$500,F154,打撃データー!$AI$6:$AI$500,H154,打撃データー!$AJ$6:$AJ$500,打撃成績!I154))","v":""},{"$f":"IF(G154=\"\",\"\",SUMIFS(打撃データー!$AL$6:$AL$500,打撃データー!$AG$6:$AG$500,F154,打撃データー!$AI$6:$AI$500,H154,打撃データー!$AJ$6:$AJ$500,打撃成績!I154))","v":""},{"$f":"IF(G154=\"\",\"\",SUMIFS(打撃データー!$AM$6:$AM$500,打撃データー!$AG$6:$AG$500,F154,打撃データー!$AI$6:$AI$500,H154,打撃データー!$AJ$6:$AJ$500,打撃成績!I154))","v":""},{"$f":"IF(G154=\"\",\"\",SUMIFS(打撃データー!$AN$6:$AN$500,打撃データー!$AG$6:$AG$500,F154,打撃データー!$AI$6:$AI$500,H154,打撃データー!$AJ$6:$AJ$500,打撃成績!I154))","v":""},{"$f":"IF(G154=\"\",\"\",SUMIFS(打撃データー!$AO$6:$AO$500,打撃データー!$AG$6:$AG$500,F154,打撃データー!$AI$6:$AI$500,H154,打撃データー!$AJ$6:$AJ$500,打撃成績!I154))","v":""},{"$f":"IF(G154=\"\",\"\",SUMIFS(打撃データー!$AP$6:$AP$500,打撃データー!$AG$6:$AG$500,F154,打撃データー!$AI$6:$AI$500,H154,打撃データー!$AJ$6:$AJ$500,打撃成績!I154))","v":""},{"$f":"IF(G154=\"\",\"\",SUMIFS(打撃データー!$AQ$6:$AQ$500,打撃データー!$AG$6:$AG$500,F154,打撃データー!$AI$6:$AI$500,H154,打撃データー!$AJ$6:$AJ$500,打撃成績!I154))","v":""},{"$f":"IF(G154=\"\",\"\",SUMIFS(打撃データー!$AR$6:$AR$500,打撃データー!$AG$6:$AG$500,F154,打撃データー!$AI$6:$AI$500,H154,打撃データー!$AJ$6:$AJ$500,打撃成績!I154))","v":""},{"$f":"IF(G154=\"\",\"\",SUMIFS(打撃データー!$AS$6:$AS$500,打撃データー!$AG$6:$AG$500,F154,打撃データー!$AI$6:$AI$500,H154,打撃データー!$AJ$6:$AJ$500,打撃成績!I154))","v":""},{"$f":"IF(G154=\"\",\"\",SUMIFS(打撃データー!$AT$6:$AT$500,打撃データー!$AG$6:$AG$500,F154,打撃データー!$AI$6:$AI$500,H154,打撃データー!$AJ$6:$AJ$500,打撃成績!I154))","v":""},{"$f":"IF(G154=\"\",\"\",SUMIFS(打撃データー!$AU$6:$AU$500,打撃データー!$AG$6:$AG$500,F154,打撃データー!$AI$6:$AI$500,H154,打撃データー!$AJ$6:$AJ$500,打撃成績!I154))","v":""},{"$f":"IF(G154=\"\",\"\",SUMIFS(打撃データー!$AV$6:$AV$500,打撃データー!$AG$6:$AG$500,F154,打撃データー!$AI$6:$AI$500,H154,打撃データー!$AJ$6:$AJ$500,打撃成績!I154))","v":""},{"$f":"IF(G154=\"\",\"\",SUMIFS(打撃データー!$AW$6:$AW$500,打撃データー!$AG$6:$AG$500,F154,打撃データー!$AI$6:$AI$500,H154,打撃データー!$AJ$6:$AJ$500,打撃成績!I154))","v":""},{"$f":"IF(G154=\"\",\"\",SUMIFS(打撃データー!$AX$6:$AX$500,打撃データー!$AG$6:$AG$500,F154,打撃データー!$AI$6:$AI$500,H154,打撃データー!$AJ$6:$AJ$500,打撃成績!I154))","v":""},{"$f":"IF(G154=\"\",\"\",SUMIFS(打撃データー!$AY$6:$AY$500,打撃データー!$AG$6:$AG$500,F154,打撃データー!$AI$6:$AI$500,H154,打撃データー!$AJ$6:$AJ$500,打撃成績!I154))","v":""},{"$f":"IF(G154=\"\",\"\",SUMIFS(打撃データー!$AZ$6:$AZ$500,打撃データー!$AG$6:$AG$500,F154,打撃データー!$AI$6:$AI$500,H154,打撃データー!$AJ$6:$AJ$500,打撃成績!I154))","v":""},{"$f":"IF(G154=\"\",\"\",SUMIFS(打撃データー!$BA$6:$BA$500,打撃データー!$AG$6:$AG$500,F154,打撃データー!$AI$6:$AI$500,H154,打撃データー!$AJ$6:$AJ$500,打撃成績!I154))","v":""},{"$f":"IF(G154=\"\",\"\",SUMIFS(打撃データー!$BB$6:$BB$500,打撃データー!$AG$6:$AG$500,F154,打撃データー!$AI$6:$AI$500,H154,打撃データー!$AJ$6:$AJ$500,打撃成績!I154))","v":""},{"$f":"IF(G154=\"\",\"\",SUMIFS(打撃データー!$BC$6:$BC$500,打撃データー!$AG$6:$AG$500,F154,打撃データー!$AI$6:$AI$500,H154,打撃データー!$AJ$6:$AJ$500,打撃成績!I154))","v":""},{"$f":"IF(G154=\"\",\"\",SUMIFS(打撃データー!$BD$6:$BD$500,打撃データー!$AG$6:$AG$500,F154,打撃データー!$AI$6:$AI$500,H154,打撃データー!$AJ$6:$AJ$500,打撃成績!I154))","v":""},{"$f":"IF(G154=\"\",\"\",SUMIFS(打撃データー!$BE$6:$BE$500,打撃データー!$AG$6:$AG$500,F154,打撃データー!$AI$6:$AI$500,H154,打撃データー!$AJ$6:$AJ$500,打撃成績!I154))","v":""},{"$f":"IF(G154=\"\",\"\",SUMIFS(打撃データー!$BF$6:$BF$500,打撃データー!$AG$6:$AG$500,F154,打撃データー!$AI$6:$AI$500,H154,打撃データー!$AJ$6:$AJ$500,打撃成績!I154))","v":""},null,"","","","",""]
[null,null,null,null,null,"",{"$f":"IF(G36=\"\",\"\",G36)","v":""},"","LL",{"$f":"IF(G155=\"\",\"\",SUMIFS(打撃データー!$AK$6:$AK$500,打撃データー!$AG$6:$AG$500,F155,打撃データー!$AI$6:$AI$500,H155,打撃データー!$AJ$6:$AJ$500,打撃成績!I155))","v":""},{"$f":"IF(G155=\"\",\"\",SUMIFS(打撃データー!$AL$6:$AL$500,打撃データー!$AG$6:$AG$500,F155,打撃データー!$AI$6:$AI$500,H155,打撃データー!$AJ$6:$AJ$500,打撃成績!I155))","v":""},{"$f":"IF(G155=\"\",\"\",SUMIFS(打撃データー!$AM$6:$AM$500,打撃データー!$AG$6:$AG$500,F155,打撃データー!$AI$6:$AI$500,H155,打撃データー!$AJ$6:$AJ$500,打撃成績!I155))","v":""},{"$f":"IF(G155=\"\",\"\",SUMIFS(打撃データー!$AN$6:$AN$500,打撃データー!$AG$6:$AG$500,F155,打撃データー!$AI$6:$AI$500,H155,打撃データー!$AJ$6:$AJ$500,打撃成績!I155))","v":""},{"$f":"IF(G155=\"\",\"\",SUMIFS(打撃データー!$AO$6:$AO$500,打撃データー!$AG$6:$AG$500,F155,打撃データー!$AI$6:$AI$500,H155,打撃データー!$AJ$6:$AJ$500,打撃成績!I155))","v":""},{"$f":"IF(G155=\"\",\"\",SUMIFS(打撃データー!$AP$6:$AP$500,打撃データー!$AG$6:$AG$500,F155,打撃データー!$AI$6:$AI$500,H155,打撃データー!$AJ$6:$AJ$500,打撃成績!I155))","v":""},{"$f":"IF(G155=\"\",\"\",SUMIFS(打撃データー!$AQ$6:$AQ$500,打撃データー!$AG$6:$AG$500,F155,打撃データー!$AI$6:$AI$500,H155,打撃データー!$AJ$6:$AJ$500,打撃成績!I155))","v":""},{"$f":"IF(G155=\"\",\"\",SUMIFS(打撃データー!$AR$6:$AR$500,打撃データー!$AG$6:$AG$500,F155,打撃データー!$AI$6:$AI$500,H155,打撃データー!$AJ$6:$AJ$500,打撃成績!I155))","v":""},{"$f":"IF(G155=\"\",\"\",SUMIFS(打撃データー!$AS$6:$AS$500,打撃データー!$AG$6:$AG$500,F155,打撃データー!$AI$6:$AI$500,H155,打撃データー!$AJ$6:$AJ$500,打撃成績!I155))","v":""},{"$f":"IF(G155=\"\",\"\",SUMIFS(打撃データー!$AT$6:$AT$500,打撃データー!$AG$6:$AG$500,F155,打撃データー!$AI$6:$AI$500,H155,打撃データー!$AJ$6:$AJ$500,打撃成績!I155))","v":""},{"$f":"IF(G155=\"\",\"\",SUMIFS(打撃データー!$AU$6:$AU$500,打撃データー!$AG$6:$AG$500,F155,打撃データー!$AI$6:$AI$500,H155,打撃データー!$AJ$6:$AJ$500,打撃成績!I155))","v":""},{"$f":"IF(G155=\"\",\"\",SUMIFS(打撃データー!$AV$6:$AV$500,打撃データー!$AG$6:$AG$500,F155,打撃データー!$AI$6:$AI$500,H155,打撃データー!$AJ$6:$AJ$500,打撃成績!I155))","v":""},{"$f":"IF(G155=\"\",\"\",SUMIFS(打撃データー!$AW$6:$AW$500,打撃データー!$AG$6:$AG$500,F155,打撃データー!$AI$6:$AI$500,H155,打撃データー!$AJ$6:$AJ$500,打撃成績!I155))","v":""},{"$f":"IF(G155=\"\",\"\",SUMIFS(打撃データー!$AX$6:$AX$500,打撃データー!$AG$6:$AG$500,F155,打撃データー!$AI$6:$AI$500,H155,打撃データー!$AJ$6:$AJ$500,打撃成績!I155))","v":""},{"$f":"IF(G155=\"\",\"\",SUMIFS(打撃データー!$AY$6:$AY$500,打撃データー!$AG$6:$AG$500,F155,打撃データー!$AI$6:$AI$500,H155,打撃データー!$AJ$6:$AJ$500,打撃成績!I155))","v":""},{"$f":"IF(G155=\"\",\"\",SUMIFS(打撃データー!$AZ$6:$AZ$500,打撃データー!$AG$6:$AG$500,F155,打撃データー!$AI$6:$AI$500,H155,打撃データー!$AJ$6:$AJ$500,打撃成績!I155))","v":""},{"$f":"IF(G155=\"\",\"\",SUMIFS(打撃データー!$BA$6:$BA$500,打撃データー!$AG$6:$AG$500,F155,打撃データー!$AI$6:$AI$500,H155,打撃データー!$AJ$6:$AJ$500,打撃成績!I155))","v":""},{"$f":"IF(G155=\"\",\"\",SUMIFS(打撃データー!$BB$6:$BB$500,打撃データー!$AG$6:$AG$500,F155,打撃データー!$AI$6:$AI$500,H155,打撃データー!$AJ$6:$AJ$500,打撃成績!I155))","v":""},{"$f":"IF(G155=\"\",\"\",SUMIFS(打撃データー!$BC$6:$BC$500,打撃データー!$AG$6:$AG$500,F155,打撃データー!$AI$6:$AI$500,H155,打撃データー!$AJ$6:$AJ$500,打撃成績!I155))","v":""},{"$f":"IF(G155=\"\",\"\",SUMIFS(打撃データー!$BD$6:$BD$500,打撃データー!$AG$6:$AG$500,F155,打撃データー!$AI$6:$AI$500,H155,打撃データー!$AJ$6:$AJ$500,打撃成績!I155))","v":""},{"$f":"IF(G155=\"\",\"\",SUMIFS(打撃データー!$BE$6:$BE$500,打撃データー!$AG$6:$AG$500,F155,打撃データー!$AI$6:$AI$500,H155,打撃データー!$AJ$6:$AJ$500,打撃成績!I155))","v":""},{"$f":"IF(G155=\"\",\"\",SUMIFS(打撃データー!$BF$6:$BF$500,打撃データー!$AG$6:$AG$500,F155,打撃データー!$AI$6:$AI$500,H155,打撃データー!$AJ$6:$AJ$500,打撃成績!I155))","v":""},null,"","","","",""]
[null,null,null,null,null,"",{"$f":"IF(G37=\"\",\"\",G37)","v":""},"","LL",{"$f":"IF(G156=\"\",\"\",SUMIFS(打撃データー!$AK$6:$AK$500,打撃データー!$AG$6:$AG$500,F156,打撃データー!$AI$6:$AI$500,H156,打撃データー!$AJ$6:$AJ$500,打撃成績!I156))","v":""},{"$f":"IF(G156=\"\",\"\",SUMIFS(打撃データー!$AL$6:$AL$500,打撃データー!$AG$6:$AG$500,F156,打撃データー!$AI$6:$AI$500,H156,打撃データー!$AJ$6:$AJ$500,打撃成績!I156))","v":""},{"$f":"IF(G156=\"\",\"\",SUMIFS(打撃データー!$AM$6:$AM$500,打撃データー!$AG$6:$AG$500,F156,打撃データー!$AI$6:$AI$500,H156,打撃データー!$AJ$6:$AJ$500,打撃成績!I156))","v":""},{"$f":"IF(G156=\"\",\"\",SUMIFS(打撃データー!$AN$6:$AN$500,打撃データー!$AG$6:$AG$500,F156,打撃データー!$AI$6:$AI$500,H156,打撃データー!$AJ$6:$AJ$500,打撃成績!I156))","v":""},{"$f":"IF(G156=\"\",\"\",SUMIFS(打撃データー!$AO$6:$AO$500,打撃データー!$AG$6:$AG$500,F156,打撃データー!$AI$6:$AI$500,H156,打撃データー!$AJ$6:$AJ$500,打撃成績!I156))","v":""},{"$f":"IF(G156=\"\",\"\",SUMIFS(打撃データー!$AP$6:$AP$500,打撃データー!$AG$6:$AG$500,F156,打撃データー!$AI$6:$AI$500,H156,打撃データー!$AJ$6:$AJ$500,打撃成績!I156))","v":""},{"$f":"IF(G156=\"\",\"\",SUMIFS(打撃データー!$AQ$6:$AQ$500,打撃データー!$AG$6:$AG$500,F156,打撃データー!$AI$6:$AI$500,H156,打撃データー!$AJ$6:$AJ$500,打撃成績!I156))","v":""},{"$f":"IF(G156=\"\",\"\",SUMIFS(打撃データー!$AR$6:$AR$500,打撃データー!$AG$6:$AG$500,F156,打撃データー!$AI$6:$AI$500,H156,打撃データー!$AJ$6:$AJ$500,打撃成績!I156))","v":""},{"$f":"IF(G156=\"\",\"\",SUMIFS(打撃データー!$AS$6:$AS$500,打撃データー!$AG$6:$AG$500,F156,打撃データー!$AI$6:$AI$500,H156,打撃データー!$AJ$6:$AJ$500,打撃成績!I156))","v":""},{"$f":"IF(G156=\"\",\"\",SUMIFS(打撃データー!$AT$6:$AT$500,打撃データー!$AG$6:$AG$500,F156,打撃データー!$AI$6:$AI$500,H156,打撃データー!$AJ$6:$AJ$500,打撃成績!I156))","v":""},{"$f":"IF(G156=\"\",\"\",SUMIFS(打撃データー!$AU$6:$AU$500,打撃データー!$AG$6:$AG$500,F156,打撃データー!$AI$6:$AI$500,H156,打撃データー!$AJ$6:$AJ$500,打撃成績!I156))","v":""},{"$f":"IF(G156=\"\",\"\",SUMIFS(打撃データー!$AV$6:$AV$500,打撃データー!$AG$6:$AG$500,F156,打撃データー!$AI$6:$AI$500,H156,打撃データー!$AJ$6:$AJ$500,打撃成績!I156))","v":""},{"$f":"IF(G156=\"\",\"\",SUMIFS(打撃データー!$AW$6:$AW$500,打撃データー!$AG$6:$AG$500,F156,打撃データー!$AI$6:$AI$500,H156,打撃データー!$AJ$6:$AJ$500,打撃成績!I156))","v":""},{"$f":"IF(G156=\"\",\"\",SUMIFS(打撃データー!$AX$6:$AX$500,打撃データー!$AG$6:$AG$500,F156,打撃データー!$AI$6:$AI$500,H156,打撃データー!$AJ$6:$AJ$500,打撃成績!I156))","v":""},{"$f":"IF(G156=\"\",\"\",SUMIFS(打撃データー!$AY$6:$AY$500,打撃データー!$AG$6:$AG$500,F156,打撃データー!$AI$6:$AI$500,H156,打撃データー!$AJ$6:$AJ$500,打撃成績!I156))","v":""},{"$f":"IF(G156=\"\",\"\",SUMIFS(打撃データー!$AZ$6:$AZ$500,打撃データー!$AG$6:$AG$500,F156,打撃データー!$AI$6:$AI$500,H156,打撃データー!$AJ$6:$AJ$500,打撃成績!I156))","v":""},{"$f":"IF(G156=\"\",\"\",SUMIFS(打撃データー!$BA$6:$BA$500,打撃データー!$AG$6:$AG$500,F156,打撃データー!$AI$6:$AI$500,H156,打撃データー!$AJ$6:$AJ$500,打撃成績!I156))","v":""},{"$f":"IF(G156=\"\",\"\",SUMIFS(打撃データー!$BB$6:$BB$500,打撃データー!$AG$6:$AG$500,F156,打撃データー!$AI$6:$AI$500,H156,打撃データー!$AJ$6:$AJ$500,打撃成績!I156))","v":""},{"$f":"IF(G156=\"\",\"\",SUMIFS(打撃データー!$BC$6:$BC$500,打撃データー!$AG$6:$AG$500,F156,打撃データー!$AI$6:$AI$500,H156,打撃データー!$AJ$6:$AJ$500,打撃成績!I156))","v":""},{"$f":"IF(G156=\"\",\"\",SUMIFS(打撃データー!$BD$6:$BD$500,打撃データー!$AG$6:$AG$500,F156,打撃データー!$AI$6:$AI$500,H156,打撃データー!$AJ$6:$AJ$500,打撃成績!I156))","v":""},{"$f":"IF(G156=\"\",\"\",SUMIFS(打撃データー!$BE$6:$BE$500,打撃データー!$AG$6:$AG$500,F156,打撃データー!$AI$6:$AI$500,H156,打撃データー!$AJ$6:$AJ$500,打撃成績!I156))","v":""},{"$f":"IF(G156=\"\",\"\",SUMIFS(打撃データー!$BF$6:$BF$500,打撃データー!$AG$6:$AG$500,F156,打撃データー!$AI$6:$AI$500,H156,打撃データー!$AJ$6:$AJ$500,打撃成績!I156))","v":""},null,"","","","",""]
[null,null,null,null,null,"",{"$f":"IF(G38=\"\",\"\",G38)","v":""},"","LL",{"$f":"IF(G157=\"\",\"\",SUMIFS(打撃データー!$AK$6:$AK$500,打撃データー!$AG$6:$AG$500,F157,打撃データー!$AI$6:$AI$500,H157,打撃データー!$AJ$6:$AJ$500,打撃成績!I157))","v":""},{"$f":"IF(G157=\"\",\"\",SUMIFS(打撃データー!$AL$6:$AL$500,打撃データー!$AG$6:$AG$500,F157,打撃データー!$AI$6:$AI$500,H157,打撃データー!$AJ$6:$AJ$500,打撃成績!I157))","v":""},{"$f":"IF(G157=\"\",\"\",SUMIFS(打撃データー!$AM$6:$AM$500,打撃データー!$AG$6:$AG$500,F157,打撃データー!$AI$6:$AI$500,H157,打撃データー!$AJ$6:$AJ$500,打撃成績!I157))","v":""},{"$f":"IF(G157=\"\",\"\",SUMIFS(打撃データー!$AN$6:$AN$500,打撃データー!$AG$6:$AG$500,F157,打撃データー!$AI$6:$AI$500,H157,打撃データー!$AJ$6:$AJ$500,打撃成績!I157))","v":""},{"$f":"IF(G157=\"\",\"\",SUMIFS(打撃データー!$AO$6:$AO$500,打撃データー!$AG$6:$AG$500,F157,打撃データー!$AI$6:$AI$500,H157,打撃データー!$AJ$6:$AJ$500,打撃成績!I157))","v":""},{"$f":"IF(G157=\"\",\"\",SUMIFS(打撃データー!$AP$6:$AP$500,打撃データー!$AG$6:$AG$500,F157,打撃データー!$AI$6:$AI$500,H157,打撃データー!$AJ$6:$AJ$500,打撃成績!I157))","v":""},{"$f":"IF(G157=\"\",\"\",SUMIFS(打撃データー!$AQ$6:$AQ$500,打撃データー!$AG$6:$AG$500,F157,打撃データー!$AI$6:$AI$500,H157,打撃データー!$AJ$6:$AJ$500,打撃成績!I157))","v":""},{"$f":"IF(G157=\"\",\"\",SUMIFS(打撃データー!$AR$6:$AR$500,打撃データー!$AG$6:$AG$500,F157,打撃データー!$AI$6:$AI$500,H157,打撃データー!$AJ$6:$AJ$500,打撃成績!I157))","v":""},{"$f":"IF(G157=\"\",\"\",SUMIFS(打撃データー!$AS$6:$AS$500,打撃データー!$AG$6:$AG$500,F157,打撃データー!$AI$6:$AI$500,H157,打撃データー!$AJ$6:$AJ$500,打撃成績!I157))","v":""},{"$f":"IF(G157=\"\",\"\",SUMIFS(打撃データー!$AT$6:$AT$500,打撃データー!$AG$6:$AG$500,F157,打撃データー!$AI$6:$AI$500,H157,打撃データー!$AJ$6:$AJ$500,打撃成績!I157))","v":""},{"$f":"IF(G157=\"\",\"\",SUMIFS(打撃データー!$AU$6:$AU$500,打撃データー!$AG$6:$AG$500,F157,打撃データー!$AI$6:$AI$500,H157,打撃データー!$AJ$6:$AJ$500,打撃成績!I157))","v":""},{"$f":"IF(G157=\"\",\"\",SUMIFS(打撃データー!$AV$6:$AV$500,打撃データー!$AG$6:$AG$500,F157,打撃データー!$AI$6:$AI$500,H157,打撃データー!$AJ$6:$AJ$500,打撃成績!I157))","v":""},{"$f":"IF(G157=\"\",\"\",SUMIFS(打撃データー!$AW$6:$AW$500,打撃データー!$AG$6:$AG$500,F157,打撃データー!$AI$6:$AI$500,H157,打撃データー!$AJ$6:$AJ$500,打撃成績!I157))","v":""},{"$f":"IF(G157=\"\",\"\",SUMIFS(打撃データー!$AX$6:$AX$500,打撃データー!$AG$6:$AG$500,F157,打撃データー!$AI$6:$AI$500,H157,打撃データー!$AJ$6:$AJ$500,打撃成績!I157))","v":""},{"$f":"IF(G157=\"\",\"\",SUMIFS(打撃データー!$AY$6:$AY$500,打撃データー!$AG$6:$AG$500,F157,打撃データー!$AI$6:$AI$500,H157,打撃データー!$AJ$6:$AJ$500,打撃成績!I157))","v":""},{"$f":"IF(G157=\"\",\"\",SUMIFS(打撃データー!$AZ$6:$AZ$500,打撃データー!$AG$6:$AG$500,F157,打撃データー!$AI$6:$AI$500,H157,打撃データー!$AJ$6:$AJ$500,打撃成績!I157))","v":""},{"$f":"IF(G157=\"\",\"\",SUMIFS(打撃データー!$BA$6:$BA$500,打撃データー!$AG$6:$AG$500,F157,打撃データー!$AI$6:$AI$500,H157,打撃データー!$AJ$6:$AJ$500,打撃成績!I157))","v":""},{"$f":"IF(G157=\"\",\"\",SUMIFS(打撃データー!$BB$6:$BB$500,打撃データー!$AG$6:$AG$500,F157,打撃データー!$AI$6:$AI$500,H157,打撃データー!$AJ$6:$AJ$500,打撃成績!I157))","v":""},{"$f":"IF(G157=\"\",\"\",SUMIFS(打撃データー!$BC$6:$BC$500,打撃データー!$AG$6:$AG$500,F157,打撃データー!$AI$6:$AI$500,H157,打撃データー!$AJ$6:$AJ$500,打撃成績!I157))","v":""},{"$f":"IF(G157=\"\",\"\",SUMIFS(打撃データー!$BD$6:$BD$500,打撃データー!$AG$6:$AG$500,F157,打撃データー!$AI$6:$AI$500,H157,打撃データー!$AJ$6:$AJ$500,打撃成績!I157))","v":""},{"$f":"IF(G157=\"\",\"\",SUMIFS(打撃データー!$BE$6:$BE$500,打撃データー!$AG$6:$AG$500,F157,打撃データー!$AI$6:$AI$500,H157,打撃データー!$AJ$6:$AJ$500,打撃成績!I157))","v":""},{"$f":"IF(G157=\"\",\"\",SUMIFS(打撃データー!$BF$6:$BF$500,打撃データー!$AG$6:$AG$500,F157,打撃データー!$AI$6:$AI$500,H157,打撃データー!$AJ$6:$AJ$500,打撃成績!I157))","v":""},null,"","","","",""]
[null,null,null,null,null,"",{"$f":"IF(G39=\"\",\"\",G39)","v":""},"","LL",{"$f":"IF(G158=\"\",\"\",SUMIFS(打撃データー!$AK$6:$AK$500,打撃データー!$AG$6:$AG$500,F158,打撃データー!$AI$6:$AI$500,H158,打撃データー!$AJ$6:$AJ$500,打撃成績!I158))","v":""},{"$f":"IF(G158=\"\",\"\",SUMIFS(打撃データー!$AL$6:$AL$500,打撃データー!$AG$6:$AG$500,F158,打撃データー!$AI$6:$AI$500,H158,打撃データー!$AJ$6:$AJ$500,打撃成績!I158))","v":""},{"$f":"IF(G158=\"\",\"\",SUMIFS(打撃データー!$AM$6:$AM$500,打撃データー!$AG$6:$AG$500,F158,打撃データー!$AI$6:$AI$500,H158,打撃データー!$AJ$6:$AJ$500,打撃成績!I158))","v":""},{"$f":"IF(G158=\"\",\"\",SUMIFS(打撃データー!$AN$6:$AN$500,打撃データー!$AG$6:$AG$500,F158,打撃データー!$AI$6:$AI$500,H158,打撃データー!$AJ$6:$AJ$500,打撃成績!I158))","v":""},{"$f":"IF(G158=\"\",\"\",SUMIFS(打撃データー!$AO$6:$AO$500,打撃データー!$AG$6:$AG$500,F158,打撃データー!$AI$6:$AI$500,H158,打撃データー!$AJ$6:$AJ$500,打撃成績!I158))","v":""},{"$f":"IF(G158=\"\",\"\",SUMIFS(打撃データー!$AP$6:$AP$500,打撃データー!$AG$6:$AG$500,F158,打撃データー!$AI$6:$AI$500,H158,打撃データー!$AJ$6:$AJ$500,打撃成績!I158))","v":""},{"$f":"IF(G158=\"\",\"\",SUMIFS(打撃データー!$AQ$6:$AQ$500,打撃データー!$AG$6:$AG$500,F158,打撃データー!$AI$6:$AI$500,H158,打撃データー!$AJ$6:$AJ$500,打撃成績!I158))","v":""},{"$f":"IF(G158=\"\",\"\",SUMIFS(打撃データー!$AR$6:$AR$500,打撃データー!$AG$6:$AG$500,F158,打撃データー!$AI$6:$AI$500,H158,打撃データー!$AJ$6:$AJ$500,打撃成績!I158))","v":""},{"$f":"IF(G158=\"\",\"\",SUMIFS(打撃データー!$AS$6:$AS$500,打撃データー!$AG$6:$AG$500,F158,打撃データー!$AI$6:$AI$500,H158,打撃データー!$AJ$6:$AJ$500,打撃成績!I158))","v":""},{"$f":"IF(G158=\"\",\"\",SUMIFS(打撃データー!$AT$6:$AT$500,打撃データー!$AG$6:$AG$500,F158,打撃データー!$AI$6:$AI$500,H158,打撃データー!$AJ$6:$AJ$500,打撃成績!I158))","v":""},{"$f":"IF(G158=\"\",\"\",SUMIFS(打撃データー!$AU$6:$AU$500,打撃データー!$AG$6:$AG$500,F158,打撃データー!$AI$6:$AI$500,H158,打撃データー!$AJ$6:$AJ$500,打撃成績!I158))","v":""},{"$f":"IF(G158=\"\",\"\",SUMIFS(打撃データー!$AV$6:$AV$500,打撃データー!$AG$6:$AG$500,F158,打撃データー!$AI$6:$AI$500,H158,打撃データー!$AJ$6:$AJ$500,打撃成績!I158))","v":""},{"$f":"IF(G158=\"\",\"\",SUMIFS(打撃データー!$AW$6:$AW$500,打撃データー!$AG$6:$AG$500,F158,打撃データー!$AI$6:$AI$500,H158,打撃データー!$AJ$6:$AJ$500,打撃成績!I158))","v":""},{"$f":"IF(G158=\"\",\"\",SUMIFS(打撃データー!$AX$6:$AX$500,打撃データー!$AG$6:$AG$500,F158,打撃データー!$AI$6:$AI$500,H158,打撃データー!$AJ$6:$AJ$500,打撃成績!I158))","v":""},{"$f":"IF(G158=\"\",\"\",SUMIFS(打撃データー!$AY$6:$AY$500,打撃データー!$AG$6:$AG$500,F158,打撃データー!$AI$6:$AI$500,H158,打撃データー!$AJ$6:$AJ$500,打撃成績!I158))","v":""},{"$f":"IF(G158=\"\",\"\",SUMIFS(打撃データー!$AZ$6:$AZ$500,打撃データー!$AG$6:$AG$500,F158,打撃データー!$AI$6:$AI$500,H158,打撃データー!$AJ$6:$AJ$500,打撃成績!I158))","v":""},{"$f":"IF(G158=\"\",\"\",SUMIFS(打撃データー!$BA$6:$BA$500,打撃データー!$AG$6:$AG$500,F158,打撃データー!$AI$6:$AI$500,H158,打撃データー!$AJ$6:$AJ$500,打撃成績!I158))","v":""},{"$f":"IF(G158=\"\",\"\",SUMIFS(打撃データー!$BB$6:$BB$500,打撃データー!$AG$6:$AG$500,F158,打撃データー!$AI$6:$AI$500,H158,打撃データー!$AJ$6:$AJ$500,打撃成績!I158))","v":""},{"$f":"IF(G158=\"\",\"\",SUMIFS(打撃データー!$BC$6:$BC$500,打撃データー!$AG$6:$AG$500,F158,打撃データー!$AI$6:$AI$500,H158,打撃データー!$AJ$6:$AJ$500,打撃成績!I158))","v":""},{"$f":"IF(G158=\"\",\"\",SUMIFS(打撃データー!$BD$6:$BD$500,打撃データー!$AG$6:$AG$500,F158,打撃データー!$AI$6:$AI$500,H158,打撃データー!$AJ$6:$AJ$500,打撃成績!I158))","v":""},{"$f":"IF(G158=\"\",\"\",SUMIFS(打撃データー!$BE$6:$BE$500,打撃データー!$AG$6:$AG$500,F158,打撃データー!$AI$6:$AI$500,H158,打撃データー!$AJ$6:$AJ$500,打撃成績!I158))","v":""},{"$f":"IF(G158=\"\",\"\",SUMIFS(打撃データー!$BF$6:$BF$500,打撃データー!$AG$6:$AG$500,F158,打撃データー!$AI$6:$AI$500,H158,打撃データー!$AJ$6:$AJ$500,打撃成績!I158))","v":""},null,"","","","",""]
[null,null,null,null,null,"",{"$f":"IF(G40=\"\",\"\",G40)","v":""},"","LL",{"$f":"IF(G159=\"\",\"\",SUMIFS(打撃データー!$AK$6:$AK$500,打撃データー!$AG$6:$AG$500,F159,打撃データー!$AI$6:$AI$500,H159,打撃データー!$AJ$6:$AJ$500,打撃成績!I159))","v":""},{"$f":"IF(G159=\"\",\"\",SUMIFS(打撃データー!$AL$6:$AL$500,打撃データー!$AG$6:$AG$500,F159,打撃データー!$AI$6:$AI$500,H159,打撃データー!$AJ$6:$AJ$500,打撃成績!I159))","v":""},{"$f":"IF(G159=\"\",\"\",SUMIFS(打撃データー!$AM$6:$AM$500,打撃データー!$AG$6:$AG$500,F159,打撃データー!$AI$6:$AI$500,H159,打撃データー!$AJ$6:$AJ$500,打撃成績!I159))","v":""},{"$f":"IF(G159=\"\",\"\",SUMIFS(打撃データー!$AN$6:$AN$500,打撃データー!$AG$6:$AG$500,F159,打撃データー!$AI$6:$AI$500,H159,打撃データー!$AJ$6:$AJ$500,打撃成績!I159))","v":""},{"$f":"IF(G159=\"\",\"\",SUMIFS(打撃データー!$AO$6:$AO$500,打撃データー!$AG$6:$AG$500,F159,打撃データー!$AI$6:$AI$500,H159,打撃データー!$AJ$6:$AJ$500,打撃成績!I159))","v":""},{"$f":"IF(G159=\"\",\"\",SUMIFS(打撃データー!$AP$6:$AP$500,打撃データー!$AG$6:$AG$500,F159,打撃データー!$AI$6:$AI$500,H159,打撃データー!$AJ$6:$AJ$500,打撃成績!I159))","v":""},{"$f":"IF(G159=\"\",\"\",SUMIFS(打撃データー!$AQ$6:$AQ$500,打撃データー!$AG$6:$AG$500,F159,打撃データー!$AI$6:$AI$500,H159,打撃データー!$AJ$6:$AJ$500,打撃成績!I159))","v":""},{"$f":"IF(G159=\"\",\"\",SUMIFS(打撃データー!$AR$6:$AR$500,打撃データー!$AG$6:$AG$500,F159,打撃データー!$AI$6:$AI$500,H159,打撃データー!$AJ$6:$AJ$500,打撃成績!I159))","v":""},{"$f":"IF(G159=\"\",\"\",SUMIFS(打撃データー!$AS$6:$AS$500,打撃データー!$AG$6:$AG$500,F159,打撃データー!$AI$6:$AI$500,H159,打撃データー!$AJ$6:$AJ$500,打撃成績!I159))","v":""},{"$f":"IF(G159=\"\",\"\",SUMIFS(打撃データー!$AT$6:$AT$500,打撃データー!$AG$6:$AG$500,F159,打撃データー!$AI$6:$AI$500,H159,打撃データー!$AJ$6:$AJ$500,打撃成績!I159))","v":""},{"$f":"IF(G159=\"\",\"\",SUMIFS(打撃データー!$AU$6:$AU$500,打撃データー!$AG$6:$AG$500,F159,打撃データー!$AI$6:$AI$500,H159,打撃データー!$AJ$6:$AJ$500,打撃成績!I159))","v":""},{"$f":"IF(G159=\"\",\"\",SUMIFS(打撃データー!$AV$6:$AV$500,打撃データー!$AG$6:$AG$500,F159,打撃データー!$AI$6:$AI$500,H159,打撃データー!$AJ$6:$AJ$500,打撃成績!I159))","v":""},{"$f":"IF(G159=\"\",\"\",SUMIFS(打撃データー!$AW$6:$AW$500,打撃データー!$AG$6:$AG$500,F159,打撃データー!$AI$6:$AI$500,H159,打撃データー!$AJ$6:$AJ$500,打撃成績!I159))","v":""},{"$f":"IF(G159=\"\",\"\",SUMIFS(打撃データー!$AX$6:$AX$500,打撃データー!$AG$6:$AG$500,F159,打撃データー!$AI$6:$AI$500,H159,打撃データー!$AJ$6:$AJ$500,打撃成績!I159))","v":""},{"$f":"IF(G159=\"\",\"\",SUMIFS(打撃データー!$AY$6:$AY$500,打撃データー!$AG$6:$AG$500,F159,打撃データー!$AI$6:$AI$500,H159,打撃データー!$AJ$6:$AJ$500,打撃成績!I159))","v":""},{"$f":"IF(G159=\"\",\"\",SUMIFS(打撃データー!$AZ$6:$AZ$500,打撃データー!$AG$6:$AG$500,F159,打撃データー!$AI$6:$AI$500,H159,打撃データー!$AJ$6:$AJ$500,打撃成績!I159))","v":""},{"$f":"IF(G159=\"\",\"\",SUMIFS(打撃データー!$BA$6:$BA$500,打撃データー!$AG$6:$AG$500,F159,打撃データー!$AI$6:$AI$500,H159,打撃データー!$AJ$6:$AJ$500,打撃成績!I159))","v":""},{"$f":"IF(G159=\"\",\"\",SUMIFS(打撃データー!$BB$6:$BB$500,打撃データー!$AG$6:$AG$500,F159,打撃データー!$AI$6:$AI$500,H159,打撃データー!$AJ$6:$AJ$500,打撃成績!I159))","v":""},{"$f":"IF(G159=\"\",\"\",SUMIFS(打撃データー!$BC$6:$BC$500,打撃データー!$AG$6:$AG$500,F159,打撃データー!$AI$6:$AI$500,H159,打撃データー!$AJ$6:$AJ$500,打撃成績!I159))","v":""},{"$f":"IF(G159=\"\",\"\",SUMIFS(打撃データー!$BD$6:$BD$500,打撃データー!$AG$6:$AG$500,F159,打撃データー!$AI$6:$AI$500,H159,打撃データー!$AJ$6:$AJ$500,打撃成績!I159))","v":""},{"$f":"IF(G159=\"\",\"\",SUMIFS(打撃データー!$BE$6:$BE$500,打撃データー!$AG$6:$AG$500,F159,打撃データー!$AI$6:$AI$500,H159,打撃データー!$AJ$6:$AJ$500,打撃成績!I159))","v":""},{"$f":"IF(G159=\"\",\"\",SUMIFS(打撃データー!$BF$6:$BF$500,打撃データー!$AG$6:$AG$500,F159,打撃データー!$AI$6:$AI$500,H159,打撃データー!$AJ$6:$AJ$500,打撃成績!I159))","v":""},null,"","","","",""]
[null,null,null,null,null,{"$f":"IF(G160=\"\",\"\",$F$5)","v":""},{"$f":"IF(G41=\"\",\"\",G41)","v":""},"","LL",{"$f":"IF(G160=\"\",\"\",SUMIFS(打撃データー!$AK$6:$AK$500,打撃データー!$AG$6:$AG$500,F160,打撃データー!$AI$6:$AI$500,H160,打撃データー!$AJ$6:$AJ$500,打撃成績!I160))","v":""},{"$f":"IF(G160=\"\",\"\",SUMIFS(打撃データー!$AL$6:$AL$500,打撃データー!$AG$6:$AG$500,F160,打撃データー!$AI$6:$AI$500,H160,打撃データー!$AJ$6:$AJ$500,打撃成績!I160))","v":""},{"$f":"IF(G160=\"\",\"\",SUMIFS(打撃データー!$AM$6:$AM$500,打撃データー!$AG$6:$AG$500,F160,打撃データー!$AI$6:$AI$500,H160,打撃データー!$AJ$6:$AJ$500,打撃成績!I160))","v":""},{"$f":"IF(G160=\"\",\"\",SUMIFS(打撃データー!$AN$6:$AN$500,打撃データー!$AG$6:$AG$500,F160,打撃データー!$AI$6:$AI$500,H160,打撃データー!$AJ$6:$AJ$500,打撃成績!I160))","v":""},{"$f":"IF(G160=\"\",\"\",SUMIFS(打撃データー!$AO$6:$AO$500,打撃データー!$AG$6:$AG$500,F160,打撃データー!$AI$6:$AI$500,H160,打撃データー!$AJ$6:$AJ$500,打撃成績!I160))","v":""},{"$f":"IF(G160=\"\",\"\",SUMIFS(打撃データー!$AP$6:$AP$500,打撃データー!$AG$6:$AG$500,F160,打撃データー!$AI$6:$AI$500,H160,打撃データー!$AJ$6:$AJ$500,打撃成績!I160))","v":""},{"$f":"IF(G160=\"\",\"\",SUMIFS(打撃データー!$AQ$6:$AQ$500,打撃データー!$AG$6:$AG$500,F160,打撃データー!$AI$6:$AI$500,H160,打撃データー!$AJ$6:$AJ$500,打撃成績!I160))","v":""},{"$f":"IF(G160=\"\",\"\",SUMIFS(打撃データー!$AR$6:$AR$500,打撃データー!$AG$6:$AG$500,F160,打撃データー!$AI$6:$AI$500,H160,打撃データー!$AJ$6:$AJ$500,打撃成績!I160))","v":""},{"$f":"IF(G160=\"\",\"\",SUMIFS(打撃データー!$AS$6:$AS$500,打撃データー!$AG$6:$AG$500,F160,打撃データー!$AI$6:$AI$500,H160,打撃データー!$AJ$6:$AJ$500,打撃成績!I160))","v":""},{"$f":"IF(G160=\"\",\"\",SUMIFS(打撃データー!$AT$6:$AT$500,打撃データー!$AG$6:$AG$500,F160,打撃データー!$AI$6:$AI$500,H160,打撃データー!$AJ$6:$AJ$500,打撃成績!I160))","v":""},{"$f":"IF(G160=\"\",\"\",SUMIFS(打撃データー!$AU$6:$AU$500,打撃データー!$AG$6:$AG$500,F160,打撃データー!$AI$6:$AI$500,H160,打撃データー!$AJ$6:$AJ$500,打撃成績!I160))","v":""},{"$f":"IF(G160=\"\",\"\",SUMIFS(打撃データー!$AV$6:$AV$500,打撃データー!$AG$6:$AG$500,F160,打撃データー!$AI$6:$AI$500,H160,打撃データー!$AJ$6:$AJ$500,打撃成績!I160))","v":""},{"$f":"IF(G160=\"\",\"\",SUMIFS(打撃データー!$AW$6:$AW$500,打撃データー!$AG$6:$AG$500,F160,打撃データー!$AI$6:$AI$500,H160,打撃データー!$AJ$6:$AJ$500,打撃成績!I160))","v":""},{"$f":"IF(G160=\"\",\"\",SUMIFS(打撃データー!$AX$6:$AX$500,打撃データー!$AG$6:$AG$500,F160,打撃データー!$AI$6:$AI$500,H160,打撃データー!$AJ$6:$AJ$500,打撃成績!I160))","v":""},{"$f":"IF(G160=\"\",\"\",SUMIFS(打撃データー!$AY$6:$AY$500,打撃データー!$AG$6:$AG$500,F160,打撃データー!$AI$6:$AI$500,H160,打撃データー!$AJ$6:$AJ$500,打撃成績!I160))","v":""},{"$f":"IF(G160=\"\",\"\",SUMIFS(打撃データー!$AZ$6:$AZ$500,打撃データー!$AG$6:$AG$500,F160,打撃データー!$AI$6:$AI$500,H160,打撃データー!$AJ$6:$AJ$500,打撃成績!I160))","v":""},{"$f":"IF(G160=\"\",\"\",SUMIFS(打撃データー!$BA$6:$BA$500,打撃データー!$AG$6:$AG$500,F160,打撃データー!$AI$6:$AI$500,H160,打撃データー!$AJ$6:$AJ$500,打撃成績!I160))","v":""},{"$f":"IF(G160=\"\",\"\",SUMIFS(打撃データー!$BB$6:$BB$500,打撃データー!$AG$6:$AG$500,F160,打撃データー!$AI$6:$AI$500,H160,打撃データー!$AJ$6:$AJ$500,打撃成績!I160))","v":""},{"$f":"IF(G160=\"\",\"\",SUMIFS(打撃データー!$BC$6:$BC$500,打撃データー!$AG$6:$AG$500,F160,打撃データー!$AI$6:$AI$500,H160,打撃データー!$AJ$6:$AJ$500,打撃成績!I160))","v":""},{"$f":"IF(G160=\"\",\"\",SUMIFS(打撃データー!$BD$6:$BD$500,打撃データー!$AG$6:$AG$500,F160,打撃データー!$AI$6:$AI$500,H160,打撃データー!$AJ$6:$AJ$500,打撃成績!I160))","v":""},{"$f":"IF(G160=\"\",\"\",SUMIFS(打撃データー!$BE$6:$BE$500,打撃データー!$AG$6:$AG$500,F160,打撃データー!$AI$6:$AI$500,H160,打撃データー!$AJ$6:$AJ$500,打撃成績!I160))","v":""},{"$f":"IF(G160=\"\",\"\",SUMIFS(打撃データー!$BF$6:$BF$500,打撃データー!$AG$6:$AG$500,F160,打撃データー!$AI$6:$AI$500,H160,打撃データー!$AJ$6:$AJ$500,打撃成績!I160))","v":""},null,"","","","",{"$f":"IF(G160=\"\",\"\",IFERROR(AE160/AD160,\"無\"))","v":""}]

{"sheet":"投手データー","index":5,"n_rows":12,"n_cols":50,"rows_kept":12,"cut":false,"hidden":false,"merged":[]}
[]
[]
[]
[null,null,null,null,"↓投手データー",null,null,null,null,null,null,null,null,null,null,null,null,null,null,null,null,null,null,null,"↓試合別チーム投手データー"]
[null,null,null,null,"回戦","T番","選手名","背番","投順","O数","投回","被本","被安","四死","伐振","与盗","与点","自点","投数","試数","勝負","対戦相手",null,null,"T番","チーム名","O数","投回","被本","被安","四死","伐振","与盗","与点","自点","投数","試数","勝敗","対戦相手",null,null,null,"T番","選手名","背番","投順","ゴロ","フライ","計","回戦"]
[]
[]
[]
[]
[]
[]
[null,null,null,null,null,null,null,null,null,null,null,null,null,null,null,null,null,null,null,null,null,null,null,null,null,null,null,null,null,null,null,null,null,null,null,null,null,null,null,"","",""]

{"sheet":"投手成績","index":6,"n_rows":37,"n_cols":57,"rows_kept":37,"cut":false,"hidden":false,"merged":[]}
[]
[]
[]
[null,null,null,null,null,"↓チームのリフト選択"]
[null,null,null,null,null,null,{"$f":"IFERROR(VLOOKUP(F5,戦績!O6:U41,7,FALSE),\"\")","v":""}]
[]
[null,null,null,null,null,"↓投手個別成績",null,null,null,null,null,null,null,null,null,null,null,null,null,null,null,null,null,null,null,null,null,null,null,null,null,null,null,"↓チーム別投手成績"]
[null,null,null,null,null,"チーム名","T番","選手名","背番","先発",2,3,4,"O数","１回","投回",null,"被本","被安","四死","伐振","与盗","与点","自点","投数","試数","勝","負","分","H","S",null,null,"チーム名","T番","先発",2,3,4,"O数","１回","投回","被本","被安","四死","伐振","与盗","与点","自点","投数","試数","勝","負","分","H","S","防御率"]
[null,null,null,null,null,{"$f":"IF(F5=\"\",\"\",F5)","v":""},{"$f":"IF(G5=\"\",\"\",G5)","v":""},null,null,{"$f":"IF(H9=\"\",\"\",COUNTIFS(投手データー!$F$6:$F$50,G9,投手データー!$G$6:$G$50,H9,投手データー!$I$6:$I$50,\"先\"))","v":""},{"$f":"IF(H9=\"\",\"\",COUNTIFS(投手データー!$F$6:$F$50,G9,投手データー!$G$6:$G$50,H9,投手データー!$I$6:$I$50,\"2\"))","v":""},{"$f":"IF(H9=\"\",\"\",COUNTIFS(投手データー!$F$6:$F$50,G9,投手データー!$G$6:$G$50,H9,投手データー!$I$6:$I$50,\"3\"))","v":""},{"$f":"IF(H9=\"\",\"\",COUNTIFS(投手データー!$F$6:$F$50,G9,投手データー!$G$6:$G$50,H9,投手データー!$I$6:$I$50,\"4\"))","v":""},{"$f":"IF(H9=\"\",\"\",SUMIFS(投手データー!$J$6:$J$50,投手データー!$F$6:$F$50,G9,投手データー!$G$6:$G$50,H9))","v":""},{"$f":"IF(H9=\"\",\"\",3)","v":""},{"$f":"IF(H9=\"\",\"\",N9/O9)","v":""},null,{"$f":"IF(H9=\"\",\"\",SUMIFS(投手データー!$L$6:$L$50,投手データー!$F$6:$F$50,G9,投手データー!$G$6:$G$50,H9))","v":""},{"$f":"IF(H9=\"\",\"\",SUMIFS(投手データー!$M$6:$M$50,投手データー!$F$6:$F$50,G9,投手データー!$G$6:$G$50,H9))","v":""},{"$f":"IF(H9=\"\",\"\",SUMIFS(投手データー!$N$6:$N$50,投手データー!$F$6:$F$50,G9,投手データー!$G$6:$G$50,H9))","v":""},{"$f":"IF(H9=\"\",\"\",SUMIFS(投手データー!$O$6:$O$50,投手データー!$F$6:$F$50,G9,投手データー!$G$6:$G$50,H9))","v":""},{"$f":"IF(H9=\"\",\"\",SUMIFS(投手データー!$P$6:$P$50,投手データー!$F$6:$F$50,G9,投手データー!$G$6:$G$50,H9))","v":""},{"$f":"IF(H9=\"\",\"\",SUMIFS(投手データー!$Q$6:$Q$50,投手データー!$F$6:$F$50,G9,投手データー!$G$6:$G$50,H9))","v":""},{"$f":"IF(H9=\"\",\"\",SUMIFS(投手データー!$R$6:$R$50,投手データー!$F$6:$F$50,G9,投手データー!$G$6:$G$50,H9))","v":""},{"$f":"IF(H9=\"\",\"\",SUMIFS(投手データー!$S$6:$S$50,投手データー!$F$6:$F$50,G9,投手データー!$G$6:$G$50,H9))","v":""},{"$f":"IF(H9=\"\",\"\",SUMIFS(投手データー!$T$6:$T$50,投手データー!$F$6:$F$50,G9,投手データー!$G$6:$G$50,H9))","v":""},{"$f":"IF(H9=\"\",\"\",COUNTIFS(投手データー!$F$6:$F$50,G9,投手データー!$G$6:$G$50,H9,投手データー!$U$6:$U$50,\"勝\"))","v":""},{"$f":"IF(H9=\"\",\"\",COUNTIFS(投手データー!$F$6:$F$50,G9,投手データー!$G$6:$G$50,H9,投手データー!$U$6:$U$50,\"負\"))","v":""},{"$f":"IF(H9=\"\",\"\",COUNTIFS(投手データー!$F$6:$F$50,G9,投手データー!$G$6:$G$50,H9,投手データー!$U$6:$U$50,\"分\"))","v":""},{"$f":"IF(H9=\"\",\"\",COUNTIFS(投手データー!$F$6:$F$50,$G9,投手データー!$G$6:$G$50,H9,投手データー!$U$6:$U$50,\"H\"))","v":""},{"$f":"IF(H9=\"\",\"\",COUNTIFS(投手データー!$F$6:$F$50,G9,投手データー!$G$6:$G$50,H9,投手データー!$U$6:$U$50,\"S\"))","v":""},null,null,{"$f":"IF(戦績!O6=\"\",\"\",戦績!O6)","v":""},"A",{"$f":"IF(AH9=\"\",\"\",COUNTIFS(投手データー!$F$6:$F$50,AI9,投手データー!$I$6:$I$50,\"先\"))","v":""},{"$f":"IF(AH9=\"\",\"\",COUNTIFS(投手データー!$F$6:$F$50,AI9,投手データー!$I$6:$I$50,\"２\"))","v":""},{"$f":"IF(AH9=\"\",\"\",COUNTIFS(投手データー!$F$6:$F$50,AI9,投手データー!$I$6:$I$50,\"３\"))","v":""},{"$f":"IF(AH9=\"\",\"\",COUNTIFS(投手データー!$F$6:$F$50,AI9,投手データー!$I$6:$I$50,\"４\"))","v":""},{"$f":"IF(AH9=\"\",\"\",SUMIF(投手データー!$F$6:$F$50,AI9,投手データー!$J$6:$J$50))","v":""},{"$f":"IF(AH9=\"\",\"\",3)","v":""},{"$f":"IF(AH9=\"\",\"\",AN9/AO9)","v":""},{"$f":"IF(AH9=\"\",\"\",SUMIF(投手データー!$F$6:$F$50,AI9,投手データー!$L$6:$L$50))","v":""},{"$f":"IF(AH9=\"\",\"\",SUMIF(投手データー!$F$6:$F$50,AI9,投手データー!$M$6:$M$50))","v":""},{"$f":"IF(AH9=\"\",\"\",SUMIF(投手データー!$F$6:$F$50,AI9,投手データー!$N$6:$N$50))","v":""},{"$f":"IF(AH9=\"\",\"\",SUMIF(投手データー!$F$6:$F$50,AI9,投手データー!$O$6:$O$50))","v":""},{"$f":"IF(AH9=\"\",\"\",SUMIF(投手データー!$F$6:$F$50,AI9,投手データー!$P$6:$P$50))","v":""},{"$f":"IF(AH9=\"\",\"\",SUMIF(投手データー!$F$6:$F$50,AI9,投手データー!$Q$6:$Q$50))","v":""},{"$f":"IF(AH9=\"\",\"\",SUMIF(投手データー!$F$6:$F$50,AI9,投手データー!$R$6:$R$50))","v":""},{"$f":"IF(AH9=\"\",\"\",SUMIF(投手データー!$F$6:$F$50,AI9,投手データー!$S$6:$S$50))","v":""},{"$f":"IF(AH9=\"\",\"\",COUNTIF(戦績!$G$6:$G$101,AH9))","v":""},{"$f":"IF(AH9=\"\",\"\",COUNTIFS(投手データー!$F$6:$F$50,AI9,投手データー!$U$6:$U$50,\"勝\"))","v":""},{"$f":"IF(AH9=\"\",\"\",COUNTIFS(投手データー!$F$6:$F$50,AI9,投手データー!$U$6:$U$50,\"負\"))","v":""},{"$f":"IF(AH9=\"\",\"\",COUNTIFS(投手データー!$F$6:$F$50,AI9,投手データー!$U$6:$U$50,\"分\"))","v":""},{"$f":"IF(AH9=\"\",\"\",COUNTIFS(投手データー!$F$6:$F$50,AI9,投手データー!$U$6:$U$50,\"H\"))","v":""},{"$f":"IF(AH9=\"\",\"\",COUNTIFS(投手データー!$F$6:$F$50,AI9,投手データー!$U$6:$U$50,\"S\"))","v":""},{"$f":"IF(AH9=\"\",\"\",IFERROR(AV9*9/AP9,\"無\"))","v":""}]
[null,null,null,null,null,null,{"$f":"IF(I10=\"\",\"\",G6)","v":""},null,null,{"$f":"IF(H10=\"\",\"\",COUNTIFS(投手データー!$F$6:$F$50,G10,投手データー!$G$6:$G$50,H10,投手データー!$I$6:$I$50,\"先\"))","v":""},{"$f":"IF(H10=\"\",\"\",COUNTIFS(投手データー!$F$6:$F$50,G10,投手データー!$G$6:$G$50,H10,投手データー!$I$6:$I$50,\"2\"))","v":""},{"$f":"IF(H10=\"\",\"\",COUNTIFS(投手データー!$F$6:$F$50,G10,投手データー!$G$6:$G$50,H10,投手データー!$I$6:$I$50,\"3\"))","v":""},{"$f":"IF(H10=\"\",\"\",COUNTIFS(投手データー!$F$6:$F$50,G10,投手データー!$G$6:$G$50,H10,投手データー!$I$6:$I$50,\"4\"))","v":""},{"$f":"IF(H10=\"\",\"\",SUMIFS(投手データー!$J$6:$J$50,投手データー!$F$6:$F$50,G10,投手データー!$G$6:$G$50,H10))","v":""},{"$f":"IF(H10=\"\",\"\",3)","v":""},{"$f":"IF(H10=\"\",\"\",N10/O10)","v":""},null,{"$f":"IF(H10=\"\",\"\",SUMIFS(投手データー!$L$6:$L$50,投手データー!$F$6:$F$50,G10,投手データー!$G$6:$G$50,H10))","v":""},{"$f":"IF(H10=\"\",\"\",SUMIFS(投手データー!$M$6:$M$50,投手データー!$F$6:$F$50,G10,投手データー!$G$6:$G$50,H10))","v":""},{"$f":"IF(H10=\"\",\"\",SUMIFS(投手データー!$N$6:$N$50,投手データー!$F$6:$F$50,G10,投手データー!$G$6:$G$50,H10))","v":""},{"$f":"IF(H10=\"\",\"\",SUMIFS(投手データー!$O$6:$O$50,投手データー!$F$6:$F$50,G10,投手データー!$G$6:$G$50,H10))","v":""},{"$f":"IF(H10=\"\",\"\",SUMIFS(投手データー!$P$6:$P$50,投手データー!$F$6:$F$50,G10,投手データー!$G$6:$G$50,H10))","v":""},{"$f":"IF(H10=\"\",\"\",SUMIFS(投手データー!$Q$6:$Q$50,投手データー!$F$6:$F$50,G10,投手データー!$G$6:$G$50,H10))","v":""},{"$f":"IF(H10=\"\",\"\",SUMIFS(投手データー!$R$6:$R$50,投手データー!$F$6:$F$50,G10,投手データー!$G$6:$G$50,H10))","v":""},{"$f":"IF(H10=\"\",\"\",SUMIFS(投手データー!$S$6:$S$50,投手データー!$F$6:$F$50,G10,投手データー!$G$6:$G$50,H10))","v":""},{"$f":"IF(H10=\"\",\"\",SUMIFS(投手データー!$T$6:$T$50,投手データー!$F$6:$F$50,G10,投手データー!$G$6:$G$50,H10))","v":""},{"$f":"IF(H10=\"\",\"\",COUNTIFS(投手データー!$F$6:$F$50,G10,投手データー!$G$6:$G$50,H10,投手データー!$U$6:$U$50,\"勝\"))","v":""},{"$f":"IF(H10=\"\",\"\",COUNTIFS(投手データー!$F$6:$F$50,G10,投手データー!$G$6:$G$50,H10,投手データー!$U$6:$U$50,\"負\"))","v":""},{"$f":"IF(H10=\"\",\"\",COUNTIFS(投手データー!$F$6:$F$50,G10,投手データー!$G$6:$G$50,H10,投手データー!$U$6:$U$50,\"分\"))","v":""},{"$f":"IF(H10=\"\",\"\",COUNTIFS(投手データー!$F$6:$F$50,$G10,投手データー!$G$6:$G$50,H10,投手データー!$U$6:$U$50,\"H\"))","v":""},{"$f":"IF(H10=\"\",\"\",COUNTIFS(投手データー!$F$6:$F$50,G10,投手データー!$G$6:$G$50,H10,投手データー!$U$6:$U$50,\"S\"))","v":""},null,null,{"$f":"IF(戦績!O7=\"\",\"\",戦績!O7)","v":""},"B",{"$f":"IF(AH10=\"\",\"\",COUNTIFS(投手データー!$F$6:$F$50,AI10,投手データー!$I$6:$I$50,\"先\"))","v":""},{"$f":"IF(AH10=\"\",\"\",COUNTIFS(投手データー!$F$6:$F$50,AI10,投手データー!$I$6:$I$50,\"２\"))","v":""},{"$f":"IF(AH10=\"\",\"\",COUNTIFS(投手データー!$F$6:$F$50,AI10,投手データー!$I$6:$I$50,\"３\"))","v":""},{"$f":"IF(AH10=\"\",\"\",COUNTIFS(投手データー!$F$6:$F$50,AI10,投手データー!$I$6:$I$50,\"４\"))","v":""},{"$f":"IF(AH10=\"\",\"\",SUMIF(投手データー!$F$6:$F$50,AI10,投手データー!$J$6:$J$50))","v":""},{"$f":"IF(AH10=\"\",\"\",3)","v":""},{"$f":"IF(AH10=\"\",\"\",AN10/AO10)","v":""},{"$f":"IF(AH10=\"\",\"\",SUMIF(投手データー!$F$6:$F$50,AI10,投手データー!$L$6:$L$50))","v":""},{"$f":"IF(AH10=\"\",\"\",SUMIF(投手データー!$F$6:$F$50,AI10,投手データー!$M$6:$M$50))","v":""},{"$f":"IF(AH10=\"\",\"\",SUMIF(投手データー!$F$6:$F$50,AI10,投手データー!$N$6:$N$50))","v":""},{"$f":"IF(AH10=\"\",\"\",SUMIF(投手データー!$F$6:$F$50,AI10,投手データー!$O$6:$O$50))","v":""},{"$f":"IF(AH10=\"\",\"\",SUMIF(投手データー!$F$6:$F$50,AI10,投手データー!$P$6:$P$50))","v":""},{"$f":"IF(AH10=\"\",\"\",SUMIF(投手データー!$F$6:$F$50,AI10,投手データー!$Q$6:$Q$50))","v":""},{"$f":"IF(AH10=\"\",\"\",SUMIF(投手データー!$F$6:$F$50,AI10,投手データー!$R$6:$R$50))","v":""},{"$f":"IF(AH10=\"\",\"\",SUMIF(投手データー!$F$6:$F$50,AI10,投手データー!$S$6:$S$50))","v":""},{"$f":"IF(AH10=\"\",\"\",COUNTIF(戦績!$G$6:$G$101,AH10))","v":""},{"$f":"IF(AH10=\"\",\"\",COUNTIFS(投手データー!$F$6:$F$50,AI10,投手データー!$U$6:$U$50,\"勝\"))","v":""},{"$f":"IF(AH10=\"\",\"\",COUNTIFS(投手データー!$F$6:$F$50,AI10,投手データー!$U$6:$U$50,\"負\"))","v":""},{"$f":"IF(AH10=\"\",\"\",COUNTIFS(投手データー!$F$6:$F$50,AI10,投手データー!$U$6:$U$50,\"分\"))","v":""},{"$f":"IF(AH10=\"\",\"\",COUNTIFS(投手データー!$F$6:$F$50,AI10,投手データー!$U$6:$U$50,\"H\"))","v":""},{"$f":"IF(AH10=\"\",\"\",COUNTIFS(投手データー!$F$6:$F$50,AI10,投手データー!$U$6:$U$50,\"S\"))","v":""},{"$f":"IF(AH10=\"\",\"\",IFERROR(AV10*9/AP10,\"無\"))","v":""}]
[null,null,null,null,null,null,"",null,null,{"$f":"IF(H11=\"\",\"\",COUNTIFS(投手データー!$F$6:$F$50,G11,投手データー!$G$6:$G$50,H11,投手データー!$I$6:$I$50,\"先\"))","v":""},{"$f":"IF(H11=\"\",\"\",COUNTIFS(投手データー!$F$6:$F$50,G11,投手データー!$G$6:$G$50,H11,投手データー!$I$6:$I$50,\"2\"))","v":""},{"$f":"IF(H11=\"\",\"\",COUNTIFS(投手データー!$F$6:$F$50,G11,投手データー!$G$6:$G$50,H11,投手データー!$I$6:$I$50,\"3\"))","v":""},{"$f":"IF(H11=\"\",\"\",COUNTIFS(投手データー!$F$6:$F$50,G11,投手データー!$G$6:$G$50,H11,投手データー!$I$6:$I$50,\"4\"))","v":""},{"$f":"IF(H11=\"\",\"\",SUMIFS(投手データー!$J$6:$J$50,投手データー!$F$6:$F$50,G11,投手データー!$G$6:$G$50,H11))","v":""},"","",null,{"$f":"IF(H11=\"\",\"\",SUMIFS(投手データー!$L$6:$L$50,投手データー!$F$6:$F$50,G11,投手データー!$G$6:$G$50,H11))","v":""},{"$f":"IF(H11=\"\",\"\",SUMIFS(投手データー!$M$6:$M$50,投手データー!$F$6:$F$50,G11,投手データー!$G$6:$G$50,H11))","v":""},{"$f":"IF(H11=\"\",\"\",SUMIFS(投手データー!$N$6:$N$50,投手データー!$F$6:$F$50,G11,投手データー!$G$6:$G$50,H11))","v":""},{"$f":"IF(H11=\"\",\"\",SUMIFS(投手データー!$O$6:$O$50,投手データー!$F$6:$F$50,G11,投手データー!$G$6:$G$50,H11))","v":""},{"$f":"IF(H11=\"\",\"\",SUMIFS(投手データー!$P$6:$P$50,投手データー!$F$6:$F$50,G11,投手データー!$G$6:$G$50,H11))","v":""},{"$f":"IF(H11=\"\",\"\",SUMIFS(投手データー!$Q$6:$Q$50,投手データー!$F$6:$F$50,G11,投手データー!$G$6:$G$50,H11))","v":""},{"$f":"IF(H11=\"\",\"\",SUMIFS(投手データー!$R$6:$R$50,投手データー!$F$6:$F$50,G11,投手データー!$G$6:$G$50,H11))","v":""},{"$f":"IF(H11=\"\",\"\",SUMIFS(投手データー!$S$6:$S$50,投手データー!$F$6:$F$50,G11,投手データー!$G$6:$G$50,H11))","v":""},{"$f":"IF(H11=\"\",\"\",SUMIFS(投手データー!$T$6:$T$50,投手データー!$F$6:$F$50,G11,投手データー!$G$6:$G$50,H11))","v":""},{"$f":"IF(H11=\"\",\"\",COUNTIFS(投手データー!$F$6:$F$50,G11,投手データー!$G$6:$G$50,H11,投手データー!$U$6:$U$50,\"勝\"))","v":""},{"$f":"IF(H11=\"\",\"\",COUNTIFS(投手データー!$F$6:$F$50,G11,投手データー!$G$6:$G$50,H11,投手データー!$U$6:$U$50,\"負\"))","v":""},{"$f":"IF(H11=\"\",\"\",COUNTIFS(投手データー!$F$6:$F$50,G11,投手データー!$G$6:$G$50,H11,投手データー!$U$6:$U$50,\"分\"))","v":""},{"$f":"IF(H11=\"\",\"\",COUNTIFS(投手データー!$F$6:$F$50,$G11,投手データー!$G$6:$G$50,H11,投手データー!$U$6:$U$50,\"H\"))","v":""},{"$f":"IF(H11=\"\",\"\",COUNTIFS(投手データー!$F$6:$F$50,G11,投手データー!$G$6:$G$50,H11,投手データー!$U$6:$U$50,\"S\"))","v":""},null,null,{"$f":"IF(戦績!O8=\"\",\"\",戦績!O8)","v":""},"C",{"$f":"IF(AH11=\"\",\"\",COUNTIFS(投手データー!$F$6:$F$50,AI11,投手データー!$I$6:$I$50,\"先\"))","v":""},{"$f":"IF(AH11=\"\",\"\",COUNTIFS(投手データー!$F$6:$F$50,AI11,投手データー!$I$6:$I$50,\"２\"))","v":""},{"$f":"IF(AH11=\"\",\"\",COUNTIFS(投手データー!$F$6:$F$50,AI11,投手データー!$I$6:$I$50,\"３\"))","v":""},{"$f":"IF(AH11=\"\",\"\",COUNTIFS(投手データー!$F$6:$F$50,AI11,投手データー!$I$6:$I$50,\"４\"))","v":""},{"$f":"IF(AH11=\"\",\"\",SUMIF(投手データー!$F$6:$F$50,AI11,投手データー!$J$6:$J$50))","v":""},"","",{"$f":"IF(AH11=\"\",\"\",SUMIF(投手データー!$F$6:$F$50,AI11,投手データー!$L$6:$L$50))","v":""},{"$f":"IF(AH11=\"\",\"\",SUMIF(投手データー!$F$6:$F$50,AI11,投手データー!$M$6:$M$50))","v":""},{"$f":"IF(AH11=\"\",\"\",SUMIF(投手データー!$F$6:$F$50,AI11,投手データー!$N$6:$N$50))","v":""},{"$f":"IF(AH11=\"\",\"\",SUMIF(投手データー!$F$6:$F$50,AI11,投手データー!$O$6:$O$50))","v":""},{"$f":"IF(AH11=\"\",\"\",SUMIF(投手データー!$F$6:$F$50,AI11,投手データー!$P$6:$P$50))","v":""},{"$f":"IF(AH11=\"\",\"\",SUMIF(投手データー!$F$6:$F$50,AI11,投手データー!$Q$6:$Q$50))","v":""},{"$f":"IF(AH11=\"\",\"\",SUMIF(投手データー!$F$6:$F$50,AI11,投手データー!$R$6:$R$50))","v":""},{"$f":"IF(AH11=\"\",\"\",SUMIF(投手データー!$F$6:$F$50,AI11,投手データー!$S$6:$S$50))","v":""},{"$f":"IF(AH11=\"\",\"\",COUNTIF(戦績!$G$6:$G$101,AH11))","v":""},{"$f":"IF(AH11=\"\",\"\",COUNTIFS(投手データー!$F$6:$F$50,AI11,投手データー!$U$6:$U$50,\"勝\"))","v":""},{"$f":"IF(AH11=\"\",\"\",COUNTIFS(投手データー!$F$6:$F$50,AI11,投手データー!$U$6:$U$50,\"負\"))","v":""},{"$f":"IF(AH11=\"\",\"\",COUNTIFS(投手データー!$F$6:$F$50,AI11,投手データー!$U$6:$U$50,\"分\"))","v":""},{"$f":"IF(AH11=\"\",\"\",COUNTIFS(投手データー!$F$6:$F$50,AI11,投手データー!$U$6:$U$50,\"H\"))","v":""},{"$f":"IF(AH11=\"\",\"\",COUNTIFS(投手データー!$F$6:$F$50,AI11,投手データー!$U$6:$U$50,\"S\"))","v":""},""]
[null,null,null,null,null,null,"",null,null,{"$f":"IF(H12=\"\",\"\",COUNTIFS(投手データー!$F$6:$F$50,G12,投手データー!$G$6:$G$50,H12,投手データー!$I$6:$I$50,\"先\"))","v":""},{"$f":"IF(H12=\"\",\"\",COUNTIFS(投手データー!$F$6:$F$50,G12,投手データー!$G$6:$G$50,H12,投手データー!$I$6:$I$50,\"2\"))","v":""},{"$f":"IF(H12=\"\",\"\",COUNTIFS(投手データー!$F$6:$F$50,G12,投手データー!$G$6:$G$50,H12,投手データー!$I$6:$I$50,\"3\"))","v":""},{"$f":"IF(H12=\"\",\"\",COUNTIFS(投手データー!$F$6:$F$50,G12,投手データー!$G$6:$G$50,H12,投手データー!$I$6:$I$50,\"4\"))","v":""},{"$f":"IF(H12=\"\",\"\",SUMIFS(投手データー!$J$6:$J$50,投手データー!$F$6:$F$50,G12,投手データー!$G$6:$G$50,H12))","v":""},"","",null,{"$f":"IF(H12=\"\",\"\",SUMIFS(投手データー!$L$6:$L$50,投手データー!$F$6:$F$50,G12,投手データー!$G$6:$G$50,H12))","v":""},{"$f":"IF(H12=\"\",\"\",SUMIFS(投手データー!$M$6:$M$50,投手データー!$F$6:$F$50,G12,投手データー!$G$6:$G$50,H12))","v":""},{"$f":"IF(H12=\"\",\"\",SUMIFS(投手データー!$N$6:$N$50,投手データー!$F$6:$F$50,G12,投手データー!$G$6:$G$50,H12))","v":""},{"$f":"IF(H12=\"\",\"\",SUMIFS(投手データー!$O$6:$O$50,投手データー!$F$6:$F$50,G12,投手データー!$G$6:$G$50,H12))","v":""},{"$f":"IF(H12=\"\",\"\",SUMIFS(投手データー!$P$6:$P$50,投手データー!$F$6:$F$50,G12,投手データー!$G$6:$G$50,H12))","v":""},{"$f":"IF(H12=\"\",\"\",SUMIFS(投手データー!$Q$6:$Q$50,投手データー!$F$6:$F$50,G12,投手データー!$G$6:$G$50,H12))","v":""},{"$f":"IF(H12=\"\",\"\",SUMIFS(投手データー!$R$6:$R$50,投手データー!$F$6:$F$50,G12,投手データー!$G$6:$G$50,H12))","v":""},{"$f":"IF(H12=\"\",\"\",SUMIFS(投手データー!$S$6:$S$50,投手データー!$F$6:$F$50,G12,投手データー!$G$6:$G$50,H12))","v":""},{"$f":"IF(H12=\"\",\"\",SUMIFS(投手データー!$T$6:$T$50,投手データー!$F$6:$F$50,G12,投手データー!$G$6:$G$50,H12))","v":""},{"$f":"IF(H12=\"\",\"\",COUNTIFS(投手データー!$F$6:$F$50,G12,投手データー!$G$6:$G$50,H12,投手データー!$U$6:$U$50,\"勝\"))","v":""},{"$f":"IF(H12=\"\",\"\",COUNTIFS(投手データー!$F$6:$F$50,G12,投手データー!$G$6:$G$50,H12,投手データー!$U$6:$U$50,\"負\"))","v":""},{"$f":"IF(H12=\"\",\"\",COUNTIFS(投手データー!$F$6:$F$50,G12,投手データー!$G$6:$G$50,H12,投手データー!$U$6:$U$50,\"分\"))","v":""},{"$f":"IF(H12=\"\",\"\",COUNTIFS(投手データー!$F$6:$F$50,$G12,投手データー!$G$6:$G$50,H12,投手データー!$U$6:$U$50,\"H\"))","v":""},{"$f":"IF(H12=\"\",\"\",COUNTIFS(投手データー!$F$6:$F$50,G12,投手データー!$G$6:$G$50,H12,投手データー!$U$6:$U$50,\"S\"))","v":""},null,null,{"$f":"IF(戦績!O9=\"\",\"\",戦績!O9)","v":""},"D",{"$f":"IF(AH12=\"\",\"\",COUNTIFS(投手データー!$F$6:$F$50,AI12,投手データー!$I$6:$I$50,\"先\"))","v":""},{"$f":"IF(AH12=\"\",\"\",COUNTIFS(投手データー!$F$6:$F$50,AI12,投手データー!$I$6:$I$50,\"２\"))","v":""},{"$f":"IF(AH12=\"\",\"\",COUNTIFS(投手データー!$F$6:$F$50,AI12,投手データー!$I$6:$I$50,\"３\"))","v":""},{"$f":"IF(AH12=\"\",\"\",COUNTIFS(投手データー!$F$6:$F$50,AI12,投手データー!$I$6:$I$50,\"４\"))","v":""},{"$f":"IF(AH12=\"\",\"\",SUMIF(投手データー!$F$6:$F$50,AI12,投手データー!$J$6:$J$50))","v":""},"","",{"$f":"IF(AH12=\"\",\"\",SUMIF(投手データー!$F$6:$F$50,AI12,投手データー!$L$6:$L$50))","v":""},{"$f":"IF(AH12=\"\",\"\",SUMIF(投手データー!$F$6:$F$50,AI12,投手データー!$M$6:$M$50))","v":""},{"$f":"IF(AH12=\"\",\"\",SUMIF(投手データー!$F$6:$F$50,AI12,投手データー!$N$6:$N$50))","v":""},{"$f":"IF(AH12=\"\",\"\",SUMIF(投手データー!$F$6:$F$50,AI12,投手データー!$O$6:$O$50))","v":""},{"$f":"IF(AH12=\"\",\"\",SUMIF(投手データー!$F$6:$F$50,AI12,投手データー!$P$6:$P$50))","v":""},{"$f":"IF(AH12=\"\",\"\",SUMIF(投手データー!$F$6:$F$50,AI12,投手データー!$Q$6:$Q$50))","v":""},{"$f":"IF(AH12=\"\",\"\",SUMIF(投手データー!$F$6:$F$50,AI12,投手データー!$R$6:$R$50))","v":""},{"$f":"IF(AH12=\"\",\"\",SUMIF(投手データー!$F$6:$F$50,AI12,投手データー!$S$6:$S$50))","v":""},{"$f":"IF(AH12=\"\",\"\",COUNTIF(戦績!$G$6:$G$101,AH12))","v":""},{"$f":"IF(AH12=\"\",\"\",COUNTIFS(投手データー!$F$6:$F$50,AI12,投手データー!$U$6:$U$50,\"勝\"))","v":""},{"$f":"IF(AH12=\"\",\"\",COUNTIFS(投手データー!$F$6:$F$50,AI12,投手データー!$U$6:$U$50,\"負\"))","v":""},{"$f":"IF(AH12=\"\",\"\",COUNTIFS(投手データー!$F$6:$F$50,AI12,投手データー!$U$6:$U$50,\"分\"))","v":""},{"$f":"IF(AH12=\"\",\"\",COUNTIFS(投手データー!$F$6:$F$50,AI12,投手データー!$U$6:$U$50,\"H\"))","v":""},{"$f":"IF(AH12=\"\",\"\",COUNTIFS(投手データー!$F$6:$F$50,AI12,投手データー!$U$6:$U$50,\"S\"))","v":""},""]
[null,null,null,null,null,null,"",null,null,{"$f":"IF(H13=\"\",\"\",COUNTIFS(投手データー!$F$6:$F$50,G13,投手データー!$G$6:$G$50,H13,投手データー!$I$6:$I$50,\"先\"))","v":""},{"$f":"IF(H13=\"\",\"\",COUNTIFS(投手データー!$F$6:$F$50,G13,投手データー!$G$6:$G$50,H13,投手データー!$I$6:$I$50,\"2\"))","v":""},{"$f":"IF(H13=\"\",\"\",COUNTIFS(投手データー!$F$6:$F$50,G13,投手データー!$G$6:$G$50,H13,投手データー!$I$6:$I$50,\"3\"))","v":""},{"$f":"IF(H13=\"\",\"\",COUNTIFS(投手データー!$F$6:$F$50,G13,投手データー!$G$6:$G$50,H13,投手データー!$I$6:$I$50,\"4\"))","v":""},{"$f":"IF(H13=\"\",\"\",SUMIFS(投手データー!$J$6:$J$50,投手データー!$F$6:$F$50,G13,投手データー!$G$6:$G$50,H13))","v":""},"","",null,{"$f":"IF(H13=\"\",\"\",SUMIFS(投手データー!$L$6:$L$50,投手データー!$F$6:$F$50,G13,投手データー!$G$6:$G$50,H13))","v":""},{"$f":"IF(H13=\"\",\"\",SUMIFS(投手データー!$M$6:$M$50,投手データー!$F$6:$F$50,G13,投手データー!$G$6:$G$50,H13))","v":""},{"$f":"IF(H13=\"\",\"\",SUMIFS(投手データー!$N$6:$N$50,投手データー!$F$6:$F$50,G13,投手データー!$G$6:$G$50,H13))","v":""},{"$f":"IF(H13=\"\",\"\",SUMIFS(投手データー!$O$6:$O$50,投手データー!$F$6:$F$50,G13,投手データー!$G$6:$G$50,H13))","v":""},{"$f":"IF(H13=\"\",\"\",SUMIFS(投手データー!$P$6:$P$50,投手データー!$F$6:$F$50,G13,投手データー!$G$6:$G$50,H13))","v":""},{"$f":"IF(H13=\"\",\"\",SUMIFS(投手データー!$Q$6:$Q$50,投手データー!$F$6:$F$50,G13,投手データー!$G$6:$G$50,H13))","v":""},{"$f":"IF(H13=\"\",\"\",SUMIFS(投手データー!$R$6:$R$50,投手データー!$F$6:$F$50,G13,投手データー!$G$6:$G$50,H13))","v":""},{"$f":"IF(H13=\"\",\"\",SUMIFS(投手データー!$S$6:$S$50,投手データー!$F$6:$F$50,G13,投手データー!$G$6:$G$50,H13))","v":""},{"$f":"IF(H13=\"\",\"\",SUMIFS(投手データー!$T$6:$T$50,投手データー!$F$6:$F$50,G13,投手データー!$G$6:$G$50,H13))","v":""},{"$f":"IF(H13=\"\",\"\",COUNTIFS(投手データー!$F$6:$F$50,G13,投手データー!$G$6:$G$50,H13,投手データー!$U$6:$U$50,\"勝\"))","v":""},{"$f":"IF(H13=\"\",\"\",COUNTIFS(投手データー!$F$6:$F$50,G13,投手データー!$G$6:$G$50,H13,投手データー!$U$6:$U$50,\"負\"))","v":""},{"$f":"IF(H13=\"\",\"\",COUNTIFS(投手データー!$F$6:$F$50,G13,投手データー!$G$6:$G$50,H13,投手データー!$U$6:$U$50,\"分\"))","v":""},{"$f":"IF(H13=\"\",\"\",COUNTIFS(投手データー!$F$6:$F$50,$G13,投手データー!$G$6:$G$50,H13,投手データー!$U$6:$U$50,\"H\"))","v":""},{"$f":"IF(H13=\"\",\"\",COUNTIFS(投手データー!$F$6:$F$50,G13,投手データー!$G$6:$G$50,H13,投手データー!$U$6:$U$50,\"S\"))","v":""},null,null,{"$f":"IF(戦績!O10=\"\",\"\",戦績!O10)","v":""},"E",{"$f":"IF(AH13=\"\",\"\",COUNTIFS(投手データー!$F$6:$F$50,AI13,投手データー!$I$6:$I$50,\"先\"))","v":""},{"$f":"IF(AH13=\"\",\"\",COUNTIFS(投手データー!$F$6:$F$50,AI13,投手データー!$I$6:$I$50,\"２\"))","v":""},{"$f":"IF(AH13=\"\",\"\",COUNTIFS(投手データー!$F$6:$F$50,AI13,投手データー!$I$6:$I$50,\"３\"))","v":""},{"$f":"IF(AH13=\"\",\"\",COUNTIFS(投手データー!$F$6:$F$50,AI13,投手データー!$I$6:$I$50,\"４\"))","v":""},{"$f":"IF(AH13=\"\",\"\",SUMIF(投手データー!$F$6:$F$50,AI13,投手データー!$J$6:$J$50))","v":""},"","",{"$f":"IF(AH13=\"\",\"\",SUMIF(投手データー!$F$6:$F$50,AI13,投手データー!$L$6:$L$50))","v":""},{"$f":"IF(AH13=\"\",\"\",SUMIF(投手データー!$F$6:$F$50,AI13,投手データー!$M$6:$M$50))","v":""},{"$f":"IF(AH13=\"\",\"\",SUMIF(投手データー!$F$6:$F$50,AI13,投手データー!$N$6:$N$50))","v":""},{"$f":"IF(AH13=\"\",\"\",SUMIF(投手データー!$F$6:$F$50,AI13,投手データー!$O$6:$O$50))","v":""},{"$f":"IF(AH13=\"\",\"\",SUMIF(投手データー!$F$6:$F$50,AI13,投手データー!$P$6:$P$50))","v":""},{"$f":"IF(AH13=\"\",\"\",SUMIF(投手データー!$F$6:$F$50,AI13,投手データー!$Q$6:$Q$50))","v":""},{"$f":"IF(AH13=\"\",\"\",SUMIF(投手データー!$F$6:$F$50,AI13,投手データー!$R$6:$R$50))","v":""},{"$f":"IF(AH13=\"\",\"\",SUMIF(投手データー!$F$6:$F$50,AI13,投手データー!$S$6:$S$50))","v":""},{"$f":"IF(AH13=\"\",\"\",COUNTIF(戦績!$G$6:$G$101,AH13))","v":""},{"$f":"IF(AH13=\"\",\"\",COUNTIFS(投手データー!$F$6:$F$50,AI13,投手データー!$U$6:$U$50,\"勝\"))","v":""},{"$f":"IF(AH13=\"\",\"\",COUNTIFS(投手データー!$F$6:$F$50,AI13,投手データー!$U$6:$U$50,\"負\"))","v":""},{"$f":"IF(AH13=\"\",\"\",COUNTIFS(投手データー!$F$6:$F$50,AI13,投手データー!$U$6:$U$50,\"分\"))","v":""},{"$f":"IF(AH13=\"\",\"\",COUNTIFS(投手データー!$F$6:$F$50,AI13,投手データー!$U$6:$U$50,\"H\"))","v":""},{"$f":"IF(AH13=\"\",\"\",COUNTIFS(投手データー!$F$6:$F$50,AI13,投手データー!$U$6:$U$50,\"S\"))","v":""},""]
[null,null,null,null,null,null,"",null,null,{"$f":"IF(H14=\"\",\"\",COUNTIFS(投手データー!$F$6:$F$50,G14,投手データー!$G$6:$G$50,H14,投手データー!$I$6:$I$50,\"先\"))","v":""},{"$f":"IF(H14=\"\",\"\",COUNTIFS(投手データー!$F$6:$F$50,G14,投手データー!$G$6:$G$50,H14,投手データー!$I$6:$I$50,\"2\"))","v":""},{"$f":"IF(H14=\"\",\"\",COUNTIFS(投手データー!$F$6:$F$50,G14,投手データー!$G$6:$G$50,H14,投手データー!$I$6:$I$50,\"3\"))","v":""},{"$f":"IF(H14=\"\",\"\",COUNTIFS(投手データー!$F$6:$F$50,G14,投手データー!$G$6:$G$50,H14,投手データー!$I$6:$I$50,\"4\"))","v":""},{"$f":"IF(H14=\"\",\"\",SUMIFS(投手データー!$J$6:$J$50,投手データー!$F$6:$F$50,G14,投手データー!$G$6:$G$50,H14))","v":""},"","",null,{"$f":"IF(H14=\"\",\"\",SUMIFS(投手データー!$L$6:$L$50,投手データー!$F$6:$F$50,G14,投手データー!$G$6:$G$50,H14))","v":""},{"$f":"IF(H14=\"\",\"\",SUMIFS(投手データー!$M$6:$M$50,投手データー!$F$6:$F$50,G14,投手データー!$G$6:$G$50,H14))","v":""},{"$f":"IF(H14=\"\",\"\",SUMIFS(投手データー!$N$6:$N$50,投手データー!$F$6:$F$50,G14,投手データー!$G$6:$G$50,H14))","v":""},{"$f":"IF(H14=\"\",\"\",SUMIFS(投手データー!$O$6:$O$50,投手データー!$F$6:$F$50,G14,投手データー!$G$6:$G$50,H14))","v":""},{"$f":"IF(H14=\"\",\"\",SUMIFS(投手データー!$P$6:$P$50,投手データー!$F$6:$F$50,G14,投手データー!$G$6:$G$50,H14))","v":""},{"$f":"IF(H14=\"\",\"\",SUMIFS(投手データー!$Q$6:$Q$50,投手データー!$F$6:$F$50,G14,投手データー!$G$6:$G$50,H14))","v":""},{"$f":"IF(H14=\"\",\"\",SUMIFS(投手データー!$R$6:$R$50,投手データー!$F$6:$F$50,G14,投手データー!$G$6:$G$50,H14))","v":""},{"$f":"IF(H14=\"\",\"\",SUMIFS(投手データー!$S$6:$S$50,投手データー!$F$6:$F$50,G14,投手データー!$G$6:$G$50,H14))","v":""},{"$f":"IF(H14=\"\",\"\",SUMIFS(投手データー!$T$6:$T$50,投手データー!$F$6:$F$50,G14,投手データー!$G$6:$G$50,H14))","v":""},{"$f":"IF(H14=\"\",\"\",COUNTIFS(投手データー!$F$6:$F$50,G14,投手データー!$G$6:$G$50,H14,投手データー!$U$6:$U$50,\"勝\"))","v":""},{"$f":"IF(H14=\"\",\"\",COUNTIFS(投手データー!$F$6:$F$50,G14,投手データー!$G$6:$G$50,H14,投手データー!$U$6:$U$50,\"負\"))","v":""},{"$f":"IF(H14=\"\",\"\",COUNTIFS(投手データー!$F$6:$F$50,G14,投手データー!$G$6:$G$50,H14,投手データー!$U$6:$U$50,\"分\"))","v":""},{"$f":"IF(H14=\"\",\"\",COUNTIFS(投手データー!$F$6:$F$50,$G14,投手データー!$G$6:$G$50,H14,投手データー!$U$6:$U$50,\"H\"))","v":""},{"$f":"IF(H14=\"\",\"\",COUNTIFS(投手データー!$F$6:$F$50,G14,投手データー!$G$6:$G$50,H14,投手データー!$U$6:$U$50,\"S\"))","v":""},null,null,{"$f":"IF(戦績!O11=\"\",\"\",戦績!O11)","v":""},"F",{"$f":"IF(AH14=\"\",\"\",COUNTIFS(投手データー!$F$6:$F$50,AI14,投手データー!$I$6:$I$50,\"先\"))","v":""},{"$f":"IF(AH14=\"\",\"\",COUNTIFS(投手データー!$F$6:$F$50,AI14,投手データー!$I$6:$I$50,\"２\"))","v":""},{"$f":"IF(AH14=\"\",\"\",COUNTIFS(投手データー!$F$6:$F$50,AI14,投手データー!$I$6:$I$50,\"３\"))","v":""},{"$f":"IF(AH14=\"\",\"\",COUNTIFS(投手データー!$F$6:$F$50,AI14,投手データー!$I$6:$I$50,\"４\"))","v":""},{"$f":"IF(AH14=\"\",\"\",SUMIF(投手データー!$F$6:$F$50,AI14,投手データー!$J$6:$J$50))","v":""},"","",{"$f":"IF(AH14=\"\",\"\",SUMIF(投手データー!$F$6:$F$50,AI14,投手データー!$L$6:$L$50))","v":""},{"$f":"IF(AH14=\"\",\"\",SUMIF(投手データー!$F$6:$F$50,AI14,投手データー!$M$6:$M$50))","v":""},{"$f":"IF(AH14=\"\",\"\",SUMIF(投手データー!$F$6:$F$50,AI14,投手データー!$N$6:$N$50))","v":""},{"$f":"IF(AH14=\"\",\"\",SUMIF(投手データー!$F$6:$F$50,AI14,投手データー!$O$6:$O$50))","v":""},{"$f":"IF(AH14=\"\",\"\",SUMIF(投手データー!$F$6:$F$50,AI14,投手データー!$P$6:$P$50))","v":""},{"$f":"IF(AH14=\"\",\"\",SUMIF(投手データー!$F$6:$F$50,AI14,投手データー!$Q$6:$Q$50))","v":""},{"$f":"IF(AH14=\"\",\"\",SUMIF(投手データー!$F$6:$F$50,AI14,投手データー!$R$6:$R$50))","v":""},{"$f":"IF(AH14=\"\",\"\",SUMIF(投手データー!$F$6:$F$50,AI14,投手データー!$S$6:$S$50))","v":""},{"$f":"IF(AH14=\"\",\"\",COUNTIF(戦績!$G$6:$G$101,AH14))","v":""},{"$f":"IF(AH14=\"\",\"\",COUNTIFS(投手データー!$F$6:$F$50,AI14,投手データー!$U$6:$U$50,\"勝\"))","v":""},{"$f":"IF(AH14=\"\",\"\",COUNTIFS(投手データー!$F$6:$F$50,AI14,投手データー!$U$6:$U$50,\"負\"))","v":""},{"$f":"IF(AH14=\"\",\"\",COUNTIFS(投手データー!$F$6:$F$50,AI14,投手データー!$U$6:$U$50,\"分\"))","v":""},{"$f":"IF(AH14=\"\",\"\",COUNTIFS(投手データー!$F$6:$F$50,AI14,投手データー!$U$6:$U$50,\"H\"))","v":""},{"$f":"IF(AH14=\"\",\"\",COUNTIFS(投手データー!$F$6:$F$50,AI14,投手データー!$U$6:$U$50,\"S\"))","v":""},""]
[null,null,null,null,null,null,"",null,null,{"$f":"IF(H15=\"\",\"\",COUNTIFS(投手データー!$F$6:$F$50,G15,投手データー!$G$6:$G$50,H15,投手データー!$I$6:$I$50,\"先\"))","v":""},{"$f":"IF(H15=\"\",\"\",COUNTIFS(投手データー!$F$6:$F$50,G15,投手データー!$G$6:$G$50,H15,投手データー!$I$6:$I$50,\"2\"))","v":""},{"$f":"IF(H15=\"\",\"\",COUNTIFS(投手データー!$F$6:$F$50,G15,投手データー!$G$6:$G$50,H15,投手データー!$I$6:$I$50,\"3\"))","v":""},{"$f":"IF(H15=\"\",\"\",COUNTIFS(投手データー!$F$6:$F$50,G15,投手データー!$G$6:$G$50,H15,投手データー!$I$6:$I$50,\"4\"))","v":""},{"$f":"IF(H15=\"\",\"\",SUMIFS(投手データー!$J$6:$J$50,投手データー!$F$6:$F$50,G15,投手データー!$G$6:$G$50,H15))","v":""},"","",null,{"$f":"IF(H15=\"\",\"\",SUMIFS(投手データー!$L$6:$L$50,投手データー!$F$6:$F$50,G15,投手データー!$G$6:$G$50,H15))","v":""},{"$f":"IF(H15=\"\",\"\",SUMIFS(投手データー!$M$6:$M$50,投手データー!$F$6:$F$50,G15,投手データー!$G$6:$G$50,H15))","v":""},{"$f":"IF(H15=\"\",\"\",SUMIFS(投手データー!$N$6:$N$50,投手データー!$F$6:$F$50,G15,投手データー!$G$6:$G$50,H15))","v":""},{"$f":"IF(H15=\"\",\"\",SUMIFS(投手データー!$O$6:$O$50,投手データー!$F$6:$F$50,G15,投手データー!$G$6:$G$50,H15))","v":""},{"$f":"IF(H15=\"\",\"\",SUMIFS(投手データー!$P$6:$P$50,投手データー!$F$6:$F$50,G15,投手データー!$G$6:$G$50,H15))","v":""},{"$f":"IF(H15=\"\",\"\",SUMIFS(投手データー!$Q$6:$Q$50,投手データー!$F$6:$F$50,G15,投手データー!$G$6:$G$50,H15))","v":""},{"$f":"IF(H15=\"\",\"\",SUMIFS(投手データー!$R$6:$R$50,投手データー!$F$6:$F$50,G15,投手データー!$G$6:$G$50,H15))","v":""},{"$f":"IF(H15=\"\",\"\",SUMIFS(投手データー!$S$6:$S$50,投手データー!$F$6:$F$50,G15,投手データー!$G$6:$G$50,H15))","v":""},{"$f":"IF(H15=\"\",\"\",SUMIFS(投手データー!$T$6:$T$50,投手データー!$F$6:$F$50,G15,投手データー!$G$6:$G$50,H15))","v":""},{"$f":"IF(H15=\"\",\"\",COUNTIFS(投手データー!$F$6:$F$50,G15,投手データー!$G$6:$G$50,H15,投手データー!$U$6:$U$50,\"勝\"))","v":""},{"$f":"IF(H15=\"\",\"\",COUNTIFS(投手データー!$F$6:$F$50,G15,投手データー!$G$6:$G$50,H15,投手データー!$U$6:$U$50,\"負\"))","v":""},{"$f":"IF(H15=\"\",\"\",COUNTIFS(投手データー!$F$6:$F$50,G15,投手データー!$G$6:$G$50,H15,投手データー!$U$6:$U$50,\"分\"))","v":""},{"$f":"IF(H15=\"\",\"\",COUNTIFS(投手データー!$F$6:$F$50,$G15,投手データー!$G$6:$G$50,H15,投手データー!$U$6:$U$50,\"H\"))","v":""},{"$f":"IF(H15=\"\",\"\",COUNTIFS(投手データー!$F$6:$F$50,G15,投手データー!$G$6:$G$50,H15,投手データー!$U$6:$U$50,\"S\"))","v":""},null,null,{"$f":"IF(戦績!O12=\"\",\"\",戦績!O12)","v":""},"G",{"$f":"IF(AH15=\"\",\"\",COUNTIFS(投手データー!$F$6:$F$50,AI15,投手データー!$I$6:$I$50,\"先\"))","v":""},{"$f":"IF(AH15=\"\",\"\",COUNTIFS(投手データー!$F$6:$F$50,AI15,投手データー!$I$6:$I$50,\"２\"))","v":""},{"$f":"IF(AH15=\"\",\"\",COUNTIFS(投手データー!$F$6:$F$50,AI15,投手データー!$I$6:$I$50,\"３\"))","v":""},{"$f":"IF(AH15=\"\",\"\",COUNTIFS(投手データー!$F$6:$F$50,AI15,投手データー!$I$6:$I$50,\"４\"))","v":""},{"$f":"IF(AH15=\"\",\"\",SUMIF(投手データー!$F$6:$F$50,AI15,投手データー!$J$6:$J$50))","v":""},"","",{"$f":"IF(AH15=\"\",\"\",SUMIF(投手データー!$F$6:$F$50,AI15,投手データー!$L$6:$L$50))","v":""},{"$f":"IF(AH15=\"\",\"\",SUMIF(投手データー!$F$6:$F$50,AI15,投手データー!$M$6:$M$50))","v":""},{"$f":"IF(AH15=\"\",\"\",SUMIF(投手データー!$F$6:$F$50,AI15,投手データー!$N$6:$N$50))","v":""},{"$f":"IF(AH15=\"\",\"\",SUMIF(投手データー!$F$6:$F$50,AI15,投手データー!$O$6:$O$50))","v":""},{"$f":"IF(AH15=\"\",\"\",SUMIF(投手データー!$F$6:$F$50,AI15,投手データー!$P$6:$P$50))","v":""},{"$f":"IF(AH15=\"\",\"\",SUMIF(投手データー!$F$6:$F$50,AI15,投手データー!$Q$6:$Q$50))","v":""},{"$f":"IF(AH15=\"\",\"\",SUMIF(投手データー!$F$6:$F$50,AI15,投手データー!$R$6:$R$50))","v":""},{"$f":"IF(AH15=\"\",\"\",SUMIF(投手データー!$F$6:$F$50,AI15,投手データー!$S$6:$S$50))","v":""},{"$f":"IF(AH15=\"\",\"\",COUNTIF(戦績!$G$6:$G$101,AH15))","v":""},{"$f":"IF(AH15=\"\",\"\",COUNTIFS(投手データー!$F$6:$F$50,AI15,投手データー!$U$6:$U$50,\"勝\"))","v":""},{"$f":"IF(AH15=\"\",\"\",COUNTIFS(投手データー!$F$6:$F$50,AI15,投手データー!$U$6:$U$50,\"負\"))","v":""},{"$f":"IF(AH15=\"\",\"\",COUNTIFS(投手データー!$F$6:$F$50,AI15,投手データー!$U$6:$U$50,\"分\"))","v":""},{"$f":"IF(AH15=\"\",\"\",COUNTIFS(投手データー!$F$6:$F$50,AI15,投手データー!$U$6:$U$50,\"H\"))","v":""},{"$f":"IF(AH15=\"\",\"\",COUNTIFS(投手データー!$F$6:$F$50,AI15,投手データー!$U$6:$U$50,\"S\"))","v":""},""]
[null,null,null,null,null,null,"",null,null,{"$f":"IF(H16=\"\",\"\",COUNTIFS(投手データー!$F$6:$F$50,G16,投手データー!$G$6:$G$50,H16,投手データー!$I$6:$I$50,\"先\"))","v":""},{"$f":"IF(H16=\"\",\"\",COUNTIFS(投手データー!$F$6:$F$50,G16,投手データー!$G$6:$G$50,H16,投手データー!$I$6:$I$50,\"2\"))","v":""},{"$f":"IF(H16=\"\",\"\",COUNTIFS(投手データー!$F$6:$F$50,G16,投手データー!$G$6:$G$50,H16,投手データー!$I$6:$I$50,\"3\"))","v":""},{"$f":"IF(H16=\"\",\"\",COUNTIFS(投手データー!$F$6:$F$50,G16,投手データー!$G$6:$G$50,H16,投手データー!$I$6:$I$50,\"4\"))","v":""},{"$f":"IF(H16=\"\",\"\",SUMIFS(投手データー!$J$6:$J$50,投手データー!$F$6:$F$50,G16,投手データー!$G$6:$G$50,H16))","v":""},"","",null,{"$f":"IF(H16=\"\",\"\",SUMIFS(投手データー!$L$6:$L$50,投手データー!$F$6:$F$50,G16,投手データー!$G$6:$G$50,H16))","v":""},{"$f":"IF(H16=\"\",\"\",SUMIFS(投手データー!$M$6:$M$50,投手データー!$F$6:$F$50,G16,投手データー!$G$6:$G$50,H16))","v":""},{"$f":"IF(H16=\"\",\"\",SUMIFS(投手データー!$N$6:$N$50,投手データー!$F$6:$F$50,G16,投手データー!$G$6:$G$50,H16))","v":""},{"$f":"IF(H16=\"\",\"\",SUMIFS(投手データー!$O$6:$O$50,投手データー!$F$6:$F$50,G16,投手データー!$G$6:$G$50,H16))","v":""},{"$f":"IF(H16=\"\",\"\",SUMIFS(投手データー!$P$6:$P$50,投手データー!$F$6:$F$50,G16,投手データー!$G$6:$G$50,H16))","v":""},{"$f":"IF(H16=\"\",\"\",SUMIFS(投手データー!$Q$6:$Q$50,投手データー!$F$6:$F$50,G16,投手データー!$G$6:$G$50,H16))","v":""},{"$f":"IF(H16=\"\",\"\",SUMIFS(投手データー!$R$6:$R$50,投手データー!$F$6:$F$50,G16,投手データー!$G$6:$G$50,H16))","v":""},{"$f":"IF(H16=\"\",\"\",SUMIFS(投手データー!$S$6:$S$50,投手データー!$F$6:$F$50,G16,投手データー!$G$6:$G$50,H16))","v":""},{"$f":"IF(H16=\"\",\"\",SUMIFS(投手データー!$T$6:$T$50,投手データー!$F$6:$F$50,G16,投手データー!$G$6:$G$50,H16))","v":""},{"$f":"IF(H16=\"\",\"\",COUNTIFS(投手データー!$F$6:$F$50,G16,投手データー!$G$6:$G$50,H16,投手データー!$U$6:$U$50,\"勝\"))","v":""},{"$f":"IF(H16=\"\",\"\",COUNTIFS(投手データー!$F$6:$F$50,G16,投手データー!$G$6:$G$50,H16,投手データー!$U$6:$U$50,\"負\"))","v":""},{"$f":"IF(H16=\"\",\"\",COUNTIFS(投手データー!$F$6:$F$50,G16,投手データー!$G$6:$G$50,H16,投手データー!$U$6:$U$50,\"分\"))","v":""},{"$f":"IF(H16=\"\",\"\",COUNTIFS(投手データー!$F$6:$F$50,$G16,投手データー!$G$6:$G$50,H16,投手データー!$U$6:$U$50,\"H\"))","v":""},{"$f":"IF(H16=\"\",\"\",COUNTIFS(投手データー!$F$6:$F$50,G16,投手データー!$G$6:$G$50,H16,投手データー!$U$6:$U$50,\"S\"))","v":""},null,null,{"$f":"IF(戦績!O13=\"\",\"\",戦績!O13)","v":""},"H",{"$f":"IF(AH16=\"\",\"\",COUNTIFS(投手データー!$F$6:$F$50,AI16,投手データー!$I$6:$I$50,\"先\"))","v":""},{"$f":"IF(AH16=\"\",\"\",COUNTIFS(投手データー!$F$6:$F$50,AI16,投手データー!$I$6:$I$50,\"２\"))","v":""},{"$f":"IF(AH16=\"\",\"\",COUNTIFS(投手データー!$F$6:$F$50,AI16,投手データー!$I$6:$I$50,\"３\"))","v":""},{"$f":"IF(AH16=\"\",\"\",COUNTIFS(投手データー!$F$6:$F$50,AI16,投手データー!$I$6:$I$50,\"４\"))","v":""},{"$f":"IF(AH16=\"\",\"\",SUMIF(投手データー!$F$6:$F$50,AI16,投手データー!$J$6:$J$50))","v":""},"","",{"$f":"IF(AH16=\"\",\"\",SUMIF(投手データー!$F$6:$F$50,AI16,投手データー!$L$6:$L$50))","v":""},{"$f":"IF(AH16=\"\",\"\",SUMIF(投手データー!$F$6:$F$50,AI16,投手データー!$M$6:$M$50))","v":""},{"$f":"IF(AH16=\"\",\"\",SUMIF(投手データー!$F$6:$F$50,AI16,投手データー!$N$6:$N$50))","v":""},{"$f":"IF(AH16=\"\",\"\",SUMIF(投手データー!$F$6:$F$50,AI16,投手データー!$O$6:$O$50))","v":""},{"$f":"IF(AH16=\"\",\"\",SUMIF(投手データー!$F$6:$F$50,AI16,投手データー!$P$6:$P$50))","v":""},{"$f":"IF(AH16=\"\",\"\",SUMIF(投手データー!$F$6:$F$50,AI16,投手データー!$Q$6:$Q$50))","v":""},{"$f":"IF(AH16=\"\",\"\",SUMIF(投手データー!$F$6:$F$50,AI16,投手データー!$R$6:$R$50))","v":""},{"$f":"IF(AH16=\"\",\"\",SUMIF(投手データー!$F$6:$F$50,AI16,投手データー!$S$6:$S$50))","v":""},{"$f":"IF(AH16=\"\",\"\",COUNTIF(戦績!$G$6:$G$101,AH16))","v":""},{"$f":"IF(AH16=\"\",\"\",COUNTIFS(投手データー!$F$6:$F$50,AI16,投手データー!$U$6:$U$50,\"勝\"))","v":""},{"$f":"IF(AH16=\"\",\"\",COUNTIFS(投手データー!$F$6:$F$50,AI16,投手データー!$U$6:$U$50,\"負\"))","v":""},{"$f":"IF(AH16=\"\",\"\",COUNTIFS(投手データー!$F$6:$F$50,AI16,投手データー!$U$6:$U$50,\"分\"))","v":""},{"$f":"IF(AH16=\"\",\"\",COUNTIFS(投手データー!$F$6:$F$50,AI16,投手データー!$U$6:$U$50,\"H\"))","v":""},{"$f":"IF(AH16=\"\",\"\",COUNTIFS(投手データー!$F$6:$F$50,AI16,投手データー!$U$6:$U$50,\"S\"))","v":""},""]
[null,null,null,null,null,null,"",null,null,{"$f":"IF(H17=\"\",\"\",COUNTIFS(投手データー!$F$6:$F$50,G17,投手データー!$G$6:$G$50,H17,投手データー!$I$6:$I$50,\"先\"))","v":""},{"$f":"IF(H17=\"\",\"\",COUNTIFS(投手データー!$F$6:$F$50,G17,投手データー!$G$6:$G$50,H17,投手データー!$I$6:$I$50,\"2\"))","v":""},{"$f":"IF(H17=\"\",\"\",COUNTIFS(投手データー!$F$6:$F$50,G17,投手データー!$G$6:$G$50,H17,投手データー!$I$6:$I$50,\"3\"))","v":""},{"$f":"IF(H17=\"\",\"\",COUNTIFS(投手データー!$F$6:$F$50,G17,投手データー!$G$6:$G$50,H17,投手データー!$I$6:$I$50,\"4\"))","v":""},{"$f":"IF(H17=\"\",\"\",SUMIFS(投手データー!$J$6:$J$50,投手データー!$F$6:$F$50,G17,投手データー!$G$6:$G$50,H17))","v":""},"","",null,{"$f":"IF(H17=\"\",\"\",SUMIFS(投手データー!$L$6:$L$50,投手データー!$F$6:$F$50,G17,投手データー!$G$6:$G$50,H17))","v":""},{"$f":"IF(H17=\"\",\"\",SUMIFS(投手データー!$M$6:$M$50,投手データー!$F$6:$F$50,G17,投手データー!$G$6:$G$50,H17))","v":""},{"$f":"IF(H17=\"\",\"\",SUMIFS(投手データー!$N$6:$N$50,投手データー!$F$6:$F$50,G17,投手データー!$G$6:$G$50,H17))","v":""},{"$f":"IF(H17=\"\",\"\",SUMIFS(投手データー!$O$6:$O$50,投手データー!$F$6:$F$50,G17,投手データー!$G$6:$G$50,H17))","v":""},{"$f":"IF(H17=\"\",\"\",SUMIFS(投手データー!$P$6:$P$50,投手データー!$F$6:$F$50,G17,投手データー!$G$6:$G$50,H17))","v":""},{"$f":"IF(H17=\"\",\"\",SUMIFS(投手データー!$Q$6:$Q$50,投手データー!$F$6:$F$50,G17,投手データー!$G$6:$G$50,H17))","v":""},{"$f":"IF(H17=\"\",\"\",SUMIFS(投手データー!$R$6:$R$50,投手データー!$F$6:$F$50,G17,投手データー!$G$6:$G$50,H17))","v":""},{"$f":"IF(H17=\"\",\"\",SUMIFS(投手データー!$S$6:$S$50,投手データー!$F$6:$F$50,G17,投手データー!$G$6:$G$50,H17))","v":""},{"$f":"IF(H17=\"\",\"\",SUMIFS(投手データー!$T$6:$T$50,投手データー!$F$6:$F$50,G17,投手データー!$G$6:$G$50,H17))","v":""},{"$f":"IF(H17=\"\",\"\",COUNTIFS(投手データー!$F$6:$F$50,G17,投手データー!$G$6:$G$50,H17,投手データー!$U$6:$U$50,\"勝\"))","v":""},{"$f":"IF(H17=\"\",\"\",COUNTIFS(投手データー!$F$6:$F$50,G17,投手データー!$G$6:$G$50,H17,投手データー!$U$6:$U$50,\"負\"))","v":""},{"$f":"IF(H17=\"\",\"\",COUNTIFS(投手データー!$F$6:$F$50,G17,投手データー!$G$6:$G$50,H17,投手データー!$U$6:$U$50,\"分\"))","v":""},{"$f":"IF(H17=\"\",\"\",COUNTIFS(投手データー!$F$6:$F$50,$G17,投手データー!$G$6:$G$50,H17,投手データー!$U$6:$U$50,\"H\"))","v":""},{"$f":"IF(H17=\"\",\"\",COUNTIFS(投手データー!$F$6:$F$50,G17,投手データー!$G$6:$G$50,H17,投手データー!$U$6:$U$50,\"S\"))","v":""},null,null,{"$f":"IF(戦績!O14=\"\",\"\",戦績!O14)","v":""},"I",{"$f":"IF(AH17=\"\",\"\",COUNTIFS(投手データー!$F$6:$F$50,AI17,投手データー!$I$6:$I$50,\"先\"))","v":""},{"$f":"IF(AH17=\"\",\"\",COUNTIFS(投手データー!$F$6:$F$50,AI17,投手データー!$I$6:$I$50,\"２\"))","v":""},{"$f":"IF(AH17=\"\",\"\",COUNTIFS(投手データー!$F$6:$F$50,AI17,投手データー!$I$6:$I$50,\"３\"))","v":""},{"$f":"IF(AH17=\"\",\"\",COUNTIFS(投手データー!$F$6:$F$50,AI17,投手データー!$I$6:$I$50,\"４\"))","v":""},{"$f":"IF(AH17=\"\",\"\",SUMIF(投手データー!$F$6:$F$50,AI17,投手データー!$J$6:$J$50))","v":""},"","",{"$f":"IF(AH17=\"\",\"\",SUMIF(投手データー!$F$6:$F$50,AI17,投手データー!$L$6:$L$50))","v":""},{"$f":"IF(AH17=\"\",\"\",SUMIF(投手データー!$F$6:$F$50,AI17,投手データー!$M$6:$M$50))","v":""},{"$f":"IF(AH17=\"\",\"\",SUMIF(投手データー!$F$6:$F$50,AI17,投手データー!$N$6:$N$50))","v":""},{"$f":"IF(AH17=\"\",\"\",SUMIF(投手データー!$F$6:$F$50,AI17,投手データー!$O$6:$O$50))","v":""},{"$f":"IF(AH17=\"\",\"\",SUMIF(投手データー!$F$6:$F$50,AI17,投手データー!$P$6:$P$50))","v":""},{"$f":"IF(AH17=\"\",\"\",SUMIF(投手データー!$F$6:$F$50,AI17,投手データー!$Q$6:$Q$50))","v":""},{"$f":"IF(AH17=\"\",\"\",SUMIF(投手データー!$F$6:$F$50,AI17,投手データー!$R$6:$R$50))","v":""},{"$f":"IF(AH17=\"\",\"\",SUMIF(投手データー!$F$6:$F$50,AI17,投手データー!$S$6:$S$50))","v":""},{"$f":"IF(AH17=\"\",\"\",COUNTIF(戦績!$G$6:$G$101,AH17))","v":""},{"$f":"IF(AH17=\"\",\"\",COUNTIFS(投手データー!$F$6:$F$50,AI17,投手データー!$U$6:$U$50,\"勝\"))","v":""},{"$f":"IF(AH17=\"\",\"\",COUNTIFS(投手データー!$F$6:$F$50,AI17,投手データー!$U$6:$U$50,\"負\"))","v":""},{"$f":"IF(AH17=\"\",\"\",COUNTIFS(投手データー!$F$6:$F$50,AI17,投手データー!$U$6:$U$50,\"分\"))","v":""},{"$f":"IF(AH17=\"\",\"\",COUNTIFS(投手データー!$F$6:$F$50,AI17,投手データー!$U$6:$U$50,\"H\"))","v":""},{"$f":"IF(AH17=\"\",\"\",COUNTIFS(投手データー!$F$6:$F$50,AI17,投手データー!$U$6:$U$50,\"S\"))","v":""},""]
[null,null,null,null,null,null,"",null,null,{"$f":"IF(H18=\"\",\"\",COUNTIFS(投手データー!$F$6:$F$50,G18,投手データー!$G$6:$G$50,H18,投手データー!$I$6:$I$50,\"先\"))","v":""},{"$f":"IF(H18=\"\",\"\",COUNTIFS(投手データー!$F$6:$F$50,G18,投手データー!$G$6:$G$50,H18,投手データー!$I$6:$I$50,\"2\"))","v":""},{"$f":"IF(H18=\"\",\"\",COUNTIFS(投手データー!$F$6:$F$50,G18,投手データー!$G$6:$G$50,H18,投手データー!$I$6:$I$50,\"3\"))","v":""},{"$f":"IF(H18=\"\",\"\",COUNTIFS(投手データー!$F$6:$F$50,G18,投手データー!$G$6:$G$50,H18,投手データー!$I$6:$I$50,\"4\"))","v":""},{"$f":"IF(H18=\"\",\"\",SUMIFS(投手データー!$J$6:$J$50,投手データー!$F$6:$F$50,G18,投手データー!$G$6:$G$50,H18))","v":""},"","",null,{"$f":"IF(H18=\"\",\"\",SUMIFS(投手データー!$L$6:$L$50,投手データー!$F$6:$F$50,G18,投手データー!$G$6:$G$50,H18))","v":""},{"$f":"IF(H18=\"\",\"\",SUMIFS(投手データー!$M$6:$M$50,投手データー!$F$6:$F$50,G18,投手データー!$G$6:$G$50,H18))","v":""},{"$f":"IF(H18=\"\",\"\",SUMIFS(投手データー!$N$6:$N$50,投手データー!$F$6:$F$50,G18,投手データー!$G$6:$G$50,H18))","v":""},{"$f":"IF(H18=\"\",\"\",SUMIFS(投手データー!$O$6:$O$50,投手データー!$F$6:$F$50,G18,投手データー!$G$6:$G$50,H18))","v":""},{"$f":"IF(H18=\"\",\"\",SUMIFS(投手データー!$P$6:$P$50,投手データー!$F$6:$F$50,G18,投手データー!$G$6:$G$50,H18))","v":""},{"$f":"IF(H18=\"\",\"\",SUMIFS(投手データー!$Q$6:$Q$50,投手データー!$F$6:$F$50,G18,投手データー!$G$6:$G$50,H18))","v":""},{"$f":"IF(H18=\"\",\"\",SUMIFS(投手データー!$R$6:$R$50,投手データー!$F$6:$F$50,G18,投手データー!$G$6:$G$50,H18))","v":""},{"$f":"IF(H18=\"\",\"\",SUMIFS(投手データー!$S$6:$S$50,投手データー!$F$6:$F$50,G18,投手データー!$G$6:$G$50,H18))","v":""},{"$f":"IF(H18=\"\",\"\",SUMIFS(投手データー!$T$6:$T$50,投手データー!$F$6:$F$50,G18,投手データー!$G$6:$G$50,H18))","v":""},{"$f":"IF(H18=\"\",\"\",COUNTIFS(投手データー!$F$6:$F$50,G18,投手データー!$G$6:$G$50,H18,投手データー!$U$6:$U$50,\"勝\"))","v":""},{"$f":"IF(H18=\"\",\"\",COUNTIFS(投手データー!$F$6:$F$50,G18,投手データー!$G$6:$G$50,H18,投手データー!$U$6:$U$50,\"負\"))","v":""},{"$f":"IF(H18=\"\",\"\",COUNTIFS(投手データー!$F$6:$F$50,G18,投手データー!$G$6:$G$50,H18,投手データー!$U$6:$U$50,\"分\"))","v":""},{"$f":"IF(H18=\"\",\"\",COUNTIFS(投手データー!$F$6:$F$50,$G18,投手データー!$G$6:$G$50,H18,投手データー!$U$6:$U$50,\"H\"))","v":""},{"$f":"IF(H18=\"\",\"\",COUNTIFS(投手データー!$F$6:$F$50,G18,投手データー!$G$6:$G$50,H18,投手データー!$U$6:$U$50,\"S\"))","v":""},null,null,{"$f":"IF(戦績!O15=\"\",\"\",戦績!O15)","v":""},"J",{"$f":"IF(AH18=\"\",\"\",COUNTIFS(投手データー!$F$6:$F$50,AI18,投手データー!$I$6:$I$50,\"先\"))","v":""},{"$f":"IF(AH18=\"\",\"\",COUNTIFS(投手データー!$F$6:$F$50,AI18,投手データー!$I$6:$I$50,\"２\"))","v":""},{"$f":"IF(AH18=\"\",\"\",COUNTIFS(投手データー!$F$6:$F$50,AI18,投手データー!$I$6:$I$50,\"３\"))","v":""},{"$f":"IF(AH18=\"\",\"\",COUNTIFS(投手データー!$F$6:$F$50,AI18,投手データー!$I$6:$I$50,\"４\"))","v":""},{"$f":"IF(AH18=\"\",\"\",SUMIF(投手データー!$F$6:$F$50,AI18,投手データー!$J$6:$J$50))","v":""},"","",{"$f":"IF(AH18=\"\",\"\",SUMIF(投手データー!$F$6:$F$50,AI18,投手データー!$L$6:$L$50))","v":""},{"$f":"IF(AH18=\"\",\"\",SUMIF(投手データー!$F$6:$F$50,AI18,投手データー!$M$6:$M$50))","v":""},{"$f":"IF(AH18=\"\",\"\",SUMIF(投手データー!$F$6:$F$50,AI18,投手データー!$N$6:$N$50))","v":""},{"$f":"IF(AH18=\"\",\"\",SUMIF(投手データー!$F$6:$F$50,AI18,投手データー!$O$6:$O$50))","v":""},{"$f":"IF(AH18=\"\",\"\",SUMIF(投手データー!$F$6:$F$50,AI18,投手データー!$P$6:$P$50))","v":""},{"$f":"IF(AH18=\"\",\"\",SUMIF(投手データー!$F$6:$F$50,AI18,投手データー!$Q$6:$Q$50))","v":""},{"$f":"IF(AH18=\"\",\"\",SUMIF(投手データー!$F$6:$F$50,AI18,投手データー!$R$6:$R$50))","v":""},{"$f":"IF(AH18=\"\",\"\",SUMIF(投手データー!$F$6:$F$50,AI18,投手データー!$S$6:$S$50))","v":""},{"$f":"IF(AH18=\"\",\"\",COUNTIF(戦績!$G$6:$G$101,AH18))","v":""},{"$f":"IF(AH18=\"\",\"\",COUNTIFS(投手データー!$F$6:$F$50,AI18,投手データー!$U$6:$U$50,\"勝\"))","v":""},{"$f":"IF(AH18=\"\",\"\",COUNTIFS(投手データー!$F$6:$F$50,AI18,投手データー!$U$6:$U$50,\"負\"))","v":""},{"$f":"IF(AH18=\"\",\"\",COUNTIFS(投手データー!$F$6:$F$50,AI18,投手データー!$U$6:$U$50,\"分\"))","v":""},{"$f":"IF(AH18=\"\",\"\",COUNTIFS(投手データー!$F$6:$F$50,AI18,投手データー!$U$6:$U$50,\"H\"))","v":""},{"$f":"IF(AH18=\"\",\"\",COUNTIFS(投手データー!$F$6:$F$50,AI18,投手データー!$U$6:$U$50,\"S\"))","v":""},""]
[null,null,null,null,null,null,"",null,null,{"$f":"IF(H19=\"\",\"\",COUNTIFS(投手データー!$F$6:$F$50,G19,投手データー!$G$6:$G$50,H19,投手データー!$I$6:$I$50,\"先\"))","v":""},{"$f":"IF(H19=\"\",\"\",COUNTIFS(投手データー!$F$6:$F$50,G19,投手データー!$G$6:$G$50,H19,投手データー!$I$6:$I$50,\"2\"))","v":""},{"$f":"IF(H19=\"\",\"\",COUNTIFS(投手データー!$F$6:$F$50,G19,投手データー!$G$6:$G$50,H19,投手データー!$I$6:$I$50,\"3\"))","v":""},{"$f":"IF(H19=\"\",\"\",COUNTIFS(投手データー!$F$6:$F$50,G19,投手データー!$G$6:$G$50,H19,投手データー!$I$6:$I$50,\"4\"))","v":""},{"$f":"IF(H19=\"\",\"\",SUMIFS(投手データー!$J$6:$J$50,投手データー!$F$6:$F$50,G19,投手データー!$G$6:$G$50,H19))","v":""},{"$f":"IF(H19=\"\",\"\",3)","v":""},{"$f":"IF(H19=\"\",\"\",N19/O19)","v":""},null,{"$f":"IF(H19=\"\",\"\",SUMIFS(投手データー!$L$6:$L$50,投手データー!$F$6:$F$50,G19,投手データー!$G$6:$G$50,H19))","v":""},{"$f":"IF(H19=\"\",\"\",SUMIFS(投手データー!$M$6:$M$50,投手データー!$F$6:$F$50,G19,投手データー!$G$6:$G$50,H19))","v":""},{"$f":"IF(H19=\"\",\"\",SUMIFS(投手データー!$N$6:$N$50,投手データー!$F$6:$F$50,G19,投手データー!$G$6:$G$50,H19))","v":""},{"$f":"IF(H19=\"\",\"\",SUMIFS(投手データー!$O$6:$O$50,投手データー!$F$6:$F$50,G19,投手データー!$G$6:$G$50,H19))","v":""},{"$f":"IF(H19=\"\",\"\",SUMIFS(投手データー!$P$6:$P$50,投手データー!$F$6:$F$50,G19,投手データー!$G$6:$G$50,H19))","v":""},{"$f":"IF(H19=\"\",\"\",SUMIFS(投手データー!$Q$6:$Q$50,投手データー!$F$6:$F$50,G19,投手データー!$G$6:$G$50,H19))","v":""},{"$f":"IF(H19=\"\",\"\",SUMIFS(投手データー!$R$6:$R$50,投手データー!$F$6:$F$50,G19,投手データー!$G$6:$G$50,H19))","v":""},{"$f":"IF(H19=\"\",\"\",SUMIFS(投手データー!$S$6:$S$50,投手データー!$F$6:$F$50,G19,投手データー!$G$6:$G$50,H19))","v":""},{"$f":"IF(H19=\"\",\"\",SUMIFS(投手データー!$T$6:$T$50,投手データー!$F$6:$F$50,G19,投手データー!$G$6:$G$50,H19))","v":""},{"$f":"IF(H19=\"\",\"\",COUNTIFS(投手データー!$F$6:$F$50,G19,投手データー!$G$6:$G$50,H19,投手データー!$U$6:$U$50,\"勝\"))","v":""},{"$f":"IF(H19=\"\",\"\",COUNTIFS(投手データー!$F$6:$F$50,G19,投手データー!$G$6:$G$50,H19,投手データー!$U$6:$U$50,\"負\"))","v":""},{"$f":"IF(H19=\"\",\"\",COUNTIFS(投手データー!$F$6:$F$50,G19,投手データー!$G$6:$G$50,H19,投手データー!$U$6:$U$50,\"分\"))","v":""},{"$f":"IF(H19=\"\",\"\",COUNTIFS(投手データー!$F$6:$F$50,$G19,投手データー!$G$6:$G$50,H19,投手データー!$U$6:$U$50,\"H\"))","v":""},{"$f":"IF(H19=\"\",\"\",COUNTIFS(投手データー!$F$6:$F$50,G19,投手データー!$G$6:$G$50,H19,投手データー!$U$6:$U$50,\"S\"))","v":""},null,null,{"$f":"IF(戦績!O16=\"\",\"\",戦績!O16)","v":""},"K",{"$f":"IF(AH19=\"\",\"\",COUNTIFS(投手データー!$F$6:$F$50,AI19,投手データー!$I$6:$I$50,\"先\"))","v":""},{"$f":"IF(AH19=\"\",\"\",COUNTIFS(投手データー!$F$6:$F$50,AI19,投手データー!$I$6:$I$50,\"２\"))","v":""},{"$f":"IF(AH19=\"\",\"\",COUNTIFS(投手データー!$F$6:$F$50,AI19,投手データー!$I$6:$I$50,\"３\"))","v":""},{"$f":"IF(AH19=\"\",\"\",COUNTIFS(投手データー!$F$6:$F$50,AI19,投手データー!$I$6:$I$50,\"４\"))","v":""},{"$f":"IF(AH19=\"\",\"\",SUMIF(投手データー!$F$6:$F$50,AI19,投手データー!$J$6:$J$50))","v":""},"","",{"$f":"IF(AH19=\"\",\"\",SUMIF(投手データー!$F$6:$F$50,AI19,投手データー!$L$6:$L$50))","v":""},{"$f":"IF(AH19=\"\",\"\",SUMIF(投手データー!$F$6:$F$50,AI19,投手データー!$M$6:$M$50))","v":""},{"$f":"IF(AH19=\"\",\"\",SUMIF(投手データー!$F$6:$F$50,AI19,投手データー!$N$6:$N$50))","v":""},{"$f":"IF(AH19=\"\",\"\",SUMIF(投手データー!$F$6:$F$50,AI19,投手データー!$O$6:$O$50))","v":""},{"$f":"IF(AH19=\"\",\"\",SUMIF(投手データー!$F$6:$F$50,AI19,投手データー!$P$6:$P$50))","v":""},{"$f":"IF(AH19=\"\",\"\",SUMIF(投手データー!$F$6:$F$50,AI19,投手データー!$Q$6:$Q$50))","v":""},{"$f":"IF(AH19=\"\",\"\",SUMIF(投手データー!$F$6:$F$50,AI19,投手データー!$R$6:$R$50))","v":""},{"$f":"IF(AH19=\"\",\"\",SUMIF(投手データー!$F$6:$F$50,AI19,投手データー!$S$6:$S$50))","v":""},{"$f":"IF(AH19=\"\",\"\",COUNTIF(戦績!$G$6:$G$101,AH19))","v":""},{"$f":"IF(AH19=\"\",\"\",COUNTIFS(投手データー!$F$6:$F$50,AI19,投手データー!$U$6:$U$50,\"勝\"))","v":""},{"$f":"IF(AH19=\"\",\"\",COUNTIFS(投手データー!$F$6:$F$50,AI19,投手データー!$U$6:$U$50,\"負\"))","v":""},{"$f":"IF(AH19=\"\",\"\",COUNTIFS(投手データー!$F$6:$F$50,AI19,投手データー!$U$6:$U$50,\"分\"))","v":""},{"$f":"IF(AH19=\"\",\"\",COUNTIFS(投手データー!$F$6:$F$50,AI19,投手データー!$U$6:$U$50,\"H\"))","v":""},{"$f":"IF(AH19=\"\",\"\",COUNTIFS(投手データー!$F$6:$F$50,AI19,投手データー!$U$6:$U$50,\"S\"))","v":""},""]
[null,null,null,null,null,null,"",null,null,{"$f":"IF(H20=\"\",\"\",COUNTIFS(投手データー!$F$6:$F$50,G20,投手データー!$G$6:$G$50,H20,投手データー!$I$6:$I$50,\"先\"))","v":""},{"$f":"IF(H20=\"\",\"\",COUNTIFS(投手データー!$F$6:$F$50,G20,投手データー!$G$6:$G$50,H20,投手データー!$I$6:$I$50,\"2\"))","v":""},{"$f":"IF(H20=\"\",\"\",COUNTIFS(投手データー!$F$6:$F$50,G20,投手データー!$G$6:$G$50,H20,投手データー!$I$6:$I$50,\"3\"))","v":""},{"$f":"IF(H20=\"\",\"\",COUNTIFS(投手データー!$F$6:$F$50,G20,投手データー!$G$6:$G$50,H20,投手データー!$I$6:$I$50,\"4\"))","v":""},{"$f":"IF(H20=\"\",\"\",SUMIFS(投手データー!$J$6:$J$50,投手データー!$F$6:$F$50,G20,投手データー!$G$6:$G$50,H20))","v":""},"","",null,{"$f":"IF(H20=\"\",\"\",SUMIFS(投手データー!$L$6:$L$50,投手データー!$F$6:$F$50,G20,投手データー!$G$6:$G$50,H20))","v":""},{"$f":"IF(H20=\"\",\"\",SUMIFS(投手データー!$M$6:$M$50,投手データー!$F$6:$F$50,G20,投手データー!$G$6:$G$50,H20))","v":""},{"$f":"IF(H20=\"\",\"\",SUMIFS(投手データー!$N$6:$N$50,投手データー!$F$6:$F$50,G20,投手データー!$G$6:$G$50,H20))","v":""},{"$f":"IF(H20=\"\",\"\",SUMIFS(投手データー!$O$6:$O$50,投手データー!$F$6:$F$50,G20,投手データー!$G$6:$G$50,H20))","v":""},{"$f":"IF(H20=\"\",\"\",SUMIFS(投手データー!$P$6:$P$50,投手データー!$F$6:$F$50,G20,投手データー!$G$6:$G$50,H20))","v":""},{"$f":"IF(H20=\"\",\"\",SUMIFS(投手データー!$Q$6:$Q$50,投手データー!$F$6:$F$50,G20,投手データー!$G$6:$G$50,H20))","v":""},{"$f":"IF(H20=\"\",\"\",SUMIFS(投手データー!$R$6:$R$50,投手データー!$F$6:$F$50,G20,投手データー!$G$6:$G$50,H20))","v":""},{"$f":"IF(H20=\"\",\"\",SUMIFS(投手データー!$S$6:$S$50,投手データー!$F$6:$F$50,G20,投手データー!$G$6:$G$50,H20))","v":""},{"$f":"IF(H20=\"\",\"\",SUMIFS(投手データー!$T$6:$T$50,投手データー!$F$6:$F$50,G20,投手データー!$G$6:$G$50,H20))","v":""},{"$f":"IF(H20=\"\",\"\",COUNTIFS(投手データー!$F$6:$F$50,G20,投手データー!$G$6:$G$50,H20,投手データー!$U$6:$U$50,\"勝\"))","v":""},{"$f":"IF(H20=\"\",\"\",COUNTIFS(投手データー!$F$6:$F$50,G20,投手データー!$G$6:$G$50,H20,投手データー!$U$6:$U$50,\"負\"))","v":""},{"$f":"IF(H20=\"\",\"\",COUNTIFS(投手データー!$F$6:$F$50,G20,投手データー!$G$6:$G$50,H20,投手データー!$U$6:$U$50,\"分\"))","v":""},{"$f":"IF(H20=\"\",\"\",COUNTIFS(投手データー!$F$6:$F$50,$G20,投手データー!$G$6:$G$50,H20,投手データー!$U$6:$U$50,\"H\"))","v":""},{"$f":"IF(H20=\"\",\"\",COUNTIFS(投手データー!$F$6:$F$50,G20,投手データー!$G$6:$G$50,H20,投手データー!$U$6:$U$50,\"S\"))","v":""},null,null,{"$f":"IF(戦績!O17=\"\",\"\",戦績!O17)","v":""},"L",{"$f":"IF(AH20=\"\",\"\",COUNTIFS(投手データー!$F$6:$F$50,AI20,投手データー!$I$6:$I$50,\"先\"))","v":""},{"$f":"IF(AH20=\"\",\"\",COUNTIFS(投手データー!$F$6:$F$50,AI20,投手データー!$I$6:$I$50,\"２\"))","v":""},{"$f":"IF(AH20=\"\",\"\",COUNTIFS(投手データー!$F$6:$F$50,AI20,投手データー!$I$6:$I$50,\"３\"))","v":""},{"$f":"IF(AH20=\"\",\"\",COUNTIFS(投手データー!$F$6:$F$50,AI20,投手データー!$I$6:$I$50,\"４\"))","v":""},{"$f":"IF(AH20=\"\",\"\",SUMIF(投手データー!$F$6:$F$50,AI20,投手データー!$J$6:$J$50))","v":""},"","",{"$f":"IF(AH20=\"\",\"\",SUMIF(投手データー!$F$6:$F$50,AI20,投手データー!$L$6:$L$50))","v":""},{"$f":"IF(AH20=\"\",\"\",SUMIF(投手データー!$F$6:$F$50,AI20,投手データー!$M$6:$M$50))","v":""},{"$f":"IF(AH20=\"\",\"\",SUMIF(投手データー!$F$6:$F$50,AI20,投手データー!$N$6:$N$50))","v":""},{"$f":"IF(AH20=\"\",\"\",SUMIF(投手データー!$F$6:$F$50,AI20,投手データー!$O$6:$O$50))","v":""},{"$f":"IF(AH20=\"\",\"\",SUMIF(投手データー!$F$6:$F$50,AI20,投手データー!$P$6:$P$50))","v":""},{"$f":"IF(AH20=\"\",\"\",SUMIF(投手データー!$F$6:$F$50,AI20,投手データー!$Q$6:$Q$50))","v":""},{"$f":"IF(AH20=\"\",\"\",SUMIF(投手データー!$F$6:$F$50,AI20,投手データー!$R$6:$R$50))","v":""},{"$f":"IF(AH20=\"\",\"\",SUMIF(投手データー!$F$6:$F$50,AI20,投手データー!$S$6:$S$50))","v":""},{"$f":"IF(AH20=\"\",\"\",COUNTIF(戦績!$G$6:$G$101,AH20))","v":""},{"$f":"IF(AH20=\"\",\"\",COUNTIFS(投手データー!$F$6:$F$50,AI20,投手データー!$U$6:$U$50,\"勝\"))","v":""},{"$f":"IF(AH20=\"\",\"\",COUNTIFS(投手データー!$F$6:$F$50,AI20,投手データー!$U$6:$U$50,\"負\"))","v":""},{"$f":"IF(AH20=\"\",\"\",COUNTIFS(投手データー!$F$6:$F$50,AI20,投手データー!$U$6:$U$50,\"分\"))","v":""},{"$f":"IF(AH20=\"\",\"\",COUNTIFS(投手データー!$F$6:$F$50,AI20,投手データー!$U$6:$U$50,\"H\"))","v":""},{"$f":"IF(AH20=\"\",\"\",COUNTIFS(投手データー!$F$6:$F$50,AI20,投手データー!$U$6:$U$50,\"S\"))","v":""},""]
[null,null,null,null,null,null,"",null,null,{"$f":"IF(H21=\"\",\"\",COUNTIFS(投手データー!$F$6:$F$50,G21,投手データー!$G$6:$G$50,H21,投手データー!$I$6:$I$50,\"先\"))","v":""},{"$f":"IF(H21=\"\",\"\",COUNTIFS(投手データー!$F$6:$F$50,G21,投手データー!$G$6:$G$50,H21,投手データー!$I$6:$I$50,\"2\"))","v":""},{"$f":"IF(H21=\"\",\"\",COUNTIFS(投手データー!$F$6:$F$50,G21,投手データー!$G$6:$G$50,H21,投手データー!$I$6:$I$50,\"3\"))","v":""},{"$f":"IF(H21=\"\",\"\",COUNTIFS(投手データー!$F$6:$F$50,G21,投手データー!$G$6:$G$50,H21,投手データー!$I$6:$I$50,\"4\"))","v":""},{"$f":"IF(H21=\"\",\"\",SUMIFS(投手データー!$J$6:$J$50,投手データー!$F$6:$F$50,G21,投手データー!$G$6:$G$50,H21))","v":""},"","",null,{"$f":"IF(H21=\"\",\"\",SUMIFS(投手データー!$L$6:$L$50,投手データー!$F$6:$F$50,G21,投手データー!$G$6:$G$50,H21))","v":""},{"$f":"IF(H21=\"\",\"\",SUMIFS(投手データー!$M$6:$M$50,投手データー!$F$6:$F$50,G21,投手データー!$G$6:$G$50,H21))","v":""},{"$f":"IF(H21=\"\",\"\",SUMIFS(投手データー!$N$6:$N$50,投手データー!$F$6:$F$50,G21,投手データー!$G$6:$G$50,H21))","v":""},{"$f":"IF(H21=\"\",\"\",SUMIFS(投手データー!$O$6:$O$50,投手データー!$F$6:$F$50,G21,投手データー!$G$6:$G$50,H21))","v":""},{"$f":"IF(H21=\"\",\"\",SUMIFS(投手データー!$P$6:$P$50,投手データー!$F$6:$F$50,G21,投手データー!$G$6:$G$50,H21))","v":""},{"$f":"IF(H21=\"\",\"\",SUMIFS(投手データー!$Q$6:$Q$50,投手データー!$F$6:$F$50,G21,投手データー!$G$6:$G$50,H21))","v":""},{"$f":"IF(H21=\"\",\"\",SUMIFS(投手データー!$R$6:$R$50,投手データー!$F$6:$F$50,G21,投手データー!$G$6:$G$50,H21))","v":""},{"$f":"IF(H21=\"\",\"\",SUMIFS(投手データー!$S$6:$S$50,投手データー!$F$6:$F$50,G21,投手データー!$G$6:$G$50,H21))","v":""},{"$f":"IF(H21=\"\",\"\",SUMIFS(投手データー!$T$6:$T$50,投手データー!$F$6:$F$50,G21,投手データー!$G$6:$G$50,H21))","v":""},{"$f":"IF(H21=\"\",\"\",COUNTIFS(投手データー!$F$6:$F$50,G21,投手データー!$G$6:$G$50,H21,投手データー!$U$6:$U$50,\"勝\"))","v":""},{"$f":"IF(H21=\"\",\"\",COUNTIFS(投手データー!$F$6:$F$50,G21,投手データー!$G$6:$G$50,H21,投手データー!$U$6:$U$50,\"負\"))","v":""},{"$f":"IF(H21=\"\",\"\",COUNTIFS(投手データー!$F$6:$F$50,G21,投手データー!$G$6:$G$50,H21,投手データー!$U$6:$U$50,\"分\"))","v":""},{"$f":"IF(H21=\"\",\"\",COUNTIFS(投手データー!$F$6:$F$50,$G21,投手データー!$G$6:$G$50,H21,投手データー!$U$6:$U$50,\"H\"))","v":""},{"$f":"IF(H21=\"\",\"\",COUNTIFS(投手データー!$F$6:$F$50,G21,投手データー!$G$6:$G$50,H21,投手データー!$U$6:$U$50,\"S\"))","v":""},null,null,{"$f":"IF(戦績!O18=\"\",\"\",戦績!O18)","v":""},"M",{"$f":"IF(AH21=\"\",\"\",COUNTIFS(投手データー!$F$6:$F$50,AI21,投手データー!$I$6:$I$50,\"先\"))","v":""},{"$f":"IF(AH21=\"\",\"\",COUNTIFS(投手データー!$F$6:$F$50,AI21,投手データー!$I$6:$I$50,\"２\"))","v":""},{"$f":"IF(AH21=\"\",\"\",COUNTIFS(投手データー!$F$6:$F$50,AI21,投手データー!$I$6:$I$50,\"３\"))","v":""},{"$f":"IF(AH21=\"\",\"\",COUNTIFS(投手データー!$F$6:$F$50,AI21,投手データー!$I$6:$I$50,\"４\"))","v":""},{"$f":"IF(AH21=\"\",\"\",SUMIF(投手データー!$F$6:$F$50,AI21,投手データー!$J$6:$J$50))","v":""},"","",{"$f":"IF(AH21=\"\",\"\",SUMIF(投手データー!$F$6:$F$50,AI21,投手データー!$L$6:$L$50))","v":""},{"$f":"IF(AH21=\"\",\"\",SUMIF(投手データー!$F$6:$F$50,AI21,投手データー!$M$6:$M$50))","v":""},{"$f":"IF(AH21=\"\",\"\",SUMIF(投手データー!$F$6:$F$50,AI21,投手データー!$N$6:$N$50))","v":""},{"$f":"IF(AH21=\"\",\"\",SUMIF(投手データー!$F$6:$F$50,AI21,投手データー!$O$6:$O$50))","v":""},{"$f":"IF(AH21=\"\",\"\",SUMIF(投手データー!$F$6:$F$50,AI21,投手データー!$P$6:$P$50))","v":""},{"$f":"IF(AH21=\"\",\"\",SUMIF(投手データー!$F$6:$F$50,AI21,投手データー!$Q$6:$Q$50))","v":""},{"$f":"IF(AH21=\"\",\"\",SUMIF(投手データー!$F$6:$F$50,AI21,投手データー!$R$6:$R$50))","v":""},{"$f":"IF(AH21=\"\",\"\",SUMIF(投手データー!$F$6:$F$50,AI21,投手データー!$S$6:$S$50))","v":""},{"$f":"IF(AH21=\"\",\"\",COUNTIF(戦績!$G$6:$G$101,AH21))","v":""},{"$f":"IF(AH21=\"\",\"\",COUNTIFS(投手データー!$F$6:$F$50,AI21,投手データー!$U$6:$U$50,\"勝\"))","v":""},{"$f":"IF(AH21=\"\",\"\",COUNTIFS(投手データー!$F$6:$F$50,AI21,投手データー!$U$6:$U$50,\"負\"))","v":""},{"$f":"IF(AH21=\"\",\"\",COUNTIFS(投手データー!$F$6:$F$50,AI21,投手データー!$U$6:$U$50,\"分\"))","v":""},{"$f":"IF(AH21=\"\",\"\",COUNTIFS(投手データー!$F$6:$F$50,AI21,投手データー!$U$6:$U$50,\"H\"))","v":""},{"$f":"IF(AH21=\"\",\"\",COUNTIFS(投手データー!$F$6:$F$50,AI21,投手データー!$U$6:$U$50,\"S\"))","v":""},""]
[null,null,null,null,null,null,"",null,null,{"$f":"IF(H22=\"\",\"\",COUNTIFS(投手データー!$F$6:$F$50,G22,投手データー!$G$6:$G$50,H22,投手データー!$I$6:$I$50,\"先\"))","v":""},{"$f":"IF(H22=\"\",\"\",COUNTIFS(投手データー!$F$6:$F$50,G22,投手データー!$G$6:$G$50,H22,投手データー!$I$6:$I$50,\"2\"))","v":""},{"$f":"IF(H22=\"\",\"\",COUNTIFS(投手データー!$F$6:$F$50,G22,投手データー!$G$6:$G$50,H22,投手データー!$I$6:$I$50,\"3\"))","v":""},{"$f":"IF(H22=\"\",\"\",COUNTIFS(投手データー!$F$6:$F$50,G22,投手データー!$G$6:$G$50,H22,投手データー!$I$6:$I$50,\"4\"))","v":""},{"$f":"IF(H22=\"\",\"\",SUMIFS(投手データー!$J$6:$J$50,投手データー!$F$6:$F$50,G22,投手データー!$G$6:$G$50,H22))","v":""},"","",null,{"$f":"IF(H22=\"\",\"\",SUMIFS(投手データー!$L$6:$L$50,投手データー!$F$6:$F$50,G22,投手データー!$G$6:$G$50,H22))","v":""},{"$f":"IF(H22=\"\",\"\",SUMIFS(投手データー!$M$6:$M$50,投手データー!$F$6:$F$50,G22,投手データー!$G$6:$G$50,H22))","v":""},{"$f":"IF(H22=\"\",\"\",SUMIFS(投手データー!$N$6:$N$50,投手データー!$F$6:$F$50,G22,投手データー!$G$6:$G$50,H22))","v":""},{"$f":"IF(H22=\"\",\"\",SUMIFS(投手データー!$O$6:$O$50,投手データー!$F$6:$F$50,G22,投手データー!$G$6:$G$50,H22))","v":""},{"$f":"IF(H22=\"\",\"\",SUMIFS(投手データー!$P$6:$P$50,投手データー!$F$6:$F$50,G22,投手データー!$G$6:$G$50,H22))","v":""},{"$f":"IF(H22=\"\",\"\",SUMIFS(投手データー!$Q$6:$Q$50,投手データー!$F$6:$F$50,G22,投手データー!$G$6:$G$50,H22))","v":""},{"$f":"IF(H22=\"\",\"\",SUMIFS(投手データー!$R$6:$R$50,投手データー!$F$6:$F$50,G22,投手データー!$G$6:$G$50,H22))","v":""},{"$f":"IF(H22=\"\",\"\",SUMIFS(投手データー!$S$6:$S$50,投手データー!$F$6:$F$50,G22,投手データー!$G$6:$G$50,H22))","v":""},{"$f":"IF(H22=\"\",\"\",SUMIFS(投手データー!$T$6:$T$50,投手データー!$F$6:$F$50,G22,投手データー!$G$6:$G$50,H22))","v":""},{"$f":"IF(H22=\"\",\"\",COUNTIFS(投手データー!$F$6:$F$50,G22,投手データー!$G$6:$G$50,H22,投手データー!$U$6:$U$50,\"勝\"))","v":""},{"$f":"IF(H22=\"\",\"\",COUNTIFS(投手データー!$F$6:$F$50,G22,投手データー!$G$6:$G$50,H22,投手データー!$U$6:$U$50,\"負\"))","v":""},{"$f":"IF(H22=\"\",\"\",COUNTIFS(投手データー!$F$6:$F$50,G22,投手データー!$G$6:$G$50,H22,投手データー!$U$6:$U$50,\"分\"))","v":""},{"$f":"IF(H22=\"\",\"\",COUNTIFS(投手データー!$F$6:$F$50,$G22,投手データー!$G$6:$G$50,H22,投手データー!$U$6:$U$50,\"H\"))","v":""},{"$f":"IF(H22=\"\",\"\",COUNTIFS(投手データー!$F$6:$F$50,G22,投手データー!$G$6:$G$50,H22,投手データー!$U$6:$U$50,\"S\"))","v":""},null,null,{"$f":"IF(戦績!O19=\"\",\"\",戦績!O19)","v":""},"N",{"$f":"IF(AH22=\"\",\"\",COUNTIFS(投手データー!$F$6:$F$50,AI22,投手データー!$I$6:$I$50,\"先\"))","v":""},{"$f":"IF(AH22=\"\",\"\",COUNTIFS(投手データー!$F$6:$F$50,AI22,投手データー!$I$6:$I$50,\"２\"))","v":""},{"$f":"IF(AH22=\"\",\"\",COUNTIFS(投手データー!$F$6:$F$50,AI22,投手データー!$I$6:$I$50,\"３\"))","v":""},{"$f":"IF(AH22=\"\",\"\",COUNTIFS(投手データー!$F$6:$F$50,AI22,投手データー!$I$6:$I$50,\"４\"))","v":""},{"$f":"IF(AH22=\"\",\"\",SUMIF(投手データー!$F$6:$F$50,AI22,投手データー!$J$6:$J$50))","v":""},"","",{"$f":"IF(AH22=\"\",\"\",SUMIF(投手データー!$F$6:$F$50,AI22,投手データー!$L$6:$L$50))","v":""},{"$f":"IF(AH22=\"\",\"\",SUMIF(投手データー!$F$6:$F$50,AI22,投手データー!$M$6:$M$50))","v":""},{"$f":"IF(AH22=\"\",\"\",SUMIF(投手データー!$F$6:$F$50,AI22,投手データー!$N$6:$N$50))","v":""},{"$f":"IF(AH22=\"\",\"\",SUMIF(投手データー!$F$6:$F$50,AI22,投手データー!$O$6:$O$50))","v":""},{"$f":"IF(AH22=\"\",\"\",SUMIF(投手データー!$F$6:$F$50,AI22,投手データー!$P$6:$P$50))","v":""},{"$f":"IF(AH22=\"\",\"\",SUMIF(投手データー!$F$6:$F$50,AI22,投手データー!$Q$6:$Q$50))","v":""},{"$f":"IF(AH22=\"\",\"\",SUMIF(投手データー!$F$6:$F$50,AI22,投手データー!$R$6:$R$50))","v":""},{"$f":"IF(AH22=\"\",\"\",SUMIF(投手データー!$F$6:$F$50,AI22,投手データー!$S$6:$S$50))","v":""},{"$f":"IF(AH22=\"\",\"\",COUNTIF(戦績!$G$6:$G$101,AH22))","v":""},{"$f":"IF(AH22=\"\",\"\",COUNTIFS(投手データー!$F$6:$F$50,AI22,投手データー!$U$6:$U$50,\"勝\"))","v":""},{"$f":"IF(AH22=\"\",\"\",COUNTIFS(投手データー!$F$6:$F$50,AI22,投手データー!$U$6:$U$50,\"負\"))","v":""},{"$f":"IF(AH22=\"\",\"\",COUNTIFS(投手データー!$F$6:$F$50,AI22,投手データー!$U$6:$U$50,\"分\"))","v":""},{"$f":"IF(AH22=\"\",\"\",COUNTIFS(投手データー!$F$6:$F$50,AI22,投手データー!$U$6:$U$50,\"H\"))","v":""},{"$f":"IF(AH22=\"\",\"\",COUNTIFS(投手データー!$F$6:$F$50,AI22,投手データー!$U$6:$U$50,\"S\"))","v":""},""]
[null,null,null,null,null,null,"",null,null,{"$f":"IF(H23=\"\",\"\",COUNTIFS(投手データー!$F$6:$F$50,G23,投手データー!$G$6:$G$50,H23,投手データー!$I$6:$I$50,\"先\"))","v":""},{"$f":"IF(H23=\"\",\"\",COUNTIFS(投手データー!$F$6:$F$50,G23,投手データー!$G$6:$G$50,H23,投手データー!$I$6:$I$50,\"2\"))","v":""},{"$f":"IF(H23=\"\",\"\",COUNTIFS(投手データー!$F$6:$F$50,G23,投手データー!$G$6:$G$50,H23,投手データー!$I$6:$I$50,\"3\"))","v":""},{"$f":"IF(H23=\"\",\"\",COUNTIFS(投手データー!$F$6:$F$50,G23,投手データー!$G$6:$G$50,H23,投手データー!$I$6:$I$50,\"4\"))","v":""},{"$f":"IF(H23=\"\",\"\",SUMIFS(投手データー!$J$6:$J$50,投手データー!$F$6:$F$50,G23,投手データー!$G$6:$G$50,H23))","v":""},"","",null,{"$f":"IF(H23=\"\",\"\",SUMIFS(投手データー!$L$6:$L$50,投手データー!$F$6:$F$50,G23,投手データー!$G$6:$G$50,H23))","v":""},{"$f":"IF(H23=\"\",\"\",SUMIFS(投手データー!$M$6:$M$50,投手データー!$F$6:$F$50,G23,投手データー!$G$6:$G$50,H23))","v":""},{"$f":"IF(H23=\"\",\"\",SUMIFS(投手データー!$N$6:$N$50,投手データー!$F$6:$F$50,G23,投手データー!$G$6:$G$50,H23))","v":""},{"$f":"IF(H23=\"\",\"\",SUMIFS(投手データー!$O$6:$O$50,投手データー!$F$6:$F$50,G23,投手データー!$G$6:$G$50,H23))","v":""},{"$f":"IF(H23=\"\",\"\",SUMIFS(投手データー!$P$6:$P$50,投手データー!$F$6:$F$50,G23,投手データー!$G$6:$G$50,H23))","v":""},{"$f":"IF(H23=\"\",\"\",SUMIFS(投手データー!$Q$6:$Q$50,投手データー!$F$6:$F$50,G23,投手データー!$G$6:$G$50,H23))","v":""},{"$f":"IF(H23=\"\",\"\",SUMIFS(投手データー!$R$6:$R$50,投手データー!$F$6:$F$50,G23,投手データー!$G$6:$G$50,H23))","v":""},{"$f":"IF(H23=\"\",\"\",SUMIFS(投手データー!$S$6:$S$50,投手データー!$F$6:$F$50,G23,投手データー!$G$6:$G$50,H23))","v":""},{"$f":"IF(H23=\"\",\"\",SUMIFS(投手データー!$T$6:$T$50,投手データー!$F$6:$F$50,G23,投手データー!$G$6:$G$50,H23))","v":""},{"$f":"IF(H23=\"\",\"\",COUNTIFS(投手データー!$F$6:$F$50,G23,投手データー!$G$6:$G$50,H23,投手データー!$U$6:$U$50,\"勝\"))","v":""},{"$f":"IF(H23=\"\",\"\",COUNTIFS(投手データー!$F$6:$F$50,G23,投手データー!$G$6:$G$50,H23,投手データー!$U$6:$U$50,\"負\"))","v":""},{"$f":"IF(H23=\"\",\"\",COUNTIFS(投手データー!$F$6:$F$50,G23,投手データー!$G$6:$G$50,H23,投手データー!$U$6:$U$50,\"分\"))","v":""},{"$f":"IF(H23=\"\",\"\",COUNTIFS(投手データー!$F$6:$F$50,$G23,投手データー!$G$6:$G$50,H23,投手データー!$U$6:$U$50,\"H\"))","v":""},{"$f":"IF(H23=\"\",\"\",COUNTIFS(投手データー!$F$6:$F$50,G23,投手データー!$G$6:$G$50,H23,投手データー!$U$6:$U$50,\"S\"))","v":""},null,null,{"$f":"IF(戦績!O20=\"\",\"\",戦績!O20)","v":""},"O",{"$f":"IF(AH23=\"\",\"\",COUNTIFS(投手データー!$F$6:$F$50,AI23,投手データー!$I$6:$I$50,\"先\"))","v":""},{"$f":"IF(AH23=\"\",\"\",COUNTIFS(投手データー!$F$6:$F$50,AI23,投手データー!$I$6:$I$50,\"２\"))","v":""},{"$f":"IF(AH23=\"\",\"\",COUNTIFS(投手データー!$F$6:$F$50,AI23,投手データー!$I$6:$I$50,\"３\"))","v":""},{"$f":"IF(AH23=\"\",\"\",COUNTIFS(投手データー!$F$6:$F$50,AI23,投手データー!$I$6:$I$50,\"４\"))","v":""},{"$f":"IF(AH23=\"\",\"\",SUMIF(投手データー!$F$6:$F$50,AI23,投手データー!$J$6:$J$50))","v":""},"","",{"$f":"IF(AH23=\"\",\"\",SUMIF(投手データー!$F$6:$F$50,AI23,投手データー!$L$6:$L$50))","v":""},{"$f":"IF(AH23=\"\",\"\",SUMIF(投手データー!$F$6:$F$50,AI23,投手データー!$M$6:$M$50))","v":""},{"$f":"IF(AH23=\"\",\"\",SUMIF(投手データー!$F$6:$F$50,AI23,投手データー!$N$6:$N$50))","v":""},{"$f":"IF(AH23=\"\",\"\",SUMIF(投手データー!$F$6:$F$50,AI23,投手データー!$O$6:$O$50))","v":""},{"$f":"IF(AH23=\"\",\"\",SUMIF(投手データー!$F$6:$F$50,AI23,投手データー!$P$6:$P$50))","v":""},{"$f":"IF(AH23=\"\",\"\",SUMIF(投手データー!$F$6:$F$50,AI23,投手データー!$Q$6:$Q$50))","v":""},{"$f":"IF(AH23=\"\",\"\",SUMIF(投手データー!$F$6:$F$50,AI23,投手データー!$R$6:$R$50))","v":""},{"$f":"IF(AH23=\"\",\"\",SUMIF(投手データー!$F$6:$F$50,AI23,投手データー!$S$6:$S$50))","v":""},{"$f":"IF(AH23=\"\",\"\",COUNTIF(戦績!$G$6:$G$101,AH23))","v":""},{"$f":"IF(AH23=\"\",\"\",COUNTIFS(投手データー!$F$6:$F$50,AI23,投手データー!$U$6:$U$50,\"勝\"))","v":""},{"$f":"IF(AH23=\"\",\"\",COUNTIFS(投手データー!$F$6:$F$50,AI23,投手データー!$U$6:$U$50,\"負\"))","v":""},{"$f":"IF(AH23=\"\",\"\",COUNTIFS(投手データー!$F$6:$F$50,AI23,投手データー!$U$6:$U$50,\"分\"))","v":""},{"$f":"IF(AH23=\"\",\"\",COUNTIFS(投手データー!$F$6:$F$50,AI23,投手データー!$U$6:$U$50,\"H\"))","v":""},{"$f":"IF(AH23=\"\",\"\",COUNTIFS(投手データー!$F$6:$F$50,AI23,投手データー!$U$6:$U$50,\"S\"))","v":""},""]
[null,null,null,null,null,null,"",null,null,{"$f":"IF(H24=\"\",\"\",COUNTIFS(投手データー!$F$6:$F$50,G24,投手データー!$G$6:$G$50,H24,投手データー!$I$6:$I$50,\"先\"))","v":""},{"$f":"IF(H24=\"\",\"\",COUNTIFS(投手データー!$F$6:$F$50,G24,投手データー!$G$6:$G$50,H24,投手データー!$I$6:$I$50,\"2\"))","v":""},{"$f":"IF(H24=\"\",\"\",COUNTIFS(投手データー!$F$6:$F$50,G24,投手データー!$G$6:$G$50,H24,投手データー!$I$6:$I$50,\"3\"))","v":""},{"$f":"IF(H24=\"\",\"\",COUNTIFS(投手データー!$F$6:$F$50,G24,投手データー!$G$6:$G$50,H24,投手データー!$I$6:$I$50,\"4\"))","v":""},{"$f":"IF(H24=\"\",\"\",SUMIFS(投手データー!$J$6:$J$50,投手データー!$F$6:$F$50,G24,投手データー!$G$6:$G$50,H24))","v":""},"","",null,{"$f":"IF(H24=\"\",\"\",SUMIFS(投手データー!$L$6:$L$50,投手データー!$F$6:$F$50,G24,投手データー!$G$6:$G$50,H24))","v":""},{"$f":"IF(H24=\"\",\"\",SUMIFS(投手データー!$M$6:$M$50,投手データー!$F$6:$F$50,G24,投手データー!$G$6:$G$50,H24))","v":""},{"$f":"IF(H24=\"\",\"\",SUMIFS(投手データー!$N$6:$N$50,投手データー!$F$6:$F$50,G24,投手データー!$G$6:$G$50,H24))","v":""},{"$f":"IF(H24=\"\",\"\",SUMIFS(投手データー!$O$6:$O$50,投手データー!$F$6:$F$50,G24,投手データー!$G$6:$G$50,H24))","v":""},{"$f":"IF(H24=\"\",\"\",SUMIFS(投手データー!$P$6:$P$50,投手データー!$F$6:$F$50,G24,投手データー!$G$6:$G$50,H24))","v":""},{"$f":"IF(H24=\"\",\"\",SUMIFS(投手データー!$Q$6:$Q$50,投手データー!$F$6:$F$50,G24,投手データー!$G$6:$G$50,H24))","v":""},{"$f":"IF(H24=\"\",\"\",SUMIFS(投手データー!$R$6:$R$50,投手データー!$F$6:$F$50,G24,投手データー!$G$6:$G$50,H24))","v":""},{"$f":"IF(H24=\"\",\"\",SUMIFS(投手データー!$S$6:$S$50,投手データー!$F$6:$F$50,G24,投手データー!$G$6:$G$50,H24))","v":""},{"$f":"IF(H24=\"\",\"\",SUMIFS(投手データー!$T$6:$T$50,投手データー!$F$6:$F$50,G24,投手データー!$G$6:$G$50,H24))","v":""},{"$f":"IF(H24=\"\",\"\",COUNTIFS(投手データー!$F$6:$F$50,G24,投手データー!$G$6:$G$50,H24,投手データー!$U$6:$U$50,\"勝\"))","v":""},{"$f":"IF(H24=\"\",\"\",COUNTIFS(投手データー!$F$6:$F$50,G24,投手データー!$G$6:$G$50,H24,投手データー!$U$6:$U$50,\"負\"))","v":""},{"$f":"IF(H24=\"\",\"\",COUNTIFS(投手データー!$F$6:$F$50,G24,投手データー!$G$6:$G$50,H24,投手データー!$U$6:$U$50,\"分\"))","v":""},{"$f":"IF(H24=\"\",\"\",COUNTIFS(投手データー!$F$6:$F$50,$G24,投手データー!$G$6:$G$50,H24,投手データー!$U$6:$U$50,\"H\"))","v":""},{"$f":"IF(H24=\"\",\"\",COUNTIFS(投手データー!$F$6:$F$50,G24,投手データー!$G$6:$G$50,H24,投手データー!$U$6:$U$50,\"S\"))","v":""},null,null,{"$f":"IF(戦績!O21=\"\",\"\",戦績!O21)","v":""},"P",{"$f":"IF(AH24=\"\",\"\",COUNTIFS(投手データー!$F$6:$F$50,AI24,投手データー!$I$6:$I$50,\"先\"))","v":""},{"$f":"IF(AH24=\"\",\"\",COUNTIFS(投手データー!$F$6:$F$50,AI24,投手データー!$I$6:$I$50,\"２\"))","v":""},{"$f":"IF(AH24=\"\",\"\",COUNTIFS(投手データー!$F$6:$F$50,AI24,投手データー!$I$6:$I$50,\"３\"))","v":""},{"$f":"IF(AH24=\"\",\"\",COUNTIFS(投手データー!$F$6:$F$50,AI24,投手データー!$I$6:$I$50,\"４\"))","v":""},{"$f":"IF(AH24=\"\",\"\",SUMIF(投手データー!$F$6:$F$50,AI24,投手データー!$J$6:$J$50))","v":""},"","",{"$f":"IF(AH24=\"\",\"\",SUMIF(投手データー!$F$6:$F$50,AI24,投手データー!$L$6:$L$50))","v":""},{"$f":"IF(AH24=\"\",\"\",SUMIF(投手データー!$F$6:$F$50,AI24,投手データー!$M$6:$M$50))","v":""},{"$f":"IF(AH24=\"\",\"\",SUMIF(投手データー!$F$6:$F$50,AI24,投手データー!$N$6:$N$50))","v":""},{"$f":"IF(AH24=\"\",\"\",SUMIF(投手データー!$F$6:$F$50,AI24,投手データー!$O$6:$O$50))","v":""},{"$f":"IF(AH24=\"\",\"\",SUMIF(投手データー!$F$6:$F$50,AI24,投手データー!$P$6:$P$50))","v":""},{"$f":"IF(AH24=\"\",\"\",SUMIF(投手データー!$F$6:$F$50,AI24,投手データー!$Q$6:$Q$50))","v":""},{"$f":"IF(AH24=\"\",\"\",SUMIF(投手データー!$F$6:$F$50,AI24,投手データー!$R$6:$R$50))","v":""},{"$f":"IF(AH24=\"\",\"\",SUMIF(投手データー!$F$6:$F$50,AI24,投手データー!$S$6:$S$50))","v":""},{"$f":"IF(AH24=\"\",\"\",COUNTIF(戦績!$G$6:$G$101,AH24))","v":""},{"$f":"IF(AH24=\"\",\"\",COUNTIFS(投手データー!$F$6:$F$50,AI24,投手データー!$U$6:$U$50,\"勝\"))","v":""},{"$f":"IF(AH24=\"\",\"\",COUNTIFS(投手データー!$F$6:$F$50,AI24,投手データー!$U$6:$U$50,\"負\"))","v":""},{"$f":"IF(AH24=\"\",\"\",COUNTIFS(投手データー!$F$6:$F$50,AI24,投手データー!$U$6:$U$50,\"分\"))","v":""},{"$f":"IF(AH24=\"\",\"\",COUNTIFS(投手データー!$F$6:$F$50,AI24,投手データー!$U$6:$U$50,\"H\"))","v":""},{"$f":"IF(AH24=\"\",\"\",COUNTIFS(投手データー!$F$6:$F$50,AI24,投手データー!$U$6:$U$50,\"S\"))","v":""},""]
[null,null,null,null,null,null,"",null,null,{"$f":"IF(H25=\"\",\"\",COUNTIFS(投手データー!$F$6:$F$50,G25,投手データー!$G$6:$G$50,H25,投手データー!$I$6:$I$50,\"先\"))","v":""},{"$f":"IF(H25=\"\",\"\",COUNTIFS(投手データー!$F$6:$F$50,G25,投手データー!$G$6:$G$50,H25,投手データー!$I$6:$I$50,\"2\"))","v":""},{"$f":"IF(H25=\"\",\"\",COUNTIFS(投手データー!$F$6:$F$50,G25,投手データー!$G$6:$G$50,H25,投手データー!$I$6:$I$50,\"3\"))","v":""},{"$f":"IF(H25=\"\",\"\",COUNTIFS(投手データー!$F$6:$F$50,G25,投手データー!$G$6:$G$50,H25,投手データー!$I$6:$I$50,\"4\"))","v":""},{"$f":"IF(H25=\"\",\"\",SUMIFS(投手データー!$J$6:$J$50,投手データー!$F$6:$F$50,G25,投手データー!$G$6:$G$50,H25))","v":""},"","",null,{"$f":"IF(H25=\"\",\"\",SUMIFS(投手データー!$L$6:$L$50,投手データー!$F$6:$F$50,G25,投手データー!$G$6:$G$50,H25))","v":""},{"$f":"IF(H25=\"\",\"\",SUMIFS(投手データー!$M$6:$M$50,投手データー!$F$6:$F$50,G25,投手データー!$G$6:$G$50,H25))","v":""},{"$f":"IF(H25=\"\",\"\",SUMIFS(投手データー!$N$6:$N$50,投手データー!$F$6:$F$50,G25,投手データー!$G$6:$G$50,H25))","v":""},{"$f":"IF(H25=\"\",\"\",SUMIFS(投手データー!$O$6:$O$50,投手データー!$F$6:$F$50,G25,投手データー!$G$6:$G$50,H25))","v":""},{"$f":"IF(H25=\"\",\"\",SUMIFS(投手データー!$P$6:$P$50,投手データー!$F$6:$F$50,G25,投手データー!$G$6:$G$50,H25))","v":""},{"$f":"IF(H25=\"\",\"\",SUMIFS(投手データー!$Q$6:$Q$50,投手データー!$F$6:$F$50,G25,投手データー!$G$6:$G$50,H25))","v":""},{"$f":"IF(H25=\"\",\"\",SUMIFS(投手データー!$R$6:$R$50,投手データー!$F$6:$F$50,G25,投手データー!$G$6:$G$50,H25))","v":""},{"$f":"IF(H25=\"\",\"\",SUMIFS(投手データー!$S$6:$S$50,投手データー!$F$6:$F$50,G25,投手データー!$G$6:$G$50,H25))","v":""},{"$f":"IF(H25=\"\",\"\",SUMIFS(投手データー!$T$6:$T$50,投手データー!$F$6:$F$50,G25,投手データー!$G$6:$G$50,H25))","v":""},{"$f":"IF(H25=\"\",\"\",COUNTIFS(投手データー!$F$6:$F$50,G25,投手データー!$G$6:$G$50,H25,投手データー!$U$6:$U$50,\"勝\"))","v":""},{"$f":"IF(H25=\"\",\"\",COUNTIFS(投手データー!$F$6:$F$50,G25,投手データー!$G$6:$G$50,H25,投手データー!$U$6:$U$50,\"負\"))","v":""},{"$f":"IF(H25=\"\",\"\",COUNTIFS(投手データー!$F$6:$F$50,G25,投手データー!$G$6:$G$50,H25,投手データー!$U$6:$U$50,\"分\"))","v":""},{"$f":"IF(H25=\"\",\"\",COUNTIFS(投手データー!$F$6:$F$50,$G25,投手データー!$G$6:$G$50,H25,投手データー!$U$6:$U$50,\"H\"))","v":""},{"$f":"IF(H25=\"\",\"\",COUNTIFS(投手データー!$F$6:$F$50,G25,投手データー!$G$6:$G$50,H25,投手データー!$U$6:$U$50,\"S\"))","v":""},null,null,{"$f":"IF(戦績!O22=\"\",\"\",戦績!O22)","v":""},"Q",{"$f":"IF(AH25=\"\",\"\",COUNTIFS(投手データー!$F$6:$F$50,AI25,投手データー!$I$6:$I$50,\"先\"))","v":""},{"$f":"IF(AH25=\"\",\"\",COUNTIFS(投手データー!$F$6:$F$50,AI25,投手データー!$I$6:$I$50,\"２\"))","v":""},{"$f":"IF(AH25=\"\",\"\",COUNTIFS(投手データー!$F$6:$F$50,AI25,投手データー!$I$6:$I$50,\"３\"))","v":""},{"$f":"IF(AH25=\"\",\"\",COUNTIFS(投手データー!$F$6:$F$50,AI25,投手データー!$I$6:$I$50,\"４\"))","v":""},{"$f":"IF(AH25=\"\",\"\",SUMIF(投手データー!$F$6:$F$50,AI25,投手データー!$J$6:$J$50))","v":""},"","",{"$f":"IF(AH25=\"\",\"\",SUMIF(投手データー!$F$6:$F$50,AI25,投手データー!$L$6:$L$50))","v":""},{"$f":"IF(AH25=\"\",\"\",SUMIF(投手データー!$F$6:$F$50,AI25,投手データー!$M$6:$M$50))","v":""},{"$f":"IF(AH25=\"\",\"\",SUMIF(投手データー!$F$6:$F$50,AI25,投手データー!$N$6:$N$50))","v":""},{"$f":"IF(AH25=\"\",\"\",SUMIF(投手データー!$F$6:$F$50,AI25,投手データー!$O$6:$O$50))","v":""},{"$f":"IF(AH25=\"\",\"\",SUMIF(投手データー!$F$6:$F$50,AI25,投手データー!$P$6:$P$50))","v":""},{"$f":"IF(AH25=\"\",\"\",SUMIF(投手データー!$F$6:$F$50,AI25,投手データー!$Q$6:$Q$50))","v":""},{"$f":"IF(AH25=\"\",\"\",SUMIF(投手データー!$F$6:$F$50,AI25,投手データー!$R$6:$R$50))","v":""},{"$f":"IF(AH25=\"\",\"\",SUMIF(投手データー!$F$6:$F$50,AI25,投手データー!$S$6:$S$50))","v":""},{"$f":"IF(AH25=\"\",\"\",COUNTIF(戦績!$G$6:$G$101,AH25))","v":""},{"$f":"IF(AH25=\"\",\"\",COUNTIFS(投手データー!$F$6:$F$50,AI25,投手データー!$U$6:$U$50,\"勝\"))","v":""},{"$f":"IF(AH25=\"\",\"\",COUNTIFS(投手データー!$F$6:$F$50,AI25,投手データー!$U$6:$U$50,\"負\"))","v":""},{"$f":"IF(AH25=\"\",\"\",COUNTIFS(投手データー!$F$6:$F$50,AI25,投手データー!$U$6:$U$50,\"分\"))","v":""},{"$f":"IF(AH25=\"\",\"\",COUNTIFS(投手データー!$F$6:$F$50,AI25,投手データー!$U$6:$U$50,\"H\"))","v":""},{"$f":"IF(AH25=\"\",\"\",COUNTIFS(投手データー!$F$6:$F$50,AI25,投手データー!$U$6:$U$50,\"S\"))","v":""},""]
[null,null,null,null,null,null,"",null,null,{"$f":"IF(H26=\"\",\"\",COUNTIFS(投手データー!$F$6:$F$50,G26,投手データー!$G$6:$G$50,H26,投手データー!$I$6:$I$50,\"先\"))","v":""},{"$f":"IF(H26=\"\",\"\",COUNTIFS(投手データー!$F$6:$F$50,G26,投手データー!$G$6:$G$50,H26,投手データー!$I$6:$I$50,\"2\"))","v":""},{"$f":"IF(H26=\"\",\"\",COUNTIFS(投手データー!$F$6:$F$50,G26,投手データー!$G$6:$G$50,H26,投手データー!$I$6:$I$50,\"3\"))","v":""},{"$f":"IF(H26=\"\",\"\",COUNTIFS(投手データー!$F$6:$F$50,G26,投手データー!$G$6:$G$50,H26,投手データー!$I$6:$I$50,\"4\"))","v":""},{"$f":"IF(H26=\"\",\"\",SUMIFS(投手データー!$J$6:$J$50,投手データー!$F$6:$F$50,G26,投手データー!$G$6:$G$50,H26))","v":""},"","",null,{"$f":"IF(H26=\"\",\"\",SUMIFS(投手データー!$L$6:$L$50,投手データー!$F$6:$F$50,G26,投手データー!$G$6:$G$50,H26))","v":""},{"$f":"IF(H26=\"\",\"\",SUMIFS(投手データー!$M$6:$M$50,投手データー!$F$6:$F$50,G26,投手データー!$G$6:$G$50,H26))","v":""},{"$f":"IF(H26=\"\",\"\",SUMIFS(投手データー!$N$6:$N$50,投手データー!$F$6:$F$50,G26,投手データー!$G$6:$G$50,H26))","v":""},{"$f":"IF(H26=\"\",\"\",SUMIFS(投手データー!$O$6:$O$50,投手データー!$F$6:$F$50,G26,投手データー!$G$6:$G$50,H26))","v":""},{"$f":"IF(H26=\"\",\"\",SUMIFS(投手データー!$P$6:$P$50,投手データー!$F$6:$F$50,G26,投手データー!$G$6:$G$50,H26))","v":""},{"$f":"IF(H26=\"\",\"\",SUMIFS(投手データー!$Q$6:$Q$50,投手データー!$F$6:$F$50,G26,投手データー!$G$6:$G$50,H26))","v":""},{"$f":"IF(H26=\"\",\"\",SUMIFS(投手データー!$R$6:$R$50,投手データー!$F$6:$F$50,G26,投手データー!$G$6:$G$50,H26))","v":""},{"$f":"IF(H26=\"\",\"\",SUMIFS(投手データー!$S$6:$S$50,投手データー!$F$6:$F$50,G26,投手データー!$G$6:$G$50,H26))","v":""},{"$f":"IF(H26=\"\",\"\",SUMIFS(投手データー!$T$6:$T$50,投手データー!$F$6:$F$50,G26,投手データー!$G$6:$G$50,H26))","v":""},{"$f":"IF(H26=\"\",\"\",COUNTIFS(投手データー!$F$6:$F$50,G26,投手データー!$G$6:$G$50,H26,投手データー!$U$6:$U$50,\"勝\"))","v":""},{"$f":"IF(H26=\"\",\"\",COUNTIFS(投手データー!$F$6:$F$50,G26,投手データー!$G$6:$G$50,H26,投手データー!$U$6:$U$50,\"負\"))","v":""},{"$f":"IF(H26=\"\",\"\",COUNTIFS(投手データー!$F$6:$F$50,G26,投手データー!$G$6:$G$50,H26,投手データー!$U$6:$U$50,\"分\"))","v":""},{"$f":"IF(H26=\"\",\"\",COUNTIFS(投手データー!$F$6:$F$50,$G26,投手データー!$G$6:$G$50,H26,投手データー!$U$6:$U$50,\"H\"))","v":""},{"$f":"IF(H26=\"\",\"\",COUNTIFS(投手データー!$F$6:$F$50,G26,投手データー!$G$6:$G$50,H26,投手データー!$U$6:$U$50,\"S\"))","v":""},null,null,{"$f":"IF(戦績!O23=\"\",\"\",戦績!O23)","v":""},"R",{"$f":"IF(AH26=\"\",\"\",COUNTIFS(投手データー!$F$6:$F$50,AI26,投手データー!$I$6:$I$50,\"先\"))","v":""},{"$f":"IF(AH26=\"\",\"\",COUNTIFS(投手データー!$F$6:$F$50,AI26,投手データー!$I$6:$I$50,\"２\"))","v":""},{"$f":"IF(AH26=\"\",\"\",COUNTIFS(投手データー!$F$6:$F$50,AI26,投手データー!$I$6:$I$50,\"３\"))","v":""},{"$f":"IF(AH26=\"\",\"\",COUNTIFS(投手データー!$F$6:$F$50,AI26,投手データー!$I$6:$I$50,\"４\"))","v":""},{"$f":"IF(AH26=\"\",\"\",SUMIF(投手データー!$F$6:$F$50,AI26,投手データー!$J$6:$J$50))","v":""},"","",{"$f":"IF(AH26=\"\",\"\",SUMIF(投手データー!$F$6:$F$50,AI26,投手データー!$L$6:$L$50))","v":""},{"$f":"IF(AH26=\"\",\"\",SUMIF(投手データー!$F$6:$F$50,AI26,投手データー!$M$6:$M$50))","v":""},{"$f":"IF(AH26=\"\",\"\",SUMIF(投手データー!$F$6:$F$50,AI26,投手データー!$N$6:$N$50))","v":""},{"$f":"IF(AH26=\"\",\"\",SUMIF(投手データー!$F$6:$F$50,AI26,投手データー!$O$6:$O$50))","v":""},{"$f":"IF(AH26=\"\",\"\",SUMIF(投手データー!$F$6:$F$50,AI26,投手データー!$P$6:$P$50))","v":""},{"$f":"IF(AH26=\"\",\"\",SUMIF(投手データー!$F$6:$F$50,AI26,投手データー!$Q$6:$Q$50))","v":""},{"$f":"IF(AH26=\"\",\"\",SUMIF(投手データー!$F$6:$F$50,AI26,投手データー!$R$6:$R$50))","v":""},{"$f":"IF(AH26=\"\",\"\",SUMIF(投手データー!$F$6:$F$50,AI26,投手データー!$S$6:$S$50))","v":""},{"$f":"IF(AH26=\"\",\"\",COUNTIF(戦績!$G$6:$G$101,AH26))","v":""},{"$f":"IF(AH26=\"\",\"\",COUNTIFS(投手データー!$F$6:$F$50,AI26,投手データー!$U$6:$U$50,\"勝\"))","v":""},{"$f":"IF(AH26=\"\",\"\",COUNTIFS(投手データー!$F$6:$F$50,AI26,投手データー!$U$6:$U$50,\"負\"))","v":""},{"$f":"IF(AH26=\"\",\"\",COUNTIFS(投手データー!$F$6:$F$50,AI26,投手データー!$U$6:$U$50,\"分\"))","v":""},{"$f":"IF(AH26=\"\",\"\",COUNTIFS(投手データー!$F$6:$F$50,AI26,投手データー!$U$6:$U$50,\"H\"))","v":""},{"$f":"IF(AH26=\"\",\"\",COUNTIFS(投手データー!$F$6:$F$50,AI26,投手データー!$U$6:$U$50,\"S\"))","v":""},""]
[null,null,null,null,null,null,"",null,null,{"$f":"IF(H27=\"\",\"\",COUNTIFS(投手データー!$F$6:$F$50,G27,投手データー!$G$6:$G$50,H27,投手データー!$I$6:$I$50,\"先\"))","v":""},{"$f":"IF(H27=\"\",\"\",COUNTIFS(投手データー!$F$6:$F$50,G27,投手データー!$G$6:$G$50,H27,投手データー!$I$6:$I$50,\"2\"))","v":""},{"$f":"IF(H27=\"\",\"\",COUNTIFS(投手データー!$F$6:$F$50,G27,投手データー!$G$6:$G$50,H27,投手データー!$I$6:$I$50,\"3\"))","v":""},{"$f":"IF(H27=\"\",\"\",COUNTIFS(投手データー!$F$6:$F$50,G27,投手データー!$G$6:$G$50,H27,投手データー!$I$6:$I$50,\"4\"))","v":""},{"$f":"IF(H27=\"\",\"\",SUMIFS(投手データー!$J$6:$J$50,投手データー!$F$6:$F$50,G27,投手データー!$G$6:$G$50,H27))","v":""},"","",null,{"$f":"IF(H27=\"\",\"\",SUMIFS(投手データー!$L$6:$L$50,投手データー!$F$6:$F$50,G27,投手データー!$G$6:$G$50,H27))","v":""},{"$f":"IF(H27=\"\",\"\",SUMIFS(投手データー!$M$6:$M$50,投手データー!$F$6:$F$50,G27,投手データー!$G$6:$G$50,H27))","v":""},{"$f":"IF(H27=\"\",\"\",SUMIFS(投手データー!$N$6:$N$50,投手データー!$F$6:$F$50,G27,投手データー!$G$6:$G$50,H27))","v":""},{"$f":"IF(H27=\"\",\"\",SUMIFS(投手データー!$O$6:$O$50,投手データー!$F$6:$F$50,G27,投手データー!$G$6:$G$50,H27))","v":""},{"$f":"IF(H27=\"\",\"\",SUMIFS(投手データー!$P$6:$P$50,投手データー!$F$6:$F$50,G27,投手データー!$G$6:$G$50,H27))","v":""},{"$f":"IF(H27=\"\",\"\",SUMIFS(投手データー!$Q$6:$Q$50,投手データー!$F$6:$F$50,G27,投手データー!$G$6:$G$50,H27))","v":""},{"$f":"IF(H27=\"\",\"\",SUMIFS(投手データー!$R$6:$R$50,投手データー!$F$6:$F$50,G27,投手データー!$G$6:$G$50,H27))","v":""},{"$f":"IF(H27=\"\",\"\",SUMIFS(投手データー!$S$6:$S$50,投手データー!$F$6:$F$50,G27,投手データー!$G$6:$G$50,H27))","v":""},{"$f":"IF(H27=\"\",\"\",SUMIFS(投手データー!$T$6:$T$50,投手データー!$F$6:$F$50,G27,投手データー!$G$6:$G$50,H27))","v":""},{"$f":"IF(H27=\"\",\"\",COUNTIFS(投手データー!$F$6:$F$50,G27,投手データー!$G$6:$G$50,H27,投手データー!$U$6:$U$50,\"勝\"))","v":""},{"$f":"IF(H27=\"\",\"\",COUNTIFS(投手データー!$F$6:$F$50,G27,投手データー!$G$6:$G$50,H27,投手データー!$U$6:$U$50,\"負\"))","v":""},{"$f":"IF(H27=\"\",\"\",COUNTIFS(投手データー!$F$6:$F$50,G27,投手データー!$G$6:$G$50,H27,投手データー!$U$6:$U$50,\"分\"))","v":""},{"$f":"IF(H27=\"\",\"\",COUNTIFS(投手データー!$F$6:$F$50,$G27,投手データー!$G$6:$G$50,H27,投手データー!$U$6:$U$50,\"H\"))","v":""},{"$f":"IF(H27=\"\",\"\",COUNTIFS(投手データー!$F$6:$F$50,G27,投手データー!$G$6:$G$50,H27,投手データー!$U$6:$U$50,\"S\"))","v":""},null,null,{"$f":"IF(戦績!O24=\"\",\"\",戦績!O24)","v":""},"S",{"$f":"IF(AH27=\"\",\"\",COUNTIFS(投手データー!$F$6:$F$50,AI27,投手データー!$I$6:$I$50,\"先\"))","v":""},{"$f":"IF(AH27=\"\",\"\",COUNTIFS(投手データー!$F$6:$F$50,AI27,投手データー!$I$6:$I$50,\"２\"))","v":""},{"$f":"IF(AH27=\"\",\"\",COUNTIFS(投手データー!$F$6:$F$50,AI27,投手データー!$I$6:$I$50,\"３\"))","v":""},{"$f":"IF(AH27=\"\",\"\",COUNTIFS(投手データー!$F$6:$F$50,AI27,投手データー!$I$6:$I$50,\"４\"))","v":""},{"$f":"IF(AH27=\"\",\"\",SUMIF(投手データー!$F$6:$F$50,AI27,投手データー!$J$6:$J$50))","v":""},"","",{"$f":"IF(AH27=\"\",\"\",SUMIF(投手データー!$F$6:$F$50,AI27,投手データー!$L$6:$L$50))","v":""},{"$f":"IF(AH27=\"\",\"\",SUMIF(投手データー!$F$6:$F$50,AI27,投手データー!$M$6:$M$50))","v":""},{"$f":"IF(AH27=\"\",\"\",SUMIF(投手データー!$F$6:$F$50,AI27,投手データー!$N$6:$N$50))","v":""},{"$f":"IF(AH27=\"\",\"\",SUMIF(投手データー!$F$6:$F$50,AI27,投手データー!$O$6:$O$50))","v":""},{"$f":"IF(AH27=\"\",\"\",SUMIF(投手データー!$F$6:$F$50,AI27,投手データー!$P$6:$P$50))","v":""},{"$f":"IF(AH27=\"\",\"\",SUMIF(投手データー!$F$6:$F$50,AI27,投手データー!$Q$6:$Q$50))","v":""},{"$f":"IF(AH27=\"\",\"\",SUMIF(投手データー!$F$6:$F$50,AI27,投手データー!$R$6:$R$50))","v":""},{"$f":"IF(AH27=\"\",\"\",SUMIF(投手データー!$F$6:$F$50,AI27,投手データー!$S$6:$S$50))","v":""},{"$f":"IF(AH27=\"\",\"\",COUNTIF(戦績!$G$6:$G$101,AH27))","v":""},{"$f":"IF(AH27=\"\",\"\",COUNTIFS(投手データー!$F$6:$F$50,AI27,投手データー!$U$6:$U$50,\"勝\"))","v":""},{"$f":"IF(AH27=\"\",\"\",COUNTIFS(投手データー!$F$6:$F$50,AI27,投手データー!$U$6:$U$50,\"負\"))","v":""},{"$f":"IF(AH27=\"\",\"\",COUNTIFS(投手データー!$F$6:$F$50,AI27,投手データー!$U$6:$U$50,\"分\"))","v":""},{"$f":"IF(AH27=\"\",\"\",COUNTIFS(投手データー!$F$6:$F$50,AI27,投手データー!$U$6:$U$50,\"H\"))","v":""},{"$f":"IF(AH27=\"\",\"\",COUNTIFS(投手データー!$F$6:$F$50,AI27,投手データー!$U$6:$U$50,\"S\"))","v":""},""]
[null,null,null,null,null,null,"",null,null,{"$f":"IF(H28=\"\",\"\",COUNTIFS(投手データー!$F$6:$F$50,G28,投手データー!$G$6:$G$50,H28,投手データー!$I$6:$I$50,\"先\"))","v":""},{"$f":"IF(H28=\"\",\"\",COUNTIFS(投手データー!$F$6:$F$50,G28,投手データー!$G$6:$G$50,H28,投手データー!$I$6:$I$50,\"2\"))","v":""},{"$f":"IF(H28=\"\",\"\",COUNTIFS(投手データー!$F$6:$F$50,G28,投手データー!$G$6:$G$50,H28,投手データー!$I$6:$I$50,\"3\"))","v":""},{"$f":"IF(H28=\"\",\"\",COUNTIFS(投手データー!$F$6:$F$50,G28,投手データー!$G$6:$G$50,H28,投手データー!$I$6:$I$50,\"4\"))","v":""},{"$f":"IF(H28=\"\",\"\",SUMIFS(投手データー!$J$6:$J$50,投手データー!$F$6:$F$50,G28,投手データー!$G$6:$G$50,H28))","v":""},"","",null,{"$f":"IF(H28=\"\",\"\",SUMIFS(投手データー!$L$6:$L$50,投手データー!$F$6:$F$50,G28,投手データー!$G$6:$G$50,H28))","v":""},{"$f":"IF(H28=\"\",\"\",SUMIFS(投手データー!$M$6:$M$50,投手データー!$F$6:$F$50,G28,投手データー!$G$6:$G$50,H28))","v":""},{"$f":"IF(H28=\"\",\"\",SUMIFS(投手データー!$N$6:$N$50,投手データー!$F$6:$F$50,G28,投手データー!$G$6:$G$50,H28))","v":""},{"$f":"IF(H28=\"\",\"\",SUMIFS(投手データー!$O$6:$O$50,投手データー!$F$6:$F$50,G28,投手データー!$G$6:$G$50,H28))","v":""},{"$f":"IF(H28=\"\",\"\",SUMIFS(投手データー!$P$6:$P$50,投手データー!$F$6:$F$50,G28,投手データー!$G$6:$G$50,H28))","v":""},{"$f":"IF(H28=\"\",\"\",SUMIFS(投手データー!$Q$6:$Q$50,投手データー!$F$6:$F$50,G28,投手データー!$G$6:$G$50,H28))","v":""},{"$f":"IF(H28=\"\",\"\",SUMIFS(投手データー!$R$6:$R$50,投手データー!$F$6:$F$50,G28,投手データー!$G$6:$G$50,H28))","v":""},{"$f":"IF(H28=\"\",\"\",SUMIFS(投手データー!$S$6:$S$50,投手データー!$F$6:$F$50,G28,投手データー!$G$6:$G$50,H28))","v":""},{"$f":"IF(H28=\"\",\"\",SUMIFS(投手データー!$T$6:$T$50,投手データー!$F$6:$F$50,G28,投手データー!$G$6:$G$50,H28))","v":""},{"$f":"IF(H28=\"\",\"\",COUNTIFS(投手データー!$F$6:$F$50,G28,投手データー!$G$6:$G$50,H28,投手データー!$U$6:$U$50,\"勝\"))","v":""},{"$f":"IF(H28=\"\",\"\",COUNTIFS(投手データー!$F$6:$F$50,G28,投手データー!$G$6:$G$50,H28,投手データー!$U$6:$U$50,\"負\"))","v":""},{"$f":"IF(H28=\"\",\"\",COUNTIFS(投手データー!$F$6:$F$50,G28,投手データー!$G$6:$G$50,H28,投手データー!$U$6:$U$50,\"分\"))","v":""},{"$f":"IF(H28=\"\",\"\",COUNTIFS(投手データー!$F$6:$F$50,$G28,投手データー!$G$6:$G$50,H28,投手データー!$U$6:$U$50,\"H\"))","v":""},{"$f":"IF(H28=\"\",\"\",COUNTIFS(投手データー!$F$6:$F$50,G28,投手データー!$G$6:$G$50,H28,投手データー!$U$6:$U$50,\"S\"))","v":""},null,null,{"$f":"IF(戦績!O25=\"\",\"\",戦績!O25)","v":""},"T",{"$f":"IF(AH28=\"\",\"\",COUNTIFS(投手データー!$F$6:$F$50,AI28,投手データー!$I$6:$I$50,\"先\"))","v":""},{"$f":"IF(AH28=\"\",\"\",COUNTIFS(投手データー!$F$6:$F$50,AI28,投手データー!$I$6:$I$50,\"２\"))","v":""},{"$f":"IF(AH28=\"\",\"\",COUNTIFS(投手データー!$F$6:$F$50,AI28,投手データー!$I$6:$I$50,\"３\"))","v":""},{"$f":"IF(AH28=\"\",\"\",COUNTIFS(投手データー!$F$6:$F$50,AI28,投手データー!$I$6:$I$50,\"４\"))","v":""},{"$f":"IF(AH28=\"\",\"\",SUMIF(投手データー!$F$6:$F$50,AI28,投手データー!$J$6:$J$50))","v":""},"","",{"$f":"IF(AH28=\"\",\"\",SUMIF(投手データー!$F$6:$F$50,AI28,投手データー!$L$6:$L$50))","v":""},{"$f":"IF(AH28=\"\",\"\",SUMIF(投手データー!$F$6:$F$50,AI28,投手データー!$M$6:$M$50))","v":""},{"$f":"IF(AH28=\"\",\"\",SUMIF(投手データー!$F$6:$F$50,AI28,投手データー!$N$6:$N$50))","v":""},{"$f":"IF(AH28=\"\",\"\",SUMIF(投手データー!$F$6:$F$50,AI28,投手データー!$O$6:$O$50))","v":""},{"$f":"IF(AH28=\"\",\"\",SUMIF(投手データー!$F$6:$F$50,AI28,投手データー!$P$6:$P$50))","v":""},{"$f":"IF(AH28=\"\",\"\",SUMIF(投手データー!$F$6:$F$50,AI28,投手データー!$Q$6:$Q$50))","v":""},{"$f":"IF(AH28=\"\",\"\",SUMIF(投手データー!$F$6:$F$50,AI28,投手データー!$R$6:$R$50))","v":""},{"$f":"IF(AH28=\"\",\"\",SUMIF(投手データー!$F$6:$F$50,AI28,投手データー!$S$6:$S$50))","v":""},{"$f":"IF(AH28=\"\",\"\",COUNTIF(戦績!$G$6:$G$101,AH28))","v":""},{"$f":"IF(AH28=\"\",\"\",COUNTIFS(投手データー!$F$6:$F$50,AI28,投手データー!$U$6:$U$50,\"勝\"))","v":""},{"$f":"IF(AH28=\"\",\"\",COUNTIFS(投手データー!$F$6:$F$50,AI28,投手データー!$U$6:$U$50,\"負\"))","v":""},{"$f":"IF(AH28=\"\",\"\",COUNTIFS(投手データー!$F$6:$F$50,AI28,投手データー!$U$6:$U$50,\"分\"))","v":""},{"$f":"IF(AH28=\"\",\"\",COUNTIFS(投手データー!$F$6:$F$50,AI28,投手データー!$U$6:$U$50,\"H\"))","v":""},{"$f":"IF(AH28=\"\",\"\",COUNTIFS(投手データー!$F$6:$F$50,AI28,投手データー!$U$6:$U$50,\"S\"))","v":""},""]
[null,null,null,null,null,null,"",null,null,{"$f":"IF(H29=\"\",\"\",COUNTIFS(投手データー!$F$6:$F$50,G29,投手データー!$G$6:$G$50,H29,投手データー!$I$6:$I$50,\"先\"))","v":""},{"$f":"IF(H29=\"\",\"\",COUNTIFS(投手データー!$F$6:$F$50,G29,投手データー!$G$6:$G$50,H29,投手データー!$I$6:$I$50,\"2\"))","v":""},{"$f":"IF(H29=\"\",\"\",COUNTIFS(投手データー!$F$6:$F$50,G29,投手データー!$G$6:$G$50,H29,投手データー!$I$6:$I$50,\"3\"))","v":""},{"$f":"IF(H29=\"\",\"\",COUNTIFS(投手データー!$F$6:$F$50,G29,投手データー!$G$6:$G$50,H29,投手データー!$I$6:$I$50,\"4\"))","v":""},{"$f":"IF(H29=\"\",\"\",SUMIFS(投手データー!$J$6:$J$50,投手データー!$F$6:$F$50,G29,投手データー!$G$6:$G$50,H29))","v":""},"","",null,{"$f":"IF(H29=\"\",\"\",SUMIFS(投手データー!$L$6:$L$50,投手データー!$F$6:$F$50,G29,投手データー!$G$6:$G$50,H29))","v":""},{"$f":"IF(H29=\"\",\"\",SUMIFS(投手データー!$M$6:$M$50,投手データー!$F$6:$F$50,G29,投手データー!$G$6:$G$50,H29))","v":""},{"$f":"IF(H29=\"\",\"\",SUMIFS(投手データー!$N$6:$N$50,投手データー!$F$6:$F$50,G29,投手データー!$G$6:$G$50,H29))","v":""},{"$f":"IF(H29=\"\",\"\",SUMIFS(投手データー!$O$6:$O$50,投手データー!$F$6:$F$50,G29,投手データー!$G$6:$G$50,H29))","v":""},{"$f":"IF(H29=\"\",\"\",SUMIFS(投手データー!$P$6:$P$50,投手データー!$F$6:$F$50,G29,投手データー!$G$6:$G$50,H29))","v":""},{"$f":"IF(H29=\"\",\"\",SUMIFS(投手データー!$Q$6:$Q$50,投手データー!$F$6:$F$50,G29,投手データー!$G$6:$G$50,H29))","v":""},{"$f":"IF(H29=\"\",\"\",SUMIFS(投手データー!$R$6:$R$50,投手データー!$F$6:$F$50,G29,投手データー!$G$6:$G$50,H29))","v":""},{"$f":"IF(H29=\"\",\"\",SUMIFS(投手データー!$S$6:$S$50,投手データー!$F$6:$F$50,G29,投手データー!$G$6:$G$50,H29))","v":""},{"$f":"IF(H29=\"\",\"\",SUMIFS(投手データー!$T$6:$T$50,投手データー!$F$6:$F$50,G29,投手データー!$G$6:$G$50,H29))","v":""},{"$f":"IF(H29=\"\",\"\",COUNTIFS(投手データー!$F$6:$F$50,G29,投手データー!$G$6:$G$50,H29,投手データー!$U$6:$U$50,\"勝\"))","v":""},{"$f":"IF(H29=\"\",\"\",COUNTIFS(投手データー!$F$6:$F$50,G29,投手データー!$G$6:$G$50,H29,投手データー!$U$6:$U$50,\"負\"))","v":""},{"$f":"IF(H29=\"\",\"\",COUNTIFS(投手データー!$F$6:$F$50,G29,投手データー!$G$6:$G$50,H29,投手データー!$U$6:$U$50,\"分\"))","v":""},{"$f":"IF(H29=\"\",\"\",COUNTIFS(投手データー!$F$6:$F$50,$G29,投手データー!$G$6:$G$50,H29,投手データー!$U$6:$U$50,\"H\"))","v":""},{"$f":"IF(H29=\"\",\"\",COUNTIFS(投手データー!$F$6:$F$50,G29,投手データー!$G$6:$G$50,H29,投手データー!$U$6:$U$50,\"S\"))","v":""},null,null,{"$f":"IF(戦績!O26=\"\",\"\",戦績!O26)","v":""},"U",{"$f":"IF(AH29=\"\",\"\",COUNTIFS(投手データー!$F$6:$F$50,AI29,投手データー!$I$6:$I$50,\"先\"))","v":""},{"$f":"IF(AH29=\"\",\"\",COUNTIFS(投手データー!$F$6:$F$50,AI29,投手データー!$I$6:$I$50,\"２\"))","v":""},{"$f":"IF(AH29=\"\",\"\",COUNTIFS(投手データー!$F$6:$F$50,AI29,投手データー!$I$6:$I$50,\"３\"))","v":""},{"$f":"IF(AH29=\"\",\"\",COUNTIFS(投手データー!$F$6:$F$50,AI29,投手データー!$I$6:$I$50,\"４\"))","v":""},{"$f":"IF(AH29=\"\",\"\",SUMIF(投手データー!$F$6:$F$50,AI29,投手データー!$J$6:$J$50))","v":""},"","",{"$f":"IF(AH29=\"\",\"\",SUMIF(投手データー!$F$6:$F$50,AI29,投手データー!$L$6:$L$50))","v":""},{"$f":"IF(AH29=\"\",\"\",SUMIF(投手データー!$F$6:$F$50,AI29,投手データー!$M$6:$M$50))","v":""},{"$f":"IF(AH29=\"\",\"\",SUMIF(投手データー!$F$6:$F$50,AI29,投手データー!$N$6:$N$50))","v":""},{"$f":"IF(AH29=\"\",\"\",SUMIF(投手データー!$F$6:$F$50,AI29,投手データー!$O$6:$O$50))","v":""},{"$f":"IF(AH29=\"\",\"\",SUMIF(投手データー!$F$6:$F$50,AI29,投手データー!$P$6:$P$50))","v":""},{"$f":"IF(AH29=\"\",\"\",SUMIF(投手データー!$F$6:$F$50,AI29,投手データー!$Q$6:$Q$50))","v":""},{"$f":"IF(AH29=\"\",\"\",SUMIF(投手データー!$F$6:$F$50,AI29,投手データー!$R$6:$R$50))","v":""},{"$f":"IF(AH29=\"\",\"\",SUMIF(投手データー!$F$6:$F$50,AI29,投手データー!$S$6:$S$50))","v":""},{"$f":"IF(AH29=\"\",\"\",COUNTIF(戦績!$G$6:$G$101,AH29))","v":""},{"$f":"IF(AH29=\"\",\"\",COUNTIFS(投手データー!$F$6:$F$50,AI29,投手データー!$U$6:$U$50,\"勝\"))","v":""},{"$f":"IF(AH29=\"\",\"\",COUNTIFS(投手データー!$F$6:$F$50,AI29,投手データー!$U$6:$U$50,\"負\"))","v":""},{"$f":"IF(AH29=\"\",\"\",COUNTIFS(投手データー!$F$6:$F$50,AI29,投手データー!$U$6:$U$50,\"分\"))","v":""},{"$f":"IF(AH29=\"\",\"\",COUNTIFS(投手データー!$F$6:$F$50,AI29,投手データー!$U$6:$U$50,\"H\"))","v":""},{"$f":"IF(AH29=\"\",\"\",COUNTIFS(投手データー!$F$6:$F$50,AI29,投手データー!$U$6:$U$50,\"S\"))","v":""},""]
[null,null,null,null,null,null,"",null,null,{"$f":"IF(H30=\"\",\"\",COUNTIFS(投手データー!$F$6:$F$50,G30,投手データー!$G$6:$G$50,H30,投手データー!$I$6:$I$50,\"先\"))","v":""},{"$f":"IF(H30=\"\",\"\",COUNTIFS(投手データー!$F$6:$F$50,G30,投手データー!$G$6:$G$50,H30,投手データー!$I$6:$I$50,\"2\"))","v":""},{"$f":"IF(H30=\"\",\"\",COUNTIFS(投手データー!$F$6:$F$50,G30,投手データー!$G$6:$G$50,H30,投手データー!$I$6:$I$50,\"3\"))","v":""},{"$f":"IF(H30=\"\",\"\",COUNTIFS(投手データー!$F$6:$F$50,G30,投手データー!$G$6:$G$50,H30,投手データー!$I$6:$I$50,\"4\"))","v":""},{"$f":"IF(H30=\"\",\"\",SUMIFS(投手データー!$J$6:$J$50,投手データー!$F$6:$F$50,G30,投手データー!$G$6:$G$50,H30))","v":""},"","",null,{"$f":"IF(H30=\"\",\"\",SUMIFS(投手データー!$L$6:$L$50,投手データー!$F$6:$F$50,G30,投手データー!$G$6:$G$50,H30))","v":""},{"$f":"IF(H30=\"\",\"\",SUMIFS(投手データー!$M$6:$M$50,投手データー!$F$6:$F$50,G30,投手データー!$G$6:$G$50,H30))","v":""},{"$f":"IF(H30=\"\",\"\",SUMIFS(投手データー!$N$6:$N$50,投手データー!$F$6:$F$50,G30,投手データー!$G$6:$G$50,H30))","v":""},{"$f":"IF(H30=\"\",\"\",SUMIFS(投手データー!$O$6:$O$50,投手データー!$F$6:$F$50,G30,投手データー!$G$6:$G$50,H30))","v":""},{"$f":"IF(H30=\"\",\"\",SUMIFS(投手データー!$P$6:$P$50,投手データー!$F$6:$F$50,G30,投手データー!$G$6:$G$50,H30))","v":""},{"$f":"IF(H30=\"\",\"\",SUMIFS(投手データー!$Q$6:$Q$50,投手データー!$F$6:$F$50,G30,投手データー!$G$6:$G$50,H30))","v":""},{"$f":"IF(H30=\"\",\"\",SUMIFS(投手データー!$R$6:$R$50,投手データー!$F$6:$F$50,G30,投手データー!$G$6:$G$50,H30))","v":""},{"$f":"IF(H30=\"\",\"\",SUMIFS(投手データー!$S$6:$S$50,投手データー!$F$6:$F$50,G30,投手データー!$G$6:$G$50,H30))","v":""},{"$f":"IF(H30=\"\",\"\",SUMIFS(投手データー!$T$6:$T$50,投手データー!$F$6:$F$50,G30,投手データー!$G$6:$G$50,H30))","v":""},{"$f":"IF(H30=\"\",\"\",COUNTIFS(投手データー!$F$6:$F$50,G30,投手データー!$G$6:$G$50,H30,投手データー!$U$6:$U$50,\"勝\"))","v":""},{"$f":"IF(H30=\"\",\"\",COUNTIFS(投手データー!$F$6:$F$50,G30,投手データー!$G$6:$G$50,H30,投手データー!$U$6:$U$50,\"負\"))","v":""},{"$f":"IF(H30=\"\",\"\",COUNTIFS(投手データー!$F$6:$F$50,G30,投手データー!$G$6:$G$50,H30,投手データー!$U$6:$U$50,\"分\"))","v":""},{"$f":"IF(H30=\"\",\"\",COUNTIFS(投手データー!$F$6:$F$50,$G30,投手データー!$G$6:$G$50,H30,投手データー!$U$6:$U$50,\"H\"))","v":""},{"$f":"IF(H30=\"\",\"\",COUNTIFS(投手データー!$F$6:$F$50,G30,投手データー!$G$6:$G$50,H30,投手データー!$U$6:$U$50,\"S\"))","v":""},null,null,{"$f":"IF(戦績!O27=\"\",\"\",戦績!O27)","v":""},"V",{"$f":"IF(AH30=\"\",\"\",COUNTIFS(投手データー!$F$6:$F$50,AI30,投手データー!$I$6:$I$50,\"先\"))","v":""},{"$f":"IF(AH30=\"\",\"\",COUNTIFS(投手データー!$F$6:$F$50,AI30,投手データー!$I$6:$I$50,\"２\"))","v":""},{"$f":"IF(AH30=\"\",\"\",COUNTIFS(投手データー!$F$6:$F$50,AI30,投手データー!$I$6:$I$50,\"３\"))","v":""},{"$f":"IF(AH30=\"\",\"\",COUNTIFS(投手データー!$F$6:$F$50,AI30,投手データー!$I$6:$I$50,\"４\"))","v":""},{"$f":"IF(AH30=\"\",\"\",SUMIF(投手データー!$F$6:$F$50,AI30,投手データー!$J$6:$J$50))","v":""},"","",{"$f":"IF(AH30=\"\",\"\",SUMIF(投手データー!$F$6:$F$50,AI30,投手データー!$L$6:$L$50))","v":""},{"$f":"IF(AH30=\"\",\"\",SUMIF(投手データー!$F$6:$F$50,AI30,投手データー!$M$6:$M$50))","v":""},{"$f":"IF(AH30=\"\",\"\",SUMIF(投手データー!$F$6:$F$50,AI30,投手データー!$N$6:$N$50))","v":""},{"$f":"IF(AH30=\"\",\"\",SUMIF(投手データー!$F$6:$F$50,AI30,投手データー!$O$6:$O$50))","v":""},{"$f":"IF(AH30=\"\",\"\",SUMIF(投手データー!$F$6:$F$50,AI30,投手データー!$P$6:$P$50))","v":""},{"$f":"IF(AH30=\"\",\"\",SUMIF(投手データー!$F$6:$F$50,AI30,投手データー!$Q$6:$Q$50))","v":""},{"$f":"IF(AH30=\"\",\"\",SUMIF(投手データー!$F$6:$F$50,AI30,投手データー!$R$6:$R$50))","v":""},{"$f":"IF(AH30=\"\",\"\",SUMIF(投手データー!$F$6:$F$50,AI30,投手データー!$S$6:$S$50))","v":""},{"$f":"IF(AH30=\"\",\"\",COUNTIF(戦績!$G$6:$G$101,AH30))","v":""},{"$f":"IF(AH30=\"\",\"\",COUNTIFS(投手データー!$F$6:$F$50,AI30,投手データー!$U$6:$U$50,\"勝\"))","v":""},{"$f":"IF(AH30=\"\",\"\",COUNTIFS(投手データー!$F$6:$F$50,AI30,投手データー!$U$6:$U$50,\"負\"))","v":""},{"$f":"IF(AH30=\"\",\"\",COUNTIFS(投手データー!$F$6:$F$50,AI30,投手データー!$U$6:$U$50,\"分\"))","v":""},{"$f":"IF(AH30=\"\",\"\",COUNTIFS(投手データー!$F$6:$F$50,AI30,投手データー!$U$6:$U$50,\"H\"))","v":""},{"$f":"IF(AH30=\"\",\"\",COUNTIFS(投手データー!$F$6:$F$50,AI30,投手データー!$U$6:$U$50,\"S\"))","v":""},""]
[null,null,null,null,null,null,"",null,null,{"$f":"IF(H31=\"\",\"\",COUNTIFS(投手データー!$F$6:$F$50,G31,投手データー!$G$6:$G$50,H31,投手データー!$I$6:$I$50,\"先\"))","v":""},{"$f":"IF(H31=\"\",\"\",COUNTIFS(投手データー!$F$6:$F$50,G31,投手データー!$G$6:$G$50,H31,投手データー!$I$6:$I$50,\"2\"))","v":""},{"$f":"IF(H31=\"\",\"\",COUNTIFS(投手データー!$F$6:$F$50,G31,投手データー!$G$6:$G$50,H31,投手データー!$I$6:$I$50,\"3\"))","v":""},{"$f":"IF(H31=\"\",\"\",COUNTIFS(投手データー!$F$6:$F$50,G31,投手データー!$G$6:$G$50,H31,投手データー!$I$6:$I$50,\"4\"))","v":""},{"$f":"IF(H31=\"\",\"\",SUMIFS(投手データー!$J$6:$J$50,投手データー!$F$6:$F$50,G31,投手データー!$G$6:$G$50,H31))","v":""},"","",null,{"$f":"IF(H31=\"\",\"\",SUMIFS(投手データー!$L$6:$L$50,投手データー!$F$6:$F$50,G31,投手データー!$G$6:$G$50,H31))","v":""},{"$f":"IF(H31=\"\",\"\",SUMIFS(投手データー!$M$6:$M$50,投手データー!$F$6:$F$50,G31,投手データー!$G$6:$G$50,H31))","v":""},{"$f":"IF(H31=\"\",\"\",SUMIFS(投手データー!$N$6:$N$50,投手データー!$F$6:$F$50,G31,投手データー!$G$6:$G$50,H31))","v":""},{"$f":"IF(H31=\"\",\"\",SUMIFS(投手データー!$O$6:$O$50,投手データー!$F$6:$F$50,G31,投手データー!$G$6:$G$50,H31))","v":""},{"$f":"IF(H31=\"\",\"\",SUMIFS(投手データー!$P$6:$P$50,投手データー!$F$6:$F$50,G31,投手データー!$G$6:$G$50,H31))","v":""},{"$f":"IF(H31=\"\",\"\",SUMIFS(投手データー!$Q$6:$Q$50,投手データー!$F$6:$F$50,G31,投手データー!$G$6:$G$50,H31))","v":""},{"$f":"IF(H31=\"\",\"\",SUMIFS(投手データー!$R$6:$R$50,投手データー!$F$6:$F$50,G31,投手データー!$G$6:$G$50,H31))","v":""},{"$f":"IF(H31=\"\",\"\",SUMIFS(投手データー!$S$6:$S$50,投手データー!$F$6:$F$50,G31,投手データー!$G$6:$G$50,H31))","v":""},{"$f":"IF(H31=\"\",\"\",SUMIFS(投手データー!$T$6:$T$50,投手データー!$F$6:$F$50,G31,投手データー!$G$6:$G$50,H31))","v":""},{"$f":"IF(H31=\"\",\"\",COUNTIFS(投手データー!$F$6:$F$50,G31,投手データー!$G$6:$G$50,H31,投手データー!$U$6:$U$50,\"勝\"))","v":""},{"$f":"IF(H31=\"\",\"\",COUNTIFS(投手データー!$F$6:$F$50,G31,投手データー!$G$6:$G$50,H31,投手データー!$U$6:$U$50,\"負\"))","v":""},{"$f":"IF(H31=\"\",\"\",COUNTIFS(投手データー!$F$6:$F$50,G31,投手データー!$G$6:$G$50,H31,投手データー!$U$6:$U$50,\"分\"))","v":""},{"$f":"IF(H31=\"\",\"\",COUNTIFS(投手データー!$F$6:$F$50,$G31,投手データー!$G$6:$G$50,H31,投手データー!$U$6:$U$50,\"H\"))","v":""},{"$f":"IF(H31=\"\",\"\",COUNTIFS(投手データー!$F$6:$F$50,G31,投手データー!$G$6:$G$50,H31,投手データー!$U$6:$U$50,\"S\"))","v":""},null,null,{"$f":"IF(戦績!O28=\"\",\"\",戦績!O28)","v":""},"W",{"$f":"IF(AH31=\"\",\"\",COUNTIFS(投手データー!$F$6:$F$50,AI31,投手データー!$I$6:$I$50,\"先\"))","v":""},{"$f":"IF(AH31=\"\",\"\",COUNTIFS(投手データー!$F$6:$F$50,AI31,投手データー!$I$6:$I$50,\"２\"))","v":""},{"$f":"IF(AH31=\"\",\"\",COUNTIFS(投手データー!$F$6:$F$50,AI31,投手データー!$I$6:$I$50,\"３\"))","v":""},{"$f":"IF(AH31=\"\",\"\",COUNTIFS(投手データー!$F$6:$F$50,AI31,投手データー!$I$6:$I$50,\"４\"))","v":""},{"$f":"IF(AH31=\"\",\"\",SUMIF(投手データー!$F$6:$F$50,AI31,投手データー!$J$6:$J$50))","v":""},"","",{"$f":"IF(AH31=\"\",\"\",SUMIF(投手データー!$F$6:$F$50,AI31,投手データー!$L$6:$L$50))","v":""},{"$f":"IF(AH31=\"\",\"\",SUMIF(投手データー!$F$6:$F$50,AI31,投手データー!$M$6:$M$50))","v":""},{"$f":"IF(AH31=\"\",\"\",SUMIF(投手データー!$F$6:$F$50,AI31,投手データー!$N$6:$N$50))","v":""},{"$f":"IF(AH31=\"\",\"\",SUMIF(投手データー!$F$6:$F$50,AI31,投手データー!$O$6:$O$50))","v":""},{"$f":"IF(AH31=\"\",\"\",SUMIF(投手データー!$F$6:$F$50,AI31,投手データー!$P$6:$P$50))","v":""},{"$f":"IF(AH31=\"\",\"\",SUMIF(投手データー!$F$6:$F$50,AI31,投手データー!$Q$6:$Q$50))","v":""},{"$f":"IF(AH31=\"\",\"\",SUMIF(投手データー!$F$6:$F$50,AI31,投手データー!$R$6:$R$50))","v":""},{"$f":"IF(AH31=\"\",\"\",SUMIF(投手データー!$F$6:$F$50,AI31,投手データー!$S$6:$S$50))","v":""},{"$f":"IF(AH31=\"\",\"\",COUNTIF(戦績!$G$6:$G$101,AH31))","v":""},{"$f":"IF(AH31=\"\",\"\",COUNTIFS(投手データー!$F$6:$F$50,AI31,投手データー!$U$6:$U$50,\"勝\"))","v":""},{"$f":"IF(AH31=\"\",\"\",COUNTIFS(投手データー!$F$6:$F$50,AI31,投手データー!$U$6:$U$50,\"負\"))","v":""},{"$f":"IF(AH31=\"\",\"\",COUNTIFS(投手データー!$F$6:$F$50,AI31,投手データー!$U$6:$U$50,\"分\"))","v":""},{"$f":"IF(AH31=\"\",\"\",COUNTIFS(投手データー!$F$6:$F$50,AI31,投手データー!$U$6:$U$50,\"H\"))","v":""},{"$f":"IF(AH31=\"\",\"\",COUNTIFS(投手データー!$F$6:$F$50,AI31,投手データー!$U$6:$U$50,\"S\"))","v":""},""]
[null,null,null,null,null,null,"",null,null,{"$f":"IF(H32=\"\",\"\",COUNTIFS(投手データー!$F$6:$F$50,G32,投手データー!$G$6:$G$50,H32,投手データー!$I$6:$I$50,\"先\"))","v":""},{"$f":"IF(H32=\"\",\"\",COUNTIFS(投手データー!$F$6:$F$50,G32,投手データー!$G$6:$G$50,H32,投手データー!$I$6:$I$50,\"2\"))","v":""},{"$f":"IF(H32=\"\",\"\",COUNTIFS(投手データー!$F$6:$F$50,G32,投手データー!$G$6:$G$50,H32,投手データー!$I$6:$I$50,\"3\"))","v":""},{"$f":"IF(H32=\"\",\"\",COUNTIFS(投手データー!$F$6:$F$50,G32,投手データー!$G$6:$G$50,H32,投手データー!$I$6:$I$50,\"4\"))","v":""},{"$f":"IF(H32=\"\",\"\",SUMIFS(投手データー!$J$6:$J$50,投手データー!$F$6:$F$50,G32,投手データー!$G$6:$G$50,H32))","v":""},"","",null,{"$f":"IF(H32=\"\",\"\",SUMIFS(投手データー!$L$6:$L$50,投手データー!$F$6:$F$50,G32,投手データー!$G$6:$G$50,H32))","v":""},{"$f":"IF(H32=\"\",\"\",SUMIFS(投手データー!$M$6:$M$50,投手データー!$F$6:$F$50,G32,投手データー!$G$6:$G$50,H32))","v":""},{"$f":"IF(H32=\"\",\"\",SUMIFS(投手データー!$N$6:$N$50,投手データー!$F$6:$F$50,G32,投手データー!$G$6:$G$50,H32))","v":""},{"$f":"IF(H32=\"\",\"\",SUMIFS(投手データー!$O$6:$O$50,投手データー!$F$6:$F$50,G32,投手データー!$G$6:$G$50,H32))","v":""},{"$f":"IF(H32=\"\",\"\",SUMIFS(投手データー!$P$6:$P$50,投手データー!$F$6:$F$50,G32,投手データー!$G$6:$G$50,H32))","v":""},{"$f":"IF(H32=\"\",\"\",SUMIFS(投手データー!$Q$6:$Q$50,投手データー!$F$6:$F$50,G32,投手データー!$G$6:$G$50,H32))","v":""},{"$f":"IF(H32=\"\",\"\",SUMIFS(投手データー!$R$6:$R$50,投手データー!$F$6:$F$50,G32,投手データー!$G$6:$G$50,H32))","v":""},{"$f":"IF(H32=\"\",\"\",SUMIFS(投手データー!$S$6:$S$50,投手データー!$F$6:$F$50,G32,投手データー!$G$6:$G$50,H32))","v":""},{"$f":"IF(H32=\"\",\"\",SUMIFS(投手データー!$T$6:$T$50,投手データー!$F$6:$F$50,G32,投手データー!$G$6:$G$50,H32))","v":""},{"$f":"IF(H32=\"\",\"\",COUNTIFS(投手データー!$F$6:$F$50,G32,投手データー!$G$6:$G$50,H32,投手データー!$U$6:$U$50,\"勝\"))","v":""},{"$f":"IF(H32=\"\",\"\",COUNTIFS(投手データー!$F$6:$F$50,G32,投手データー!$G$6:$G$50,H32,投手データー!$U$6:$U$50,\"負\"))","v":""},{"$f":"IF(H32=\"\",\"\",COUNTIFS(投手データー!$F$6:$F$50,G32,投手データー!$G$6:$G$50,H32,投手データー!$U$6:$U$50,\"分\"))","v":""},{"$f":"IF(H32=\"\",\"\",COUNTIFS(投手データー!$F$6:$F$50,$G32,投手データー!$G$6:$G$50,H32,投手データー!$U$6:$U$50,\"H\"))","v":""},{"$f":"IF(H32=\"\",\"\",COUNTIFS(投手データー!$F$6:$F$50,G32,投手データー!$G$6:$G$50,H32,投手データー!$U$6:$U$50,\"S\"))","v":""},null,null,{"$f":"IF(戦績!O29=\"\",\"\",戦績!O29)","v":""},"X",{"$f":"IF(AH32=\"\",\"\",COUNTIFS(投手データー!$F$6:$F$50,AI32,投手データー!$I$6:$I$50,\"先\"))","v":""},{"$f":"IF(AH32=\"\",\"\",COUNTIFS(投手データー!$F$6:$F$50,AI32,投手データー!$I$6:$I$50,\"２\"))","v":""},{"$f":"IF(AH32=\"\",\"\",COUNTIFS(投手データー!$F$6:$F$50,AI32,投手データー!$I$6:$I$50,\"３\"))","v":""},{"$f":"IF(AH32=\"\",\"\",COUNTIFS(投手データー!$F$6:$F$50,AI32,投手データー!$I$6:$I$50,\"４\"))","v":""},{"$f":"IF(AH32=\"\",\"\",SUMIF(投手データー!$F$6:$F$50,AI32,投手データー!$J$6:$J$50))","v":""},"","",{"$f":"IF(AH32=\"\",\"\",SUMIF(投手データー!$F$6:$F$50,AI32,投手データー!$L$6:$L$50))","v":""},{"$f":"IF(AH32=\"\",\"\",SUMIF(投手データー!$F$6:$F$50,AI32,投手データー!$M$6:$M$50))","v":""},{"$f":"IF(AH32=\"\",\"\",SUMIF(投手データー!$F$6:$F$50,AI32,投手データー!$N$6:$N$50))","v":""},{"$f":"IF(AH32=\"\",\"\",SUMIF(投手データー!$F$6:$F$50,AI32,投手データー!$O$6:$O$50))","v":""},{"$f":"IF(AH32=\"\",\"\",SUMIF(投手データー!$F$6:$F$50,AI32,投手データー!$P$6:$P$50))","v":""},{"$f":"IF(AH32=\"\",\"\",SUMIF(投手データー!$F$6:$F$50,AI32,投手データー!$Q$6:$Q$50))","v":""},{"$f":"IF(AH32=\"\",\"\",SUMIF(投手データー!$F$6:$F$50,AI32,投手データー!$R$6:$R$50))","v":""},{"$f":"IF(AH32=\"\",\"\",SUMIF(投手データー!$F$6:$F$50,AI32,投手データー!$S$6:$S$50))","v":""},{"$f":"IF(AH32=\"\",\"\",COUNTIF(戦績!$G$6:$G$101,AH32))","v":""},{"$f":"IF(AH32=\"\",\"\",COUNTIFS(投手データー!$F$6:$F$50,AI32,投手データー!$U$6:$U$50,\"勝\"))","v":""},{"$f":"IF(AH32=\"\",\"\",COUNTIFS(投手データー!$F$6:$F$50,AI32,投手データー!$U$6:$U$50,\"負\"))","v":""},{"$f":"IF(AH32=\"\",\"\",COUNTIFS(投手データー!$F$6:$F$50,AI32,投手データー!$U$6:$U$50,\"分\"))","v":""},{"$f":"IF(AH32=\"\",\"\",COUNTIFS(投手データー!$F$6:$F$50,AI32,投手データー!$U$6:$U$50,\"H\"))","v":""},{"$f":"IF(AH32=\"\",\"\",COUNTIFS(投手データー!$F$6:$F$50,AI32,投手データー!$U$6:$U$50,\"S\"))","v":""},""]
[null,null,null,null,null,null,"",null,null,{"$f":"IF(H33=\"\",\"\",COUNTIFS(投手データー!$F$6:$F$50,G33,投手データー!$G$6:$G$50,H33,投手データー!$I$6:$I$50,\"先\"))","v":""},{"$f":"IF(H33=\"\",\"\",COUNTIFS(投手データー!$F$6:$F$50,G33,投手データー!$G$6:$G$50,H33,投手データー!$I$6:$I$50,\"2\"))","v":""},{"$f":"IF(H33=\"\",\"\",COUNTIFS(投手データー!$F$6:$F$50,G33,投手データー!$G$6:$G$50,H33,投手データー!$I$6:$I$50,\"3\"))","v":""},{"$f":"IF(H33=\"\",\"\",COUNTIFS(投手データー!$F$6:$F$50,G33,投手データー!$G$6:$G$50,H33,投手データー!$I$6:$I$50,\"4\"))","v":""},{"$f":"IF(H33=\"\",\"\",SUMIFS(投手データー!$J$6:$J$50,投手データー!$F$6:$F$50,G33,投手データー!$G$6:$G$50,H33))","v":""},"","",null,{"$f":"IF(H33=\"\",\"\",SUMIFS(投手データー!$L$6:$L$50,投手データー!$F$6:$F$50,G33,投手データー!$G$6:$G$50,H33))","v":""},{"$f":"IF(H33=\"\",\"\",SUMIFS(投手データー!$M$6:$M$50,投手データー!$F$6:$F$50,G33,投手データー!$G$6:$G$50,H33))","v":""},{"$f":"IF(H33=\"\",\"\",SUMIFS(投手データー!$N$6:$N$50,投手データー!$F$6:$F$50,G33,投手データー!$G$6:$G$50,H33))","v":""},{"$f":"IF(H33=\"\",\"\",SUMIFS(投手データー!$O$6:$O$50,投手データー!$F$6:$F$50,G33,投手データー!$G$6:$G$50,H33))","v":""},{"$f":"IF(H33=\"\",\"\",SUMIFS(投手データー!$P$6:$P$50,投手データー!$F$6:$F$50,G33,投手データー!$G$6:$G$50,H33))","v":""},{"$f":"IF(H33=\"\",\"\",SUMIFS(投手データー!$Q$6:$Q$50,投手データー!$F$6:$F$50,G33,投手データー!$G$6:$G$50,H33))","v":""},{"$f":"IF(H33=\"\",\"\",SUMIFS(投手データー!$R$6:$R$50,投手データー!$F$6:$F$50,G33,投手データー!$G$6:$G$50,H33))","v":""},{"$f":"IF(H33=\"\",\"\",SUMIFS(投手データー!$S$6:$S$50,投手データー!$F$6:$F$50,G33,投手データー!$G$6:$G$50,H33))","v":""},{"$f":"IF(H33=\"\",\"\",SUMIFS(投手データー!$T$6:$T$50,投手データー!$F$6:$F$50,G33,投手データー!$G$6:$G$50,H33))","v":""},{"$f":"IF(H33=\"\",\"\",COUNTIFS(投手データー!$F$6:$F$50,G33,投手データー!$G$6:$G$50,H33,投手データー!$U$6:$U$50,\"勝\"))","v":""},{"$f":"IF(H33=\"\",\"\",COUNTIFS(投手データー!$F$6:$F$50,G33,投手データー!$G$6:$G$50,H33,投手データー!$U$6:$U$50,\"負\"))","v":""},{"$f":"IF(H33=\"\",\"\",COUNTIFS(投手データー!$F$6:$F$50,G33,投手データー!$G$6:$G$50,H33,投手データー!$U$6:$U$50,\"分\"))","v":""},{"$f":"IF(H33=\"\",\"\",COUNTIFS(投手データー!$F$6:$F$50,$G33,投手データー!$G$6:$G$50,H33,投手データー!$U$6:$U$50,\"H\"))","v":""},{"$f":"IF(H33=\"\",\"\",COUNTIFS(投手データー!$F$6:$F$50,G33,投手データー!$G$6:$G$50,H33,投手データー!$U$6:$U$50,\"S\"))","v":""},null,null,{"$f":"IF(戦績!O30=\"\",\"\",戦績!O30)","v":""},"Y",{"$f":"IF(AH33=\"\",\"\",COUNTIFS(投手データー!$F$6:$F$50,AI33,投手データー!$I$6:$I$50,\"先\"))","v":""},{"$f":"IF(AH33=\"\",\"\",COUNTIFS(投手データー!$F$6:$F$50,AI33,投手データー!$I$6:$I$50,\"２\"))","v":""},{"$f":"IF(AH33=\"\",\"\",COUNTIFS(投手データー!$F$6:$F$50,AI33,投手データー!$I$6:$I$50,\"３\"))","v":""},{"$f":"IF(AH33=\"\",\"\",COUNTIFS(投手データー!$F$6:$F$50,AI33,投手データー!$I$6:$I$50,\"４\"))","v":""},{"$f":"IF(AH33=\"\",\"\",SUMIF(投手データー!$F$6:$F$50,AI33,投手データー!$J$6:$J$50))","v":""},"","",{"$f":"IF(AH33=\"\",\"\",SUMIF(投手データー!$F$6:$F$50,AI33,投手データー!$L$6:$L$50))","v":""},{"$f":"IF(AH33=\"\",\"\",SUMIF(投手データー!$F$6:$F$50,AI33,投手データー!$M$6:$M$50))","v":""},{"$f":"IF(AH33=\"\",\"\",SUMIF(投手データー!$F$6:$F$50,AI33,投手データー!$N$6:$N$50))","v":""},{"$f":"IF(AH33=\"\",\"\",SUMIF(投手データー!$F$6:$F$50,AI33,投手データー!$O$6:$O$50))","v":""},{"$f":"IF(AH33=\"\",\"\",SUMIF(投手データー!$F$6:$F$50,AI33,投手データー!$P$6:$P$50))","v":""},{"$f":"IF(AH33=\"\",\"\",SUMIF(投手データー!$F$6:$F$50,AI33,投手データー!$Q$6:$Q$50))","v":""},{"$f":"IF(AH33=\"\",\"\",SUMIF(投手データー!$F$6:$F$50,AI33,投手データー!$R$6:$R$50))","v":""},{"$f":"IF(AH33=\"\",\"\",SUMIF(投手データー!$F$6:$F$50,AI33,投手データー!$S$6:$S$50))","v":""},{"$f":"IF(AH33=\"\",\"\",COUNTIF(戦績!$G$6:$G$101,AH33))","v":""},{"$f":"IF(AH33=\"\",\"\",COUNTIFS(投手データー!$F$6:$F$50,AI33,投手データー!$U$6:$U$50,\"勝\"))","v":""},{"$f":"IF(AH33=\"\",\"\",COUNTIFS(投手データー!$F$6:$F$50,AI33,投手データー!$U$6:$U$50,\"負\"))","v":""},{"$f":"IF(AH33=\"\",\"\",COUNTIFS(投手データー!$F$6:$F$50,AI33,投手データー!$U$6:$U$50,\"分\"))","v":""},{"$f":"IF(AH33=\"\",\"\",COUNTIFS(投手データー!$F$6:$F$50,AI33,投手データー!$U$6:$U$50,\"H\"))","v":""},{"$f":"IF(AH33=\"\",\"\",COUNTIFS(投手データー!$F$6:$F$50,AI33,投手データー!$U$6:$U$50,\"S\"))","v":""},""]
[null,null,null,null,null,null,"",null,null,{"$f":"IF(H34=\"\",\"\",COUNTIFS(投手データー!$F$6:$F$50,G34,投手データー!$G$6:$G$50,H34,投手データー!$I$6:$I$50,\"先\"))","v":""},{"$f":"IF(H34=\"\",\"\",COUNTIFS(投手データー!$F$6:$F$50,G34,投手データー!$G$6:$G$50,H34,投手データー!$I$6:$I$50,\"2\"))","v":""},{"$f":"IF(H34=\"\",\"\",COUNTIFS(投手データー!$F$6:$F$50,G34,投手データー!$G$6:$G$50,H34,投手データー!$I$6:$I$50,\"3\"))","v":""},{"$f":"IF(H34=\"\",\"\",COUNTIFS(投手データー!$F$6:$F$50,G34,投手データー!$G$6:$G$50,H34,投手データー!$I$6:$I$50,\"4\"))","v":""},{"$f":"IF(H34=\"\",\"\",SUMIFS(投手データー!$J$6:$J$50,投手データー!$F$6:$F$50,G34,投手データー!$G$6:$G$50,H34))","v":""},"","",null,{"$f":"IF(H34=\"\",\"\",SUMIFS(投手データー!$L$6:$L$50,投手データー!$F$6:$F$50,G34,投手データー!$G$6:$G$50,H34))","v":""},{"$f":"IF(H34=\"\",\"\",SUMIFS(投手データー!$M$6:$M$50,投手データー!$F$6:$F$50,G34,投手データー!$G$6:$G$50,H34))","v":""},{"$f":"IF(H34=\"\",\"\",SUMIFS(投手データー!$N$6:$N$50,投手データー!$F$6:$F$50,G34,投手データー!$G$6:$G$50,H34))","v":""},{"$f":"IF(H34=\"\",\"\",SUMIFS(投手データー!$O$6:$O$50,投手データー!$F$6:$F$50,G34,投手データー!$G$6:$G$50,H34))","v":""},{"$f":"IF(H34=\"\",\"\",SUMIFS(投手データー!$P$6:$P$50,投手データー!$F$6:$F$50,G34,投手データー!$G$6:$G$50,H34))","v":""},{"$f":"IF(H34=\"\",\"\",SUMIFS(投手データー!$Q$6:$Q$50,投手データー!$F$6:$F$50,G34,投手データー!$G$6:$G$50,H34))","v":""},{"$f":"IF(H34=\"\",\"\",SUMIFS(投手データー!$R$6:$R$50,投手データー!$F$6:$F$50,G34,投手データー!$G$6:$G$50,H34))","v":""},{"$f":"IF(H34=\"\",\"\",SUMIFS(投手データー!$S$6:$S$50,投手データー!$F$6:$F$50,G34,投手データー!$G$6:$G$50,H34))","v":""},{"$f":"IF(H34=\"\",\"\",SUMIFS(投手データー!$T$6:$T$50,投手データー!$F$6:$F$50,G34,投手データー!$G$6:$G$50,H34))","v":""},{"$f":"IF(H34=\"\",\"\",COUNTIFS(投手データー!$F$6:$F$50,G34,投手データー!$G$6:$G$50,H34,投手データー!$U$6:$U$50,\"勝\"))","v":""},{"$f":"IF(H34=\"\",\"\",COUNTIFS(投手データー!$F$6:$F$50,G34,投手データー!$G$6:$G$50,H34,投手データー!$U$6:$U$50,\"負\"))","v":""},{"$f":"IF(H34=\"\",\"\",COUNTIFS(投手データー!$F$6:$F$50,G34,投手データー!$G$6:$G$50,H34,投手データー!$U$6:$U$50,\"分\"))","v":""},{"$f":"IF(H34=\"\",\"\",COUNTIFS(投手データー!$F$6:$F$50,$G34,投手データー!$G$6:$G$50,H34,投手データー!$U$6:$U$50,\"H\"))","v":""},{"$f":"IF(H34=\"\",\"\",COUNTIFS(投手データー!$F$6:$F$50,G34,投手データー!$G$6:$G$50,H34,投手データー!$U$6:$U$50,\"S\"))","v":""},null,null,{"$f":"IF(戦績!O31=\"\",\"\",戦績!O31)","v":""},"Z",{"$f":"IF(AH34=\"\",\"\",COUNTIFS(投手データー!$F$6:$F$50,AI34,投手データー!$I$6:$I$50,\"先\"))","v":""},{"$f":"IF(AH34=\"\",\"\",COUNTIFS(投手データー!$F$6:$F$50,AI34,投手データー!$I$6:$I$50,\"２\"))","v":""},{"$f":"IF(AH34=\"\",\"\",COUNTIFS(投手データー!$F$6:$F$50,AI34,投手データー!$I$6:$I$50,\"３\"))","v":""},{"$f":"IF(AH34=\"\",\"\",COUNTIFS(投手データー!$F$6:$F$50,AI34,投手データー!$I$6:$I$50,\"４\"))","v":""},{"$f":"IF(AH34=\"\",\"\",SUMIF(投手データー!$F$6:$F$50,AI34,投手データー!$J$6:$J$50))","v":""},"","",{"$f":"IF(AH34=\"\",\"\",SUMIF(投手データー!$F$6:$F$50,AI34,投手データー!$L$6:$L$50))","v":""},{"$f":"IF(AH34=\"\",\"\",SUMIF(投手データー!$F$6:$F$50,AI34,投手データー!$M$6:$M$50))","v":""},{"$f":"IF(AH34=\"\",\"\",SUMIF(投手データー!$F$6:$F$50,AI34,投手データー!$N$6:$N$50))","v":""},{"$f":"IF(AH34=\"\",\"\",SUMIF(投手データー!$F$6:$F$50,AI34,投手データー!$O$6:$O$50))","v":""},{"$f":"IF(AH34=\"\",\"\",SUMIF(投手データー!$F$6:$F$50,AI34,投手データー!$P$6:$P$50))","v":""},{"$f":"IF(AH34=\"\",\"\",SUMIF(投手データー!$F$6:$F$50,AI34,投手データー!$Q$6:$Q$50))","v":""},{"$f":"IF(AH34=\"\",\"\",SUMIF(投手データー!$F$6:$F$50,AI34,投手データー!$R$6:$R$50))","v":""},{"$f":"IF(AH34=\"\",\"\",SUMIF(投手データー!$F$6:$F$50,AI34,投手データー!$S$6:$S$50))","v":""},{"$f":"IF(AH34=\"\",\"\",COUNTIF(戦績!$G$6:$G$101,AH34))","v":""},{"$f":"IF(AH34=\"\",\"\",COUNTIFS(投手データー!$F$6:$F$50,AI34,投手データー!$U$6:$U$50,\"勝\"))","v":""},{"$f":"IF(AH34=\"\",\"\",COUNTIFS(投手データー!$F$6:$F$50,AI34,投手データー!$U$6:$U$50,\"負\"))","v":""},{"$f":"IF(AH34=\"\",\"\",COUNTIFS(投手データー!$F$6:$F$50,AI34,投手データー!$U$6:$U$50,\"分\"))","v":""},{"$f":"IF(AH34=\"\",\"\",COUNTIFS(投手データー!$F$6:$F$50,AI34,投手データー!$U$6:$U$50,\"H\"))","v":""},{"$f":"IF(AH34=\"\",\"\",COUNTIFS(投手データー!$F$6:$F$50,AI34,投手データー!$U$6:$U$50,\"S\"))","v":""},""]
[null,null,null,null,null,null,"",null,null,{"$f":"IF(H35=\"\",\"\",COUNTIFS(投手データー!$F$6:$F$50,G35,投手データー!$G$6:$G$50,H35,投手データー!$I$6:$I$50,\"先\"))","v":""},{"$f":"IF(H35=\"\",\"\",COUNTIFS(投手データー!$F$6:$F$50,G35,投手データー!$G$6:$G$50,H35,投手データー!$I$6:$I$50,\"2\"))","v":""},{"$f":"IF(H35=\"\",\"\",COUNTIFS(投手データー!$F$6:$F$50,G35,投手データー!$G$6:$G$50,H35,投手データー!$I$6:$I$50,\"3\"))","v":""},{"$f":"IF(H35=\"\",\"\",COUNTIFS(投手データー!$F$6:$F$50,G35,投手データー!$G$6:$G$50,H35,投手データー!$I$6:$I$50,\"4\"))","v":""},{"$f":"IF(H35=\"\",\"\",SUMIFS(投手データー!$J$6:$J$50,投手データー!$F$6:$F$50,G35,投手データー!$G$6:$G$50,H35))","v":""},"","",null,{"$f":"IF(H35=\"\",\"\",SUMIFS(投手データー!$L$6:$L$50,投手データー!$F$6:$F$50,G35,投手データー!$G$6:$G$50,H35))","v":""},{"$f":"IF(H35=\"\",\"\",SUMIFS(投手データー!$M$6:$M$50,投手データー!$F$6:$F$50,G35,投手データー!$G$6:$G$50,H35))","v":""},{"$f":"IF(H35=\"\",\"\",SUMIFS(投手データー!$N$6:$N$50,投手データー!$F$6:$F$50,G35,投手データー!$G$6:$G$50,H35))","v":""},{"$f":"IF(H35=\"\",\"\",SUMIFS(投手データー!$O$6:$O$50,投手データー!$F$6:$F$50,G35,投手データー!$G$6:$G$50,H35))","v":""},{"$f":"IF(H35=\"\",\"\",SUMIFS(投手データー!$P$6:$P$50,投手データー!$F$6:$F$50,G35,投手データー!$G$6:$G$50,H35))","v":""},{"$f":"IF(H35=\"\",\"\",SUMIFS(投手データー!$Q$6:$Q$50,投手データー!$F$6:$F$50,G35,投手データー!$G$6:$G$50,H35))","v":""},{"$f":"IF(H35=\"\",\"\",SUMIFS(投手データー!$R$6:$R$50,投手データー!$F$6:$F$50,G35,投手データー!$G$6:$G$50,H35))","v":""},{"$f":"IF(H35=\"\",\"\",SUMIFS(投手データー!$S$6:$S$50,投手データー!$F$6:$F$50,G35,投手データー!$G$6:$G$50,H35))","v":""},{"$f":"IF(H35=\"\",\"\",SUMIFS(投手データー!$T$6:$T$50,投手データー!$F$6:$F$50,G35,投手データー!$G$6:$G$50,H35))","v":""},{"$f":"IF(H35=\"\",\"\",COUNTIFS(投手データー!$F$6:$F$50,G35,投手データー!$G$6:$G$50,H35,投手データー!$U$6:$U$50,\"勝\"))","v":""},{"$f":"IF(H35=\"\",\"\",COUNTIFS(投手データー!$F$6:$F$50,G35,投手データー!$G$6:$G$50,H35,投手データー!$U$6:$U$50,\"負\"))","v":""},{"$f":"IF(H35=\"\",\"\",COUNTIFS(投手データー!$F$6:$F$50,G35,投手データー!$G$6:$G$50,H35,投手データー!$U$6:$U$50,\"分\"))","v":""},{"$f":"IF(H35=\"\",\"\",COUNTIFS(投手データー!$F$6:$F$50,$G35,投手データー!$G$6:$G$50,H35,投手データー!$U$6:$U$50,\"H\"))","v":""},{"$f":"IF(H35=\"\",\"\",COUNTIFS(投手データー!$F$6:$F$50,G35,投手データー!$G$6:$G$50,H35,投手データー!$U$6:$U$50,\"S\"))","v":""},null,null,{"$f":"IF(戦績!O32=\"\",\"\",戦績!O32)","v":""},"AA",{"$f":"IF(AH35=\"\",\"\",COUNTIFS(投手データー!$F$6:$F$50,AI35,投手データー!$I$6:$I$50,\"先\"))","v":""},{"$f":"IF(AH35=\"\",\"\",COUNTIFS(投手データー!$F$6:$F$50,AI35,投手データー!$I$6:$I$50,\"２\"))","v":""},{"$f":"IF(AH35=\"\",\"\",COUNTIFS(投手データー!$F$6:$F$50,AI35,投手データー!$I$6:$I$50,\"３\"))","v":""},{"$f":"IF(AH35=\"\",\"\",COUNTIFS(投手データー!$F$6:$F$50,AI35,投手データー!$I$6:$I$50,\"４\"))","v":""},{"$f":"IF(AH35=\"\",\"\",SUMIF(投手データー!$F$6:$F$50,AI35,投手データー!$J$6:$J$50))","v":""},"","",{"$f":"IF(AH35=\"\",\"\",SUMIF(投手データー!$F$6:$F$50,AI35,投手データー!$L$6:$L$50))","v":""},{"$f":"IF(AH35=\"\",\"\",SUMIF(投手データー!$F$6:$F$50,AI35,投手データー!$M$6:$M$50))","v":""},{"$f":"IF(AH35=\"\",\"\",SUMIF(投手データー!$F$6:$F$50,AI35,投手データー!$N$6:$N$50))","v":""},{"$f":"IF(AH35=\"\",\"\",SUMIF(投手データー!$F$6:$F$50,AI35,投手データー!$O$6:$O$50))","v":""},{"$f":"IF(AH35=\"\",\"\",SUMIF(投手データー!$F$6:$F$50,AI35,投手データー!$P$6:$P$50))","v":""},{"$f":"IF(AH35=\"\",\"\",SUMIF(投手データー!$F$6:$F$50,AI35,投手データー!$Q$6:$Q$50))","v":""},{"$f":"IF(AH35=\"\",\"\",SUMIF(投手データー!$F$6:$F$50,AI35,投手データー!$R$6:$R$50))","v":""},{"$f":"IF(AH35=\"\",\"\",SUMIF(投手データー!$F$6:$F$50,AI35,投手データー!$S$6:$S$50))","v":""},{"$f":"IF(AH35=\"\",\"\",COUNTIF(戦績!$G$6:$G$101,AH35))","v":""},{"$f":"IF(AH35=\"\",\"\",COUNTIFS(投手データー!$F$6:$F$50,AI35,投手データー!$U$6:$U$50,\"勝\"))","v":""},{"$f":"IF(AH35=\"\",\"\",COUNTIFS(投手データー!$F$6:$F$50,AI35,投手データー!$U$6:$U$50,\"負\"))","v":""},{"$f":"IF(AH35=\"\",\"\",COUNTIFS(投手データー!$F$6:$F$50,AI35,投手データー!$U$6:$U$50,\"分\"))","v":""},{"$f":"IF(AH35=\"\",\"\",COUNTIFS(投手データー!$F$6:$F$50,AI35,投手データー!$U$6:$U$50,\"H\"))","v":""},{"$f":"IF(AH35=\"\",\"\",COUNTIFS(投手データー!$F$6:$F$50,AI35,投手データー!$U$6:$U$50,\"S\"))","v":""},""]
[null,null,null,null,null,null,"",null,null,{"$f":"IF(H36=\"\",\"\",COUNTIFS(投手データー!$F$6:$F$50,G36,投手データー!$G$6:$G$50,H36,投手データー!$I$6:$I$50,\"先\"))","v":""},{"$f":"IF(H36=\"\",\"\",COUNTIFS(投手データー!$F$6:$F$50,G36,投手データー!$G$6:$G$50,H36,投手データー!$I$6:$I$50,\"2\"))","v":""},{"$f":"IF(H36=\"\",\"\",COUNTIFS(投手データー!$F$6:$F$50,G36,投手データー!$G$6:$G$50,H36,投手データー!$I$6:$I$50,\"3\"))","v":""},{"$f":"IF(H36=\"\",\"\",COUNTIFS(投手データー!$F$6:$F$50,G36,投手データー!$G$6:$G$50,H36,投手データー!$I$6:$I$50,\"4\"))","v":""},{"$f":"IF(H36=\"\",\"\",SUMIFS(投手データー!$J$6:$J$50,投手データー!$F$6:$F$50,G36,投手データー!$G$6:$G$50,H36))","v":""},"","",null,{"$f":"IF(H36=\"\",\"\",SUMIFS(投手データー!$L$6:$L$50,投手データー!$F$6:$F$50,G36,投手データー!$G$6:$G$50,H36))","v":""},{"$f":"IF(H36=\"\",\"\",SUMIFS(投手データー!$M$6:$M$50,投手データー!$F$6:$F$50,G36,投手データー!$G$6:$G$50,H36))","v":""},{"$f":"IF(H36=\"\",\"\",SUMIFS(投手データー!$N$6:$N$50,投手データー!$F$6:$F$50,G36,投手データー!$G$6:$G$50,H36))","v":""},{"$f":"IF(H36=\"\",\"\",SUMIFS(投手データー!$O$6:$O$50,投手データー!$F$6:$F$50,G36,投手データー!$G$6:$G$50,H36))","v":""},{"$f":"IF(H36=\"\",\"\",SUMIFS(投手データー!$P$6:$P$50,投手データー!$F$6:$F$50,G36,投手データー!$G$6:$G$50,H36))","v":""},{"$f":"IF(H36=\"\",\"\",SUMIFS(投手データー!$Q$6:$Q$50,投手データー!$F$6:$F$50,G36,投手データー!$G$6:$G$50,H36))","v":""},{"$f":"IF(H36=\"\",\"\",SUMIFS(投手データー!$R$6:$R$50,投手データー!$F$6:$F$50,G36,投手データー!$G$6:$G$50,H36))","v":""},{"$f":"IF(H36=\"\",\"\",SUMIFS(投手データー!$S$6:$S$50,投手データー!$F$6:$F$50,G36,投手データー!$G$6:$G$50,H36))","v":""},{"$f":"IF(H36=\"\",\"\",SUMIFS(投手データー!$T$6:$T$50,投手データー!$F$6:$F$50,G36,投手データー!$G$6:$G$50,H36))","v":""},{"$f":"IF(H36=\"\",\"\",COUNTIFS(投手データー!$F$6:$F$50,G36,投手データー!$G$6:$G$50,H36,投手データー!$U$6:$U$50,\"勝\"))","v":""},{"$f":"IF(H36=\"\",\"\",COUNTIFS(投手データー!$F$6:$F$50,G36,投手データー!$G$6:$G$50,H36,投手データー!$U$6:$U$50,\"負\"))","v":""},{"$f":"IF(H36=\"\",\"\",COUNTIFS(投手データー!$F$6:$F$50,G36,投手データー!$G$6:$G$50,H36,投手データー!$U$6:$U$50,\"分\"))","v":""},{"$f":"IF(H36=\"\",\"\",COUNTIFS(投手データー!$F$6:$F$50,$G36,投手データー!$G$6:$G$50,H36,投手データー!$U$6:$U$50,\"H\"))","v":""},{"$f":"IF(H36=\"\",\"\",COUNTIFS(投手データー!$F$6:$F$50,G36,投手データー!$G$6:$G$50,H36,投手データー!$U$6:$U$50,\"S\"))","v":""},null,null,{"$f":"IF(戦績!O33=\"\",\"\",戦績!O33)","v":""},"AB",{"$f":"IF(AH36=\"\",\"\",COUNTIFS(投手データー!$F$6:$F$50,AI36,投手データー!$I$6:$I$50,\"先\"))","v":""},{"$f":"IF(AH36=\"\",\"\",COUNTIFS(投手データー!$F$6:$F$50,AI36,投手データー!$I$6:$I$50,\"２\"))","v":""},{"$f":"IF(AH36=\"\",\"\",COUNTIFS(投手データー!$F$6:$F$50,AI36,投手データー!$I$6:$I$50,\"３\"))","v":""},{"$f":"IF(AH36=\"\",\"\",COUNTIFS(投手データー!$F$6:$F$50,AI36,投手データー!$I$6:$I$50,\"４\"))","v":""},{"$f":"IF(AH36=\"\",\"\",SUMIF(投手データー!$F$6:$F$50,AI36,投手データー!$J$6:$J$50))","v":""},"","",{"$f":"IF(AH36=\"\",\"\",SUMIF(投手データー!$F$6:$F$50,AI36,投手データー!$L$6:$L$50))","v":""},{"$f":"IF(AH36=\"\",\"\",SUMIF(投手データー!$F$6:$F$50,AI36,投手データー!$M$6:$M$50))","v":""},{"$f":"IF(AH36=\"\",\"\",SUMIF(投手データー!$F$6:$F$50,AI36,投手データー!$N$6:$N$50))","v":""},{"$f":"IF(AH36=\"\",\"\",SUMIF(投手データー!$F$6:$F$50,AI36,投手データー!$O$6:$O$50))","v":""},{"$f":"IF(AH36=\"\",\"\",SUMIF(投手データー!$F$6:$F$50,AI36,投手データー!$P$6:$P$50))","v":""},{"$f":"IF(AH36=\"\",\"\",SUMIF(投手データー!$F$6:$F$50,AI36,投手データー!$Q$6:$Q$50))","v":""},{"$f":"IF(AH36=\"\",\"\",SUMIF(投手データー!$F$6:$F$50,AI36,投手データー!$R$6:$R$50))","v":""},{"$f":"IF(AH36=\"\",\"\",SUMIF(投手データー!$F$6:$F$50,AI36,投手データー!$S$6:$S$50))","v":""},{"$f":"IF(AH36=\"\",\"\",COUNTIF(戦績!$G$6:$G$101,AH36))","v":""},{"$f":"IF(AH36=\"\",\"\",COUNTIFS(投手データー!$F$6:$F$50,AI36,投手データー!$U$6:$U$50,\"勝\"))","v":""},{"$f":"IF(AH36=\"\",\"\",COUNTIFS(投手データー!$F$6:$F$50,AI36,投手データー!$U$6:$U$50,\"負\"))","v":""},{"$f":"IF(AH36=\"\",\"\",COUNTIFS(投手データー!$F$6:$F$50,AI36,投手データー!$U$6:$U$50,\"分\"))","v":""},{"$f":"IF(AH36=\"\",\"\",COUNTIFS(投手データー!$F$6:$F$50,AI36,投手データー!$U$6:$U$50,\"H\"))","v":""},{"$f":"IF(AH36=\"\",\"\",COUNTIFS(投手データー!$F$6:$F$50,AI36,投手データー!$U$6:$U$50,\"S\"))","v":""},""]
[null,null,null,null,null,null,"",null,null,{"$f":"IF(H37=\"\",\"\",COUNTIFS(投手データー!$F$6:$F$50,G37,投手データー!$G$6:$G$50,H37,投手データー!$I$6:$I$50,\"先\"))","v":""},{"$f":"IF(H37=\"\",\"\",COUNTIFS(投手データー!$F$6:$F$50,G37,投手データー!$G$6:$G$50,H37,投手データー!$I$6:$I$50,\"2\"))","v":""},{"$f":"IF(H37=\"\",\"\",COUNTIFS(投手データー!$F$6:$F$50,G37,投手データー!$G$6:$G$50,H37,投手データー!$I$6:$I$50,\"3\"))","v":""},{"$f":"IF(H37=\"\",\"\",COUNTIFS(投手データー!$F$6:$F$50,G37,投手データー!$G$6:$G$50,H37,投手データー!$I$6:$I$50,\"4\"))","v":""},{"$f":"IF(H37=\"\",\"\",SUMIFS(投手データー!$J$6:$J$50,投手データー!$F$6:$F$50,G37,投手データー!$G$6:$G$50,H37))","v":""},"","",null,{"$f":"IF(H37=\"\",\"\",SUMIFS(投手データー!$L$6:$L$50,投手データー!$F$6:$F$50,G37,投手データー!$G$6:$G$50,H37))","v":""},{"$f":"IF(H37=\"\",\"\",SUMIFS(投手データー!$M$6:$M$50,投手データー!$F$6:$F$50,G37,投手データー!$G$6:$G$50,H37))","v":""},{"$f":"IF(H37=\"\",\"\",SUMIFS(投手データー!$N$6:$N$50,投手データー!$F$6:$F$50,G37,投手データー!$G$6:$G$50,H37))","v":""},{"$f":"IF(H37=\"\",\"\",SUMIFS(投手データー!$O$6:$O$50,投手データー!$F$6:$F$50,G37,投手データー!$G$6:$G$50,H37))","v":""},{"$f":"IF(H37=\"\",\"\",SUMIFS(投手データー!$P$6:$P$50,投手データー!$F$6:$F$50,G37,投手データー!$G$6:$G$50,H37))","v":""},{"$f":"IF(H37=\"\",\"\",SUMIFS(投手データー!$Q$6:$Q$50,投手データー!$F$6:$F$50,G37,投手データー!$G$6:$G$50,H37))","v":""},{"$f":"IF(H37=\"\",\"\",SUMIFS(投手データー!$R$6:$R$50,投手データー!$F$6:$F$50,G37,投手データー!$G$6:$G$50,H37))","v":""},{"$f":"IF(H37=\"\",\"\",SUMIFS(投手データー!$S$6:$S$50,投手データー!$F$6:$F$50,G37,投手データー!$G$6:$G$50,H37))","v":""},{"$f":"IF(H37=\"\",\"\",SUMIFS(投手データー!$T$6:$T$50,投手データー!$F$6:$F$50,G37,投手データー!$G$6:$G$50,H37))","v":""},{"$f":"IF(H37=\"\",\"\",COUNTIFS(投手データー!$F$6:$F$50,G37,投手データー!$G$6:$G$50,H37,投手データー!$U$6:$U$50,\"勝\"))","v":""},{"$f":"IF(H37=\"\",\"\",COUNTIFS(投手データー!$F$6:$F$50,G37,投手データー!$G$6:$G$50,H37,投手データー!$U$6:$U$50,\"負\"))","v":""},{"$f":"IF(H37=\"\",\"\",COUNTIFS(投手データー!$F$6:$F$50,G37,投手データー!$G$6:$G$50,H37,投手データー!$U$6:$U$50,\"分\"))","v":""},{"$f":"IF(H37=\"\",\"\",COUNTIFS(投手データー!$F$6:$F$50,$G37,投手データー!$G$6:$G$50,H37,投手データー!$U$6:$U$50,\"H\"))","v":""},{"$f":"IF(H37=\"\",\"\",COUNTIFS(投手データー!$F$6:$F$50,G37,投手データー!$G$6:$G$50,H37,投手データー!$U$6:$U$50,\"S\"))","v":""},null,null,{"$f":"IF(戦績!O34=\"\",\"\",戦績!O34)","v":""},"AC",{"$f":"IF(AH37=\"\",\"\",COUNTIFS(投手データー!$F$6:$F$50,AI37,投手データー!$I$6:$I$50,\"先\"))","v":""},{"$f":"IF(AH37=\"\",\"\",COUNTIFS(投手データー!$F$6:$F$50,AI37,投手データー!$I$6:$I$50,\"２\"))","v":""},{"$f":"IF(AH37=\"\",\"\",COUNTIFS(投手データー!$F$6:$F$50,AI37,投手データー!$I$6:$I$50,\"３\"))","v":""},{"$f":"IF(AH37=\"\",\"\",COUNTIFS(投手データー!$F$6:$F$50,AI37,投手データー!$I$6:$I$50,\"４\"))","v":""},{"$f":"IF(AH37=\"\",\"\",SUMIF(投手データー!$F$6:$F$50,AI37,投手データー!$J$6:$J$50))","v":""},"","",{"$f":"IF(AH37=\"\",\"\",SUMIF(投手データー!$F$6:$F$50,AI37,投手データー!$L$6:$L$50))","v":""},{"$f":"IF(AH37=\"\",\"\",SUMIF(投手データー!$F$6:$F$50,AI37,投手データー!$M$6:$M$50))","v":""},{"$f":"IF(AH37=\"\",\"\",SUMIF(投手データー!$F$6:$F$50,AI37,投手データー!$N$6:$N$50))","v":""},{"$f":"IF(AH37=\"\",\"\",SUMIF(投手データー!$F$6:$F$50,AI37,投手データー!$O$6:$O$50))","v":""},{"$f":"IF(AH37=\"\",\"\",SUMIF(投手データー!$F$6:$F$50,AI37,投手データー!$P$6:$P$50))","v":""},{"$f":"IF(AH37=\"\",\"\",SUMIF(投手データー!$F$6:$F$50,AI37,投手データー!$Q$6:$Q$50))","v":""},{"$f":"IF(AH37=\"\",\"\",SUMIF(投手データー!$F$6:$F$50,AI37,投手データー!$R$6:$R$50))","v":""},{"$f":"IF(AH37=\"\",\"\",SUMIF(投手データー!$F$6:$F$50,AI37,投手データー!$S$6:$S$50))","v":""},{"$f":"IF(AH37=\"\",\"\",COUNTIF(戦績!$G$6:$G$101,AH37))","v":""},{"$f":"IF(AH37=\"\",\"\",COUNTIFS(投手データー!$F$6:$F$50,AI37,投手データー!$U$6:$U$50,\"勝\"))","v":""},{"$f":"IF(AH37=\"\",\"\",COUNTIFS(投手データー!$F$6:$F$50,AI37,投手データー!$U$6:$U$50,\"負\"))","v":""},{"$f":"IF(AH37=\"\",\"\",COUNTIFS(投手データー!$F$6:$F$50,AI37,投手データー!$U$6:$U$50,\"分\"))","v":""},{"$f":"IF(AH37=\"\",\"\",COUNTIFS(投手データー!$F$6:$F$50,AI37,投手データー!$U$6:$U$50,\"H\"))","v":""},{"$f":"IF(AH37=\"\",\"\",COUNTIFS(投手データー!$F$6:$F$50,AI37,投手データー!$U$6:$U$50,\"S\"))","v":""},""]